{"text_format":"3","workbook":"xlsx","n_sheets":4,"sheets":["Calcul","cas par cas","hypothèses","table"],"not_rendered":{"macros":1,"defined_names":56},"read":"whole","date_system":"1900"}

{"sheet":"Calcul","index":0,"n_rows":50,"n_cols":32,"rows_kept":50,"merged":[[1,12,1,20],[1,21,1,29]]}
["Année de calcul",2013,null,"temps début","10:48:37",{"$nulls":4},{"$f":"SUM(J4:J100)","v":0},{"$f":"SUM(K4:K100)","v":0},{"$f":"SUM(L4:L100)","v":0},{"$f":"SUM(M4:M100)","v":0},{"$f":"SUM(N4:N100)","v":0},{"$f":"SUM(O4:O100)","v":0},{"$f":"SUM(P4:P100)","v":0},{"$f":"SUM(Q4:Q100)","v":0},{"$f":"SUM(R4:R100)","v":0},{"$f":"SUM(S4:S100)","v":0},{"$f":"SUM(T4:T100)","v":0},{"$f":"SUM(U4:U100)","v":0},{"$f":"SUM(V4:V100)","v":0},{"$f":"SUM(W4:W100)","v":0},{"$f":"SUM(X4:X100)","v":0},{"$f":"SUM(Y4:Y100)","v":0},{"$f":"SUM(Z4:Z100)","v":0},{"$f":"SUM(AA4:AA100)","v":0},{"$f":"SUM(AB4:AB100)","v":0},{"$f":"SUM(AC4:AC100)","v":0},{"$f":"SUM(AD4:AD100)","v":0},{"$f":"SUM(AE4:AE100)","v":0},{"$f":"SUM(AF4:AF100)","v":0}]
[{"$nulls":3},"temps fin","16:42:13",{"$nulls":7},"Non revalo",{"$nulls":8},"Revalo"]
["Num_rentier","Rentier","date naissance","date d'effet","date de fin","revalo_rentier","Type_rente","Annuité","Limite","Age","duree effectuée","duree restante","Arrérages versés","Partie réelle","Partie estimée","BE PM ","BE partie réelle","BE partie estimée","Coût total ","coût partie réelle","coût partie estimée","Arrérages versés 1","Partie réelle 1","Partie estimée 1","BE PM 1","BE partie réelle 1","BE partie estimée 1","Coût total 1","coût partie réelle 1","coût partie estimée 1","P.décès theorique non revalo","P.décès theorique revalo"]
["Filia-MAIF_S_212","Filia-MAIF_S_212_T","07/01/1999","10/01/2007","30/06/2009","Oui","TEMPORAIRE",{"v":29736,"d":"29,736 "},{"$f":"IF(G4=\"VIAGERE\",117,VALUE(RIGHT(E4,4))-VALUE(RIGHT(C4,4)))","v":{"v":10,"d":"10 "}}]
["MAIF_S_3491","MAIF_S_3491_T","24/02/2007","07/01/2011","24/02/2017","Non","TEMPORAIRE",{"v":10949,"d":"10,949 "},{"v":10,"d":"10 "}]
["MATMUT_S_166","MATMUT_S_166_T","01/11/1998","01/09/2007","31/12/2008","Non","TEMPORAIRE",{"v":218614,"d":"218,614 "},{"v":10,"d":"10 "}]
["Macif_S_3343","Macif_S_3343_T","31/01/1984","01/01/1989","31/01/1996","Oui","TEMPORAIRE",{"v":23782.059999999998,"d":"23,782 "},{"v":12,"d":"12 "}]
["Filia-MAIF_S_245","Filia-MAIF_S_245_T","14/10/2004","04/01/2010","30/06/2016","Oui","TEMPORAIRE",{"v":7560,"d":"7,560 "},{"v":12,"d":"12 "}]
["MATMUT_S_77","MATMUT_S_77_T","08/10/1989","01/01/1998","31/12/2001","Non","TEMPORAIRE",{"v":56978.8,"d":"56,979 "},{"v":12,"d":"12 "}]
["Macif_S_3039","Macif_S_3039_T","14/03/1983","01/01/1993","14/03/1996","Non","Viagere",{"v":19890.03,"d":"19,890 "},{"v":117,"d":"117 "}]
["MAIF_S_3120","MAIF_S_3120_T","20/11/1994","31/12/2005","08/01/2007","Oui","TEMPORAIRE",{"v":116493,"d":"116,493 "},{"v":13,"d":"13 "}]
["MAIF_S_3347","MAIF_S_3347_T","08/11/2001","07/01/2009","31/12/2014","Oui","TEMPORAIRE",{"v":9464,"d":"9,464 "},{"v":13,"d":"13 "}]
["MATMUT_S_117","MATMUT_S_117_T","27/04/1997","01/04/2009","31/12/2010","Non","TEMPORAIRE",{"v":49230,"d":"49,230 "},{"v":13,"d":"13 "}]
["MATMUT_S_162","MATMUT_S_162_T","11/08/1994","01/01/2006","11/08/2008","Non","viagere",{"v":70008,"d":"70,008 "},{"v":117,"d":"117 "}]
["Macif_S_362","Macif_S_362_T","31/01/2000","02/02/2007","31/01/2015","Oui","TEMPORAIRE",{"v":23820,"d":"23,820 "},{"v":15,"d":"15 "}]
["Macif_S_981","Macif_S_981_T","25/10/2000","19/05/2010","25/10/2015","Non","TEMPORAIRE",{"v":26017,"d":"26,017 "},{"v":15,"d":"15 "}]
["MATMUT_S_116","MATMUT_S_116_T","02/10/1996","01/01/2009","31/12/2011","Non","TEMPORAIRE",{"v":8760,"d":"8,760 "},{"v":15,"d":"15 "}]
["MATMUT_S_153","MATMUT_S_153_T","28/03/1995","01/01/2007","31/03/2010","Non","TEMPORAIRE",{"v":17856,"d":"17,856 "},{"v":15,"d":"15 "}]
["MATMUT_S_78","MATMUT_S_78_T","11/10/1992","01/01/2006","11/10/2007","Non","TEMPORAIRE",{"v":20924.12,"d":"20,924 "},{"v":15,"d":"15 "}]
["Macif_S_1949","Macif_S_1949_T","17/07/1999","03/07/2008","17/07/2015","Oui","TEMPORAIRE",{"v":3600,"d":"3,600 "},{"v":16,"d":"16 "}]
["Macif_S_784","Macif_S_784_T","11/10/1992","09/10/2007","10/11/2008","Non","TEMPORAIRE",{"v":156558,"d":"156,558 "},{"v":16,"d":"16 "}]
["Filia-MAIF_S_49","Filia-MAIF_S_49_T","23/02/1994","10/01/1995","23/02/2010","Non","TEMPORAIRE",{"v":2135,"d":"2,135 "},{"v":16,"d":"16 "}]
["MAIF_S_3217","MAIF_S_3217_T","09/09/1994","04/01/2007","31/03/2010","Oui","TEMPORAIRE",{"v":51960,"d":"51,960 "},{"v":16,"d":"16 "}]
["MATMUT_S_154","MATMUT_S_154_T","15/02/1994","01/01/2008","31/12/2010","Non","TEMPORAIRE",{"v":9393,"d":"9,393 "},{"v":16,"d":"16 "}]
["Macif_S_2140","Macif_S_2140_T","31/08/1979","01/01/1992","31/08/1996","Oui","TEMPORAIRE",{"v":2744.09,"d":"2,744 "},{"v":17,"d":"17 "}]
["Macif_S_3618","Macif_S_3618_T","04/06/1983","01/01/1992","06/04/2000","Oui","TEMPORAIRE",{"v":3790.5,"d":"3,791 "},{"v":17,"d":"17 "}]
["Macif_S_578","Macif_S_578_T","31/03/1997","28/07/2009","31/03/2014","Oui","TEMPORAIRE",{"v":33240,"d":"33,240 "},{"v":17,"d":"17 "}]
["MAIF_S_3233","MAIF_S_3233_T","15/12/1994","07/01/2007","09/05/2011","Oui","TEMPORAIRE",{"v":116235,"d":"116,235 "},{"v":17,"d":"17 "}]
["Macif_S_1314","Macif_S_1314_T","13/02/1979","01/01/1991","13/02/1997","Oui","TEMPORAIRE",{"v":5488.17,"d":"5,488 "},{"v":18,"d":"18 "}]
["Macif_S_1826","Macif_S_1826_T","17/04/1996","05/11/2010","17/04/2014","Oui","TEMPORAIRE",{"v":23712,"d":"23,712 "},{"v":18,"d":"18 "}]
["Macif_S_2356","Macif_S_2356_T","18/02/1998","12/11/2008","18/02/2016","Oui","TEMPORAIRE",{"v":1200,"d":"1,200 "},{"v":18,"d":"18 "}]
["Macif_S_2557","Macif_S_2557_T","24/09/1991","01/01/1993","24/09/2009","Oui","TEMPORAIRE",{"v":10976.33,"d":"10,976 "},{"v":18,"d":"18 "}]
["Macif_S_348","Macif_S_348_T","07/11/1996","09/09/2002","11/07/2014","Non","TEMPORAIRE",{"v":12195.92,"d":"12,196 "},{"v":18,"d":"18 "}]
["Macif_S_755","Macif_S_755_T","07/12/1980","01/01/1990","12/07/1998","Oui","TEMPORAIRE",{"v":4024.66,"d":"4,025 "},{"v":18,"d":"18 "}]
["Filia-MAIF_S_165","Filia-MAIF_S_165_T","21/03/1996","07/01/2005","30/09/2014","Oui","TEMPORAIRE",{"v":6000,"d":"6,000 "},{"v":18,"d":"18 "}]
["Filia-MAIF_S_19","Filia-MAIF_S_19_T","23/08/1992","08/01/2008","23/08/2010","Oui","TEMPORAIRE",{"v":14058,"d":"14,058 "},{"v":18,"d":"18 "}]
["Filia-MAIF_S_239","Filia-MAIF_S_239_T","23/03/2004","10/01/2009","23/03/2022","Oui","TEMPORAIRE",{"v":21840,"d":"21,840 "},{"v":18,"d":"18 "}]
["Filia-MAIF_S_51","Filia-MAIF_S_51_T","13/10/1990","08/01/1993","13/10/2008","Non","TEMPORAIRE",{"v":2136,"d":"2,136 "},{"v":18,"d":"18 "}]
["Filia-MAIF_S_52","Filia-MAIF_S_52_T","10/12/1985","08/01/1993","10/01/2003","Non","TEMPORAIRE",{"v":3870,"d":"3,870 "},{"v":18,"d":"18 "}]
["MAIF_S_1074","MAIF_S_1074_T","11/09/1982","09/01/1987","11/01/2000","Oui","TEMPORAIRE",{"v":3074,"d":"3,074 "},{"v":18,"d":"18 "}]
["MAIF_S_1109","MAIF_S_1109_T","14/05/1982","18/10/1991","14/05/2000","Non","TEMPORAIRE",{"v":2473,"d":"2,473 "},{"v":18,"d":"18 "}]
["MAIF_S_1116","MAIF_S_1116_T","29/12/1982","06/01/1989","29/12/2000","Oui","TEMPORAIRE",{"v":3512,"d":"3,512 "},{"v":18,"d":"18 "}]
["MAIF_S_1117","MAIF_S_1117_T","14/10/1988","06/01/1989","10/01/2006","Oui","TEMPORAIRE",{"v":3512,"d":"3,512 "},{"v":18,"d":"18 "}]
["MAIF_S_1721","MAIF_S_1721_T","04/06/1988","27/03/1991","04/06/2006","Non","TEMPORAIRE",{"v":1888,"d":"1,888 "},{"v":18,"d":"18 "}]
["MAIF_S_2498","MAIF_S_2498_T","25/08/1982","10/01/1993","09/01/2000","Oui","TEMPORAIRE",{"v":3292,"d":"3,292 "},{"v":18,"d":"18 "}]
["MAIF_S_3201","MAIF_S_3201_T","20/02/1994","01/01/2007","20/02/2012","Oui","TEMPORAIRE",{"v":8800,"d":"8,800 "},{"v":18,"d":"18 "}]
["MAIF_S_324","MAIF_S_324_T","24/08/1982","16/03/1993","24/08/2000","Non","TEMPORAIRE",{"v":3332,"d":"3,332 "},{"v":18,"d":"18 "}]
["MAIF_S_409","MAIF_S_409_T","13/05/1983","04/01/1996","05/01/2001","Oui","TEMPORAIRE",{"v":3796,"d":"3,796 "},{"v":18,"d":"18 "}]
["MAIF_S_410","MAIF_S_410_T","13/05/1983","10/01/1996","05/01/2001","Oui","TEMPORAIRE",{"v":3796,"d":"3,796 "},{"v":18,"d":"18 "}]
["MAIF_S_619","MAIF_S_619_T","25/09/1984","17/05/1988","25/09/2002","Non","TEMPORAIRE",{"v":1627,"d":"1,627 "},{"v":18,"d":"18 "}]

{"sheet":"cas par cas","index":1,"n_rows":137,"n_cols":37,"rows_kept":137}
[4,"Date Calcul","2013-12-31",{"$f":"annee_cal","v":2013},{"$f":"12+ N(\"mois_calcul\")","v":12}]
[null,"date naissance",{"$f":"INDEX(Calcul!$C$4:$C$100,'cas par cas'!$E$19,0)","v":"08/10/1989"},{"$f":"VALUE(RIGHT(C2,4))","v":1989},{"$f":"VALUE(MID(C2,4,2))+N(\"mois_naissance\")","v":10}]
[null,"date d'effet",{"$f":"INDEX(Calcul!$D$4:$D$100,num_ligne,0)","v":"01/01/1998"},{"$f":"VALUE(RIGHT(C3,4))","v":1998},{"$f":"VALUE(MID(C3,4,2))+N(\"mois_effet\")","v":1}]
[null,"date de fin",{"$f":"IF(INDEX(Calcul!$E$4:$E$100,num_ligne,0)=0,\"\",INDEX(Calcul!$E$4:$E$100,num_ligne,0))","v":"31/12/2001"},{"$f":"IF(C4=\"\",0,VALUE(RIGHT(C4,4)))","v":2001},{"$f":"IF(C4=\"\",0,VALUE(MID(C4,4,2)))+N(\"mois_fin\")","v":12}]
[null,"Limite",{"$f":"IF(Type_rente=\"viagere\",117,D4-D2)","v":12},{"$nulls":15}," A -Avec revalo"]
[null,"Type_rente",{"$f":"INDEX(Calcul!$G$4:$G$100,num_ligne,0)","v":"TEMPORAIRE"},null,"Non Rev","Résultat",{"$nulls":13},"Revalo","Résultat"]
[null,"revalo_rentier",{"$f":"INDEX(Calcul!$F$4:$F$100,num_ligne,0)","v":"Non"},null,"Arrérages versés",{"$f":"-F26","v":{"v":-430927.73707287206,"d":"-430,928"}},{"$nulls":13},"Arrérages versés",{"$f":"-U26","v":{"v":-450760.7301996057,"d":"-450,761"}}]
[null,"Annuité",{"$f":"INDEX(Calcul!$H$4:$H$100,num_ligne,0)","v":{"v":56978.8,"d":"56,979"}},null,"Arrérage Partie réelle",{"$f":"-F27","v":{"v":-430927.73707287206,"d":"-430,928"}},{"$nulls":13},"Arrérage Partie réelle",{"$f":"-U27","v":{"v":-450760.7301996057,"d":"-450,761"}}]
[null,"60%*TME",{"$f":"60%*hypothèses!C6","v":{"v":0.01188,"d":"1.19%"}},null,"Arrérage partie estimée",{"$f":"-F28","v":0},{"$nulls":13},"Arrérage partie estimée",0]
[null,"60%*TME reva",{"$f":"(1+$C$9)/(1+reval_reel)-1","v":{"v":-0.010386308068459749,"d":"-1.04%"}},null,"BE PM",{"$f":"-I26-Q26","v":{"v":-427500.4151991403,"d":"-427,500"}},{"$nulls":13},"BE PM",{"$f":"-X26-AF26","v":{"v":-446934.7812759795,"d":"-446,935"}}]
[null,"reval_reel ",{"$f":"reval_reel","v":{"v":0.0225,"d":"2.25%"}},null,"BE Partie réelle",{"$f":"-I27-Q27","v":{"v":-427500.4151991403,"d":"-427,500"}},{"$nulls":13},"BE Partie réelle",{"$f":"-X27-AF27","v":{"v":-446934.7812759795,"d":"-446,935"}}]
[null,"revalo_corp",{"$f":"revalo_corp","v":{"v":0.03,"d":"3.00%"}},null,"BE partie estimée",{"$f":"-I28-Q28","v":0},{"$nulls":13},"BE partie estimée",{"$f":"-X28-AF28","v":0}]
[null,"reval_corp _prov",{"v":0.02,"d":"2%"},null,"Coût total",{"$f":"-O26-Q26","v":{"v":-427500.4151991403,"d":"-427,500"}},{"$nulls":13},"Coût total",{"$f":"-AD26-AF26","v":{"v":-446934.78127597936,"d":"-446,935"}}]
[" A - Pas de revalo",{"$nulls":3},"Coût Partie réelle",{"$f":"-O27-Q27","v":{"v":-427500.4151991403,"d":"-427,500"}},{"$nulls":13},"Coût Partie réelle",{"$f":"-AD27-AF27","v":{"v":-446934.78127597936,"d":"-446,935"}}]
[{"$nulls":4},"Coût partie estimée",{"$f":"-O28-Q28","v":0},{"$nulls":13},"Coût partie estimée",0]
["Proba décès thérique non revalo"]
[{"$f":"IF(ISERROR(VLOOKUP($D$1-$D$2,table_nonRev,5,0)/VLOOKUP($D$3-$D$2,table_nonRev,5,0)),0,VLOOKUP($D$1-$D$2,table_nonRev,5,0)/VLOOKUP($D$3-$D$2,table_nonRev,5,0))","v":{"v":0,"d":"0.00"}},{"$nulls":3},"Num_rentier","Age","Arrérage_cal","duree effectuée","duree restante"]
[{"$nulls":4},"MATMUT_S_77_T",{"$f":"annee_effet-annee_naiss","v":9},{"$f":"Annuite_ini*(1+revalo_corp)^(Annee-annee_effet-1)","v":{"v":86185.54741457441,"d":"86,186"}},{"$f":"IF(OR($C$4=\"\",annee_fin>Annee),Annee-annee_effet+1,annee_fin-annee_effet+1)","v":4},{"$f":"IF(annee_fin=0,120,IF(ABS(annee_fin)<Annee,0,annee_fin-Annee))","v":0}]
["Proba décès thérique revalo",{"$nulls":3},{"$f":"MATCH(exemple,Calcul!$B$4:$B$100,0)","v":6}]
[{"$f":"IF(ISERROR(VLOOKUP($D$1-$D$2,table_revalo,5,0)/VLOOKUP($D$3-$D$2,table_revalo,5,0)),0,VLOOKUP($D$1-$D$2,table_revalo,5,0)/VLOOKUP($D$3-$D$2,table_revalo,5,0))","v":{"v":0,"d":"0.00"}},{"$nulls":4},"Pas revalo",null,null,"Pas revalo",{"$nulls":11},"Avec revalo",null,null,"Avec revalo"]
[{"$nulls":5},"BE PM",{"$f":"I26+Q26","v":{"v":427500.4151991403,"d":"427,500"}},null,"Coût total ",{"$f":"O26+Q26","v":{"v":427500.4151991403,"d":"427,500"}},{"$nulls":10},"BE PM",{"$f":"X26+AF26","v":{"v":446934.7812759795,"d":"446,935"}},null,"Coût total ",{"$f":"AD26+AF26","v":{"v":446934.78127597936,"d":"446,935"}}]
["num_ligne age",{"$nulls":4},"Partie réelle",{"$f":"I27+Q27","v":{"v":427500.4151991403,"d":"427,500"}},null,"Partie réelle",{"$f":"O27+Q27","v":{"v":427500.4151991403,"d":"427,500"}},{"$nulls":10},"Partie réelle",{"$f":"X27+AF27","v":{"v":446934.7812759795,"d":"446,935"}},null,"Partie réelle",{"$f":"AD27+AF27","v":{"v":446934.78127597936,"d":"446,935"}}]
[{"$f":"MATCH(age,table!$A$5:$A$195,0)","v":10},{"$nulls":4},"partie estimée",{"$f":"I28+Q28","v":0},null,"partie estimée",{"$f":"O28+Q28","v":0},{"$nulls":10},"partie estimée",{"$f":"X28+AF28","v":0},null,"partie estimée",{"$f":"AD28+AF28","v":0}]
[]
["Année","Maturité","taux d'actualisation","Prob de survi en T / survi 2013","P€R non revalo","Arrérages versées","Frais Payés","Arrérages y compris frais","Coût BE sans MR","PM clôture","PM ouverture","Var PM","Produits financiers","Résultat non actualisé","Résultat actualisé","SCR","Marge pour risque",null,{"$f":"D25","v":"Prob de survi en T / survi 2013"},{"$f":"E25","v":"P€R non revalo"},"Arrérages versées","Frais Payés","Arrérages y compris frais","Coût BE sans MR","PM clôture","PM ouverture","Var PM","Produits financiers","Résultat non actualisé","Résultat actualisé","SCR","Marge pour risque"]
[{"$nulls":5},{"$f":"SUM(F$30:F$152)","v":{"v":430927.73707287206,"d":"430,928"}},{"$f":"SUM(G$30:G$152)","v":{"v":6463.91605609308,"d":"6,464"}},{"$f":"SUM(H$30:H$152)","v":{"v":437391.6531289651,"d":"437,392"}},{"v":427241.11380278703,"d":"427,241"},{"v":86433.79878443855,"d":"86,434"},{"v":-86433.79878443855,"d":"-86,434"},0,{"$f":"SUM(M$30:M$152)","v":{"v":-1026.83352955913,"d":"-1,027"}},{"v":436364.819599406,"d":"436,365"},{"v":427241.11380278703,"d":"427,241"},{"v":4321.6899392219275,"d":"4,322"},{"v":259.3013963533156,"d":"259"},{"$nulls":3},{"$f":"SUM(U$30:U$152)","v":{"v":450760.7301996057,"d":"450,761"}},{"$f":"SUM(V$30:V$152)","v":{"v":6761.410952994086,"d":"6,761"}},{"$f":"SUM(W$30:W$152)","v":{"v":457522.1411525998,"d":"457,522"}},{"v":446669.6455982082,"d":"446,670"},{"v":88378.5592570889,"d":"88,379"},{"v":-88378.5592570889,"d":"-88,379"},0,{"v":-1049.9372839742161,"d":"-1,050"},{"v":456472.20386862557,"d":"456,472"},{"v":446669.64559820807,"d":"446,670"},{"v":4418.9279628544455,"d":"4,419"},{"$f":"SUM(AF$30:AF$152)","v":{"v":265.1356777712667,"d":"265"}}]
[{"$nulls":4},"Partie réel ",{"$f":"SUMPRODUCT(($B$30:$B$137<duree_effectuee+1)*(F30:F137))","v":{"v":430927.73707287206,"d":"430,928"}},{"$f":"SUMPRODUCT(($B$30:$B$137<duree_effectuee+1)*(G30:G137))","v":{"v":6463.91605609308,"d":"6,464"}},{"$f":"SUMPRODUCT(($B$30:$B$137<duree_effectuee+1)*(H30:H137))","v":{"v":437391.6531289651,"d":"437,392"}},{"$f":"SUMPRODUCT(($B$30:$B$137<duree_effectuee+1)*(I30:I137))","v":{"v":427241.11380278703,"d":"427,241"}},{"$f":"SUMPRODUCT(($B$30:$B$137<duree_effectuee+1)*(J30:J137))","v":{"v":86433.79878443855,"d":"86,434"}},{"$f":"SUMPRODUCT(($B$30:$B$137<duree_effectuee+2)*(K30:K137))","v":{"v":-86433.79878443855,"d":"-86,434"}},{"$f":"J27+K27","v":0},{"$f":"SUMPRODUCT(($B$30:$B$137<duree_effectuee+1)*(M30:M137))","v":{"v":-1026.83352955913,"d":"-1,027"}},{"$f":"SUMPRODUCT(($B$30:$B$137<duree_effectuee+1)*(N30:N137))","v":{"v":436364.819599406,"d":"436,365"}},{"$f":"SUMPRODUCT(($B$30:$B$137<duree_effectuee+1)*(O30:O137))","v":{"v":427241.11380278703,"d":"427,241"}},{"$f":"SUMPRODUCT(($B$30:$B$137<duree_effectuee+1)*(P30:P137))","v":{"v":4321.6899392219275,"d":"4,322"}},{"$f":"SUMPRODUCT((B30:B137<duree_effectuee+1)*(P30:P137)*($C30:$C137))*taux_marge","v":{"v":259.3013963533156,"d":"259"}},null,null,"Partie réel ",{"$f":"SUMPRODUCT(($B$30:$B$137<duree_effectuee+1)*(U30:U137))","v":{"v":450760.7301996057,"d":"450,761"}},{"$f":"SUMPRODUCT(($B$30:$B$137<duree_effectuee+1)*(V30:V137))","v":{"v":6761.410952994086,"d":"6,761"}},{"$f":"SUMPRODUCT(($B$30:$B$137<duree_effectuee+1)*(W30:W137))","v":{"v":457522.1411525998,"d":"457,522"}},{"$f":"SUMPRODUCT(($B$30:$B$137<duree_effectuee+1)*(X30:X137))","v":{"v":446669.6455982082,"d":"446,670"}},{"$f":"SUMPRODUCT(($B$30:$B$137<duree_effectuee+1)*(Y30:Y137))","v":{"v":88378.5592570889,"d":"88,379"}},{"$f":"SUMPRODUCT(($B$30:$B$137<duree_effectuee+2)*(Z30:Z137))","v":{"v":-88378.5592570889,"d":"-88,379"}},{"$f":"Y27+Z27","v":0},{"$f":"SUMPRODUCT(($B$30:$B$137<duree_effectuee+1)*(AB30:AB137))","v":{"v":-1049.9372839742161,"d":"-1,050"}},{"$f":"SUMPRODUCT(($B$30:$B$137<duree_effectuee+1)*(AC30:AC137))","v":{"v":456472.20386862557,"d":"456,472"}},{"$f":"SUMPRODUCT(($B$30:$B$137<duree_effectuee+1)*(AD30:AD137))","v":{"v":446669.64559820807,"d":"446,670"}},{"$f":"SUMPRODUCT(($B$30:$B$137<duree_effectuee+1)*(AE30:AE137))","v":{"v":4418.9279628544455,"d":"4,419"}},{"$f":"SUMPRODUCT(($B30:$B137<duree_effectuee+1)*(AE30:AE137)*($C30:$C137))*taux_marge","v":{"v":265.1356777712667,"d":"265"}}]
[{"$nulls":4},"Partie estimée",{"$f":"F26-F27","v":0},{"$f":"G26-G27","v":0},0,0,0,0,0,{"$f":"M26-M27","v":0},0,0,0,0,null,null,"Partie estimée",{"$f":"U26-U27","v":0},{"$f":"V26-V27","v":0},{"$f":"W26-W27","v":0},{"$f":"X26-X27","v":0},{"$f":"Y26-Y27","v":0},{"$f":"Z26-Z27","v":0},{"$f":"AA26-AA27","v":0},{"$f":"AB26-AB27","v":0},{"$f":"AC26-AC27","v":0},{"$f":"AD26-AD27","v":0},{"$f":"AE26-AE27","v":0},{"$f":"AF26-AF27","v":0}]
[]
["Arrières",0,{"v":1,"d":"100%"},{"$f":"IF(OR(age+B30>190,IF(ISERROR(VLOOKUP(age+duree_effectuee,table_nonRev,2,0)),0,VLOOKUP(age+duree_effectuee,table_nonRev,2,0)=0)),\n0,\nVLOOKUP(age+$B30,table_nonRev,2,0)/VLOOKUP(age+duree_effectuee,table_nonRev,2,0))","v":{"v":1.0008504520557653,"d":"1.00"}},{"$f":"IF(age+B30<190,INDEX(P€R_nonRev,$A$23+B30,0),0)","v":{"v":0.9880595361859079,"d":"0.99"}},{"$f":"Arrerage_cal*(12-mois_effet+1)/12","v":{"v":86185.54741457441,"d":"86,186"}},{"$f":"F30*taux_frais","v":{"v":1292.783211218616,"d":"1,293"}},{"$f":"F30+G30","v":{"v":87478.33062579302,"d":"87,478"}},{"$f":"H30*$C30","v":{"v":87478.33062579302,"d":"87,478"}},{"$f":"Arrerage_cal*(1+taux_frais)*E30","v":{"v":86433.79878443855,"d":"86,434"}},0,{"$f":"J30+K30","v":{"v":86433.79878443855,"d":"86,434"}},{"$f":"K30*Taux_PF","v":0},{"$f":"F30+G30+L30+M30","v":{"v":173912.12941023157,"d":"173,912"}},{"$f":"$C30*N30","v":{"v":173912.12941023157,"d":"173,912"}},{"$f":"J30*Taux_SCR","v":{"v":4321.6899392219275,"d":"4,322"}},{"$f":"SUMPRODUCT(P30:P137,$C30:$C137)*taux_marge","v":{"v":259.3013963533156,"d":"259"}},null,{"$f":"IF(OR(age+$B30>190,IF(ISERROR(VLOOKUP(age+duree_effectuee,table_revalo,2,0)),0,VLOOKUP(age+duree_effectuee,table_revalo,2,0)=0)),\n0,\nVLOOKUP(age+$B30,table_revalo,2,0)/VLOOKUP(age+duree_effectuee,table_revalo,2,0))","v":{"v":1.0008504520557653,"d":"1.00"}},{"$f":"IF(age+B30<190,INDEX(P€R_rev,$A$23+B30,0),0)","v":{"v":1.0102908757500964,"d":"1.01"}},{"$f":"Arrerage_cal*(12-mois_effet+1)/12","v":{"v":86185.54741457441,"d":"86,186"}},{"$f":"U30*taux_frais","v":{"v":1292.783211218616,"d":"1,293"}},{"$f":"U30+V30","v":{"v":87478.33062579302,"d":"87,478"}},{"$f":"W30*$C30","v":{"v":87478.33062579302,"d":"87,478"}},{"$f":"Arrerage_cal*(1+taux_frais)*T30","v":{"v":88378.5592570889,"d":"88,379"}},0,{"$f":"Y30+Z30","v":{"v":88378.5592570889,"d":"88,379"}},{"$f":"Z30*Taux_PF","v":0},{"$f":"U30+V30+AA30+AB30","v":{"v":175856.88988288192,"d":"175,857"}},{"$f":"$C30*AC30","v":{"v":175856.88988288192,"d":"175,857"}},{"$f":"Y30*Taux_SCR","v":{"v":4418.9279628544455,"d":"4,419"}},{"$f":"SUMPRODUCT(AE30:AE137,$C30:$C137)*taux_marge","v":{"v":265.1356777712667,"d":"265"}}]
[{"$f":"annee_cal+1","v":2014},1,{"v":0.9882594774083885,"d":"99%"},{"$f":"IF(OR(age+B31>190,IF(ISERROR(VLOOKUP(age+duree_effectuee,table_nonRev,2,0)),0,VLOOKUP(age+duree_effectuee,table_nonRev,2,0)=0)),\n0,\nVLOOKUP(age+$B31,table_nonRev,2,0)/VLOOKUP(age+duree_effectuee,table_nonRev,2,0))","v":{"v":1.0006479634710592,"d":"1.00"}},{"v":0,"d":"0.00"},{"$f":"IF(AND(Type_rente=\"Temporaire\",$B31> duree_effectuee+duree_restante),0,IF($B31<duree_effectuee+1,Arrerage_cal,D31*Arrerage_cal))","v":{"v":86185.54741457441,"d":"86,186"}},{"v":1292.783211218616,"d":"1,293"},{"$f":"F31+G31","v":{"v":87478.33062579302,"d":"87,478"}},{"$f":"H31*$C31","v":{"v":86451.28930880444,"d":"86,451"}},{"$f":"F31*(1+taux_frais)*E31","v":0},{"$f":"-J30","v":{"v":-86433.79878443855,"d":"-86,434"}},{"$f":"J31+K31","v":{"v":-86433.79878443855,"d":"-86,434"}},{"v":-1026.83352955913,"d":"-1,027"},{"$f":"F31+G31+L31+M31","v":{"v":17.69831179534367,"d":"18"}},{"$f":"$C31*N31","v":{"v":17.490524365877054,"d":"17"}},0,null,null,{"v":1.0006479634710592,"d":"1.00"},{"v":0,"d":"0.00"},{"$f":"IF(AND(Type_rente=\"TEMPORAIRE\",$B31> duree_effectuee+duree_restante),0,IF($B31<duree_effectuee+1,Arrerage_cal*(1+reval_reel)^$B31,S31*Arrerage_cal*(1+reval_reel)^$B31))","v":{"v":88124.72223140232,"d":"88,125"}},{"v":1321.8708334710348,"d":"1,322"},{"$f":"U31+V31","v":{"v":89446.59306487336,"d":"89,447"}},{"$f":"W31*$C31","v":{"v":88396.44331825254,"d":"88,396"}},{"$f":"U31*(1+taux_frais)*T31","v":0},{"$f":"-Y30","v":{"v":-88378.5592570889,"d":"-88,379"}},{"$f":"Y31+Z31","v":{"v":-88378.5592570889,"d":"-88,379"}},{"v":-1049.9372839742161,"d":"-1,050"},{"$f":"U31+V31+AA31+AB31","v":{"v":18.0965238102483,"d":"18"}},{"$f":"$C31*AC31","v":{"v":17.884061163624445,"d":"18"}},{"$f":"Y31*Taux_SCR","v":0}]
[{"$f":"A31+1","v":2015},{"$f":"B31+1","v":2},{"v":0.9766567946875011,"d":"98%"},{"v":1.000435350457118,"d":"1.00"},{"v":0,"d":"0.00"},{"v":86185.54741457441,"d":"86,186"},{"v":1292.783211218616,"d":"1,293"},{"v":87478.33062579302,"d":"87,478"},{"v":85436.30599360047,"d":"85,436"},{"$f":"F32*(1+taux_frais)*E32","v":0},{"$f":"-J31","v":0},0,0,{"v":87478.33062579302,"d":"87,478"},{"v":85436.30599360047,"d":"85,436"},0,null,null,{"v":1.000435350457118,"d":"1.00"},{"v":0,"d":"0.00"},{"v":90107.52848160887,"d":"90,108"},{"v":1351.612927224133,"d":"1,352"},{"v":91459.141408833,"d":"91,459"},{"v":89324.19189322175,"d":"89,324"},0,{"$f":"-Y31","v":0},0,0,{"v":91459.141408833,"d":"91,459"},{"v":89324.19189322175,"d":"89,324"},0]
[2016,3,{"v":0.9651903335252214,"d":"97%"},{"v":1.0002227374431767,"d":"1.00"},{"v":0,"d":"0.00"},{"v":86185.54741457441,"d":"86,186"},{"v":1292.783211218616,"d":"1,293"},{"v":87478.33062579302,"d":"87,478"},{"v":84433.23911293875,"d":"84,433"},0,0,0,0,{"v":87478.33062579302,"d":"87,478"},{"v":84433.23911293875,"d":"84,433"},0,null,null,{"v":1.0002227374431767,"d":"1.00"},{"v":0,"d":"0.00"},{"v":92134.94787244506,"d":"92,135"},{"v":1382.0242180866758,"d":"1,382"},{"v":93516.97209053174,"d":"93,517"},{"v":90261.67748232915,"d":"90,262"},0,0,0,0,{"v":93516.97209053174,"d":"93,517"},{"v":90261.67748232915,"d":"90,262"},0]
[2017,4,{"v":0.9538584946092636,"d":"95%"},{"v":1,"d":"1.00"},{"v":0,"d":"0.00"},{"v":86185.54741457441,"d":"86,186"},{"v":1292.783211218616,"d":"1,293"},{"v":87478.33062579302,"d":"87,478"},{"v":83441.94876165038,"d":"83,442"},0,0,0,0,{"v":87478.33062579302,"d":"87,478"},{"v":83441.94876165038,"d":"83,442"},0,null,null,{"v":1,"d":"1.00"},{"v":0,"d":"0.00"},{"v":94207.98419957508,"d":"94,208"},{"v":1413.1197629936262,"d":"1,413"},{"v":95621.1039625687,"d":"95,621"},{"v":91209.00227861168,"d":"91,209"},0,0,0,0,{"v":95621.1039625687,"d":"95,621"},{"v":91209.00227861168,"d":"91,209"},0]
[2018,5,{"v":0.9426596974041029,"d":"94%"},{"v":0.9997367648398822,"d":"1.00"},{"v":0,"d":"0.00"},0,0,0,0,0,0,0,{"$f":"K35*Taux_PF","v":0},0,0,0,null,null,{"v":0.9997367648398822,"d":"1.00"},{"v":0,"d":"0.00"},0,0,0,0,0,0,0,0,0,0,0]
[2019,6,{"v":0.9315923799305285,"d":"93%"},{"v":0.9994026586751172,"d":"1.00"},{"v":0,"d":"0.00"},0,0,0,0,0,0,0,0,0,0,0,null,null,{"v":0.9994026586751172,"d":"1.00"},{"v":0,"d":"0.00"},0,0,0,0,0,0,0,0,0,0,0,{"$nulls":5},{"$f":"AG37*AI36","v":0}]
[2020,7,{"v":0.9206549985477809,"d":"92%"},{"v":0.9989470593595287,"d":"1.00"},{"v":0,"d":"0.00"},0,0,0,0,0,0,0,0,0,0,0,null,null,{"v":0.9989470593595287,"d":"1.00"},{"v":0,"d":"0.00"},0,0,0,0,0,0,0,0,0,0,0,{"$nulls":5},0]
[2021,8,{"v":0.9098460277382507,"d":"91%"},{"v":0.9983294691761752,"d":"1.00"},{"v":0,"d":"0.00"},0,0,0,0,0,0,0,0,0,0,0,null,null,{"v":0.9983294691761752,"d":"1.00"},{"v":0,"d":"0.00"},0,0,0,0,0,0,0,0,0,0,0,{"$nulls":5},0]
[2022,9,{"v":0.8991639598947019,"d":"90%"},{"v":0.9974587682619392,"d":"1.00"},{"v":0,"d":"0.00"},0,0,0,0,0,0,0,0,0,0,0,null,null,{"v":0.9974587682619392,"d":"1.00"},{"v":0,"d":"0.00"},0,0,0,0,0,0,0,0,0,0,0,{"$nulls":5},0]
[2023,10,{"v":0.8886073051099952,"d":"89%"},{"v":0.9963045833291149,"d":"1.00"},{"v":0,"d":"0.00"},0,0,0,0,0,0,0,0,0,0,0,null,null,{"v":0.9963045833291149,"d":"1.00"},{"v":0,"d":"0.00"},0,0,0,0,0,0,0,0,0,0,0,{"$nulls":5},0]
[2024,11,{"v":0.8781745909692802,"d":"88%"},{"v":0.9949985319577609,"d":"0.99"},{"v":0,"d":"0.00"},0,0,0,0,0,0,0,0,0,0,0,null,null,{"v":0.9949985319577609,"d":"0.99"},{"v":0,"d":"0.00"},0,0,0,0,0,0,0,0,0,0,0,{"$nulls":5},0]
[2025,12,{"v":0.8678643623446262,"d":"87%"},{"v":0.9935811118648186,"d":"0.99"},{"v":0,"d":"0.00"},0,0,0,0,0,0,0,0,0,0,0,null,null,{"v":0.9935811118648186,"d":"0.99"},{"v":0,"d":"0.00"},0,0,0,0,0,0,0,0,0,0,0,{"$nulls":5},0]
[2026,13,{"v":0.8576751811920645,"d":"86%"},{"v":0.9920624474795233,"d":"0.99"},{"v":0,"d":"0.00"},0,0,0,0,0,0,0,0,0,0,0,null,null,{"v":0.9920624474795233,"d":"0.99"},{"v":0,"d":"0.00"},0,0,0,0,0,0,0,0,0,0,0,{"$nulls":5},0]
[2027,14,{"v":0.8476056263510146,"d":"85%"},{"v":0.990472912089581,"d":"0.99"},{"v":0,"d":"0.00"},0,0,0,0,0,0,0,0,0,0,0,null,null,{"v":0.990472912089581,"d":"0.99"},{"v":0,"d":"0.00"},0,0,0,0,0,0,0,0,0,0,0,{"$nulls":5},0]
[2028,15,{"v":0.8376542933460633,"d":"84%"},{"v":0.9889238744165798,"d":"0.99"},{"v":0,"d":"0.00"},0,0,0,0,0,0,0,0,0,0,0,null,null,{"v":0.9889238744165798,"d":"0.99"},{"v":0,"d":"0.00"},0,0,0,0,0,0,0,0,0,0,0,{"$nulls":5},0]
[2029,16,{"v":0.8278197941910738,"d":"83%"},{"v":0.9873748367435786,"d":"0.99"},{"v":0,"d":"0.00"},0,0,0,0,0,0,0,0,0,0,0,null,null,{"v":0.9873748367435786,"d":"0.99"},{"v":0,"d":"0.00"},0,0,0,0,0,0,0,0,0,0,0,{"$nulls":5},0]
[2030,17,{"v":0.8181007571955903,"d":"82%"},{"v":0.985846047929048,"d":"0.99"},{"v":0,"d":"0.00"},0,0,0,0,0,0,0,0,0,0,0,null,null,{"v":0.985846047929048,"d":"0.99"},{"v":0,"d":"0.00"},0,0,0,0,0,0,0,0,0,0,0,{"$nulls":5},0]
[{"$f":"A47+1","v":2031},18,{"v":0.8084958267735209,"d":"81%"},{"v":0.9843172591145174,"d":"0.98"},{"v":0,"d":"0.00"},0,0,0,0,0,0,0,0,0,0,0,null,null,{"v":0.9843172591145174,"d":"0.98"},{"v":0,"d":"0.00"},0,0,0,0,0,0,0,0,0,0,0,{"$nulls":5},0]
[2032,19,{"v":0.7990036632540627,"d":"80%"},{"v":0.9827783458707515,"d":"0.98"},{"v":0,"d":"0.00"},0,0,0,0,0,0,0,0,0,0,0,null,null,{"v":0.9827783458707515,"d":"0.98"},{"v":0,"d":"0.00"},0,0,0,0,0,0,0,0,0,0,0,{"$nulls":5},0]
[2033,20,{"v":0.789622942694848,"d":"79%"},{"v":0.981219183768515,"d":"0.98"},{"v":0,"d":"0.00"},0,0,0,0,0,0,0,0,0,0,0,null,null,{"v":0.981219183768515,"d":"0.98"},{"v":0,"d":"0.00"},0,0,0,0,0,0,0,0,0,0,0,{"$nulls":5},0]
[2034,21,{"v":0.7803523566972843,"d":"78%"},{"v":0.9796296483785727,"d":"0.98"},{"v":0,"d":"0.00"},0,0,0,0,0,0,0,0,0,0,0,null,null,{"v":0.9796296483785727,"d":"0.98"},{"v":0,"d":"0.00"},0,0,0,0,0,0,0,0,0,0,0,{"$nulls":5},0]
[2035,22,{"v":0.7711906122240626,"d":"77%"},{"v":0.9779894908424538,"d":"0.98"},{"v":0,"d":"0.00"},0,0,0,0,0,0,0,0,0,0,0,null,null,{"v":0.9779894908424538,"d":"0.98"},{"v":0,"d":"0.00"},0,0,0,0,0,0,0,0,0,0,0,{"$nulls":5},0]
[2036,23,{"v":0.7621364314188073,"d":"76%"},{"v":0.976288586730923,"d":"0.98"},{"v":0,"d":"0.00"},0,0,0,0,0,0,0,0,0,0,0,null,null,{"v":0.976288586730923,"d":"0.98"},{"v":0,"d":"0.00"},0,0,0,0,0,0,0,0,0,0,0,{"$nulls":5},0]
[2037,24,{"v":0.7531885514278447,"d":"75%"},{"v":0.9745269360439806,"d":"0.97"},{"v":0,"d":"0.00"},0,0,0,0,0,0,0,0,0,0,0,null,null,{"v":0.9745269360439806,"d":"0.97"},{"v":0,"d":"0.00"},0,0,0,0,0,0,0,0,0,0,0,{"$nulls":5},0]
[2038,25,{"v":0.744345724224063,"d":"74%"},{"v":0.972664041064685,"d":"0.97"},{"v":0,"d":"0.00"},0,0,0,0,0,0,0,0,0,0,0,null,null,{"v":0.972664041064685,"d":"0.97"},{"v":0,"d":"0.00"},0,0,0,0,0,0,0,0,0,0,0,{"$nulls":5},0]
[2039,26,{"v":0.7356067164328408,"d":"74%"},{"v":0.9707100262222718,"d":"0.97"},{"v":0,"d":"0.00"},0,0,0,0,0,0,0,0,0,0,0,null,null,{"v":0.9707100262222718,"d":"0.97"},{"v":0,"d":"0.00"},0,0,0,0,0,0,0,0,0,0,0,{"$nulls":5},0]
[2040,27,{"v":0.7269703091600198,"d":"73%"},{"v":0.9686648915167407,"d":"0.97"},{"v":0,"d":"0.00"},0,0,0,0,0,0,0,0,0,0,0,null,null,{"v":0.9686648915167407,"d":"0.97"},{"v":0,"d":"0.00"},0,0,0,0,0,0,0,0,0,0,0,{"$nulls":5},0]
[2041,28,{"v":0.7184352978218959,"d":"72%"},{"v":0.9665083880896215,"d":"0.97"},{"v":0,"d":"0.00"},0,0,0,0,0,0,0,0,0,0,0,null,null,{"v":0.9665083880896215,"d":"0.97"},{"v":0,"d":"0.00"},0,0,0,0,0,0,0,0,0,0,0,{"$nulls":5},0]
[2042,29,{"v":0.7100004919772067,"d":"71%"},{"v":0.9642202670824432,"d":"0.96"},{"v":0,"d":"0.00"},0,0,0,0,0,0,0,0,0,0,0,null,null,{"v":0.9642202670824432,"d":"0.96"},{"v":0,"d":"0.00"},0,0,0,0,0,0,0,0,0,0,0,{"$nulls":5},0]
[2043,30,{"v":0.701664715161093,"d":"70%"},{"v":0.9617904040659708,"d":"0.96"},{"v":0,"d":"0.00"},0,0,0,0,0,0,0,0,0,0,0,null,null,{"v":0.9617904040659708,"d":"0.96"},{"v":0,"d":"0.00"},0,0,0,0,0,0,0,0,0,0,0,{"$nulls":5},0]
[2044,31,{"v":0.6934268047210075,"d":"69%"},{"v":0.95924917232791,"d":"0.96"},{"v":0,"d":"0.00"},0,0,0,0,0,0,0,0,0,0,0,null,null,{"v":0.95924917232791,"d":"0.96"},{"v":0,"d":"0.00"},0,0,0,0,0,0,0,0,0,0,0,{"$nulls":5},0]
[2045,32,{"v":0.6852856116545516,"d":"69%"},{"$f":"IF(OR(age+B62>190,IF(ISERROR(VLOOKUP(age+duree_effectuee,table_nonRev,2,0)),0,VLOOKUP(age+duree_effectuee,table_nonRev,2,0)=0)),\n0,\nVLOOKUP(age+$B62,table_nonRev,2,0)/VLOOKUP(age+duree_effectuee,table_nonRev,2,0))","v":{"v":0.9565155764343786,"d":"0.96"}},{"$f":"IF(age+B62<190,INDEX(P€R_nonRev,$A$23+B62,0),0)","v":{"v":0,"d":"0.00"}},0,{"$f":"F62*taux_frais","v":0},0,0,0,0,0,{"$f":"K62*Taux_PF","v":0},0,0,0,null,null,{"$f":"IF(OR(age+$B62>190,IF(ISERROR(VLOOKUP(age+duree_effectuee,table_revalo,2,0)),0,VLOOKUP(age+duree_effectuee,table_revalo,2,0)=0)),\n0,\nVLOOKUP(age+$B62,table_revalo,2,0)/VLOOKUP(age+duree_effectuee,table_revalo,2,0))","v":{"v":0.9565155764343786,"d":"0.96"}},{"$f":"IF(age+B62<190,INDEX(P€R_rev,$A$23+B62,0),0)","v":{"v":0,"d":"0.00"}},0,0,0,0,0,0,0,{"$f":"Z62*Taux_PF","v":0},0,0,0,{"$nulls":5},0]
[2046,33,{"v":0.677240000449215,"d":"68%"},{"v":0.9535389942391997,"d":"0.95"},{"v":0,"d":"0.00"},{"$f":"IF(AND(Type_rente=\"Temporaire\",$B63> duree_effectuee+duree_restante),0,IF($B63<duree_effectuee+1,Arrerage_cal,D63*Arrerage_cal))","v":0},0,0,0,{"$f":"F63*(1+taux_frais)*E63","v":0},0,0,0,0,0,0,null,null,{"v":0.9535389942391997,"d":"0.95"},{"v":0,"d":"0.00"},{"$f":"IF(AND(Type_rente=\"TEMPORAIRE\",$B63> duree_effectuee+duree_restante),0,IF($B63<duree_effectuee+1,Arrerage_cal*(1+reval_reel)^$B63,S63*Arrerage_cal*(1+reval_reel)^$B63))","v":0},0,0,0,{"$f":"U63*(1+taux_frais)*T63","v":0},0,0,0,0,0,0,{"$nulls":5},0]
[{"$f":"A63+1","v":2047},34,{"v":0.669288848923998,"d":"67%"},{"v":0.950359923459315,"d":"0.95"},{"v":0,"d":"0.00"},0,0,0,0,0,0,0,0,0,0,0,null,null,{"v":0.950359923459315,"d":"0.95"},{"v":0,"d":"0.00"},0,0,0,0,0,0,0,0,0,0,0,{"$nulls":5},0]
[2048,35,{"v":0.661431048072892,"d":"66%"},{"v":0.9467859999392534,"d":"0.95"},{"v":0,"d":"0.00"},0,0,0,0,0,0,0,0,0,0,0,null,null,{"v":0.9467859999392534,"d":"0.95"},{"v":0,"d":"0.00"},0,0,0,0,0,0,0,0,0,0,0,{"$nulls":5},0]
[2049,36,{"v":0.6536655019101991,"d":"65%"},{"v":0.9429184679713681,"d":"0.94"},{"v":0,"d":"0.00"},0,0,0,0,0,0,0,0,0,0,0,null,null,{"v":0.9429184679713681,"d":"0.94"},{"v":0,"d":"0.00"},0,0,0,0,0,0,0,0,0,0,0,{"$nulls":5},0]
[2050,37,{"v":0.6459911273176652,"d":"65%"},{"v":0.9388079497018356,"d":"0.94"},{"v":0,"d":"0.00"},0,0,0,0,0,0,0,0,0,0,0,null,null,{"v":0.9388079497018356,"d":"0.94"},{"v":0,"d":"0.00"},0,0,0,0,0,0,0,0,0,0,0,{"$nulls":5},0]
[2051,38,{"v":0.6384068538934117,"d":"64%"},{"v":0.9344341962721852,"d":"0.93"},{"v":0,"d":"0.00"},0,0,0,0,0,0,0,0,0,0,0,null,null,{"v":0.9344341962721852,"d":"0.93"},{"v":0,"d":"0.00"},0,0,0,0,0,0,0,0,0,0,0,{"$nulls":5},{"$f":"AG69*AI68","v":0}]
[2052,39,{"v":0.6309116238026364,"d":"63%"},{"v":0.9297567099654757,"d":"0.93"},{"v":0,"d":"0.00"},0,0,0,0,0,0,0,0,0,0,0,null,null,{"v":0.9297567099654757,"d":"0.93"},{"v":0,"d":"0.00"},0,0,0,0,0,0,0,0,0,0,0,{"$nulls":5},0]
[2053,40,{"v":0.6235043916300713,"d":"62%"},{"v":0.9246843709185895,"d":"0.92"},{"v":0,"d":"0.00"},0,0,0,0,0,0,0,0,0,0,0,null,null,{"v":0.9246843709185895,"d":"0.92"},{"v":0,"d":"0.00"},0,0,0,0,0,0,0,0,0,0,0,{"$nulls":5},0]
[2054,41,{"v":0.6161841242341696,"d":"62%"},{"v":0.9190754371222323,"d":"0.92"},{"v":0,"d":"0.00"},0,0,0,0,0,0,0,0,0,0,0,null,null,{"v":0.9190754371222323,"d":"0.92"},{"v":0,"d":"0.00"},0,0,0,0,0,0,0,0,0,0,0,{"$nulls":5},0]
[2055,42,{"v":0.6089498006030059,"d":"61%"},{"v":0.912929908576404,"d":"0.91"},{"v":0,"d":"0.00"},0,0,0,0,0,0,0,0,0,0,0,null,null,{"v":0.912929908576404,"d":"0.91"},{"v":0,"d":"0.00"},0,0,0,0,0,0,0,0,0,0,0,{"$nulls":5},0]
[2056,43,{"v":0.6018004117118688,"d":"60%"},{"v":0.9062477852811047,"d":"0.91"},{"v":0,"d":"0.00"},0,0,0,0,0,0,0,0,0,0,0,null,null,{"v":0.9062477852811047,"d":"0.91"},{"v":0,"d":"0.00"},0,0,0,0,0,0,0,0,0,0,0,{"$nulls":5},0]
[2057,44,{"v":0.5947349603825246,"d":"59%"},{"v":0.8989581962316875,"d":"0.90"},{"v":0,"d":"0.00"},0,0,0,0,0,0,0,0,0,0,0,null,null,{"v":0.8989581962316875,"d":"0.90"},{"v":0,"d":"0.00"},0,0,0,0,0,0,0,0,0,0,0,{"$nulls":5},0]
[2058,45,{"v":0.5877524611441324,"d":"59%"},{"v":0.891061141428152,"d":"0.89"},{"v":0,"d":"0.00"},0,0,0,0,0,0,0,0,0,0,0,null,null,{"v":0.891061141428152,"d":"0.89"},{"v":0,"d":"0.00"},0,0,0,0,0,0,0,0,0,0,0,{"$nulls":5},0]
[2059,46,{"v":0.5808519400957943,"d":"58%"},{"v":0.8824958742950866,"d":"0.88"},{"v":0,"d":"0.00"},0,0,0,0,0,0,0,0,0,0,0,null,null,{"v":0.8824958742950866,"d":"0.88"},{"v":0,"d":"0.00"},0,0,0,0,0,0,0,0,0,0,0,{"$nulls":5},0]
[2060,47,{"v":0.5740324347707183,"d":"57%"},{"v":0.8731409016816677,"d":"0.87"},{"v":0,"d":"0.00"},0,0,0,0,0,0,0,0,0,0,0,null,null,{"v":0.8731409016816677,"d":"0.87"},{"v":0,"d":"0.00"},0,0,0,0,0,0,0,0,0,0,0,{"$nulls":5},0]
[2061,48,{"v":0.567292994001975,"d":"57%"},{"v":0.8631683388848954,"d":"0.86"},{"v":0,"d":"0.00"},0,0,0,0,0,0,0,0,0,0,0,null,null,{"v":0.8631683388848954,"d":"0.86"},{"v":0,"d":"0.00"},0,0,0,0,0,0,0,0,0,0,0,{"$nulls":5},0]
[2062,49,{"v":0.5606326777898318,"d":"56%"},{"v":0.852588310334005,"d":"0.85"},{"v":0,"d":"0.00"},0,0,0,0,0,0,0,0,0,0,0,null,null,{"v":0.852588310334005,"d":"0.85"},{"v":0,"d":"0.00"},0,0,0,0,0,0,0,0,0,0,0,{"$nulls":5},0]
[{"$f":"A79+1","v":2063},50,{"v":0.5540505571706448,"d":"55%"},{"v":0.8411679541565844,"d":"0.84"},{"v":0,"d":"0.00"},0,0,0,0,0,0,0,0,0,0,0,null,null,{"v":0.8411679541565844,"d":"0.84"},{"v":0,"d":"0.00"},0,0,0,0,0,0,0,0,0,0,0,{"$nulls":5},0]
[2064,51,{"v":0.5475457140872877,"d":"55%"},{"v":0.8290287635034574,"d":"0.83"},{"v":0,"d":"0.00"},0,0,0,0,0,0,0,0,0,0,0,null,null,{"v":0.8290287635034574,"d":"0.83"},{"v":0,"d":"0.00"},0,0,0,0,0,0,0,0,0,0,0,{"$nulls":5},0]
[2065,52,{"v":0.5411172412611058,"d":"54%"},{"v":0.8160492452238005,"d":"0.82"},{"v":0,"d":"0.00"},0,0,0,0,0,0,0,0,0,0,0,null,null,{"v":0.8160492452238005,"d":"0.82"},{"v":0,"d":"0.00"},0,0,0,0,0,0,0,0,0,0,0,{"$nulls":5},0]
[2066,53,{"v":0.5347642420653693,"d":"53%"},{"v":0.8022901458930253,"d":"0.80"},{"v":0,"d":"0.00"},0,0,0,0,0,0,0,0,0,0,0,null,null,{"v":0.8022901458930253,"d":"0.80"},{"v":0,"d":"0.00"},0,0,0,0,0,0,0,0,0,0,0,{"$nulls":5},0]
[2067,54,{"v":0.5284858304002148,"d":"53%"},{"v":0.7877514655111318,"d":"0.79"},{"v":0,"d":"0.00"},0,0,0,0,0,0,0,0,0,0,0,null,null,{"v":0.7877514655111318,"d":"0.79"},{"v":0,"d":"0.00"},0,0,0,0,0,0,0,0,0,0,0,{"$nulls":5},0]
[2068,55,{"v":0.5222811305690546,"d":"52%"},{"v":0.7724433285073554,"d":"0.77"},{"v":0,"d":"0.00"},0,0,0,0,0,0,0,0,0,0,0,null,null,{"v":0.7724433285073554,"d":"0.77"},{"v":0,"d":"0.00"},0,0,0,0,0,0,0,0,0,0,0,{"$nulls":5},0]
[2069,56,{"v":0.5161492771564363,"d":"52%"},{"v":0.756497352461755,"d":"0.76"},{"v":0,"d":"0.00"},0,0,0,0,0,0,0,0,0,0,0,null,null,{"v":0.756497352461755,"d":"0.76"},{"v":0,"d":"0.00"},0,0,0,0,0,0,0,0,0,0,0,{"$nulls":5},0]
[2070,57,{"v":0.5100894149073372,"d":"51%"},{"v":0.7398426663696834,"d":"0.74"},{"v":0,"d":"0.00"},0,0,0,0,0,0,0,0,0,0,0,null,null,{"v":0.7398426663696834,"d":"0.74"},{"v":0,"d":"0.00"},0,0,0,0,0,0,0,0,0,0,0,{"$nulls":5},0]
[2071,58,{"v":0.5041006986078757,"d":"50%"},{"v":0.7225400168065526,"d":"0.72"},{"v":0,"d":"0.00"},0,0,0,0,0,0,0,0,0,0,0,null,null,{"v":0.7225400168065526,"d":"0.72"},{"v":0,"d":"0.00"},0,0,0,0,0,0,0,0,0,0,0,{"$nulls":5},0]
[2072,59,{"v":0.49818229296742267,"d":"50%"},{"v":0.7042451731783621,"d":"0.70"},{"v":0,"d":"0.00"},0,0,0,0,0,0,0,0,0,0,0,null,null,{"v":0.7042451731783621,"d":"0.70"},{"v":0,"d":"0.00"},0,0,0,0,0,0,0,0,0,0,0,{"$nulls":5},0]
[2073,60,{"v":0.4923333725020979,"d":"49%"},{"v":0.6849682599143473,"d":"0.68"},{"v":0,"d":"0.00"},0,0,0,0,0,0,0,0,0,0,0,null,null,{"v":0.6849682599143473,"d":"0.68"},{"v":0,"d":"0.00"},0,0,0,0,0,0,0,0,0,0,0,{"$nulls":5},0]
[2074,61,{"v":0.48655312141963264,"d":"49%"},{"v":0.6646586548683318,"d":"0.66"},{"v":0,"d":"0.00"},0,0,0,0,0,0,0,0,0,0,0,null,null,{"v":0.6646586548683318,"d":"0.66"},{"v":0,"d":"0.00"},0,0,0,0,0,0,0,0,0,0,0,{"$nulls":5},0]
[2075,62,{"v":0.48084073350558637,"d":"48%"},{"v":0.6433366068987861,"d":"0.64"},{"v":0,"d":"0.00"},0,0,0,0,0,0,0,0,0,0,0,null,null,{"v":0.6433366068987861,"d":"0.64"},{"v":0,"d":"0.00"},0,0,0,0,0,0,0,0,0,0,0,{"$nulls":5},0]
[2076,63,{"v":0.47519541201089693,"d":"48%"},{"v":0.6204756456854745,"d":"0.62"},{"v":0,"d":"0.00"},0,0,0,0,0,0,0,0,0,0,0,null,null,{"v":0.6204756456854745,"d":"0.62"},{"v":0,"d":"0.00"},0,0,0,0,0,0,0,0,0,0,0,{"$nulls":5},0]
[2077,64,{"v":0.469616369540753,"d":"47%"},{"$f":"IF(OR(age+B94>190,IF(ISERROR(VLOOKUP(age+duree_effectuee,table_nonRev,2,0)),0,VLOOKUP(age+duree_effectuee,table_nonRev,2,0)=0)),\n0,\nVLOOKUP(age+$B94,table_nonRev,2,0)/VLOOKUP(age+duree_effectuee,table_nonRev,2,0))","v":{"v":0.5964402506808678,"d":"0.60"}},{"$f":"IF(age+B94<190,INDEX(P€R_nonRev,$A$23+B94,0),0)","v":{"v":0,"d":"0.00"}},0,{"$f":"F94*taux_frais","v":0},0,0,0,0,0,{"$f":"K94*Taux_PF","v":0},0,0,{"$f":"J94*Taux_SCR","v":0},null,null,{"$f":"IF(OR(age+$B94>190,IF(ISERROR(VLOOKUP(age+duree_effectuee,table_revalo,2,0)),0,VLOOKUP(age+duree_effectuee,table_revalo,2,0)=0)),\n0,\nVLOOKUP(age+$B94,table_revalo,2,0)/VLOOKUP(age+duree_effectuee,table_revalo,2,0))","v":{"v":0.5964402506808678,"d":"0.60"}},{"$f":"IF(age+B94<190,INDEX(P€R_rev,$A$23+B94,0),0)","v":{"v":0,"d":"0.00"}},0,{"$f":"U94*taux_frais","v":0},0,0,0,0,0,{"$f":"Z94*Taux_PF","v":0},0,0,{"$f":"Y94*Taux_SCR","v":0},{"$nulls":5},0]
[2078,65,{"v":0.46410282794476915,"d":"46%"},{"v":0.5711797997387897,"d":"0.57"},{"v":0,"d":"0.00"},{"$f":"IF(AND(Type_rente=\"Temporaire\",$B95> duree_effectuee+duree_restante),0,IF($B95<duree_effectuee+1,Arrerage_cal,D95*Arrerage_cal))","v":0},0,{"$f":"F95+G95","v":0},{"$f":"H95*$C95","v":0},{"$f":"F95*(1+taux_frais)*E95","v":0},0,{"$f":"J95+K95","v":0},0,{"$f":"F95+G95+L95+M95","v":0},{"$f":"$C95*N95","v":0},0,null,null,{"v":0.5711797997387897,"d":"0.57"},{"v":0,"d":"0.00"},{"$f":"IF(AND(Type_rente=\"TEMPORAIRE\",$B95> duree_effectuee+duree_restante),0,IF($B95<duree_effectuee+1,Arrerage_cal*(1+reval_reel)^$B95,S95*Arrerage_cal*(1+reval_reel)^$B95))","v":0},0,{"$f":"U95+V95","v":0},{"$f":"W95*$C95","v":0},{"$f":"U95*(1+taux_frais)*T95","v":0},0,{"$f":"Y95+Z95","v":0},0,{"$f":"U95+V95+AA95+AB95","v":0},{"$f":"$C95*AC95","v":0},0,{"$nulls":5},0]
[{"$f":"A95+1","v":2079},66,{"v":0.4586540182084528,"d":"46%"},{"v":0.5448765325854755,"d":"0.54"},{"v":0,"d":"0.00"},0,0,0,0,0,{"$f":"-J95","v":0},0,0,0,0,0,null,null,{"v":0.5448765325854755,"d":"0.54"},{"v":0,"d":"0.00"},0,0,0,0,0,{"$f":"-Y95","v":0},0,0,0,0,0,{"$nulls":5},0]
[2080,67,{"v":0.45326918034594305,"d":"45%"},{"v":0.5172165919146308,"d":"0.52"},{"v":0,"d":"0.00"},0,0,0,0,0,0,0,0,0,0,0,null,null,{"v":0.5172165919146308,"d":"0.52"},{"v":0,"d":"0.00"},0,0,0,0,0,0,0,0,0,0,0,{"$nulls":5},0]
[2081,68,{"v":0.44794756329401036,"d":"45%"},{"v":0.48851383503255,"d":"0.49"},{"v":0,"d":"0.00"},0,0,0,0,0,0,0,0,0,0,0,null,null,{"v":0.48851383503255,"d":"0.49"},{"v":0,"d":"0.00"},0,0,0,0,0,0,0,0,0,0,0,{"$nulls":5},0]
[2082,69,{"v":0.4426884248072996,"d":"44%"},{"v":0.4584746534914094,"d":"0.46"},{"v":0,"d":"0.00"},0,0,0,0,0,0,0,0,0,0,0,null,null,{"v":0.4584746534914094,"d":"0.46"},{"v":0,"d":"0.00"},0,0,0,0,0,0,0,0,0,0,0,{"$nulls":5},0]
[2083,70,{"v":0.4374910313548046,"d":"44%"},{"v":0.4272812870174444,"d":"0.43"},{"v":0,"d":"0.00"},0,0,0,0,0,0,0,0,0,0,0,null,null,{"v":0.4272812870174444,"d":"0.43"},{"v":0,"d":"0.00"},0,0,0,0,0,0,0,0,0,0,0,{"$nulls":5},{"$f":"AG101*AI100","v":0}]
[2084,71,{"v":0.43235465801755607,"d":"43%"},{"v":0.3952678417754199,"d":"0.40"},{"v":0,"d":"0.00"},0,0,0,0,0,0,0,0,0,0,0,null,null,{"v":0.3952678417754199,"d":"0.40"},{"v":0,"d":"0.00"},0,0,0,0,0,0,0,0,0,0,0,{"$nulls":5},0]
[2085,72,{"v":0.4272785883875126,"d":"43%"},{"v":0.3626975529254538,"d":"0.36"},{"v":0,"d":"0.00"},0,0,0,0,0,0,0,0,0,0,0,null,null,{"v":0.3626975529254538,"d":"0.36"},{"v":0,"d":"0.00"},0,0,0,0,0,0,0,0,0,0,0,{"$nulls":5},0]
[2086,73,{"v":0.4222621144676371,"d":"42%"},{"v":0.3292261898735459,"d":"0.33"},{"v":0,"d":"0.00"},0,0,0,0,0,0,0,0,0,0,0,null,null,{"v":0.3292261898735459,"d":"0.33"},{"v":0,"d":"0.00"},0,0,0,0,0,0,0,0,0,0,0,{"$nulls":5},0]
[2087,74,{"v":0.4173045365731481,"d":"42%"},{"v":0.29583582225552035,"d":"0.30"},{"v":0,"d":"0.00"},0,0,0,0,0,0,0,0,0,0,0,null,null,{"v":0.29583582225552035,"d":"0.30"},{"v":0,"d":"0.00"},0,0,0,0,0,0,0,0,0,0,0,{"$nulls":5},0]
[2088,75,{"v":0.4124051632339291,"d":"41%"},{"v":0.26285043180690687,"d":"0.26"},{"v":0,"d":"0.00"},0,0,0,0,0,0,0,0,0,0,0,null,null,{"v":0.26285043180690687,"d":"0.26"},{"v":0,"d":"0.00"},0,0,0,0,0,0,0,0,0,0,0,{"$nulls":5},0]
[2089,76,{"v":0.4075633110980839,"d":"41%"},{"v":0.23063449798017638,"d":"0.23"},{"v":0,"d":"0.00"},0,0,0,0,0,0,0,0,0,0,0,null,null,{"v":0.23063449798017638,"d":"0.23"},{"v":0,"d":"0.00"},0,0,0,0,0,0,0,0,0,0,0,{"$nulls":5},0]
[2090,77,{"v":0.4027783048366248,"d":"40%"},{"v":0.19970436666632918,"d":"0.20"},{"v":0,"d":"0.00"},0,0,0,0,0,0,0,0,0,0,0,null,null,{"v":0.19970436666632918,"d":"0.20"},{"v":0,"d":"0.00"},0,0,0,0,0,0,0,0,0,0,0,{"$nulls":5},0]
[2091,78,{"v":0.39804947704927945,"d":"40%"},{"v":0.17052576161018923,"d":"0.17"},{"v":0,"d":"0.00"},0,0,0,0,0,0,0,0,0,0,0,null,null,{"v":0.17052576161018923,"d":"0.17"},{"v":0,"d":"0.00"},0,0,0,0,0,0,0,0,0,0,0,{"$nulls":5},0]
[2092,79,{"v":0.3933761681714032,"d":"39%"},{"v":0.14308855838252119,"d":"0.14"},{"v":0,"d":"0.00"},0,0,0,0,0,0,0,0,0,0,0,null,null,{"v":0.14308855838252119,"d":"0.14"},{"v":0,"d":"0.00"},0,0,0,0,0,0,0,0,0,0,0,{"$nulls":5},0]
[2093,80,{"v":0.3887577263819854,"d":"39%"},{"v":0.11769648986038413,"d":"0.12"},{"v":0,"d":"0.00"},0,0,0,0,0,0,0,0,0,0,0,null,null,{"v":0.11769648986038413,"d":"0.12"},{"v":0,"d":"0.00"},0,0,0,0,0,0,0,0,0,0,0,{"$nulls":5},0]
[2094,81,{"v":0.3841935075127342,"d":"38%"},{"v":0.09505826609024916,"d":"0.10"},{"v":0,"d":"0.00"},0,0,0,0,0,0,0,0,0,0,0,null,null,{"v":0.09505826609024916,"d":"0.10"},{"v":0,"d":"0.00"},0,0,0,0,0,0,0,0,0,0,0,{"$nulls":5},0]
[{"$f":"A111+1","v":2095},82,{"v":0.3796828749582304,"d":"38%"},{"v":0.07530550465217524,"d":"0.08"},{"v":0,"d":"0.00"},0,0,0,0,0,0,0,0,0,0,0,null,null,{"v":0.07530550465217524,"d":"0.08"},{"v":0,"d":"0.00"},0,0,0,0,0,0,0,0,0,0,0,{"$nulls":5},0]
[2096,83,{"v":0.37522519958713524,"d":"38%"},{"v":0.05834708568304462,"d":"0.06"},{"v":0,"d":"0.00"},0,0,0,0,0,0,0,0,0,0,0,null,null,{"v":0.05834708568304462,"d":"0.06"},{"v":0,"d":"0.00"},0,0,0,0,0,0,0,0,0,0,0,{"$nulls":5},0]
[2097,84,{"v":0.37081985965444053,"d":"37%"},{"v":0.04404126717356309,"d":"0.04"},{"v":0,"d":"0.00"},0,0,0,0,0,0,0,0,0,0,0,null,null,{"v":0.04404126717356309,"d":"0.04"},{"v":0,"d":"0.00"},0,0,0,0,0,0,0,0,0,0,0,{"$nulls":5},0]
[2098,85,{"v":0.36646624071474937,"d":"37%"},{"v":0.03250954227455427,"d":"0.03"},{"v":0,"d":"0.00"},0,0,0,0,0,0,0,0,0,0,0,null,null,{"v":0.03250954227455427,"d":"0.03"},{"v":0,"d":"0.00"},0,0,0,0,0,0,0,0,0,0,0,{"$nulls":5},0]
[2099,86,{"v":0.36216373553657494,"d":"36%"},{"v":0.023438053679723805,"d":"0.02"},{"v":0,"d":"0.00"},0,0,0,0,0,0,0,0,0,0,0,null,null,{"v":0.023438053679723805,"d":"0.02"},{"v":0,"d":"0.00"},0,0,0,0,0,0,0,0,0,0,0,{"$nulls":5},0]
[2100,87,{"v":0.35791174401764536,"d":"36%"},{"v":0.01655344179971854,"d":"0.02"},{"v":0,"d":"0.00"},0,0,0,0,0,0,0,0,0,0,0,null,null,{"v":0.01655344179971854,"d":"0.02"},{"v":0,"d":"0.00"},0,0,0,0,0,0,0,0,0,0,0,{"$nulls":5},0]
[2101,88,{"v":0.35370967310120316,"d":"35%"},{"v":0.011288738597361573,"d":"0.01"},{"v":0,"d":"0.00"},0,0,0,0,0,0,0,0,0,0,0,null,null,{"v":0.011288738597361573,"d":"0.01"},{"v":0,"d":"0.00"},0,0,0,0,0,0,0,0,0,0,0,{"$nulls":5},0]
[2102,89,{"v":0.34955693669328697,"d":"35%"},{"v":7.492077634123376E-3,"d":"0.01"},{"v":0,"d":"0.00"},0,0,0,0,0,0,0,0,0,0,0,null,null,{"v":7.492077634123376E-3,"d":"0.01"},{"v":0,"d":"0.00"},0,0,0,0,0,0,0,0,0,0,0,{"$nulls":5},0]
[2103,90,{"v":0.3454529555809849,"d":"35%"},{"v":0.004586366443591743,"d":"0.00"},{"v":0,"d":"0.00"},0,0,0,0,0,0,0,0,0,0,0,null,null,{"v":0.004586366443591743,"d":"0.00"},{"v":0,"d":"0.00"},0,0,0,0,0,0,0,0,0,0,0,{"$nulls":5},0]
[2104,91,{"v":0.34139715735164733,"d":"34%"},{"v":2.6627248888843893E-3,"d":"0.00"},{"v":0,"d":"0.00"},0,0,0,0,0,0,0,0,0,0,0,null,null,{"v":2.6627248888843893E-3,"d":"0.00"},{"v":0,"d":"0.00"},0,0,0,0,0,0,0,0,0,0,0,{"$nulls":5},0]
[2105,92,{"v":0.33738897631304837,"d":"34%"},{"v":1.4680422391187696E-3,"d":"0.00"},{"v":0,"d":"0.00"},0,0,0,0,0,0,0,0,0,0,0,null,null,{"v":1.4680422391187696E-3,"d":"0.00"},{"v":0,"d":"0.00"},0,0,0,0,0,0,0,0,0,0,0,{"$nulls":5},0]
[2106,93,{"v":0.33342785341448433,"d":"33%"},{"v":7.6945662188294137E-4,"d":"0.00"},{"v":0,"d":"0.00"},0,0,0,0,0,0,0,0,0,0,0,null,null,{"v":7.6945662188294137E-4,"d":"0.00"},{"v":0,"d":"0.00"},0,0,0,0,0,0,0,0,0,0,0,{"$nulls":5},0]
[2107,94,{"v":0.3295132361687991,"d":"33%"},{"v":3.7460388170616884E-4,"d":"0.00"},{"v":0,"d":"0.00"},0,0,0,0,0,0,0,0,0,0,0,null,null,{"v":3.7460388170616884E-4,"d":"0.00"},{"v":0,"d":"0.00"},0,0,0,0,0,0,0,0,0,0,{"v":0,"d":"0.00"},{"$nulls":5},0]
[2108,95,{"v":0.3256445785753242,"d":"33%"},{"v":1.7211529700013163E-4,"d":"0.00"},{"v":0,"d":"0.00"},0,0,0,0,0,0,0,0,0,0,0,null,null,{"v":1.7211529700013163E-4,"d":"0.00"},{"v":0,"d":"0.00"},0,0,0,0,0,0,0,0,0,0,{"v":0,"d":"0.00"},{"$nulls":5},0]
[2109,96,{"v":0.3218213410437249,"d":"32%"},{"$f":"IF(OR(age+B126>190,IF(ISERROR(VLOOKUP(age+duree_effectuee,table_nonRev,2,0)),0,VLOOKUP(age+duree_effectuee,table_nonRev,2,0)=0)),\n0,\nVLOOKUP(age+$B126,table_nonRev,2,0)/VLOOKUP(age+duree_effectuee,table_nonRev,2,0))","v":{"v":7.0871004647113023E-5,"d":"0.00"}},{"$f":"IF(age+B126<190,INDEX(P€R_nonRev,$A$23+B126,0),0)","v":{"v":0,"d":"0.00"}},0,{"$f":"F126*taux_frais","v":0},0,0,0,0,0,{"$f":"K126*Taux_PF","v":0},0,0,0,null,null,{"$f":"IF(OR(age+$B126>190,IF(ISERROR(VLOOKUP(age+duree_effectuee,table_revalo,2,0)),0,VLOOKUP(age+duree_effectuee,table_revalo,2,0)=0)),\n0,\nVLOOKUP(age+$B126,table_revalo,2,0)/VLOOKUP(age+duree_effectuee,table_revalo,2,0))","v":{"v":7.0871004647113023E-5,"d":"0.00"}},{"$f":"IF(age+B126<190,INDEX(P€R_rev,$A$23+B126,0),0)","v":{"v":0,"d":"0.00"}},0,0,0,0,0,0,0,{"$f":"Z126*Taux_PF","v":0},0,0,0,{"$nulls":5},0]
[2110,97,{"v":0.31804299031873823,"d":"32%"},{"v":2.024885847060372E-5,"d":"0.00"},{"v":1,"d":"1.00"},{"$f":"IF(AND(Type_rente=\"Temporaire\",$B127> duree_effectuee+duree_restante),0,IF($B127<duree_effectuee+1,Arrerage_cal,D127*Arrerage_cal))","v":0},0,0,0,{"$f":"F127*(1+taux_frais)*E127","v":0},0,0,0,0,0,0,null,null,{"v":2.024885847060372E-5,"d":"0.00"},{"v":1,"d":"1.00"},{"$f":"IF(AND(Type_rente=\"TEMPORAIRE\",$B127> duree_effectuee+duree_restante),0,IF($B127<duree_effectuee+1,Arrerage_cal*(1+reval_reel)^$B127,S127*Arrerage_cal*(1+reval_reel)^$B127))","v":0},0,0,0,{"$f":"U127*(1+taux_frais)*T127","v":0},0,0,0,0,0,0,{"$nulls":5},0]
[{"$f":"A127+1","v":2111},98,{"v":0.31430899940579743,"d":"31%"},{"v":0,"d":"0.00"},{"v":1,"d":"1.00"},0,0,0,0,0,0,0,0,0,0,0,null,null,{"v":0,"d":"0.00"},{"v":1,"d":"1.00"},0,0,0,0,0,0,0,0,0,0,0,{"$nulls":5},0]
[2112,99,{"v":0.31061884749752683,"d":"31%"},{"v":0,"d":"0.00"},{"v":1,"d":"1.00"},0,0,0,0,0,0,0,0,0,0,0,null,null,{"v":0,"d":"0.00"},{"v":1,"d":"1.00"},0,0,0,0,0,0,0,0,0,0,0,{"$nulls":5},0]
[2113,100,{"v":0.30697201990110184,"d":"31%"},{"v":0,"d":"0.00"},{"v":1,"d":"1.00"},0,0,0,0,0,0,0,0,0,0,0,null,null,{"v":0,"d":"0.00"},{"v":1,"d":"1.00"},0,0,0,0,0,0,0,0,0,0,0,{"$nulls":5},0]
[2114,101,{"v":0.3033680079664603,"d":"30%"},{"v":0,"d":"0.00"},{"v":1,"d":"1.00"},0,0,0,0,0,0,0,0,0,0,0,null,null,{"v":0,"d":"0.00"},{"v":1,"d":"1.00"},0,0,0,0,0,0,0,0,0,0,0,{"$nulls":5},0]
[2115,102,{"v":0.2998063090153579,"d":"30%"},{"v":0,"d":"0.00"},{"v":1,"d":"1.00"},0,0,0,0,0,0,0,0,0,0,0,null,null,{"v":0,"d":"0.00"},{"v":1,"d":"1.00"},0,0,0,0,0,0,0,0,0,0,0,{"$nulls":5},0]
[2116,103,{"v":0.2962864262712554,"d":"30%"},{"v":0,"d":"0.00"},{"v":1,"d":"1.00"},0,0,0,0,0,0,0,0,0,0,0,null,null,{"v":0,"d":"0.00"},{"v":1,"d":"1.00"},0,0,0,0,0,0,0,0,0,0,0,{"$nulls":5},0]
[2117,104,{"v":0.29280786879002996,"d":"29%"},{"v":0,"d":"0.00"},{"v":1,"d":"1.00"},0,0,0,0,0,0,0,0,0,0,0,null,null,{"v":0,"d":"0.00"},{"v":1,"d":"1.00"},0,0,0,0,0,0,0,0,0,0,0,{"$nulls":5},0]
[2118,105,{"v":0.289370151391499,"d":"29%"},{"v":0,"d":"0.00"},{"v":1,"d":"1.00"},0,0,0,0,0,0,0,0,0,0,0,null,null,{"v":0,"d":"0.00"},{"v":1,"d":"1.00"},0,0,0,0,0,0,0,0,0,0,0,{"$nulls":5},0]
[2119,106,{"v":0.28597279459174907,"d":"29%"},{"v":0,"d":"0.00"},{"v":1,"d":"1.00"},0,0,0,0,0,0,0,0,0,0,0,null,null,{"v":0,"d":"0.00"},{"v":1,"d":"1.00"},0,0,0,0,0,0,0,0,0,0,0,{"$nulls":5},0]
[{"$f":"A136+1","v":2120},{"$f":"B136+1","v":107},{"v":0.2826153245362583,"d":"28%"},{"v":0,"d":"0.00"},{"v":1,"d":"1.00"},0,0,0,0,0,0,0,0,0,0,0,null,null,{"v":0,"d":"0.00"},{"v":1,"d":"1.00"},0,0,0,0,0,0,0,0,0,0,0]

{"sheet":"hypothèses","index":2,"n_rows":18,"n_cols":3,"rows_kept":18}
[]
[null,"Date de calcul :","2013-12-31"]
[]
[null,"Table de mortalité :","TD 88-90"]
[]
[null,"TME :",{"v":0.0198,"d":"1.98%"}]
[]
[null,"Taux de revalorisation réel :",{"v":0.0225,"d":"2.25%"}]
[]
[null,"Taux de revalorisation corp :",{"v":0.03,"d":"3.00%"}]
[]
[null,"Taux de frais :",{"v":0.015,"d":"1.50%"}]
[]
[null,"Taux de produit financier :",{"$f":"table!B1","v":{"v":0.01188,"d":"1.19%"}}]
[]
[null,"Taux de SCR / PM NF :",{"v":0.05,"d":"5%"}]
[]
[null,"Marge de risque :",{"v":0.06,"d":"6%"}]

{"sheet":"table","index":3,"n_rows":195,"n_cols":12,"rows_kept":195,"merged":[[2,0,2,4],[2,6,2,10]]}
["Taux technique",{"$f":"60%*hypothèses!C6","v":{"v":0.01188,"d":"1.19%"}},null,null,"Limite",null,"Taux technique",{"$f":"(1+B1)/(1+hypothèses!C8)-1","v":{"v":-0.010386308068459749,"d":"-1.04%"}},null,null,{"$f":"E1","v":"Limite"},"Viagere"]
["Table","TD 88/90",null,{"$f":"IF(Type_rente=\"VIAGERE\",117,'cas par cas'!$D$4-'cas par cas'!$D$2)","v":12},10,null,"Table","TD 88/90",null,null,{"$f":"E2","v":10}]
["RENTES VIAGERES NON REVALORISABLES",{"$nulls":5},"RENTES VIAGERES REVALORISABLES"]
["Age","Lx","Dx","NX","P€R",null,"Age","Lx","Dx","NX","P€R"]
[0,{"v":100000,"d":"100,000"},{"$f":"B5/(1+$B$1)^A5","v":{"v":100000,"d":"100,000"}},{"$f":"SUM(C5:$C$125)","v":{"v":4838151.996336227,"d":"4,838,152"}},{"$f":"MAX(0,IF(OR(C5=0,D6=0),1,(D6-VLOOKUP($E$2+1,$A$6:$D$124,4,0))/C5))","v":{"v":9.278551412003566,"d":"9.279"}},null,0,{"v":100000,"d":"100,000"},{"$f":"H5/(1+$H$1)^G5","v":{"v":100000,"d":"100,000"}},{"$f":"SUM($I5:I$125)","v":{"v":11196949.949710652,"d":"11,196,950"}},{"$f":"MAX(0,IF(OR(I5=0,J6=0),1,(J6-VLOOKUP($K$2+1,$G$6:$J$124,4,0))/I5))","v":{"v":10.484534481538832,"d":"10.485"}}]
[1,{"v":99129,"d":"99,129"},{"$f":"B6/(1+$B$1)^A6","v":{"v":97965.17373601614,"d":"97,965"}},{"$f":"SUM(C6:$C$125)","v":{"v":4738151.996336227,"d":"4,738,152"}},{"$f":"MAX(0,IF(OR(C6=0,D7=0),1,(D7-VLOOKUP($E$2+1,$A$6:$D$124,4,0))/C6))","v":{"v":8.471275411613309,"d":"8.471"}},null,1,{"v":99129,"d":"99,129"},{"v":100169.3901450765,"d":"100,169"},{"$f":"SUM($I6:I$125)","v":{"v":11096949.949710652,"d":"11,096,950"}},{"$f":"MAX(0,IF(OR(I6=0,J7=0),1,(J7-VLOOKUP($K$2+1,$G$6:$J$124,4,0))/I6))","v":{"v":9.466804745795057,"d":"9.467"}}]
[2,{"v":99057,"d":"99,057"},{"v":96744.6921113598,"d":"96,745"},{"$f":"SUM(C7:$C$125)","v":{"v":4640186.82260021,"d":"4,640,187"}},{"v":7.578144695618845,"d":"7.578"},null,2,{"v":99057,"d":"99,057"},{"v":101147.18025675236,"d":"101,147"},{"$f":"SUM($I7:I$125)","v":{"v":10996780.559565576,"d":"10,996,781"}},{"v":8.375289114354738,"d":"8.375"}]
[3,{"v":99010,"d":"99,010"},{"v":95563.49492233217,"d":"95,563"},{"$f":"SUM(C8:$C$125)","v":{"v":4543442.13048885,"d":"4,543,442"}},{"v":6.671813132711746,"d":"6.672"},null,3,{"v":99010,"d":"99,010"},{"v":102160.25641543724,"d":"102,160"},{"$f":"SUM($I8:I$125)","v":{"v":10895633.379308823,"d":"10,895,633"}},{"v":7.292235233897128,"d":"7.292"}]
[4,{"v":98997,"d":"98,997"},{"v":94429.12939083327,"d":"94,429"},{"$f":"SUM(C9:$C$125)","v":{"v":4447878.635566519,"d":"4,447,879"}},{"v":5.751960804295435,"d":"5.752"},null,4,{"v":98997,"d":"98,997"},{"v":103218.90614489382,"d":"103,219"},{"$f":"SUM($I9:I$125)","v":{"v":10793473.122893386,"d":"10,793,473"}},{"v":6.217443481631677,"d":"6.217"}]
[5,{"v":98948,"d":"98,948"},{"v":93274.29173874117,"d":"93,274"},{"$f":"SUM(C10:$C$125)","v":{"v":4353449.506175686,"d":"4,353,450"}},{"v":4.823176364192294,"d":"4.823"},null,5,{"v":98948,"d":"98,948"},{"v":104250.59524984077,"d":"104,251"},{"$f":"SUM($I10:I$125)","v":{"v":10690254.21674849,"d":"10,690,254"}},{"v":5.155914157168362,"d":"5.156"}]
[6,{"v":98921,"d":"98,921"},{"v":92154.0498151078,"d":"92,154"},{"$f":"SUM(C11:$C$125)","v":{"v":4260175.214436944,"d":"4,260,175"}},{"v":3.8818078012163375,"d":"3.882"},null,6,{"v":98921,"d":"98,921"},{"v":105315.99267192656,"d":"105,316"},{"$f":"SUM($I11:I$125)","v":{"v":10586003.621498652,"d":"10,586,004"}},{"v":4.103755909288048,"d":"4.104"}]
[7,{"v":98897,"d":"98,897"},{"v":91050.01739137988,"d":"91,050"},{"$f":"SUM(C12:$C$125)","v":{"v":4168021.164621835,"d":"4,168,021"}},{"v":2.928876893546116,"d":"2.929"},null,7,{"v":98897,"d":"98,897"},{"v":106395.49754719797,"d":"106,395"},{"$f":"SUM($I12:I$125)","v":{"v":10480687.628826724,"d":"10,480,688"}},{"v":3.0621185786384566,"d":"3.062"}]
[8,{"v":98876,"d":"98,876"},{"v":89961.93583864727,"d":"89,962"},{"$f":"SUM(C13:$C$125)","v":{"v":4076971.147230455,"d":"4,076,971"}},{"v":1.9643013971251435,"d":"1.964"},null,8,{"v":98876,"d":"98,876"},{"v":107489.32251797065,"d":"107,489"},{"$f":"SUM($I13:I$125)","v":{"v":10374292.131279526,"d":"10,374,292"}},{"v":2.0309580718428015,"d":"2.031"}]
[9,{"v":98855,"d":"98,855"},{"v":88886.85325539076,"d":"88,887"},{"$f":"SUM(C14:$C$125)","v":{"v":3987009.211391808,"d":"3,987,009"}},{"v":0.9880595361859079,"d":"0.988"},null,9,{"v":98855,"d":"98,855"},{"v":108594.38792574106,"d":"108,594"},{"$f":"SUM($I14:I$125)","v":{"v":10266802.808761556,"d":"10,266,803"}},{"v":1.0102908757500964,"d":"1.010"}]
[10,{"v":98835,"d":"98,835"},{"v":87825.50300054636,"d":"87,826"},{"$f":"SUM(C15:$C$125)","v":{"v":3898122.358136417,"d":"3,898,122"}},{"v":0,"d":"0.000"},null,10,{"v":98835,"d":"98,835"},{"v":109711.91927904218,"d":"109,712"},{"$f":"SUM($I15:I$125)","v":{"v":10158208.420835812,"d":"10,158,208"}},{"v":0,"d":"0.000"}]
[11,{"v":98814,"d":"98,814"},{"v":86775.94403203845,"d":"86,776"},{"$f":"SUM(C16:$C$125)","v":{"v":3810296.8551358706,"d":"3,810,297"}},{"v":0,"d":"0.000"},null,11,{"v":98814,"d":"98,814"},{"v":110839.82476824247,"d":"110,840"},{"$f":"SUM($I16:I$125)","v":{"v":10048496.501556769,"d":"10,048,497"}},{"v":0,"d":"0.000"}]
[12,{"v":98793,"d":"98,793"},{"v":85738.92394911265,"d":"85,739"},{"$f":"SUM(C17:$C$125)","v":{"v":3723520.911103832,"d":"3,723,521"}},{"v":0,"d":"0.000"},null,12,{"v":98793,"d":"98,793"},{"v":111979.32075670947,"d":"111,979"},{"$f":"SUM($I17:I$125)","v":{"v":9937656.676788526,"d":"9,937,657"}},{"v":0,"d":"0.000"}]
[13,{"v":98771,"d":"98,771"},{"v":84713.4353215214,"d":"84,713"},{"$f":"SUM(C18:$C$125)","v":{"v":3637781.987154719,"d":"3,637,782"}},{"v":0,"d":"0.000"},null,13,{"v":98771,"d":"98,771"},{"v":113129.38092527691,"d":"113,129"},{"$f":"SUM($I18:I$125)","v":{"v":9825677.356031816,"d":"9,825,677"}},{"v":0,"d":"0.000"}]
[14,{"v":98745,"d":"98,745"},{"v":83696.81757403094,"d":"83,697"},{"$f":"SUM(C19:$C$125)","v":{"v":3553068.551833197,"d":"3,553,069"}},{"v":0,"d":"0.000"},null,14,{"v":98745,"d":"98,745"},{"v":114286.61731005945,"d":"114,287"},{"$f":"SUM($I19:I$125)","v":{"v":9712547.97510654,"d":"9,712,548"}},{"v":0,"d":"0.000"}]
[15,{"v":98712,"d":"98,712"},{"v":82686.5306047766,"d":"82,687"},{"$f":"SUM(C20:$C$125)","v":{"v":3469371.7342591663,"d":"3,469,372"}},{"v":0,"d":"0.000"},null,15,{"v":98712,"d":"98,712"},{"v":115447.49665871396,"d":"115,447"},{"$f":"SUM($I20:I$125)","v":{"v":9598261.357796477,"d":"9,598,261"}},{"v":0,"d":"0.000"}]
[16,{"v":98667,"d":"98,667"},{"v":81678.49563345067,"d":"81,678"},{"$f":"SUM(C21:$C$125)","v":{"v":3386685.2036543884,"d":"3,386,685"}},{"v":0,"d":"0.000"},null,16,{"v":98667,"d":"98,667"},{"v":116605.97297860934,"d":"116,606"},{"$f":"SUM($I21:I$125)","v":{"v":9482813.861137765,"d":"9,482,814"}},{"v":0,"d":"0.000"}]
[17,{"v":98606,"d":"98,606"},{"v":80669.64326402837,"d":"80,670"},{"$f":"SUM(C22:$C$125)","v":{"v":3305006.708020938,"d":"3,305,007"}},{"v":0,"d":"0.000"},null,17,{"v":98606,"d":"98,606"},{"v":117756.94224661605,"d":"117,757"},{"$f":"SUM($I22:I$125)","v":{"v":9366207.888159156,"d":"9,366,208"}},{"v":0,"d":"0.000"}]
[18,{"v":98520,"d":"98,520"},{"v":79653.00885372728,"d":"79,653"},{"$f":"SUM(C23:$C$125)","v":{"v":3224337.06475691,"d":"3,224,337"}},{"v":0,"d":"0.000"},null,18,{"v":98520,"d":"98,520"},{"v":118889.05798359639,"d":"118,889"},{"$f":"SUM($I23:I$125)","v":{"v":9248450.94591254,"d":"9,248,451"}},{"v":0,"d":"0.000"}]
[19,{"v":98406,"d":"98,406"},{"v":78626.75448617928,"d":"78,627"},{"$f":"SUM(C24:$C$125)","v":{"v":3144684.0559031824,"d":"3,144,684"}},{"v":0,"d":"0.000"},null,19,{"v":98406,"d":"98,406"},{"v":119997.82278304246,"d":"119,998"},{"$f":"SUM($I24:I$125)","v":{"v":9129561.887928942,"d":"9,129,562"}},{"v":0,"d":"0.000"}]
[20,{"v":98277,"d":"98,277"},{"v":77601.77393922157,"d":"77,602"},{"$f":"SUM(C25:$C$125)","v":{"v":3066057.301417003,"d":"3,066,057"}},{"v":0,"d":"0.000"},null,20,{"v":98277,"d":"98,277"},{"v":121098.28222161054,"d":"121,098"},{"$f":"SUM($I25:I$125)","v":{"v":9009564.0651459,"d":"9,009,564"}},{"v":0,"d":"0.000"}]
[21,{"v":98137,"d":"98,137"},{"v":76581.4392292014,"d":"76,581"},{"$f":"SUM(C26:$C$125)","v":{"v":2988455.527477781,"d":"2,988,456"}},{"v":0,"d":"0.000"},null,21,{"v":98137,"d":"98,137"},{"v":122194.9264305201,"d":"122,195"},{"$f":"SUM($I26:I$125)","v":{"v":8888465.782924289,"d":"8,888,466"}},{"v":0,"d":"0.000"}]
[22,{"v":97987,"d":"97,987"},{"v":75566.65451999923,"d":"75,567"},{"$f":"SUM(C27:$C$125)","v":{"v":2911874.0882485798,"d":"2,911,874"}},{"v":0,"d":"0.000"},null,22,{"v":97987,"d":"97,987"},{"v":123288.66857257037,"d":"123,289"},{"$f":"SUM($I27:I$125)","v":{"v":8766270.856493767,"d":"8,766,271"}},{"v":0,"d":"0.000"}]
[23,{"v":97830,"d":"97,830"},{"v":74559.80708570192,"d":"74,560"},{"$f":"SUM(C28:$C$125)","v":{"v":2836307.43372858,"d":"2,836,307"}},{"v":0,"d":"0.000"},null,23,{"v":97830,"d":"97,830"},{"v":124383.00914049809,"d":"124,383"},{"$f":"SUM($I28:I$125)","v":{"v":8642982.187921196,"d":"8,642,982"}},{"v":0,"d":"0.000"}]
[24,{"v":97677,"d":"97,677"},{"v":73569.19813781758,"d":"73,569"},{"$f":"SUM(C29:$C$125)","v":{"v":2761747.626642878,"d":"2,761,748"}},{"v":0,"d":"0.000"},null,24,{"v":97677,"d":"97,677"},{"v":125491.87921288714,"d":"125,492"},{"$f":"SUM($I29:I$125)","v":{"v":8518599.178780697,"d":"8,518,599"}},{"v":0,"d":"0.000"}]
[25,{"v":97524,"d":"97,524"},{"v":72591.57240922752,"d":"72,592"},{"$f":"SUM(C30:$C$125)","v":{"v":2688178.4285050603,"d":"2,688,178"}},{"v":0,"d":"0.000"},null,25,{"v":97524,"d":"97,524"},{"v":126610.32417436273,"d":"126,610"},{"$f":"SUM($I30:I$125)","v":{"v":8393107.299567813,"d":"8,393,107"}},{"v":0,"d":"0.000"}]
[26,{"v":97373,"d":"97,373"},{"v":71628.23279921501,"d":"71,628"},{"$f":"SUM(C31:$C$125)","v":{"v":2615586.856095833,"d":"2,615,587"}},{"v":0,"d":"0.000"},null,26,{"v":97373,"d":"97,373"},{"v":127741.04661078221,"d":"127,741"},{"$f":"SUM($I31:I$125)","v":{"v":8266496.97539345,"d":"8,266,497"}},{"v":0,"d":"0.000"}]
[27,{"v":97222,"d":"97,222"},{"v":70677.50739715545,"d":"70,678"},{"$f":"SUM(C32:$C$125)","v":{"v":2543958.6232966175,"d":"2,543,959"}},{"v":0,"d":"0.000"},null,27,{"v":97222,"d":"97,222"},{"v":128881.55728877723,"d":"128,882"},{"$f":"SUM($I32:I$125)","v":{"v":8138755.928782668,"d":"8,138,756"}},{"v":0,"d":"0.000"}]
[28,{"v":97070,"d":"97,070"},{"v":69738.51435957143,"d":"69,739"},{"$f":"SUM(C33:$C$125)","v":{"v":2473281.1158994623,"d":"2,473,281"}},{"v":0,"d":"0.000"},null,28,{"v":97070,"d":"97,070"},{"v":130030.59756383982,"d":"130,031"},{"$f":"SUM($I33:I$125)","v":{"v":8009874.371493891,"d":"8,009,874"}},{"v":0,"d":"0.000"}]
[29,{"v":96916,"d":"96,916"},{"v":68810.40768046296,"d":"68,810"},{"$f":"SUM(C34:$C$125)","v":{"v":2403542.601539891,"d":"2,403,543"}},{"v":0,"d":"0.000"},null,29,{"v":96916,"d":"96,916"},{"v":131186.85317542445,"d":"131,187"},{"$f":"SUM($I34:I$125)","v":{"v":7879843.77393005,"d":"7,879,844"}},{"v":0,"d":"0.000"}]
[30,{"v":96759,"d":"96,759"},{"v":67892.3761742722,"d":"67,892"},{"$f":"SUM(C35:$C$125)","v":{"v":2334732.193859428,"d":"2,334,732"}},{"v":0,"d":"0.000"},null,30,{"v":96759,"d":"96,759"},{"v":132348.95277551157,"d":"132,349"},{"$f":"SUM($I35:I$125)","v":{"v":7748656.920754626,"d":"7,748,657"}},{"v":0,"d":"0.000"}]
[31,{"v":96597,"d":"96,597"},{"v":66982.94905563515,"d":"66,983"},{"$f":"SUM(C36:$C$125)","v":{"v":2266839.817685156,"d":"2,266,840"}},{"v":0,"d":"0.000"},null,31,{"v":96597,"d":"96,597"},{"v":133514.08424991433,"d":"133,514"},{"$f":"SUM($I36:I$125)","v":{"v":7616307.9679791145,"d":"7,616,308"}},{"v":0,"d":"0.000"}]
[32,{"v":96429,"d":"96,429"},{"v":66081.40624623676,"d":"66,081"},{"$f":"SUM(C37:$C$125)","v":{"v":2199856.8686295203,"d":"2,199,857"}},{"v":0,"d":"0.000"},null,32,{"v":96429,"d":"96,429"},{"v":134680.71401783792,"d":"134,681"},{"$f":"SUM($I37:I$125)","v":{"v":7482793.883729201,"d":"7,482,794"}},{"v":0,"d":"0.000"}]
[33,{"v":96255,"d":"96,255"},{"v":65187.73624323919,"d":"65,188"},{"$f":"SUM(C38:$C$125)","v":{"v":2133775.462383284,"d":"2,133,775"}},{"v":0,"d":"0.000"},null,33,{"v":96255,"d":"96,255"},{"v":135848.6572365008,"d":"135,849"},{"$f":"SUM($I38:I$125)","v":{"v":7348113.169711362,"d":"7,348,113"}},{"v":0,"d":"0.000"}]
[34,{"v":96071,"d":"96,071"},{"v":64299.24900497741,"d":"64,299"},{"$f":"SUM(C39:$C$125)","v":{"v":2068587.7261400446,"d":"2,068,588"}},{"v":0,"d":"0.000"},null,34,{"v":96071,"d":"96,071"},{"v":137012.0194799269,"d":"137,012"},{"$f":"SUM($I39:I$125)","v":{"v":7212264.512474861,"d":"7,212,265"}},{"v":0,"d":"0.000"}]
[35,{"v":95878,"d":"95,878"},{"v":63416.686027132746,"d":"63,417"},{"$f":"SUM(C40:$C$125)","v":{"v":2004288.4771350669,"d":"2,004,288"}},{"v":0,"d":"0.000"},null,35,{"v":95878,"d":"95,878"},{"v":138171.86738205102,"d":"138,172"},{"$f":"SUM($I40:I$125)","v":{"v":7075252.492994933,"d":"7,075,252"}},{"v":0,"d":"0.000"}]
[36,{"v":95676,"d":"95,676"},{"v":62540.10056076021,"d":"62,540"},{"$f":"SUM(C41:$C$125)","v":{"v":1940871.7911079344,"d":"1,940,872"}},{"v":0,"d":"0.000"},null,36,{"v":95676,"d":"95,676"},{"v":139327.862903114,"d":"139,328"},{"$f":"SUM($I41:I$125)","v":{"v":6937080.625612883,"d":"6,937,081"}},{"v":0,"d":"0.000"}]
[37,{"v":95463,"d":"95,463"},{"v":61668.250987126274,"d":"61,668"},{"$f":"SUM(C42:$C$125)","v":{"v":1878331.6905471743,"d":"1,878,332"}},{"v":0,"d":"0.000"},null,37,{"v":95463,"d":"95,463"},{"v":140476.71680510757,"d":"140,477"},{"$f":"SUM($I42:I$125)","v":{"v":6797752.7627097685,"d":"6,797,753"}},{"v":0,"d":"0.000"}]
[38,{"v":95237,"d":"95,237"},{"v":60799.95354424685,"d":"60,800"},{"$f":"SUM(C43:$C$125)","v":{"v":1816663.4395600483,"d":"1,816,663"}},{"v":0,"d":"0.000"},null,38,{"v":95237,"d":"95,237"},{"v":141615.0080108068,"d":"141,615"},{"$f":"SUM($I43:I$125)","v":{"v":6657276.0459046615,"d":"6,657,276"}},{"v":0,"d":"0.000"}]
[39,{"v":94997,"d":"94,997"},{"v":59934.71152637905,"d":"59,935"},{"$f":"SUM(C44:$C$125)","v":{"v":1755863.4860158013,"d":"1,755,863"}},{"v":0,"d":"0.000"},null,39,{"v":94997,"d":"94,997"},{"v":142740.68279194893,"d":"142,741"},{"$f":"SUM($I44:I$125)","v":{"v":6515661.037893854,"d":"6,515,661"}},{"v":0,"d":"0.000"}]
[40,{"v":94746,"d":"94,746"},{"v":59074.54708938274,"d":"59,075"},{"$f":"SUM(C45:$C$125)","v":{"v":1695928.7744894223,"d":"1,695,929"}},{"v":0,"d":"0.000"},null,40,{"v":94746,"d":"94,746"},{"v":143857.68520934618,"d":"143,858"},{"$f":"SUM($I45:I$125)","v":{"v":6372920.355101906,"d":"6,372,920"}},{"v":0,"d":"0.000"}]
[41,{"v":94476,"d":"94,476"},{"v":58214.6113211474,"d":"58,215"},{"$f":"SUM(C46:$C$125)","v":{"v":1636854.2274000398,"d":"1,636,854"}},{"v":0,"d":"0.000"},null,41,{"v":94476,"d":"94,476"},{"v":144953.25964566835,"d":"144,953"},{"$f":"SUM($I46:I$125)","v":{"v":6229062.66989256,"d":"6,229,063"}},{"v":0,"d":"0.000"}]
[42,{"v":94182,"d":"94,182"},{"v":57352.110120392295,"d":"57,352"},{"$f":"SUM(C47:$C$125)","v":{"v":1578639.6160788923,"d":"1,578,640"}},{"v":0,"d":"0.000"},null,42,{"v":94182,"d":"94,182"},{"v":146018.77537373864,"d":"146,019"},{"$f":"SUM($I47:I$125)","v":{"v":6084109.410246892,"d":"6,084,109"}},{"v":0,"d":"0.000"}]
[43,{"v":93868,"d":"93,868"},{"v":56489.80104656971,"d":"56,490"},{"$f":"SUM(C48:$C$125)","v":{"v":1521287.5059584999,"d":"1,521,288"}},{"v":0,"d":"0.000"},null,43,{"v":93868,"d":"93,868"},{"v":147059.35688407585,"d":"147,059"},{"$f":"SUM($I48:I$125)","v":{"v":5938090.634873154,"d":"5,938,091"}},{"v":0,"d":"0.000"}]
[44,{"v":93515,"d":"93,515"},{"v":55616.63982017179,"d":"55,617"},{"$f":"SUM(C49:$C$125)","v":{"v":1464797.7049119305,"d":"1,464,798"}},{"v":0,"d":"0.000"},null,44,{"v":93515,"d":"93,515"},{"v":148043.95559834875,"d":"148,044"},{"$f":"SUM($I49:I$125)","v":{"v":5791031.277989078,"d":"5,791,031"}},{"v":0,"d":"0.000"}]
[45,{"v":93133,"d":"93,133"},{"v":54739.149963736476,"d":"54,739"},{"$f":"SUM(C50:$C$125)","v":{"v":1409181.0650917585,"d":"1,409,181"}},{"v":0,"d":"0.000"},null,45,{"v":93133,"d":"93,133"},{"v":148986.63097889436,"d":"148,987"},{"$f":"SUM($I50:I$125)","v":{"v":5642987.32239073,"d":"5,642,987"}},{"v":0,"d":"0.000"}]
[46,{"v":92727,"d":"92,727"},{"v":53860.65784926272,"d":"53,861"},{"$f":"SUM(C51:$C$125)","v":{"v":1354441.915128022,"d":"1,354,442"}},{"v":0,"d":"0.000"},null,46,{"v":92727,"d":"92,727"},{"v":149893.99021902648,"d":"149,894"},{"$f":"SUM($I51:I$125)","v":{"v":5494000.691411835,"d":"5,494,001"}},{"v":0,"d":"0.000"}]
[47,{"v":92295,"d":"92,295"},{"v":52980.32356716344,"d":"52,980"},{"$f":"SUM(C52:$C$125)","v":{"v":1300581.2572787595,"d":"1,300,581"}},{"v":0,"d":"0.000"},null,47,{"v":92295,"d":"92,295"},{"v":150761.51404631234,"d":"150,762"},{"$f":"SUM($I52:I$125)","v":{"v":5344106.701192809,"d":"5,344,107"}},{"v":0,"d":"0.000"}]
[48,{"v":91833,"d":"91,833"},{"v":52096.217518183366,"d":"52,096"},{"$f":"SUM(C53:$C$125)","v":{"v":1247600.9337115958,"d":"1,247,601"}},{"v":0,"d":"0.000"},null,48,{"v":91833,"d":"91,833"},{"v":151581.21813095367,"d":"151,581"},{"$f":"SUM($I53:I$125)","v":{"v":5193345.187146498,"d":"5,193,345"}},{"v":0,"d":"0.000"}]
[49,{"v":91332,"d":"91,332"},{"v":51203.703727900924,"d":"51,204"},{"$f":"SUM(C54:$C$125)","v":{"v":1195504.7161934122,"d":"1,195,505"}},{"v":0,"d":"0.000"},null,49,{"v":91332,"d":"91,332"},{"v":152336.4719570907,"d":"152,336"},{"$f":"SUM($I54:I$125)","v":{"v":5041763.969015544,"d":"5,041,764"}},{"v":0,"d":"0.000"}]
[50,{"v":90778,"d":"90,778"},{"v":50295.60147883679,"d":"50,296"},{"$f":"SUM(C55:$C$125)","v":{"v":1144301.0124655112,"d":"1,144,301"}},{"v":0,"d":"0.000"},null,50,{"v":90778,"d":"90,778"},{"v":153001.55339881155,"d":"153,002"},{"$f":"SUM($I55:I$125)","v":{"v":4889427.497058453,"d":"4,889,427"}},{"v":0,"d":"0.000"}]
[51,{"v":90171,"d":"90,171"},{"v":49372.74458496482,"d":"49,373"},{"$f":"SUM(C56:$C$125)","v":{"v":1094005.4109866747,"d":"1,094,005"}},{"v":0,"d":"0.000"},null,51,{"v":90171,"d":"90,171"},{"v":153573.54895529768,"d":"153,574"},{"$f":"SUM($I56:I$125)","v":{"v":4736425.943659643,"d":"4,736,426"}},{"v":0,"d":"0.000"}]
[52,{"v":89511,"d":"89,511"},{"v":48435.94538252285,"d":"48,436"},{"$f":"SUM(C57:$C$125)","v":{"v":1044632.6664017098,"d":"1,044,633"}},{"v":0,"d":"0.000"},null,52,{"v":89511,"d":"89,511"},{"v":154049.4840624403,"d":"154,049"},{"$f":"SUM($I57:I$125)","v":{"v":4582852.394704344,"d":"4,582,852"}},{"v":0,"d":"0.000"}]
[53,{"v":88791,"d":"88,791"},{"v":47482.25181722621,"d":"47,482"},{"$f":"SUM(C58:$C$125)","v":{"v":996196.7210191867,"d":"996,197"}},{"v":0,"d":"0.000"},null,53,{"v":88791,"d":"88,791"},{"v":154414.14850845528,"d":"154,414"},{"$f":"SUM($I58:I$125)","v":{"v":4428802.910641904,"d":"4,428,803"}},{"v":0,"d":"0.000"}]
[54,{"v":88011,"d":"88,011"},{"v":46512.56641935331,"d":"46,513"},{"$f":"SUM(C59:$C$125)","v":{"v":948714.4692019605,"d":"948,714"}},{"v":0,"d":"0.000"},null,54,{"v":88011,"d":"88,011"},{"v":154664.0590988432,"d":"154,664"},{"$f":"SUM($I59:I$125)","v":{"v":4274388.762133448,"d":"4,274,389"}},{"v":0,"d":"0.000"}]
[55,{"v":87165,"d":"87,165"},{"v":45524.63474605165,"d":"45,525"},{"$f":"SUM(C60:$C$125)","v":{"v":902201.9027826072,"d":"902,202"}},{"v":0,"d":"0.000"},null,55,{"v":87165,"d":"87,165"},{"v":154785.00566664824,"d":"154,785"},{"$f":"SUM($I60:I$125)","v":{"v":4119724.7030346044,"d":"4,119,725"}},{"v":0,"d":"0.000"}]
[56,{"v":86241,"d":"86,241"},{"v":44513.229811248224,"d":"44,513"},{"$f":"SUM(C61:$C$125)","v":{"v":856677.2680365556,"d":"856,677"}},{"v":0,"d":"0.000"},null,56,{"v":86241,"d":"86,241"},{"v":154751.4906987544,"d":"154,751"},{"$f":"SUM($I61:I$125)","v":{"v":3964939.6973679564,"d":"3,964,940"}},{"v":0,"d":"0.000"}]
[57,{"v":85256,"d":"85,256"},{"v":43488.18315733994,"d":"43,488"},{"$f":"SUM(C62:$C$125)","v":{"v":812164.0382253075,"d":"812,164"}},{"v":0,"d":"0.000"},null,57,{"v":85256,"d":"85,256"},{"v":154589.61474855695,"d":"154,590"},{"$f":"SUM($I62:I$125)","v":{"v":3810188.206669202,"d":"3,810,188"}},{"v":0,"d":"0.000"}]
[58,{"v":84211,"d":"84,211"},{"v":42450.82393046781,"d":"42,451"},{"$f":"SUM(C63:$C$125)","v":{"v":768675.8550679676,"d":"768,676"}},{"v":0,"d":"0.000"},null,58,{"v":84211,"d":"84,211"},{"v":154297.35853827297,"d":"154,297"},{"$f":"SUM($I63:I$125)","v":{"v":3655598.591920645,"d":"3,655,599"}},{"v":0,"d":"0.000"}]
[59,{"v":83083,"d":"83,083"},{"v":41390.47944661238,"d":"41,390"},{"$f":"SUM(C64:$C$125)","v":{"v":726225.0311374997,"d":"726,225"}},{"v":0,"d":"0.000"},null,59,{"v":83083,"d":"83,083"},{"v":153828.26479420034,"d":"153,828"},{"$f":"SUM($I64:I$125)","v":{"v":3501301.233382372,"d":"3,501,301"}},{"v":0,"d":"0.000"}]
[60,{"v":81884,"d":"81,884"},{"v":40314.22587396178,"d":"40,314"},{"$f":"SUM(C65:$C$125)","v":{"v":684834.5516908874,"d":"684,835"}},{"v":0,"d":"0.000"},null,60,{"v":81884,"d":"81,884"},{"v":153199.49211214122,"d":"153,199"},{"$f":"SUM($I65:I$125)","v":{"v":3347472.968588172,"d":"3,347,473"}},{"v":0,"d":"0.000"}]
[61,{"v":80602,"d":"80,602"},{"v":39217.15469266523,"d":"39,217"},{"$f":"SUM(C66:$C$125)","v":{"v":644520.3258169257,"d":"644,520"}},{"v":0,"d":"0.000"},null,61,{"v":80602,"d":"80,602"},{"v":152383.65941288928,"d":"152,384"},{"$f":"SUM($I66:I$125)","v":{"v":3194273.476476031,"d":"3,194,273"}},{"v":0,"d":"0.000"}]
[62,{"v":79243,"d":"79,243"},{"v":38103.26224518318,"d":"38,103"},{"$f":"SUM(C67:$C$125)","v":{"v":605303.1711242604,"d":"605,303"}},{"v":0,"d":"0.000"},null,62,{"v":79243,"d":"79,243"},{"v":151386.72502091047,"d":"151,387"},{"$f":"SUM($I67:I$125)","v":{"v":3041889.8170631416,"d":"3,041,890"}},{"v":0,"d":"0.000"}]
[63,{"v":77807,"d":"77,807"},{"v":36973.529422331856,"d":"36,974"},{"$f":"SUM(C68:$C$125)","v":{"v":567199.9088790772,"d":"567,200"}},{"v":0,"d":"0.000"},null,63,{"v":77807,"d":"77,807"},{"v":150203.4334841789,"d":"150,203"},{"$f":"SUM($I68:I$125)","v":{"v":2890503.0920422315,"d":"2,890,503"}},{"v":0,"d":"0.000"}]
[64,{"v":76295,"d":"76,295"},{"$f":"B69/(1+$B$1)^A69","v":{"v":35829.38091411175,"d":"35,829"}},{"$f":"SUM(C69:$C$125)","v":{"v":530226.3794567452,"d":"530,226"}},{"$f":"MAX(0,IF(OR(C69=0,D70=0),1,(D70-VLOOKUP($E$2+1,$A$6:$D$124,4,0))/C69))","v":{"v":0,"d":"0.000"}},null,64,{"v":76295,"d":"76,295"},{"$f":"H69/(1+$H$1)^G69","v":{"v":148830.3735030758,"d":"148,830"}},{"$f":"SUM($I69:I$125)","v":{"v":2740299.6585580525,"d":"2,740,300"}},{"$f":"MAX(0,IF(OR(I69=0,J70=0),1,(J70-VLOOKUP($K$2+1,$G$6:$J$124,4,0))/I69))","v":{"v":0,"d":"0.000"}}]
[65,{"v":74720,"d":"74,720"},{"v":34677.76330403315,"d":"34,678"},{"$f":"SUM(C70:$C$125)","v":{"v":494396.9985426337,"d":"494,397"}},{"v":0,"d":"0.000"},null,65,{"v":74720,"d":"74,720"},{"v":147287.76162497993,"d":"147,288"},{"$f":"SUM($I70:I$125)","v":{"v":2591469.2850549766,"d":"2,591,469"}},{"v":0,"d":"0.000"}]
[66,{"v":73075,"d":"73,075"},{"v":33516.142380582685,"d":"33,516"},{"$f":"SUM(C71:$C$125)","v":{"v":459719.2352386006,"d":"459,719"}},{"v":0,"d":"0.000"},null,66,{"v":73075,"d":"73,075"},{"v":145556.9435390243,"d":"145,557"},{"$f":"SUM($I71:I$125)","v":{"v":2444181.523429997,"d":"2,444,182"}},{"v":0,"d":"0.000"}]
[67,{"v":71366,"d":"71,366"},{"v":32348.00832456857,"d":"32,348"},{"$f":"SUM(C72:$C$125)","v":{"v":426203.0928580179,"d":"426,203"}},{"v":0,"d":"0.000"},null,67,{"v":71366,"d":"71,366"},{"v":143644.7519559274,"d":"143,645"},{"$f":"SUM($I72:I$125)","v":{"v":2298624.579890972,"d":"2,298,625"}},{"v":0,"d":"0.000"}]
[68,{"v":69559,"d":"69,559"},{"v":31158.784555168066,"d":"31,159"},{"$f":"SUM(C73:$C$125)","v":{"v":393855.0845334493,"d":"393,855"}},{"v":0,"d":"0.000"},null,68,{"v":69559,"d":"69,559"},{"v":141477.0652964622,"d":"141,477"},{"$f":"SUM($I73:I$125)","v":{"v":2154979.8279350447,"d":"2,154,980"}},{"v":0,"d":"0.000"}]
[69,{"v":67655,"d":"67,655"},{"v":29950.085380337852,"d":"29,950"},{"$f":"SUM(C74:$C$125)","v":{"v":362696.29997828125,"d":"362,696"}},{"v":0,"d":"0.000"},null,69,{"v":67655,"d":"67,655"},{"v":139048.69448549495,"d":"139,049"},{"$f":"SUM($I74:I$125)","v":{"v":2013502.7626385821,"d":"2,013,503"}},{"v":0,"d":"0.000"}]
[70,{"v":65649,"d":"65,649"},{"v":28720.848717411565,"d":"28,721"},{"$f":"SUM(C75:$C$125)","v":{"v":332746.2145979434,"d":"332,746"}},{"v":0,"d":"0.000"},null,70,{"v":65649,"d":"65,649"},{"v":136341.9298638248,"d":"136,342"},{"$f":"SUM($I75:I$125)","v":{"v":1874454.0681530873,"d":"1,874,454"}},{"v":0,"d":"0.000"}]
[71,{"v":63543,"d":"63,543"},{"v":27473.112034409565,"d":"27,473"},{"$f":"SUM(C76:$C$125)","v":{"v":304025.3658805319,"d":"304,025"}},{"v":0,"d":"0.000"},null,71,{"v":63543,"d":"63,543"},{"v":133353.16922172476,"d":"133,353"},{"$f":"SUM($I76:I$125)","v":{"v":1738112.1382892623,"d":"1,738,112"}},{"v":0,"d":"0.000"}]
[72,{"v":61285,"d":"61,285"},{"v":26185.76828932871,"d":"26,186"},{"$f":"SUM(C77:$C$125)","v":{"v":276552.2538461223,"d":"276,552"}},{"v":0,"d":"0.000"},null,72,{"v":61285,"d":"61,285"},{"v":129964.31482491616,"d":"129,964"},{"$f":"SUM($I77:I$125)","v":{"v":1604758.9690675372,"d":"1,604,759"}},{"v":0,"d":"0.000"}]
[73,{"v":58911,"d":"58,911"},{"v":24875.88342540297,"d":"24,876"},{"$f":"SUM(C78:$C$125)","v":{"v":250366.48555679352,"d":"250,366"}},{"v":0,"d":"0.000"},null,73,{"v":58911,"d":"58,911"},{"v":126241.05942912881,"d":"126,241"},{"$f":"SUM($I78:I$125)","v":{"v":1474794.654242621,"d":"1,474,795"}},{"v":0,"d":"0.000"}]
[74,{"v":56416,"d":"56,416"},{"v":23542.652735310723,"d":"23,543"},{"$f":"SUM(C79:$C$125)","v":{"v":225490.60213139054,"d":"225,491"}},{"v":0,"d":"0.000"},null,74,{"v":56416,"d":"56,416"},{"v":122163.32112224164,"d":"122,163"},{"$f":"SUM($I79:I$125)","v":{"v":1348553.5948134921,"d":"1,348,554"}},{"v":0,"d":"0.000"}]
[75,{"v":53818,"d":"53,818"},{"v":22194.821074923595,"d":"22,195"},{"$f":"SUM(C80:$C$125)","v":{"v":201947.9493960798,"d":"201,948"}},{"v":0,"d":"0.000"},null,75,{"v":53818,"d":"53,818"},{"v":117760.70560597746,"d":"117,761"},{"$f":"SUM($I80:I$125)","v":{"v":1226390.2736912507,"d":"1,226,390"}},{"v":0,"d":"0.000"}]
[76,{"v":51086,"d":"51,086"},{"v":20820.779310756716,"d":"20,821"},{"$f":"SUM(C81:$C$125)","v":{"v":179753.1283211562,"d":"179,753"}},{"v":0,"d":"0.000"},null,76,{"v":51086,"d":"51,086"},{"v":112955.93336180797,"d":"112,956"},{"$f":"SUM($I81:I$125)","v":{"v":1108629.568085273,"d":"1,108,630"}},{"v":0,"d":"0.000"}]
[77,{"v":48251,"d":"48,251"},{"v":19434.455986671983,"d":"19,434"},{"$f":"SUM(C82:$C$125)","v":{"v":158932.34901039948,"d":"158,932"}},{"v":0,"d":"0.000"},null,77,{"v":48251,"d":"48,251"},{"v":107807.20149554216,"d":"107,807"},{"$f":"SUM($I82:I$125)","v":{"v":995673.6347234652,"d":"995,674"}},{"v":0,"d":"0.000"}]
[78,{"v":45284,"d":"45,284"},{"v":18025.27251869957,"d":"18,025"},{"$f":"SUM(C83:$C$125)","v":{"v":139497.89302372755,"d":"139,498"}},{"v":0,"d":"0.000"},null,78,{"v":45284,"d":"45,284"},{"v":102239.92927782272,"d":"102,240"},{"$f":"SUM($I83:I$125)","v":{"v":887866.4332279231,"d":"887,866"}},{"v":0,"d":"0.000"}]
[79,{"v":42203,"d":"42,203"},{"v":16601.65442533773,"d":"16,602"},{"$f":"SUM(C84:$C$125)","v":{"v":121472.62050502795,"d":"121,473"}},{"v":0,"d":"0.000"},null,79,{"v":42203,"d":"42,203"},{"v":96283.83659462552,"d":"96,284"},{"$f":"SUM($I84:I$125)","v":{"v":785626.5039501004,"d":"785,627"}},{"v":0,"d":"0.000"}]
[80,{"v":39041,"d":"39,041"},{"v":15177.490395679091,"d":"15,177"},{"$f":"SUM(C85:$C$125)","v":{"v":104870.96607969022,"d":"104,871"}},{"v":0,"d":"0.000"},null,80,{"v":39041,"d":"39,041"},{"v":90004.72329492439,"d":"90,005"},{"$f":"SUM($I85:I$125)","v":{"v":689342.6673554749,"d":"689,343"}},{"v":0,"d":"0.000"}]
[81,{"v":35824,"d":"35,824"},{"v":13763.348213136189,"d":"13,763"},{"$f":"SUM(C86:$C$125)","v":{"v":89693.47568401114,"d":"89,693"}},{"v":0,"d":"0.000"},null,81,{"v":35824,"d":"35,824"},{"v":83455.07441171924,"d":"83,455"},{"$f":"SUM($I86:I$125)","v":{"v":599337.9440605507,"d":"599,338"}},{"v":0,"d":"0.000"}]
[82,{"v":32518,"d":"32,518"},{"v":12346.527727891737,"d":"12,347"},{"$f":"SUM(C87:$C$125)","v":{"v":75930.12747087496,"d":"75,930"}},{"v":0,"d":"0.000"},null,82,{"v":32518,"d":"32,518"},{"v":76548.52095021463,"d":"76,549"},{"$f":"SUM($I87:I$125)","v":{"v":515882.8696488315,"d":"515,883"}},{"v":0,"d":"0.000"}]
[83,{"v":29220,"d":"29,220"},{"v":10964.080331936091,"d":"10,964"},{"$f":"SUM(C88:$C$125)","v":{"v":63583.59974298322,"d":"63,584"}},{"v":0,"d":"0.000"},null,83,{"v":29220,"d":"29,220"},{"v":69506.83179066076,"d":"69,507"},{"$f":"SUM($I88:I$125)","v":{"v":439334.34869861684,"d":"439,334"}},{"v":0,"d":"0.000"}]
[84,{"v":25962,"d":"25,962"},{"v":9627.225196348585,"d":"9,627"},{"$f":"SUM(C89:$C$125)","v":{"v":52619.51941104713,"d":"52,620"}},{"v":0,"d":"0.000"},null,84,{"v":25962,"d":"25,962"},{"v":62405.04947714953,"d":"62,405"},{"$f":"SUM($I89:I$125)","v":{"v":369827.51690795604,"d":"369,828"}},{"v":0,"d":"0.000"}]
[85,{"v":22780,"d":"22,780"},{"v":8348.100963481991,"d":"8,348"},{"$f":"SUM(C90:$C$125)","v":{"v":42992.294214698544,"d":"42,992"}},{"v":0,"d":"0.000"},null,85,{"v":22780,"d":"22,780"},{"v":55331.139036392604,"d":"55,331"},{"$f":"SUM($I90:I$125)","v":{"v":307422.4674308065,"d":"307,422"}},{"v":0,"d":"0.000"}]
[86,{"v":19725,"d":"19,725"},{"v":7143.67968345894,"d":"7,144"},{"$f":"SUM(C91:$C$125)","v":{"v":34644.19325121656,"d":"34,644"}},{"v":0,"d":"0.000"},null,86,{"v":19725,"d":"19,725"},{"v":48413.58101385189,"d":"48,414"},{"$f":"SUM($I91:I$125)","v":{"v":252091.3283944138,"d":"252,091"}},{"v":0,"d":"0.000"}]
[87,{"v":16843,"d":"16,843"},{"v":6028.307504489201,"d":"6,028"},{"$f":"SUM(C92:$C$125)","v":{"v":27500.51356775763,"d":"27,501"}},{"v":0,"d":"0.000"},null,87,{"v":16843,"d":"16,843"},{"v":41773.79668845519,"d":"41,774"},{"$f":"SUM($I92:I$125)","v":{"v":203677.74738056195,"d":"203,678"}},{"v":0,"d":"0.000"}]
[88,{"v":14133,"d":"14,133"},{"v":4998.978809939304,"d":"4,999"},{"$f":"SUM(C93:$C$125)","v":{"v":21472.206063268426,"d":"21,472"}},{"v":0,"d":"0.000"},null,88,{"v":14133,"d":"14,133"},{"v":35420.375718650335,"d":"35,420"},{"$f":"SUM($I93:I$125)","v":{"v":161903.95069210674,"d":"161,904"}},{"v":0,"d":"0.000"}]
[89,{"v":11625,"d":"11,625"},{"v":4063.599389059461,"d":"4,064"},{"$f":"SUM(C94:$C$125)","v":{"v":16473.227253329114,"d":"16,473"}},{"v":0,"d":"0.000"},null,89,{"v":11625,"d":"11,625"},{"v":29440.56028470916,"d":"29,441"},{"$f":"SUM($I94:I$125)","v":{"v":126483.57497345637,"d":"126,484"}},{"v":0,"d":"0.000"}]
[90,{"v":9389,"d":"9,389"},{"v":3243.457799949867,"d":"3,243"},{"$f":"SUM(C95:$C$125)","v":{"v":12409.62786426965,"d":"12,410"}},{"v":0,"d":"0.000"},null,90,{"v":9389,"d":"9,389"},{"v":24027.398588610733,"d":"24,027"},{"$f":"SUM($I95:I$125)","v":{"v":97043.01468874722,"d":"97,043"}},{"v":0,"d":"0.000"}]
[91,{"v":7438,"d":"7,438"},{"v":2539.312056381553,"d":"2,539"},{"$f":"SUM(C96:$C$125)","v":{"v":9166.170064319786,"d":"9,166"}},{"v":0,"d":"0.000"},null,91,{"v":7438,"d":"7,438"},{"v":19234.366741629372,"d":"19,234"},{"$f":"SUM($I96:I$125)","v":{"v":73015.6161001365,"d":"73,016"}},{"v":0,"d":"0.000"}]
[92,{"v":5763,"d":"5,763"},{"v":1944.3726704920978,"d":"1,944"},{"$f":"SUM(C97:$C$125)","v":{"v":6626.85800793823,"d":"6,627"}},{"v":0,"d":"0.000"},null,92,{"v":5763,"d":"5,763"},{"v":15059.29506129195,"d":"15,059"},{"$f":"SUM($I97:I$125)","v":{"v":53781.249358507135,"d":"53,781"}},{"v":0,"d":"0.000"}]
[93,{"v":4350,"d":"4,350"},{"v":1450.4111623530068,"d":"1,450"},{"$f":"SUM(C98:$C$125)","v":{"v":4682.485337446134,"d":"4,682"}},{"v":0,"d":"0.000"},null,93,{"v":4350,"d":"4,350"},{"v":11486.284913493177,"d":"11,486"},{"$f":"SUM($I98:I$125)","v":{"v":38721.95429721518,"d":"38,722"}},{"v":0,"d":"0.000"}]
[94,{"v":3211,"d":"3,211"},{"v":1058.0670013380138,"d":"1,058"},{"$f":"SUM(C99:$C$125)","v":{"v":3232.0741750931275,"d":"3,232"}},{"v":0,"d":"0.000"},null,94,{"v":3211,"d":"3,211"},{"v":8567.713546178113,"d":"8,568"},{"$f":"SUM($I99:I$125)","v":{"v":27235.669383722023,"d":"27,236"}},{"v":0,"d":"0.000"}]
[95,{"v":2315,"d":"2,315"},{"v":753.8671994018755,"d":"754"},{"$f":"SUM(C100:$C$125)","v":{"v":2174.007173755114,"d":"2,174"}},{"v":0,"d":"0.000"},null,95,{"v":2315,"d":"2,315"},{"v":6241.801197703667,"d":"6,242"},{"$f":"SUM($I100:I$125)","v":{"v":18667.95583754391,"d":"18,668"}},{"v":0,"d":"0.000"}]
[96,{"v":1635,"d":"1,635"},{"v":526.1778926064902,"d":"526"},{"$f":"SUM(C101:$C$125)","v":{"v":1420.1399743532377,"d":"1,420"}},{"v":0,"d":"0.000"},null,96,{"v":1635,"d":"1,635"},{"v":4454.6234448812975,"d":"4,455"},{"$f":"SUM($I101:I$125)","v":{"v":12426.154639840237,"d":"12,426"}},{"v":0,"d":"0.000"}]
[97,{"v":1115,"d":"1,115"},{"v":354.61793420539317,"d":"355"},{"$f":"SUM(C102:$C$125)","v":{"v":893.9620817467477,"d":"894"}},{"v":0,"d":"0.000"},null,97,{"v":1115,"d":"1,115"},{"v":3069.745797126532,"d":"3,070"},{"$f":"SUM($I102:I$125)","v":{"v":7971.531194958941,"d":"7,972"}},{"v":0,"d":"0.000"}]
[98,740,{"v":232.5886595602901,"d":"233"},{"$f":"SUM(C103:$C$125)","v":{"v":539.3441475413545,"d":"539"}},{"v":0,"d":"0.000"},null,98,740,{"v":2058.702397930337,"d":"2,059"},{"$f":"SUM($I103:I$125)","v":{"v":4901.785397832408,"d":"4,902"}},{"v":0,"d":"0.000"}]
[99,453,{"v":140.71033791637964,"d":"141"},{"$f":"SUM(C104:$C$125)","v":{"v":306.7554879810644,"d":"307"}},{"v":0,"d":"0.000"},null,99,453,{"v":1273.4865346352199,"d":"1,273"},{"$f":"SUM($I104:I$125)","v":{"v":2843.082999902071,"d":"2,843"}},{"v":0,"d":"0.000"}]
[100,263,{"v":80.73364123398979,"d":"81"},{"$f":"SUM(C105:$C$125)","v":{"v":166.04515006468466,"d":"166"}},{"v":0,"d":"0.000"},null,100,263,{"v":747.1128537734774,"d":"747"},{"$f":"SUM($I105:I$125)","v":{"v":1569.5964652668513,"d":"1,570"}},{"v":0,"d":"0.000"}]
[101,145,{"v":43.988361155136744,"d":"44"},{"$f":"SUM(C106:$C$125)","v":{"v":85.31150883069489,"d":"85"}},{"v":0,"d":"0.000"},null,101,145,{"v":416.2294131369151,"d":"416"},{"$f":"SUM($I106:I$125)","v":{"v":822.4836114933739,"d":"822"}},{"v":0,"d":"0.000"}]
[102,76,{"v":22.785279485167198,"d":"23"},{"$f":"SUM(C107:$C$125)","v":{"v":41.32314767555815,"d":"41"}},{"v":0,"d":"0.000"},null,102,76,{"v":220.45129853798719,"d":"220"},{"$f":"SUM($I107:I$125)","v":{"v":406.25419835645874,"d":"406"}},{"v":0,"d":"0.000"}]
[103,37,{"v":10.96259777203645,"d":"11"},{"$f":"SUM(C108:$C$125)","v":{"v":18.537868190390952,"d":"19"}},{"v":0,"d":"0.000"},null,103,37,{"v":108.45138377052201,"d":"108"},{"$f":"SUM($I108:I$125)","v":{"v":185.8028998184716,"d":"186"}},{"v":0,"d":"0.000"}]
[104,17,{"v":4.977733769430509,"d":"5"},{"$f":"SUM(C109:$C$125)","v":{"v":7.5752704183545,"d":"8"}},{"v":0,"d":"0.000"},null,104,17,{"v":50.35198539702653,"d":"50"},{"$f":"SUM($I109:I$125)","v":{"v":77.35151604794959,"d":"77"}},{"v":0,"d":"0.000"}]
[105,7,{"v":2.025591059740493,"d":"2"},{"$f":"SUM(C110:$C$125)","v":{"v":2.597536648923991,"d":"3"}},{"v":0,"d":"0.000"},null,105,7,{"v":20.95077162597852,"d":"21"},{"$f":"SUM($I110:I$125)","v":{"v":26.999530650923045,"d":"27"}},{"v":0,"d":"0.000"}]
[106,2,{"v":0.5719455891834981,"d":"1"},{"$f":"SUM(C111:$C$125)","v":{"v":0.5719455891834981,"d":"1"}},{"v":1,"d":"1.000"},null,106,2,{"v":6.048759024944528,"d":"6"},{"$f":"SUM($I111:I$125)","v":{"v":6.048759024944528,"d":"6"}},{"v":1,"d":"1.000"}]
[107,0,0,{"$f":"SUM(C112:$C$125)","v":0},{"v":1,"d":"1.000"},null,107,0,0,{"$f":"SUM($I112:I$125)","v":0},{"v":1,"d":"1.000"}]
[108,0,0,{"$f":"SUM(C113:$C$125)","v":0},{"v":1,"d":"1.000"},null,108,0,0,{"$f":"SUM($I113:I$125)","v":0},{"v":1,"d":"1.000"}]
[109,0,0,{"$f":"SUM(C114:$C$125)","v":0},{"v":1,"d":"1.000"},null,109,0,0,{"$f":"SUM($I114:I$125)","v":0},{"v":1,"d":"1.000"}]
[110,0,0,{"$f":"SUM(C115:$C$125)","v":0},{"v":1,"d":"1.000"},null,110,0,0,{"$f":"SUM($I115:I$125)","v":0},{"v":1,"d":"1.000"}]
[111,0,0,{"$f":"SUM(C116:$C$125)","v":0},{"v":1,"d":"1.000"},null,111,0,0,{"$f":"SUM($I116:I$125)","v":0},{"v":1,"d":"1.000"}]
[112,0,0,{"$f":"SUM(C117:$C$125)","v":0},{"v":1,"d":"1.000"},null,112,0,0,{"$f":"SUM($I117:I$125)","v":0},{"v":1,"d":"1.000"}]
[113,0,0,{"$f":"SUM(C118:$C$125)","v":0},{"v":1,"d":"1.000"},null,113,0,0,{"$f":"SUM($I118:I$125)","v":0},{"v":1,"d":"1.000"}]
[114,0,0,{"$f":"SUM(C119:$C$125)","v":0},{"v":1,"d":"1.000"},null,114,0,0,{"$f":"SUM($I119:I$125)","v":0},{"v":1,"d":"1.000"}]
[115,0,0,{"$f":"SUM(C120:$C$125)","v":0},{"v":1,"d":"1.000"},null,115,0,0,{"$f":"SUM($I120:I$125)","v":0},{"v":1,"d":"1.000"}]
[116,0,0,{"$f":"SUM(C121:$C$125)","v":0},{"v":1,"d":"1.000"},null,116,0,0,{"$f":"SUM($I121:I$125)","v":0},{"v":1,"d":"1.000"}]
[117,0,0,{"$f":"SUM(C122:$C$125)","v":0},{"v":1,"d":"1.000"},null,117,0,0,{"$f":"SUM($I122:I$125)","v":0},{"v":1,"d":"1.000"}]
[118,0,0,{"$f":"SUM(C123:$C$125)","v":0},{"v":1,"d":"1.000"},null,118,0,0,{"$f":"SUM($I123:I$125)","v":0},{"v":1,"d":"1.000"}]
[119,0,0,{"$f":"SUM(C124:$C$125)","v":0},{"v":1,"d":"1.000"},null,119,0,0,{"$f":"SUM($I124:I$125)","v":0},{"v":1,"d":"1.000"}]
[120,0,0,{"$f":"SUM(C125:$C$125)","v":0},{"v":1,"d":"1.000"},null,120,0,0,{"$f":"SUM($I125:I$125)","v":0},{"v":1,"d":"1.000"}]
[121,0,0,{"$f":"SUM(C$125:$C126)","v":0},{"v":1,"d":"1.000"},null,121,0,0,{"$f":"SUM($I$125:I126)","v":0},{"v":1,"d":"1.000"}]
[122,0,0,{"$f":"SUM(C$125:$C127)","v":0},{"v":1,"d":"1.000"},null,122,0,0,{"$f":"SUM($I$125:I127)","v":0},{"v":1,"d":"1.000"}]
[{"$f":"A127+1","v":123},0,0,{"$f":"SUM(C$125:$C128)","v":0},{"v":1,"d":"1.000"},null,{"$f":"G127+1","v":123},0,{"$f":"H128/(1+$B$1)^G128","v":0},{"$f":"SUM($C$125:I128)","v":490},{"$f":"MAX(0,IF(OR(I128=0,J129=0),1,(J129-VLOOKUP($E$2+1,$A$6:$D$124,4,0))/I128))","v":{"v":1,"d":"1.000"}}]
[{"$f":"A128+1","v":124},0,0,{"$f":"SUM(C$125:$C129)","v":0},{"v":1,"d":"1.000"},null,{"$f":"G128+1","v":124},0,0,{"$f":"SUM($C$125:I129)","v":615},{"v":1,"d":"1.000"}]
[{"$f":"A129+1","v":125},0,0,{"$f":"SUM(C$125:$C130)","v":0},{"v":1,"d":"1.000"},null,{"$f":"G129+1","v":125},0,0,{"$f":"SUM($C$125:I130)","v":741},{"v":1,"d":"1.000"}]
[126,0,0,{"$f":"SUM(C$125:$C131)","v":0},{"v":1,"d":"1.000"},null,126,0,0,{"$f":"SUM($C$125:I131)","v":868},{"v":1,"d":"1.000"}]
[127,0,0,{"$f":"SUM(C$125:$C132)","v":0},{"v":1,"d":"1.000"},null,127,0,0,{"$f":"SUM($C$125:I132)","v":996},{"v":1,"d":"1.000"}]
[128,0,{"$f":"B133/(1+$B$1)^A133","v":0},{"$f":"SUM(C$125:$C133)","v":0},{"$f":"MAX(0,IF(OR(C133=0,D134=0),1,(D134-VLOOKUP($E$2+1,$A$6:$D$124,4,0))/C133))","v":{"v":1,"d":"1.000"}},null,128,0,0,{"$f":"SUM($C$125:I133)","v":{"v":1125,"d":"1,125"}},{"v":1,"d":"1.000"}]
[129,0,0,{"$f":"SUM(C$125:$C134)","v":0},{"v":1,"d":"1.000"},null,129,0,0,{"$f":"SUM($C$125:I134)","v":{"v":1255,"d":"1,255"}},{"v":1,"d":"1.000"}]
[130,0,0,{"$f":"SUM(C$125:$C135)","v":0},{"v":1,"d":"1.000"},null,130,0,0,{"$f":"SUM($C$125:I135)","v":{"v":1386,"d":"1,386"}},{"v":1,"d":"1.000"}]
[131,0,0,{"$f":"SUM(C$125:$C136)","v":0},{"v":1,"d":"1.000"},null,131,0,0,{"$f":"SUM($C$125:I136)","v":{"v":1518,"d":"1,518"}},{"v":1,"d":"1.000"}]
[132,0,0,{"$f":"SUM(C$125:$C137)","v":0},{"v":1,"d":"1.000"},null,132,0,0,{"$f":"SUM($C$125:I137)","v":{"v":1651,"d":"1,651"}},{"v":1,"d":"1.000"}]
[133,0,0,0,{"v":1,"d":"1.000"},null,133,0,0,0,{"v":1,"d":"1.000"}]
[134,0,0,0,{"v":1,"d":"1.000"},null,134,0,0,0,{"v":1,"d":"1.000"}]
[135,0,0,0,{"v":1,"d":"1.000"},null,135,0,0,0,{"v":1,"d":"1.000"}]
[136,0,0,0,{"v":1,"d":"1.000"},null,136,0,0,0,{"v":1,"d":"1.000"}]
[137,0,0,0,{"v":1,"d":"1.000"},null,137,0,0,0,{"v":1,"d":"1.000"}]
[138,0,0,0,{"v":1,"d":"1.000"},null,138,0,0,0,{"v":1,"d":"1.000"}]
[139,0,0,0,{"v":1,"d":"1.000"},null,139,0,0,0,{"v":1,"d":"1.000"}]
[140,0,0,0,{"v":1,"d":"1.000"},null,140,0,0,0,{"v":1,"d":"1.000"}]
[141,0,0,0,{"v":1,"d":"1.000"},null,141,0,0,0,{"v":1,"d":"1.000"}]
[142,0,0,0,{"v":1,"d":"1.000"},null,142,0,0,0,{"v":1,"d":"1.000"}]
[143,0,0,0,{"v":1,"d":"1.000"},null,143,0,0,0,{"v":1,"d":"1.000"}]
[144,0,0,0,{"v":1,"d":"1.000"},null,144,0,0,0,{"v":1,"d":"1.000"}]
[145,0,0,0,{"v":1,"d":"1.000"},null,145,0,0,0,{"v":1,"d":"1.000"}]
[146,0,0,0,{"v":1,"d":"1.000"},null,146,0,0,0,{"v":1,"d":"1.000"}]
[147,0,0,0,{"v":1,"d":"1.000"},null,147,0,0,0,{"v":1,"d":"1.000"}]
[148,0,0,0,{"v":1,"d":"1.000"},null,148,0,0,0,{"v":1,"d":"1.000"}]
[149,0,0,0,{"v":1,"d":"1.000"},null,149,0,0,0,{"v":1,"d":"1.000"}]
[150,0,0,0,{"v":1,"d":"1.000"},null,150,0,0,0,{"v":1,"d":"1.000"}]
[151,0,0,0,{"v":1,"d":"1.000"},null,151,0,0,0,{"v":1,"d":"1.000"}]
[152,0,0,0,{"v":1,"d":"1.000"},null,152,0,0,0,{"v":1,"d":"1.000"}]
[153,0,0,0,{"v":1,"d":"1.000"},null,153,0,0,0,{"v":1,"d":"1.000"}]
[154,0,0,0,{"v":1,"d":"1.000"},null,154,0,0,0,{"v":1,"d":"1.000"}]
[155,0,0,0,{"v":1,"d":"1.000"},null,155,0,0,0,{"v":1,"d":"1.000"}]
[156,0,0,0,{"v":1,"d":"1.000"},null,156,0,0,0,{"v":1,"d":"1.000"}]
[157,0,0,0,{"v":1,"d":"1.000"},null,157,0,0,0,{"v":1,"d":"1.000"}]
[158,0,0,0,{"v":1,"d":"1.000"},null,158,0,0,0,{"v":1,"d":"1.000"}]
[159,0,0,0,{"v":1,"d":"1.000"},null,159,0,0,0,{"v":1,"d":"1.000"}]
[160,0,0,0,{"v":1,"d":"1.000"},null,160,0,0,0,{"v":1,"d":"1.000"}]
[161,0,0,0,{"v":1,"d":"1.000"},null,161,0,0,0,{"v":1,"d":"1.000"}]
[162,0,0,0,{"v":1,"d":"1.000"},null,162,0,0,0,{"v":1,"d":"1.000"}]
[163,0,0,0,{"v":1,"d":"1.000"},null,163,0,0,0,{"v":1,"d":"1.000"}]
[164,0,0,0,{"v":1,"d":"1.000"},null,164,0,0,0,{"v":1,"d":"1.000"}]
[165,0,0,0,{"v":1,"d":"1.000"},null,165,0,0,0,{"v":1,"d":"1.000"}]
[166,0,0,0,{"v":1,"d":"1.000"},null,166,0,0,0,{"v":1,"d":"1.000"}]
[167,0,0,0,{"v":1,"d":"1.000"},null,167,0,0,0,{"v":1,"d":"1.000"}]
[168,0,0,0,{"v":1,"d":"1.000"},null,168,0,0,0,{"v":1,"d":"1.000"}]
[169,0,0,0,{"v":1,"d":"1.000"},null,169,0,0,0,{"v":1,"d":"1.000"}]
[170,0,0,0,{"v":1,"d":"1.000"},null,170,0,0,0,{"v":1,"d":"1.000"}]
[171,0,0,0,{"v":1,"d":"1.000"},null,171,0,0,0,{"v":1,"d":"1.000"}]
[172,0,0,0,{"v":1,"d":"1.000"},null,172,0,0,0,{"v":1,"d":"1.000"}]
[173,0,0,0,{"v":1,"d":"1.000"},null,173,0,0,0,{"v":1,"d":"1.000"}]
[174,0,0,0,{"v":1,"d":"1.000"},null,174,0,0,0,{"v":1,"d":"1.000"}]
[175,0,0,0,{"v":1,"d":"1.000"},null,175,0,0,0,{"v":1,"d":"1.000"}]
[176,0,0,0,{"v":1,"d":"1.000"},null,176,0,0,0,{"v":1,"d":"1.000"}]
[177,0,0,0,{"v":1,"d":"1.000"},null,177,0,0,0,{"v":1,"d":"1.000"}]
[178,0,0,0,{"v":1,"d":"1.000"},null,178,0,0,0,{"v":1,"d":"1.000"}]
[179,0,0,0,{"v":1,"d":"1.000"},null,179,0,0,0,{"v":1,"d":"1.000"}]
[180,0,0,0,{"v":1,"d":"1.000"},null,180,0,0,0,{"v":1,"d":"1.000"}]
[181,0,0,0,{"v":1,"d":"1.000"},null,181,0,0,0,{"v":1,"d":"1.000"}]
[182,0,0,0,{"v":1,"d":"1.000"},null,182,0,0,0,{"v":1,"d":"1.000"}]
[183,0,0,0,{"v":1,"d":"1.000"},null,183,0,0,0,{"v":1,"d":"1.000"}]
[184,0,0,0,{"v":1,"d":"1.000"},null,184,0,0,0,{"v":1,"d":"1.000"}]
[185,0,0,0,{"v":1,"d":"1.000"},null,185,0,0,0,{"v":1,"d":"1.000"}]
[186,0,0,0,{"v":1,"d":"1.000"},null,186,0,0,0,{"v":1,"d":"1.000"}]
[187,0,0,0,{"v":1,"d":"1.000"},null,187,0,0,0,{"v":1,"d":"1.000"}]
[188,0,0,0,{"v":1,"d":"1.000"},null,188,0,0,0,{"v":1,"d":"1.000"}]
[{"$f":"A193+1","v":189},0,0,0,{"v":1,"d":"1.000"},null,{"$f":"G193+1","v":189},0,0,0,{"v":1,"d":"1.000"}]
[190,0,0,0,{"v":1,"d":"1.000"},null,190,0,0,0,{"v":1,"d":"1.000"}]