{"text_format":"3","workbook":"xlsx","n_sheets":3,"sheets":["Feuil1","Feuil2","Feuil3"],"not_rendered":{"macros":1},"read":"whole","date_system":"1900"}

{"sheet":"Feuil1","index":0,"n_rows":29,"n_cols":14,"rows_kept":29}
[null,"Entrée en Stock"]
[null,"2014-01-01","2014-02-01","2014-03-01","2014-04-01","2014-05-01","2014-06-01","2014-07-01","2014-08-01","2014-09-01","2014-10-01","2014-11-01","2014-12-01","2014-12-02"]
["a",{"$f":"SUMIFS(Feuil2!$F$2:$F$47,Feuil2!$A$2:$A$47,\"<\"&C2,Feuil2!$A$2:$A$47,\">\"&B2,Feuil2!$C$2:$C$47,A3)","v":0},{"$f":"SUMIFS(Feuil2!$F$2:$F$47,Feuil2!$A$2:$A$47,\"<\"&D2,Feuil2!$A$2:$A$47,\">\"&C2,Feuil2!$C$2:$C$47,B3)","v":0},{"$f":"SUMIFS(Feuil2!$F$2:$F$47,Feuil2!$A$2:$A$47,\"<\"&E2,Feuil2!$A$2:$A$47,\">\"&D2,Feuil2!$C$2:$C$47,C3)","v":0},{"$f":"SUMIFS(Feuil2!$F$2:$F$47,Feuil2!$A$2:$A$47,\"<\"&F2,Feuil2!$A$2:$A$47,\">\"&E2,Feuil2!$C$2:$C$47,D3)","v":0},{"$f":"SUMIFS(Feuil2!$F$2:$F$47,Feuil2!$A$2:$A$47,\"<\"&G2,Feuil2!$A$2:$A$47,\">\"&F2,Feuil2!$C$2:$C$47,E3)","v":0},{"$f":"SUMIFS(Feuil2!$F$2:$F$47,Feuil2!$A$2:$A$47,\"<\"&H2,Feuil2!$A$2:$A$47,\">\"&G2,Feuil2!$C$2:$C$47,F3)","v":0},{"$f":"SUMIFS(Feuil2!$F$2:$F$47,Feuil2!$A$2:$A$47,\"<\"&I2,Feuil2!$A$2:$A$47,\">\"&H2,Feuil2!$C$2:$C$47,G3)","v":0},{"$f":"SUMIFS(Feuil2!$F$2:$F$47,Feuil2!$A$2:$A$47,\"<\"&J2,Feuil2!$A$2:$A$47,\">\"&I2,Feuil2!$C$2:$C$47,H3)","v":0},{"$f":"SUMIFS(Feuil2!$F$2:$F$47,Feuil2!$A$2:$A$47,\"<\"&K2,Feuil2!$A$2:$A$47,\">\"&J2,Feuil2!$C$2:$C$47,I3)","v":0},{"$f":"SUMIFS(Feuil2!$F$2:$F$47,Feuil2!$A$2:$A$47,\"<\"&L2,Feuil2!$A$2:$A$47,\">\"&K2,Feuil2!$C$2:$C$47,J3)","v":0},{"$f":"SUMIFS(Feuil2!$F$2:$F$47,Feuil2!$A$2:$A$47,\"<\"&M2,Feuil2!$A$2:$A$47,\">\"&L2,Feuil2!$C$2:$C$47,K3)","v":0},{"$f":"SUMIFS(Feuil2!$F$2:$F$47,Feuil2!$A$2:$A$47,\"<\"&N2,Feuil2!$A$2:$A$47,\">\"&M2,Feuil2!$C$2:$C$47,L3)","v":0},{"$f":"SUMIFS(Feuil2!$F$2:$F$47,Feuil2!$A$2:$A$47,\"<\"&O2,Feuil2!$A$2:$A$47,\">\"&N2,Feuil2!$C$2:$C$47,M3)","v":0}]
["b",{"$f":"SUMIFS(Feuil2!$F$2:$F$47,Feuil2!$A$2:$A$47,\"<\"&C3,Feuil2!$A$2:$A$47,\">\"&B3,Feuil2!$C$2:$C$47,A4)","v":0},{"$f":"SUMIFS(Feuil2!$F$2:$F$47,Feuil2!$A$2:$A$47,\"<\"&D3,Feuil2!$A$2:$A$47,\">\"&C3,Feuil2!$C$2:$C$47,B4)","v":0},{"$f":"SUMIFS(Feuil2!$F$2:$F$47,Feuil2!$A$2:$A$47,\"<\"&E3,Feuil2!$A$2:$A$47,\">\"&D3,Feuil2!$C$2:$C$47,C4)","v":0},{"$f":"SUMIFS(Feuil2!$F$2:$F$47,Feuil2!$A$2:$A$47,\"<\"&F3,Feuil2!$A$2:$A$47,\">\"&E3,Feuil2!$C$2:$C$47,D4)","v":0},{"$f":"SUMIFS(Feuil2!$F$2:$F$47,Feuil2!$A$2:$A$47,\"<\"&G3,Feuil2!$A$2:$A$47,\">\"&F3,Feuil2!$C$2:$C$47,E4)","v":0},{"$f":"SUMIFS(Feuil2!$F$2:$F$47,Feuil2!$A$2:$A$47,\"<\"&H3,Feuil2!$A$2:$A$47,\">\"&G3,Feuil2!$C$2:$C$47,F4)","v":0},{"$f":"SUMIFS(Feuil2!$F$2:$F$47,Feuil2!$A$2:$A$47,\"<\"&I3,Feuil2!$A$2:$A$47,\">\"&H3,Feuil2!$C$2:$C$47,G4)","v":0},{"$f":"SUMIFS(Feuil2!$F$2:$F$47,Feuil2!$A$2:$A$47,\"<\"&J3,Feuil2!$A$2:$A$47,\">\"&I3,Feuil2!$C$2:$C$47,H4)","v":0},{"$f":"SUMIFS(Feuil2!$F$2:$F$47,Feuil2!$A$2:$A$47,\"<\"&K3,Feuil2!$A$2:$A$47,\">\"&J3,Feuil2!$C$2:$C$47,I4)","v":0},{"$f":"SUMIFS(Feuil2!$F$2:$F$47,Feuil2!$A$2:$A$47,\"<\"&L3,Feuil2!$A$2:$A$47,\">\"&K3,Feuil2!$C$2:$C$47,J4)","v":0},{"$f":"SUMIFS(Feuil2!$F$2:$F$47,Feuil2!$A$2:$A$47,\"<\"&M3,Feuil2!$A$2:$A$47,\">\"&L3,Feuil2!$C$2:$C$47,K4)","v":0},{"$f":"SUMIFS(Feuil2!$F$2:$F$47,Feuil2!$A$2:$A$47,\"<\"&N3,Feuil2!$A$2:$A$47,\">\"&M3,Feuil2!$C$2:$C$47,L4)","v":0},{"$f":"SUMIFS(Feuil2!$F$2:$F$47,Feuil2!$A$2:$A$47,\"<\"&O3,Feuil2!$A$2:$A$47,\">\"&N3,Feuil2!$C$2:$C$47,M4)","v":0}]
["a",{"$f":"SUMIFS(Feuil2!$F$2:$F$47,Feuil2!$A$2:$A$47,\"<\"&C4,Feuil2!$A$2:$A$47,\">\"&B4,Feuil2!$C$2:$C$47,A5)","v":0},{"$f":"SUMIFS(Feuil2!$F$2:$F$47,Feuil2!$A$2:$A$47,\"<\"&D4,Feuil2!$A$2:$A$47,\">\"&C4,Feuil2!$C$2:$C$47,B5)","v":0},{"$f":"SUMIFS(Feuil2!$F$2:$F$47,Feuil2!$A$2:$A$47,\"<\"&E4,Feuil2!$A$2:$A$47,\">\"&D4,Feuil2!$C$2:$C$47,C5)","v":0},{"$f":"SUMIFS(Feuil2!$F$2:$F$47,Feuil2!$A$2:$A$47,\"<\"&F4,Feuil2!$A$2:$A$47,\">\"&E4,Feuil2!$C$2:$C$47,D5)","v":0},{"$f":"SUMIFS(Feuil2!$F$2:$F$47,Feuil2!$A$2:$A$47,\"<\"&G4,Feuil2!$A$2:$A$47,\">\"&F4,Feuil2!$C$2:$C$47,E5)","v":0},{"$f":"SUMIFS(Feuil2!$F$2:$F$47,Feuil2!$A$2:$A$47,\"<\"&H4,Feuil2!$A$2:$A$47,\">\"&G4,Feuil2!$C$2:$C$47,F5)","v":0},{"$f":"SUMIFS(Feuil2!$F$2:$F$47,Feuil2!$A$2:$A$47,\"<\"&I4,Feuil2!$A$2:$A$47,\">\"&H4,Feuil2!$C$2:$C$47,G5)","v":0},{"$f":"SUMIFS(Feuil2!$F$2:$F$47,Feuil2!$A$2:$A$47,\"<\"&J4,Feuil2!$A$2:$A$47,\">\"&I4,Feuil2!$C$2:$C$47,H5)","v":0},{"$f":"SUMIFS(Feuil2!$F$2:$F$47,Feuil2!$A$2:$A$47,\"<\"&K4,Feuil2!$A$2:$A$47,\">\"&J4,Feuil2!$C$2:$C$47,I5)","v":0},{"$f":"SUMIFS(Feuil2!$F$2:$F$47,Feuil2!$A$2:$A$47,\"<\"&L4,Feuil2!$A$2:$A$47,\">\"&K4,Feuil2!$C$2:$C$47,J5)","v":0},{"$f":"SUMIFS(Feuil2!$F$2:$F$47,Feuil2!$A$2:$A$47,\"<\"&M4,Feuil2!$A$2:$A$47,\">\"&L4,Feuil2!$C$2:$C$47,K5)","v":0},{"$f":"SUMIFS(Feuil2!$F$2:$F$47,Feuil2!$A$2:$A$47,\"<\"&N4,Feuil2!$A$2:$A$47,\">\"&M4,Feuil2!$C$2:$C$47,L5)","v":0},{"$f":"SUMIFS(Feuil2!$F$2:$F$47,Feuil2!$A$2:$A$47,\"<\"&O4,Feuil2!$A$2:$A$47,\">\"&N4,Feuil2!$C$2:$C$47,M5)","v":0}]
["c",{"$f":"SUMIFS(Feuil2!$F$2:$F$47,Feuil2!$A$2:$A$47,\"<\"&C5,Feuil2!$A$2:$A$47,\">\"&B5,Feuil2!$C$2:$C$47,A6)","v":0},{"$f":"SUMIFS(Feuil2!$F$2:$F$47,Feuil2!$A$2:$A$47,\"<\"&D5,Feuil2!$A$2:$A$47,\">\"&C5,Feuil2!$C$2:$C$47,B6)","v":0},{"$f":"SUMIFS(Feuil2!$F$2:$F$47,Feuil2!$A$2:$A$47,\"<\"&E5,Feuil2!$A$2:$A$47,\">\"&D5,Feuil2!$C$2:$C$47,C6)","v":0},{"$f":"SUMIFS(Feuil2!$F$2:$F$47,Feuil2!$A$2:$A$47,\"<\"&F5,Feuil2!$A$2:$A$47,\">\"&E5,Feuil2!$C$2:$C$47,D6)","v":0},{"$f":"SUMIFS(Feuil2!$F$2:$F$47,Feuil2!$A$2:$A$47,\"<\"&G5,Feuil2!$A$2:$A$47,\">\"&F5,Feuil2!$C$2:$C$47,E6)","v":0},{"$f":"SUMIFS(Feuil2!$F$2:$F$47,Feuil2!$A$2:$A$47,\"<\"&H5,Feuil2!$A$2:$A$47,\">\"&G5,Feuil2!$C$2:$C$47,F6)","v":0},{"$f":"SUMIFS(Feuil2!$F$2:$F$47,Feuil2!$A$2:$A$47,\"<\"&I5,Feuil2!$A$2:$A$47,\">\"&H5,Feuil2!$C$2:$C$47,G6)","v":0},{"$f":"SUMIFS(Feuil2!$F$2:$F$47,Feuil2!$A$2:$A$47,\"<\"&J5,Feuil2!$A$2:$A$47,\">\"&I5,Feuil2!$C$2:$C$47,H6)","v":0},{"$f":"SUMIFS(Feuil2!$F$2:$F$47,Feuil2!$A$2:$A$47,\"<\"&K5,Feuil2!$A$2:$A$47,\">\"&J5,Feuil2!$C$2:$C$47,I6)","v":0},{"$f":"SUMIFS(Feuil2!$F$2:$F$47,Feuil2!$A$2:$A$47,\"<\"&L5,Feuil2!$A$2:$A$47,\">\"&K5,Feuil2!$C$2:$C$47,J6)","v":0},{"$f":"SUMIFS(Feuil2!$F$2:$F$47,Feuil2!$A$2:$A$47,\"<\"&M5,Feuil2!$A$2:$A$47,\">\"&L5,Feuil2!$C$2:$C$47,K6)","v":0},{"$f":"SUMIFS(Feuil2!$F$2:$F$47,Feuil2!$A$2:$A$47,\"<\"&N5,Feuil2!$A$2:$A$47,\">\"&M5,Feuil2!$C$2:$C$47,L6)","v":0},{"$f":"SUMIFS(Feuil2!$F$2:$F$47,Feuil2!$A$2:$A$47,\"<\"&O5,Feuil2!$A$2:$A$47,\">\"&N5,Feuil2!$C$2:$C$47,M6)","v":0}]
["d",{"$f":"SUMIFS(Feuil2!$F$2:$F$47,Feuil2!$A$2:$A$47,\"<\"&C6,Feuil2!$A$2:$A$47,\">\"&B6,Feuil2!$C$2:$C$47,A7)","v":0},{"$f":"SUMIFS(Feuil2!$F$2:$F$47,Feuil2!$A$2:$A$47,\"<\"&D6,Feuil2!$A$2:$A$47,\">\"&C6,Feuil2!$C$2:$C$47,B7)","v":0},{"$f":"SUMIFS(Feuil2!$F$2:$F$47,Feuil2!$A$2:$A$47,\"<\"&E6,Feuil2!$A$2:$A$47,\">\"&D6,Feuil2!$C$2:$C$47,C7)","v":0},{"$f":"SUMIFS(Feuil2!$F$2:$F$47,Feuil2!$A$2:$A$47,\"<\"&F6,Feuil2!$A$2:$A$47,\">\"&E6,Feuil2!$C$2:$C$47,D7)","v":0},{"$f":"SUMIFS(Feuil2!$F$2:$F$47,Feuil2!$A$2:$A$47,\"<\"&G6,Feuil2!$A$2:$A$47,\">\"&F6,Feuil2!$C$2:$C$47,E7)","v":0},{"$f":"SUMIFS(Feuil2!$F$2:$F$47,Feuil2!$A$2:$A$47,\"<\"&H6,Feuil2!$A$2:$A$47,\">\"&G6,Feuil2!$C$2:$C$47,F7)","v":0},{"$f":"SUMIFS(Feuil2!$F$2:$F$47,Feuil2!$A$2:$A$47,\"<\"&I6,Feuil2!$A$2:$A$47,\">\"&H6,Feuil2!$C$2:$C$47,G7)","v":0},{"$f":"SUMIFS(Feuil2!$F$2:$F$47,Feuil2!$A$2:$A$47,\"<\"&J6,Feuil2!$A$2:$A$47,\">\"&I6,Feuil2!$C$2:$C$47,H7)","v":0},{"$f":"SUMIFS(Feuil2!$F$2:$F$47,Feuil2!$A$2:$A$47,\"<\"&K6,Feuil2!$A$2:$A$47,\">\"&J6,Feuil2!$C$2:$C$47,I7)","v":0},{"$f":"SUMIFS(Feuil2!$F$2:$F$47,Feuil2!$A$2:$A$47,\"<\"&L6,Feuil2!$A$2:$A$47,\">\"&K6,Feuil2!$C$2:$C$47,J7)","v":0},{"$f":"SUMIFS(Feuil2!$F$2:$F$47,Feuil2!$A$2:$A$47,\"<\"&M6,Feuil2!$A$2:$A$47,\">\"&L6,Feuil2!$C$2:$C$47,K7)","v":0},{"$f":"SUMIFS(Feuil2!$F$2:$F$47,Feuil2!$A$2:$A$47,\"<\"&N6,Feuil2!$A$2:$A$47,\">\"&M6,Feuil2!$C$2:$C$47,L7)","v":0},{"$f":"SUMIFS(Feuil2!$F$2:$F$47,Feuil2!$A$2:$A$47,\"<\"&O6,Feuil2!$A$2:$A$47,\">\"&N6,Feuil2!$C$2:$C$47,M7)","v":0}]
["e",{"$f":"SUMIFS(Feuil2!$F$2:$F$47,Feuil2!$A$2:$A$47,\"<\"&C7,Feuil2!$A$2:$A$47,\">\"&B7,Feuil2!$C$2:$C$47,A8)","v":0},{"$f":"SUMIFS(Feuil2!$F$2:$F$47,Feuil2!$A$2:$A$47,\"<\"&D7,Feuil2!$A$2:$A$47,\">\"&C7,Feuil2!$C$2:$C$47,B8)","v":0},{"$f":"SUMIFS(Feuil2!$F$2:$F$47,Feuil2!$A$2:$A$47,\"<\"&E7,Feuil2!$A$2:$A$47,\">\"&D7,Feuil2!$C$2:$C$47,C8)","v":0},{"$f":"SUMIFS(Feuil2!$F$2:$F$47,Feuil2!$A$2:$A$47,\"<\"&F7,Feuil2!$A$2:$A$47,\">\"&E7,Feuil2!$C$2:$C$47,D8)","v":0},{"$f":"SUMIFS(Feuil2!$F$2:$F$47,Feuil2!$A$2:$A$47,\"<\"&G7,Feuil2!$A$2:$A$47,\">\"&F7,Feuil2!$C$2:$C$47,E8)","v":0},{"$f":"SUMIFS(Feuil2!$F$2:$F$47,Feuil2!$A$2:$A$47,\"<\"&H7,Feuil2!$A$2:$A$47,\">\"&G7,Feuil2!$C$2:$C$47,F8)","v":0},{"$f":"SUMIFS(Feuil2!$F$2:$F$47,Feuil2!$A$2:$A$47,\"<\"&I7,Feuil2!$A$2:$A$47,\">\"&H7,Feuil2!$C$2:$C$47,G8)","v":0},{"$f":"SUMIFS(Feuil2!$F$2:$F$47,Feuil2!$A$2:$A$47,\"<\"&J7,Feuil2!$A$2:$A$47,\">\"&I7,Feuil2!$C$2:$C$47,H8)","v":0},{"$f":"SUMIFS(Feuil2!$F$2:$F$47,Feuil2!$A$2:$A$47,\"<\"&K7,Feuil2!$A$2:$A$47,\">\"&J7,Feuil2!$C$2:$C$47,I8)","v":0},{"$f":"SUMIFS(Feuil2!$F$2:$F$47,Feuil2!$A$2:$A$47,\"<\"&L7,Feuil2!$A$2:$A$47,\">\"&K7,Feuil2!$C$2:$C$47,J8)","v":0},{"$f":"SUMIFS(Feuil2!$F$2:$F$47,Feuil2!$A$2:$A$47,\"<\"&M7,Feuil2!$A$2:$A$47,\">\"&L7,Feuil2!$C$2:$C$47,K8)","v":0},{"$f":"SUMIFS(Feuil2!$F$2:$F$47,Feuil2!$A$2:$A$47,\"<\"&N7,Feuil2!$A$2:$A$47,\">\"&M7,Feuil2!$C$2:$C$47,L8)","v":0},{"$f":"SUMIFS(Feuil2!$F$2:$F$47,Feuil2!$A$2:$A$47,\"<\"&O7,Feuil2!$A$2:$A$47,\">\"&N7,Feuil2!$C$2:$C$47,M8)","v":0}]
["f",{"$f":"SUMIFS(Feuil2!$F$2:$F$47,Feuil2!$A$2:$A$47,\"<\"&C8,Feuil2!$A$2:$A$47,\">\"&B8,Feuil2!$C$2:$C$47,A9)","v":0},{"$f":"SUMIFS(Feuil2!$F$2:$F$47,Feuil2!$A$2:$A$47,\"<\"&D8,Feuil2!$A$2:$A$47,\">\"&C8,Feuil2!$C$2:$C$47,B9)","v":0},{"$f":"SUMIFS(Feuil2!$F$2:$F$47,Feuil2!$A$2:$A$47,\"<\"&E8,Feuil2!$A$2:$A$47,\">\"&D8,Feuil2!$C$2:$C$47,C9)","v":0},{"$f":"SUMIFS(Feuil2!$F$2:$F$47,Feuil2!$A$2:$A$47,\"<\"&F8,Feuil2!$A$2:$A$47,\">\"&E8,Feuil2!$C$2:$C$47,D9)","v":0},{"$f":"SUMIFS(Feuil2!$F$2:$F$47,Feuil2!$A$2:$A$47,\"<\"&G8,Feuil2!$A$2:$A$47,\">\"&F8,Feuil2!$C$2:$C$47,E9)","v":0},{"$f":"SUMIFS(Feuil2!$F$2:$F$47,Feuil2!$A$2:$A$47,\"<\"&H8,Feuil2!$A$2:$A$47,\">\"&G8,Feuil2!$C$2:$C$47,F9)","v":0},{"$f":"SUMIFS(Feuil2!$F$2:$F$47,Feuil2!$A$2:$A$47,\"<\"&I8,Feuil2!$A$2:$A$47,\">\"&H8,Feuil2!$C$2:$C$47,G9)","v":0},{"$f":"SUMIFS(Feuil2!$F$2:$F$47,Feuil2!$A$2:$A$47,\"<\"&J8,Feuil2!$A$2:$A$47,\">\"&I8,Feuil2!$C$2:$C$47,H9)","v":0},{"$f":"SUMIFS(Feuil2!$F$2:$F$47,Feuil2!$A$2:$A$47,\"<\"&K8,Feuil2!$A$2:$A$47,\">\"&J8,Feuil2!$C$2:$C$47,I9)","v":0},{"$f":"SUMIFS(Feuil2!$F$2:$F$47,Feuil2!$A$2:$A$47,\"<\"&L8,Feuil2!$A$2:$A$47,\">\"&K8,Feuil2!$C$2:$C$47,J9)","v":0},{"$f":"SUMIFS(Feuil2!$F$2:$F$47,Feuil2!$A$2:$A$47,\"<\"&M8,Feuil2!$A$2:$A$47,\">\"&L8,Feuil2!$C$2:$C$47,K9)","v":0},{"$f":"SUMIFS(Feuil2!$F$2:$F$47,Feuil2!$A$2:$A$47,\"<\"&N8,Feuil2!$A$2:$A$47,\">\"&M8,Feuil2!$C$2:$C$47,L9)","v":0},{"$f":"SUMIFS(Feuil2!$F$2:$F$47,Feuil2!$A$2:$A$47,\"<\"&O8,Feuil2!$A$2:$A$47,\">\"&N8,Feuil2!$C$2:$C$47,M9)","v":0}]
["g",{"$f":"SUMIFS(Feuil2!$F$2:$F$47,Feuil2!$A$2:$A$47,\"<\"&C9,Feuil2!$A$2:$A$47,\">\"&B9,Feuil2!$C$2:$C$47,A10)","v":0},{"$f":"SUMIFS(Feuil2!$F$2:$F$47,Feuil2!$A$2:$A$47,\"<\"&D9,Feuil2!$A$2:$A$47,\">\"&C9,Feuil2!$C$2:$C$47,B10)","v":0},{"$f":"SUMIFS(Feuil2!$F$2:$F$47,Feuil2!$A$2:$A$47,\"<\"&E9,Feuil2!$A$2:$A$47,\">\"&D9,Feuil2!$C$2:$C$47,C10)","v":0},{"$f":"SUMIFS(Feuil2!$F$2:$F$47,Feuil2!$A$2:$A$47,\"<\"&F9,Feuil2!$A$2:$A$47,\">\"&E9,Feuil2!$C$2:$C$47,D10)","v":0},{"$f":"SUMIFS(Feuil2!$F$2:$F$47,Feuil2!$A$2:$A$47,\"<\"&G9,Feuil2!$A$2:$A$47,\">\"&F9,Feuil2!$C$2:$C$47,E10)","v":0},{"$f":"SUMIFS(Feuil2!$F$2:$F$47,Feuil2!$A$2:$A$47,\"<\"&H9,Feuil2!$A$2:$A$47,\">\"&G9,Feuil2!$C$2:$C$47,F10)","v":0},{"$f":"SUMIFS(Feuil2!$F$2:$F$47,Feuil2!$A$2:$A$47,\"<\"&I9,Feuil2!$A$2:$A$47,\">\"&H9,Feuil2!$C$2:$C$47,G10)","v":0},{"$f":"SUMIFS(Feuil2!$F$2:$F$47,Feuil2!$A$2:$A$47,\"<\"&J9,Feuil2!$A$2:$A$47,\">\"&I9,Feuil2!$C$2:$C$47,H10)","v":0},{"$f":"SUMIFS(Feuil2!$F$2:$F$47,Feuil2!$A$2:$A$47,\"<\"&K9,Feuil2!$A$2:$A$47,\">\"&J9,Feuil2!$C$2:$C$47,I10)","v":0},{"$f":"SUMIFS(Feuil2!$F$2:$F$47,Feuil2!$A$2:$A$47,\"<\"&L9,Feuil2!$A$2:$A$47,\">\"&K9,Feuil2!$C$2:$C$47,J10)","v":0},{"$f":"SUMIFS(Feuil2!$F$2:$F$47,Feuil2!$A$2:$A$47,\"<\"&M9,Feuil2!$A$2:$A$47,\">\"&L9,Feuil2!$C$2:$C$47,K10)","v":0},{"$f":"SUMIFS(Feuil2!$F$2:$F$47,Feuil2!$A$2:$A$47,\"<\"&N9,Feuil2!$A$2:$A$47,\">\"&M9,Feuil2!$C$2:$C$47,L10)","v":0},{"$f":"SUMIFS(Feuil2!$F$2:$F$47,Feuil2!$A$2:$A$47,\"<\"&O9,Feuil2!$A$2:$A$47,\">\"&N9,Feuil2!$C$2:$C$47,M10)","v":0}]
["h",{"$f":"SUMIFS(Feuil2!$F$2:$F$47,Feuil2!$A$2:$A$47,\"<\"&C10,Feuil2!$A$2:$A$47,\">\"&B10,Feuil2!$C$2:$C$47,A11)","v":0},{"$f":"SUMIFS(Feuil2!$F$2:$F$47,Feuil2!$A$2:$A$47,\"<\"&D10,Feuil2!$A$2:$A$47,\">\"&C10,Feuil2!$C$2:$C$47,B11)","v":0},{"$f":"SUMIFS(Feuil2!$F$2:$F$47,Feuil2!$A$2:$A$47,\"<\"&E10,Feuil2!$A$2:$A$47,\">\"&D10,Feuil2!$C$2:$C$47,C11)","v":0},{"$f":"SUMIFS(Feuil2!$F$2:$F$47,Feuil2!$A$2:$A$47,\"<\"&F10,Feuil2!$A$2:$A$47,\">\"&E10,Feuil2!$C$2:$C$47,D11)","v":0},{"$f":"SUMIFS(Feuil2!$F$2:$F$47,Feuil2!$A$2:$A$47,\"<\"&G10,Feuil2!$A$2:$A$47,\">\"&F10,Feuil2!$C$2:$C$47,E11)","v":0},{"$f":"SUMIFS(Feuil2!$F$2:$F$47,Feuil2!$A$2:$A$47,\"<\"&H10,Feuil2!$A$2:$A$47,\">\"&G10,Feuil2!$C$2:$C$47,F11)","v":0},{"$f":"SUMIFS(Feuil2!$F$2:$F$47,Feuil2!$A$2:$A$47,\"<\"&I10,Feuil2!$A$2:$A$47,\">\"&H10,Feuil2!$C$2:$C$47,G11)","v":0},{"$f":"SUMIFS(Feuil2!$F$2:$F$47,Feuil2!$A$2:$A$47,\"<\"&J10,Feuil2!$A$2:$A$47,\">\"&I10,Feuil2!$C$2:$C$47,H11)","v":0},{"$f":"SUMIFS(Feuil2!$F$2:$F$47,Feuil2!$A$2:$A$47,\"<\"&K10,Feuil2!$A$2:$A$47,\">\"&J10,Feuil2!$C$2:$C$47,I11)","v":0},{"$f":"SUMIFS(Feuil2!$F$2:$F$47,Feuil2!$A$2:$A$47,\"<\"&L10,Feuil2!$A$2:$A$47,\">\"&K10,Feuil2!$C$2:$C$47,J11)","v":0},{"$f":"SUMIFS(Feuil2!$F$2:$F$47,Feuil2!$A$2:$A$47,\"<\"&M10,Feuil2!$A$2:$A$47,\">\"&L10,Feuil2!$C$2:$C$47,K11)","v":0},{"$f":"SUMIFS(Feuil2!$F$2:$F$47,Feuil2!$A$2:$A$47,\"<\"&N10,Feuil2!$A$2:$A$47,\">\"&M10,Feuil2!$C$2:$C$47,L11)","v":0},{"$f":"SUMIFS(Feuil2!$F$2:$F$47,Feuil2!$A$2:$A$47,\"<\"&O10,Feuil2!$A$2:$A$47,\">\"&N10,Feuil2!$C$2:$C$47,M11)","v":0}]
["i",{"$f":"SUMIFS(Feuil2!$F$2:$F$47,Feuil2!$A$2:$A$47,\"<\"&C11,Feuil2!$A$2:$A$47,\">\"&B11,Feuil2!$C$2:$C$47,A12)","v":0},{"$f":"SUMIFS(Feuil2!$F$2:$F$47,Feuil2!$A$2:$A$47,\"<\"&D11,Feuil2!$A$2:$A$47,\">\"&C11,Feuil2!$C$2:$C$47,B12)","v":0},{"$f":"SUMIFS(Feuil2!$F$2:$F$47,Feuil2!$A$2:$A$47,\"<\"&E11,Feuil2!$A$2:$A$47,\">\"&D11,Feuil2!$C$2:$C$47,C12)","v":0},{"$f":"SUMIFS(Feuil2!$F$2:$F$47,Feuil2!$A$2:$A$47,\"<\"&F11,Feuil2!$A$2:$A$47,\">\"&E11,Feuil2!$C$2:$C$47,D12)","v":0},{"$f":"SUMIFS(Feuil2!$F$2:$F$47,Feuil2!$A$2:$A$47,\"<\"&G11,Feuil2!$A$2:$A$47,\">\"&F11,Feuil2!$C$2:$C$47,E12)","v":0},{"$f":"SUMIFS(Feuil2!$F$2:$F$47,Feuil2!$A$2:$A$47,\"<\"&H11,Feuil2!$A$2:$A$47,\">\"&G11,Feuil2!$C$2:$C$47,F12)","v":0},{"$f":"SUMIFS(Feuil2!$F$2:$F$47,Feuil2!$A$2:$A$47,\"<\"&I11,Feuil2!$A$2:$A$47,\">\"&H11,Feuil2!$C$2:$C$47,G12)","v":0},{"$f":"SUMIFS(Feuil2!$F$2:$F$47,Feuil2!$A$2:$A$47,\"<\"&J11,Feuil2!$A$2:$A$47,\">\"&I11,Feuil2!$C$2:$C$47,H12)","v":0},{"$f":"SUMIFS(Feuil2!$F$2:$F$47,Feuil2!$A$2:$A$47,\"<\"&K11,Feuil2!$A$2:$A$47,\">\"&J11,Feuil2!$C$2:$C$47,I12)","v":0},{"$f":"SUMIFS(Feuil2!$F$2:$F$47,Feuil2!$A$2:$A$47,\"<\"&L11,Feuil2!$A$2:$A$47,\">\"&K11,Feuil2!$C$2:$C$47,J12)","v":0},{"$f":"SUMIFS(Feuil2!$F$2:$F$47,Feuil2!$A$2:$A$47,\"<\"&M11,Feuil2!$A$2:$A$47,\">\"&L11,Feuil2!$C$2:$C$47,K12)","v":0},{"$f":"SUMIFS(Feuil2!$F$2:$F$47,Feuil2!$A$2:$A$47,\"<\"&N11,Feuil2!$A$2:$A$47,\">\"&M11,Feuil2!$C$2:$C$47,L12)","v":0},{"$f":"SUMIFS(Feuil2!$F$2:$F$47,Feuil2!$A$2:$A$47,\"<\"&O11,Feuil2!$A$2:$A$47,\">\"&N11,Feuil2!$C$2:$C$47,M12)","v":0}]
["j",{"$f":"SUMIFS(Feuil2!$F$2:$F$47,Feuil2!$A$2:$A$47,\"<\"&C12,Feuil2!$A$2:$A$47,\">\"&B12,Feuil2!$C$2:$C$47,A13)","v":0},{"$f":"SUMIFS(Feuil2!$F$2:$F$47,Feuil2!$A$2:$A$47,\"<\"&D12,Feuil2!$A$2:$A$47,\">\"&C12,Feuil2!$C$2:$C$47,B13)","v":0},{"$f":"SUMIFS(Feuil2!$F$2:$F$47,Feuil2!$A$2:$A$47,\"<\"&E12,Feuil2!$A$2:$A$47,\">\"&D12,Feuil2!$C$2:$C$47,C13)","v":0},{"$f":"SUMIFS(Feuil2!$F$2:$F$47,Feuil2!$A$2:$A$47,\"<\"&F12,Feuil2!$A$2:$A$47,\">\"&E12,Feuil2!$C$2:$C$47,D13)","v":0},{"$f":"SUMIFS(Feuil2!$F$2:$F$47,Feuil2!$A$2:$A$47,\"<\"&G12,Feuil2!$A$2:$A$47,\">\"&F12,Feuil2!$C$2:$C$47,E13)","v":0},{"$f":"SUMIFS(Feuil2!$F$2:$F$47,Feuil2!$A$2:$A$47,\"<\"&H12,Feuil2!$A$2:$A$47,\">\"&G12,Feuil2!$C$2:$C$47,F13)","v":0},{"$f":"SUMIFS(Feuil2!$F$2:$F$47,Feuil2!$A$2:$A$47,\"<\"&I12,Feuil2!$A$2:$A$47,\">\"&H12,Feuil2!$C$2:$C$47,G13)","v":0},{"$f":"SUMIFS(Feuil2!$F$2:$F$47,Feuil2!$A$2:$A$47,\"<\"&J12,Feuil2!$A$2:$A$47,\">\"&I12,Feuil2!$C$2:$C$47,H13)","v":0},{"$f":"SUMIFS(Feuil2!$F$2:$F$47,Feuil2!$A$2:$A$47,\"<\"&K12,Feuil2!$A$2:$A$47,\">\"&J12,Feuil2!$C$2:$C$47,I13)","v":0},{"$f":"SUMIFS(Feuil2!$F$2:$F$47,Feuil2!$A$2:$A$47,\"<\"&L12,Feuil2!$A$2:$A$47,\">\"&K12,Feuil2!$C$2:$C$47,J13)","v":0},{"$f":"SUMIFS(Feuil2!$F$2:$F$47,Feuil2!$A$2:$A$47,\"<\"&M12,Feuil2!$A$2:$A$47,\">\"&L12,Feuil2!$C$2:$C$47,K13)","v":0},{"$f":"SUMIFS(Feuil2!$F$2:$F$47,Feuil2!$A$2:$A$47,\"<\"&N12,Feuil2!$A$2:$A$47,\">\"&M12,Feuil2!$C$2:$C$47,L13)","v":0},{"$f":"SUMIFS(Feuil2!$F$2:$F$47,Feuil2!$A$2:$A$47,\"<\"&O12,Feuil2!$A$2:$A$47,\">\"&N12,Feuil2!$C$2:$C$47,M13)","v":0}]
["k",{"$f":"SUMIFS(Feuil2!$F$2:$F$47,Feuil2!$A$2:$A$47,\"<\"&C13,Feuil2!$A$2:$A$47,\">\"&B13,Feuil2!$C$2:$C$47,A14)","v":0},{"$f":"SUMIFS(Feuil2!$F$2:$F$47,Feuil2!$A$2:$A$47,\"<\"&D13,Feuil2!$A$2:$A$47,\">\"&C13,Feuil2!$C$2:$C$47,B14)","v":0},{"$f":"SUMIFS(Feuil2!$F$2:$F$47,Feuil2!$A$2:$A$47,\"<\"&E13,Feuil2!$A$2:$A$47,\">\"&D13,Feuil2!$C$2:$C$47,C14)","v":0},{"$f":"SUMIFS(Feuil2!$F$2:$F$47,Feuil2!$A$2:$A$47,\"<\"&F13,Feuil2!$A$2:$A$47,\">\"&E13,Feuil2!$C$2:$C$47,D14)","v":0},{"$f":"SUMIFS(Feuil2!$F$2:$F$47,Feuil2!$A$2:$A$47,\"<\"&G13,Feuil2!$A$2:$A$47,\">\"&F13,Feuil2!$C$2:$C$47,E14)","v":0},{"$f":"SUMIFS(Feuil2!$F$2:$F$47,Feuil2!$A$2:$A$47,\"<\"&H13,Feuil2!$A$2:$A$47,\">\"&G13,Feuil2!$C$2:$C$47,F14)","v":0},{"$f":"SUMIFS(Feuil2!$F$2:$F$47,Feuil2!$A$2:$A$47,\"<\"&I13,Feuil2!$A$2:$A$47,\">\"&H13,Feuil2!$C$2:$C$47,G14)","v":0},{"$f":"SUMIFS(Feuil2!$F$2:$F$47,Feuil2!$A$2:$A$47,\"<\"&J13,Feuil2!$A$2:$A$47,\">\"&I13,Feuil2!$C$2:$C$47,H14)","v":0},{"$f":"SUMIFS(Feuil2!$F$2:$F$47,Feuil2!$A$2:$A$47,\"<\"&K13,Feuil2!$A$2:$A$47,\">\"&J13,Feuil2!$C$2:$C$47,I14)","v":0},{"$f":"SUMIFS(Feuil2!$F$2:$F$47,Feuil2!$A$2:$A$47,\"<\"&L13,Feuil2!$A$2:$A$47,\">\"&K13,Feuil2!$C$2:$C$47,J14)","v":0},{"$f":"SUMIFS(Feuil2!$F$2:$F$47,Feuil2!$A$2:$A$47,\"<\"&M13,Feuil2!$A$2:$A$47,\">\"&L13,Feuil2!$C$2:$C$47,K14)","v":0},{"$f":"SUMIFS(Feuil2!$F$2:$F$47,Feuil2!$A$2:$A$47,\"<\"&N13,Feuil2!$A$2:$A$47,\">\"&M13,Feuil2!$C$2:$C$47,L14)","v":0},{"$f":"SUMIFS(Feuil2!$F$2:$F$47,Feuil2!$A$2:$A$47,\"<\"&O13,Feuil2!$A$2:$A$47,\">\"&N13,Feuil2!$C$2:$C$47,M14)","v":0}]
["l",{"$f":"SUMIFS(Feuil2!$F$2:$F$47,Feuil2!$A$2:$A$47,\"<\"&C14,Feuil2!$A$2:$A$47,\">\"&B14,Feuil2!$C$2:$C$47,A15)","v":0},{"$f":"SUMIFS(Feuil2!$F$2:$F$47,Feuil2!$A$2:$A$47,\"<\"&D14,Feuil2!$A$2:$A$47,\">\"&C14,Feuil2!$C$2:$C$47,B15)","v":0},{"$f":"SUMIFS(Feuil2!$F$2:$F$47,Feuil2!$A$2:$A$47,\"<\"&E14,Feuil2!$A$2:$A$47,\">\"&D14,Feuil2!$C$2:$C$47,C15)","v":0},{"$f":"SUMIFS(Feuil2!$F$2:$F$47,Feuil2!$A$2:$A$47,\"<\"&F14,Feuil2!$A$2:$A$47,\">\"&E14,Feuil2!$C$2:$C$47,D15)","v":0},{"$f":"SUMIFS(Feuil2!$F$2:$F$47,Feuil2!$A$2:$A$47,\"<\"&G14,Feuil2!$A$2:$A$47,\">\"&F14,Feuil2!$C$2:$C$47,E15)","v":0},{"$f":"SUMIFS(Feuil2!$F$2:$F$47,Feuil2!$A$2:$A$47,\"<\"&H14,Feuil2!$A$2:$A$47,\">\"&G14,Feuil2!$C$2:$C$47,F15)","v":0},{"$f":"SUMIFS(Feuil2!$F$2:$F$47,Feuil2!$A$2:$A$47,\"<\"&I14,Feuil2!$A$2:$A$47,\">\"&H14,Feuil2!$C$2:$C$47,G15)","v":0},{"$f":"SUMIFS(Feuil2!$F$2:$F$47,Feuil2!$A$2:$A$47,\"<\"&J14,Feuil2!$A$2:$A$47,\">\"&I14,Feuil2!$C$2:$C$47,H15)","v":0},{"$f":"SUMIFS(Feuil2!$F$2:$F$47,Feuil2!$A$2:$A$47,\"<\"&K14,Feuil2!$A$2:$A$47,\">\"&J14,Feuil2!$C$2:$C$47,I15)","v":0},{"$f":"SUMIFS(Feuil2!$F$2:$F$47,Feuil2!$A$2:$A$47,\"<\"&L14,Feuil2!$A$2:$A$47,\">\"&K14,Feuil2!$C$2:$C$47,J15)","v":0},{"$f":"SUMIFS(Feuil2!$F$2:$F$47,Feuil2!$A$2:$A$47,\"<\"&M14,Feuil2!$A$2:$A$47,\">\"&L14,Feuil2!$C$2:$C$47,K15)","v":0},{"$f":"SUMIFS(Feuil2!$F$2:$F$47,Feuil2!$A$2:$A$47,\"<\"&N14,Feuil2!$A$2:$A$47,\">\"&M14,Feuil2!$C$2:$C$47,L15)","v":0},{"$f":"SUMIFS(Feuil2!$F$2:$F$47,Feuil2!$A$2:$A$47,\"<\"&O14,Feuil2!$A$2:$A$47,\">\"&N14,Feuil2!$C$2:$C$47,M15)","v":0}]
["m",{"$f":"SUMIFS(Feuil2!$F$2:$F$47,Feuil2!$A$2:$A$47,\"<\"&C15,Feuil2!$A$2:$A$47,\">\"&B15,Feuil2!$C$2:$C$47,A16)","v":0},{"$f":"SUMIFS(Feuil2!$F$2:$F$47,Feuil2!$A$2:$A$47,\"<\"&D15,Feuil2!$A$2:$A$47,\">\"&C15,Feuil2!$C$2:$C$47,B16)","v":0},{"$f":"SUMIFS(Feuil2!$F$2:$F$47,Feuil2!$A$2:$A$47,\"<\"&E15,Feuil2!$A$2:$A$47,\">\"&D15,Feuil2!$C$2:$C$47,C16)","v":0},{"$f":"SUMIFS(Feuil2!$F$2:$F$47,Feuil2!$A$2:$A$47,\"<\"&F15,Feuil2!$A$2:$A$47,\">\"&E15,Feuil2!$C$2:$C$47,D16)","v":0},{"$f":"SUMIFS(Feuil2!$F$2:$F$47,Feuil2!$A$2:$A$47,\"<\"&G15,Feuil2!$A$2:$A$47,\">\"&F15,Feuil2!$C$2:$C$47,E16)","v":0},{"$f":"SUMIFS(Feuil2!$F$2:$F$47,Feuil2!$A$2:$A$47,\"<\"&H15,Feuil2!$A$2:$A$47,\">\"&G15,Feuil2!$C$2:$C$47,F16)","v":0},{"$f":"SUMIFS(Feuil2!$F$2:$F$47,Feuil2!$A$2:$A$47,\"<\"&I15,Feuil2!$A$2:$A$47,\">\"&H15,Feuil2!$C$2:$C$47,G16)","v":0},{"$f":"SUMIFS(Feuil2!$F$2:$F$47,Feuil2!$A$2:$A$47,\"<\"&J15,Feuil2!$A$2:$A$47,\">\"&I15,Feuil2!$C$2:$C$47,H16)","v":0},{"$f":"SUMIFS(Feuil2!$F$2:$F$47,Feuil2!$A$2:$A$47,\"<\"&K15,Feuil2!$A$2:$A$47,\">\"&J15,Feuil2!$C$2:$C$47,I16)","v":0},{"$f":"SUMIFS(Feuil2!$F$2:$F$47,Feuil2!$A$2:$A$47,\"<\"&L15,Feuil2!$A$2:$A$47,\">\"&K15,Feuil2!$C$2:$C$47,J16)","v":0},{"$f":"SUMIFS(Feuil2!$F$2:$F$47,Feuil2!$A$2:$A$47,\"<\"&M15,Feuil2!$A$2:$A$47,\">\"&L15,Feuil2!$C$2:$C$47,K16)","v":0},{"$f":"SUMIFS(Feuil2!$F$2:$F$47,Feuil2!$A$2:$A$47,\"<\"&N15,Feuil2!$A$2:$A$47,\">\"&M15,Feuil2!$C$2:$C$47,L16)","v":0},{"$f":"SUMIFS(Feuil2!$F$2:$F$47,Feuil2!$A$2:$A$47,\"<\"&O15,Feuil2!$A$2:$A$47,\">\"&N15,Feuil2!$C$2:$C$47,M16)","v":0}]
["n",{"$f":"SUMIFS(Feuil2!$F$2:$F$47,Feuil2!$A$2:$A$47,\"<\"&C16,Feuil2!$A$2:$A$47,\">\"&B16,Feuil2!$C$2:$C$47,A17)","v":0},{"$f":"SUMIFS(Feuil2!$F$2:$F$47,Feuil2!$A$2:$A$47,\"<\"&D16,Feuil2!$A$2:$A$47,\">\"&C16,Feuil2!$C$2:$C$47,B17)","v":0},{"$f":"SUMIFS(Feuil2!$F$2:$F$47,Feuil2!$A$2:$A$47,\"<\"&E16,Feuil2!$A$2:$A$47,\">\"&D16,Feuil2!$C$2:$C$47,C17)","v":0},{"$f":"SUMIFS(Feuil2!$F$2:$F$47,Feuil2!$A$2:$A$47,\"<\"&F16,Feuil2!$A$2:$A$47,\">\"&E16,Feuil2!$C$2:$C$47,D17)","v":0},{"$f":"SUMIFS(Feuil2!$F$2:$F$47,Feuil2!$A$2:$A$47,\"<\"&G16,Feuil2!$A$2:$A$47,\">\"&F16,Feuil2!$C$2:$C$47,E17)","v":0},{"$f":"SUMIFS(Feuil2!$F$2:$F$47,Feuil2!$A$2:$A$47,\"<\"&H16,Feuil2!$A$2:$A$47,\">\"&G16,Feuil2!$C$2:$C$47,F17)","v":0},{"$f":"SUMIFS(Feuil2!$F$2:$F$47,Feuil2!$A$2:$A$47,\"<\"&I16,Feuil2!$A$2:$A$47,\">\"&H16,Feuil2!$C$2:$C$47,G17)","v":0},{"$f":"SUMIFS(Feuil2!$F$2:$F$47,Feuil2!$A$2:$A$47,\"<\"&J16,Feuil2!$A$2:$A$47,\">\"&I16,Feuil2!$C$2:$C$47,H17)","v":0},{"$f":"SUMIFS(Feuil2!$F$2:$F$47,Feuil2!$A$2:$A$47,\"<\"&K16,Feuil2!$A$2:$A$47,\">\"&J16,Feuil2!$C$2:$C$47,I17)","v":0},{"$f":"SUMIFS(Feuil2!$F$2:$F$47,Feuil2!$A$2:$A$47,\"<\"&L16,Feuil2!$A$2:$A$47,\">\"&K16,Feuil2!$C$2:$C$47,J17)","v":0},{"$f":"SUMIFS(Feuil2!$F$2:$F$47,Feuil2!$A$2:$A$47,\"<\"&M16,Feuil2!$A$2:$A$47,\">\"&L16,Feuil2!$C$2:$C$47,K17)","v":0},{"$f":"SUMIFS(Feuil2!$F$2:$F$47,Feuil2!$A$2:$A$47,\"<\"&N16,Feuil2!$A$2:$A$47,\">\"&M16,Feuil2!$C$2:$C$47,L17)","v":0},{"$f":"SUMIFS(Feuil2!$F$2:$F$47,Feuil2!$A$2:$A$47,\"<\"&O16,Feuil2!$A$2:$A$47,\">\"&N16,Feuil2!$C$2:$C$47,M17)","v":0}]
["o",{"$f":"SUMIFS(Feuil2!$F$2:$F$47,Feuil2!$A$2:$A$47,\"<\"&C17,Feuil2!$A$2:$A$47,\">\"&B17,Feuil2!$C$2:$C$47,A18)","v":0},{"$f":"SUMIFS(Feuil2!$F$2:$F$47,Feuil2!$A$2:$A$47,\"<\"&D17,Feuil2!$A$2:$A$47,\">\"&C17,Feuil2!$C$2:$C$47,B18)","v":0},{"$f":"SUMIFS(Feuil2!$F$2:$F$47,Feuil2!$A$2:$A$47,\"<\"&E17,Feuil2!$A$2:$A$47,\">\"&D17,Feuil2!$C$2:$C$47,C18)","v":0},{"$f":"SUMIFS(Feuil2!$F$2:$F$47,Feuil2!$A$2:$A$47,\"<\"&F17,Feuil2!$A$2:$A$47,\">\"&E17,Feuil2!$C$2:$C$47,D18)","v":0},{"$f":"SUMIFS(Feuil2!$F$2:$F$47,Feuil2!$A$2:$A$47,\"<\"&G17,Feuil2!$A$2:$A$47,\">\"&F17,Feuil2!$C$2:$C$47,E18)","v":0},{"$f":"SUMIFS(Feuil2!$F$2:$F$47,Feuil2!$A$2:$A$47,\"<\"&H17,Feuil2!$A$2:$A$47,\">\"&G17,Feuil2!$C$2:$C$47,F18)","v":0},{"$f":"SUMIFS(Feuil2!$F$2:$F$47,Feuil2!$A$2:$A$47,\"<\"&I17,Feuil2!$A$2:$A$47,\">\"&H17,Feuil2!$C$2:$C$47,G18)","v":0},{"$f":"SUMIFS(Feuil2!$F$2:$F$47,Feuil2!$A$2:$A$47,\"<\"&J17,Feuil2!$A$2:$A$47,\">\"&I17,Feuil2!$C$2:$C$47,H18)","v":0},{"$f":"SUMIFS(Feuil2!$F$2:$F$47,Feuil2!$A$2:$A$47,\"<\"&K17,Feuil2!$A$2:$A$47,\">\"&J17,Feuil2!$C$2:$C$47,I18)","v":0},{"$f":"SUMIFS(Feuil2!$F$2:$F$47,Feuil2!$A$2:$A$47,\"<\"&L17,Feuil2!$A$2:$A$47,\">\"&K17,Feuil2!$C$2:$C$47,J18)","v":0},{"$f":"SUMIFS(Feuil2!$F$2:$F$47,Feuil2!$A$2:$A$47,\"<\"&M17,Feuil2!$A$2:$A$47,\">\"&L17,Feuil2!$C$2:$C$47,K18)","v":0},{"$f":"SUMIFS(Feuil2!$F$2:$F$47,Feuil2!$A$2:$A$47,\"<\"&N17,Feuil2!$A$2:$A$47,\">\"&M17,Feuil2!$C$2:$C$47,L18)","v":0},{"$f":"SUMIFS(Feuil2!$F$2:$F$47,Feuil2!$A$2:$A$47,\"<\"&O17,Feuil2!$A$2:$A$47,\">\"&N17,Feuil2!$C$2:$C$47,M18)","v":0}]
["p",{"$f":"SUMIFS(Feuil2!$F$2:$F$47,Feuil2!$A$2:$A$47,\"<\"&C18,Feuil2!$A$2:$A$47,\">\"&B18,Feuil2!$C$2:$C$47,A19)","v":0},{"$f":"SUMIFS(Feuil2!$F$2:$F$47,Feuil2!$A$2:$A$47,\"<\"&D18,Feuil2!$A$2:$A$47,\">\"&C18,Feuil2!$C$2:$C$47,B19)","v":0},{"$f":"SUMIFS(Feuil2!$F$2:$F$47,Feuil2!$A$2:$A$47,\"<\"&E18,Feuil2!$A$2:$A$47,\">\"&D18,Feuil2!$C$2:$C$47,C19)","v":0},{"$f":"SUMIFS(Feuil2!$F$2:$F$47,Feuil2!$A$2:$A$47,\"<\"&F18,Feuil2!$A$2:$A$47,\">\"&E18,Feuil2!$C$2:$C$47,D19)","v":0},{"$f":"SUMIFS(Feuil2!$F$2:$F$47,Feuil2!$A$2:$A$47,\"<\"&G18,Feuil2!$A$2:$A$47,\">\"&F18,Feuil2!$C$2:$C$47,E19)","v":0},{"$f":"SUMIFS(Feuil2!$F$2:$F$47,Feuil2!$A$2:$A$47,\"<\"&H18,Feuil2!$A$2:$A$47,\">\"&G18,Feuil2!$C$2:$C$47,F19)","v":0},{"$f":"SUMIFS(Feuil2!$F$2:$F$47,Feuil2!$A$2:$A$47,\"<\"&I18,Feuil2!$A$2:$A$47,\">\"&H18,Feuil2!$C$2:$C$47,G19)","v":0},{"$f":"SUMIFS(Feuil2!$F$2:$F$47,Feuil2!$A$2:$A$47,\"<\"&J18,Feuil2!$A$2:$A$47,\">\"&I18,Feuil2!$C$2:$C$47,H19)","v":0},{"$f":"SUMIFS(Feuil2!$F$2:$F$47,Feuil2!$A$2:$A$47,\"<\"&K18,Feuil2!$A$2:$A$47,\">\"&J18,Feuil2!$C$2:$C$47,I19)","v":0},{"$f":"SUMIFS(Feuil2!$F$2:$F$47,Feuil2!$A$2:$A$47,\"<\"&L18,Feuil2!$A$2:$A$47,\">\"&K18,Feuil2!$C$2:$C$47,J19)","v":0},{"$f":"SUMIFS(Feuil2!$F$2:$F$47,Feuil2!$A$2:$A$47,\"<\"&M18,Feuil2!$A$2:$A$47,\">\"&L18,Feuil2!$C$2:$C$47,K19)","v":0},{"$f":"SUMIFS(Feuil2!$F$2:$F$47,Feuil2!$A$2:$A$47,\"<\"&N18,Feuil2!$A$2:$A$47,\">\"&M18,Feuil2!$C$2:$C$47,L19)","v":0},{"$f":"SUMIFS(Feuil2!$F$2:$F$47,Feuil2!$A$2:$A$47,\"<\"&O18,Feuil2!$A$2:$A$47,\">\"&N18,Feuil2!$C$2:$C$47,M19)","v":0}]
["q",{"$f":"SUMIFS(Feuil2!$F$2:$F$47,Feuil2!$A$2:$A$47,\"<\"&C19,Feuil2!$A$2:$A$47,\">\"&B19,Feuil2!$C$2:$C$47,A20)","v":0},{"$f":"SUMIFS(Feuil2!$F$2:$F$47,Feuil2!$A$2:$A$47,\"<\"&D19,Feuil2!$A$2:$A$47,\">\"&C19,Feuil2!$C$2:$C$47,B20)","v":0},{"$f":"SUMIFS(Feuil2!$F$2:$F$47,Feuil2!$A$2:$A$47,\"<\"&E19,Feuil2!$A$2:$A$47,\">\"&D19,Feuil2!$C$2:$C$47,C20)","v":0},{"$f":"SUMIFS(Feuil2!$F$2:$F$47,Feuil2!$A$2:$A$47,\"<\"&F19,Feuil2!$A$2:$A$47,\">\"&E19,Feuil2!$C$2:$C$47,D20)","v":0},{"$f":"SUMIFS(Feuil2!$F$2:$F$47,Feuil2!$A$2:$A$47,\"<\"&G19,Feuil2!$A$2:$A$47,\">\"&F19,Feuil2!$C$2:$C$47,E20)","v":0},{"$f":"SUMIFS(Feuil2!$F$2:$F$47,Feuil2!$A$2:$A$47,\"<\"&H19,Feuil2!$A$2:$A$47,\">\"&G19,Feuil2!$C$2:$C$47,F20)","v":0},{"$f":"SUMIFS(Feuil2!$F$2:$F$47,Feuil2!$A$2:$A$47,\"<\"&I19,Feuil2!$A$2:$A$47,\">\"&H19,Feuil2!$C$2:$C$47,G20)","v":0},{"$f":"SUMIFS(Feuil2!$F$2:$F$47,Feuil2!$A$2:$A$47,\"<\"&J19,Feuil2!$A$2:$A$47,\">\"&I19,Feuil2!$C$2:$C$47,H20)","v":0},{"$f":"SUMIFS(Feuil2!$F$2:$F$47,Feuil2!$A$2:$A$47,\"<\"&K19,Feuil2!$A$2:$A$47,\">\"&J19,Feuil2!$C$2:$C$47,I20)","v":0},{"$f":"SUMIFS(Feuil2!$F$2:$F$47,Feuil2!$A$2:$A$47,\"<\"&L19,Feuil2!$A$2:$A$47,\">\"&K19,Feuil2!$C$2:$C$47,J20)","v":0},{"$f":"SUMIFS(Feuil2!$F$2:$F$47,Feuil2!$A$2:$A$47,\"<\"&M19,Feuil2!$A$2:$A$47,\">\"&L19,Feuil2!$C$2:$C$47,K20)","v":0},{"$f":"SUMIFS(Feuil2!$F$2:$F$47,Feuil2!$A$2:$A$47,\"<\"&N19,Feuil2!$A$2:$A$47,\">\"&M19,Feuil2!$C$2:$C$47,L20)","v":0},{"$f":"SUMIFS(Feuil2!$F$2:$F$47,Feuil2!$A$2:$A$47,\"<\"&O19,Feuil2!$A$2:$A$47,\">\"&N19,Feuil2!$C$2:$C$47,M20)","v":0}]
["r",{"$f":"SUMIFS(Feuil2!$F$2:$F$47,Feuil2!$A$2:$A$47,\"<\"&C20,Feuil2!$A$2:$A$47,\">\"&B20,Feuil2!$C$2:$C$47,A21)","v":0},{"$f":"SUMIFS(Feuil2!$F$2:$F$47,Feuil2!$A$2:$A$47,\"<\"&D20,Feuil2!$A$2:$A$47,\">\"&C20,Feuil2!$C$2:$C$47,B21)","v":0},{"$f":"SUMIFS(Feuil2!$F$2:$F$47,Feuil2!$A$2:$A$47,\"<\"&E20,Feuil2!$A$2:$A$47,\">\"&D20,Feuil2!$C$2:$C$47,C21)","v":0},{"$f":"SUMIFS(Feuil2!$F$2:$F$47,Feuil2!$A$2:$A$47,\"<\"&F20,Feuil2!$A$2:$A$47,\">\"&E20,Feuil2!$C$2:$C$47,D21)","v":0},{"$f":"SUMIFS(Feuil2!$F$2:$F$47,Feuil2!$A$2:$A$47,\"<\"&G20,Feuil2!$A$2:$A$47,\">\"&F20,Feuil2!$C$2:$C$47,E21)","v":0},{"$f":"SUMIFS(Feuil2!$F$2:$F$47,Feuil2!$A$2:$A$47,\"<\"&H20,Feuil2!$A$2:$A$47,\">\"&G20,Feuil2!$C$2:$C$47,F21)","v":0},{"$f":"SUMIFS(Feuil2!$F$2:$F$47,Feuil2!$A$2:$A$47,\"<\"&I20,Feuil2!$A$2:$A$47,\">\"&H20,Feuil2!$C$2:$C$47,G21)","v":0},{"$f":"SUMIFS(Feuil2!$F$2:$F$47,Feuil2!$A$2:$A$47,\"<\"&J20,Feuil2!$A$2:$A$47,\">\"&I20,Feuil2!$C$2:$C$47,H21)","v":0},{"$f":"SUMIFS(Feuil2!$F$2:$F$47,Feuil2!$A$2:$A$47,\"<\"&K20,Feuil2!$A$2:$A$47,\">\"&J20,Feuil2!$C$2:$C$47,I21)","v":0},{"$f":"SUMIFS(Feuil2!$F$2:$F$47,Feuil2!$A$2:$A$47,\"<\"&L20,Feuil2!$A$2:$A$47,\">\"&K20,Feuil2!$C$2:$C$47,J21)","v":0},{"$f":"SUMIFS(Feuil2!$F$2:$F$47,Feuil2!$A$2:$A$47,\"<\"&M20,Feuil2!$A$2:$A$47,\">\"&L20,Feuil2!$C$2:$C$47,K21)","v":0},{"$f":"SUMIFS(Feuil2!$F$2:$F$47,Feuil2!$A$2:$A$47,\"<\"&N20,Feuil2!$A$2:$A$47,\">\"&M20,Feuil2!$C$2:$C$47,L21)","v":0},{"$f":"SUMIFS(Feuil2!$F$2:$F$47,Feuil2!$A$2:$A$47,\"<\"&O20,Feuil2!$A$2:$A$47,\">\"&N20,Feuil2!$C$2:$C$47,M21)","v":0}]
["s",{"$f":"SUMIFS(Feuil2!$F$2:$F$47,Feuil2!$A$2:$A$47,\"<\"&C21,Feuil2!$A$2:$A$47,\">\"&B21,Feuil2!$C$2:$C$47,A22)","v":0},{"$f":"SUMIFS(Feuil2!$F$2:$F$47,Feuil2!$A$2:$A$47,\"<\"&D21,Feuil2!$A$2:$A$47,\">\"&C21,Feuil2!$C$2:$C$47,B22)","v":0},{"$f":"SUMIFS(Feuil2!$F$2:$F$47,Feuil2!$A$2:$A$47,\"<\"&E21,Feuil2!$A$2:$A$47,\">\"&D21,Feuil2!$C$2:$C$47,C22)","v":0},{"$f":"SUMIFS(Feuil2!$F$2:$F$47,Feuil2!$A$2:$A$47,\"<\"&F21,Feuil2!$A$2:$A$47,\">\"&E21,Feuil2!$C$2:$C$47,D22)","v":0},{"$f":"SUMIFS(Feuil2!$F$2:$F$47,Feuil2!$A$2:$A$47,\"<\"&G21,Feuil2!$A$2:$A$47,\">\"&F21,Feuil2!$C$2:$C$47,E22)","v":0},{"$f":"SUMIFS(Feuil2!$F$2:$F$47,Feuil2!$A$2:$A$47,\"<\"&H21,Feuil2!$A$2:$A$47,\">\"&G21,Feuil2!$C$2:$C$47,F22)","v":0},{"$f":"SUMIFS(Feuil2!$F$2:$F$47,Feuil2!$A$2:$A$47,\"<\"&I21,Feuil2!$A$2:$A$47,\">\"&H21,Feuil2!$C$2:$C$47,G22)","v":0},{"$f":"SUMIFS(Feuil2!$F$2:$F$47,Feuil2!$A$2:$A$47,\"<\"&J21,Feuil2!$A$2:$A$47,\">\"&I21,Feuil2!$C$2:$C$47,H22)","v":0},{"$f":"SUMIFS(Feuil2!$F$2:$F$47,Feuil2!$A$2:$A$47,\"<\"&K21,Feuil2!$A$2:$A$47,\">\"&J21,Feuil2!$C$2:$C$47,I22)","v":0},{"$f":"SUMIFS(Feuil2!$F$2:$F$47,Feuil2!$A$2:$A$47,\"<\"&L21,Feuil2!$A$2:$A$47,\">\"&K21,Feuil2!$C$2:$C$47,J22)","v":0},{"$f":"SUMIFS(Feuil2!$F$2:$F$47,Feuil2!$A$2:$A$47,\"<\"&M21,Feuil2!$A$2:$A$47,\">\"&L21,Feuil2!$C$2:$C$47,K22)","v":0},{"$f":"SUMIFS(Feuil2!$F$2:$F$47,Feuil2!$A$2:$A$47,\"<\"&N21,Feuil2!$A$2:$A$47,\">\"&M21,Feuil2!$C$2:$C$47,L22)","v":0},{"$f":"SUMIFS(Feuil2!$F$2:$F$47,Feuil2!$A$2:$A$47,\"<\"&O21,Feuil2!$A$2:$A$47,\">\"&N21,Feuil2!$C$2:$C$47,M22)","v":0}]
["t",{"$f":"SUMIFS(Feuil2!$F$2:$F$47,Feuil2!$A$2:$A$47,\"<\"&C22,Feuil2!$A$2:$A$47,\">\"&B22,Feuil2!$C$2:$C$47,A23)","v":0},{"$f":"SUMIFS(Feuil2!$F$2:$F$47,Feuil2!$A$2:$A$47,\"<\"&D22,Feuil2!$A$2:$A$47,\">\"&C22,Feuil2!$C$2:$C$47,B23)","v":0},{"$f":"SUMIFS(Feuil2!$F$2:$F$47,Feuil2!$A$2:$A$47,\"<\"&E22,Feuil2!$A$2:$A$47,\">\"&D22,Feuil2!$C$2:$C$47,C23)","v":0},{"$f":"SUMIFS(Feuil2!$F$2:$F$47,Feuil2!$A$2:$A$47,\"<\"&F22,Feuil2!$A$2:$A$47,\">\"&E22,Feuil2!$C$2:$C$47,D23)","v":0},{"$f":"SUMIFS(Feuil2!$F$2:$F$47,Feuil2!$A$2:$A$47,\"<\"&G22,Feuil2!$A$2:$A$47,\">\"&F22,Feuil2!$C$2:$C$47,E23)","v":0},{"$f":"SUMIFS(Feuil2!$F$2:$F$47,Feuil2!$A$2:$A$47,\"<\"&H22,Feuil2!$A$2:$A$47,\">\"&G22,Feuil2!$C$2:$C$47,F23)","v":0},{"$f":"SUMIFS(Feuil2!$F$2:$F$47,Feuil2!$A$2:$A$47,\"<\"&I22,Feuil2!$A$2:$A$47,\">\"&H22,Feuil2!$C$2:$C$47,G23)","v":0},{"$f":"SUMIFS(Feuil2!$F$2:$F$47,Feuil2!$A$2:$A$47,\"<\"&J22,Feuil2!$A$2:$A$47,\">\"&I22,Feuil2!$C$2:$C$47,H23)","v":0},{"$f":"SUMIFS(Feuil2!$F$2:$F$47,Feuil2!$A$2:$A$47,\"<\"&K22,Feuil2!$A$2:$A$47,\">\"&J22,Feuil2!$C$2:$C$47,I23)","v":0},{"$f":"SUMIFS(Feuil2!$F$2:$F$47,Feuil2!$A$2:$A$47,\"<\"&L22,Feuil2!$A$2:$A$47,\">\"&K22,Feuil2!$C$2:$C$47,J23)","v":0},{"$f":"SUMIFS(Feuil2!$F$2:$F$47,Feuil2!$A$2:$A$47,\"<\"&M22,Feuil2!$A$2:$A$47,\">\"&L22,Feuil2!$C$2:$C$47,K23)","v":0},{"$f":"SUMIFS(Feuil2!$F$2:$F$47,Feuil2!$A$2:$A$47,\"<\"&N22,Feuil2!$A$2:$A$47,\">\"&M22,Feuil2!$C$2:$C$47,L23)","v":0},{"$f":"SUMIFS(Feuil2!$F$2:$F$47,Feuil2!$A$2:$A$47,\"<\"&O22,Feuil2!$A$2:$A$47,\">\"&N22,Feuil2!$C$2:$C$47,M23)","v":0}]
["u",{"$f":"SUMIFS(Feuil2!$F$2:$F$47,Feuil2!$A$2:$A$47,\"<\"&C23,Feuil2!$A$2:$A$47,\">\"&B23,Feuil2!$C$2:$C$47,A24)","v":0},{"$f":"SUMIFS(Feuil2!$F$2:$F$47,Feuil2!$A$2:$A$47,\"<\"&D23,Feuil2!$A$2:$A$47,\">\"&C23,Feuil2!$C$2:$C$47,B24)","v":0},{"$f":"SUMIFS(Feuil2!$F$2:$F$47,Feuil2!$A$2:$A$47,\"<\"&E23,Feuil2!$A$2:$A$47,\">\"&D23,Feuil2!$C$2:$C$47,C24)","v":0},{"$f":"SUMIFS(Feuil2!$F$2:$F$47,Feuil2!$A$2:$A$47,\"<\"&F23,Feuil2!$A$2:$A$47,\">\"&E23,Feuil2!$C$2:$C$47,D24)","v":0},{"$f":"SUMIFS(Feuil2!$F$2:$F$47,Feuil2!$A$2:$A$47,\"<\"&G23,Feuil2!$A$2:$A$47,\">\"&F23,Feuil2!$C$2:$C$47,E24)","v":0},{"$f":"SUMIFS(Feuil2!$F$2:$F$47,Feuil2!$A$2:$A$47,\"<\"&H23,Feuil2!$A$2:$A$47,\">\"&G23,Feuil2!$C$2:$C$47,F24)","v":0},{"$f":"SUMIFS(Feuil2!$F$2:$F$47,Feuil2!$A$2:$A$47,\"<\"&I23,Feuil2!$A$2:$A$47,\">\"&H23,Feuil2!$C$2:$C$47,G24)","v":0},{"$f":"SUMIFS(Feuil2!$F$2:$F$47,Feuil2!$A$2:$A$47,\"<\"&J23,Feuil2!$A$2:$A$47,\">\"&I23,Feuil2!$C$2:$C$47,H24)","v":0},{"$f":"SUMIFS(Feuil2!$F$2:$F$47,Feuil2!$A$2:$A$47,\"<\"&K23,Feuil2!$A$2:$A$47,\">\"&J23,Feuil2!$C$2:$C$47,I24)","v":0},{"$f":"SUMIFS(Feuil2!$F$2:$F$47,Feuil2!$A$2:$A$47,\"<\"&L23,Feuil2!$A$2:$A$47,\">\"&K23,Feuil2!$C$2:$C$47,J24)","v":0},{"$f":"SUMIFS(Feuil2!$F$2:$F$47,Feuil2!$A$2:$A$47,\"<\"&M23,Feuil2!$A$2:$A$47,\">\"&L23,Feuil2!$C$2:$C$47,K24)","v":0},{"$f":"SUMIFS(Feuil2!$F$2:$F$47,Feuil2!$A$2:$A$47,\"<\"&N23,Feuil2!$A$2:$A$47,\">\"&M23,Feuil2!$C$2:$C$47,L24)","v":0},{"$f":"SUMIFS(Feuil2!$F$2:$F$47,Feuil2!$A$2:$A$47,\"<\"&O23,Feuil2!$A$2:$A$47,\">\"&N23,Feuil2!$C$2:$C$47,M24)","v":0}]
["v",{"$f":"SUMIFS(Feuil2!$F$2:$F$47,Feuil2!$A$2:$A$47,\"<\"&C24,Feuil2!$A$2:$A$47,\">\"&B24,Feuil2!$C$2:$C$47,A25)","v":0},{"$f":"SUMIFS(Feuil2!$F$2:$F$47,Feuil2!$A$2:$A$47,\"<\"&D24,Feuil2!$A$2:$A$47,\">\"&C24,Feuil2!$C$2:$C$47,B25)","v":0},{"$f":"SUMIFS(Feuil2!$F$2:$F$47,Feuil2!$A$2:$A$47,\"<\"&E24,Feuil2!$A$2:$A$47,\">\"&D24,Feuil2!$C$2:$C$47,C25)","v":0},{"$f":"SUMIFS(Feuil2!$F$2:$F$47,Feuil2!$A$2:$A$47,\"<\"&F24,Feuil2!$A$2:$A$47,\">\"&E24,Feuil2!$C$2:$C$47,D25)","v":0},{"$f":"SUMIFS(Feuil2!$F$2:$F$47,Feuil2!$A$2:$A$47,\"<\"&G24,Feuil2!$A$2:$A$47,\">\"&F24,Feuil2!$C$2:$C$47,E25)","v":0},{"$f":"SUMIFS(Feuil2!$F$2:$F$47,Feuil2!$A$2:$A$47,\"<\"&H24,Feuil2!$A$2:$A$47,\">\"&G24,Feuil2!$C$2:$C$47,F25)","v":0},{"$f":"SUMIFS(Feuil2!$F$2:$F$47,Feuil2!$A$2:$A$47,\"<\"&I24,Feuil2!$A$2:$A$47,\">\"&H24,Feuil2!$C$2:$C$47,G25)","v":0},{"$f":"SUMIFS(Feuil2!$F$2:$F$47,Feuil2!$A$2:$A$47,\"<\"&J24,Feuil2!$A$2:$A$47,\">\"&I24,Feuil2!$C$2:$C$47,H25)","v":0},{"$f":"SUMIFS(Feuil2!$F$2:$F$47,Feuil2!$A$2:$A$47,\"<\"&K24,Feuil2!$A$2:$A$47,\">\"&J24,Feuil2!$C$2:$C$47,I25)","v":0},{"$f":"SUMIFS(Feuil2!$F$2:$F$47,Feuil2!$A$2:$A$47,\"<\"&L24,Feuil2!$A$2:$A$47,\">\"&K24,Feuil2!$C$2:$C$47,J25)","v":0},{"$f":"SUMIFS(Feuil2!$F$2:$F$47,Feuil2!$A$2:$A$47,\"<\"&M24,Feuil2!$A$2:$A$47,\">\"&L24,Feuil2!$C$2:$C$47,K25)","v":0},{"$f":"SUMIFS(Feuil2!$F$2:$F$47,Feuil2!$A$2:$A$47,\"<\"&N24,Feuil2!$A$2:$A$47,\">\"&M24,Feuil2!$C$2:$C$47,L25)","v":0},{"$f":"SUMIFS(Feuil2!$F$2:$F$47,Feuil2!$A$2:$A$47,\"<\"&O24,Feuil2!$A$2:$A$47,\">\"&N24,Feuil2!$C$2:$C$47,M25)","v":0}]
["w",{"$f":"SUMIFS(Feuil2!$F$2:$F$47,Feuil2!$A$2:$A$47,\"<\"&C25,Feuil2!$A$2:$A$47,\">\"&B25,Feuil2!$C$2:$C$47,A26)","v":0},{"$f":"SUMIFS(Feuil2!$F$2:$F$47,Feuil2!$A$2:$A$47,\"<\"&D25,Feuil2!$A$2:$A$47,\">\"&C25,Feuil2!$C$2:$C$47,B26)","v":0},{"$f":"SUMIFS(Feuil2!$F$2:$F$47,Feuil2!$A$2:$A$47,\"<\"&E25,Feuil2!$A$2:$A$47,\">\"&D25,Feuil2!$C$2:$C$47,C26)","v":0},{"$f":"SUMIFS(Feuil2!$F$2:$F$47,Feuil2!$A$2:$A$47,\"<\"&F25,Feuil2!$A$2:$A$47,\">\"&E25,Feuil2!$C$2:$C$47,D26)","v":0},{"$f":"SUMIFS(Feuil2!$F$2:$F$47,Feuil2!$A$2:$A$47,\"<\"&G25,Feuil2!$A$2:$A$47,\">\"&F25,Feuil2!$C$2:$C$47,E26)","v":0},{"$f":"SUMIFS(Feuil2!$F$2:$F$47,Feuil2!$A$2:$A$47,\"<\"&H25,Feuil2!$A$2:$A$47,\">\"&G25,Feuil2!$C$2:$C$47,F26)","v":0},{"$f":"SUMIFS(Feuil2!$F$2:$F$47,Feuil2!$A$2:$A$47,\"<\"&I25,Feuil2!$A$2:$A$47,\">\"&H25,Feuil2!$C$2:$C$47,G26)","v":0},{"$f":"SUMIFS(Feuil2!$F$2:$F$47,Feuil2!$A$2:$A$47,\"<\"&J25,Feuil2!$A$2:$A$47,\">\"&I25,Feuil2!$C$2:$C$47,H26)","v":0},{"$f":"SUMIFS(Feuil2!$F$2:$F$47,Feuil2!$A$2:$A$47,\"<\"&K25,Feuil2!$A$2:$A$47,\">\"&J25,Feuil2!$C$2:$C$47,I26)","v":0},{"$f":"SUMIFS(Feuil2!$F$2:$F$47,Feuil2!$A$2:$A$47,\"<\"&L25,Feuil2!$A$2:$A$47,\">\"&K25,Feuil2!$C$2:$C$47,J26)","v":0},{"$f":"SUMIFS(Feuil2!$F$2:$F$47,Feuil2!$A$2:$A$47,\"<\"&M25,Feuil2!$A$2:$A$47,\">\"&L25,Feuil2!$C$2:$C$47,K26)","v":0},{"$f":"SUMIFS(Feuil2!$F$2:$F$47,Feuil2!$A$2:$A$47,\"<\"&N25,Feuil2!$A$2:$A$47,\">\"&M25,Feuil2!$C$2:$C$47,L26)","v":0},{"$f":"SUMIFS(Feuil2!$F$2:$F$47,Feuil2!$A$2:$A$47,\"<\"&O25,Feuil2!$A$2:$A$47,\">\"&N25,Feuil2!$C$2:$C$47,M26)","v":0}]
["x",{"$f":"SUMIFS(Feuil2!$F$2:$F$47,Feuil2!$A$2:$A$47,\"<\"&C26,Feuil2!$A$2:$A$47,\">\"&B26,Feuil2!$C$2:$C$47,A27)","v":0},{"$f":"SUMIFS(Feuil2!$F$2:$F$47,Feuil2!$A$2:$A$47,\"<\"&D26,Feuil2!$A$2:$A$47,\">\"&C26,Feuil2!$C$2:$C$47,B27)","v":0},{"$f":"SUMIFS(Feuil2!$F$2:$F$47,Feuil2!$A$2:$A$47,\"<\"&E26,Feuil2!$A$2:$A$47,\">\"&D26,Feuil2!$C$2:$C$47,C27)","v":0},{"$f":"SUMIFS(Feuil2!$F$2:$F$47,Feuil2!$A$2:$A$47,\"<\"&F26,Feuil2!$A$2:$A$47,\">\"&E26,Feuil2!$C$2:$C$47,D27)","v":0},{"$f":"SUMIFS(Feuil2!$F$2:$F$47,Feuil2!$A$2:$A$47,\"<\"&G26,Feuil2!$A$2:$A$47,\">\"&F26,Feuil2!$C$2:$C$47,E27)","v":0},{"$f":"SUMIFS(Feuil2!$F$2:$F$47,Feuil2!$A$2:$A$47,\"<\"&H26,Feuil2!$A$2:$A$47,\">\"&G26,Feuil2!$C$2:$C$47,F27)","v":0},{"$f":"SUMIFS(Feuil2!$F$2:$F$47,Feuil2!$A$2:$A$47,\"<\"&I26,Feuil2!$A$2:$A$47,\">\"&H26,Feuil2!$C$2:$C$47,G27)","v":0},{"$f":"SUMIFS(Feuil2!$F$2:$F$47,Feuil2!$A$2:$A$47,\"<\"&J26,Feuil2!$A$2:$A$47,\">\"&I26,Feuil2!$C$2:$C$47,H27)","v":0},{"$f":"SUMIFS(Feuil2!$F$2:$F$47,Feuil2!$A$2:$A$47,\"<\"&K26,Feuil2!$A$2:$A$47,\">\"&J26,Feuil2!$C$2:$C$47,I27)","v":0},{"$f":"SUMIFS(Feuil2!$F$2:$F$47,Feuil2!$A$2:$A$47,\"<\"&L26,Feuil2!$A$2:$A$47,\">\"&K26,Feuil2!$C$2:$C$47,J27)","v":0},{"$f":"SUMIFS(Feuil2!$F$2:$F$47,Feuil2!$A$2:$A$47,\"<\"&M26,Feuil2!$A$2:$A$47,\">\"&L26,Feuil2!$C$2:$C$47,K27)","v":0},{"$f":"SUMIFS(Feuil2!$F$2:$F$47,Feuil2!$A$2:$A$47,\"<\"&N26,Feuil2!$A$2:$A$47,\">\"&M26,Feuil2!$C$2:$C$47,L27)","v":0},{"$f":"SUMIFS(Feuil2!$F$2:$F$47,Feuil2!$A$2:$A$47,\"<\"&O26,Feuil2!$A$2:$A$47,\">\"&N26,Feuil2!$C$2:$C$47,M27)","v":0}]
["y",{"$f":"SUMIFS(Feuil2!$F$2:$F$47,Feuil2!$A$2:$A$47,\"<\"&C27,Feuil2!$A$2:$A$47,\">\"&B27,Feuil2!$C$2:$C$47,A28)","v":0},{"$f":"SUMIFS(Feuil2!$F$2:$F$47,Feuil2!$A$2:$A$47,\"<\"&D27,Feuil2!$A$2:$A$47,\">\"&C27,Feuil2!$C$2:$C$47,B28)","v":0},{"$f":"SUMIFS(Feuil2!$F$2:$F$47,Feuil2!$A$2:$A$47,\"<\"&E27,Feuil2!$A$2:$A$47,\">\"&D27,Feuil2!$C$2:$C$47,C28)","v":0},{"$f":"SUMIFS(Feuil2!$F$2:$F$47,Feuil2!$A$2:$A$47,\"<\"&F27,Feuil2!$A$2:$A$47,\">\"&E27,Feuil2!$C$2:$C$47,D28)","v":0},{"$f":"SUMIFS(Feuil2!$F$2:$F$47,Feuil2!$A$2:$A$47,\"<\"&G27,Feuil2!$A$2:$A$47,\">\"&F27,Feuil2!$C$2:$C$47,E28)","v":0},{"$f":"SUMIFS(Feuil2!$F$2:$F$47,Feuil2!$A$2:$A$47,\"<\"&H27,Feuil2!$A$2:$A$47,\">\"&G27,Feuil2!$C$2:$C$47,F28)","v":0},{"$f":"SUMIFS(Feuil2!$F$2:$F$47,Feuil2!$A$2:$A$47,\"<\"&I27,Feuil2!$A$2:$A$47,\">\"&H27,Feuil2!$C$2:$C$47,G28)","v":0},{"$f":"SUMIFS(Feuil2!$F$2:$F$47,Feuil2!$A$2:$A$47,\"<\"&J27,Feuil2!$A$2:$A$47,\">\"&I27,Feuil2!$C$2:$C$47,H28)","v":0},{"$f":"SUMIFS(Feuil2!$F$2:$F$47,Feuil2!$A$2:$A$47,\"<\"&K27,Feuil2!$A$2:$A$47,\">\"&J27,Feuil2!$C$2:$C$47,I28)","v":0},{"$f":"SUMIFS(Feuil2!$F$2:$F$47,Feuil2!$A$2:$A$47,\"<\"&L27,Feuil2!$A$2:$A$47,\">\"&K27,Feuil2!$C$2:$C$47,J28)","v":0},{"$f":"SUMIFS(Feuil2!$F$2:$F$47,Feuil2!$A$2:$A$47,\"<\"&M27,Feuil2!$A$2:$A$47,\">\"&L27,Feuil2!$C$2:$C$47,K28)","v":0},{"$f":"SUMIFS(Feuil2!$F$2:$F$47,Feuil2!$A$2:$A$47,\"<\"&N27,Feuil2!$A$2:$A$47,\">\"&M27,Feuil2!$C$2:$C$47,L28)","v":0},{"$f":"SUMIFS(Feuil2!$F$2:$F$47,Feuil2!$A$2:$A$47,\"<\"&O27,Feuil2!$A$2:$A$47,\">\"&N27,Feuil2!$C$2:$C$47,M28)","v":0}]
["z",{"$f":"SUMIFS(Feuil2!$F$2:$F$47,Feuil2!$A$2:$A$47,\"<\"&C28,Feuil2!$A$2:$A$47,\">\"&B28,Feuil2!$C$2:$C$47,A29)","v":0},{"$f":"SUMIFS(Feuil2!$F$2:$F$47,Feuil2!$A$2:$A$47,\"<\"&D28,Feuil2!$A$2:$A$47,\">\"&C28,Feuil2!$C$2:$C$47,B29)","v":0},{"$f":"SUMIFS(Feuil2!$F$2:$F$47,Feuil2!$A$2:$A$47,\"<\"&E28,Feuil2!$A$2:$A$47,\">\"&D28,Feuil2!$C$2:$C$47,C29)","v":0},{"$f":"SUMIFS(Feuil2!$F$2:$F$47,Feuil2!$A$2:$A$47,\"<\"&F28,Feuil2!$A$2:$A$47,\">\"&E28,Feuil2!$C$2:$C$47,D29)","v":0},{"$f":"SUMIFS(Feuil2!$F$2:$F$47,Feuil2!$A$2:$A$47,\"<\"&G28,Feuil2!$A$2:$A$47,\">\"&F28,Feuil2!$C$2:$C$47,E29)","v":0},{"$f":"SUMIFS(Feuil2!$F$2:$F$47,Feuil2!$A$2:$A$47,\"<\"&H28,Feuil2!$A$2:$A$47,\">\"&G28,Feuil2!$C$2:$C$47,F29)","v":0},{"$f":"SUMIFS(Feuil2!$F$2:$F$47,Feuil2!$A$2:$A$47,\"<\"&I28,Feuil2!$A$2:$A$47,\">\"&H28,Feuil2!$C$2:$C$47,G29)","v":0},{"$f":"SUMIFS(Feuil2!$F$2:$F$47,Feuil2!$A$2:$A$47,\"<\"&J28,Feuil2!$A$2:$A$47,\">\"&I28,Feuil2!$C$2:$C$47,H29)","v":0},{"$f":"SUMIFS(Feuil2!$F$2:$F$47,Feuil2!$A$2:$A$47,\"<\"&K28,Feuil2!$A$2:$A$47,\">\"&J28,Feuil2!$C$2:$C$47,I29)","v":0},{"$f":"SUMIFS(Feuil2!$F$2:$F$47,Feuil2!$A$2:$A$47,\"<\"&L28,Feuil2!$A$2:$A$47,\">\"&K28,Feuil2!$C$2:$C$47,J29)","v":0},{"$f":"SUMIFS(Feuil2!$F$2:$F$47,Feuil2!$A$2:$A$47,\"<\"&M28,Feuil2!$A$2:$A$47,\">\"&L28,Feuil2!$C$2:$C$47,K29)","v":0},{"$f":"SUMIFS(Feuil2!$F$2:$F$47,Feuil2!$A$2:$A$47,\"<\"&N28,Feuil2!$A$2:$A$47,\">\"&M28,Feuil2!$C$2:$C$47,L29)","v":0},{"$f":"SUMIFS(Feuil2!$F$2:$F$47,Feuil2!$A$2:$A$47,\"<\"&O28,Feuil2!$A$2:$A$47,\">\"&N28,Feuil2!$C$2:$C$47,M29)","v":0}]

{"sheet":"Feuil2","index":1,"n_rows":47,"n_cols":6,"rows_kept":47}
["Date of Inbound","Inbound eCOS ID","Lilly ID",null,"Banding","Quantity"]
["2013-11-08",1890824,"a",null,10,{"v":4,"d":"4.00"}]
["2013-11-08",1890823,"b",null,5,{"v":6,"d":"6.00"}]
["2013-11-08",1890822,"a",null,10,{"v":2,"d":"2.00"}]
["2013-11-08",1890821,"b",null,10,{"v":2,"d":"2.00"}]
["2013-11-08",1890820,"f",null,10,{"v":5,"d":"5.00"}]
["2013-11-08",1890819,"g",null,10,{"v":4,"d":"4.00"}]
["2013-11-08",1890818,"t",null,20,{"v":1,"d":"1.00"}]
["2013-11-08",1890817,"g",null,20,{"v":2,"d":"2.00"}]
["2013-11-08",1890816,"f",null,10,{"v":3,"d":"3.00"}]
["2013-11-08",1890815,"r",null,10,{"v":2,"d":"2.00"}]
["2013-11-25",1904903,"t",null,10,{"v":60,"d":"60.00"}]
["2013-11-26",1906666,"h",null,10,{"v":51,"d":"51.00"}]
["2013-12-06",1912324,"y",null,10,{"v":145,"d":"145.00"}]
["2013-12-12",1915809,"a",null,10,{"v":45,"d":"45.00"}]
["2013-12-13",1917097,"b",null,10,{"v":200,"d":"200.00"}]
["2013-12-23",1921139,"f",null,10,{"v":122,"d":"122.00"}]
["2013-12-27",1922114,"h",null,1,{"v":50,"d":"50.00"}]
["2013-12-31",1922371,"j",null,10,{"v":48,"d":"48.00"}]
["2014-01-06",1924394,"o",null,10,{"v":199,"d":"199.00"}]
["2014-01-06",1924391,"p",null,10,{"v":67,"d":"67.00"}]
["2014-01-30",1953003,"m",null,10,{"v":55,"d":"55.00"}]
["2014-02-11",1962125,"d",null,10,{"v":103,"d":"103.00"}]
["2014-02-11",1961590,"v",null,10,{"v":100,"d":"100.00"}]
["2014-02-13",1964734,"d",null,10,{"v":111,"d":"111.00"}]
["2014-02-19",1968806,"z",null,5,{"v":390,"d":"390.00"}]
["2014-02-20",1969597,"e",null,5,{"v":8,"d":"8.00"}]
["2014-03-14",1984553,"r",null,10,{"v":47,"d":"47.00"}]
["2014-03-21",1988892,"t",null,1,{"v":30,"d":"30.00"}]
["2014-04-03",1996993,"y",null,10,{"v":25,"d":"25.00"}]
["2014-04-25",2010529,"u",null,1,{"v":1970,"d":"1970.00"}]
["2014-05-07",2016413,"i",null,10,{"v":1050,"d":"1050.00"}]
["2014-05-14",2020282,"b",null,10,{"v":100,"d":"100.00"}]
["2014-05-28",2030188,"v",null,10,{"v":49,"d":"49.00"}]
["2014-06-11",2037770,"a",null,10,{"v":99,"d":"99.00"}]
["2014-08-21",2067379,"c",null,10,{"v":299,"d":"299.00"}]
["2014-08-25",2068674,"b",null,10,{"v":50,"d":"50.00"}]
["2014-09-02",2076169,"n",null,10,{"v":45,"d":"45.00"}]
["2014-09-03",2079224,"j",null,10,{"v":255,"d":"255.00"}]
["2014-09-04",2079968,"a",null,10,{"v":56,"d":"56.00"}]
["2014-09-09",2083036,"s",null,10,{"v":45,"d":"45.00"}]
["2014-10-03",2102027,"d",null,10,{"v":96,"d":"96.00"}]
["2014-10-13",2106684,"e",null,10,{"v":192,"d":"192.00"}]
["2014-10-14",2107359,"r",null,10,{"v":1212,"d":"1212.00"}]
["2014-10-27",2115073,"t",null,10,{"v":39,"d":"39.00"}]
["2014-10-29",2116403,"g",null,10,{"v":99,"d":"99.00"}]
["2014-11-03",2118631,"f",null,10,{"v":49,"d":"49.00"}]

{"sheet":"Feuil3","index":2,"n_rows":0,"n_cols":0,"rows_kept":0}