{"text_format":"3","workbook":"xlsx","n_sheets":7,"sheets":["Charge atelier chaudronnerie","Suivi Opé","St4-3-2015","23-3-2015","St-25-3-2015","30-03-2015","St-30-03-2015"],"not_rendered":{"macros":1,"defined_names":10},"read":"whole","date_system":"1900"}

{"sheet":"Charge atelier chaudronnerie","index":0,"n_rows":2000,"n_cols":7,"rows_kept":2000}
["245293",8,"EC","2014-10-21",50,"2015-03-23T11:08:00",{"$f":"D1-F1","v":{"v":-153.4638888888876,"d":"-153"}}]
["246465",4,"EC","2014-09-07T23:06:00",50,"2014-11-06T15:26:00","blocage MRO perçage"]
["254682",2,"EC","2014-12-25T04:07:00",50,"2014-11-18"]
["251545",11,"EC","2014-12-17T14:08:00",50,"2014-12-15T10:01:00"]
["255591",6,"EC","2014-12-10T02:44:34",50,"2015-01-21T09:24:00",{"$f":"F5-D5","v":{"v":42.27738425926509,"d":"42"}}]
["205639",54,"EC","2014-06-18T23:28:00",{"v":50,"d":"50.00"},"2015-01-21T09:41:00"]
["254365",1,"EC","2014-10-30T05:40:00",50,"2015-01-21T09:41:00"]
["248451",1,"EC","2014-10-21T05:47:00",50,"2015-01-22T15:06:00"]
["254143",6,"EC","2014-02-28T01:42:51",50,"2015-01-26T08:00:00",{"$f":"F9-D9","v":{"v":332.26190972222685,"d":"332"}}]
["246194",1,"EC","2014-09-01T01:42:51",50,"2015-01-27T14:25:00",{"$f":"F10-D10","v":{"v":148.52927083333634,"d":"149"}}]
["246197",6,"EC","2014-11-03T06:51:26",50,"2015-01-28T13:22:00",{"$f":"F11-D11","v":{"v":86.27122685185168,"d":"86"}}]
["258997",2,"EC","2015-01-09T02:03:26",50,"2015-02-04T09:13:00",{"$f":"F12-D12","v":{"v":26.298310185185983,"d":"26"}}]
["260077",5,"EC","2014-10-09T01:32:34",50,"2015-02-04T10:49:00",{"$f":"F13-D13","v":{"v":118.38641203703446,"d":"118"}}]
["257023",1,"EC","2014-11-13T11:39:26",50,"2015-02-05T10:09:00","tron 18/11 peint + ass à faire"]
["261284",6,"EC","2014-10-21T03:46:17",50,"2015-02-06T08:32:00",{"$f":"F15-D15","v":{"v":108.19841435185663,"d":"108"}}]
["237593",10,"EC","2014-10-31T20:34:17",50,"2015-02-16T09:38:00",{"$f":"F16-D16","v":{"v":107.5442476851822,"d":"108"}}]
["261034",5,"EC","2015-01-21T02:24:00",50,"2015-02-19T13:23:00",{"$f":"F17-D17","v":{"v":29.45763888888905,"d":"29"}}]
["252306",15,"EC","2015-02-13T08:24:00",50,"2015-02-24T11:10:00",{"$f":"F18-D18","v":{"v":11.115277777782467,"d":"11"}}]
["246201",6,"EC","2014-11-03T06:51:26",50,"2015-02-25T09:09:00",{"$f":"F19-D19","v":{"v":114.09553240740934,"d":"114"}}]
["260087",20,"EC","2014-11-25",50,"2015-03-02T08:00:00",{"$f":"D20-F20","v":{"v":-97.33333333333576,"d":"-97"}}]
["260158",12,"EC","2015-03-10",50,"2015-03-02T08:02:00",{"$f":"D21-F21","v":{"v":7.665277777778101,"d":"8"}}]
["261035",5,"EC","2015-01-08",50,"2015-03-02T10:33:00",{"$f":"D22-F22","v":{"v":-53.43958333333285,"d":"-53"}}]
["250873",2,"EC","2014-11-14",50,"2015-03-02T15:40:00",{"$f":"D23-F23","v":{"v":-108.65277777778101,"d":"-109"}}]
["251977",4,"EC","2014-11-14",50,"2015-03-02T16:01:00",{"$f":"D24-F24","v":{"v":-108.66736111111095,"d":"-109"}}]
["250872",6,"EC","2014-11-27",50,"2015-03-02T16:19:00",{"$f":"D25-F25","v":{"v":-95.67986111110804,"d":"-96"}}]
["261930",5,"EC","2015-03-10",50,"2015-03-04T08:00:00",{"$f":"D26-F26","v":{"v":5.666666666664241,"d":"6"}}]
["209757",2,"EC","2015-02-13",50,"2015-03-04T08:00:00",{"$f":"D27-F27","v":{"v":-19.33333333333576,"d":"-19"}}]
["260935",10,"EC","2015-03-03",50,"2015-03-04T09:30:00",{"$f":"D28-F28","v":{"v":-1.3958333333357587,"d":"-1"}}]
["248057",6,"EC","2015-03-05T11:19:00",50,"2015-03-04T16:37:00"]
["263823",5,"EC","2015-01-30",50,"2015-03-08",{"$f":"D30-F30","v":-37}]
["259565",10,"EC","2015-03-06",50,"2015-03-09T08:00:00",{"$f":"D31-F31","v":{"v":-3.3333333333357587,"d":"-3"}}]
["261135",10,"EC","2015-03-26",50,"2015-03-09T08:00:00",{"$f":"D32-F32","v":{"v":16.66666666666424,"d":"17"}}]
["264679",1,"EC","2015-02-10",50,"2015-03-09T08:13:00",{"$f":"D33-F33","v":{"v":-27.34236111111386,"d":"-27"}}]
["260951",5,"EC","2015-02-20",50,"2015-03-09T09:41:00",{"$f":"D34-F34","v":{"v":-17.403472222220444,"d":"-17"}}]
["260951",5,"EC","2015-02-16",50,"2015-03-09T10:00:00",{"$f":"D35-F35","v":{"v":-21.41666666666424,"d":"-21"}}]
["265482",10,"EC","2014-10-31",50,"2015-03-09T13:52:00",{"$f":"D36-F36","v":{"v":-129.57777777777665,"d":"-130"}}]
["264242",6,"EC","2014-12-08",50,"2015-03-10T09:13:00",{"$f":"D37-F37","v":{"v":-92.3840277777781,"d":"-92"}}]
["264686",5,"EC","2014-12-18",50,"2015-03-10T09:38:00",{"$f":"D38-F38","v":{"v":-82.4013888888876,"d":"-82"}}]
["257060",5,"EC","2015-02-20",50,"2015-03-10T09:47:00",{"$f":"D39-F39","v":{"v":-18.40763888888614,"d":"-18"}}]
["257511",6,"EC","2015-03-10",50,"2015-03-10T16:05:00",{"$f":"D40-F40","v":{"v":-0.6701388888905058,"d":"-1"}}]
["250872",6,"EC","2014-12-11",50,"2015-03-11T09:16:00",{"$f":"D41-F41","v":{"v":-90.38611111111095,"d":"-90"}}]
["247240",6,"EC","2015-06-09",50,"2015-03-11T09:34:00",{"$f":"D42-F42","v":{"v":89.60138888889196,"d":"90"}}]
["250873",2,"EC","2014-11-28",50,"2015-03-11T11:08:00",{"$f":"D43-F43","v":{"v":-103.4638888888876,"d":"-103"}}]
["251977",4,"EC","2014-11-28",50,"2015-03-11T11:55:00",{"$f":"D44-F44","v":{"v":-103.49652777778101,"d":"-103"}}]
["235138",5,"EC","2015-03-02T04:06:51",50,"2015-03-12T08:00:00",{"$f":"F45-D45","v":{"v":10.161909722221026,"d":"10"}}]
["263237",5,"EC","2015-03-05",50,"2015-03-12T16:19:00",{"$f":"D46-F46","v":{"v":-7.679861111108039,"d":"-8"}}]
["254120",1,"EC","2015-02-24",50,"2015-03-16T08:00:00"]
["261887",5,"EC","2014-10-15",50,"2015-03-16T09:25:00"]
["259184",10,"EC","2015-03-09",50,"2015-03-16T10:50:00",{"$f":"D49-F49","v":{"v":-7.451388888890506,"d":"-7"}}]
["259533",5,"EC","2015-03-02",50,"2015-03-16T13:56:00",{"$f":"D50-F50","v":{"v":-14.580555555556202,"d":"-15"}}]
["259226",3,"EC","2015-03-05",50,"2015-03-16T16:11:00",{"$f":"D51-F51","v":{"v":-11.674305555556202,"d":"-12"}}]
["265305",12,"EC","2014-10-27",50,"2015-03-17T10:26:00"]
["245403",3,"EC","2014-10-29",50,"2015-03-18T08:00:00",{"$f":"D53-F53","v":{"v":-140.33333333333576,"d":"-140"}}]
["245053",12,"EC","2015-01-22",50,"2015-03-18T08:00:00"]
["248010",3,"EC","2014-11-17",50,"2015-03-19T08:00:00",{"$f":"D55-F55","v":{"v":-122.33333333333576,"d":"-122"}}]
["261239",10,"EC","2015-02-13T04:06:51",50,"2015-03-19T08:00:00",{"$f":"F56-D56","v":{"v":34.161909722221026,"d":"34"}}]
["255498",10,"EC","2015-03-12",50,"2015-03-19T08:53:00",{"$f":"F57-D57","v":{"v":7.370138888887595,"d":"7"}}]
["260150",2,"EC","2015-03-13",50,"2015-03-19T14:39:00",{"$f":"D58-F58","v":{"v":-6.610416666670062,"d":"-7"}}]
["264896",10,"EC","2015-03-26",50,"2015-03-20T08:50:00",{"$f":"D59-F59","v":{"v":5.631944444445253,"d":"6"}}]
["260354",10,"EC","2015-03-20",50,"2015-03-22T22:43:00",{"$f":"D60-F60","v":{"v":-2.946527777778101,"d":"-3"}}]
["266221",6,"EC","2015-02-02",50,"2015-03-23T08:00:00"]
["245403",3,"EC","2014-11-04",50,"2015-03-23T08:00:00",{"$f":"D62-F62","v":{"v":-139.33333333333576,"d":"-139"}}]
["259152",3,"EC","2015-02-16",50,"2015-03-23T08:03:00",{"$f":"D63-F63","v":{"v":-35.33541666666861,"d":"-35"}}]
["259226",3,"EC","2015-03-24",50,"2015-03-23T08:43:00",{"$f":"D64-F64","v":{"v":0.6368055555576575,"d":"1"}}]
["246198",3,"EC","2014-10-02",50,"2015-03-23T10:03:00",{"$f":"D65-F65","v":{"v":-172.4187499999971,"d":"-172"}}]
["261887",5,"EC","2014-12-23",50,"2015-03-23T13:54:00",{"$f":"D66-F66","v":{"v":-90.57916666667006,"d":"-91"}}]
["266221",6,"EC","2015-02-05",50,"2015-03-23T14:28:00"]
["259537",9,"EC","2015-03-26",50,"2015-03-23T16:49:00",{"$f":"D68-F68","v":{"v":2.2993055555562023,"d":"2"}}]
["261992",18,"EC","2015-03-17",50,"2015-03-24T09:46:00",{"$f":"D69-F69","v":{"v":-7.406944444446708,"d":"-7"}}]
["241914",6,"EC","2015-01-23",50,"2015-03-24T09:48:00"]
["261149",10,"EC","2015-03-30",50,"2015-03-24T10:15:00",{"$f":"D71-F71","v":{"v":5.572916666664241,"d":"6"}}]
["259230",3,"EC","2015-03-05",50,"2015-03-24T14:04:00",{"$f":"D72-F72","v":{"v":-19.58611111110804,"d":"-20"}}]
["261944",5,"EC","2015-03-30",50,"2015-03-24T14:07:00",{"$f":"D73-F73","v":{"v":5.411805555559113,"d":"5"}}]
["248010",3,"EC","2014-11-21",50,"2015-03-25T10:34:00",{"$f":"D74-F74","v":{"v":-124.44027777777956,"d":"-124"}}]
["266590",1,"EC","2015-03-27",50,"2015-03-25T15:45:00"]
["252682",3,"EC","2014-12-19",50,"2015-03-26T08:00:00",{"$f":"D76-F76","v":{"v":-97.33333333333576,"d":"-97"}}]
["263828",5,"EC","2015-01-13",90,"2015-03-26T10:37:00"]
["260319",10,"EC","2015-04-08",50,"2015-03-26T10:49:00",{"$f":"D78-F78","v":{"v":12.549305555556202,"d":"13"}}]
["265491",6,"EC","2015-04-10",50,"2015-03-26T15:20:00"]
["261178",6,"EC","2015-04-02",50,"2015-03-27T08:00:00"]
["262714",10,"EC","2015-03-10",50,"2015-03-30T01:50:00"]
["245403",3,"EC","2014-11-07",50,"2015-03-30T08:00:00",{"$f":"D82-F82","v":{"v":-143.33333333333576,"d":"-143"}}]
["264760",5,"EC","2015-04-01",50,"2015-03-30T08:00:00",{"$f":"D83-F83","v":{"v":1.6666666666642413,"d":"2"}}]
["259254",18,"EC","2015-03-25",50,"2015-03-30T08:00:00"]
["241852",2,"EC","2015-03-12",50,"2015-03-30T08:00:00"]
["246575",2,"EC","2015-03-10",50,"2015-03-30T08:00:00"]
["261992",18,"EC","2015-04-02",50,"2015-03-30T08:00:00",{"$f":"D87-F87","v":{"v":2.6666666666642413,"d":"3"}}]
["259230",3,"EC","2015-03-24",50,"2015-03-30T08:00:00",{"$f":"D88-F88","v":{"v":-6.333333333335759,"d":"-6"}}]
["246200",2,"EC","2014-11-03T02:44:34",50,"2015-03-30T08:00:00",{"$f":"F89-D89","v":{"v":147.2190509259308,"d":"147"}}]
["261071",5,"EC","2015-03-25",50,"2015-03-30T08:03:00"]
["245351",1,"EC","2015-10-01",50,"2015-03-30T08:09:00"]
["261132",10,"EC","2015-04-07",50,"2015-03-30T08:13:00"]
["264698",6,"EC","2015-03-23",50,"2015-03-30T10:38:00",{"$f":"D93-F93","v":{"v":-7.443055555559113,"d":"-7"}}]
["260260",5,"EC","2015-07-07",50,"2015-03-30T11:16:00",{"$f":"D94-F94","v":{"v":98.53055555555329,"d":"99"}}]
["249517",1,"EC","2014-11-18",50,"2015-03-30T11:40:00"]
["252680",2,"EC","2014-12-05",50,"2015-03-30T13:15:00"]
["259086",1,"EC","2015-03-20T13:42:51",25,"2015-03-30T13:51:00",{"$f":"F97-D97","v":{"v":10.005659722221026,"d":"10"}}]
["261841",5,"EC","2015-04-09",50,"2015-03-30T13:51:00"]
["258730",20,"EC","2014-12-16",50,"2015-03-30T14:46:00"]
["249531",1,"EC","2015-01-08",50,"2015-03-30T15:48:00"]
["269632",5,"D ","2015-02-13",50,"2015-03-30T16:00:00"]
["251473",10,"EC","2015-03-04",50,"2015-03-30T16:14:00",{"$f":"D102-F102","v":{"v":-26.67638888888905,"d":"-27"}}]
["248009",20,"EC","2014-12-18",50,"2015-03-30T16:14:00"]
["253232",10,"EC","2015-03-18",50,"2015-03-30T16:43:00"]
["269632",5,"D ","2015-03-02",50,"2015-03-31T08:01:00"]
["259563",10,"EC","2014-11-07",90,"2015-03-31T08:02:00"]
["255292",6,"EC","2015-01-15",50,"2015-03-31T09:51:00",{"$f":"D107-F107","v":{"v":-75.4104166666657,"d":"-75"}}]
["241025",10,"EC","2014-06-05T04:29:00",50,"2015-03-31T09:51:00"]
["246196",10,"EC","2014-12-18",50,"2015-03-31T09:51:00"]
["266443",5,"EC","2015-03-25",50,"2015-03-31T10:15:00"]
["266588",1,"EC","2015-04-01",50,"2015-03-31T10:41:00"]
["264683",6,"EC","2015-01-16",50,"2015-03-31T11:27:00"]
["263210",10,"EC","2015-04-08",50,"2015-03-31T11:29:00",{"$f":"D113-F113","v":{"v":7.521527777775191,"d":"8"}}]
["264087",10,"EC","2015-02-10",50,"2015-03-31T11:30:00"]
["261818",15,"EC","2015-04-01",50,"2015-03-31T11:40:00",{"$f":"D115-F115","v":{"v":0.5138888888905058,"d":"1"}}]
["265870",6,"EC","2015-02-11",50,"2015-03-31T13:16:00"]
["263188",12,"EC","2015-02-24",50,"2015-03-31T13:53:00"]
["252681",3,"EC","2014-12-18",50,"2015-03-31T14:00:00",{"$f":"D118-F118","v":{"v":-103.58333333333576,"d":"-104"}}]
["257523",10,"EC","2015-03-23",50,"2015-03-31T14:11:00"]
["259217",10,"EC","2015-03-11",50,"2015-03-31T14:51:00"]
["264692",10,"EC","2015-03-03",50,"2015-03-31T15:05:00"]
["265627",6,"EC","2015-04-03",50,"2015-03-31T15:05:00",{"$f":"D122-F122","v":{"v":2.3715277777810115,"d":"2"}}]
["252682",3,"EC","2015-01-14",50,"2015-04-01T08:00:00",{"$f":"D123-F123","v":{"v":-77.33333333333576,"d":"-77"}}]
["260332",18,"EC","2015-04-14",50,"2015-04-01T08:00:00",{"$f":"D124-F124","v":{"v":12.666666666664241,"d":"13"}}]
["262780",10,"EC","2014-06-11",90,"2015-04-01T08:00:00"]
["260973",5,"EC","2015-01-30T03:36:00",50,"2015-04-01T08:00:00",{"$f":"F126-D126","v":{"v":61.1833333333343,"d":"61"}}]
["241166",5,"EC","2015-03-11",50,"2015-04-01T08:00:00"]
["264302",10,"EC","2015-03-02",50,"2015-04-01T08:00:00"]
["261771",5,"EC","2014-10-30",50,"2015-04-01T08:01:00"]
["260295",10,"EC","2015-04-09",50,"2015-04-01T08:01:00",{"$f":"D130-F130","v":{"v":7.665972222224809,"d":"8"}}]
["261105",10,"EC","2015-04-08",50,"2015-04-01T08:36:00"]
["246645",2,"EC","2015-03-11",50,"2015-04-01T08:49:00"]
["260283",6,"EC","2015-03-24",50,"2015-04-01T10:00:00"]
["261071",5,"EC","2015-03-31",50,"2015-04-01T10:08:00"]
["266074",10,"EC","2015-03-19",50,"2015-04-01T10:13:00"]
["225723",5,"EC","2014-09-01T09:15:26",50,"2015-04-01T11:07:00",{"$f":"F136-D136","v":{"v":212.07747685184586,"d":"212"}}]
["261606",5,"EC","2014-10-30",50,"2015-04-01T11:07:00"]
["263854",10,"EC","2015-03-23",50,"2015-04-01T11:17:00"]
["261949",12,"EC","2015-04-02",50,"2015-04-01T11:35:00"]
["259399",10,"EC","2015-03-13",50,"2015-04-01T11:46:00"]
["225722",5,"EA","2014-09-02T09:15:26",50,"2015-04-01T13:38:00",{"$f":"F141-D141","v":{"v":211.18233796296408,"d":"211"}}]
["248048",2,"EC","2015-04-03",50,"2015-04-01T13:38:00"]
["262666",10,"EC","2015-02-16",50,"2015-04-01T14:40:00",{"$f":"D143-F143","v":{"v":-44.611111111109494,"d":"-45"}}]
["259064",10,"EC","2015-03-26",50,"2015-04-01T14:40:00"]
["261220",18,"EC","2015-04-09",50,"2015-04-01T15:32:00"]
["266590",1,"EC","2015-04-10",50,"2015-04-01T15:50:00"]
["261972",10,"EC","2015-04-15",50,"2015-04-01T16:10:00",{"$f":"D147-F147","v":{"v":13.326388888890506,"d":"13"}}]
["268927",10,"EC","2015-02-09",50,"2015-04-02T08:00:00"]
["239023",5,"EC","2014-12-22T21:15:26",50,"2015-04-02T08:00:00"]
["260208",10,"EC","2015-03-12",50,"2015-04-02T08:00:00"]
["258543",1,"EC","2015-02-02",50,"2015-04-02T08:00:00"]
["268174",4,"EC","2015-03-18",50,"2015-04-02T08:00:00"]
["262172",4,"EC","2014-12-15",50,"2015-04-02T08:24:00"]
["262168",2,"EC","2014-12-17",50,"2015-04-02T08:37:00"]
["261148",10,"EC","2015-04-03",50,"2015-04-02T08:59:00",{"$f":"D155-F155","v":{"v":0.6256944444467081,"d":"1"}}]
["266452",10,"EC","2015-04-23",50,"2015-04-02T09:04:00"]
["261060",5,"EC","2015-04-17",50,"2015-04-02T09:20:00"]
["264946",14,"EA","2015-03-02",25,"2015-04-02T09:36:00"]
["261946",12,"EC","2015-04-08",50,"2015-04-02T09:50:00"]
["269433",10,"EA","2015-05-04",25,"2015-04-02T09:50:00"]
["263858",20,"EC","2015-02-16",25,"2015-04-02T11:05:00",{"$f":"D161-F161","v":{"v":-45.46180555555475,"d":"-45"}}]
["263417",6,"EC","2015-04-09",50,"2015-04-02T11:05:00",{"$f":"D162-F162","v":{"v":6.538194444445253,"d":"7"}}]
["263834",25,"EC","2015-02-20",50,"2015-04-02T11:51:00",{"$f":"D163-F163","v":{"v":-41.493750000001455,"d":"-41"}}]
["264719",12,"EC","2015-04-09",50,"2015-04-02T13:48:00"]
["261020",5,"EC","2015-03-24",50,"2015-04-02T14:00:00"]
["261208",12,"EC","2015-04-10",50,"2015-04-02T14:21:00"]
["249547",1,"EA","2015-02-24",50,"2015-04-02T14:30:00"]
["246709",2,"EC","2015-04-15",50,"2015-04-02T15:50:00"]
["248031",6,"EC","2015-04-13",50,"2015-04-02T15:50:00",{"$f":"D169-F169","v":{"v":10.340277777781012,"d":"10"}}]
["260323",10,"EC","2015-04-14",50,"2015-04-03T08:00:00",{"$f":"D170-F170","v":{"v":10.666666666664241,"d":"11"}}]
["259012",10,"EC","2015-03-04",50,"2015-04-03T08:00:00"]
["260112",12,"EC","2015-02-05",50,"2015-04-03T08:00:00"]
["264710",18,"EC","2015-04-08",50,"2015-04-03T08:00:00",{"$f":"D173-F173","v":{"v":4.666666666664241,"d":"5"}}]
["262628",15,"EC","2015-04-09",50,"2015-04-03T08:00:00"]
["264897",10,"EC","2015-02-20",50,"2015-04-03T08:57:00"]
["259204",4,"EC","2015-02-19",50,"2015-04-03T09:00:00"]
["246195",20,"EC","2014-10-02",50,"2015-04-03T09:02:00"]
["263835",15,"EC","2015-02-20",50,"2015-04-03T09:13:00",{"$f":"D178-F178","v":{"v":-42.3840277777781,"d":"-42"}}]
["259525",10,"EC","2015-03-11",50,"2015-04-03T09:55:00"]
["261240",10,"EC","2015-04-14",50,"2015-04-03T10:28:00"]
["268180",10,"EC","2015-04-30",50,"2015-04-03T10:38:00"]
["261813",10,"EC","2015-04-14",50,"2015-04-03T10:53:00"]
["256342",16,"EC","2015-04-17",50,"2015-04-03T11:23:00"]
["241025",10,"EC","2014-06-14T10:19:00",50,"2015-04-06T08:00:00","recuit 20/10 PC à faire"]
["259563",10,"EC","2014-11-20",90,"2015-04-06T08:00:00"]
["215058",10,"EC","2015-04-08",50,"2015-04-06T10:26:00"]
["252192",5,"EC","2015-03-31T04:06:51",50,"2015-04-06T15:05:00",{"$f":"F187-D187","v":{"v":6.4570486111042555,"d":"6"}}]
["246202",4,"EA","2015-01-08",50,"2015-04-07T08:00:00"]
["252680",2,"EC","2014-12-11",50,"2015-04-07T08:00:00"]
["252681",3,"EC","2015-01-05",50,"2015-04-07T08:00:00"]
["255481",6,"EC","2015-01-28",50,"2015-04-07T08:00:00"]
["259826",2,"EC","2014-09-05",50,"2015-04-07T08:00:00"]
["261055",5,"EC","2015-04-01",50,"2015-04-07T08:00:00"]
["264683",6,"EC","2015-01-19",50,"2015-04-07T08:00:00"]
["246665",6,"EC","2015-04-15",50,"2015-04-07T08:24:00",{"$f":"D195-F195","v":{"v":7.650000000001455,"d":"8"}}]
["246667",6,"EC","2015-02-12T05:49:43",50,"2015-04-07T08:24:00",{"$f":"F196-D196","v":{"v":54.107141203705396,"d":"54"}}]
["268649",5,"EC","2015-03-09",50,"2015-04-07T08:42:00"]
["246664",6,"EC","2015-02-12T05:49:43",50,"2015-04-07T08:43:00",{"$f":"F198-D198","v":{"v":54.120335648149194,"d":"54"}}]
["263831",10,"EC","2015-02-09",50,"2015-04-07T09:13:00"]
["252682",3,"EC","2015-01-20",50,"2015-04-07T09:43:00",{"$f":"D200-F200","v":{"v":-77.40486111111386,"d":"-77"}}]
["263830",30,"EC","2015-02-09",50,"2015-04-07T09:43:00"]
["264087",10,"EC","2015-02-19",50,"2015-04-07T09:43:00"]
["255492",10,"EC","2015-03-03",50,"2015-04-07T10:27:00"]
["262672",10,"EC","2015-03-03",50,"2015-04-07T10:34:00"]
["266868",4,"EC","2015-02-18",50,"2015-04-07T10:40:00"]
["263188",12,"EC","2015-03-12",50,"2015-04-07T11:13:00"]
["245566",10,"EC","2014-05-17T21:29:00",50,"2015-04-07T11:13:00","Pbl outillage"]
["248010",3,"EC","2014-11-26",50,"2015-04-07T11:55:00",{"$f":"D208-F208","v":{"v":-132.496527777781,"d":"-132"}}]
["260208",10,"EC","2015-03-26",50,"2015-04-07T14:09:00"]
["260350",5,"EC","2015-03-25",50,"2015-04-07T14:30:00"]
["268204",5,"EC","2015-03-24",50,"2015-04-07T14:46:00"]
["246758",8,"EC","2015-03-17",50,"2015-04-07T15:14:00"]
["259070",10,"EC","2015-04-07",50,"2015-04-07T15:31:00"]
["264723",5,"EC","2015-04-16",50,"2015-04-07T15:42:00"]
["255497",10,"EC","2015-04-21",50,"2015-04-07T15:54:00",{"$f":"D215-F215","v":{"v":13.337500000001455,"d":"13"}}]
["255390",5,"EC","2015-04-20",50,"2015-04-07T16:18:00",{"$f":"D216-F216","v":{"v":12.320833333331393,"d":"12"}}]
["246770",2,"EC","2015-04-09",50,"2015-04-07T16:44:00"]
["261870",3,"EC","2015-03-30",50,"2015-04-07T16:50:00",{"$f":"D218-F218","v":{"v":-8.701388888890506,"d":"-9"}}]
["268665",5,"EC","2015-03-13",50,"2015-04-08T08:29:00"]
["241037",10,"EC","2014-10-30T04:29:00",50,"2015-04-08T08:32:00"]
["266492",10,"EC","2015-04-15",50,"2015-04-08T08:32:00"]
["262632",5,"EA","2015-05-07",50,"2015-04-08T08:59:00"]
["264771",10,"EC","2015-04-10",50,"2015-04-08T09:07:00"]
["225723",5,"D ","2015-01-05",50,"2015-04-08T09:12:00"]
["261819",10,"EC","2015-04-13",50,"2015-04-08T09:12:00"]
["264430",3,"EC","2015-01-22",50,"2015-04-08T09:40:00"]
["244579",6,"EC","2014-12-01T05:25:02",50,"2015-04-08T09:55:00",{"$f":"F227-D227","v":{"v":128.18747685185372,"d":"128"}}]
["264725",10,"EC","2015-04-16",50,"2015-04-08T09:55:00"]
["259513",6,"EC","2015-02-26",50,"2015-04-08T10:45:00"]
["268668",6,"EC","2015-03-02",50,"2015-04-08T10:52:00"]
["268671",5,"EC","2015-04-03",50,"2015-04-08T11:15:00"]
["265524",10,"EA","2015-03-18",50,"2015-04-08T11:50:00"]
["259233",12,"EC","2015-03-10",50,"2015-04-08T11:55:00"]
["261831",10,"EC","2015-04-16",50,"2015-04-08T13:25:00"]
["246730",6,"EC","2015-04-01",50,"2015-04-08T13:39:00"]
["246745",6,"EC","2015-04-01",50,"2015-04-08T14:02:00"]
["261166",10,"EC","2015-04-01",50,"2015-04-08T14:05:00",{"$f":"D237-F237","v":{"v":-7.586805555554747,"d":"-8"}}]
["260136",6,"EC","2015-03-12",50,"2015-04-08T14:08:00"]
["255315",6,"EC","2015-04-09",50,"2015-04-08T14:55:00"]
["269351",2,"EC","2015-04-08",50,"2015-04-08T15:00:00"]
["246746",12,"EC","2015-04-01",50,"2015-04-08T15:16:00"]
["246777",2,"EC","2015-04-07",50,"2015-04-08T16:03:00"]
["261859",10,"EC","2015-04-16",50,"2015-04-08T16:18:00"]
["263161",2,"EC","2015-04-09",50,"2015-04-08T16:28:00"]
["263832",11,"EC","2015-02-09",50,"2015-04-09T08:00:00"]
["265486",1,"EC","2015-03-23",50,"2015-04-09T08:00:00"]
["266070",5,"EC","2015-03-26",50,"2015-04-09T08:00:00"]
["263246",10,"EC","2015-04-22",50,"2015-04-09T08:00:00"]
["263242",5,"EC","2015-04-17",50,"2015-04-09T08:00:00",{"$f":"D249-F249","v":{"v":7.666666666664241,"d":"8"}}]
["262711",2,"EC","2015-04-09",50,"2015-04-09T08:30:00"]
["225722",5,"EA","2015-01-07",50,"2015-04-09T09:06:00"]
["263216",10,"EC","2015-04-01",50,"2015-04-09T09:08:00"]
["261171",10,"EC","2015-04-13",50,"2015-04-09T09:09:00"]
["254355",1,"EC","2014-12-09",50,"2015-04-09T09:37:00"]
["264735",10,"EC","2015-04-14",50,"2015-04-09T09:59:00"]
["264781",10,"EC","2015-04-14",50,"2015-04-09T10:19:00"]
["261949",12,"EC","2015-04-21",50,"2015-04-09T10:43:00"]
["264905",10,"EC","2015-03-10",50,"2015-04-09T13:15:00"]
["261898",10,"EC","2015-04-14",50,"2015-04-09T13:17:00"]
["248527",6,"EC","2015-04-17",50,"2015-04-09T13:25:00"]
["248029",6,"EC","2015-04-17",50,"2015-04-09T14:21:00"]
["248559",6,"EC","2015-04-14",50,"2015-04-09T14:28:00"]
["255307",6,"EC","2015-04-14",50,"2015-04-09T15:05:00"]
["248022",6,"EC","2015-04-17",50,"2015-04-09T15:08:00"]
["254571",5,"EC","2014-11-01T15:09:00",50,"2015-04-09T15:15:00"]
["249468",6,"EC","2015-04-21",50,"2015-04-09T15:15:00"]
["237324",1,"EC","2014-11-13",50,"2015-04-09T16:47:00"]
["264806",6,"EC","2015-04-14",50,"2015-04-09T16:52:00"]
["264896",10,"EC","2015-04-17",50,"2015-04-10T08:00:00",{"$f":"D269-F269","v":{"v":6.666666666664241,"d":"7"}}]
["251091",5,"EC","2014-06-14T03:02:00",50,"2015-04-10T08:00:00","outillage PC ??"]
["266084",10,"EC","2015-04-17",50,"2015-04-10T08:00:00"]
["266451",10,"EC","2015-04-30",50,"2015-04-10T08:00:00"]
["269598",20,"D ","2015-02-06",50,"2015-04-10T08:00:00"]
["261190",5,"EC","2015-04-14",50,"2015-04-10T08:00:00",{"$f":"D274-F274","v":{"v":3.6666666666642413,"d":"4"}}]
["248024",12,"EC","2015-04-16",50,"2015-04-10T08:20:00"]
["259501",5,"EC","2015-03-31",50,"2015-04-10T08:29:00"]
["266884",1,"EC","2014-10-30",50,"2015-04-10T08:36:00"]
["246385",2,"EC","2014-11-13",50,"2015-04-10T08:46:00"]
["251960",6,"EC","2015-04-14",50,"2015-04-10T08:50:00"]
["268666",6,"EC","2015-03-25",50,"2015-04-10T09:05:00"]
["259511",5,"EC","2015-03-31",50,"2015-04-10T09:06:00"]
["268284",6,"EC","2014-11-06",50,"2015-04-10T09:34:00"]
["269349",12,"D ","2015-02-19",50,"2015-04-10T10:15:00"]
["268283",6,"EC","2015-01-30",50,"2015-04-10T10:17:00"]
["261852",18,"EC","2015-04-22",50,"2015-04-10T10:41:00"]
["264771",10,"EC","2015-04-30",50,"2015-04-10T10:47:00"]
["262666",10,"EC","2015-02-12",50,"2015-04-13T08:00:00",{"$f":"D287-F287","v":{"v":-60.33333333333576,"d":"-60"}}]
["264760",5,"EC","2015-04-09",50,"2015-04-13T08:00:00",{"$f":"D288-F288","v":{"v":-4.333333333335759,"d":"-4"}}]
["246199",10,"EC","2015-01-08",50,"2015-04-13T08:00:00"]
["252680",2,"EC","2014-12-16",50,"2015-04-13T08:00:00"]
["260112",12,"EC","2015-02-11",50,"2015-04-13T08:00:00"]
["263327",5,"EC","2015-04-13",50,"2015-04-13T08:00:00"]
["266868",4,"EC","2015-03-06",50,"2015-04-13T08:00:00"]
["261203",5,"EC","2015-04-13",50,"2015-04-13T08:00:00",{"$f":"D294-F294","v":{"v":-0.33333333333575865,"d":"-0"}}]
["261159",5,"EC","2015-04-17",50,"2015-04-13T08:00:00"]
["261176",5,"EC","2015-04-17",50,"2015-04-13T08:00:00"]
["263279",10,"EC","2015-04-15",50,"2015-04-13T08:00:00",{"$f":"D297-F297","v":{"v":1.6666666666642413,"d":"2"}}]
["261966",5,"EC","2015-04-13",50,"2015-04-13T08:00:00",{"$f":"D298-F298","v":{"v":-0.33333333333575865,"d":"-0"}}]
["263415",10,"EC","2015-09-18",50,"2015-04-13T08:00:00",{"$f":"D299-F299","v":{"v":157.66666666666424,"d":"158"}}]
["261274",6,"D ","2014-10-08T06:51:26",50,"2015-04-13T08:03:00",{"$f":"F300-D300","v":{"v":187.0496990740794,"d":"187"}}]
["260998",1,"EC","2015-01-23",50,"2015-04-13T08:09:00"]
["261870",3,"EC","2015-04-03",50,"2015-04-13T08:37:00",{"$f":"D302-F302","v":{"v":-10.359027777776646,"d":"-10"}}]
["248027",6,"EC","2015-04-10",50,"2015-04-13T08:58:00"]
["262141",6,"EC","2015-04-08",50,"2015-04-13T08:58:00"]
["264085",5,"D ","2014-12-05",50,"2015-04-13T09:13:00"]
["260988",10,"EC","2015-04-23",50,"2015-04-13T09:25:00"]
["248558",6,"EC","2015-04-14",50,"2015-04-13T09:40:00"]
["269351",2,"EC","2015-04-10",50,"2015-04-13T09:40:00"]
["246497",2,"EC","2015-04-15",50,"2015-04-13T09:43:00"]
["248026",2,"EC","2015-04-15",50,"2015-04-13T10:30:00"]
["246776",2,"EC","2015-04-15",50,"2015-04-13T10:59:00"]
["248561",6,"EC","2015-04-15",50,"2015-04-13T10:59:00"]
["261809",10,"EC","2015-04-16",50,"2015-04-13T11:13:00"]
["251937",2,"EC","2015-04-15",50,"2015-04-13T14:04:00"]
["251452",2,"EC","2015-04-15",50,"2015-04-13T14:23:00"]
["264737",2,"EC","2015-04-15",50,"2015-04-13T14:50:00"]
["262144",1,"EC","2015-04-15",50,"2015-04-13T14:55:00"]
["261943",12,"EC","2015-04-15",50,"2015-04-13T15:09:00"]
["263290",10,"EC","2015-04-27",50,"2015-04-13T15:14:00"]
["268677",10,"EC","2015-04-16",50,"2015-04-13T15:48:00"]
["269358",3,"EC","2015-04-24",50,"2015-04-13T16:21:00"]
["252008",6,"EC","2015-04-02T11:21:00",50,"2015-04-13T16:24:00"]
["247411",6,"EC","2015-04-17",50,"2015-04-13T16:24:00"]
["261186",5,"EC","2015-04-27",50,"2015-04-14T08:00:00"]
["263213",10,"EC","2015-04-23",50,"2015-04-14T08:00:00",{"$f":"D325-F325","v":{"v":8.666666666664241,"d":"9"}}]
["265487",12,"EC","2015-03-16",50,"2015-04-14T08:00:00"]
["261211",18,"EC","2015-04-27",50,"2015-04-14T08:38:00",{"$f":"D327-F327","v":{"v":12.640277777776646,"d":"13"}}]
["261968",12,"EC","2015-04-15",50,"2015-04-14T08:52:00"]
["268668",6,"EC","2015-03-11",50,"2015-04-14T09:05:00"]
["268679",6,"EC","2015-04-16",50,"2015-04-14T09:13:00"]
["248240",6,"EC","2015-04-15",50,"2015-04-14T09:16:00"]
["260151",5,"EC","2015-04-01",50,"2015-04-14T09:35:00"]
["264898",10,"EA","2015-03-20",50,"2015-04-14T10:03:00"]
["259494",5,"EC","2015-04-07",50,"2015-04-14T10:05:00"]
["247249",6,"EC","2015-04-20",50,"2015-04-14T10:12:00"]
["263422",12,"EC","2015-04-15",50,"2015-04-14T10:12:00"]
["248023",6,"EC","2015-04-17",50,"2015-04-14T10:15:00"]
["261854",7,"EC","2015-05-04",50,"2015-04-14T10:39:00",{"$f":"D338-F338","v":{"v":19.556250000001455,"d":"20"}}]
["261152",7,"EC","2015-05-04",50,"2015-04-14T10:39:00",{"$f":"D339-F339","v":{"v":19.556250000001455,"d":"20"}}]
["261225",5,"EC","2015-04-23",50,"2015-04-14T10:39:00",{"$f":"D340-F340","v":{"v":8.556250000001455,"d":"9"}}]
["263431",12,"EC","2015-04-15",50,"2015-04-14T10:48:00"]
["263865",10,"EA","2015-04-14",50,"2015-04-14T11:01:00"]
["253857",12,"EC","2015-04-17",50,"2015-04-14T11:07:00"]
["260287",18,"EC","2015-04-23",50,"2015-04-14T13:23:00"]
["261946",12,"EC","2015-04-24",50,"2015-04-14T13:24:00"]
["260286",18,"EC","2015-04-23",50,"2015-04-14T13:29:00"]
["268706",10,"EC","2015-04-16",50,"2015-04-14T14:38:00"]
["268707",10,"EC","2015-04-16",50,"2015-04-14T14:41:00"]
["246762",6,"EC","2015-04-20",50,"2015-04-14T14:58:00"]
["261220",18,"EC","2015-04-27",50,"2015-04-14T15:03:00"]
["246761",6,"EC","2015-04-20",50,"2015-04-14T15:12:00"]
["246763",6,"EC","2015-04-20",50,"2015-04-14T15:14:00"]
["246764",6,"EC","2015-04-20",50,"2015-04-14T15:19:00"]
["269359",3,"EC","2015-04-24",50,"2015-04-14T15:39:00"]
["247388",6,"EC","2015-04-20",50,"2015-04-14T15:51:00"]
["261203",5,"EC","2015-04-17",50,"2015-04-14T15:57:00",{"$f":"D356-F356","v":{"v":2.335416666668607,"d":"2"}}]
["261966",5,"EC","2015-04-17",50,"2015-04-14T15:57:00",{"$f":"D357-F357","v":{"v":2.335416666668607,"d":"2"}}]
["261900",10,"EC","2015-04-22",50,"2015-04-14T16:06:00"]
["264904",5,"EC","2015-04-23",50,"2015-04-14T16:21:00"]
["241037",10,"EC","2014-07-29T05:49:43",50,"2015-04-15T08:00:00","ebav 15/4 PC à faire"]
["259324",5,"EC","2015-04-20",50,"2015-04-15T08:00:00"]
["263207",10,"EC","2015-04-22",50,"2015-04-15T08:00:00",{"$f":"D362-F362","v":{"v":6.666666666664241,"d":"7"}}]
["263330",5,"EC","2015-04-27",50,"2015-04-15T08:00:00",{"$f":"D363-F363","v":{"v":11.666666666664241,"d":"12"}}]
["262666",10,"EC","2015-02-25",50,"2015-04-15T08:00:00",{"$f":"D364-F364","v":{"v":-49.33333333333576,"d":"-49"}}]
["259194",10,"EC","2015-05-19",50,"2015-04-15T08:00:00",{"$f":"D365-F365","v":{"v":33.66666666666424,"d":"34"}}]
["261983",5,"EC","2015-04-16",50,"2015-04-15T08:00:00",{"$f":"D366-F366","v":{"v":0.6666666666642413,"d":"1"}}]
["252681",3,"EC","2015-01-08",50,"2015-04-15T09:04:00",{"$f":"D367-F367","v":{"v":-97.37777777777956,"d":"-97"}}]
["250903",5,"EC","2015-04-14",50,"2015-04-15T10:06:00",{"$f":"D368-F368","v":{"v":-1.4208333333299379,"d":"-1"}}]
["269351",2,"EC","2015-04-15",50,"2015-04-15T10:58:00"]
["263707",6,"D ","2015-02-18",50,"2015-04-15T11:04:00"]
["261130",5,"EC","2015-04-28",50,"2015-04-15T11:43:00",{"$f":"D371-F371","v":{"v":12.511805555557657,"d":"13"}}]
["265507",5,"EC","2015-04-30",50,"2015-04-15T11:44:00",{"$f":"D372-F372","v":{"v":14.51111111111095,"d":"15"}}]
["263712",6,"D ","2015-02-18",50,"2015-04-15T11:44:00"]
["269389",1,"EC","2015-04-23",50,"2015-04-15T14:00:00"]
["247380",6,"EC","2015-04-20",50,"2015-04-15T14:57:00"]
["252682",3,"EC","2015-01-23",50,"2015-04-15T15:12:00",{"$f":"D376-F376","v":{"v":-82.6333333333314,"d":"-83"}}]
["247426",2,"EC","2015-04-17",50,"2015-04-15T15:30:00"]
["260277",18,"EC","2015-04-23",50,"2015-04-15T15:34:00"]
["249469",6,"EC","2015-04-22",50,"2015-04-15T15:43:00"]
["247392",6,"EC","2015-04-20",50,"2015-04-15T16:06:00"]
["264719",12,"EC","2015-04-27",50,"2015-04-15T16:15:00"]
["251993",12,"EC","2015-04-20",50,"2015-04-15T16:54:00"]
["263196",15,"EC","2015-04-15",50,"2015-04-16T08:00:00",{"$f":"D383-F383","v":{"v":-1.3333333333357587,"d":"-1"}}]
["247412",6,"EC","2015-04-21",50,"2015-04-16T09:08:00"]
["261908",18,"EC","2015-04-27",50,"2015-04-16T09:08:00"]
["261826",10,"EC","2015-04-20",50,"2015-04-16T09:10:00"]
["248020",6,"EC","2015-04-21",50,"2015-04-16T09:12:00"]
["260136",6,"EC","2015-03-25",50,"2015-04-16T09:56:00"]
["261208",12,"EC","2015-04-28",50,"2015-04-16T10:22:00"]
["261902",12,"EC","2015-04-20",50,"2015-04-16T11:05:00"]
["268671",5,"EC","2015-04-22",50,"2015-04-16T11:08:00"]
["264729",10,"EC","2015-04-21",50,"2015-04-16T11:51:00"]
["264304",10,"EA","2015-04-20",50,"2015-04-16T11:53:00"]
["248572",12,"EC","2015-04-21",50,"2015-04-16T11:56:00"]
["262584",5,"D ","2015-04-15",50,"2015-04-16T13:34:00"]
["261800",10,"EC","2015-05-04",50,"2015-04-16T13:34:00",{"$f":"D396-F396","v":{"v":17.434722222220444,"d":"17"}}]
["266086",12,"EC","2015-04-21",50,"2015-04-16T13:45:00"]
["261865",6,"EC","2015-05-04",50,"2015-04-16T14:00:00"]
["264791",10,"EC","2015-04-22",50,"2015-04-16T14:11:00"]
["264877",10,"EA","2015-04-21",50,"2015-04-16T14:16:00"]
["264776",5,"EC","2015-05-05",50,"2015-04-16T14:20:00"]
["252008",6,"EC","2015-03-10T05:49:43",50,"2015-04-16T14:20:00",{"$f":"F402-D402","v":{"v":37.35436342592584,"d":"37"}}]
["246744",6,"EC","2015-04-22",50,"2015-04-16T14:59:00"]
["262144",1,"EC","2015-04-23",50,"2015-04-16T15:44:00"]
["261856",5,"EC","2015-04-30",50,"2015-04-16T15:48:00"]
["252018",6,"EC","2015-04-22",50,"2015-04-16T16:12:00"]
["266079",6,"EC","2015-04-27",50,"2015-04-17T08:00:00"]
["261140",10,"EC","2015-04-28",50,"2015-04-17T08:00:00"]
["261141",10,"EC","2015-04-28",50,"2015-04-17T08:00:00"]
["246738",6,"EC","2015-04-22",50,"2015-04-17T08:00:00"]
["246743",12,"EC","2015-04-22",50,"2015-04-17T08:00:00"]
["246739",6,"EC","2015-04-22",50,"2015-04-17T08:27:00"]
["261913",5,"EC","2015-05-04",50,"2015-04-17T09:35:00"]
["247390",6,"EC","2015-04-22",50,"2015-04-17T09:40:00"]
["247382",6,"EC","2015-04-22",50,"2015-04-17T09:43:00"]
["247396",6,"EC","2015-04-22",50,"2015-04-17T10:01:00"]
["247425",6,"EC","2015-04-22",50,"2015-04-17T10:10:00"]
["248467",6,"EC","2015-04-22",50,"2015-04-17T10:19:00"]
["261274",6,"D ","2014-10-09T04:48:00",50,"2015-04-17T10:31:00",{"$f":"F419-D419","v":{"v":190.23819444444962,"d":"190"}}]
["252016",6,"EC","2015-04-22",50,"2015-04-17T10:43:00"]
["253848",6,"EC","2015-04-21",50,"2015-04-17T11:17:00"]
["252011",6,"EC","2015-04-17T08:54:51",50,"2015-04-20T08:00:00",{"$f":"F422-D422","v":{"v":2.961909722223936,"d":"3"}}]
["262641",40,"EC","2015-03-10",50,"2015-04-20T08:00:00"]
["260135",10,"EC","2015-03-04",50,"2015-04-20T08:00:00"]
["261991",5,"EC","2015-04-23",50,"2015-04-20T08:00:00"]
["263408",5,"EC","2015-05-06",50,"2015-04-20T08:00:00"]
["263875",24,"EC","2015-04-15",50,"2015-04-20T08:00:00"]
["265495",10,"EC","2015-03-18",50,"2015-04-20T08:00:00"]
["266088",5,"EC","2015-05-06",50,"2015-04-20T08:00:00",{"$f":"D429-F429","v":{"v":15.666666666664241,"d":"16"}}]
["261190",5,"EC","2015-04-30",50,"2015-04-20T08:00:00",{"$f":"D430-F430","v":{"v":9.666666666664241,"d":"10"}}]
["246741",6,"EC","2015-04-29",50,"2015-04-20T08:00:00",{"$f":"D431-F431","v":{"v":8.666666666664241,"d":"9"}}]
["263831",10,"EC","2015-02-16",50,"2015-04-20T08:19:00"]
["252019",6,"EC","2015-04-22",50,"2015-04-20T08:58:00"]
["248468",6,"EC","2015-04-22",50,"2015-04-20T09:13:00"]
["263707",6,"D ","2015-02-23",50,"2015-04-20T09:14:00"]
["253221",6,"EC","2015-04-22",50,"2015-04-20T09:42:00"]
["253849",6,"EC","2015-04-22",50,"2015-04-20T09:43:00"]
["251995",12,"EC","2015-04-22",50,"2015-04-20T09:46:00"]
["251483",6,"EC","2015-04-29",50,"2015-04-20T10:06:00",{"$f":"D439-F439","v":{"v":8.579166666670062,"d":"9"}}]
["263712",6,"D ","2015-02-23",50,"2015-04-20T10:07:00"]
["262143",2,"EC","2015-05-05",50,"2015-04-20T10:25:00"]
["251998",26,"EC","2015-04-22",50,"2015-04-20T10:40:00"]
["257022",5,"EC","2015-05-05",50,"2015-04-20T10:50:00"]
["253825",56,"EC","2015-04-22",50,"2015-04-20T11:13:00"]
["251124",6,"EC","2015-04-23",50,"2015-04-20T11:14:00"]
["255693",6,"EC","2015-04-23",50,"2015-04-20T11:14:00"]
["268679",6,"EC","2015-04-23",50,"2015-04-20T11:41:00"]
["261926",6,"EC","2015-04-23",50,"2015-04-20T11:43:00"]
["268677",10,"EC","2015-04-23",50,"2015-04-20T11:47:00"]
["251948",6,"EC","2015-04-28",50,"2015-04-20T13:37:00",{"$f":"D450-F450","v":{"v":7.432638888887595,"d":"7"}}]
["263422",12,"EC","2015-05-04",50,"2015-04-20T13:51:00"]
["261825",10,"EC","2015-04-28",50,"2015-04-20T14:05:00"]
["261943",12,"EC","2015-05-04",50,"2015-04-20T14:07:00"]
["265500",10,"EC","2015-04-27",50,"2015-04-20T14:13:00"]
["261231",16,"EC","2015-04-28",50,"2015-04-20T14:46:00"]
["261111",20,"EC","2015-05-05",50,"2015-04-20T14:48:00"]
["261968",12,"EC","2015-05-04",50,"2015-04-20T14:57:00"]
["263431",12,"EC","2015-05-04",50,"2015-04-20T15:24:00"]
["251490",12,"EC","2015-03-20T03:09:15",50,"2015-04-20T16:03:00",{"$f":"F459-D459","v":{"v":31.53732638888323,"d":"32"}}]
["263356",12,"EC","2015-04-23",50,"2015-04-20T16:03:00"]
["263414",12,"EC","2015-04-23",50,"2015-04-20T16:23:00"]
["261940",5,"EC","2015-05-05",50,"2015-04-21T08:00:00"]
["262717",10,"EC","2015-05-05",50,"2015-04-21T08:00:00"]
["265499",10,"EC","2015-04-24",50,"2015-04-21T08:50:00"]
["263423",12,"EC","2015-04-23",50,"2015-04-21T08:56:00"]
["264926",12,"EC","2015-04-23",50,"2015-04-21T09:23:00"]
["266066",10,"EC","2015-04-24",50,"2015-04-21T09:55:00"]
["265522",10,"EC","2015-04-24",50,"2015-04-21T10:24:00"]
["264780",10,"EC","2015-04-29",50,"2015-04-21T10:33:00"]
["247409",6,"EC","2015-04-27",50,"2015-04-21T10:59:00"]
["261993",18,"EC","2015-04-24",50,"2015-04-21T11:19:00"]
["247423",6,"EC","2015-04-27",50,"2015-04-21T11:33:00"]
["247472",6,"EC","2015-05-07",50,"2015-04-21T11:33:00"]
["262139",1,"EC","2015-04-24",50,"2015-04-21T11:56:00",{"$f":"D474-F474","v":{"v":2.5027777777795563,"d":"3"}}]
["264919",18,"EC","2015-04-24",50,"2015-04-21T11:56:00"]
["264920",18,"EC","2015-04-24",50,"2015-04-21T13:26:00"]
["263861",5,"EA","2015-05-19",50,"2015-04-21T13:37:00"]
["265535",18,"EC","2015-04-24",50,"2015-04-21T14:09:00"]
["262587",5,"EC","2015-05-05",50,"2015-04-21T14:26:00"]
["262581",5,"EC","2015-04-24",50,"2015-04-21T14:34:00",{"$f":"D480-F480","v":{"v":2.3930555555562023,"d":"2"}}]
["246735",6,"EC","2015-05-05",50,"2015-04-21T14:34:00"]
["252000",12,"EC","2015-04-27",50,"2015-04-21T14:47:00"]
["252026",12,"EC","2015-04-27",50,"2015-04-21T14:50:00"]
["262592",4,"EC","2015-04-28",50,"2015-04-21T14:58:00"]
["251491",6,"EC","2015-05-05",50,"2015-04-21T15:00:00"]
["263351",10,"EC","2015-04-24",50,"2015-04-21T15:18:00"]
["253845",56,"EC","2015-04-22",50,"2015-04-21T15:28:00"]
["255469",6,"EC","2015-05-05",50,"2015-04-21T15:30:00"]
["253841",6,"EC","2015-05-05",50,"2015-04-21T15:55:00"]
["255467",6,"EC","2015-05-05",50,"2015-04-21T16:08:00"]
["255470",6,"EC","2015-05-05",50,"2015-04-21T16:57:00"]
["253844",12,"EC","2015-04-03T13:01:43",50,"2015-04-21T16:57:00",{"$f":"F492-D492","v":{"v":18.16339120370685,"d":"18"}}]
["264877",10,"EA","2015-05-19",50,"2015-04-22T08:00:00"]
["262665",5,"EC","2015-04-30",50,"2015-04-22T08:00:00",{"$f":"D494-F494","v":{"v":7.666666666664241,"d":"8"}}]
["255468",6,"EC","2015-05-05",50,"2015-04-22T08:09:00"]
["247424",6,"EC","2015-04-27",50,"2015-04-22T08:15:00"]
["264991",15,"EC","2015-05-05",50,"2015-04-22T08:17:00"]
["264995",10,"EC","2015-04-28",50,"2015-04-22T08:25:00"]
["262584",5,"D ","2015-04-23",50,"2015-04-22T08:27:00"]
["263327",5,"EC","2015-04-17",50,"2015-04-22T08:56:00"]
["260362",18,"EC","2015-05-05",50,"2015-04-22T08:56:00",{"$f":"D501-F501","v":{"v":12.627777777779556,"d":"13"}}]
["263327",5,"EC","2015-04-28",50,"2015-04-22T09:11:00"]
["264896",10,"EC","2015-05-06",50,"2015-04-22T09:15:00",{"$f":"D503-F503","v":{"v":13.614583333335759,"d":"14"}}]
["262583",12,"EC","2015-04-27",50,"2015-04-22T09:34:00"]
["260235",10,"EC","2015-04-28",50,"2015-04-22T10:01:00"]
["261918",12,"EC","2015-04-27",50,"2015-04-22T10:10:00"]
["261098",16,"EC","2015-05-05",50,"2015-04-22T10:15:00"]
["253817",6,"EC","2015-04-28",50,"2015-04-22T10:43:00"]
["263869",12,"EC","2015-04-27",50,"2015-04-22T10:46:00"]
["264814",12,"EC","2015-04-27",50,"2015-04-22T10:49:00"]
["262552",10,"EC","2015-05-05",50,"2015-04-22T11:28:00"]
["261885",10,"EC","2015-05-05",50,"2015-04-22T11:41:00"]
["259606",6,"EC","2015-05-05",50,"2015-04-22T11:49:00"]
["261980",18,"EC","2015-05-07",50,"2015-04-22T11:49:00",{"$f":"D514-F514","v":{"v":14.507638888891961,"d":"15"}}]
["261988",18,"EC","2015-05-07",50,"2015-04-22T11:49:00",{"$f":"D515-F515","v":{"v":14.507638888891961,"d":"15"}}]
["262594",10,"EC","2015-05-18",50,"2015-04-22T11:49:00",{"$f":"D516-F516","v":{"v":25.50763888889196,"d":"26"}}]
["268515",6,"EC","2015-04-30",50,"2015-04-22T13:53:00"]
["261894",10,"EC","2015-05-05",50,"2015-04-22T14:35:00"]
["261864",10,"EC","2015-05-04",50,"2015-04-22T14:53:00"]
["269604",1,"D ","2015-03-12",50,"2015-04-22T14:56:00"]
["261902",12,"EC","2015-05-07",50,"2015-04-22T15:12:00"]
["269331",6,"D ","2015-03-20",50,"2015-04-22T15:15:00"]
["261934",16,"EC","2015-05-04",50,"2015-04-22T15:24:00"]
["261991",5,"EC","2015-05-07",50,"2015-04-22T15:48:00"]
["261870",3,"EC","2015-04-09",50,"2015-04-22T16:52:00"]
["262617",5,"EC","2015-04-22",50,"2015-04-23T08:00:00",{"$f":"D526-F526","v":{"v":-1.3333333333357587,"d":"-1"}}]
["250935",20,"EC","2014-11-23T05:56:00",50,"2015-04-23T08:00:00","etagere ebav"]
["252022",6,"EC","2015-04-28",50,"2015-04-23T08:00:00"]
["253316",12,"EC","2015-02-17",50,"2015-04-23T08:00:00",{"$f":"D529-F529","v":{"v":-65.33333333333576,"d":"-65"}}]
["253818",6,"EC","2015-04-28",50,"2015-04-23T08:00:00"]
["263342",10,"EC","2015-05-07",50,"2015-04-23T08:00:00"]
["264829",40,"EC","2015-05-20",50,"2015-04-23T08:00:00",{"$f":"D532-F532","v":{"v":26.66666666666424,"d":"27"}}]
["253835",6,"EC","2015-04-28",50,"2015-04-23T08:11:00"]
["262596",15,"EC","2015-04-30",50,"2015-04-23T08:28:00"]
["253837",6,"EC","2015-04-28",50,"2015-04-23T08:50:00"]
["263832",11,"EC","2015-02-16",50,"2015-04-23T09:13:00"]
["257552",15,"EC","2015-04-30",50,"2015-04-23T09:16:00"]
["261851",15,"EC","2015-05-07",50,"2015-04-23T09:28:00"]
["265565",20,"D ","2015-03-10",50,"2015-04-23T09:33:00"]
["268686",6,"D ","2015-04-23",50,"2015-04-23T10:17:00"]
["262608",18,"EC","2015-05-07",50,"2015-04-23T10:19:00"]
["264807",10,"D ","2015-04-16",50,"2015-04-23T10:51:00"]
["268700",6,"D ","2015-05-05",50,"2015-04-23T10:51:00"]
["262665",5,"EC","2015-05-07",50,"2015-04-23T11:58:00",{"$f":"D544-F544","v":{"v":13.50138888888614,"d":"14"}}]
["261823",5,"EC","2015-05-05",50,"2015-04-23T11:58:00",{"$f":"D545-F545","v":{"v":11.50138888888614,"d":"12"}}]
["241894",1,"D ","2015-03-10",50,"2015-04-23T13:31:00"]
["264945",14,"EC","2015-04-21",50,"2015-04-23T14:07:00"]
["264873",18,"EC","2015-04-29",50,"2015-04-23T15:00:00"]
["261978",18,"EC","2015-04-28",50,"2015-04-23T15:19:00"]
["263717",6,"D ","2015-02-11",25,"2015-04-23T15:47:00"]
["251973",6,"EC","2015-05-05",50,"2015-04-24T08:00:00"]
["264760",5,"EC","2015-04-16",50,"2015-04-24T08:00:00",{"$f":"D552-F552","v":{"v":-8.333333333335759,"d":"-8"}}]
["263351",10,"EC","2015-05-18",50,"2015-04-24T08:00:00"]
["263400",10,"EC","2015-04-28",50,"2015-04-24T08:00:00"]
["266066",10,"EC","2015-04-29",50,"2015-04-24T08:00:00"]
["264849",15,"EC","2015-05-04",50,"2015-04-24T08:00:00",{"$f":"D556-F556","v":{"v":9.666666666664241,"d":"10"}}]
["259213",10,"EC","2015-04-17",50,"2015-04-24T09:24:00"]
["252009",6,"EC","2015-04-29",50,"2015-04-24T09:36:00"]
["252020",6,"EC","2015-04-29",50,"2015-04-24T09:40:00"]
["265501",5,"EC","2015-05-05",50,"2015-04-24T09:43:00"]
["253819",6,"EC","2015-04-29",50,"2015-04-24T10:15:00"]
["252015",6,"EC","2015-05-18",50,"2015-04-24T10:37:00"]
["263718",6,"D ","2015-02-11",25,"2015-04-24T10:50:00"]
["262141",6,"EC","2015-04-29",50,"2015-04-24T10:54:00"]
["264760",5,"EC","2015-04-22",50,"2015-04-27T08:00:00",{"$f":"D565-F565","v":{"v":-5.333333333335759,"d":"-5"}}]
["259177",10,"EC","2015-04-21",50,"2015-04-27T08:00:00"]
["260302",10,"EC","2015-04-30",50,"2015-04-27T08:00:00"]
["261866",15,"EC","2015-04-30",50,"2015-04-27T08:00:00"]
["261984",5,"EC","2015-04-29",50,"2015-04-27T08:00:00"]
["262614",10,"EC","2015-05-18",50,"2015-04-27T08:00:00"]
["262663",5,"EC","2015-05-19",50,"2015-04-27T08:00:00"]
["263308",10,"EC","2015-05-05",50,"2015-04-27T08:00:00"]
["263326",15,"EC","2015-04-30",50,"2015-04-27T08:00:00"]
["263830",30,"EC","2015-02-16",50,"2015-04-27T08:00:00"]
["269435",6,"D ","2015-03-13",50,"2015-04-27T08:28:00"]
["265521",10,"EC","2015-05-05",50,"2015-04-27T08:49:00"]
["252017",12,"EC","2015-04-29",50,"2015-04-27T09:02:00"]
["252012",12,"EC","2015-04-29",50,"2015-04-27T09:13:00"]
["262656",18,"EC","2015-05-07",50,"2015-04-27T09:13:00"]
["252021",6,"EC","2015-04-29",50,"2015-04-27T10:21:00"]
["253824",12,"EC","2015-04-29",50,"2015-04-27T11:00:00"]
["253828",6,"EC","2015-04-29",50,"2015-04-27T11:02:00"]
["253830",6,"EC","2015-04-29",50,"2015-04-27T11:23:00"]
["253834",6,"EC","2015-04-29",50,"2015-04-27T11:58:00"]
["253838",6,"EC","2015-04-29",50,"2015-04-27T11:58:00"]
["253840",6,"EC","2015-04-29",50,"2015-04-27T13:39:00"]
["253852",6,"EC","2015-04-29",50,"2015-04-27T14:13:00"]
["253846",6,"EC","2015-04-29",50,"2015-04-27T14:14:00"]
["262142",1,"EC","2015-05-05",50,"2015-04-27T14:16:00"]
["264868",5,"EC","2015-05-05",50,"2015-04-27T14:25:00"]
["264996",10,"EC","2015-05-04",50,"2015-04-27T14:35:00"]
["253851",12,"EC","2015-04-29",50,"2015-04-27T14:44:00"]
["264808",10,"EC","2015-04-30",50,"2015-04-27T14:48:00"]
["261976",18,"EC","2015-05-18",50,"2015-04-27T14:54:00"]
["263347",10,"EC","2015-05-06",50,"2015-04-27T15:02:00"]
["252023",16,"EC","2015-04-29",50,"2015-04-27T15:14:00"]
["263411",12,"EC","2015-04-30",50,"2015-04-27T15:16:00"]
["266444",10,"EC","2015-05-20",50,"2015-04-27T15:19:00"]
["266457",2,"EC","2015-05-04",50,"2015-04-27T15:32:00"]
["266460",2,"EC","2015-05-04",50,"2015-04-27T15:44:00"]
["266440",10,"EC","2015-05-20",50,"2015-04-27T15:56:00"]
["251494",6,"EC","2015-03-12T00:53:29",50,"2015-04-27T16:12:00",{"$f":"F602-D602","v":{"v":46.63785879629722,"d":"47"}}]
["263400",10,"EC","2015-05-20",50,"2015-04-27T16:24:00"]
["269603",1,"D ","2015-03-10",50,"2015-04-27T16:26:00"]
["265503",8,"EC","2015-05-06",50,"2015-04-27T16:33:00"]
["266442",5,"EC","2015-05-20",50,"2015-04-27T16:33:00"]
["263369",5,"EC","2015-05-20",50,"2015-04-28T08:00:00"]
["266095",5,"EC","2015-05-20",50,"2015-04-28T08:00:00"]
["266439",5,"EC","2015-05-20",50,"2015-04-28T08:00:00"]
["266447",12,"EC","2015-05-20",50,"2015-04-28T08:00:00",{"$f":"D610-F610","v":{"v":21.66666666666424,"d":"22"}}]
["264783",10,"EC","2015-04-23",50,"2015-04-28T08:02:00"]
["262645",5,"EC","2015-05-19",50,"2015-04-28T08:13:00"]
["261872",15,"EC","2015-05-18",50,"2015-04-28T08:25:00"]
["262617",5,"EC","2015-05-05",50,"2015-04-28T08:29:00",{"$f":"D614-F614","v":{"v":6.646527777775191,"d":"7"}}]
["269376",5,"EA","2015-04-28",50,"2015-04-28T08:32:00"]
["268716",5,"EA","2015-06-02",50,"2015-04-28T08:41:00"]
["252001",6,"EC","2015-05-19",50,"2015-04-28T09:15:00"]
["252025",6,"EC","2015-05-19",50,"2015-04-28T09:28:00"]
["263356",12,"EC","2015-05-20",50,"2015-04-28T09:37:00"]
["263414",12,"EC","2015-05-20",50,"2015-04-28T09:45:00"]
["263423",12,"EC","2015-05-20",50,"2015-04-28T09:58:00"]
["269372",10,"EC","2015-05-05",50,"2015-04-28T10:12:00"]
["250917",6,"EC","2015-05-20",50,"2015-04-28T10:28:00"]
["265564",20,"D ","2015-03-11",50,"2015-04-28T10:34:00"]
["266516",10,"EC","2015-05-07",50,"2015-04-28T10:41:00"]
["264926",12,"EC","2015-05-20",50,"2015-04-28T10:41:00"]
["261993",18,"EC","2015-05-21",50,"2015-04-28T11:20:00"]
["252024",6,"EC","2015-05-20",50,"2015-04-28T11:25:00"]
["264919",18,"EC","2015-05-21",50,"2015-04-28T11:29:00"]
["253823",6,"EC","2015-05-20",50,"2015-04-28T11:33:00"]
["264795",15,"EC","2015-05-20",50,"2015-04-28T11:49:00"]
["253829",6,"EC","2015-05-20",50,"2015-04-28T13:38:00"]
["264855",5,"EC","2015-05-06",50,"2015-04-28T14:02:00"]
["264799",5,"EC","2015-05-20",50,"2015-04-28T14:33:00"]
["264871",18,"EC","2015-05-20",50,"2015-04-28T14:45:00"]
["264920",18,"EC","2015-05-21",50,"2015-04-28T14:55:00"]
["265535",18,"EC","2015-05-21",50,"2015-04-28T15:14:00"]
["268525",10,"EC","2015-05-25",50,"2015-04-28T16:12:00"]
["265494",5,"EC","2015-05-06",50,"2015-04-29T08:00:00",{"$f":"D639-F639","v":{"v":6.666666666664241,"d":"7"}}]
["249464",6,"EC","2015-05-05",50,"2015-04-29T08:00:00"]
["255392",15,"EC","2015-01-09T10:58:17",50,"2015-04-29T08:00:00",{"$f":"F641-D641","v":{"v":109.87619212963182,"d":"110"}}]
["263218",5,"EC","2015-05-04",50,"2015-04-29T08:00:00"]
["263219",5,"EC","2015-04-30",50,"2015-04-29T08:00:00"]
["266085",15,"EC","2015-04-29",50,"2015-04-29T08:00:00",{"$f":"D644-F644","v":{"v":-0.33333333333575865,"d":"-0"}}]
["263418",5,"EC","2015-06-24",50,"2015-04-29T08:00:00",{"$f":"D645-F645","v":{"v":55.66666666666424,"d":"56"}}]
["251494",6,"EC","2015-03-20T23:02:00",50,"2015-04-29T08:00:00"]
["262664",5,"EC","2015-05-22",50,"2015-04-29T08:36:00"]
["247391",6,"EC","2015-05-07",50,"2015-04-29T09:07:00"]
["263217",10,"EC","2015-05-18",50,"2015-04-29T09:17:00"]
["264752",6,"EC","2015-05-07",50,"2015-04-29T09:19:00"]
["262583",12,"EC","2015-05-22",50,"2015-04-29T09:22:00"]
["261918",12,"EC","2015-05-22",50,"2015-04-29T10:01:00"]
["263869",12,"EC","2015-05-22",50,"2015-04-29T10:07:00"]
["264851",5,"EA","2015-04-21",50,"2015-04-29T10:13:00"]
["264714",10,"EC","2015-04-21",50,"2015-04-29T10:28:00"]
["264814",12,"EC","2015-05-22",50,"2015-04-29T10:32:00"]
["259282",8,"D ","2015-04-07",50,"2015-04-29T10:44:00"]
["264230",8,"EC","2015-05-07",50,"2015-04-29T11:11:00"]
["269377",10,"EC","2015-05-05",50,"2015-04-29T13:19:00"]
["262601",18,"EC","2015-05-22",50,"2015-04-29T13:25:00"]
["262564",5,"D ","2015-04-07",50,"2015-04-29T13:45:00"]
["269352",5,"D ","2015-04-16",50,"2015-04-29T13:54:00"]
["269441",6,"D ","2015-05-05",50,"2015-04-29T13:55:00"]
["261050",5,"EC","2015-05-18",50,"2015-04-29T14:30:00"]
["264856",2,"EA","2015-05-18",50,"2015-04-29T14:54:00"]
["261833",10,"EC","2015-05-05",50,"2015-04-29T16:18:00",{"$f":"D666-F666","v":{"v":5.320833333331393,"d":"5"}}]
["263453",10,"EC","2015-05-22",50,"2015-04-29T16:42:00"]
["253827",6,"EC","2015-05-19",50,"2015-04-30T08:00:00"]
["253831",6,"EC","2015-05-19",50,"2015-04-30T08:00:00"]
["257603",10,"EC","2015-05-25",50,"2015-04-30T08:00:00"]
["260291",10,"EC","2015-05-05",50,"2015-04-30T08:00:00"]
["261083",10,"EC","2015-05-18",50,"2015-04-30T08:00:00"]
["262006",2,"EC","2015-05-07",50,"2015-04-30T08:00:00"]
["264849",15,"EC","2015-05-20",50,"2015-04-30T08:00:00"]
["266453",10,"EC","2015-05-22",50,"2015-04-30T08:00:00"]
["265578",1,"EC","2015-05-07",50,"2015-04-30T08:06:00"]
["268698",5,"EC","2015-05-06",50,"2015-04-30T08:29:00"]
["264812",5,"EA","2015-04-17",50,"2015-04-30T09:12:00"]
["265525",5,"EC","2015-05-28",50,"2015-04-30T09:13:00",{"$f":"D679-F679","v":{"v":27.6159722222219,"d":"28"}}]
["264824",50,"EC","2015-05-25",50,"2015-04-30T09:13:00",{"$f":"D680-F680","v":{"v":24.6159722222219,"d":"25"}}]
["261880",20,"D ","2015-04-20",50,"2015-04-30T09:13:00"]
["261903",20,"D ","2015-04-20",50,"2015-04-30T09:13:00"]
["241894",1,"D ","2015-03-26",50,"2015-04-30T10:13:00"]
["263204",5,"EC","2015-05-26",50,"2015-04-30T10:41:00"]
["268940",1,"EC","2015-02-26",25,"2015-04-30T11:13:00"]
["268678",6,"D ","2015-03-25",50,"2015-04-30T11:13:00"]
["268416",6,"D ","2015-04-29",50,"2015-04-30T11:47:00"]
["263218",5,"EC","2015-05-18",50,"2015-04-30T11:54:00"]
["264744",15,"D ","2015-04-30",25,"2015-04-30T11:54:00",{"$f":"D689-F689","v":{"v":-0.49583333333430346,"d":"-0"}}]
["263203",10,"EC","2015-05-26",50,"2015-04-30T13:50:00"]
["257088",5,"D ","2015-01-16",50,"2015-04-30T14:07:00"]
["259288",5,"D ","2015-04-22",50,"2015-04-30T14:07:00"]
["265512",10,"D ","2015-05-19",50,"2015-04-30T15:00:00"]
["251506",6,"EC","2015-06-02",50,"2015-04-30T15:43:00"]
["263206",5,"EC","2015-05-26",50,"2015-04-30T16:03:00"]
["263219",5,"EC","2015-05-19",50,"2015-05-04T08:00:00"]
["253822",6,"EC","2015-05-20",50,"2015-05-04T08:00:00"]
["247378",6,"EC","2015-05-07",50,"2015-05-04T08:00:00"]
["253223",6,"EC","2015-05-07",50,"2015-05-04T08:00:00"]
["257085",30,"D ","2015-03-02",50,"2015-05-04T08:00:00"]
["264713",6,"EC","2015-04-01",50,"2015-05-04T08:00:00"]
["264726",6,"EC","2015-04-01",50,"2015-05-04T08:00:00"]
["265560",5,"D ","2015-03-25",50,"2015-05-04T08:00:00"]
["266882",5,"EC","2015-04-15",50,"2015-05-04T08:00:00"]
["268713",2,"EA","2015-05-06",50,"2015-05-04T08:00:00"]
["268722",10,"D ","2015-05-07",50,"2015-05-04T08:00:00"]
["269383",10,"D ","2015-05-27",50,"2015-05-04T08:00:00"]
["253816",6,"EC","2015-05-20",50,"2015-05-04T08:25:00"]
["264863",5,"EC","2015-05-07",50,"2015-05-04T08:37:00"]
["246723",30,"EC","2015-05-07",50,"2015-05-04T09:28:00"]
["251485",6,"EC","2015-05-07",50,"2015-05-04T09:43:00"]
["264801",5,"EC","2015-05-18",50,"2015-05-04T10:14:00",{"$f":"D712-F712","v":{"v":13.57361111111095,"d":"14"}}]
["255308",6,"EC","2015-05-07",50,"2015-05-04T11:02:00"]
["266466",6,"EC","2015-05-07",50,"2015-05-04T11:05:00"]
["264819",5,"EC","2015-05-18",50,"2015-05-04T11:13:00"]
["262624",20,"EC","2015-05-25",50,"2015-05-04T14:16:00"]
["264794",15,"EC","2015-05-25",50,"2015-05-04T14:17:00"]
["263364",18,"EC","2015-05-25",50,"2015-05-04T14:26:00"]
["264840",10,"EC","2015-05-26",50,"2015-05-04T15:22:00"]
["262638",20,"EC","2015-05-25",50,"2015-05-04T15:26:00"]
["264809",5,"EC","2015-05-26",50,"2015-05-04T15:53:00"]
["262674",5,"EC","2015-05-26",50,"2015-05-04T16:24:00"]
["263215",5,"EC","2015-05-26",50,"2015-05-04T16:33:00"]
["264992",15,"EC","2015-05-25",50,"2015-05-04T16:56:00"]
["253853",6,"EC","2015-05-20",50,"2015-05-05T08:00:00"]
["264808",10,"EC","2015-05-26",50,"2015-05-05T08:00:00"]
["264873",18,"EC","2015-05-26",50,"2015-05-05T08:00:00"]
["269387",10,"EA","2015-05-07",50,"2015-05-05T08:00:00"]
["264802",5,"EC","2015-05-27",50,"2015-05-05T08:00:00",{"$f":"D729-F729","v":{"v":21.66666666666424,"d":"22"}}]
["253867",6,"EC","2015-05-20",50,"2015-05-05T09:22:00"]
["261941",15,"EC","2015-05-26",50,"2015-05-05T09:49:00"]
["263411",12,"EC","2015-05-27",50,"2015-05-05T10:28:00"]
["264812",5,"EA","2015-05-06",50,"2015-05-05T11:23:00"]
["265518",10,"EC","2015-05-20",50,"2015-05-05T11:27:00"]
["262621",10,"EC","2015-05-29",50,"2015-05-05T13:19:00"]
["254181",20,"EC","2015-04-01",50,"2015-05-05T13:25:00",{"$f":"D736-F736","v":{"v":-34.55902777778101,"d":"-35"}}]
["268940",1,"EC","2015-03-09",25,"2015-05-05T13:37:00"]
["259282",8,"D ","2015-04-08",50,"2015-05-05T13:37:00"]
["259527",10,"EA","2015-04-16",50,"2015-05-05T13:42:00"]
["265000",16,"EC","2015-05-26",50,"2015-05-05T13:45:00"]
["264861",5,"EC","2015-05-27",50,"2015-05-05T13:50:00"]
["255305",6,"EC","2015-05-20",50,"2015-05-05T13:53:00"]
["261156",10,"EA","2015-04-15",50,"2015-05-05T13:56:00"]
["264869",5,"EC","2015-05-27",50,"2015-05-05T14:18:00"]
["264399",10,"EC","2015-05-26",50,"2015-05-05T14:48:00"]
["253939",6,"EC","2015-05-20",50,"2015-05-05T15:00:00"]
["268729",5,"EA","2015-04-24",50,"2015-05-05T15:01:00"]
["266477",10,"EC","2015-05-29",50,"2015-05-05T15:18:00"]
["251502",6,"EC","2015-05-19",50,"2015-05-05T15:25:00"]
["268938",5,"D ","2015-04-13",50,"2015-05-05T15:34:00"]
["264852",10,"EC","2015-05-26",50,"2015-05-05T15:48:00",{"$f":"D751-F751","v":{"v":20.34166666666715,"d":"20"}}]
["246721",18,"EC","2014-10-29T22:25:00",50,"2015-05-06T08:00:00","etagere ebav"]
["246722",18,"EC","2015-05-27",50,"2015-05-06T08:00:00"]
["263322",5,"EA","2015-05-19",50,"2015-05-06T08:00:00"]
["265642",15,"EC","2015-05-26",50,"2015-05-06T08:00:00"]
["261536",3,"EA","2015-03-16",50,"2015-05-06T08:10:00"]
["258620",2,"EA","2015-04-22",50,"2015-05-06T08:14:00"]
["269355",5,"EA","2015-04-27",50,"2015-05-06T08:41:00"]
["263370",36,"D ","2015-04-22",50,"2015-05-06T11:21:00"]
["269352",5,"D ","2015-05-05",50,"2015-05-06T11:42:00"]
["263406",10,"EA","2015-05-04",50,"2015-05-06T11:45:00"]
["269431",8,"D ","2015-04-30",50,"2015-05-06T11:56:00"]
["264863",5,"EC","2015-05-27",50,"2015-05-06T14:19:00"]
["269398",10,"D ","2015-05-22",50,"2015-05-06T14:21:00"]
["266473",10,"EC","2015-06-01",50,"2015-05-06T14:35:00"]
["269082",2,"D ","2015-04-01",50,"2015-05-06T14:39:00"]
["265515",10,"EC","2015-05-21",50,"2015-05-06T15:47:00"]
["264866",10,"EC","2015-05-27",50,"2015-05-06T16:18:00"]
["263444",5,"EC","2015-05-21",50,"2015-05-06T16:30:00"]
["265530",6,"D ","2015-04-29",50,"2015-05-06T16:53:00"]
["263427",5,"EC","2015-05-19",50,"2015-05-07T08:00:00"]
["259295",5,"EC","2015-05-21",50,"2015-05-07T08:00:00"]
["263361",10,"EC","2015-05-20",50,"2015-05-07T08:00:00"]
["264749",15,"EC","2015-04-30",25,"2015-05-07T08:00:00",{"$f":"D774-F774","v":{"v":-7.333333333335759,"d":"-7"}}]
["264853",12,"D ","2015-05-20",50,"2015-05-07T08:00:00"]
["266499",5,"EC","2015-05-19",50,"2015-05-07T08:00:00"]
["263315",10,"D ","2015-05-18",50,"2015-05-07T08:57:00"]
["263312",5,"EC","2015-05-25",50,"2015-05-07T09:46:00"]
["263320",5,"EC","2015-05-19",50,"2015-05-07T10:32:00"]
["264918",5,"D ","2015-04-30",50,"2015-05-07T10:44:00"]
["263317",5,"EA","2015-05-19",50,"2015-05-07T10:51:00"]
["263708",6,"D ","2015-02-11",25,"2015-05-07T11:13:00"]
["263709",6,"D ","2015-02-11",25,"2015-05-07T11:39:00"]
["263710",6,"D ","2015-02-11",25,"2015-05-07T11:58:00"]
["263711",6,"D ","2015-02-11",25,"2015-05-07T11:58:00"]
["264933",10,"EC","2015-05-26",50,"2015-05-07T13:16:00"]
["265621",5,"EA","2015-05-26",50,"2015-05-07T13:18:00"]
["263713",6,"D ","2015-02-11",25,"2015-05-07T13:19:00"]
["263714",6,"D ","2015-02-11",25,"2015-05-07T13:58:00"]
["265599",10,"D ","2015-05-26",50,"2015-05-07T14:18:00"]
["263715",6,"D ","2015-02-11",25,"2015-05-07T14:25:00"]
["263716",6,"D ","2015-02-11",25,"2015-05-07T14:27:00"]
["269727",8,"D ","","","2015-05-07T14:33:00"]
["269621",18,"D ","2015-02-09",50,"2015-05-11T08:00:00"]
["261156",10,"EA","2015-05-04",50,"2015-05-11T10:34:00"]
["264238",5,"EC","2015-01-16",25,"2015-05-11T10:55:00",{"$f":"D796-F796","v":{"v":-115.4548611111095,"d":"-115"}}]
["268729",5,"EA","2015-05-20",50,"2015-05-11T15:00:00"]
["261171",10,"EC","2015-05-05",50,"2015-05-12T08:00:00"]
["264727",10,"EC","2015-05-20",50,"2015-05-12T09:13:00"]
["265639",2,"D ","2015-05-19",50,"2015-05-13T11:37:00"]
["251478",6,"EC","2015-05-22",50,"2015-05-13T14:32:00"]
["262633",18,"EC","2015-05-29",50,"2015-05-14T09:13:00"]
["246451",6,"EC","2015-05-20",50,"2015-05-14T11:25:00"]
["246449",6,"EC","2015-05-20",50,"2015-05-14T13:45:00"]
["264878",10,"EC","2015-05-29",50,"2015-05-14T14:52:00"]
["263278",5,"D ","2015-05-22",50,"2015-05-15T08:03:00"]
["254181",20,"EC","2015-05-05",50,"2015-05-18T08:00:00",{"$f":"D807-F807","v":{"v":-13.333333333335759,"d":"-13"}}]
["261914",10,"EC","2015-05-27",50,"2015-05-18T08:00:00",{"$f":"D808-F808","v":{"v":8.666666666664241,"d":"9"}}]
["252031",24,"EC","2015-05-25",50,"2015-05-18T08:00:00"]
["259527",10,"EA","2015-05-18",50,"2015-05-18T08:00:00"]
["261985",10,"EC","2015-05-27",50,"2015-05-18T08:00:00"]
["262625",18,"EC","2015-05-29",50,"2015-05-18T08:00:00"]
["262644",12,"D ","2015-06-01",50,"2015-05-18T08:00:00"]
["263302",5,"D ","2015-05-21",50,"2015-05-18T08:00:00"]
["263382",5,"D ","2015-05-20",50,"2015-05-18T08:00:00"]
["265576",3,"D ","2015-05-18",50,"2015-05-18T08:00:00"]
["266087",40,"EC","2015-05-05",50,"2015-05-18T08:00:00"]
["269085",1,"D ","2015-04-17",50,"2015-05-18T08:00:00"]
["269355",5,"EA","2015-05-26",50,"2015-05-18T08:00:00"]
["269431",8,"D ","2015-05-04",50,"2015-05-18T08:00:00"]
["265590",20,"EC","2015-05-28",40,"2015-05-18T08:00:00"]
["269084",5,"D ","2015-05-20",50,"2015-05-18T09:43:00"]
["264876",5,"EC","2015-06-01",50,"2015-05-18T10:08:00"]
["266535",18,"D ","2015-05-26",50,"2015-05-18T10:33:00"]
["269397",5,"D ","2015-06-02",50,"2015-05-18T13:47:00"]
["251508",6,"EC","2015-05-22",50,"2015-05-18T15:00:00"]
["263317",5,"EA","2015-05-25",50,"2015-05-18T15:20:00"]
["263320",5,"EC","2015-05-25",50,"2015-05-18T16:18:00"]
["263427",5,"EC","2015-05-25",50,"2015-05-19T08:00:00"]
["251509",6,"EC","2015-05-22",50,"2015-05-19T08:00:00"]
["256892",1,"EA","2014-12-17",50,"2015-05-19T08:00:00"]
["264815",50,"EC","2015-06-02",50,"2015-05-19T08:00:00"]
["263311",5,"D ","2015-05-22",50,"2015-05-19T08:59:00"]
["264883",18,"EC","2015-06-04",50,"2015-05-19T10:11:00"]
["247311",12,"EC","2015-05-27",50,"2015-05-19T11:59:00"]
["266548",5,"EA","2015-05-25",50,"2015-05-19T13:18:00"]
["253859",6,"EC","2015-05-27",50,"2015-05-19T13:41:00"]
["263379",5,"D ","2015-06-02",50,"2015-05-19T14:59:00"]
["263387",5,"D ","2015-06-02",50,"2015-05-19T16:12:00"]
["263384",5,"D ","2015-06-02",50,"2015-05-19T16:18:00"]
["266497",10,"EC","2015-05-25",50,"2015-05-20T08:00:00"]
["252429",5,"D ","2015-04-01",50,"2015-05-20T08:00:00"]
["258713",1,"EA","2014-12-17",50,"2015-05-20T08:00:00"]
["261915",20,"D ","2015-05-06",50,"2015-05-20T08:00:00"]
["263390",5,"EC","2015-06-02",50,"2015-05-20T08:00:00"]
["265530",6,"D ","2015-04-30",50,"2015-05-20T08:00:00"]
["266077",4,"EC","2015-05-22",50,"2015-05-20T08:00:00"]
["269082",2,"D ","2015-04-09",50,"2015-05-20T08:00:00"]
["262685",10,"D ","2015-06-02",50,"2015-05-20T08:18:00"]
["263393",5,"D ","2015-06-02",50,"2015-05-20T08:37:00"]
["263394",5,"D ","2015-06-02",50,"2015-05-20T08:56:00"]
["266500",8,"EC","2015-05-26",50,"2015-05-20T09:13:00"]
["263280",10,"D ","2015-06-03",50,"2015-05-20T09:41:00"]
["259259",18,"EC","2015-06-03",50,"2015-05-20T10:11:00"]
["263201",5,"EC","2015-05-22",50,"2015-05-20T10:11:00"]
["269445",10,"EA","2015-05-04",50,"2015-05-20T10:30:00"]
["265594",12,"D ","2015-05-26",50,"2015-05-20T10:52:00"]
["264903",5,"EC","2015-06-03",50,"2015-05-20T11:44:00"]
["263282",10,"D ","2015-06-03",50,"2015-05-20T13:37:00"]
["265557",10,"D ","2015-06-03",50,"2015-05-20T13:40:00"]
["265581",12,"D ","2015-05-26",50,"2015-05-20T14:24:00"]
["263302",5,"D ","2015-06-03",50,"2015-05-20T14:50:00"]
["263281",5,"D ","2015-06-03",50,"2015-05-20T15:05:00"]
["263295",10,"D ","2015-06-03",50,"2015-05-20T15:18:00"]
["268664",30,"EC","2015-06-04",50,"2015-05-20T15:18:00"]
["263304",5,"D ","2015-06-03",50,"2015-05-20T16:18:00"]
["253498",1,"EA","2015-01-12",50,"2015-05-21T08:00:00"]
["258714",1,"EA","2014-12-17",50,"2015-05-21T08:00:00"]
["258720",1,"EA","2015-02-02",50,"2015-05-21T08:00:00"]
["258727",1,"EA","2015-02-13",50,"2015-05-21T08:00:00"]
["262566",5,"EC","2015-06-03",50,"2015-05-21T08:00:00"]
["263286",5,"D ","2015-06-03",50,"2015-05-21T08:00:00"]
["266483",10,"EC","2015-06-03",50,"2015-05-21T08:00:00"]
["269354",5,"EA","2015-04-23",50,"2015-05-21T08:00:00"]
["269356",10,"D ","2015-05-05",50,"2015-05-21T08:57:00"]
["251488",6,"EC","2015-05-27",50,"2015-05-21T10:26:00"]
["265513",20,"D ","2015-05-05",50,"2015-05-21T11:27:00"]
["260235",10,"EC","2015-05-22",50,"2015-05-21T13:55:00"]
["251505",6,"EC","2015-05-27",50,"2015-05-21T14:13:00"]
["251503",6,"EC","2015-05-27",50,"2015-05-21T14:21:00"]
["251946",6,"EC","2015-05-27",50,"2015-05-21T14:21:00"]
["256341",6,"D ","2015-05-28",50,"2015-05-21T14:24:00"]
["251949",6,"EC","2015-05-27",50,"2015-05-21T15:10:00"]
["251500",6,"EC","2015-05-27",50,"2015-05-21T15:18:00"]
["251484",6,"EC","2015-05-27",50,"2015-05-21T15:36:00"]
["251945",6,"EC","2015-05-27",50,"2015-05-21T15:36:00"]
["251504",6,"EC","2015-05-27",50,"2015-05-21T15:46:00"]
["255496",10,"EC","2015-06-02",50,"2015-05-21T16:38:00",{"$f":"D888-F888","v":{"v":11.306944444440887,"d":"11"}}]
["259497",10,"EC","2015-05-29",50,"2015-05-22T08:00:00",{"$f":"D889-F889","v":{"v":6.666666666664241,"d":"7"}}]
["257604",10,"EC","2015-06-05",50,"2015-05-22T08:00:00"]
["258728",1,"EA","2015-03-02",50,"2015-05-22T08:00:00"]
["258969",1,"EA","2015-02-13",50,"2015-05-22T08:00:00"]
["258970",1,"EA","2015-03-02",50,"2015-05-22T08:00:00"]
["262586",5,"EC","2015-05-27",50,"2015-05-22T08:00:00"]
["263201",5,"EC","2015-06-03",50,"2015-05-22T08:00:00"]
["263413",10,"EC","2015-06-15",50,"2015-05-22T08:00:00"]
["263838",10,"EC","2015-04-27",50,"2015-05-22T08:00:00"]
["265558",5,"D ","2015-05-28",50,"2015-05-22T08:00:00"]
["268282",8,"D ","2015-06-03",50,"2015-05-22T08:00:00"]
["269415",10,"D ","2015-03-13",50,"2015-05-22T08:00:00"]
["247467",6,"EC","2015-05-27",50,"2015-05-22T08:35:00"]
["248475",6,"EC","2015-05-27",50,"2015-05-22T08:35:00"]
["269446",6,"D ","2015-05-28",50,"2015-05-22T09:13:00"]
["264853",12,"D ","2015-06-05",50,"2015-05-22T09:28:00"]
["261915",20,"D ","2015-05-20",50,"2015-05-22T09:56:00"]
["255450",6,"D ","2015-05-27",50,"2015-05-22T10:01:00"]
["269621",18,"D ","2015-03-05",50,"2015-05-22T10:55:00"]
["251532",6,"EC","2015-03-18T02:44:34",50,"2015-05-22T10:55:00",{"$f":"F908-D908","v":{"v":65.34057870370452,"d":"65"}}]
["258971",1,"EA","2015-03-02",50,"2015-05-25T08:00:00"]
["258973",1,"EA","2015-03-10",50,"2015-05-25T08:00:00"]
["261048",5,"EC","2015-05-25",50,"2015-05-25T08:00:00"]
["263249",5,"D ","2015-06-05",50,"2015-05-25T08:00:00"]
["263252",5,"D ","2015-06-05",50,"2015-05-25T08:00:00"]
["263313",5,"EA","2015-05-25",50,"2015-05-25T08:00:00"]
["263322",5,"EA","2015-06-03",50,"2015-05-25T08:00:00"]
["264906",4,"EA","2015-02-11",50,"2015-05-25T08:00:00"]
["266548",5,"EA","2015-06-10",50,"2015-05-25T08:28:00"]
["265546",20,"D ","2015-05-18",50,"2015-05-25T08:37:00"]
["265653",10,"D ","2015-05-27",50,"2015-05-25T08:42:00"]
["255459",26,"D ","2015-05-27",50,"2015-05-25T08:58:00"]
["264856",2,"EA","2015-05-25",50,"2015-05-25T09:08:00"]
["255447",24,"EC","2015-05-29",50,"2015-05-25T09:35:00"]
["264916",10,"D ","2015-05-26",50,"2015-05-25T09:47:00"]
["269083",2,"D ","2015-06-11",50,"2015-05-25T09:59:00"]
["259058",6,"EC","2015-05-18T10:58:17",50,"2015-05-25T10:00:00",{"$f":"F925-D925","v":{"v":6.9595254629603005,"d":"7"}}]
["269090",5,"D ","2015-04-24",50,"2015-05-25T10:00:00"]
["263283",10,"EC","2015-04-21",50,"2015-05-25T10:00:00",{"$f":"D927-F927","v":{"v":-34.41666666666424,"d":"-34"}}]
["251482",6,"EC","2015-06-08",50,"2015-05-25T10:15:00"]
["268718",10,"D ","2015-06-03",50,"2015-05-25T10:43:00"]
["265607",10,"EC","2015-06-02",50,"2015-05-25T11:22:00"]
["255452",6,"EC","2015-05-29",50,"2015-05-25T14:21:00"]
["255454",6,"EC","2015-05-29",50,"2015-05-25T14:32:00"]
["255451",6,"EC","2015-05-29",50,"2015-05-25T15:54:00"]
["268728",5,"D ","2015-06-09",50,"2015-05-25T16:05:00"]
["263348",6,"D ","2015-06-04",50,"2015-05-25T16:26:00"]
["268727",5,"D ","2015-06-09",50,"2015-05-25T16:33:00"]
["255457",6,"EC","2015-05-29",50,"2015-05-26T08:00:00"]
["258711",1,"EA","2015-04-09",50,"2015-05-26T08:00:00"]
["261246",1,"EA","2015-03-24",50,"2015-05-26T08:00:00"]
["263277",12,"D ","2015-05-29",50,"2015-05-26T08:00:00"]
["265536",10,"D ","2015-06-04",50,"2015-05-26T08:00:00"]
["265567",15,"D ","2015-06-08",50,"2015-05-26T08:00:00"]
["265616",20,"D ","2015-05-18",50,"2015-05-26T09:33:00"]
["268720",10,"D ","2015-06-03",50,"2015-05-26T09:45:00"]
["249562",1,"EA","2015-04-13",50,"2015-05-26T10:29:00"]
["265563",20,"D ","2015-05-20",50,"2015-05-26T11:07:00"]
["265620",18,"D ","2015-06-02",50,"2015-05-26T14:06:00"]
["263300",5,"D ","2015-06-10",50,"2015-05-26T15:03:00"]
["265635",10,"D ","2015-05-27",50,"2015-05-26T15:10:00"]
["262209",1,"EA","2015-04-15",50,"2015-05-27T08:00:00"]
["263344",20,"EC","2015-06-04",50,"2015-05-27T08:00:00"]
["264170",7,"D ","2015-06-03",50,"2015-05-27T08:00:00"]
["265588",10,"D ","2015-06-08",50,"2015-05-27T08:00:00"]
["263410",6,"D ","2015-06-10",50,"2015-05-27T09:20:00"]
["264856",2,"EA","2015-06-01",50,"2015-05-27T09:32:00"]
["265554",8,"D ","2015-05-27",50,"2015-05-27T10:24:00"]
["269406",6,"D ","2015-06-10",50,"2015-05-27T13:15:00"]
["265566",10,"EC","2015-06-16",50,"2015-05-27T14:04:00"]
["269429",8,"D ","2015-06-11",50,"2015-05-27T14:16:00"]
["269403",12,"D ","2015-06-10",50,"2015-05-27T14:24:00"]
["259283",16,"EC","2015-06-09",50,"2015-05-27T14:44:00"]
["255443",6,"EC","2015-06-10",50,"2015-05-27T14:47:00"]
["265562",18,"D ","2015-06-02",50,"2015-05-27T14:50:00"]
["264803",10,"EC","2015-06-04",50,"2015-05-27T15:17:00"]
["255442",6,"EC","2015-06-10",50,"2015-05-27T15:54:00"]
["255444",6,"EC","2015-06-03",50,"2015-05-27T15:54:00"]
["246639",6,"EC","2015-04-07T05:25:02",50,"2015-05-27T16:12:00",{"$f":"F967-D967","v":{"v":50.449282407411374,"d":"50"}}]
["255438",12,"EC","2015-05-04T13:01:43",50,"2015-05-28T08:00:00",{"$f":"F968-D968","v":{"v":23.7904745370397,"d":"24"}}]
["262212",1,"EA","2015-05-26",50,"2015-05-28T08:00:00"]
["265581",12,"D ","2015-06-11",50,"2015-05-28T08:00:00"]
["265594",12,"D ","2015-06-11",50,"2015-05-28T08:00:00"]
["265610",10,"D ","2015-06-09",50,"2015-05-28T08:00:00"]
["266535",18,"D ","2015-06-11",50,"2015-05-28T08:00:00"]
["269402",12,"D ","2015-06-10",50,"2015-05-28T08:00:00"]
["269439",12,"D ","2015-04-08",50,"2015-05-28T09:09:00"]
["269438",24,"D ","2015-04-29",50,"2015-05-28T10:17:00"]
["269442",24,"D ","2015-04-29",50,"2015-05-28T11:27:00"]
["269408",5,"D ","2015-06-10",50,"2015-05-28T11:35:00"]
["251964",6,"EC","2015-06-05",50,"2015-05-28T14:24:00"]
["266534",20,"D ","2015-05-20",50,"2015-05-28T15:39:00"]
["251481",6,"EC","2015-06-09",50,"2015-05-28T15:48:00",{"$f":"D981-F981","v":{"v":11.341666666667152,"d":"11"}}]
["263347",10,"EC","2015-06-09",50,"2015-05-28T15:48:00"]
["251968",6,"EC","2015-06-05",50,"2015-05-29T08:00:00"]
["266462",30,"D ","2015-06-08",50,"2015-05-29T08:00:00"]
["269348",16,"D ","2015-02-09",50,"2015-05-29T10:11:00"]
["264762",5,"EC","2015-05-06",50,"2015-06-01T08:00:00",{"$f":"D986-F986","v":{"v":-26.33333333333576,"d":"-26"}}]
["257562",6,"EC","2015-07-07T02:44:34",50,"2015-06-01T08:00:00",{"$f":"F987-D987","v":{"v":-35.78094907406921,"d":"-36"}}]
["255439",6,"EC","2015-06-03",50,"2015-06-01T08:00:00"]
["263362",12,"D ","2015-06-04",50,"2015-06-01T08:00:00"]
["263366",6,"D ","2015-06-04",50,"2015-06-01T08:00:00"]
["263396",6,"D ","2015-06-05",50,"2015-06-01T08:00:00"]
["264885",18,"EC","2015-06-15",50,"2015-06-01T08:00:00"]
["264911",6,"D ","2015-06-09",50,"2015-06-01T08:05:00"]
["263404",6,"D ","2015-06-05",50,"2015-06-01T08:49:00"]
["265626",12,"D ","2015-06-05",50,"2015-06-01T10:16:00"]
["269660",10,"D ","2015-06-16",50,"2015-06-01T10:22:00"]
["264884",18,"D ","2015-06-16",50,"2015-06-01T11:11:00"]
["265645",6,"D ","2015-06-05",50,"2015-06-01T11:12:00"]
["265622",6,"D ","2015-06-05",50,"2015-06-01T13:32:00"]
["255460",6,"EC","2015-06-05",50,"2015-06-01T14:42:00"]
["264933",10,"EC","2015-06-09",50,"2015-06-01T15:18:00"]
["261052",13,"EC","2015-06-10",50,"2015-06-01T15:33:00"]
["259502",6,"D ","2015-06-10",50,"2015-06-01T16:00:00"]
["262219",1,"EA","2015-05-26",50,"2015-06-02T08:00:00"]
["263397",5,"D ","2015-06-08",50,"2015-06-02T08:00:00"]
["264935",5,"D ","2015-05-26",50,"2015-06-02T08:29:00"]
["264773",10,"EC","2015-06-05",50,"2015-06-02T08:57:00"]
["257035",5,"D ","2015-06-02",50,"2015-06-02T08:59:00"]
["261950",5,"EA","2015-05-04",50,"2015-06-02T09:27:00"]
["265611",20,"D ","2015-06-01",50,"2015-06-02T09:35:00"]
["264944",20,"D ","2015-05-27",50,"2015-06-02T11:09:00"]
["266486",8,"D ","2015-05-18",50,"2015-06-02T11:20:00"]
["269443",24,"D ","2015-04-29",50,"2015-06-02T11:45:00"]
["263440",12,"D ","2015-05-18",50,"2015-06-02T13:43:00"]
["265625",20,"D ","2015-06-01",50,"2015-06-02T13:56:00"]
["259242",12,"EC","2015-04-03",50,"2015-06-02T14:35:00"]
["265593",5,"D ","2015-06-08",50,"2015-06-02T15:18:00"]
["265640",18,"D ","2015-06-12",50,"2015-06-02T15:27:00"]
["268234",10,"D ","2015-04-15",50,"2015-06-02T15:49:00"]
["262657",12,"EC","2015-06-18",50,"2015-06-03T08:00:00"]
["255440",6,"EC","2015-06-16",50,"2015-06-03T08:00:00"]
["262220",1,"EA","2015-05-26",50,"2015-06-03T08:00:00"]
["263378",10,"D ","2015-06-08",50,"2015-06-03T08:00:00"]
["269410",6,"D ","2015-06-16",50,"2015-06-03T08:00:00"]
["265489",12,"EA","2015-03-26",50,"2015-06-03T08:49:00"]
["264882",18,"D ","2015-06-16",50,"2015-06-03T09:43:00"]
["255448",6,"D ","2015-06-17",50,"2015-06-03T10:38:00"]
["266540",18,"D ","2015-06-16",50,"2015-06-03T10:41:00"]
["265618",18,"D ","2015-06-16",50,"2015-06-03T11:27:00"]
["265615",6,"D ","2015-06-17",50,"2015-06-03T13:56:00"]
["263426",6,"D ","2015-06-09",50,"2015-06-03T15:54:00"]
["263432",6,"D ","2015-06-09",50,"2015-06-03T15:54:00"]
["259034",6,"EC","2015-06-09",50,"2015-06-04T08:00:00"]
["263245",20,"EC","2015-06-24",50,"2015-06-04T08:00:00"]
["263428",6,"D ","2015-06-09",50,"2015-06-04T08:00:00"]
["265562",18,"D ","2015-06-18",50,"2015-06-04T08:00:00"]
["265620",18,"D ","2015-06-18",50,"2015-06-04T08:00:00"]
["268724",20,"D ","2015-05-27",50,"2015-06-04T09:33:00"]
["264856",2,"EA","2015-06-22",50,"2015-06-04T10:04:00"]
["255458",6,"EC","2015-06-10",50,"2015-06-04T10:28:00"]
["253866",6,"EC","2015-07-23T02:44:34",50,"2015-06-04T13:52:00",{"$f":"F1041-D1041","v":{"v":-48.536504629628325,"d":"-49"}}]
["265609",5,"D ","2015-05-27",50,"2015-06-04T13:52:00"]
["266506",12,"D ","2015-05-22",50,"2015-06-04T14:14:00"]
["264773",10,"EC","2015-06-18",50,"2015-06-04T14:18:00"]
["264867",40,"EC","2015-06-16",50,"2015-06-04T14:48:00"]
["264770",10,"EC","2015-06-18",50,"2015-06-04T14:56:00"]
["263388",10,"D ","2015-06-12",25,"2015-06-04T15:12:00"]
["264767",5,"EC","2015-06-18",50,"2015-06-04T16:03:00"]
["247460",6,"EC","2015-06-16",50,"2015-06-05T08:00:00",{"$f":"D1049-F1049","v":{"v":10.666666666664241,"d":"11"}}]
["264768",10,"EC","2015-06-18",50,"2015-06-05T08:00:00"]
["264769",5,"EC","2015-06-18",50,"2015-06-05T08:00:00"]
["264943",5,"D ","2015-06-02",50,"2015-06-05T08:00:00"]
["265554",8,"D ","2015-06-05",50,"2015-06-05T08:00:00"]
["266586",2,"EA","2015-06-08",50,"2015-06-05T08:00:00"]
["255439",6,"EC","2015-06-09",50,"2015-06-05T10:19:00"]
["251940",6,"EC","2015-06-17",50,"2015-06-08T08:00:00",{"$f":"D1056-F1056","v":{"v":8.666666666664241,"d":"9"}}]
["264813",5,"EC","2015-06-24",50,"2015-06-08T08:00:00",{"$f":"D1057-F1057","v":{"v":15.666666666664241,"d":"16"}}]
["259328",3,"D ","2015-06-04",50,"2015-06-08T08:00:00"]
["262609",5,"EC","2015-06-16",50,"2015-06-08T08:00:00"]
["263378",10,"D ","2015-06-12",50,"2015-06-08T08:00:00"]
["263433",5,"D ","2015-06-10",50,"2015-06-08T08:00:00"]
["263440",12,"D ","2015-06-03",50,"2015-06-08T08:00:00"]
["264935",5,"D ","2015-06-10",50,"2015-06-08T08:00:00"]
["265548",10,"EC","2015-06-19",50,"2015-06-08T08:00:00"]
["265593",5,"D ","2015-06-15",50,"2015-06-08T08:00:00"]
["266467",10,"EC","2015-06-19",50,"2015-06-08T08:00:00"]
["268662",15,"D ","2015-02-09",50,"2015-06-08T08:00:00"]
["255453",6,"EC","2015-06-16",50,"2015-06-08T08:28:00"]
["253864",6,"EC","2015-06-17",50,"2015-06-08T08:31:00"]
["266486",8,"D ","2015-06-03",50,"2015-06-08T08:43:00"]
["263419",12,"D ","2015-06-11",50,"2015-06-08T09:28:00"]
["264934",18,"D ","2015-06-05",50,"2015-06-08T09:36:00"]
["263424",12,"D ","2015-06-11",50,"2015-06-08T09:47:00"]
["263409",6,"D ","2015-06-11",50,"2015-06-08T09:52:00"]
["263425",6,"D ","2015-06-11",50,"2015-06-08T10:06:00"]
["263350",6,"D ","2015-06-12",50,"2015-06-08T10:20:00"]
["260267",6,"D ","2015-06-12",50,"2015-06-08T11:01:00"]
["263352",6,"D ","2015-06-12",50,"2015-06-08T11:05:00"]
["263605",10,"EC","2015-06-18",50,"2015-06-08T13:37:00",{"$f":"D1079-F1079","v":{"v":9.432638888887595,"d":"9"}}]
["255445",6,"EC","2015-06-22",50,"2015-06-08T13:58:00"]
["268717",10,"EC","2015-06-10",50,"2015-06-08T14:47:00"]
["265598",3,"D ","2015-06-11",50,"2015-06-08T15:42:00"]
["247465",6,"EC","2015-06-12",50,"2015-06-09T08:00:00"]
["250912",6,"EC","2015-06-16",50,"2015-06-09T08:00:00"]
["263376",10,"D ","2015-06-22",50,"2015-06-09T08:00:00"]
["269393",9,"D ","2015-05-27",50,"2015-06-09T08:08:00"]
["255441",6,"EC","2015-06-23",50,"2015-06-09T10:52:00"]
["265646",10,"D ","2015-06-23",50,"2015-06-09T13:47:00"]
["265613",5,"EC","2015-06-30",50,"2015-06-09T15:33:00"]
["249456",6,"EC","2015-09-22T11:39:26",50,"2015-06-09T15:54:00",{"$f":"F1090-D1090","v":{"v":-104.82321759259503,"d":"-105"}}]
["263852",10,"D ","2015-06-04",50,"2015-06-10T08:00:00"]
["266506",12,"D ","2015-06-09",50,"2015-06-10T08:00:00"]
["255304",6,"EC","2015-06-02",50,"2015-06-10T08:00:00",{"$f":"D1093-F1093","v":{"v":-8.333333333335759,"d":"-8"}}]
["266586",2,"EA","2015-06-17",50,"2015-06-10T08:45:00"]
["268662",15,"D ","2015-02-13",50,"2015-06-10T11:51:00"]
["268662",15,"D ","2015-02-24",50,"2015-06-10T13:43:00"]
["266550",10,"EC","2015-06-24",50,"2015-06-10T15:48:00"]
["265617",10,"EC","2015-06-24",50,"2015-06-10T16:30:00"]
["257605",10,"EC","2015-06-25",50,"2015-06-11T08:00:00"]
["264994",10,"EC","2015-06-17",50,"2015-06-11T08:00:00"]
["269432",10,"EA","2015-04-21",50,"2015-06-11T08:00:00"]
["268540",5,"D ","2015-06-24",25,"2015-06-11T11:04:00"]
["255326",2,"EC","2015-06-18",50,"2015-06-12T08:00:00"]
["263365",10,"EA","2015-06-16",50,"2015-06-12T08:00:00"]
["253198",6,"EC","2015-06-22",50,"2015-06-15T08:00:00"]
["263353",10,"EC","2015-07-10",50,"2015-06-15T08:00:00"]
["263433",5,"D ","2015-06-19",50,"2015-06-15T08:00:00"]
["264938",5,"D ","2015-05-27",50,"2015-06-15T08:00:00"]
["265598",3,"D ","2015-06-29",50,"2015-06-15T08:00:00"]
["269424",5,"D ","2015-06-24",50,"2015-06-15T08:00:00"]
["260115",6,"D ","2015-06-19",50,"2015-06-15T09:13:00"]
["264303",10,"D ","2015-06-18",50,"2015-06-15T09:43:00"]
["269420",5,"D ","2015-05-29",50,"2015-06-15T10:28:00"]
["263365",10,"EA","2015-06-22",50,"2015-06-16T08:00:00"]
["261052",13,"EC","2015-06-25",50,"2015-06-16T10:56:00"]
["265634",18,"D ","2015-06-09",50,"2015-06-16T11:17:00"]
["250918",6,"EC","2015-06-24",50,"2015-06-16T14:16:00"]
["264452",10,"D ","2015-07-02",50,"2015-06-16T14:17:00"]
["250922",6,"EC","2015-06-24",50,"2015-06-16T15:00:00"]
["263839",6,"D ","2015-06-19",50,"2015-06-16T15:18:00"]
["263339",5,"D ","2015-06-30",50,"2015-06-16T15:23:00"]
["265587",18,"D ","2015-06-11",50,"2015-06-16T15:30:00"]
["263336",10,"D ","2015-06-30",50,"2015-06-16T16:06:00"]
["255319",6,"EC","2015-06-23",50,"2015-06-17T08:00:00"]
["263338",5,"D ","2015-06-30",50,"2015-06-17T08:00:00"]
["266525",5,"D ","2015-05-27",50,"2015-06-17T08:00:00"]
["266531",12,"D ","2015-06-11",50,"2015-06-17T08:00:00"]
["269637",10,"D ","2015-06-17",50,"2015-06-17T08:00:00"]
["261046",10,"EC","2015-03-31",50,"2015-06-17T08:00:00",{"$f":"D1129-F1129","v":{"v":-78.33333333333576,"d":"-78"}}]
["269637",10,"D ","2015-06-23",50,"2015-06-17T08:18:00"]
["248553",6,"EC","2015-06-26",50,"2015-06-17T09:35:00"]
["242602",6,"EC","2015-06-23",50,"2015-06-17T14:17:00"]
["269704",6,"D ","2015-06-30",50,"2015-06-17T14:37:00"]
["249456",6,"EC","2015-09-28T08:54:51",50,"2015-06-17T16:18:00",{"$f":"F1134-D1134","v":{"v":-102.69225694444322,"d":"-103"}}]
["256340",7,"D ","2015-06-24",50,"2015-06-18T08:00:00"]
["252049",10,"D ","2015-06-23",50,"2015-06-18T08:43:00"]
["260181",5,"D ","2015-06-04",50,"2015-06-18T09:37:00"]
["266494",18,"D ","2015-06-08",50,"2015-06-18T10:19:00"]
["255321",6,"EC","2015-06-24",50,"2015-06-18T13:24:00"]
["259159",10,"D ","2015-07-01",50,"2015-06-18T14:17:00"]
["255320",6,"EC","2015-06-24",50,"2015-06-18T15:25:00"]
["263839",6,"D ","2015-07-01",50,"2015-06-19T08:00:00"]
["263363",5,"D ","2015-07-01",50,"2015-06-19T08:21:00"]
["263372",5,"D ","2015-07-01",50,"2015-06-19T08:37:00"]
["264730",2,"EC","2015-06-23",50,"2015-06-22T08:00:00"]
["264731",2,"EC","2015-06-23",50,"2015-06-22T08:00:00"]
["265634",18,"D ","2015-06-25",50,"2015-06-22T08:00:00"]
["266178",6,"EA","2015-04-22",50,"2015-06-22T08:00:00"]
["266471",10,"EA","2015-04-22",50,"2015-06-22T08:00:00"]
["260998",1,"EC","2015-07-01",50,"2015-06-22T09:17:00",{"$f":"D1150-F1150","v":{"v":8.613194444442343,"d":"9"}}]
["265587",18,"D ","2015-06-29",50,"2015-06-22T09:36:00"]
["255316",6,"EC","2015-06-26",50,"2015-06-22T10:39:00"]
["266556",40,"D ","2015-06-18",50,"2015-06-22T10:58:00"]
["252049",10,"D ","2015-06-29",50,"2015-06-22T13:53:00"]
["263275",5,"D ","2015-06-29",50,"2015-06-23T08:00:00"]
["249456",6,"EC","2015-10-01T08:54:51",50,"2015-06-23T10:43:00",{"$f":"F1156-D1156","v":{"v":-99.92489583333372,"d":"-100"}}]
["263321",5,"D ","2015-06-29",50,"2015-06-23T16:12:00"]
["263345",10,"EC","2015-07-17",50,"2015-06-23T16:30:00"]
["239151",2,"EC","2015-06-30",50,"2015-06-24T08:00:00"]
["256551",2,"EC","2015-06-30",50,"2015-06-24T08:00:00"]
["264732",2,"EC","2015-06-30",50,"2015-06-24T08:00:00"]
["264733",2,"EC","2015-06-30",50,"2015-06-24T08:00:00"]
["264736",2,"EC","2015-06-30",50,"2015-06-24T08:00:00"]
["264742",2,"EC","2015-06-30",50,"2015-06-24T08:00:00"]
["264743",2,"EC","2015-06-30",50,"2015-06-24T08:00:00"]
["264748",2,"EC","2015-06-30",50,"2015-06-24T08:00:00"]
["264751",2,"EC","2015-06-30",50,"2015-06-24T08:00:00"]
["255984",3,"D ","2015-07-08",50,"2015-06-24T08:54:00"]
["264730",2,"EC","2015-06-25",50,"2015-06-24T10:48:00"]
["264731",2,"EC","2015-06-25",50,"2015-06-24T11:12:00"]
["266178",6,"EA","2015-04-24",50,"2015-06-24T11:12:00"]
["257518",10,"EC","2015-06-29",50,"2015-06-24T11:19:00",{"$f":"D1172-F1172","v":{"v":4.528472222220444,"d":"5"}}]
["262712",2,"D ","2015-06-30",50,"2015-06-24T11:19:00"]
["266471",10,"EA","2015-04-24",50,"2015-06-24T14:25:00"]
["237457",10,"EC","2015-04-28T09:15:26",50,"2015-06-24T15:36:00",{"$f":"F1175-D1175","v":{"v":57.26428240740643,"d":"57"}}]
["255687",6,"D ","2015-07-08",50,"2015-06-24T15:36:00"]
["246574",2,"EC","2015-06-30",50,"2015-06-25T08:00:00"]
["247421",2,"EC","2015-06-30",50,"2015-06-25T08:00:00"]
["254601",5,"EC","2014-12-18T17:42:00",50,"2015-06-25T08:00:00","det 8/12 ebav"]
["264720",2,"EC","2015-06-30",50,"2015-06-25T08:00:00"]
["264722",2,"EC","2015-06-30",50,"2015-06-25T08:00:00"]
["264724",2,"EC","2015-06-30",50,"2015-06-25T08:00:00"]
["269440",6,"D ","2015-05-05",50,"2015-06-25T16:14:00"]
["262723",5,"D ","2015-07-01",50,"2015-06-25T16:18:00"]
["253201",6,"EC","2015-07-06",50,"2015-06-29T08:00:00"]
["263234",5,"EC","2015-07-10",50,"2015-06-29T08:00:00"]
["264730",2,"EC","2015-06-30",50,"2015-06-29T08:00:00"]
["264731",2,"EC","2015-06-30",50,"2015-06-29T08:00:00"]
["259502",6,"D ","2015-06-18",50,"2015-06-29T08:28:00"]
["255322",6,"EC","2015-07-07",50,"2015-06-29T08:31:00",{"$f":"D1190-F1190","v":{"v":7.645138888889051,"d":"8"}}]
["260115",6,"D ","2015-06-29",50,"2015-06-29T08:58:00"]
["264676",10,"EC","2015-07-06",50,"2015-06-29T09:12:00",{"$f":"D1192-F1192","v":{"v":6.616666666668607,"d":"7"}}]
["253902",6,"EC","2015-07-06",50,"2015-06-29T11:59:00"]
["256340",7,"D ","2015-07-03",50,"2015-06-29T13:57:00"]
["253889",6,"EC","2015-05-04T01:18:10",50,"2015-06-29T16:03:00",{"$f":"F1195-D1195","v":{"v":56.61446759258979,"d":"57"}}]
["262723",5,"D ","2015-07-17",50,"2015-06-29T16:33:00"]
["242263",10,"EC","2015-07-02",50,"2015-06-30T08:00:00"]
["257602",10,"EC","2015-07-16",50,"2015-06-30T08:00:00"]
["229107",5,"EC","2015-07-02",50,"2015-06-30T10:38:00"]
["260214",10,"EC","2015-07-10",25,"2015-06-30T11:12:00"]
["266178",6,"EA","2015-05-06",50,"2015-06-30T14:38:00"]
["252144",5,"EC","2015-07-15",50,"2015-06-30T15:33:00"]
["265529",10,"D ","2015-06-29",40,"2015-06-30T15:41:00"]
["264159",7,"D ","2015-07-08",50,"2015-07-01T08:00:00"]
["266471",10,"EA","2015-05-06",50,"2015-07-01T11:43:00"]
["253910",6,"EC","2015-07-07",50,"2015-07-01T13:17:00"]
["253884",6,"EC","2015-07-07",50,"2015-07-01T14:53:00"]
["237501",10,"EC","2015-07-21",50,"2015-07-01T15:00:00"]
["253890",6,"EC","2015-07-07",50,"2015-07-01T15:00:00"]
["241878",6,"EC","2015-07-07",50,"2015-07-02T08:00:00"]
["253883",6,"EC","2015-07-07",50,"2015-07-02T08:00:00"]
["253909",6,"EC","2015-07-07",50,"2015-07-02T08:00:00"]
["261879",5,"D ","2015-07-20",50,"2015-07-02T08:00:00"]
["266537",5,"D ","2015-05-04",50,"2015-07-02T08:00:00"]
["260351",10,"D ","2015-07-01",50,"2015-07-02T10:32:00"]
["253905",6,"EC","2015-07-08",50,"2015-07-02T15:05:00"]
["255323",6,"EC","2015-07-08",50,"2015-07-02T15:36:00"]
["253895",6,"EC","2015-07-08",50,"2015-07-02T16:12:00"]
["260267",6,"D ","2015-06-22",50,"2015-07-02T16:43:00"]
["260998",1,"EC","2015-07-07",50,"2015-07-03T08:00:00",{"$f":"D1220-F1220","v":{"v":3.6666666666642413,"d":"4"}}]
["253891",6,"EC","2015-07-08",50,"2015-07-03T08:00:00"]
["253892",6,"EC","2015-07-08",50,"2015-07-03T08:00:00"]
["263437",10,"D ","2015-08-17",50,"2015-07-03T08:00:00"]
["264305",10,"D ","2015-07-09",50,"2015-07-03T08:00:00"]
["263298",5,"D ","2015-07-01",50,"2015-07-06T08:00:00"]
["265571",10,"EA","2015-06-12",50,"2015-07-06T08:00:00"]
["265494",5,"EC","2015-07-16",50,"2015-07-08T08:00:00",{"$f":"D1227-F1227","v":{"v":7.666666666664241,"d":"8"}}]
["269616",1,"EA","2015-07-10",50,"2015-07-08T08:00:00"]
["261923",10,"D ","2015-07-17",50,"2015-07-08T14:14:00"]
["255690",5,"D ","2015-07-24",50,"2015-07-08T15:03:00"]
["263289",10,"EC","2015-07-24",50,"2015-07-09T08:00:00"]
["264345",10,"D ","2015-07-07",50,"2015-07-09T08:00:00"]
["260351",10,"D ","2015-07-15",50,"2015-07-09T09:33:00"]
["265543",12,"D ","2015-06-04",50,"2015-07-09T11:44:00"]
["260064",10,"EC","2015-07-16",50,"2015-07-10T08:57:00"]
["264345",10,"D ","2015-07-08",50,"2015-07-14T10:24:00"]
["265571",10,"EA","2015-06-19",50,"2015-07-15T08:00:00"]
["266586",2,"EA","2015-07-22",50,"2015-07-15T08:00:00"]
["259280",8,"D ","2015-08-20",50,"2015-07-15T10:07:00"]
["264777",10,"EC","2015-08-19",50,"2015-07-15T14:29:00"]
["264085",5,"D ","2015-03-10",50,"2015-07-16T08:45:00"]
["261923",10,"D ","2015-08-19",50,"2015-07-16T13:50:00"]
["269636",5,"D ","2015-06-29",50,"2015-07-17T08:00:00"]
["269367",10,"EA","2015-08-17",50,"2015-07-17T09:48:00"]
["258780",10,"EC","2015-06-02",50,"2015-07-17T10:42:00"]
["257565",20,"EC","2015-02-05T05:29:09",50,"2015-07-20T08:00:00",{"$f":"F1246-D1246","v":{"v":165.10475694444904,"d":"165"}}]
["255689",6,"D ","2015-08-18",50,"2015-07-20T08:00:00"]
["259695",3,"D ","2015-07-10",50,"2015-07-20T08:00:00"]
["266474",10,"EA","2015-05-28",50,"2015-07-20T08:00:00"]
["265603",10,"D ","2015-07-17",50,"2015-07-20T08:28:00"]
["266903",3,"EA","2015-07-24",50,"2015-07-20T08:51:00"]
["251989",6,"EC","2015-08-19",50,"2015-07-21T10:18:00"]
["266474",10,"EA","2015-06-01",50,"2015-07-22T14:25:00"]
["251984",6,"EC","2015-08-28",50,"2015-07-23T08:00:00",{"$f":"D1254-F1254","v":{"v":35.66666666666424,"d":"36"}}]
["268691",20,"EA","2015-04-29",50,"2015-07-23T08:00:00"]
["260261",8,"D ","2015-07-17",50,"2015-07-23T10:07:00"]
["264999",16,"EC","2015-08-26",50,"2015-07-23T16:28:00"]
["251983",6,"EC","2015-08-20",50,"2015-08-17T08:00:00"]
["263241",10,"D ","2015-08-26",50,"2015-08-17T08:00:00"]
["264925",18,"D ","2015-06-03",50,"2015-08-17T08:00:00"]
["266529",20,"D ","2015-05-29",50,"2015-08-17T08:00:00"]
["269357",10,"D ","2015-05-25",50,"2015-08-17T08:00:00"]
["260097",10,"D ","2015-08-31",50,"2015-08-18T11:15:00"]
["266474",10,"EA","2015-06-10",50,"2015-08-18T15:19:00"]
["266476",5,"EC","2015-08-20",50,"2015-08-18T16:45:00"]
["264993",10,"EC","2015-08-25",50,"2015-08-19T08:00:00"]
["269444",10,"D ","2015-05-27",50,"2015-08-19T14:13:00"]
["255421",6,"EC","2015-06-08T03:46:17",50,"2015-08-20T08:00:00",{"$f":"F1268-D1268","v":{"v":73.17619212963473,"d":"73"}}]
["255423",6,"EC","2015-06-08T03:46:17",50,"2015-08-20T08:00:00",{"$f":"F1269-D1269","v":{"v":73.17619212963473,"d":"73"}}]
["266089",40,"D ","2015-08-19",50,"2015-08-20T09:00:00"]
["261510",4,"D ","2015-08-26",50,"2015-08-20T16:24:00"]
["255421",6,"EC","2015-06-13T15:02:00",50,"2015-08-20T16:30:00"]
["255423",6,"EC","2015-06-13T15:02:00",50,"2015-08-20T16:30:00"]
["268712",6,"D ","2015-08-28",50,"2015-08-24T08:00:00"]
["255426",6,"EC","2015-08-31",50,"2015-08-24T09:39:00"]
["255429",6,"EC","2015-08-28",50,"2015-08-24T10:46:00"]
["266509",10,"D ","2015-09-18",50,"2015-08-24T11:35:00"]
["252257",5,"EC","2015-08-27",50,"2015-08-24T13:50:00"]
["266476",5,"EC","2015-09-07",50,"2015-08-24T16:03:00"]
["263314",10,"EC","2015-08-31",50,"2015-08-25T08:00:00"]
["268524",5,"EA","2015-08-31",50,"2015-08-25T09:34:00"]
["265561",5,"EC","2015-09-03",50,"2015-08-25T10:50:00"]
["255430",6,"D ","2015-09-09",50,"2015-08-31T10:25:00"]
["255427",6,"D ","2015-09-09",50,"2015-08-31T16:19:00"]
["252291",5,"EC","2015-09-07",50,"2015-09-02T15:44:00"]
["263314",10,"EC","2015-09-15",50,"2015-09-03T09:52:00"]
["266901",1,"EA","2015-09-08",50,"2015-09-04T08:00:00"]
["264307",10,"D ","2015-09-10",50,"2015-09-07T11:39:00"]
["252006",6,"EC","2015-09-11",50,"2015-09-07T15:36:00"]
["260971",5,"EC","2015-09-18",50,"2015-09-08T10:07:00"]
["253962",6,"EC","2015-09-29",50,"2015-09-08T15:18:00"]
["265069",1,"EC","2015-09-08",25,"2015-09-08T16:34:00"]
["269348",16,"D ","2015-02-17",50,"2015-09-10T15:47:00"]
["255688",6,"D ","2015-09-14",50,"2015-09-11T09:39:00"]
["252291",5,"EC","2015-09-16",50,"2015-09-14T08:00:00"]
["254260",10,"EC","2015-09-28",50,"2015-09-14T13:18:00"]
["252291",5,"EC","2015-09-29",50,"2015-09-16T10:35:00"]
["264940",13,"EC","2015-09-23",50,"2015-09-17T08:00:00"]
["268255",10,"EA","2015-09-17",50,"2015-09-17T08:00:00"]
["251470",6,"EC","2015-09-22",50,"2015-09-17T08:35:00"]
["263860",10,"EC","2015-09-23",50,"2015-09-21T08:00:00"]
["264864",10,"D ","2015-09-16",50,"2015-09-21T08:00:00"]
["268255",10,"EA","2015-10-01",50,"2015-09-21T08:00:00"]
["259281",8,"EA","2015-09-21",50,"2015-09-21T08:58:00"]
["264756",5,"D ","2015-10-08",50,"2015-09-21T11:49:00"]
["264754",5,"D ","2015-10-08",50,"2015-09-21T13:45:00"]
["262630",10,"EC","2015-09-24",50,"2015-09-22T10:53:00"]
["264755",5,"D ","2015-10-08",50,"2015-09-23T10:21:00"]
["259281",8,"EA","2015-09-23",50,"2015-09-23T13:53:00"]
["264758",5,"D ","2015-10-08",50,"2015-09-23T16:18:00"]
["268696",5,"D ","2015-05-20",50,"2015-09-28T08:00:00"]
["264918",5,"D ","2015-08-24",50,"2015-09-29T09:53:00"]
["260131",8,"D ","2015-08-31",50,"2015-09-29T16:11:00"]
["264940",13,"EC","2015-10-08",50,"2015-10-02T09:13:00"]
["261235",5,"D ","2015-10-08",50,"2015-10-05T08:00:00"]
["266807",5,"EC","2015-10-16",50,"2015-10-05T08:00:00"]
["263846",15,"EC","2015-10-22",50,"2015-10-08T08:00:00"]
["263268",5,"EC","2015-10-19",50,"2015-10-08T09:00:00"]
["268898",5,"D ","2015-10-22",50,"2015-10-12T08:00:00"]
["264391",5,"EC","2015-10-22",50,"2015-10-12T15:33:00"]
["260321",12,"D ","2015-09-18",50,"2015-10-14T11:10:00"]
["268704",20,"D ","2015-04-21",50,"2015-10-15T08:00:00"]
["265523",10,"D ","2015-10-12",50,"2015-10-15T10:42:00"]
["266558",10,"EA","2015-10-22",50,"2015-10-19T08:00:00"]
["268719",15,"D ","2015-04-27",50,"2015-10-19T08:25:00"]
["253751",6,"EC","2015-10-27",50,"2015-10-19T11:22:00"]
["266520",10,"D ","2015-05-20",50,"2015-10-20T08:57:00"]
["268704",20,"D ","2015-05-07",50,"2015-10-20T14:49:00"]
["253894",6,"EC","2015-10-27",50,"2015-10-21T08:00:00"]
["266558",10,"EA","2015-11-02",50,"2015-10-21T08:00:00"]
["263251",2,"D ","2015-10-21",50,"2015-10-21T08:38:00"]
["265574",5,"D ","2015-06-03",50,"2015-10-21T11:00:00"]
["268719",15,"D ","2015-05-04",50,"2015-10-21T11:31:00"]
["268719",15,"D ","2015-05-20",50,"2015-10-21T13:23:00"]
["266520",10,"D ","2015-05-22",50,"2015-10-22T09:39:00"]
["266520",10,"D ","2015-06-02",50,"2015-10-22T10:21:00"]
["253963",6,"EC","2015-08-31T01:12:00",50,"2015-10-26T08:00:00",{"$f":"F1337-D1337","v":{"v":56.28333333333285,"d":"56"}}]
["264342",10,"D ","2015-11-10",50,"2015-10-26T14:32:00"]
["263872",20,"D ","2015-10-30",50,"2015-10-28T16:42:00"]
["258808",1,"D ","2015-11-04",50,"2015-10-29T08:00:00"]
["266458",2,"EC","2015-11-12",50,"2015-11-05T08:00:00"]
["261222",10,"D ","2015-10-21",50,"2015-11-05T11:12:00"]
["249567",1,"EA","2015-03-09",50,"2015-11-05T16:20:00"]
["258088",1,"EC","2015-04-17",50,"2015-11-06T08:00:00",{"$f":"D1344-F1344","v":{"v":-203.33333333333576,"d":"-203"}}]
["250336",1,"EA","2015-04-24",50,"2015-11-06T11:49:00"]
["263847",10,"D ","2015-11-03",50,"2015-11-09T11:27:00"]
["264811",15,"EC","2015-11-26",50,"2015-11-12T08:00:00"]
["269353",5,"EA","2015-08-20",50,"2015-11-12T08:00:00"]
["261222",10,"D ","2015-11-02",50,"2015-11-12T11:13:00"]
["263184",10,"EC","2015-11-25",50,"2015-11-13T08:00:00"]
["263847",10,"D ","2015-11-16",50,"2015-11-17T08:00:00"]
["264800",10,"EC","2015-11-24",50,"2015-11-18T08:00:00"]
["266488",15,"D ","2015-11-17",50,"2015-11-26T14:51:00"]
["260175",2,"D ","2015-12-03",50,"2015-11-27T08:00:00"]
["264800",10,"EC","2015-12-09",50,"2015-12-01T13:28:00"]
["265549",15,"D ","2015-12-09",50,"2015-12-07T14:21:00"]
["265551",15,"D ","2015-12-09",50,"2015-12-07T16:22:00"]
["264343",10,"EA","2015-12-08",50,"2015-12-09T10:16:00"]
["252059",10,"D ","2015-12-11",50,"2015-12-09T11:17:00"]
["265556",15,"D ","2015-12-10",50,"2015-12-14T11:41:00"]
["265143",4,"D ","2015-11-27",50,"2015-12-14T15:50:00"]
["260275",8,"D ","2015-11-27",50,"2015-12-14T16:10:00"]
["264343",10,"EA","2015-12-10",50,"2015-12-15T09:22:00"]
["268661",15,"EA","2015-02-04",50,"2016-01-05T08:00:00"]
["269430",8,"EA","2015-11-17",50,"2016-01-07T08:00:00"]
["268661",15,"EA","2015-02-19",50,"2016-01-11T08:00:00"]
["269430",8,"EA","2015-11-19",50,"2016-01-11T08:49:00"]
["264787",5,"D ","2016-01-28",50,"2016-01-25T08:34:00"]
["264789",5,"D ","2016-01-28",50,"2016-01-25T08:59:00"]
["264784",5,"D ","2016-01-28",50,"2016-01-25T09:24:00"]
["263402",10,"D ","2016-01-14",50,"2016-01-26T08:57:00"]
["268229",6,"D ","2016-02-02",50,"2016-01-26T09:03:00"]
["264784",5,"D ","2016-02-16",50,"2016-02-01T08:00:00"]
["264787",5,"D ","2016-02-16",50,"2016-02-01T08:00:00"]
["264789",5,"D ","2016-02-16",50,"2016-02-01T08:00:00"]
["263402",10,"D ","2016-01-27",50,"2016-02-03T08:00:00"]
["269589",1,"D ","2016-03-03",50,"2016-02-15T13:37:00"]
["269588",1,"D ","2016-03-03",50,"2016-02-16T10:22:00"]
["264344",10,"D ","2016-02-25",50,"2016-03-02T10:57:00"]
["266508",10,"EA","2016-04-13",50,"2016-03-30T11:16:00"]
["266568",6,"D ","2016-04-05",50,"2016-03-30T16:12:00"]
["266568",6,"D ","2016-04-19",50,"2016-04-05T08:00:00"]
["264785",5,"D ","2016-05-18",50,"2016-05-11T16:36:00"]
["264785",5,"D ","2016-06-06",50,"2016-05-20T08:00:00"]
["261478",2,"EC","2015-04-22",50,"2016-05-25T08:00:00",{"$f":"D1385-F1385","v":{"v":-399.33333333333576,"d":"-399"}}]
["256294",5,"EC","2014-12-17",50,""]
["229107",5,"EC","2015-04-13",50,""]
["243114",6,"EC","2015-02-05",50,""]
["247244",6,"EC","2015-03-13",50,""]
["247279",6,"EC","2015-04-21",50,""]
["248569",10,"EC","2014-12-17",50,""]
["249428",10,"EC","2015-03-17",50,""]
["249566",1,"EC","2015-01-21",50,""]
["251933",6,"EC","2015-03-31",50,""]
["255493",6,"EC","2015-04-20",50,""]
["257031",5,"EC","2015-05-06",50,""]
["258890",1,"EC","2015-01-21",50,""]
["259066",5,"EC","2015-02-24",50,""]
["260086",12,"EC","2015-01-13",50,""]
["260197",10,"EC","2015-03-20",50,""]
["260211",10,"EC","2015-03-11",50,""]
["260984",10,"EC","2015-01-29",50,""]
["261124",10,"EC","2015-03-16",50,""]
["261824",5,"EC","2015-02-26",50,""]
["261922",10,"EC","2015-04-24",50,""]
["262187",1,"EC","2014-12-17",50,""]
["265851",6,"EC","2015-11-02",25,""]
["265851",6,"EC","2015-10-26",25,""]
["266077",4,"EC","2015-03-31",50,""]
["266077",4,"EC","2015-03-10",50,""]
["269872",2,"D ","","",""]
["269872",2,"D ","","",""]
["269873",10,"D ","","",""]
["Expr1","QTE_LANCEE","ETAT_OF","DATE_FIN","N_PRIOR_COUV","DATE_DEBPL"]
[264273]
[235050]
[260368]
[251338]
[268919]
{"$rows_empty":580}
[261187]

{"sheet":"Suivi Opé","index":1,"n_rows":70,"n_cols":73,"rows_kept":70,"merged":[[0,2,0,7]]}
[null,null,{"$f":"TODAY()","v":"2015-05-18"}]
["Opérateurs",null,"mirek",{"$nulls":3},"gregory",{"$nulls":3},"ronan",{"$nulls":3},"antoine",{"$nulls":3},"joel",{"$nulls":3},"kevin",{"$nulls":3},"miro",{"$nulls":3},"nicholas",{"$nulls":3},"françois",{"$nulls":3},"patrick",{"$nulls":3},"sabine",{"$nulls":3},"greg",{"$nulls":3},"gaby",{"$nulls":3},"max",{"$nulls":3},"jean-luc",{"$nulls":3},"remi",{"$nulls":3},"daniel"]
["patrick","BAILLET","ofs","ph","date \nprise of",null,"ofs","ph","date \nprise of",null,"ofs","ph","date \nprise of",null,"ofs","ph","date \nprise of",null,"ofs","ph","date \nprise of",null,"ofs","ph","date \nprise of",null,"ofs","ph","date \nprise of",null,"ofs","ph","date \nprise of",null,"ofs","ph","date \nprise of",null,"ofs","ph","date \nprise of",null,"ofs","ph","date \nprise of",null,"ofs","ph","date \nprise of",null,"ofs","ph","date \nprise of",null,"ofs","ph","date \nprise of",null,"ofs","ph","date \nprise of",null,"ofs","ph","date \nprise of",null,"ofs","ph","date \nprise of",null,"ofs","ph","date \nprise of"]
["antoine","CHIPOY",{"$f":"IF(ROWS('Charge atelier chaudronnerie'!$3:3)<=COUNTIF(nom,$C$2),INDEX(Expr1,SMALL(IF(nom=$C$2,ROW(INDIRECT(\"1:\"&ROWS(Expr1)))),ROWS('Charge atelier chaudronnerie'!$3:3))),\"\")","v":{"$error":"#REF!"}},{"$f":"IF(ROWS('Charge atelier chaudronnerie'!$3:3)<=COUNTIF(nom,$C$2),INDEX(Expr2,SMALL(IF(nom=$C$2,ROW(INDIRECT(\"1:\"&ROWS(Expr1)))),ROWS('Charge atelier chaudronnerie'!$3:3))),\"\")","v":{"$error":"#REF!"}},{"$f":"IF(ROWS('Charge atelier chaudronnerie'!$3:3)<=COUNTIF(nom,$C$2),INDEX(DatePriseOf,SMALL(IF(nom=$C$2,ROW(INDIRECT(\"1:\"&ROWS(Expr1)))),ROWS('Charge atelier chaudronnerie'!$3:3))),\"\")","v":{"$error":"#REF!"}},null,{"$f":"IF(ROWS('Charge atelier chaudronnerie'!$3:3)<=COUNTIF(nom,$G$2),INDEX(Expr1,SMALL(IF(nom=$G$2,ROW(INDIRECT(\"1:\"&ROWS(Expr1)))),ROWS('Charge atelier chaudronnerie'!$3:3))),\"\")","v":{"$error":"#REF!"}},{"$f":"IF(ROWS('Charge atelier chaudronnerie'!$3:3)<=COUNTIF(nom,$G$2),INDEX(Expr2,SMALL(IF(nom=$G$2,ROW(INDIRECT(\"1:\"&ROWS(Expr1)))),ROWS('Charge atelier chaudronnerie'!$3:3))),\"\")","v":{"$error":"#REF!"}},{"$f":"IF(ROWS('Charge atelier chaudronnerie'!$3:3)<=COUNTIF(nom,$G$2),INDEX(DatePriseOf,SMALL(IF(nom=$G$2,ROW(INDIRECT(\"1:\"&ROWS(Expr1)))),ROWS('Charge atelier chaudronnerie'!$3:3))),\"\")","v":{"$error":"#REF!"}},null,{"$f":"IF(ROWS('Charge atelier chaudronnerie'!$3:3)<=COUNTIF(nom,$K$2),INDEX(Expr1,SMALL(IF(nom=$K$2,ROW(INDIRECT(\"1:\"&ROWS(Expr1)))),ROWS('Charge atelier chaudronnerie'!$3:3))),\"\")","v":{"$error":"#REF!"}},{"$f":"IF(ROWS('Charge atelier chaudronnerie'!$3:3)<=COUNTIF(nom,$K$2),INDEX(Expr2,SMALL(IF(nom=$K$2,ROW(INDIRECT(\"1:\"&ROWS(Expr1)))),ROWS('Charge atelier chaudronnerie'!$3:3))),\"\")","v":{"$error":"#REF!"}},{"$f":"IF(ROWS('Charge atelier chaudronnerie'!$3:3)<=COUNTIF(nom,$K$2),INDEX(DatePriseOf,SMALL(IF(nom=$K$2,ROW(INDIRECT(\"1:\"&ROWS(Expr1)))),ROWS('Charge atelier chaudronnerie'!$3:3))),\"\")","v":{"$error":"#REF!"}},null,{"$f":"IF(ROWS('Charge atelier chaudronnerie'!$3:3)<=COUNTIF(nom,$O$2),INDEX(Expr1,SMALL(IF(nom=$O$2,ROW(INDIRECT(\"1:\"&ROWS(Expr1)))),ROWS('Charge atelier chaudronnerie'!$3:3))),\"\")","v":{"$error":"#REF!"}},{"$f":"IF(ROWS('Charge atelier chaudronnerie'!$3:3)<=COUNTIF(nom,$O$2),INDEX(Expr2,SMALL(IF(nom=$O$2,ROW(INDIRECT(\"1:\"&ROWS(Expr1)))),ROWS('Charge atelier chaudronnerie'!$3:3))),\"\")","v":{"$error":"#REF!"}},{"$f":"IF(ROWS('Charge atelier chaudronnerie'!$3:3)<=COUNTIF(nom,$O$2),INDEX(DatePriseOf,SMALL(IF(nom=$O$2,ROW(INDIRECT(\"1:\"&ROWS(Expr1)))),ROWS('Charge atelier chaudronnerie'!$3:3))),\"\")","v":{"$error":"#REF!"}},null,{"$f":"IF(ROWS('Charge atelier chaudronnerie'!$3:3)<=COUNTIF(nom,$S$2),INDEX(Expr1,SMALL(IF(nom=$S$2,ROW(INDIRECT(\"1:\"&ROWS(Expr1)))),ROWS('Charge atelier chaudronnerie'!$3:3))),\"\")","v":{"$error":"#REF!"}},{"$f":"IF(ROWS('Charge atelier chaudronnerie'!$3:3)<=COUNTIF(nom,$S$2),INDEX(Expr2,SMALL(IF(nom=$S$2,ROW(INDIRECT(\"1:\"&ROWS(Expr1)))),ROWS('Charge atelier chaudronnerie'!$3:3))),\"\")","v":{"$error":"#REF!"}},{"$f":"IF(ROWS('Charge atelier chaudronnerie'!$3:3)<=COUNTIF(nom,$S$2),INDEX(DatePriseOf,SMALL(IF(nom=$S$2,ROW(INDIRECT(\"1:\"&ROWS(Expr1)))),ROWS('Charge atelier chaudronnerie'!$3:3))),\"\")","v":{"$error":"#REF!"}},null,{"$f":"IF(ROWS('Charge atelier chaudronnerie'!$3:3)<=COUNTIF(nom,$W$2),INDEX(Expr1,SMALL(IF(nom=$W$2,ROW(INDIRECT(\"1:\"&ROWS(Expr1)))),ROWS('Charge atelier chaudronnerie'!$3:3))),\"\")","v":{"$error":"#REF!"}},{"$f":"IF(ROWS('Charge atelier chaudronnerie'!$3:3)<=COUNTIF(nom,$W$2),INDEX(Expr2,SMALL(IF(nom=$W$2,ROW(INDIRECT(\"1:\"&ROWS(Expr1)))),ROWS('Charge atelier chaudronnerie'!$3:3))),\"\")","v":{"$error":"#REF!"}},{"$f":"IF(ROWS('Charge atelier chaudronnerie'!$3:3)<=COUNTIF(nom,$W$2),INDEX(DatePriseOf,SMALL(IF(nom=$W$2,ROW(INDIRECT(\"1:\"&ROWS(Expr1)))),ROWS('Charge atelier chaudronnerie'!$3:3))),\"\")","v":{"$error":"#REF!"}},null,{"$f":"IF(ROWS('Charge atelier chaudronnerie'!$3:3)<=COUNTIF(nom,$AA$2),INDEX(Expr1,SMALL(IF(nom=$AA$2,ROW(INDIRECT(\"1:\"&ROWS(Expr1)))),ROWS('Charge atelier chaudronnerie'!$3:3))),\"\")","v":{"$error":"#REF!"}},{"$f":"IF(ROWS('Charge atelier chaudronnerie'!$3:3)<=COUNTIF(nom,$AA$2),INDEX(Expr2,SMALL(IF(nom=$AA$2,ROW(INDIRECT(\"1:\"&ROWS(Expr1)))),ROWS('Charge atelier chaudronnerie'!$3:3))),\"\")","v":{"$error":"#REF!"}},{"$f":"IF(ROWS('Charge atelier chaudronnerie'!$3:3)<=COUNTIF(nom,$AA$2),INDEX(DatePriseOf,SMALL(IF(nom=$AA$2,ROW(INDIRECT(\"1:\"&ROWS(Expr1)))),ROWS('Charge atelier chaudronnerie'!$3:3))),\"\")","v":{"$error":"#REF!"}},null,{"$f":"IF(ROWS('Charge atelier chaudronnerie'!$3:3)<=COUNTIF(nom,$AE$2),INDEX(Expr1,SMALL(IF(nom=$AE$2,ROW(INDIRECT(\"1:\"&ROWS(Expr1)))),ROWS('Charge atelier chaudronnerie'!$3:3))),\"\")","v":{"$error":"#REF!"}},{"$f":"IF(ROWS('Charge atelier chaudronnerie'!$3:3)<=COUNTIF(nom,$AE$2),INDEX(Expr2,SMALL(IF(nom=$AE$2,ROW(INDIRECT(\"1:\"&ROWS(Expr1)))),ROWS('Charge atelier chaudronnerie'!$3:3))),\"\")","v":{"$error":"#REF!"}},{"$f":"IF(ROWS('Charge atelier chaudronnerie'!$3:3)<=COUNTIF(nom,$AE$2),INDEX(DatePriseOf,SMALL(IF(nom=$AE$2,ROW(INDIRECT(\"1:\"&ROWS(Expr1)))),ROWS('Charge atelier chaudronnerie'!$3:3))),\"\")","v":{"$error":"#REF!"}},null,{"$f":"IF(ROWS('Charge atelier chaudronnerie'!$3:3)<=COUNTIF(nom,$AI$2),INDEX(Expr1,SMALL(IF(nom=$AI$2,ROW(INDIRECT(\"1:\"&ROWS(Expr1)))),ROWS('Charge atelier chaudronnerie'!$3:3))),\"\")","v":{"$error":"#REF!"}},{"$f":"IF(ROWS('Charge atelier chaudronnerie'!$3:3)<=COUNTIF(nom,$AI$2),INDEX(Expr2,SMALL(IF(nom=$AI$2,ROW(INDIRECT(\"1:\"&ROWS(Expr1)))),ROWS('Charge atelier chaudronnerie'!$3:3))),\"\")","v":{"$error":"#REF!"}},{"$f":"IF(ROWS('Charge atelier chaudronnerie'!$3:3)<=COUNTIF(nom,$AI$2),INDEX(DatePriseOf,SMALL(IF(nom=$AI$2,ROW(INDIRECT(\"1:\"&ROWS(Expr1)))),ROWS('Charge atelier chaudronnerie'!$3:3))),\"\")","v":{"$error":"#REF!"}},null,{"$f":"IF(ROWS('Charge atelier chaudronnerie'!$3:3)<=COUNTIF(nom,$AM$2),INDEX(Expr1,SMALL(IF(nom=$AM$2,ROW(INDIRECT(\"1:\"&ROWS(Expr1)))),ROWS('Charge atelier chaudronnerie'!$3:3))),\"\")","v":{"$error":"#REF!"}},{"$f":"IF(ROWS('Charge atelier chaudronnerie'!$3:3)<=COUNTIF(nom,$AM$2),INDEX(Expr2,SMALL(IF(nom=$AM$2,ROW(INDIRECT(\"1:\"&ROWS(Expr1)))),ROWS('Charge atelier chaudronnerie'!$3:3))),\"\")","v":{"$error":"#REF!"}},{"$f":"IF(ROWS('Charge atelier chaudronnerie'!$3:3)<=COUNTIF(nom,$AM$2),INDEX(DatePriseOf,SMALL(IF(nom=$AM$2,ROW(INDIRECT(\"1:\"&ROWS(Expr1)))),ROWS('Charge atelier chaudronnerie'!$3:3))),\"\")","v":{"$error":"#REF!"}},null,{"$f":"IF(ROWS('Charge atelier chaudronnerie'!$3:3)<=COUNTIF(nom,$AQ$2),INDEX(Expr1,SMALL(IF(nom=$AQ$2,ROW(INDIRECT(\"1:\"&ROWS(Expr1)))),ROWS('Charge atelier chaudronnerie'!$3:3))),\"\")","v":{"$error":"#REF!"}},{"$f":"IF(ROWS('Charge atelier chaudronnerie'!$3:3)<=COUNTIF(nom,$AQ$2),INDEX(Expr2,SMALL(IF(nom=$AQ$2,ROW(INDIRECT(\"1:\"&ROWS(Expr1)))),ROWS('Charge atelier chaudronnerie'!$3:3))),\"\")","v":{"$error":"#REF!"}},{"$f":"IF(ROWS('Charge atelier chaudronnerie'!$3:3)<=COUNTIF(nom,$AQ$2),INDEX(DatePriseOf,SMALL(IF(nom=$AQ$2,ROW(INDIRECT(\"1:\"&ROWS(Expr1)))),ROWS('Charge atelier chaudronnerie'!$3:3))),\"\")","v":{"$error":"#REF!"}},null,{"$f":"IF(ROWS('Charge atelier chaudronnerie'!$3:3)<=COUNTIF(nom,$AU$2),INDEX(Expr1,SMALL(IF(nom=$AU$2,ROW(INDIRECT(\"1:\"&ROWS(Expr1)))),ROWS('Charge atelier chaudronnerie'!$3:3))),\"\")","v":{"$error":"#REF!"}},{"$f":"IF(ROWS('Charge atelier chaudronnerie'!$3:3)<=COUNTIF(nom,$AU$2),INDEX(Expr2,SMALL(IF(nom=$AU$2,ROW(INDIRECT(\"1:\"&ROWS(Expr1)))),ROWS('Charge atelier chaudronnerie'!$3:3))),\"\")","v":{"$error":"#REF!"}},{"$f":"IF(ROWS('Charge atelier chaudronnerie'!$3:3)<=COUNTIF(nom,$AU$2),INDEX(DatePriseOf,SMALL(IF(nom=$AU$2,ROW(INDIRECT(\"1:\"&ROWS(Expr1)))),ROWS('Charge atelier chaudronnerie'!$3:3))),\"\")","v":{"$error":"#REF!"}},null,{"$f":"IF(ROWS('Charge atelier chaudronnerie'!$3:3)<=COUNTIF(nom,$AY$2),INDEX(Expr1,SMALL(IF(nom=$AY$2,ROW(INDIRECT(\"1:\"&ROWS(Expr1)))),ROWS('Charge atelier chaudronnerie'!$3:3))),\"\")","v":{"$error":"#REF!"}},{"$f":"IF(ROWS('Charge atelier chaudronnerie'!$3:3)<=COUNTIF(nom,$AY$2),INDEX(Expr2,SMALL(IF(nom=$AY$2,ROW(INDIRECT(\"1:\"&ROWS(Expr1)))),ROWS('Charge atelier chaudronnerie'!$3:3))),\"\")","v":{"$error":"#REF!"}},{"$f":"IF(ROWS('Charge atelier chaudronnerie'!$3:3)<=COUNTIF(nom,$AY$2),INDEX(DatePriseOf,SMALL(IF(nom=$AY$2,ROW(INDIRECT(\"1:\"&ROWS(Expr1)))),ROWS('Charge atelier chaudronnerie'!$3:3))),\"\")","v":{"$error":"#REF!"}},null,{"$f":"IF(ROWS('Charge atelier chaudronnerie'!$3:3)<=COUNTIF(nom,$BC$2),INDEX(Expr1,SMALL(IF(nom=$BC$2,ROW(INDIRECT(\"1:\"&ROWS(Expr1)))),ROWS('Charge atelier chaudronnerie'!$3:3))),\"\")","v":{"$error":"#REF!"}},{"$f":"IF(ROWS('Charge atelier chaudronnerie'!$3:3)<=COUNTIF(nom,$BC$2),INDEX(Expr2,SMALL(IF(nom=$BC$2,ROW(INDIRECT(\"1:\"&ROWS(Expr1)))),ROWS('Charge atelier chaudronnerie'!$3:3))),\"\")","v":{"$error":"#REF!"}},{"$f":"IF(ROWS('Charge atelier chaudronnerie'!$3:3)<=COUNTIF(nom,$BC$2),INDEX(DatePriseOf,SMALL(IF(nom=$BC$2,ROW(INDIRECT(\"1:\"&ROWS(Expr1)))),ROWS('Charge atelier chaudronnerie'!$3:3))),\"\")","v":{"$error":"#REF!"}},null,{"$f":"IF(ROWS('Charge atelier chaudronnerie'!$3:3)<=COUNTIF(nom,$BG$2),INDEX(Expr1,SMALL(IF(nom=$BG$2,ROW(INDIRECT(\"1:\"&ROWS(Expr1)))),ROWS('Charge atelier chaudronnerie'!$3:3))),\"\")","v":{"$error":"#REF!"}},{"$f":"IF(ROWS('Charge atelier chaudronnerie'!$3:3)<=COUNTIF(nom,$BG$2),INDEX(Expr2,SMALL(IF(nom=$BG$2,ROW(INDIRECT(\"1:\"&ROWS(Expr1)))),ROWS('Charge atelier chaudronnerie'!$3:3))),\"\")","v":{"$error":"#REF!"}},{"$f":"IF(ROWS('Charge atelier chaudronnerie'!$3:3)<=COUNTIF(nom,$BG$2),INDEX(DatePriseOf,SMALL(IF(nom=$BG$2,ROW(INDIRECT(\"1:\"&ROWS(Expr1)))),ROWS('Charge atelier chaudronnerie'!$3:3))),\"\")","v":{"$error":"#REF!"}},null,{"$f":"IF(ROWS('Charge atelier chaudronnerie'!$3:3)<=COUNTIF(nom,$BK$2),INDEX(Expr1,SMALL(IF(nom=$BK$2,ROW(INDIRECT(\"1:\"&ROWS(Expr1)))),ROWS('Charge atelier chaudronnerie'!$3:3))),\"\")","v":{"$error":"#REF!"}},{"$f":"IF(ROWS('Charge atelier chaudronnerie'!$3:3)<=COUNTIF(nom,$BK$2),INDEX(Expr2,SMALL(IF(nom=$BK$2,ROW(INDIRECT(\"1:\"&ROWS(Expr1)))),ROWS('Charge atelier chaudronnerie'!$3:3))),\"\")","v":{"$error":"#REF!"}},{"$f":"IF(ROWS('Charge atelier chaudronnerie'!$3:3)<=COUNTIF(nom,$BK$2),INDEX(DatePriseOf,SMALL(IF(nom=$BK$2,ROW(INDIRECT(\"1:\"&ROWS(Expr1)))),ROWS('Charge atelier chaudronnerie'!$3:3))),\"\")","v":{"$error":"#REF!"}},null,{"$f":"IF(ROWS('Charge atelier chaudronnerie'!$3:3)<=COUNTIF(nom,$BO$2),INDEX(Expr1,SMALL(IF(nom=$BO$2,ROW(INDIRECT(\"1:\"&ROWS(Expr1)))),ROWS('Charge atelier chaudronnerie'!$3:3))),\"\")","v":{"$error":"#REF!"}},{"$f":"IF(ROWS('Charge atelier chaudronnerie'!$3:3)<=COUNTIF(nom,$BO$2),INDEX(Expr2,SMALL(IF(nom=$BO$2,ROW(INDIRECT(\"1:\"&ROWS(Expr1)))),ROWS('Charge atelier chaudronnerie'!$3:3))),\"\")","v":{"$error":"#REF!"}},{"$f":"IF(ROWS('Charge atelier chaudronnerie'!$3:3)<=COUNTIF(nom,$BO$2),INDEX(DatePriseOf,SMALL(IF(nom=$BO$2,ROW(INDIRECT(\"1:\"&ROWS(Expr1)))),ROWS('Charge atelier chaudronnerie'!$3:3))),\"\")","v":{"$error":"#REF!"}},null,{"$f":"IF(ROWS('Charge atelier chaudronnerie'!$3:3)<=COUNTIF(nom,$BS$2),INDEX(Expr1,SMALL(IF(nom=$BS$2,ROW(INDIRECT(\"1:\"&ROWS(Expr1)))),ROWS('Charge atelier chaudronnerie'!$3:3))),\"\")","v":{"$error":"#REF!"}},{"$f":"IF(ROWS('Charge atelier chaudronnerie'!$3:3)<=COUNTIF(nom,$BS$2),INDEX(Expr2,SMALL(IF(nom=$BS$2,ROW(INDIRECT(\"1:\"&ROWS(Expr1)))),ROWS('Charge atelier chaudronnerie'!$3:3))),\"\")","v":{"$error":"#REF!"}},{"$f":"IF(ROWS('Charge atelier chaudronnerie'!$3:3)<=COUNTIF(nom,$BS$2),INDEX(DatePriseOf,SMALL(IF(nom=$BS$2,ROW(INDIRECT(\"1:\"&ROWS(Expr1)))),ROWS('Charge atelier chaudronnerie'!$3:3))),\"\")","v":{"$error":"#REF!"}}]
["remi","DABESCAT",{"$f":"IF(ROWS('Charge atelier chaudronnerie'!$3:4)<=COUNTIF(nom,$C$2),INDEX(Expr1,SMALL(IF(nom=$C$2,ROW(INDIRECT(\"1:\"&ROWS(Expr1)))),ROWS('Charge atelier chaudronnerie'!$3:4))),\"\")","v":{"$error":"#REF!"}},{"$f":"IF(ROWS('Charge atelier chaudronnerie'!$3:4)<=COUNTIF(nom,$C$2),INDEX(Expr2,SMALL(IF(nom=$C$2,ROW(INDIRECT(\"1:\"&ROWS(Expr1)))),ROWS('Charge atelier chaudronnerie'!$3:4))),\"\")","v":{"$error":"#REF!"}},{"$f":"IF(ROWS('Charge atelier chaudronnerie'!$3:4)<=COUNTIF(nom,$C$2),INDEX(DatePriseOf,SMALL(IF(nom=$C$2,ROW(INDIRECT(\"1:\"&ROWS(Expr1)))),ROWS('Charge atelier chaudronnerie'!$3:4))),\"\")","v":{"$error":"#REF!"}},null,{"$f":"IF(ROWS('Charge atelier chaudronnerie'!$3:4)<=COUNTIF(nom,$G$2),INDEX(Expr1,SMALL(IF(nom=$G$2,ROW(INDIRECT(\"1:\"&ROWS(Expr1)))),ROWS('Charge atelier chaudronnerie'!$3:4))),\"\")","v":{"$error":"#REF!"}},{"$f":"IF(ROWS('Charge atelier chaudronnerie'!$3:4)<=COUNTIF(nom,$G$2),INDEX(Expr2,SMALL(IF(nom=$G$2,ROW(INDIRECT(\"1:\"&ROWS(Expr1)))),ROWS('Charge atelier chaudronnerie'!$3:4))),\"\")","v":{"$error":"#REF!"}},{"$f":"IF(ROWS('Charge atelier chaudronnerie'!$3:4)<=COUNTIF(nom,$G$2),INDEX(DatePriseOf,SMALL(IF(nom=$G$2,ROW(INDIRECT(\"1:\"&ROWS(Expr1)))),ROWS('Charge atelier chaudronnerie'!$3:4))),\"\")","v":{"$error":"#REF!"}},null,{"$f":"IF(ROWS('Charge atelier chaudronnerie'!$3:4)<=COUNTIF(nom,$K$2),INDEX(Expr1,SMALL(IF(nom=$K$2,ROW(INDIRECT(\"1:\"&ROWS(Expr1)))),ROWS('Charge atelier chaudronnerie'!$3:4))),\"\")","v":{"$error":"#REF!"}},{"$f":"IF(ROWS('Charge atelier chaudronnerie'!$3:4)<=COUNTIF(nom,$K$2),INDEX(Expr2,SMALL(IF(nom=$K$2,ROW(INDIRECT(\"1:\"&ROWS(Expr1)))),ROWS('Charge atelier chaudronnerie'!$3:4))),\"\")","v":{"$error":"#REF!"}},{"$f":"IF(ROWS('Charge atelier chaudronnerie'!$3:4)<=COUNTIF(nom,$K$2),INDEX(DatePriseOf,SMALL(IF(nom=$K$2,ROW(INDIRECT(\"1:\"&ROWS(Expr1)))),ROWS('Charge atelier chaudronnerie'!$3:4))),\"\")","v":{"$error":"#REF!"}},null,{"$f":"IF(ROWS('Charge atelier chaudronnerie'!$3:4)<=COUNTIF(nom,$O$2),INDEX(Expr1,SMALL(IF(nom=$O$2,ROW(INDIRECT(\"1:\"&ROWS(Expr1)))),ROWS('Charge atelier chaudronnerie'!$3:4))),\"\")","v":{"$error":"#REF!"}},{"$f":"IF(ROWS('Charge atelier chaudronnerie'!$3:4)<=COUNTIF(nom,$O$2),INDEX(Expr2,SMALL(IF(nom=$O$2,ROW(INDIRECT(\"1:\"&ROWS(Expr1)))),ROWS('Charge atelier chaudronnerie'!$3:4))),\"\")","v":{"$error":"#REF!"}},{"$f":"IF(ROWS('Charge atelier chaudronnerie'!$3:4)<=COUNTIF(nom,$O$2),INDEX(DatePriseOf,SMALL(IF(nom=$O$2,ROW(INDIRECT(\"1:\"&ROWS(Expr1)))),ROWS('Charge atelier chaudronnerie'!$3:4))),\"\")","v":{"$error":"#REF!"}},null,{"$f":"IF(ROWS('Charge atelier chaudronnerie'!$3:4)<=COUNTIF(nom,$S$2),INDEX(Expr1,SMALL(IF(nom=$S$2,ROW(INDIRECT(\"1:\"&ROWS(Expr1)))),ROWS('Charge atelier chaudronnerie'!$3:4))),\"\")","v":{"$error":"#REF!"}},{"$f":"IF(ROWS('Charge atelier chaudronnerie'!$3:4)<=COUNTIF(nom,$S$2),INDEX(Expr2,SMALL(IF(nom=$S$2,ROW(INDIRECT(\"1:\"&ROWS(Expr1)))),ROWS('Charge atelier chaudronnerie'!$3:4))),\"\")","v":{"$error":"#REF!"}},{"$f":"IF(ROWS('Charge atelier chaudronnerie'!$3:4)<=COUNTIF(nom,$S$2),INDEX(DatePriseOf,SMALL(IF(nom=$S$2,ROW(INDIRECT(\"1:\"&ROWS(Expr1)))),ROWS('Charge atelier chaudronnerie'!$3:4))),\"\")","v":{"$error":"#REF!"}},null,{"$f":"IF(ROWS('Charge atelier chaudronnerie'!$3:4)<=COUNTIF(nom,$W$2),INDEX(Expr1,SMALL(IF(nom=$W$2,ROW(INDIRECT(\"1:\"&ROWS(Expr1)))),ROWS('Charge atelier chaudronnerie'!$3:4))),\"\")","v":{"$error":"#REF!"}},{"$f":"IF(ROWS('Charge atelier chaudronnerie'!$3:4)<=COUNTIF(nom,$W$2),INDEX(Expr2,SMALL(IF(nom=$W$2,ROW(INDIRECT(\"1:\"&ROWS(Expr1)))),ROWS('Charge atelier chaudronnerie'!$3:4))),\"\")","v":{"$error":"#REF!"}},{"$f":"IF(ROWS('Charge atelier chaudronnerie'!$3:4)<=COUNTIF(nom,$W$2),INDEX(DatePriseOf,SMALL(IF(nom=$W$2,ROW(INDIRECT(\"1:\"&ROWS(Expr1)))),ROWS('Charge atelier chaudronnerie'!$3:4))),\"\")","v":{"$error":"#REF!"}},null,{"$f":"IF(ROWS('Charge atelier chaudronnerie'!$3:4)<=COUNTIF(nom,$AA$2),INDEX(Expr1,SMALL(IF(nom=$AA$2,ROW(INDIRECT(\"1:\"&ROWS(Expr1)))),ROWS('Charge atelier chaudronnerie'!$3:4))),\"\")","v":{"$error":"#REF!"}},{"$f":"IF(ROWS('Charge atelier chaudronnerie'!$3:4)<=COUNTIF(nom,$AA$2),INDEX(Expr2,SMALL(IF(nom=$AA$2,ROW(INDIRECT(\"1:\"&ROWS(Expr1)))),ROWS('Charge atelier chaudronnerie'!$3:4))),\"\")","v":{"$error":"#REF!"}},{"$f":"IF(ROWS('Charge atelier chaudronnerie'!$3:4)<=COUNTIF(nom,$AA$2),INDEX(DatePriseOf,SMALL(IF(nom=$AA$2,ROW(INDIRECT(\"1:\"&ROWS(Expr1)))),ROWS('Charge atelier chaudronnerie'!$3:4))),\"\")","v":{"$error":"#REF!"}},null,{"$f":"IF(ROWS('Charge atelier chaudronnerie'!$3:4)<=COUNTIF(nom,$AE$2),INDEX(Expr1,SMALL(IF(nom=$AE$2,ROW(INDIRECT(\"1:\"&ROWS(Expr1)))),ROWS('Charge atelier chaudronnerie'!$3:4))),\"\")","v":{"$error":"#REF!"}},{"$f":"IF(ROWS('Charge atelier chaudronnerie'!$3:4)<=COUNTIF(nom,$AE$2),INDEX(Expr2,SMALL(IF(nom=$AE$2,ROW(INDIRECT(\"1:\"&ROWS(Expr1)))),ROWS('Charge atelier chaudronnerie'!$3:4))),\"\")","v":{"$error":"#REF!"}},{"$f":"IF(ROWS('Charge atelier chaudronnerie'!$3:4)<=COUNTIF(nom,$AE$2),INDEX(DatePriseOf,SMALL(IF(nom=$AE$2,ROW(INDIRECT(\"1:\"&ROWS(Expr1)))),ROWS('Charge atelier chaudronnerie'!$3:4))),\"\")","v":{"$error":"#REF!"}},null,{"$f":"IF(ROWS('Charge atelier chaudronnerie'!$3:4)<=COUNTIF(nom,$AI$2),INDEX(Expr1,SMALL(IF(nom=$AI$2,ROW(INDIRECT(\"1:\"&ROWS(Expr1)))),ROWS('Charge atelier chaudronnerie'!$3:4))),\"\")","v":{"$error":"#REF!"}},{"$f":"IF(ROWS('Charge atelier chaudronnerie'!$3:4)<=COUNTIF(nom,$AI$2),INDEX(Expr2,SMALL(IF(nom=$AI$2,ROW(INDIRECT(\"1:\"&ROWS(Expr1)))),ROWS('Charge atelier chaudronnerie'!$3:4))),\"\")","v":{"$error":"#REF!"}},{"$f":"IF(ROWS('Charge atelier chaudronnerie'!$3:4)<=COUNTIF(nom,$AI$2),INDEX(DatePriseOf,SMALL(IF(nom=$AI$2,ROW(INDIRECT(\"1:\"&ROWS(Expr1)))),ROWS('Charge atelier chaudronnerie'!$3:4))),\"\")","v":{"$error":"#REF!"}},null,{"$f":"IF(ROWS('Charge atelier chaudronnerie'!$3:4)<=COUNTIF(nom,$AM$2),INDEX(Expr1,SMALL(IF(nom=$AM$2,ROW(INDIRECT(\"1:\"&ROWS(Expr1)))),ROWS('Charge atelier chaudronnerie'!$3:4))),\"\")","v":{"$error":"#REF!"}},{"$f":"IF(ROWS('Charge atelier chaudronnerie'!$3:4)<=COUNTIF(nom,$AM$2),INDEX(Expr2,SMALL(IF(nom=$AM$2,ROW(INDIRECT(\"1:\"&ROWS(Expr1)))),ROWS('Charge atelier chaudronnerie'!$3:4))),\"\")","v":{"$error":"#REF!"}},{"$f":"IF(ROWS('Charge atelier chaudronnerie'!$3:4)<=COUNTIF(nom,$AM$2),INDEX(DatePriseOf,SMALL(IF(nom=$AM$2,ROW(INDIRECT(\"1:\"&ROWS(Expr1)))),ROWS('Charge atelier chaudronnerie'!$3:4))),\"\")","v":{"$error":"#REF!"}},null,{"$f":"IF(ROWS('Charge atelier chaudronnerie'!$3:4)<=COUNTIF(nom,$AQ$2),INDEX(Expr1,SMALL(IF(nom=$AQ$2,ROW(INDIRECT(\"1:\"&ROWS(Expr1)))),ROWS('Charge atelier chaudronnerie'!$3:4))),\"\")","v":{"$error":"#REF!"}},{"$f":"IF(ROWS('Charge atelier chaudronnerie'!$3:4)<=COUNTIF(nom,$AQ$2),INDEX(Expr2,SMALL(IF(nom=$AQ$2,ROW(INDIRECT(\"1:\"&ROWS(Expr1)))),ROWS('Charge atelier chaudronnerie'!$3:4))),\"\")","v":{"$error":"#REF!"}},{"$f":"IF(ROWS('Charge atelier chaudronnerie'!$3:4)<=COUNTIF(nom,$AQ$2),INDEX(DatePriseOf,SMALL(IF(nom=$AQ$2,ROW(INDIRECT(\"1:\"&ROWS(Expr1)))),ROWS('Charge atelier chaudronnerie'!$3:4))),\"\")","v":{"$error":"#REF!"}},null,{"$f":"IF(ROWS('Charge atelier chaudronnerie'!$3:4)<=COUNTIF(nom,$AU$2),INDEX(Expr1,SMALL(IF(nom=$AU$2,ROW(INDIRECT(\"1:\"&ROWS(Expr1)))),ROWS('Charge atelier chaudronnerie'!$3:4))),\"\")","v":{"$error":"#REF!"}},{"$f":"IF(ROWS('Charge atelier chaudronnerie'!$3:4)<=COUNTIF(nom,$AU$2),INDEX(Expr2,SMALL(IF(nom=$AU$2,ROW(INDIRECT(\"1:\"&ROWS(Expr1)))),ROWS('Charge atelier chaudronnerie'!$3:4))),\"\")","v":{"$error":"#REF!"}},{"$f":"IF(ROWS('Charge atelier chaudronnerie'!$3:4)<=COUNTIF(nom,$AU$2),INDEX(DatePriseOf,SMALL(IF(nom=$AU$2,ROW(INDIRECT(\"1:\"&ROWS(Expr1)))),ROWS('Charge atelier chaudronnerie'!$3:4))),\"\")","v":{"$error":"#REF!"}},null,{"$f":"IF(ROWS('Charge atelier chaudronnerie'!$3:4)<=COUNTIF(nom,$AY$2),INDEX(Expr1,SMALL(IF(nom=$AY$2,ROW(INDIRECT(\"1:\"&ROWS(Expr1)))),ROWS('Charge atelier chaudronnerie'!$3:4))),\"\")","v":{"$error":"#REF!"}},{"$f":"IF(ROWS('Charge atelier chaudronnerie'!$3:4)<=COUNTIF(nom,$AY$2),INDEX(Expr2,SMALL(IF(nom=$AY$2,ROW(INDIRECT(\"1:\"&ROWS(Expr1)))),ROWS('Charge atelier chaudronnerie'!$3:4))),\"\")","v":{"$error":"#REF!"}},{"$f":"IF(ROWS('Charge atelier chaudronnerie'!$3:4)<=COUNTIF(nom,$AY$2),INDEX(DatePriseOf,SMALL(IF(nom=$AY$2,ROW(INDIRECT(\"1:\"&ROWS(Expr1)))),ROWS('Charge atelier chaudronnerie'!$3:4))),\"\")","v":{"$error":"#REF!"}},null,{"$f":"IF(ROWS('Charge atelier chaudronnerie'!$3:4)<=COUNTIF(nom,$BC$2),INDEX(Expr1,SMALL(IF(nom=$BC$2,ROW(INDIRECT(\"1:\"&ROWS(Expr1)))),ROWS('Charge atelier chaudronnerie'!$3:4))),\"\")","v":{"$error":"#REF!"}},{"$f":"IF(ROWS('Charge atelier chaudronnerie'!$3:4)<=COUNTIF(nom,$BC$2),INDEX(Expr2,SMALL(IF(nom=$BC$2,ROW(INDIRECT(\"1:\"&ROWS(Expr1)))),ROWS('Charge atelier chaudronnerie'!$3:4))),\"\")","v":{"$error":"#REF!"}},{"$f":"IF(ROWS('Charge atelier chaudronnerie'!$3:4)<=COUNTIF(nom,$BC$2),INDEX(DatePriseOf,SMALL(IF(nom=$BC$2,ROW(INDIRECT(\"1:\"&ROWS(Expr1)))),ROWS('Charge atelier chaudronnerie'!$3:4))),\"\")","v":{"$error":"#REF!"}},null,{"$f":"IF(ROWS('Charge atelier chaudronnerie'!$3:4)<=COUNTIF(nom,$BG$2),INDEX(Expr1,SMALL(IF(nom=$BG$2,ROW(INDIRECT(\"1:\"&ROWS(Expr1)))),ROWS('Charge atelier chaudronnerie'!$3:4))),\"\")","v":{"$error":"#REF!"}},{"$f":"IF(ROWS('Charge atelier chaudronnerie'!$3:4)<=COUNTIF(nom,$BG$2),INDEX(Expr2,SMALL(IF(nom=$BG$2,ROW(INDIRECT(\"1:\"&ROWS(Expr1)))),ROWS('Charge atelier chaudronnerie'!$3:4))),\"\")","v":{"$error":"#REF!"}},{"$f":"IF(ROWS('Charge atelier chaudronnerie'!$3:4)<=COUNTIF(nom,$BG$2),INDEX(DatePriseOf,SMALL(IF(nom=$BG$2,ROW(INDIRECT(\"1:\"&ROWS(Expr1)))),ROWS('Charge atelier chaudronnerie'!$3:4))),\"\")","v":{"$error":"#REF!"}},null,{"$f":"IF(ROWS('Charge atelier chaudronnerie'!$3:4)<=COUNTIF(nom,$BK$2),INDEX(Expr1,SMALL(IF(nom=$BK$2,ROW(INDIRECT(\"1:\"&ROWS(Expr1)))),ROWS('Charge atelier chaudronnerie'!$3:4))),\"\")","v":{"$error":"#REF!"}},{"$f":"IF(ROWS('Charge atelier chaudronnerie'!$3:4)<=COUNTIF(nom,$BK$2),INDEX(Expr2,SMALL(IF(nom=$BK$2,ROW(INDIRECT(\"1:\"&ROWS(Expr1)))),ROWS('Charge atelier chaudronnerie'!$3:4))),\"\")","v":{"$error":"#REF!"}},{"$f":"IF(ROWS('Charge atelier chaudronnerie'!$3:4)<=COUNTIF(nom,$BK$2),INDEX(DatePriseOf,SMALL(IF(nom=$BK$2,ROW(INDIRECT(\"1:\"&ROWS(Expr1)))),ROWS('Charge atelier chaudronnerie'!$3:4))),\"\")","v":{"$error":"#REF!"}},null,{"$f":"IF(ROWS('Charge atelier chaudronnerie'!$3:4)<=COUNTIF(nom,$BO$2),INDEX(Expr1,SMALL(IF(nom=$BO$2,ROW(INDIRECT(\"1:\"&ROWS(Expr1)))),ROWS('Charge atelier chaudronnerie'!$3:4))),\"\")","v":{"$error":"#REF!"}},{"$f":"IF(ROWS('Charge atelier chaudronnerie'!$3:4)<=COUNTIF(nom,$BO$2),INDEX(Expr2,SMALL(IF(nom=$BO$2,ROW(INDIRECT(\"1:\"&ROWS(Expr1)))),ROWS('Charge atelier chaudronnerie'!$3:4))),\"\")","v":{"$error":"#REF!"}},{"$f":"IF(ROWS('Charge atelier chaudronnerie'!$3:4)<=COUNTIF(nom,$BO$2),INDEX(DatePriseOf,SMALL(IF(nom=$BO$2,ROW(INDIRECT(\"1:\"&ROWS(Expr1)))),ROWS('Charge atelier chaudronnerie'!$3:4))),\"\")","v":{"$error":"#REF!"}},null,{"$f":"IF(ROWS('Charge atelier chaudronnerie'!$3:4)<=COUNTIF(nom,$BS$2),INDEX(Expr1,SMALL(IF(nom=$BS$2,ROW(INDIRECT(\"1:\"&ROWS(Expr1)))),ROWS('Charge atelier chaudronnerie'!$3:4))),\"\")","v":{"$error":"#REF!"}},{"$f":"IF(ROWS('Charge atelier chaudronnerie'!$3:4)<=COUNTIF(nom,$BS$2),INDEX(Expr2,SMALL(IF(nom=$BS$2,ROW(INDIRECT(\"1:\"&ROWS(Expr1)))),ROWS('Charge atelier chaudronnerie'!$3:4))),\"\")","v":{"$error":"#REF!"}},{"$f":"IF(ROWS('Charge atelier chaudronnerie'!$3:4)<=COUNTIF(nom,$BS$2),INDEX(DatePriseOf,SMALL(IF(nom=$BS$2,ROW(INDIRECT(\"1:\"&ROWS(Expr1)))),ROWS('Charge atelier chaudronnerie'!$3:4))),\"\")","v":{"$error":"#REF!"}}]
["gregory","DELANGHE",{"$f":"IF(ROWS('Charge atelier chaudronnerie'!$3:5)<=COUNTIF(nom,$C$2),INDEX(Expr1,SMALL(IF(nom=$C$2,ROW(INDIRECT(\"1:\"&ROWS(Expr1)))),ROWS('Charge atelier chaudronnerie'!$3:5))),\"\")","v":{"$error":"#REF!"}},{"$f":"IF(ROWS('Charge atelier chaudronnerie'!$3:5)<=COUNTIF(nom,$C$2),INDEX(Expr2,SMALL(IF(nom=$C$2,ROW(INDIRECT(\"1:\"&ROWS(Expr1)))),ROWS('Charge atelier chaudronnerie'!$3:5))),\"\")","v":{"$error":"#REF!"}},{"$f":"IF(ROWS('Charge atelier chaudronnerie'!$3:5)<=COUNTIF(nom,$C$2),INDEX(DatePriseOf,SMALL(IF(nom=$C$2,ROW(INDIRECT(\"1:\"&ROWS(Expr1)))),ROWS('Charge atelier chaudronnerie'!$3:5))),\"\")","v":{"$error":"#REF!"}},null,{"$f":"IF(ROWS('Charge atelier chaudronnerie'!$3:5)<=COUNTIF(nom,$G$2),INDEX(Expr1,SMALL(IF(nom=$G$2,ROW(INDIRECT(\"1:\"&ROWS(Expr1)))),ROWS('Charge atelier chaudronnerie'!$3:5))),\"\")","v":{"$error":"#REF!"}},{"$f":"IF(ROWS('Charge atelier chaudronnerie'!$3:5)<=COUNTIF(nom,$G$2),INDEX(Expr2,SMALL(IF(nom=$G$2,ROW(INDIRECT(\"1:\"&ROWS(Expr1)))),ROWS('Charge atelier chaudronnerie'!$3:5))),\"\")","v":{"$error":"#REF!"}},{"$f":"IF(ROWS('Charge atelier chaudronnerie'!$3:5)<=COUNTIF(nom,$G$2),INDEX(DatePriseOf,SMALL(IF(nom=$G$2,ROW(INDIRECT(\"1:\"&ROWS(Expr1)))),ROWS('Charge atelier chaudronnerie'!$3:5))),\"\")","v":{"$error":"#REF!"}},null,{"$f":"IF(ROWS('Charge atelier chaudronnerie'!$3:5)<=COUNTIF(nom,$K$2),INDEX(Expr1,SMALL(IF(nom=$K$2,ROW(INDIRECT(\"1:\"&ROWS(Expr1)))),ROWS('Charge atelier chaudronnerie'!$3:5))),\"\")","v":{"$error":"#REF!"}},{"$f":"IF(ROWS('Charge atelier chaudronnerie'!$3:5)<=COUNTIF(nom,$K$2),INDEX(Expr2,SMALL(IF(nom=$K$2,ROW(INDIRECT(\"1:\"&ROWS(Expr1)))),ROWS('Charge atelier chaudronnerie'!$3:5))),\"\")","v":{"$error":"#REF!"}},{"$f":"IF(ROWS('Charge atelier chaudronnerie'!$3:5)<=COUNTIF(nom,$K$2),INDEX(DatePriseOf,SMALL(IF(nom=$K$2,ROW(INDIRECT(\"1:\"&ROWS(Expr1)))),ROWS('Charge atelier chaudronnerie'!$3:5))),\"\")","v":{"$error":"#REF!"}},null,{"$f":"IF(ROWS('Charge atelier chaudronnerie'!$3:5)<=COUNTIF(nom,$O$2),INDEX(Expr1,SMALL(IF(nom=$O$2,ROW(INDIRECT(\"1:\"&ROWS(Expr1)))),ROWS('Charge atelier chaudronnerie'!$3:5))),\"\")","v":{"$error":"#REF!"}},{"$f":"IF(ROWS('Charge atelier chaudronnerie'!$3:5)<=COUNTIF(nom,$O$2),INDEX(Expr2,SMALL(IF(nom=$O$2,ROW(INDIRECT(\"1:\"&ROWS(Expr1)))),ROWS('Charge atelier chaudronnerie'!$3:5))),\"\")","v":{"$error":"#REF!"}},{"$f":"IF(ROWS('Charge atelier chaudronnerie'!$3:5)<=COUNTIF(nom,$O$2),INDEX(DatePriseOf,SMALL(IF(nom=$O$2,ROW(INDIRECT(\"1:\"&ROWS(Expr1)))),ROWS('Charge atelier chaudronnerie'!$3:5))),\"\")","v":{"$error":"#REF!"}},null,{"$f":"IF(ROWS('Charge atelier chaudronnerie'!$3:5)<=COUNTIF(nom,$S$2),INDEX(Expr1,SMALL(IF(nom=$S$2,ROW(INDIRECT(\"1:\"&ROWS(Expr1)))),ROWS('Charge atelier chaudronnerie'!$3:5))),\"\")","v":{"$error":"#REF!"}},{"$f":"IF(ROWS('Charge atelier chaudronnerie'!$3:5)<=COUNTIF(nom,$S$2),INDEX(Expr2,SMALL(IF(nom=$S$2,ROW(INDIRECT(\"1:\"&ROWS(Expr1)))),ROWS('Charge atelier chaudronnerie'!$3:5))),\"\")","v":{"$error":"#REF!"}},{"$f":"IF(ROWS('Charge atelier chaudronnerie'!$3:5)<=COUNTIF(nom,$S$2),INDEX(DatePriseOf,SMALL(IF(nom=$S$2,ROW(INDIRECT(\"1:\"&ROWS(Expr1)))),ROWS('Charge atelier chaudronnerie'!$3:5))),\"\")","v":{"$error":"#REF!"}},null,{"$f":"IF(ROWS('Charge atelier chaudronnerie'!$3:5)<=COUNTIF(nom,$W$2),INDEX(Expr1,SMALL(IF(nom=$W$2,ROW(INDIRECT(\"1:\"&ROWS(Expr1)))),ROWS('Charge atelier chaudronnerie'!$3:5))),\"\")","v":{"$error":"#REF!"}},{"$f":"IF(ROWS('Charge atelier chaudronnerie'!$3:5)<=COUNTIF(nom,$W$2),INDEX(Expr2,SMALL(IF(nom=$W$2,ROW(INDIRECT(\"1:\"&ROWS(Expr1)))),ROWS('Charge atelier chaudronnerie'!$3:5))),\"\")","v":{"$error":"#REF!"}},{"$f":"IF(ROWS('Charge atelier chaudronnerie'!$3:5)<=COUNTIF(nom,$W$2),INDEX(DatePriseOf,SMALL(IF(nom=$W$2,ROW(INDIRECT(\"1:\"&ROWS(Expr1)))),ROWS('Charge atelier chaudronnerie'!$3:5))),\"\")","v":{"$error":"#REF!"}},null,{"$f":"IF(ROWS('Charge atelier chaudronnerie'!$3:5)<=COUNTIF(nom,$AA$2),INDEX(Expr1,SMALL(IF(nom=$AA$2,ROW(INDIRECT(\"1:\"&ROWS(Expr1)))),ROWS('Charge atelier chaudronnerie'!$3:5))),\"\")","v":{"$error":"#REF!"}},{"$f":"IF(ROWS('Charge atelier chaudronnerie'!$3:5)<=COUNTIF(nom,$AA$2),INDEX(Expr2,SMALL(IF(nom=$AA$2,ROW(INDIRECT(\"1:\"&ROWS(Expr1)))),ROWS('Charge atelier chaudronnerie'!$3:5))),\"\")","v":{"$error":"#REF!"}},{"$f":"IF(ROWS('Charge atelier chaudronnerie'!$3:5)<=COUNTIF(nom,$AA$2),INDEX(DatePriseOf,SMALL(IF(nom=$AA$2,ROW(INDIRECT(\"1:\"&ROWS(Expr1)))),ROWS('Charge atelier chaudronnerie'!$3:5))),\"\")","v":{"$error":"#REF!"}},null,{"$f":"IF(ROWS('Charge atelier chaudronnerie'!$3:5)<=COUNTIF(nom,$AE$2),INDEX(Expr1,SMALL(IF(nom=$AE$2,ROW(INDIRECT(\"1:\"&ROWS(Expr1)))),ROWS('Charge atelier chaudronnerie'!$3:5))),\"\")","v":{"$error":"#REF!"}},{"$f":"IF(ROWS('Charge atelier chaudronnerie'!$3:5)<=COUNTIF(nom,$AE$2),INDEX(Expr2,SMALL(IF(nom=$AE$2,ROW(INDIRECT(\"1:\"&ROWS(Expr1)))),ROWS('Charge atelier chaudronnerie'!$3:5))),\"\")","v":{"$error":"#REF!"}},{"$f":"IF(ROWS('Charge atelier chaudronnerie'!$3:5)<=COUNTIF(nom,$AE$2),INDEX(DatePriseOf,SMALL(IF(nom=$AE$2,ROW(INDIRECT(\"1:\"&ROWS(Expr1)))),ROWS('Charge atelier chaudronnerie'!$3:5))),\"\")","v":{"$error":"#REF!"}},null,{"$f":"IF(ROWS('Charge atelier chaudronnerie'!$3:5)<=COUNTIF(nom,$AI$2),INDEX(Expr1,SMALL(IF(nom=$AI$2,ROW(INDIRECT(\"1:\"&ROWS(Expr1)))),ROWS('Charge atelier chaudronnerie'!$3:5))),\"\")","v":{"$error":"#REF!"}},{"$f":"IF(ROWS('Charge atelier chaudronnerie'!$3:5)<=COUNTIF(nom,$AI$2),INDEX(Expr2,SMALL(IF(nom=$AI$2,ROW(INDIRECT(\"1:\"&ROWS(Expr1)))),ROWS('Charge atelier chaudronnerie'!$3:5))),\"\")","v":{"$error":"#REF!"}},{"$f":"IF(ROWS('Charge atelier chaudronnerie'!$3:5)<=COUNTIF(nom,$AI$2),INDEX(DatePriseOf,SMALL(IF(nom=$AI$2,ROW(INDIRECT(\"1:\"&ROWS(Expr1)))),ROWS('Charge atelier chaudronnerie'!$3:5))),\"\")","v":{"$error":"#REF!"}},null,{"$f":"IF(ROWS('Charge atelier chaudronnerie'!$3:5)<=COUNTIF(nom,$AM$2),INDEX(Expr1,SMALL(IF(nom=$AM$2,ROW(INDIRECT(\"1:\"&ROWS(Expr1)))),ROWS('Charge atelier chaudronnerie'!$3:5))),\"\")","v":{"$error":"#REF!"}},{"$f":"IF(ROWS('Charge atelier chaudronnerie'!$3:5)<=COUNTIF(nom,$AM$2),INDEX(Expr2,SMALL(IF(nom=$AM$2,ROW(INDIRECT(\"1:\"&ROWS(Expr1)))),ROWS('Charge atelier chaudronnerie'!$3:5))),\"\")","v":{"$error":"#REF!"}},{"$f":"IF(ROWS('Charge atelier chaudronnerie'!$3:5)<=COUNTIF(nom,$AM$2),INDEX(DatePriseOf,SMALL(IF(nom=$AM$2,ROW(INDIRECT(\"1:\"&ROWS(Expr1)))),ROWS('Charge atelier chaudronnerie'!$3:5))),\"\")","v":{"$error":"#REF!"}},null,{"$f":"IF(ROWS('Charge atelier chaudronnerie'!$3:5)<=COUNTIF(nom,$AQ$2),INDEX(Expr1,SMALL(IF(nom=$AQ$2,ROW(INDIRECT(\"1:\"&ROWS(Expr1)))),ROWS('Charge atelier chaudronnerie'!$3:5))),\"\")","v":{"$error":"#REF!"}},{"$f":"IF(ROWS('Charge atelier chaudronnerie'!$3:5)<=COUNTIF(nom,$AQ$2),INDEX(Expr2,SMALL(IF(nom=$AQ$2,ROW(INDIRECT(\"1:\"&ROWS(Expr1)))),ROWS('Charge atelier chaudronnerie'!$3:5))),\"\")","v":{"$error":"#REF!"}},{"$f":"IF(ROWS('Charge atelier chaudronnerie'!$3:5)<=COUNTIF(nom,$AQ$2),INDEX(DatePriseOf,SMALL(IF(nom=$AQ$2,ROW(INDIRECT(\"1:\"&ROWS(Expr1)))),ROWS('Charge atelier chaudronnerie'!$3:5))),\"\")","v":{"$error":"#REF!"}},null,{"$f":"IF(ROWS('Charge atelier chaudronnerie'!$3:5)<=COUNTIF(nom,$AU$2),INDEX(Expr1,SMALL(IF(nom=$AU$2,ROW(INDIRECT(\"1:\"&ROWS(Expr1)))),ROWS('Charge atelier chaudronnerie'!$3:5))),\"\")","v":{"$error":"#REF!"}},{"$f":"IF(ROWS('Charge atelier chaudronnerie'!$3:5)<=COUNTIF(nom,$AU$2),INDEX(Expr2,SMALL(IF(nom=$AU$2,ROW(INDIRECT(\"1:\"&ROWS(Expr1)))),ROWS('Charge atelier chaudronnerie'!$3:5))),\"\")","v":{"$error":"#REF!"}},{"$f":"IF(ROWS('Charge atelier chaudronnerie'!$3:5)<=COUNTIF(nom,$AU$2),INDEX(DatePriseOf,SMALL(IF(nom=$AU$2,ROW(INDIRECT(\"1:\"&ROWS(Expr1)))),ROWS('Charge atelier chaudronnerie'!$3:5))),\"\")","v":{"$error":"#REF!"}},null,{"$f":"IF(ROWS('Charge atelier chaudronnerie'!$3:5)<=COUNTIF(nom,$AY$2),INDEX(Expr1,SMALL(IF(nom=$AY$2,ROW(INDIRECT(\"1:\"&ROWS(Expr1)))),ROWS('Charge atelier chaudronnerie'!$3:5))),\"\")","v":{"$error":"#REF!"}},{"$f":"IF(ROWS('Charge atelier chaudronnerie'!$3:5)<=COUNTIF(nom,$AY$2),INDEX(Expr2,SMALL(IF(nom=$AY$2,ROW(INDIRECT(\"1:\"&ROWS(Expr1)))),ROWS('Charge atelier chaudronnerie'!$3:5))),\"\")","v":{"$error":"#REF!"}},{"$f":"IF(ROWS('Charge atelier chaudronnerie'!$3:5)<=COUNTIF(nom,$AY$2),INDEX(DatePriseOf,SMALL(IF(nom=$AY$2,ROW(INDIRECT(\"1:\"&ROWS(Expr1)))),ROWS('Charge atelier chaudronnerie'!$3:5))),\"\")","v":{"$error":"#REF!"}},null,{"$f":"IF(ROWS('Charge atelier chaudronnerie'!$3:5)<=COUNTIF(nom,$BC$2),INDEX(Expr1,SMALL(IF(nom=$BC$2,ROW(INDIRECT(\"1:\"&ROWS(Expr1)))),ROWS('Charge atelier chaudronnerie'!$3:5))),\"\")","v":{"$error":"#REF!"}},{"$f":"IF(ROWS('Charge atelier chaudronnerie'!$3:5)<=COUNTIF(nom,$BC$2),INDEX(Expr2,SMALL(IF(nom=$BC$2,ROW(INDIRECT(\"1:\"&ROWS(Expr1)))),ROWS('Charge atelier chaudronnerie'!$3:5))),\"\")","v":{"$error":"#REF!"}},{"$f":"IF(ROWS('Charge atelier chaudronnerie'!$3:5)<=COUNTIF(nom,$BC$2),INDEX(DatePriseOf,SMALL(IF(nom=$BC$2,ROW(INDIRECT(\"1:\"&ROWS(Expr1)))),ROWS('Charge atelier chaudronnerie'!$3:5))),\"\")","v":{"$error":"#REF!"}},null,{"$f":"IF(ROWS('Charge atelier chaudronnerie'!$3:5)<=COUNTIF(nom,$BG$2),INDEX(Expr1,SMALL(IF(nom=$BG$2,ROW(INDIRECT(\"1:\"&ROWS(Expr1)))),ROWS('Charge atelier chaudronnerie'!$3:5))),\"\")","v":{"$error":"#REF!"}},{"$f":"IF(ROWS('Charge atelier chaudronnerie'!$3:5)<=COUNTIF(nom,$BG$2),INDEX(Expr2,SMALL(IF(nom=$BG$2,ROW(INDIRECT(\"1:\"&ROWS(Expr1)))),ROWS('Charge atelier chaudronnerie'!$3:5))),\"\")","v":{"$error":"#REF!"}},{"$f":"IF(ROWS('Charge atelier chaudronnerie'!$3:5)<=COUNTIF(nom,$BG$2),INDEX(DatePriseOf,SMALL(IF(nom=$BG$2,ROW(INDIRECT(\"1:\"&ROWS(Expr1)))),ROWS('Charge atelier chaudronnerie'!$3:5))),\"\")","v":{"$error":"#REF!"}},null,{"$f":"IF(ROWS('Charge atelier chaudronnerie'!$3:5)<=COUNTIF(nom,$BK$2),INDEX(Expr1,SMALL(IF(nom=$BK$2,ROW(INDIRECT(\"1:\"&ROWS(Expr1)))),ROWS('Charge atelier chaudronnerie'!$3:5))),\"\")","v":{"$error":"#REF!"}},{"$f":"IF(ROWS('Charge atelier chaudronnerie'!$3:5)<=COUNTIF(nom,$BK$2),INDEX(Expr2,SMALL(IF(nom=$BK$2,ROW(INDIRECT(\"1:\"&ROWS(Expr1)))),ROWS('Charge atelier chaudronnerie'!$3:5))),\"\")","v":{"$error":"#REF!"}},{"$f":"IF(ROWS('Charge atelier chaudronnerie'!$3:5)<=COUNTIF(nom,$BK$2),INDEX(DatePriseOf,SMALL(IF(nom=$BK$2,ROW(INDIRECT(\"1:\"&ROWS(Expr1)))),ROWS('Charge atelier chaudronnerie'!$3:5))),\"\")","v":{"$error":"#REF!"}},null,{"$f":"IF(ROWS('Charge atelier chaudronnerie'!$3:5)<=COUNTIF(nom,$BO$2),INDEX(Expr1,SMALL(IF(nom=$BO$2,ROW(INDIRECT(\"1:\"&ROWS(Expr1)))),ROWS('Charge atelier chaudronnerie'!$3:5))),\"\")","v":{"$error":"#REF!"}},{"$f":"IF(ROWS('Charge atelier chaudronnerie'!$3:5)<=COUNTIF(nom,$BO$2),INDEX(Expr2,SMALL(IF(nom=$BO$2,ROW(INDIRECT(\"1:\"&ROWS(Expr1)))),ROWS('Charge atelier chaudronnerie'!$3:5))),\"\")","v":{"$error":"#REF!"}},{"$f":"IF(ROWS('Charge atelier chaudronnerie'!$3:5)<=COUNTIF(nom,$BO$2),INDEX(DatePriseOf,SMALL(IF(nom=$BO$2,ROW(INDIRECT(\"1:\"&ROWS(Expr1)))),ROWS('Charge atelier chaudronnerie'!$3:5))),\"\")","v":{"$error":"#REF!"}},null,{"$f":"IF(ROWS('Charge atelier chaudronnerie'!$3:5)<=COUNTIF(nom,$BS$2),INDEX(Expr1,SMALL(IF(nom=$BS$2,ROW(INDIRECT(\"1:\"&ROWS(Expr1)))),ROWS('Charge atelier chaudronnerie'!$3:5))),\"\")","v":{"$error":"#REF!"}},{"$f":"IF(ROWS('Charge atelier chaudronnerie'!$3:5)<=COUNTIF(nom,$BS$2),INDEX(Expr2,SMALL(IF(nom=$BS$2,ROW(INDIRECT(\"1:\"&ROWS(Expr1)))),ROWS('Charge atelier chaudronnerie'!$3:5))),\"\")","v":{"$error":"#REF!"}},{"$f":"IF(ROWS('Charge atelier chaudronnerie'!$3:5)<=COUNTIF(nom,$BS$2),INDEX(DatePriseOf,SMALL(IF(nom=$BS$2,ROW(INDIRECT(\"1:\"&ROWS(Expr1)))),ROWS('Charge atelier chaudronnerie'!$3:5))),\"\")","v":{"$error":"#REF!"}}]
["jean-luc","DESMOULINS",{"$f":"IF(ROWS('Charge atelier chaudronnerie'!$3:6)<=COUNTIF(nom,$C$2),INDEX(Expr1,SMALL(IF(nom=$C$2,ROW(INDIRECT(\"1:\"&ROWS(Expr1)))),ROWS('Charge atelier chaudronnerie'!$3:6))),\"\")","v":{"$error":"#REF!"}},{"$f":"IF(ROWS('Charge atelier chaudronnerie'!$3:6)<=COUNTIF(nom,$C$2),INDEX(Expr2,SMALL(IF(nom=$C$2,ROW(INDIRECT(\"1:\"&ROWS(Expr1)))),ROWS('Charge atelier chaudronnerie'!$3:6))),\"\")","v":{"$error":"#REF!"}},{"$f":"IF(ROWS('Charge atelier chaudronnerie'!$3:6)<=COUNTIF(nom,$C$2),INDEX(DatePriseOf,SMALL(IF(nom=$C$2,ROW(INDIRECT(\"1:\"&ROWS(Expr1)))),ROWS('Charge atelier chaudronnerie'!$3:6))),\"\")","v":{"$error":"#REF!"}},null,{"$f":"IF(ROWS('Charge atelier chaudronnerie'!$3:6)<=COUNTIF(nom,$G$2),INDEX(Expr1,SMALL(IF(nom=$G$2,ROW(INDIRECT(\"1:\"&ROWS(Expr1)))),ROWS('Charge atelier chaudronnerie'!$3:6))),\"\")","v":{"$error":"#REF!"}},{"$f":"IF(ROWS('Charge atelier chaudronnerie'!$3:6)<=COUNTIF(nom,$G$2),INDEX(Expr2,SMALL(IF(nom=$G$2,ROW(INDIRECT(\"1:\"&ROWS(Expr1)))),ROWS('Charge atelier chaudronnerie'!$3:6))),\"\")","v":{"$error":"#REF!"}},{"$f":"IF(ROWS('Charge atelier chaudronnerie'!$3:6)<=COUNTIF(nom,$G$2),INDEX(DatePriseOf,SMALL(IF(nom=$G$2,ROW(INDIRECT(\"1:\"&ROWS(Expr1)))),ROWS('Charge atelier chaudronnerie'!$3:6))),\"\")","v":{"$error":"#REF!"}},null,{"$f":"IF(ROWS('Charge atelier chaudronnerie'!$3:6)<=COUNTIF(nom,$K$2),INDEX(Expr1,SMALL(IF(nom=$K$2,ROW(INDIRECT(\"1:\"&ROWS(Expr1)))),ROWS('Charge atelier chaudronnerie'!$3:6))),\"\")","v":{"$error":"#REF!"}},{"$f":"IF(ROWS('Charge atelier chaudronnerie'!$3:6)<=COUNTIF(nom,$K$2),INDEX(Expr2,SMALL(IF(nom=$K$2,ROW(INDIRECT(\"1:\"&ROWS(Expr1)))),ROWS('Charge atelier chaudronnerie'!$3:6))),\"\")","v":{"$error":"#REF!"}},{"$f":"IF(ROWS('Charge atelier chaudronnerie'!$3:6)<=COUNTIF(nom,$K$2),INDEX(DatePriseOf,SMALL(IF(nom=$K$2,ROW(INDIRECT(\"1:\"&ROWS(Expr1)))),ROWS('Charge atelier chaudronnerie'!$3:6))),\"\")","v":{"$error":"#REF!"}},null,{"$f":"IF(ROWS('Charge atelier chaudronnerie'!$3:6)<=COUNTIF(nom,$O$2),INDEX(Expr1,SMALL(IF(nom=$O$2,ROW(INDIRECT(\"1:\"&ROWS(Expr1)))),ROWS('Charge atelier chaudronnerie'!$3:6))),\"\")","v":{"$error":"#REF!"}},{"$f":"IF(ROWS('Charge atelier chaudronnerie'!$3:6)<=COUNTIF(nom,$O$2),INDEX(Expr2,SMALL(IF(nom=$O$2,ROW(INDIRECT(\"1:\"&ROWS(Expr1)))),ROWS('Charge atelier chaudronnerie'!$3:6))),\"\")","v":{"$error":"#REF!"}},{"$f":"IF(ROWS('Charge atelier chaudronnerie'!$3:6)<=COUNTIF(nom,$O$2),INDEX(DatePriseOf,SMALL(IF(nom=$O$2,ROW(INDIRECT(\"1:\"&ROWS(Expr1)))),ROWS('Charge atelier chaudronnerie'!$3:6))),\"\")","v":{"$error":"#REF!"}},null,{"$f":"IF(ROWS('Charge atelier chaudronnerie'!$3:6)<=COUNTIF(nom,$S$2),INDEX(Expr1,SMALL(IF(nom=$S$2,ROW(INDIRECT(\"1:\"&ROWS(Expr1)))),ROWS('Charge atelier chaudronnerie'!$3:6))),\"\")","v":{"$error":"#REF!"}},{"$f":"IF(ROWS('Charge atelier chaudronnerie'!$3:6)<=COUNTIF(nom,$S$2),INDEX(Expr2,SMALL(IF(nom=$S$2,ROW(INDIRECT(\"1:\"&ROWS(Expr1)))),ROWS('Charge atelier chaudronnerie'!$3:6))),\"\")","v":{"$error":"#REF!"}},{"$f":"IF(ROWS('Charge atelier chaudronnerie'!$3:6)<=COUNTIF(nom,$S$2),INDEX(DatePriseOf,SMALL(IF(nom=$S$2,ROW(INDIRECT(\"1:\"&ROWS(Expr1)))),ROWS('Charge atelier chaudronnerie'!$3:6))),\"\")","v":{"$error":"#REF!"}},null,{"$f":"IF(ROWS('Charge atelier chaudronnerie'!$3:6)<=COUNTIF(nom,$W$2),INDEX(Expr1,SMALL(IF(nom=$W$2,ROW(INDIRECT(\"1:\"&ROWS(Expr1)))),ROWS('Charge atelier chaudronnerie'!$3:6))),\"\")","v":{"$error":"#REF!"}},{"$f":"IF(ROWS('Charge atelier chaudronnerie'!$3:6)<=COUNTIF(nom,$W$2),INDEX(Expr2,SMALL(IF(nom=$W$2,ROW(INDIRECT(\"1:\"&ROWS(Expr1)))),ROWS('Charge atelier chaudronnerie'!$3:6))),\"\")","v":{"$error":"#REF!"}},{"$f":"IF(ROWS('Charge atelier chaudronnerie'!$3:6)<=COUNTIF(nom,$W$2),INDEX(DatePriseOf,SMALL(IF(nom=$W$2,ROW(INDIRECT(\"1:\"&ROWS(Expr1)))),ROWS('Charge atelier chaudronnerie'!$3:6))),\"\")","v":{"$error":"#REF!"}},null,{"$f":"IF(ROWS('Charge atelier chaudronnerie'!$3:6)<=COUNTIF(nom,$AA$2),INDEX(Expr1,SMALL(IF(nom=$AA$2,ROW(INDIRECT(\"1:\"&ROWS(Expr1)))),ROWS('Charge atelier chaudronnerie'!$3:6))),\"\")","v":{"$error":"#REF!"}},{"$f":"IF(ROWS('Charge atelier chaudronnerie'!$3:6)<=COUNTIF(nom,$AA$2),INDEX(Expr2,SMALL(IF(nom=$AA$2,ROW(INDIRECT(\"1:\"&ROWS(Expr1)))),ROWS('Charge atelier chaudronnerie'!$3:6))),\"\")","v":{"$error":"#REF!"}},{"$f":"IF(ROWS('Charge atelier chaudronnerie'!$3:6)<=COUNTIF(nom,$AA$2),INDEX(DatePriseOf,SMALL(IF(nom=$AA$2,ROW(INDIRECT(\"1:\"&ROWS(Expr1)))),ROWS('Charge atelier chaudronnerie'!$3:6))),\"\")","v":{"$error":"#REF!"}},null,{"$f":"IF(ROWS('Charge atelier chaudronnerie'!$3:6)<=COUNTIF(nom,$AE$2),INDEX(Expr1,SMALL(IF(nom=$AE$2,ROW(INDIRECT(\"1:\"&ROWS(Expr1)))),ROWS('Charge atelier chaudronnerie'!$3:6))),\"\")","v":{"$error":"#REF!"}},{"$f":"IF(ROWS('Charge atelier chaudronnerie'!$3:6)<=COUNTIF(nom,$AE$2),INDEX(Expr2,SMALL(IF(nom=$AE$2,ROW(INDIRECT(\"1:\"&ROWS(Expr1)))),ROWS('Charge atelier chaudronnerie'!$3:6))),\"\")","v":{"$error":"#REF!"}},{"$f":"IF(ROWS('Charge atelier chaudronnerie'!$3:6)<=COUNTIF(nom,$AE$2),INDEX(DatePriseOf,SMALL(IF(nom=$AE$2,ROW(INDIRECT(\"1:\"&ROWS(Expr1)))),ROWS('Charge atelier chaudronnerie'!$3:6))),\"\")","v":{"$error":"#REF!"}},null,{"$f":"IF(ROWS('Charge atelier chaudronnerie'!$3:6)<=COUNTIF(nom,$AI$2),INDEX(Expr1,SMALL(IF(nom=$AI$2,ROW(INDIRECT(\"1:\"&ROWS(Expr1)))),ROWS('Charge atelier chaudronnerie'!$3:6))),\"\")","v":{"$error":"#REF!"}},{"$f":"IF(ROWS('Charge atelier chaudronnerie'!$3:6)<=COUNTIF(nom,$AI$2),INDEX(Expr2,SMALL(IF(nom=$AI$2,ROW(INDIRECT(\"1:\"&ROWS(Expr1)))),ROWS('Charge atelier chaudronnerie'!$3:6))),\"\")","v":{"$error":"#REF!"}},{"$f":"IF(ROWS('Charge atelier chaudronnerie'!$3:6)<=COUNTIF(nom,$AI$2),INDEX(DatePriseOf,SMALL(IF(nom=$AI$2,ROW(INDIRECT(\"1:\"&ROWS(Expr1)))),ROWS('Charge atelier chaudronnerie'!$3:6))),\"\")","v":{"$error":"#REF!"}},null,{"$f":"IF(ROWS('Charge atelier chaudronnerie'!$3:6)<=COUNTIF(nom,$AM$2),INDEX(Expr1,SMALL(IF(nom=$AM$2,ROW(INDIRECT(\"1:\"&ROWS(Expr1)))),ROWS('Charge atelier chaudronnerie'!$3:6))),\"\")","v":{"$error":"#REF!"}},{"$f":"IF(ROWS('Charge atelier chaudronnerie'!$3:6)<=COUNTIF(nom,$AM$2),INDEX(Expr2,SMALL(IF(nom=$AM$2,ROW(INDIRECT(\"1:\"&ROWS(Expr1)))),ROWS('Charge atelier chaudronnerie'!$3:6))),\"\")","v":{"$error":"#REF!"}},{"$f":"IF(ROWS('Charge atelier chaudronnerie'!$3:6)<=COUNTIF(nom,$AM$2),INDEX(DatePriseOf,SMALL(IF(nom=$AM$2,ROW(INDIRECT(\"1:\"&ROWS(Expr1)))),ROWS('Charge atelier chaudronnerie'!$3:6))),\"\")","v":{"$error":"#REF!"}},null,{"$f":"IF(ROWS('Charge atelier chaudronnerie'!$3:6)<=COUNTIF(nom,$AQ$2),INDEX(Expr1,SMALL(IF(nom=$AQ$2,ROW(INDIRECT(\"1:\"&ROWS(Expr1)))),ROWS('Charge atelier chaudronnerie'!$3:6))),\"\")","v":{"$error":"#REF!"}},{"$f":"IF(ROWS('Charge atelier chaudronnerie'!$3:6)<=COUNTIF(nom,$AQ$2),INDEX(Expr2,SMALL(IF(nom=$AQ$2,ROW(INDIRECT(\"1:\"&ROWS(Expr1)))),ROWS('Charge atelier chaudronnerie'!$3:6))),\"\")","v":{"$error":"#REF!"}},{"$f":"IF(ROWS('Charge atelier chaudronnerie'!$3:6)<=COUNTIF(nom,$AQ$2),INDEX(DatePriseOf,SMALL(IF(nom=$AQ$2,ROW(INDIRECT(\"1:\"&ROWS(Expr1)))),ROWS('Charge atelier chaudronnerie'!$3:6))),\"\")","v":{"$error":"#REF!"}},null,{"$f":"IF(ROWS('Charge atelier chaudronnerie'!$3:6)<=COUNTIF(nom,$AU$2),INDEX(Expr1,SMALL(IF(nom=$AU$2,ROW(INDIRECT(\"1:\"&ROWS(Expr1)))),ROWS('Charge atelier chaudronnerie'!$3:6))),\"\")","v":{"$error":"#REF!"}},{"$f":"IF(ROWS('Charge atelier chaudronnerie'!$3:6)<=COUNTIF(nom,$AU$2),INDEX(Expr2,SMALL(IF(nom=$AU$2,ROW(INDIRECT(\"1:\"&ROWS(Expr1)))),ROWS('Charge atelier chaudronnerie'!$3:6))),\"\")","v":{"$error":"#REF!"}},{"$f":"IF(ROWS('Charge atelier chaudronnerie'!$3:6)<=COUNTIF(nom,$AU$2),INDEX(DatePriseOf,SMALL(IF(nom=$AU$2,ROW(INDIRECT(\"1:\"&ROWS(Expr1)))),ROWS('Charge atelier chaudronnerie'!$3:6))),\"\")","v":{"$error":"#REF!"}},null,{"$f":"IF(ROWS('Charge atelier chaudronnerie'!$3:6)<=COUNTIF(nom,$AY$2),INDEX(Expr1,SMALL(IF(nom=$AY$2,ROW(INDIRECT(\"1:\"&ROWS(Expr1)))),ROWS('Charge atelier chaudronnerie'!$3:6))),\"\")","v":{"$error":"#REF!"}},{"$f":"IF(ROWS('Charge atelier chaudronnerie'!$3:6)<=COUNTIF(nom,$AY$2),INDEX(Expr2,SMALL(IF(nom=$AY$2,ROW(INDIRECT(\"1:\"&ROWS(Expr1)))),ROWS('Charge atelier chaudronnerie'!$3:6))),\"\")","v":{"$error":"#REF!"}},{"$f":"IF(ROWS('Charge atelier chaudronnerie'!$3:6)<=COUNTIF(nom,$AY$2),INDEX(DatePriseOf,SMALL(IF(nom=$AY$2,ROW(INDIRECT(\"1:\"&ROWS(Expr1)))),ROWS('Charge atelier chaudronnerie'!$3:6))),\"\")","v":{"$error":"#REF!"}},null,{"$f":"IF(ROWS('Charge atelier chaudronnerie'!$3:6)<=COUNTIF(nom,$BC$2),INDEX(Expr1,SMALL(IF(nom=$BC$2,ROW(INDIRECT(\"1:\"&ROWS(Expr1)))),ROWS('Charge atelier chaudronnerie'!$3:6))),\"\")","v":{"$error":"#REF!"}},{"$f":"IF(ROWS('Charge atelier chaudronnerie'!$3:6)<=COUNTIF(nom,$BC$2),INDEX(Expr2,SMALL(IF(nom=$BC$2,ROW(INDIRECT(\"1:\"&ROWS(Expr1)))),ROWS('Charge atelier chaudronnerie'!$3:6))),\"\")","v":{"$error":"#REF!"}},{"$f":"IF(ROWS('Charge atelier chaudronnerie'!$3:6)<=COUNTIF(nom,$BC$2),INDEX(DatePriseOf,SMALL(IF(nom=$BC$2,ROW(INDIRECT(\"1:\"&ROWS(Expr1)))),ROWS('Charge atelier chaudronnerie'!$3:6))),\"\")","v":{"$error":"#REF!"}},null,{"$f":"IF(ROWS('Charge atelier chaudronnerie'!$3:6)<=COUNTIF(nom,$BG$2),INDEX(Expr1,SMALL(IF(nom=$BG$2,ROW(INDIRECT(\"1:\"&ROWS(Expr1)))),ROWS('Charge atelier chaudronnerie'!$3:6))),\"\")","v":{"$error":"#REF!"}},{"$f":"IF(ROWS('Charge atelier chaudronnerie'!$3:6)<=COUNTIF(nom,$BG$2),INDEX(Expr2,SMALL(IF(nom=$BG$2,ROW(INDIRECT(\"1:\"&ROWS(Expr1)))),ROWS('Charge atelier chaudronnerie'!$3:6))),\"\")","v":{"$error":"#REF!"}},{"$f":"IF(ROWS('Charge atelier chaudronnerie'!$3:6)<=COUNTIF(nom,$BG$2),INDEX(DatePriseOf,SMALL(IF(nom=$BG$2,ROW(INDIRECT(\"1:\"&ROWS(Expr1)))),ROWS('Charge atelier chaudronnerie'!$3:6))),\"\")","v":{"$error":"#REF!"}},null,{"$f":"IF(ROWS('Charge atelier chaudronnerie'!$3:6)<=COUNTIF(nom,$BK$2),INDEX(Expr1,SMALL(IF(nom=$BK$2,ROW(INDIRECT(\"1:\"&ROWS(Expr1)))),ROWS('Charge atelier chaudronnerie'!$3:6))),\"\")","v":{"$error":"#REF!"}},{"$f":"IF(ROWS('Charge atelier chaudronnerie'!$3:6)<=COUNTIF(nom,$BK$2),INDEX(Expr2,SMALL(IF(nom=$BK$2,ROW(INDIRECT(\"1:\"&ROWS(Expr1)))),ROWS('Charge atelier chaudronnerie'!$3:6))),\"\")","v":{"$error":"#REF!"}},{"$f":"IF(ROWS('Charge atelier chaudronnerie'!$3:6)<=COUNTIF(nom,$BK$2),INDEX(DatePriseOf,SMALL(IF(nom=$BK$2,ROW(INDIRECT(\"1:\"&ROWS(Expr1)))),ROWS('Charge atelier chaudronnerie'!$3:6))),\"\")","v":{"$error":"#REF!"}},null,{"$f":"IF(ROWS('Charge atelier chaudronnerie'!$3:5)<=COUNTIF(nom,$BO$2),INDEX(Expr1,SMALL(IF(nom=$BO$2,ROW(INDIRECT(\"1:\"&ROWS(Expr1)))),ROWS('Charge atelier chaudronnerie'!$3:5))),\"\")","v":{"$error":"#REF!"}},{"$f":"IF(ROWS('Charge atelier chaudronnerie'!$3:5)<=COUNTIF(nom,$BO$2),INDEX(Expr2,SMALL(IF(nom=$BO$2,ROW(INDIRECT(\"1:\"&ROWS(Expr1)))),ROWS('Charge atelier chaudronnerie'!$3:5))),\"\")","v":{"$error":"#REF!"}},{"$f":"IF(ROWS('Charge atelier chaudronnerie'!$3:5)<=COUNTIF(nom,$BO$2),INDEX(DatePriseOf,SMALL(IF(nom=$BO$2,ROW(INDIRECT(\"1:\"&ROWS(Expr1)))),ROWS('Charge atelier chaudronnerie'!$3:5))),\"\")","v":{"$error":"#REF!"}},null,{"$f":"IF(ROWS('Charge atelier chaudronnerie'!$3:5)<=COUNTIF(nom,$BS$2),INDEX(Expr1,SMALL(IF(nom=$BS$2,ROW(INDIRECT(\"1:\"&ROWS(Expr1)))),ROWS('Charge atelier chaudronnerie'!$3:5))),\"\")","v":{"$error":"#REF!"}},{"$f":"IF(ROWS('Charge atelier chaudronnerie'!$3:5)<=COUNTIF(nom,$BS$2),INDEX(Expr2,SMALL(IF(nom=$BS$2,ROW(INDIRECT(\"1:\"&ROWS(Expr1)))),ROWS('Charge atelier chaudronnerie'!$3:5))),\"\")","v":{"$error":"#REF!"}},{"$f":"IF(ROWS('Charge atelier chaudronnerie'!$3:5)<=COUNTIF(nom,$BS$2),INDEX(DatePriseOf,SMALL(IF(nom=$BS$2,ROW(INDIRECT(\"1:\"&ROWS(Expr1)))),ROWS('Charge atelier chaudronnerie'!$3:5))),\"\")","v":{"$error":"#REF!"}}]
["gaby","DESSAY",{"$f":"IF(ROWS('Charge atelier chaudronnerie'!$3:7)<=COUNTIF(nom,$C$2),INDEX(Expr1,SMALL(IF(nom=$C$2,ROW(INDIRECT(\"1:\"&ROWS(Expr1)))),ROWS('Charge atelier chaudronnerie'!$3:7))),\"\")","v":{"$error":"#REF!"}},{"$f":"IF(ROWS('Charge atelier chaudronnerie'!$3:7)<=COUNTIF(nom,$C$2),INDEX(Expr2,SMALL(IF(nom=$C$2,ROW(INDIRECT(\"1:\"&ROWS(Expr1)))),ROWS('Charge atelier chaudronnerie'!$3:7))),\"\")","v":{"$error":"#REF!"}},{"$f":"IF(ROWS('Charge atelier chaudronnerie'!$3:7)<=COUNTIF(nom,$C$2),INDEX(DatePriseOf,SMALL(IF(nom=$C$2,ROW(INDIRECT(\"1:\"&ROWS(Expr1)))),ROWS('Charge atelier chaudronnerie'!$3:7))),\"\")","v":{"$error":"#REF!"}},null,{"$f":"IF(ROWS('Charge atelier chaudronnerie'!$3:7)<=COUNTIF(nom,$G$2),INDEX(Expr1,SMALL(IF(nom=$G$2,ROW(INDIRECT(\"1:\"&ROWS(Expr1)))),ROWS('Charge atelier chaudronnerie'!$3:7))),\"\")","v":{"$error":"#REF!"}},{"$f":"IF(ROWS('Charge atelier chaudronnerie'!$3:7)<=COUNTIF(nom,$G$2),INDEX(Expr2,SMALL(IF(nom=$G$2,ROW(INDIRECT(\"1:\"&ROWS(Expr1)))),ROWS('Charge atelier chaudronnerie'!$3:7))),\"\")","v":{"$error":"#REF!"}},{"$f":"IF(ROWS('Charge atelier chaudronnerie'!$3:7)<=COUNTIF(nom,$G$2),INDEX(DatePriseOf,SMALL(IF(nom=$G$2,ROW(INDIRECT(\"1:\"&ROWS(Expr1)))),ROWS('Charge atelier chaudronnerie'!$3:7))),\"\")","v":{"$error":"#REF!"}},null,{"$f":"IF(ROWS('Charge atelier chaudronnerie'!$3:7)<=COUNTIF(nom,$K$2),INDEX(Expr1,SMALL(IF(nom=$K$2,ROW(INDIRECT(\"1:\"&ROWS(Expr1)))),ROWS('Charge atelier chaudronnerie'!$3:7))),\"\")","v":{"$error":"#REF!"}},{"$f":"IF(ROWS('Charge atelier chaudronnerie'!$3:7)<=COUNTIF(nom,$K$2),INDEX(Expr2,SMALL(IF(nom=$K$2,ROW(INDIRECT(\"1:\"&ROWS(Expr1)))),ROWS('Charge atelier chaudronnerie'!$3:7))),\"\")","v":{"$error":"#REF!"}},{"$f":"IF(ROWS('Charge atelier chaudronnerie'!$3:7)<=COUNTIF(nom,$K$2),INDEX(DatePriseOf,SMALL(IF(nom=$K$2,ROW(INDIRECT(\"1:\"&ROWS(Expr1)))),ROWS('Charge atelier chaudronnerie'!$3:7))),\"\")","v":{"$error":"#REF!"}},null,{"$f":"IF(ROWS('Charge atelier chaudronnerie'!$3:7)<=COUNTIF(nom,$O$2),INDEX(Expr1,SMALL(IF(nom=$O$2,ROW(INDIRECT(\"1:\"&ROWS(Expr1)))),ROWS('Charge atelier chaudronnerie'!$3:7))),\"\")","v":{"$error":"#REF!"}},{"$f":"IF(ROWS('Charge atelier chaudronnerie'!$3:7)<=COUNTIF(nom,$O$2),INDEX(Expr2,SMALL(IF(nom=$O$2,ROW(INDIRECT(\"1:\"&ROWS(Expr1)))),ROWS('Charge atelier chaudronnerie'!$3:7))),\"\")","v":{"$error":"#REF!"}},{"$f":"IF(ROWS('Charge atelier chaudronnerie'!$3:7)<=COUNTIF(nom,$O$2),INDEX(DatePriseOf,SMALL(IF(nom=$O$2,ROW(INDIRECT(\"1:\"&ROWS(Expr1)))),ROWS('Charge atelier chaudronnerie'!$3:7))),\"\")","v":{"$error":"#REF!"}},null,{"$f":"IF(ROWS('Charge atelier chaudronnerie'!$3:7)<=COUNTIF(nom,$S$2),INDEX(Expr1,SMALL(IF(nom=$S$2,ROW(INDIRECT(\"1:\"&ROWS(Expr1)))),ROWS('Charge atelier chaudronnerie'!$3:7))),\"\")","v":{"$error":"#REF!"}},{"$f":"IF(ROWS('Charge atelier chaudronnerie'!$3:7)<=COUNTIF(nom,$S$2),INDEX(Expr2,SMALL(IF(nom=$S$2,ROW(INDIRECT(\"1:\"&ROWS(Expr1)))),ROWS('Charge atelier chaudronnerie'!$3:7))),\"\")","v":{"$error":"#REF!"}},{"$f":"IF(ROWS('Charge atelier chaudronnerie'!$3:7)<=COUNTIF(nom,$S$2),INDEX(DatePriseOf,SMALL(IF(nom=$S$2,ROW(INDIRECT(\"1:\"&ROWS(Expr1)))),ROWS('Charge atelier chaudronnerie'!$3:7))),\"\")","v":{"$error":"#REF!"}},null,{"$f":"IF(ROWS('Charge atelier chaudronnerie'!$3:7)<=COUNTIF(nom,$W$2),INDEX(Expr1,SMALL(IF(nom=$W$2,ROW(INDIRECT(\"1:\"&ROWS(Expr1)))),ROWS('Charge atelier chaudronnerie'!$3:7))),\"\")","v":{"$error":"#REF!"}},{"$f":"IF(ROWS('Charge atelier chaudronnerie'!$3:7)<=COUNTIF(nom,$W$2),INDEX(Expr2,SMALL(IF(nom=$W$2,ROW(INDIRECT(\"1:\"&ROWS(Expr1)))),ROWS('Charge atelier chaudronnerie'!$3:7))),\"\")","v":{"$error":"#REF!"}},{"$f":"IF(ROWS('Charge atelier chaudronnerie'!$3:7)<=COUNTIF(nom,$W$2),INDEX(DatePriseOf,SMALL(IF(nom=$W$2,ROW(INDIRECT(\"1:\"&ROWS(Expr1)))),ROWS('Charge atelier chaudronnerie'!$3:7))),\"\")","v":{"$error":"#REF!"}},null,{"$f":"IF(ROWS('Charge atelier chaudronnerie'!$3:7)<=COUNTIF(nom,$AA$2),INDEX(Expr1,SMALL(IF(nom=$AA$2,ROW(INDIRECT(\"1:\"&ROWS(Expr1)))),ROWS('Charge atelier chaudronnerie'!$3:7))),\"\")","v":{"$error":"#REF!"}},{"$f":"IF(ROWS('Charge atelier chaudronnerie'!$3:7)<=COUNTIF(nom,$AA$2),INDEX(Expr2,SMALL(IF(nom=$AA$2,ROW(INDIRECT(\"1:\"&ROWS(Expr1)))),ROWS('Charge atelier chaudronnerie'!$3:7))),\"\")","v":{"$error":"#REF!"}},{"$f":"IF(ROWS('Charge atelier chaudronnerie'!$3:7)<=COUNTIF(nom,$AA$2),INDEX(DatePriseOf,SMALL(IF(nom=$AA$2,ROW(INDIRECT(\"1:\"&ROWS(Expr1)))),ROWS('Charge atelier chaudronnerie'!$3:7))),\"\")","v":{"$error":"#REF!"}},null,{"$f":"IF(ROWS('Charge atelier chaudronnerie'!$3:7)<=COUNTIF(nom,$AE$2),INDEX(Expr1,SMALL(IF(nom=$AE$2,ROW(INDIRECT(\"1:\"&ROWS(Expr1)))),ROWS('Charge atelier chaudronnerie'!$3:7))),\"\")","v":{"$error":"#REF!"}},{"$f":"IF(ROWS('Charge atelier chaudronnerie'!$3:7)<=COUNTIF(nom,$AE$2),INDEX(Expr2,SMALL(IF(nom=$AE$2,ROW(INDIRECT(\"1:\"&ROWS(Expr1)))),ROWS('Charge atelier chaudronnerie'!$3:7))),\"\")","v":{"$error":"#REF!"}},{"$f":"IF(ROWS('Charge atelier chaudronnerie'!$3:7)<=COUNTIF(nom,$AE$2),INDEX(DatePriseOf,SMALL(IF(nom=$AE$2,ROW(INDIRECT(\"1:\"&ROWS(Expr1)))),ROWS('Charge atelier chaudronnerie'!$3:7))),\"\")","v":{"$error":"#REF!"}},null,{"$f":"IF(ROWS('Charge atelier chaudronnerie'!$3:7)<=COUNTIF(nom,$AI$2),INDEX(Expr1,SMALL(IF(nom=$AI$2,ROW(INDIRECT(\"1:\"&ROWS(Expr1)))),ROWS('Charge atelier chaudronnerie'!$3:7))),\"\")","v":{"$error":"#REF!"}},{"$f":"IF(ROWS('Charge atelier chaudronnerie'!$3:7)<=COUNTIF(nom,$AI$2),INDEX(Expr2,SMALL(IF(nom=$AI$2,ROW(INDIRECT(\"1:\"&ROWS(Expr1)))),ROWS('Charge atelier chaudronnerie'!$3:7))),\"\")","v":{"$error":"#REF!"}},{"$f":"IF(ROWS('Charge atelier chaudronnerie'!$3:7)<=COUNTIF(nom,$AI$2),INDEX(DatePriseOf,SMALL(IF(nom=$AI$2,ROW(INDIRECT(\"1:\"&ROWS(Expr1)))),ROWS('Charge atelier chaudronnerie'!$3:7))),\"\")","v":{"$error":"#REF!"}},null,{"$f":"IF(ROWS('Charge atelier chaudronnerie'!$3:7)<=COUNTIF(nom,$AM$2),INDEX(Expr1,SMALL(IF(nom=$AM$2,ROW(INDIRECT(\"1:\"&ROWS(Expr1)))),ROWS('Charge atelier chaudronnerie'!$3:7))),\"\")","v":{"$error":"#REF!"}},{"$f":"IF(ROWS('Charge atelier chaudronnerie'!$3:7)<=COUNTIF(nom,$AM$2),INDEX(Expr2,SMALL(IF(nom=$AM$2,ROW(INDIRECT(\"1:\"&ROWS(Expr1)))),ROWS('Charge atelier chaudronnerie'!$3:7))),\"\")","v":{"$error":"#REF!"}},{"$f":"IF(ROWS('Charge atelier chaudronnerie'!$3:7)<=COUNTIF(nom,$AM$2),INDEX(DatePriseOf,SMALL(IF(nom=$AM$2,ROW(INDIRECT(\"1:\"&ROWS(Expr1)))),ROWS('Charge atelier chaudronnerie'!$3:7))),\"\")","v":{"$error":"#REF!"}},null,{"$f":"IF(ROWS('Charge atelier chaudronnerie'!$3:7)<=COUNTIF(nom,$AQ$2),INDEX(Expr1,SMALL(IF(nom=$AQ$2,ROW(INDIRECT(\"1:\"&ROWS(Expr1)))),ROWS('Charge atelier chaudronnerie'!$3:7))),\"\")","v":{"$error":"#REF!"}},{"$f":"IF(ROWS('Charge atelier chaudronnerie'!$3:7)<=COUNTIF(nom,$AQ$2),INDEX(Expr2,SMALL(IF(nom=$AQ$2,ROW(INDIRECT(\"1:\"&ROWS(Expr1)))),ROWS('Charge atelier chaudronnerie'!$3:7))),\"\")","v":{"$error":"#REF!"}},{"$f":"IF(ROWS('Charge atelier chaudronnerie'!$3:7)<=COUNTIF(nom,$AQ$2),INDEX(DatePriseOf,SMALL(IF(nom=$AQ$2,ROW(INDIRECT(\"1:\"&ROWS(Expr1)))),ROWS('Charge atelier chaudronnerie'!$3:7))),\"\")","v":{"$error":"#REF!"}},null,{"$f":"IF(ROWS('Charge atelier chaudronnerie'!$3:7)<=COUNTIF(nom,$AU$2),INDEX(Expr1,SMALL(IF(nom=$AU$2,ROW(INDIRECT(\"1:\"&ROWS(Expr1)))),ROWS('Charge atelier chaudronnerie'!$3:7))),\"\")","v":{"$error":"#REF!"}},{"$f":"IF(ROWS('Charge atelier chaudronnerie'!$3:7)<=COUNTIF(nom,$AU$2),INDEX(Expr2,SMALL(IF(nom=$AU$2,ROW(INDIRECT(\"1:\"&ROWS(Expr1)))),ROWS('Charge atelier chaudronnerie'!$3:7))),\"\")","v":{"$error":"#REF!"}},{"$f":"IF(ROWS('Charge atelier chaudronnerie'!$3:7)<=COUNTIF(nom,$AU$2),INDEX(DatePriseOf,SMALL(IF(nom=$AU$2,ROW(INDIRECT(\"1:\"&ROWS(Expr1)))),ROWS('Charge atelier chaudronnerie'!$3:7))),\"\")","v":{"$error":"#REF!"}},null,{"$f":"IF(ROWS('Charge atelier chaudronnerie'!$3:7)<=COUNTIF(nom,$AY$2),INDEX(Expr1,SMALL(IF(nom=$AY$2,ROW(INDIRECT(\"1:\"&ROWS(Expr1)))),ROWS('Charge atelier chaudronnerie'!$3:7))),\"\")","v":{"$error":"#REF!"}},{"$f":"IF(ROWS('Charge atelier chaudronnerie'!$3:7)<=COUNTIF(nom,$AY$2),INDEX(Expr2,SMALL(IF(nom=$AY$2,ROW(INDIRECT(\"1:\"&ROWS(Expr1)))),ROWS('Charge atelier chaudronnerie'!$3:7))),\"\")","v":{"$error":"#REF!"}},{"$f":"IF(ROWS('Charge atelier chaudronnerie'!$3:7)<=COUNTIF(nom,$AY$2),INDEX(DatePriseOf,SMALL(IF(nom=$AY$2,ROW(INDIRECT(\"1:\"&ROWS(Expr1)))),ROWS('Charge atelier chaudronnerie'!$3:7))),\"\")","v":{"$error":"#REF!"}},null,{"$f":"IF(ROWS('Charge atelier chaudronnerie'!$3:7)<=COUNTIF(nom,$BC$2),INDEX(Expr1,SMALL(IF(nom=$BC$2,ROW(INDIRECT(\"1:\"&ROWS(Expr1)))),ROWS('Charge atelier chaudronnerie'!$3:7))),\"\")","v":{"$error":"#REF!"}},{"$f":"IF(ROWS('Charge atelier chaudronnerie'!$3:7)<=COUNTIF(nom,$BC$2),INDEX(Expr2,SMALL(IF(nom=$BC$2,ROW(INDIRECT(\"1:\"&ROWS(Expr1)))),ROWS('Charge atelier chaudronnerie'!$3:7))),\"\")","v":{"$error":"#REF!"}},{"$f":"IF(ROWS('Charge atelier chaudronnerie'!$3:7)<=COUNTIF(nom,$BC$2),INDEX(DatePriseOf,SMALL(IF(nom=$BC$2,ROW(INDIRECT(\"1:\"&ROWS(Expr1)))),ROWS('Charge atelier chaudronnerie'!$3:7))),\"\")","v":{"$error":"#REF!"}},null,{"$f":"IF(ROWS('Charge atelier chaudronnerie'!$3:7)<=COUNTIF(nom,$BG$2),INDEX(Expr1,SMALL(IF(nom=$BG$2,ROW(INDIRECT(\"1:\"&ROWS(Expr1)))),ROWS('Charge atelier chaudronnerie'!$3:7))),\"\")","v":{"$error":"#REF!"}},{"$f":"IF(ROWS('Charge atelier chaudronnerie'!$3:7)<=COUNTIF(nom,$BG$2),INDEX(Expr2,SMALL(IF(nom=$BG$2,ROW(INDIRECT(\"1:\"&ROWS(Expr1)))),ROWS('Charge atelier chaudronnerie'!$3:7))),\"\")","v":{"$error":"#REF!"}},{"$f":"IF(ROWS('Charge atelier chaudronnerie'!$3:7)<=COUNTIF(nom,$BG$2),INDEX(DatePriseOf,SMALL(IF(nom=$BG$2,ROW(INDIRECT(\"1:\"&ROWS(Expr1)))),ROWS('Charge atelier chaudronnerie'!$3:7))),\"\")","v":{"$error":"#REF!"}},null,{"$f":"IF(ROWS('Charge atelier chaudronnerie'!$3:7)<=COUNTIF(nom,$BK$2),INDEX(Expr1,SMALL(IF(nom=$BK$2,ROW(INDIRECT(\"1:\"&ROWS(Expr1)))),ROWS('Charge atelier chaudronnerie'!$3:7))),\"\")","v":{"$error":"#REF!"}},{"$f":"IF(ROWS('Charge atelier chaudronnerie'!$3:7)<=COUNTIF(nom,$BK$2),INDEX(Expr2,SMALL(IF(nom=$BK$2,ROW(INDIRECT(\"1:\"&ROWS(Expr1)))),ROWS('Charge atelier chaudronnerie'!$3:7))),\"\")","v":{"$error":"#REF!"}},{"$f":"IF(ROWS('Charge atelier chaudronnerie'!$3:7)<=COUNTIF(nom,$BK$2),INDEX(DatePriseOf,SMALL(IF(nom=$BK$2,ROW(INDIRECT(\"1:\"&ROWS(Expr1)))),ROWS('Charge atelier chaudronnerie'!$3:7))),\"\")","v":{"$error":"#REF!"}},null,{"$f":"IF(ROWS('Charge atelier chaudronnerie'!$3:5)<=COUNTIF(nom,$BO$2),INDEX(Expr1,SMALL(IF(nom=$BO$2,ROW(INDIRECT(\"1:\"&ROWS(Expr1)))),ROWS('Charge atelier chaudronnerie'!$3:5))),\"\")","v":{"$error":"#REF!"}},{"$f":"IF(ROWS('Charge atelier chaudronnerie'!$3:5)<=COUNTIF(nom,$BO$2),INDEX(Expr2,SMALL(IF(nom=$BO$2,ROW(INDIRECT(\"1:\"&ROWS(Expr1)))),ROWS('Charge atelier chaudronnerie'!$3:5))),\"\")","v":{"$error":"#REF!"}},{"$f":"IF(ROWS('Charge atelier chaudronnerie'!$3:5)<=COUNTIF(nom,$BO$2),INDEX(DatePriseOf,SMALL(IF(nom=$BO$2,ROW(INDIRECT(\"1:\"&ROWS(Expr1)))),ROWS('Charge atelier chaudronnerie'!$3:5))),\"\")","v":{"$error":"#REF!"}},null,{"$f":"IF(ROWS('Charge atelier chaudronnerie'!$3:5)<=COUNTIF(nom,$BS$2),INDEX(Expr1,SMALL(IF(nom=$BS$2,ROW(INDIRECT(\"1:\"&ROWS(Expr1)))),ROWS('Charge atelier chaudronnerie'!$3:5))),\"\")","v":{"$error":"#REF!"}},{"$f":"IF(ROWS('Charge atelier chaudronnerie'!$3:5)<=COUNTIF(nom,$BS$2),INDEX(Expr2,SMALL(IF(nom=$BS$2,ROW(INDIRECT(\"1:\"&ROWS(Expr1)))),ROWS('Charge atelier chaudronnerie'!$3:5))),\"\")","v":{"$error":"#REF!"}},{"$f":"IF(ROWS('Charge atelier chaudronnerie'!$3:5)<=COUNTIF(nom,$BS$2),INDEX(DatePriseOf,SMALL(IF(nom=$BS$2,ROW(INDIRECT(\"1:\"&ROWS(Expr1)))),ROWS('Charge atelier chaudronnerie'!$3:5))),\"\")","v":{"$error":"#REF!"}}]
["daniel","GLORIEUX",{"$f":"IF(ROWS('Charge atelier chaudronnerie'!$3:8)<=COUNTIF(nom,$C$2),INDEX(Expr1,SMALL(IF(nom=$C$2,ROW(INDIRECT(\"1:\"&ROWS(Expr1)))),ROWS('Charge atelier chaudronnerie'!$3:8))),\"\")","v":{"$error":"#REF!"}},{"$f":"IF(ROWS('Charge atelier chaudronnerie'!$3:8)<=COUNTIF(nom,$C$2),INDEX(Expr2,SMALL(IF(nom=$C$2,ROW(INDIRECT(\"1:\"&ROWS(Expr1)))),ROWS('Charge atelier chaudronnerie'!$3:8))),\"\")","v":{"$error":"#REF!"}},{"$f":"IF(ROWS('Charge atelier chaudronnerie'!$3:8)<=COUNTIF(nom,$C$2),INDEX(DatePriseOf,SMALL(IF(nom=$C$2,ROW(INDIRECT(\"1:\"&ROWS(Expr1)))),ROWS('Charge atelier chaudronnerie'!$3:8))),\"\")","v":{"$error":"#REF!"}},null,{"$f":"IF(ROWS('Charge atelier chaudronnerie'!$3:8)<=COUNTIF(nom,$G$2),INDEX(Expr1,SMALL(IF(nom=$G$2,ROW(INDIRECT(\"1:\"&ROWS(Expr1)))),ROWS('Charge atelier chaudronnerie'!$3:8))),\"\")","v":{"$error":"#REF!"}},{"$f":"IF(ROWS('Charge atelier chaudronnerie'!$3:8)<=COUNTIF(nom,$G$2),INDEX(Expr2,SMALL(IF(nom=$G$2,ROW(INDIRECT(\"1:\"&ROWS(Expr1)))),ROWS('Charge atelier chaudronnerie'!$3:8))),\"\")","v":{"$error":"#REF!"}},{"$f":"IF(ROWS('Charge atelier chaudronnerie'!$3:8)<=COUNTIF(nom,$G$2),INDEX(DatePriseOf,SMALL(IF(nom=$G$2,ROW(INDIRECT(\"1:\"&ROWS(Expr1)))),ROWS('Charge atelier chaudronnerie'!$3:8))),\"\")","v":{"$error":"#REF!"}},null,{"$f":"IF(ROWS('Charge atelier chaudronnerie'!$3:8)<=COUNTIF(nom,$K$2),INDEX(Expr1,SMALL(IF(nom=$K$2,ROW(INDIRECT(\"1:\"&ROWS(Expr1)))),ROWS('Charge atelier chaudronnerie'!$3:8))),\"\")","v":{"$error":"#REF!"}},{"$f":"IF(ROWS('Charge atelier chaudronnerie'!$3:8)<=COUNTIF(nom,$K$2),INDEX(Expr2,SMALL(IF(nom=$K$2,ROW(INDIRECT(\"1:\"&ROWS(Expr1)))),ROWS('Charge atelier chaudronnerie'!$3:8))),\"\")","v":{"$error":"#REF!"}},{"$f":"IF(ROWS('Charge atelier chaudronnerie'!$3:8)<=COUNTIF(nom,$K$2),INDEX(DatePriseOf,SMALL(IF(nom=$K$2,ROW(INDIRECT(\"1:\"&ROWS(Expr1)))),ROWS('Charge atelier chaudronnerie'!$3:8))),\"\")","v":{"$error":"#REF!"}},null,{"$f":"IF(ROWS('Charge atelier chaudronnerie'!$3:8)<=COUNTIF(nom,$O$2),INDEX(Expr1,SMALL(IF(nom=$O$2,ROW(INDIRECT(\"1:\"&ROWS(Expr1)))),ROWS('Charge atelier chaudronnerie'!$3:8))),\"\")","v":{"$error":"#REF!"}},{"$f":"IF(ROWS('Charge atelier chaudronnerie'!$3:8)<=COUNTIF(nom,$O$2),INDEX(Expr2,SMALL(IF(nom=$O$2,ROW(INDIRECT(\"1:\"&ROWS(Expr1)))),ROWS('Charge atelier chaudronnerie'!$3:8))),\"\")","v":{"$error":"#REF!"}},{"$f":"IF(ROWS('Charge atelier chaudronnerie'!$3:8)<=COUNTIF(nom,$O$2),INDEX(DatePriseOf,SMALL(IF(nom=$O$2,ROW(INDIRECT(\"1:\"&ROWS(Expr1)))),ROWS('Charge atelier chaudronnerie'!$3:8))),\"\")","v":{"$error":"#REF!"}},null,{"$f":"IF(ROWS('Charge atelier chaudronnerie'!$3:8)<=COUNTIF(nom,$S$2),INDEX(Expr1,SMALL(IF(nom=$S$2,ROW(INDIRECT(\"1:\"&ROWS(Expr1)))),ROWS('Charge atelier chaudronnerie'!$3:8))),\"\")","v":{"$error":"#REF!"}},{"$f":"IF(ROWS('Charge atelier chaudronnerie'!$3:8)<=COUNTIF(nom,$S$2),INDEX(Expr2,SMALL(IF(nom=$S$2,ROW(INDIRECT(\"1:\"&ROWS(Expr1)))),ROWS('Charge atelier chaudronnerie'!$3:8))),\"\")","v":{"$error":"#REF!"}},{"$f":"IF(ROWS('Charge atelier chaudronnerie'!$3:8)<=COUNTIF(nom,$S$2),INDEX(DatePriseOf,SMALL(IF(nom=$S$2,ROW(INDIRECT(\"1:\"&ROWS(Expr1)))),ROWS('Charge atelier chaudronnerie'!$3:8))),\"\")","v":{"$error":"#REF!"}},null,{"$f":"IF(ROWS('Charge atelier chaudronnerie'!$3:8)<=COUNTIF(nom,$W$2),INDEX(Expr1,SMALL(IF(nom=$W$2,ROW(INDIRECT(\"1:\"&ROWS(Expr1)))),ROWS('Charge atelier chaudronnerie'!$3:8))),\"\")","v":{"$error":"#REF!"}},{"$f":"IF(ROWS('Charge atelier chaudronnerie'!$3:8)<=COUNTIF(nom,$W$2),INDEX(Expr2,SMALL(IF(nom=$W$2,ROW(INDIRECT(\"1:\"&ROWS(Expr1)))),ROWS('Charge atelier chaudronnerie'!$3:8))),\"\")","v":{"$error":"#REF!"}},{"$f":"IF(ROWS('Charge atelier chaudronnerie'!$3:8)<=COUNTIF(nom,$W$2),INDEX(DatePriseOf,SMALL(IF(nom=$W$2,ROW(INDIRECT(\"1:\"&ROWS(Expr1)))),ROWS('Charge atelier chaudronnerie'!$3:8))),\"\")","v":{"$error":"#REF!"}},null,{"$f":"IF(ROWS('Charge atelier chaudronnerie'!$3:8)<=COUNTIF(nom,$AA$2),INDEX(Expr1,SMALL(IF(nom=$AA$2,ROW(INDIRECT(\"1:\"&ROWS(Expr1)))),ROWS('Charge atelier chaudronnerie'!$3:8))),\"\")","v":{"$error":"#REF!"}},{"$f":"IF(ROWS('Charge atelier chaudronnerie'!$3:8)<=COUNTIF(nom,$AA$2),INDEX(Expr2,SMALL(IF(nom=$AA$2,ROW(INDIRECT(\"1:\"&ROWS(Expr1)))),ROWS('Charge atelier chaudronnerie'!$3:8))),\"\")","v":{"$error":"#REF!"}},{"$f":"IF(ROWS('Charge atelier chaudronnerie'!$3:8)<=COUNTIF(nom,$AA$2),INDEX(DatePriseOf,SMALL(IF(nom=$AA$2,ROW(INDIRECT(\"1:\"&ROWS(Expr1)))),ROWS('Charge atelier chaudronnerie'!$3:8))),\"\")","v":{"$error":"#REF!"}},null,{"$f":"IF(ROWS('Charge atelier chaudronnerie'!$3:8)<=COUNTIF(nom,$AE$2),INDEX(Expr1,SMALL(IF(nom=$AE$2,ROW(INDIRECT(\"1:\"&ROWS(Expr1)))),ROWS('Charge atelier chaudronnerie'!$3:8))),\"\")","v":{"$error":"#REF!"}},{"$f":"IF(ROWS('Charge atelier chaudronnerie'!$3:8)<=COUNTIF(nom,$AE$2),INDEX(Expr2,SMALL(IF(nom=$AE$2,ROW(INDIRECT(\"1:\"&ROWS(Expr1)))),ROWS('Charge atelier chaudronnerie'!$3:8))),\"\")","v":{"$error":"#REF!"}},{"$f":"IF(ROWS('Charge atelier chaudronnerie'!$3:8)<=COUNTIF(nom,$AE$2),INDEX(DatePriseOf,SMALL(IF(nom=$AE$2,ROW(INDIRECT(\"1:\"&ROWS(Expr1)))),ROWS('Charge atelier chaudronnerie'!$3:8))),\"\")","v":{"$error":"#REF!"}},null,{"$f":"IF(ROWS('Charge atelier chaudronnerie'!$3:8)<=COUNTIF(nom,$AI$2),INDEX(Expr1,SMALL(IF(nom=$AI$2,ROW(INDIRECT(\"1:\"&ROWS(Expr1)))),ROWS('Charge atelier chaudronnerie'!$3:8))),\"\")","v":{"$error":"#REF!"}},{"$f":"IF(ROWS('Charge atelier chaudronnerie'!$3:8)<=COUNTIF(nom,$AI$2),INDEX(Expr2,SMALL(IF(nom=$AI$2,ROW(INDIRECT(\"1:\"&ROWS(Expr1)))),ROWS('Charge atelier chaudronnerie'!$3:8))),\"\")","v":{"$error":"#REF!"}},{"$f":"IF(ROWS('Charge atelier chaudronnerie'!$3:8)<=COUNTIF(nom,$AI$2),INDEX(DatePriseOf,SMALL(IF(nom=$AI$2,ROW(INDIRECT(\"1:\"&ROWS(Expr1)))),ROWS('Charge atelier chaudronnerie'!$3:8))),\"\")","v":{"$error":"#REF!"}},null,{"$f":"IF(ROWS('Charge atelier chaudronnerie'!$3:8)<=COUNTIF(nom,$AM$2),INDEX(Expr1,SMALL(IF(nom=$AM$2,ROW(INDIRECT(\"1:\"&ROWS(Expr1)))),ROWS('Charge atelier chaudronnerie'!$3:8))),\"\")","v":{"$error":"#REF!"}},{"$f":"IF(ROWS('Charge atelier chaudronnerie'!$3:8)<=COUNTIF(nom,$AM$2),INDEX(Expr2,SMALL(IF(nom=$AM$2,ROW(INDIRECT(\"1:\"&ROWS(Expr1)))),ROWS('Charge atelier chaudronnerie'!$3:8))),\"\")","v":{"$error":"#REF!"}},{"$f":"IF(ROWS('Charge atelier chaudronnerie'!$3:8)<=COUNTIF(nom,$AM$2),INDEX(DatePriseOf,SMALL(IF(nom=$AM$2,ROW(INDIRECT(\"1:\"&ROWS(Expr1)))),ROWS('Charge atelier chaudronnerie'!$3:8))),\"\")","v":{"$error":"#REF!"}},null,{"$f":"IF(ROWS('Charge atelier chaudronnerie'!$3:8)<=COUNTIF(nom,$AQ$2),INDEX(Expr1,SMALL(IF(nom=$AQ$2,ROW(INDIRECT(\"1:\"&ROWS(Expr1)))),ROWS('Charge atelier chaudronnerie'!$3:8))),\"\")","v":{"$error":"#REF!"}},{"$f":"IF(ROWS('Charge atelier chaudronnerie'!$3:8)<=COUNTIF(nom,$AQ$2),INDEX(Expr2,SMALL(IF(nom=$AQ$2,ROW(INDIRECT(\"1:\"&ROWS(Expr1)))),ROWS('Charge atelier chaudronnerie'!$3:8))),\"\")","v":{"$error":"#REF!"}},{"$f":"IF(ROWS('Charge atelier chaudronnerie'!$3:8)<=COUNTIF(nom,$AQ$2),INDEX(DatePriseOf,SMALL(IF(nom=$AQ$2,ROW(INDIRECT(\"1:\"&ROWS(Expr1)))),ROWS('Charge atelier chaudronnerie'!$3:8))),\"\")","v":{"$error":"#REF!"}},null,{"$f":"IF(ROWS('Charge atelier chaudronnerie'!$3:8)<=COUNTIF(nom,$AU$2),INDEX(Expr1,SMALL(IF(nom=$AU$2,ROW(INDIRECT(\"1:\"&ROWS(Expr1)))),ROWS('Charge atelier chaudronnerie'!$3:8))),\"\")","v":{"$error":"#REF!"}},{"$f":"IF(ROWS('Charge atelier chaudronnerie'!$3:8)<=COUNTIF(nom,$AU$2),INDEX(Expr2,SMALL(IF(nom=$AU$2,ROW(INDIRECT(\"1:\"&ROWS(Expr1)))),ROWS('Charge atelier chaudronnerie'!$3:8))),\"\")","v":{"$error":"#REF!"}},{"$f":"IF(ROWS('Charge atelier chaudronnerie'!$3:8)<=COUNTIF(nom,$AU$2),INDEX(DatePriseOf,SMALL(IF(nom=$AU$2,ROW(INDIRECT(\"1:\"&ROWS(Expr1)))),ROWS('Charge atelier chaudronnerie'!$3:8))),\"\")","v":{"$error":"#REF!"}},null,{"$f":"IF(ROWS('Charge atelier chaudronnerie'!$3:8)<=COUNTIF(nom,$AY$2),INDEX(Expr1,SMALL(IF(nom=$AY$2,ROW(INDIRECT(\"1:\"&ROWS(Expr1)))),ROWS('Charge atelier chaudronnerie'!$3:8))),\"\")","v":{"$error":"#REF!"}},{"$f":"IF(ROWS('Charge atelier chaudronnerie'!$3:8)<=COUNTIF(nom,$AY$2),INDEX(Expr2,SMALL(IF(nom=$AY$2,ROW(INDIRECT(\"1:\"&ROWS(Expr1)))),ROWS('Charge atelier chaudronnerie'!$3:8))),\"\")","v":{"$error":"#REF!"}},{"$f":"IF(ROWS('Charge atelier chaudronnerie'!$3:8)<=COUNTIF(nom,$AY$2),INDEX(DatePriseOf,SMALL(IF(nom=$AY$2,ROW(INDIRECT(\"1:\"&ROWS(Expr1)))),ROWS('Charge atelier chaudronnerie'!$3:8))),\"\")","v":{"$error":"#REF!"}},null,{"$f":"IF(ROWS('Charge atelier chaudronnerie'!$3:8)<=COUNTIF(nom,$BC$2),INDEX(Expr1,SMALL(IF(nom=$BC$2,ROW(INDIRECT(\"1:\"&ROWS(Expr1)))),ROWS('Charge atelier chaudronnerie'!$3:8))),\"\")","v":{"$error":"#REF!"}},{"$f":"IF(ROWS('Charge atelier chaudronnerie'!$3:8)<=COUNTIF(nom,$BC$2),INDEX(Expr2,SMALL(IF(nom=$BC$2,ROW(INDIRECT(\"1:\"&ROWS(Expr1)))),ROWS('Charge atelier chaudronnerie'!$3:8))),\"\")","v":{"$error":"#REF!"}},{"$f":"IF(ROWS('Charge atelier chaudronnerie'!$3:8)<=COUNTIF(nom,$BC$2),INDEX(DatePriseOf,SMALL(IF(nom=$BC$2,ROW(INDIRECT(\"1:\"&ROWS(Expr1)))),ROWS('Charge atelier chaudronnerie'!$3:8))),\"\")","v":{"$error":"#REF!"}},null,{"$f":"IF(ROWS('Charge atelier chaudronnerie'!$3:8)<=COUNTIF(nom,$BG$2),INDEX(Expr1,SMALL(IF(nom=$BG$2,ROW(INDIRECT(\"1:\"&ROWS(Expr1)))),ROWS('Charge atelier chaudronnerie'!$3:8))),\"\")","v":{"$error":"#REF!"}},{"$f":"IF(ROWS('Charge atelier chaudronnerie'!$3:8)<=COUNTIF(nom,$BG$2),INDEX(Expr2,SMALL(IF(nom=$BG$2,ROW(INDIRECT(\"1:\"&ROWS(Expr1)))),ROWS('Charge atelier chaudronnerie'!$3:8))),\"\")","v":{"$error":"#REF!"}},{"$f":"IF(ROWS('Charge atelier chaudronnerie'!$3:8)<=COUNTIF(nom,$BG$2),INDEX(DatePriseOf,SMALL(IF(nom=$BG$2,ROW(INDIRECT(\"1:\"&ROWS(Expr1)))),ROWS('Charge atelier chaudronnerie'!$3:8))),\"\")","v":{"$error":"#REF!"}},null,{"$f":"IF(ROWS('Charge atelier chaudronnerie'!$3:8)<=COUNTIF(nom,$BK$2),INDEX(Expr1,SMALL(IF(nom=$BK$2,ROW(INDIRECT(\"1:\"&ROWS(Expr1)))),ROWS('Charge atelier chaudronnerie'!$3:8))),\"\")","v":{"$error":"#REF!"}},{"$f":"IF(ROWS('Charge atelier chaudronnerie'!$3:8)<=COUNTIF(nom,$BK$2),INDEX(Expr2,SMALL(IF(nom=$BK$2,ROW(INDIRECT(\"1:\"&ROWS(Expr1)))),ROWS('Charge atelier chaudronnerie'!$3:8))),\"\")","v":{"$error":"#REF!"}},{"$f":"IF(ROWS('Charge atelier chaudronnerie'!$3:8)<=COUNTIF(nom,$BK$2),INDEX(DatePriseOf,SMALL(IF(nom=$BK$2,ROW(INDIRECT(\"1:\"&ROWS(Expr1)))),ROWS('Charge atelier chaudronnerie'!$3:8))),\"\")","v":{"$error":"#REF!"}},null,{"$f":"IF(ROWS('Charge atelier chaudronnerie'!$3:6)<=COUNTIF(nom,$BO$2),INDEX(Expr1,SMALL(IF(nom=$BO$2,ROW(INDIRECT(\"1:\"&ROWS(Expr1)))),ROWS('Charge atelier chaudronnerie'!$3:6))),\"\")","v":{"$error":"#REF!"}},{"$f":"IF(ROWS('Charge atelier chaudronnerie'!$3:6)<=COUNTIF(nom,$BO$2),INDEX(Expr2,SMALL(IF(nom=$BO$2,ROW(INDIRECT(\"1:\"&ROWS(Expr1)))),ROWS('Charge atelier chaudronnerie'!$3:6))),\"\")","v":{"$error":"#REF!"}},{"$f":"IF(ROWS('Charge atelier chaudronnerie'!$3:6)<=COUNTIF(nom,$BO$2),INDEX(DatePriseOf,SMALL(IF(nom=$BO$2,ROW(INDIRECT(\"1:\"&ROWS(Expr1)))),ROWS('Charge atelier chaudronnerie'!$3:6))),\"\")","v":{"$error":"#REF!"}},null,{"$f":"IF(ROWS('Charge atelier chaudronnerie'!$3:6)<=COUNTIF(nom,$BS$2),INDEX(Expr1,SMALL(IF(nom=$BS$2,ROW(INDIRECT(\"1:\"&ROWS(Expr1)))),ROWS('Charge atelier chaudronnerie'!$3:6))),\"\")","v":{"$error":"#REF!"}},{"$f":"IF(ROWS('Charge atelier chaudronnerie'!$3:6)<=COUNTIF(nom,$BS$2),INDEX(Expr2,SMALL(IF(nom=$BS$2,ROW(INDIRECT(\"1:\"&ROWS(Expr1)))),ROWS('Charge atelier chaudronnerie'!$3:6))),\"\")","v":{"$error":"#REF!"}},{"$f":"IF(ROWS('Charge atelier chaudronnerie'!$3:6)<=COUNTIF(nom,$BS$2),INDEX(DatePriseOf,SMALL(IF(nom=$BS$2,ROW(INDIRECT(\"1:\"&ROWS(Expr1)))),ROWS('Charge atelier chaudronnerie'!$3:6))),\"\")","v":{"$error":"#REF!"}}]
["ronan","GUEGUENOU",{"$f":"IF(ROWS('Charge atelier chaudronnerie'!$3:9)<=COUNTIF(nom,$C$2),INDEX(Expr1,SMALL(IF(nom=$C$2,ROW(INDIRECT(\"1:\"&ROWS(Expr1)))),ROWS('Charge atelier chaudronnerie'!$3:9))),\"\")","v":{"$error":"#REF!"}},{"$f":"IF(ROWS('Charge atelier chaudronnerie'!$3:9)<=COUNTIF(nom,$C$2),INDEX(Expr2,SMALL(IF(nom=$C$2,ROW(INDIRECT(\"1:\"&ROWS(Expr1)))),ROWS('Charge atelier chaudronnerie'!$3:9))),\"\")","v":{"$error":"#REF!"}},{"$f":"IF(ROWS('Charge atelier chaudronnerie'!$3:9)<=COUNTIF(nom,$C$2),INDEX(DatePriseOf,SMALL(IF(nom=$C$2,ROW(INDIRECT(\"1:\"&ROWS(Expr1)))),ROWS('Charge atelier chaudronnerie'!$3:9))),\"\")","v":{"$error":"#REF!"}},null,{"$f":"IF(ROWS('Charge atelier chaudronnerie'!$3:9)<=COUNTIF(nom,$G$2),INDEX(Expr1,SMALL(IF(nom=$G$2,ROW(INDIRECT(\"1:\"&ROWS(Expr1)))),ROWS('Charge atelier chaudronnerie'!$3:9))),\"\")","v":{"$error":"#REF!"}},{"$f":"IF(ROWS('Charge atelier chaudronnerie'!$3:9)<=COUNTIF(nom,$G$2),INDEX(Expr2,SMALL(IF(nom=$G$2,ROW(INDIRECT(\"1:\"&ROWS(Expr1)))),ROWS('Charge atelier chaudronnerie'!$3:9))),\"\")","v":{"$error":"#REF!"}},{"$f":"IF(ROWS('Charge atelier chaudronnerie'!$3:9)<=COUNTIF(nom,$G$2),INDEX(DatePriseOf,SMALL(IF(nom=$G$2,ROW(INDIRECT(\"1:\"&ROWS(Expr1)))),ROWS('Charge atelier chaudronnerie'!$3:9))),\"\")","v":{"$error":"#REF!"}},null,{"$f":"IF(ROWS('Charge atelier chaudronnerie'!$3:9)<=COUNTIF(nom,$K$2),INDEX(Expr1,SMALL(IF(nom=$K$2,ROW(INDIRECT(\"1:\"&ROWS(Expr1)))),ROWS('Charge atelier chaudronnerie'!$3:9))),\"\")","v":{"$error":"#REF!"}},{"$f":"IF(ROWS('Charge atelier chaudronnerie'!$3:9)<=COUNTIF(nom,$K$2),INDEX(Expr2,SMALL(IF(nom=$K$2,ROW(INDIRECT(\"1:\"&ROWS(Expr1)))),ROWS('Charge atelier chaudronnerie'!$3:9))),\"\")","v":{"$error":"#REF!"}},{"$f":"IF(ROWS('Charge atelier chaudronnerie'!$3:9)<=COUNTIF(nom,$K$2),INDEX(DatePriseOf,SMALL(IF(nom=$K$2,ROW(INDIRECT(\"1:\"&ROWS(Expr1)))),ROWS('Charge atelier chaudronnerie'!$3:9))),\"\")","v":{"$error":"#REF!"}},null,{"$f":"IF(ROWS('Charge atelier chaudronnerie'!$3:9)<=COUNTIF(nom,$O$2),INDEX(Expr1,SMALL(IF(nom=$O$2,ROW(INDIRECT(\"1:\"&ROWS(Expr1)))),ROWS('Charge atelier chaudronnerie'!$3:9))),\"\")","v":{"$error":"#REF!"}},{"$f":"IF(ROWS('Charge atelier chaudronnerie'!$3:9)<=COUNTIF(nom,$O$2),INDEX(Expr2,SMALL(IF(nom=$O$2,ROW(INDIRECT(\"1:\"&ROWS(Expr1)))),ROWS('Charge atelier chaudronnerie'!$3:9))),\"\")","v":{"$error":"#REF!"}},{"$f":"IF(ROWS('Charge atelier chaudronnerie'!$3:9)<=COUNTIF(nom,$O$2),INDEX(DatePriseOf,SMALL(IF(nom=$O$2,ROW(INDIRECT(\"1:\"&ROWS(Expr1)))),ROWS('Charge atelier chaudronnerie'!$3:9))),\"\")","v":{"$error":"#REF!"}},null,{"$f":"IF(ROWS('Charge atelier chaudronnerie'!$3:9)<=COUNTIF(nom,$S$2),INDEX(Expr1,SMALL(IF(nom=$S$2,ROW(INDIRECT(\"1:\"&ROWS(Expr1)))),ROWS('Charge atelier chaudronnerie'!$3:9))),\"\")","v":{"$error":"#REF!"}},{"$f":"IF(ROWS('Charge atelier chaudronnerie'!$3:9)<=COUNTIF(nom,$S$2),INDEX(Expr2,SMALL(IF(nom=$S$2,ROW(INDIRECT(\"1:\"&ROWS(Expr1)))),ROWS('Charge atelier chaudronnerie'!$3:9))),\"\")","v":{"$error":"#REF!"}},{"$f":"IF(ROWS('Charge atelier chaudronnerie'!$3:9)<=COUNTIF(nom,$S$2),INDEX(DatePriseOf,SMALL(IF(nom=$S$2,ROW(INDIRECT(\"1:\"&ROWS(Expr1)))),ROWS('Charge atelier chaudronnerie'!$3:9))),\"\")","v":{"$error":"#REF!"}},null,{"$f":"IF(ROWS('Charge atelier chaudronnerie'!$3:9)<=COUNTIF(nom,$W$2),INDEX(Expr1,SMALL(IF(nom=$W$2,ROW(INDIRECT(\"1:\"&ROWS(Expr1)))),ROWS('Charge atelier chaudronnerie'!$3:9))),\"\")","v":{"$error":"#REF!"}},{"$f":"IF(ROWS('Charge atelier chaudronnerie'!$3:9)<=COUNTIF(nom,$W$2),INDEX(Expr2,SMALL(IF(nom=$W$2,ROW(INDIRECT(\"1:\"&ROWS(Expr1)))),ROWS('Charge atelier chaudronnerie'!$3:9))),\"\")","v":{"$error":"#REF!"}},{"$f":"IF(ROWS('Charge atelier chaudronnerie'!$3:9)<=COUNTIF(nom,$W$2),INDEX(DatePriseOf,SMALL(IF(nom=$W$2,ROW(INDIRECT(\"1:\"&ROWS(Expr1)))),ROWS('Charge atelier chaudronnerie'!$3:9))),\"\")","v":{"$error":"#REF!"}},null,{"$f":"IF(ROWS('Charge atelier chaudronnerie'!$3:9)<=COUNTIF(nom,$AA$2),INDEX(Expr1,SMALL(IF(nom=$AA$2,ROW(INDIRECT(\"1:\"&ROWS(Expr1)))),ROWS('Charge atelier chaudronnerie'!$3:9))),\"\")","v":{"$error":"#REF!"}},{"$f":"IF(ROWS('Charge atelier chaudronnerie'!$3:9)<=COUNTIF(nom,$AA$2),INDEX(Expr2,SMALL(IF(nom=$AA$2,ROW(INDIRECT(\"1:\"&ROWS(Expr1)))),ROWS('Charge atelier chaudronnerie'!$3:9))),\"\")","v":{"$error":"#REF!"}},{"$f":"IF(ROWS('Charge atelier chaudronnerie'!$3:9)<=COUNTIF(nom,$AA$2),INDEX(DatePriseOf,SMALL(IF(nom=$AA$2,ROW(INDIRECT(\"1:\"&ROWS(Expr1)))),ROWS('Charge atelier chaudronnerie'!$3:9))),\"\")","v":{"$error":"#REF!"}},null,{"$f":"IF(ROWS('Charge atelier chaudronnerie'!$3:9)<=COUNTIF(nom,$AE$2),INDEX(Expr1,SMALL(IF(nom=$AE$2,ROW(INDIRECT(\"1:\"&ROWS(Expr1)))),ROWS('Charge atelier chaudronnerie'!$3:9))),\"\")","v":{"$error":"#REF!"}},{"$f":"IF(ROWS('Charge atelier chaudronnerie'!$3:9)<=COUNTIF(nom,$AE$2),INDEX(Expr2,SMALL(IF(nom=$AE$2,ROW(INDIRECT(\"1:\"&ROWS(Expr1)))),ROWS('Charge atelier chaudronnerie'!$3:9))),\"\")","v":{"$error":"#REF!"}},{"$f":"IF(ROWS('Charge atelier chaudronnerie'!$3:9)<=COUNTIF(nom,$AE$2),INDEX(DatePriseOf,SMALL(IF(nom=$AE$2,ROW(INDIRECT(\"1:\"&ROWS(Expr1)))),ROWS('Charge atelier chaudronnerie'!$3:9))),\"\")","v":{"$error":"#REF!"}},null,{"$f":"IF(ROWS('Charge atelier chaudronnerie'!$3:9)<=COUNTIF(nom,$AI$2),INDEX(Expr1,SMALL(IF(nom=$AI$2,ROW(INDIRECT(\"1:\"&ROWS(Expr1)))),ROWS('Charge atelier chaudronnerie'!$3:9))),\"\")","v":{"$error":"#REF!"}},{"$f":"IF(ROWS('Charge atelier chaudronnerie'!$3:9)<=COUNTIF(nom,$AI$2),INDEX(Expr2,SMALL(IF(nom=$AI$2,ROW(INDIRECT(\"1:\"&ROWS(Expr1)))),ROWS('Charge atelier chaudronnerie'!$3:9))),\"\")","v":{"$error":"#REF!"}},{"$f":"IF(ROWS('Charge atelier chaudronnerie'!$3:9)<=COUNTIF(nom,$AI$2),INDEX(DatePriseOf,SMALL(IF(nom=$AI$2,ROW(INDIRECT(\"1:\"&ROWS(Expr1)))),ROWS('Charge atelier chaudronnerie'!$3:9))),\"\")","v":{"$error":"#REF!"}},null,{"$f":"IF(ROWS('Charge atelier chaudronnerie'!$3:9)<=COUNTIF(nom,$AM$2),INDEX(Expr1,SMALL(IF(nom=$AM$2,ROW(INDIRECT(\"1:\"&ROWS(Expr1)))),ROWS('Charge atelier chaudronnerie'!$3:9))),\"\")","v":{"$error":"#REF!"}},{"$f":"IF(ROWS('Charge atelier chaudronnerie'!$3:9)<=COUNTIF(nom,$AM$2),INDEX(Expr2,SMALL(IF(nom=$AM$2,ROW(INDIRECT(\"1:\"&ROWS(Expr1)))),ROWS('Charge atelier chaudronnerie'!$3:9))),\"\")","v":{"$error":"#REF!"}},{"$f":"IF(ROWS('Charge atelier chaudronnerie'!$3:9)<=COUNTIF(nom,$AM$2),INDEX(DatePriseOf,SMALL(IF(nom=$AM$2,ROW(INDIRECT(\"1:\"&ROWS(Expr1)))),ROWS('Charge atelier chaudronnerie'!$3:9))),\"\")","v":{"$error":"#REF!"}},null,{"$f":"IF(ROWS('Charge atelier chaudronnerie'!$3:9)<=COUNTIF(nom,$AQ$2),INDEX(Expr1,SMALL(IF(nom=$AQ$2,ROW(INDIRECT(\"1:\"&ROWS(Expr1)))),ROWS('Charge atelier chaudronnerie'!$3:9))),\"\")","v":{"$error":"#REF!"}},{"$f":"IF(ROWS('Charge atelier chaudronnerie'!$3:9)<=COUNTIF(nom,$AQ$2),INDEX(Expr2,SMALL(IF(nom=$AQ$2,ROW(INDIRECT(\"1:\"&ROWS(Expr1)))),ROWS('Charge atelier chaudronnerie'!$3:9))),\"\")","v":{"$error":"#REF!"}},{"$f":"IF(ROWS('Charge atelier chaudronnerie'!$3:9)<=COUNTIF(nom,$AQ$2),INDEX(DatePriseOf,SMALL(IF(nom=$AQ$2,ROW(INDIRECT(\"1:\"&ROWS(Expr1)))),ROWS('Charge atelier chaudronnerie'!$3:9))),\"\")","v":{"$error":"#REF!"}},null,{"$f":"IF(ROWS('Charge atelier chaudronnerie'!$3:9)<=COUNTIF(nom,$AU$2),INDEX(Expr1,SMALL(IF(nom=$AU$2,ROW(INDIRECT(\"1:\"&ROWS(Expr1)))),ROWS('Charge atelier chaudronnerie'!$3:9))),\"\")","v":{"$error":"#REF!"}},{"$f":"IF(ROWS('Charge atelier chaudronnerie'!$3:9)<=COUNTIF(nom,$AU$2),INDEX(Expr2,SMALL(IF(nom=$AU$2,ROW(INDIRECT(\"1:\"&ROWS(Expr1)))),ROWS('Charge atelier chaudronnerie'!$3:9))),\"\")","v":{"$error":"#REF!"}},{"$f":"IF(ROWS('Charge atelier chaudronnerie'!$3:9)<=COUNTIF(nom,$AU$2),INDEX(DatePriseOf,SMALL(IF(nom=$AU$2,ROW(INDIRECT(\"1:\"&ROWS(Expr1)))),ROWS('Charge atelier chaudronnerie'!$3:9))),\"\")","v":{"$error":"#REF!"}},null,{"$f":"IF(ROWS('Charge atelier chaudronnerie'!$3:9)<=COUNTIF(nom,$AY$2),INDEX(Expr1,SMALL(IF(nom=$AY$2,ROW(INDIRECT(\"1:\"&ROWS(Expr1)))),ROWS('Charge atelier chaudronnerie'!$3:9))),\"\")","v":{"$error":"#REF!"}},{"$f":"IF(ROWS('Charge atelier chaudronnerie'!$3:9)<=COUNTIF(nom,$AY$2),INDEX(Expr2,SMALL(IF(nom=$AY$2,ROW(INDIRECT(\"1:\"&ROWS(Expr1)))),ROWS('Charge atelier chaudronnerie'!$3:9))),\"\")","v":{"$error":"#REF!"}},{"$f":"IF(ROWS('Charge atelier chaudronnerie'!$3:9)<=COUNTIF(nom,$AY$2),INDEX(DatePriseOf,SMALL(IF(nom=$AY$2,ROW(INDIRECT(\"1:\"&ROWS(Expr1)))),ROWS('Charge atelier chaudronnerie'!$3:9))),\"\")","v":{"$error":"#REF!"}},null,{"$f":"IF(ROWS('Charge atelier chaudronnerie'!$3:9)<=COUNTIF(nom,$BC$2),INDEX(Expr1,SMALL(IF(nom=$BC$2,ROW(INDIRECT(\"1:\"&ROWS(Expr1)))),ROWS('Charge atelier chaudronnerie'!$3:9))),\"\")","v":{"$error":"#REF!"}},{"$f":"IF(ROWS('Charge atelier chaudronnerie'!$3:9)<=COUNTIF(nom,$BC$2),INDEX(Expr2,SMALL(IF(nom=$BC$2,ROW(INDIRECT(\"1:\"&ROWS(Expr1)))),ROWS('Charge atelier chaudronnerie'!$3:9))),\"\")","v":{"$error":"#REF!"}},{"$f":"IF(ROWS('Charge atelier chaudronnerie'!$3:9)<=COUNTIF(nom,$BC$2),INDEX(DatePriseOf,SMALL(IF(nom=$BC$2,ROW(INDIRECT(\"1:\"&ROWS(Expr1)))),ROWS('Charge atelier chaudronnerie'!$3:9))),\"\")","v":{"$error":"#REF!"}},null,{"$f":"IF(ROWS('Charge atelier chaudronnerie'!$3:9)<=COUNTIF(nom,$BG$2),INDEX(Expr1,SMALL(IF(nom=$BG$2,ROW(INDIRECT(\"1:\"&ROWS(Expr1)))),ROWS('Charge atelier chaudronnerie'!$3:9))),\"\")","v":{"$error":"#REF!"}},{"$f":"IF(ROWS('Charge atelier chaudronnerie'!$3:9)<=COUNTIF(nom,$BG$2),INDEX(Expr2,SMALL(IF(nom=$BG$2,ROW(INDIRECT(\"1:\"&ROWS(Expr1)))),ROWS('Charge atelier chaudronnerie'!$3:9))),\"\")","v":{"$error":"#REF!"}},{"$f":"IF(ROWS('Charge atelier chaudronnerie'!$3:9)<=COUNTIF(nom,$BG$2),INDEX(DatePriseOf,SMALL(IF(nom=$BG$2,ROW(INDIRECT(\"1:\"&ROWS(Expr1)))),ROWS('Charge atelier chaudronnerie'!$3:9))),\"\")","v":{"$error":"#REF!"}},null,{"$f":"IF(ROWS('Charge atelier chaudronnerie'!$3:9)<=COUNTIF(nom,$BK$2),INDEX(Expr1,SMALL(IF(nom=$BK$2,ROW(INDIRECT(\"1:\"&ROWS(Expr1)))),ROWS('Charge atelier chaudronnerie'!$3:9))),\"\")","v":{"$error":"#REF!"}},{"$f":"IF(ROWS('Charge atelier chaudronnerie'!$3:9)<=COUNTIF(nom,$BK$2),INDEX(Expr2,SMALL(IF(nom=$BK$2,ROW(INDIRECT(\"1:\"&ROWS(Expr1)))),ROWS('Charge atelier chaudronnerie'!$3:9))),\"\")","v":{"$error":"#REF!"}},{"$f":"IF(ROWS('Charge atelier chaudronnerie'!$3:9)<=COUNTIF(nom,$BK$2),INDEX(DatePriseOf,SMALL(IF(nom=$BK$2,ROW(INDIRECT(\"1:\"&ROWS(Expr1)))),ROWS('Charge atelier chaudronnerie'!$3:9))),\"\")","v":{"$error":"#REF!"}},null,{"$f":"IF(ROWS('Charge atelier chaudronnerie'!$3:7)<=COUNTIF(nom,$BO$2),INDEX(Expr1,SMALL(IF(nom=$BO$2,ROW(INDIRECT(\"1:\"&ROWS(Expr1)))),ROWS('Charge atelier chaudronnerie'!$3:7))),\"\")","v":{"$error":"#REF!"}},{"$f":"IF(ROWS('Charge atelier chaudronnerie'!$3:7)<=COUNTIF(nom,$BO$2),INDEX(Expr2,SMALL(IF(nom=$BO$2,ROW(INDIRECT(\"1:\"&ROWS(Expr1)))),ROWS('Charge atelier chaudronnerie'!$3:7))),\"\")","v":{"$error":"#REF!"}},{"$f":"IF(ROWS('Charge atelier chaudronnerie'!$3:7)<=COUNTIF(nom,$BO$2),INDEX(DatePriseOf,SMALL(IF(nom=$BO$2,ROW(INDIRECT(\"1:\"&ROWS(Expr1)))),ROWS('Charge atelier chaudronnerie'!$3:7))),\"\")","v":{"$error":"#REF!"}},null,{"$f":"IF(ROWS('Charge atelier chaudronnerie'!$3:7)<=COUNTIF(nom,$BS$2),INDEX(Expr1,SMALL(IF(nom=$BS$2,ROW(INDIRECT(\"1:\"&ROWS(Expr1)))),ROWS('Charge atelier chaudronnerie'!$3:7))),\"\")","v":{"$error":"#REF!"}},{"$f":"IF(ROWS('Charge atelier chaudronnerie'!$3:7)<=COUNTIF(nom,$BS$2),INDEX(Expr2,SMALL(IF(nom=$BS$2,ROW(INDIRECT(\"1:\"&ROWS(Expr1)))),ROWS('Charge atelier chaudronnerie'!$3:7))),\"\")","v":{"$error":"#REF!"}},{"$f":"IF(ROWS('Charge atelier chaudronnerie'!$3:7)<=COUNTIF(nom,$BS$2),INDEX(DatePriseOf,SMALL(IF(nom=$BS$2,ROW(INDIRECT(\"1:\"&ROWS(Expr1)))),ROWS('Charge atelier chaudronnerie'!$3:7))),\"\")","v":{"$error":"#REF!"}}]
["greg","LARRAZET",{"$f":"IF(ROWS('Charge atelier chaudronnerie'!$3:10)<=COUNTIF(nom,$C$2),INDEX(Expr1,SMALL(IF(nom=$C$2,ROW(INDIRECT(\"1:\"&ROWS(Expr1)))),ROWS('Charge atelier chaudronnerie'!$3:10))),\"\")","v":{"$error":"#REF!"}},{"$f":"IF(ROWS('Charge atelier chaudronnerie'!$3:10)<=COUNTIF(nom,$C$2),INDEX(Expr2,SMALL(IF(nom=$C$2,ROW(INDIRECT(\"1:\"&ROWS(Expr1)))),ROWS('Charge atelier chaudronnerie'!$3:10))),\"\")","v":{"$error":"#REF!"}},{"$f":"IF(ROWS('Charge atelier chaudronnerie'!$3:10)<=COUNTIF(nom,$C$2),INDEX(DatePriseOf,SMALL(IF(nom=$C$2,ROW(INDIRECT(\"1:\"&ROWS(Expr1)))),ROWS('Charge atelier chaudronnerie'!$3:10))),\"\")","v":{"$error":"#REF!"}},null,{"$f":"IF(ROWS('Charge atelier chaudronnerie'!$3:10)<=COUNTIF(nom,$G$2),INDEX(Expr1,SMALL(IF(nom=$G$2,ROW(INDIRECT(\"1:\"&ROWS(Expr1)))),ROWS('Charge atelier chaudronnerie'!$3:10))),\"\")","v":{"$error":"#REF!"}},{"$f":"IF(ROWS('Charge atelier chaudronnerie'!$3:10)<=COUNTIF(nom,$G$2),INDEX(Expr2,SMALL(IF(nom=$G$2,ROW(INDIRECT(\"1:\"&ROWS(Expr1)))),ROWS('Charge atelier chaudronnerie'!$3:10))),\"\")","v":{"$error":"#REF!"}},{"$f":"IF(ROWS('Charge atelier chaudronnerie'!$3:10)<=COUNTIF(nom,$G$2),INDEX(DatePriseOf,SMALL(IF(nom=$G$2,ROW(INDIRECT(\"1:\"&ROWS(Expr1)))),ROWS('Charge atelier chaudronnerie'!$3:10))),\"\")","v":{"$error":"#REF!"}},null,{"$f":"IF(ROWS('Charge atelier chaudronnerie'!$3:10)<=COUNTIF(nom,$K$2),INDEX(Expr1,SMALL(IF(nom=$K$2,ROW(INDIRECT(\"1:\"&ROWS(Expr1)))),ROWS('Charge atelier chaudronnerie'!$3:10))),\"\")","v":{"$error":"#REF!"}},{"$f":"IF(ROWS('Charge atelier chaudronnerie'!$3:10)<=COUNTIF(nom,$K$2),INDEX(Expr2,SMALL(IF(nom=$K$2,ROW(INDIRECT(\"1:\"&ROWS(Expr1)))),ROWS('Charge atelier chaudronnerie'!$3:10))),\"\")","v":{"$error":"#REF!"}},{"$f":"IF(ROWS('Charge atelier chaudronnerie'!$3:10)<=COUNTIF(nom,$K$2),INDEX(DatePriseOf,SMALL(IF(nom=$K$2,ROW(INDIRECT(\"1:\"&ROWS(Expr1)))),ROWS('Charge atelier chaudronnerie'!$3:10))),\"\")","v":{"$error":"#REF!"}},null,{"$f":"IF(ROWS('Charge atelier chaudronnerie'!$3:10)<=COUNTIF(nom,$O$2),INDEX(Expr1,SMALL(IF(nom=$O$2,ROW(INDIRECT(\"1:\"&ROWS(Expr1)))),ROWS('Charge atelier chaudronnerie'!$3:10))),\"\")","v":{"$error":"#REF!"}},{"$f":"IF(ROWS('Charge atelier chaudronnerie'!$3:10)<=COUNTIF(nom,$O$2),INDEX(Expr2,SMALL(IF(nom=$O$2,ROW(INDIRECT(\"1:\"&ROWS(Expr1)))),ROWS('Charge atelier chaudronnerie'!$3:10))),\"\")","v":{"$error":"#REF!"}},{"$f":"IF(ROWS('Charge atelier chaudronnerie'!$3:10)<=COUNTIF(nom,$O$2),INDEX(DatePriseOf,SMALL(IF(nom=$O$2,ROW(INDIRECT(\"1:\"&ROWS(Expr1)))),ROWS('Charge atelier chaudronnerie'!$3:10))),\"\")","v":{"$error":"#REF!"}},null,{"$f":"IF(ROWS('Charge atelier chaudronnerie'!$3:10)<=COUNTIF(nom,$S$2),INDEX(Expr1,SMALL(IF(nom=$S$2,ROW(INDIRECT(\"1:\"&ROWS(Expr1)))),ROWS('Charge atelier chaudronnerie'!$3:10))),\"\")","v":{"$error":"#REF!"}},{"$f":"IF(ROWS('Charge atelier chaudronnerie'!$3:10)<=COUNTIF(nom,$S$2),INDEX(Expr2,SMALL(IF(nom=$S$2,ROW(INDIRECT(\"1:\"&ROWS(Expr1)))),ROWS('Charge atelier chaudronnerie'!$3:10))),\"\")","v":{"$error":"#REF!"}},{"$f":"IF(ROWS('Charge atelier chaudronnerie'!$3:10)<=COUNTIF(nom,$S$2),INDEX(DatePriseOf,SMALL(IF(nom=$S$2,ROW(INDIRECT(\"1:\"&ROWS(Expr1)))),ROWS('Charge atelier chaudronnerie'!$3:10))),\"\")","v":{"$error":"#REF!"}},null,{"$f":"IF(ROWS('Charge atelier chaudronnerie'!$3:10)<=COUNTIF(nom,$W$2),INDEX(Expr1,SMALL(IF(nom=$W$2,ROW(INDIRECT(\"1:\"&ROWS(Expr1)))),ROWS('Charge atelier chaudronnerie'!$3:10))),\"\")","v":{"$error":"#REF!"}},{"$f":"IF(ROWS('Charge atelier chaudronnerie'!$3:10)<=COUNTIF(nom,$W$2),INDEX(Expr2,SMALL(IF(nom=$W$2,ROW(INDIRECT(\"1:\"&ROWS(Expr1)))),ROWS('Charge atelier chaudronnerie'!$3:10))),\"\")","v":{"$error":"#REF!"}},{"$f":"IF(ROWS('Charge atelier chaudronnerie'!$3:10)<=COUNTIF(nom,$W$2),INDEX(DatePriseOf,SMALL(IF(nom=$W$2,ROW(INDIRECT(\"1:\"&ROWS(Expr1)))),ROWS('Charge atelier chaudronnerie'!$3:10))),\"\")","v":{"$error":"#REF!"}},null,{"$f":"IF(ROWS('Charge atelier chaudronnerie'!$3:10)<=COUNTIF(nom,$AA$2),INDEX(Expr1,SMALL(IF(nom=$AA$2,ROW(INDIRECT(\"1:\"&ROWS(Expr1)))),ROWS('Charge atelier chaudronnerie'!$3:10))),\"\")","v":{"$error":"#REF!"}},{"$f":"IF(ROWS('Charge atelier chaudronnerie'!$3:10)<=COUNTIF(nom,$AA$2),INDEX(Expr2,SMALL(IF(nom=$AA$2,ROW(INDIRECT(\"1:\"&ROWS(Expr1)))),ROWS('Charge atelier chaudronnerie'!$3:10))),\"\")","v":{"$error":"#REF!"}},{"$f":"IF(ROWS('Charge atelier chaudronnerie'!$3:10)<=COUNTIF(nom,$AA$2),INDEX(DatePriseOf,SMALL(IF(nom=$AA$2,ROW(INDIRECT(\"1:\"&ROWS(Expr1)))),ROWS('Charge atelier chaudronnerie'!$3:10))),\"\")","v":{"$error":"#REF!"}},null,{"$f":"IF(ROWS('Charge atelier chaudronnerie'!$3:10)<=COUNTIF(nom,$AE$2),INDEX(Expr1,SMALL(IF(nom=$AE$2,ROW(INDIRECT(\"1:\"&ROWS(Expr1)))),ROWS('Charge atelier chaudronnerie'!$3:10))),\"\")","v":{"$error":"#REF!"}},{"$f":"IF(ROWS('Charge atelier chaudronnerie'!$3:10)<=COUNTIF(nom,$AE$2),INDEX(Expr2,SMALL(IF(nom=$AE$2,ROW(INDIRECT(\"1:\"&ROWS(Expr1)))),ROWS('Charge atelier chaudronnerie'!$3:10))),\"\")","v":{"$error":"#REF!"}},{"$f":"IF(ROWS('Charge atelier chaudronnerie'!$3:10)<=COUNTIF(nom,$AE$2),INDEX(DatePriseOf,SMALL(IF(nom=$AE$2,ROW(INDIRECT(\"1:\"&ROWS(Expr1)))),ROWS('Charge atelier chaudronnerie'!$3:10))),\"\")","v":{"$error":"#REF!"}},null,{"$f":"IF(ROWS('Charge atelier chaudronnerie'!$3:10)<=COUNTIF(nom,$AI$2),INDEX(Expr1,SMALL(IF(nom=$AI$2,ROW(INDIRECT(\"1:\"&ROWS(Expr1)))),ROWS('Charge atelier chaudronnerie'!$3:10))),\"\")","v":{"$error":"#REF!"}},{"$f":"IF(ROWS('Charge atelier chaudronnerie'!$3:10)<=COUNTIF(nom,$AI$2),INDEX(Expr2,SMALL(IF(nom=$AI$2,ROW(INDIRECT(\"1:\"&ROWS(Expr1)))),ROWS('Charge atelier chaudronnerie'!$3:10))),\"\")","v":{"$error":"#REF!"}},{"$f":"IF(ROWS('Charge atelier chaudronnerie'!$3:10)<=COUNTIF(nom,$AI$2),INDEX(DatePriseOf,SMALL(IF(nom=$AI$2,ROW(INDIRECT(\"1:\"&ROWS(Expr1)))),ROWS('Charge atelier chaudronnerie'!$3:10))),\"\")","v":{"$error":"#REF!"}},null,{"$f":"IF(ROWS('Charge atelier chaudronnerie'!$3:10)<=COUNTIF(nom,$AM$2),INDEX(Expr1,SMALL(IF(nom=$AM$2,ROW(INDIRECT(\"1:\"&ROWS(Expr1)))),ROWS('Charge atelier chaudronnerie'!$3:10))),\"\")","v":{"$error":"#REF!"}},{"$f":"IF(ROWS('Charge atelier chaudronnerie'!$3:10)<=COUNTIF(nom,$AM$2),INDEX(Expr2,SMALL(IF(nom=$AM$2,ROW(INDIRECT(\"1:\"&ROWS(Expr1)))),ROWS('Charge atelier chaudronnerie'!$3:10))),\"\")","v":{"$error":"#REF!"}},{"$f":"IF(ROWS('Charge atelier chaudronnerie'!$3:10)<=COUNTIF(nom,$AM$2),INDEX(DatePriseOf,SMALL(IF(nom=$AM$2,ROW(INDIRECT(\"1:\"&ROWS(Expr1)))),ROWS('Charge atelier chaudronnerie'!$3:10))),\"\")","v":{"$error":"#REF!"}},null,{"$f":"IF(ROWS('Charge atelier chaudronnerie'!$3:10)<=COUNTIF(nom,$AQ$2),INDEX(Expr1,SMALL(IF(nom=$AQ$2,ROW(INDIRECT(\"1:\"&ROWS(Expr1)))),ROWS('Charge atelier chaudronnerie'!$3:10))),\"\")","v":{"$error":"#REF!"}},{"$f":"IF(ROWS('Charge atelier chaudronnerie'!$3:10)<=COUNTIF(nom,$AQ$2),INDEX(Expr2,SMALL(IF(nom=$AQ$2,ROW(INDIRECT(\"1:\"&ROWS(Expr1)))),ROWS('Charge atelier chaudronnerie'!$3:10))),\"\")","v":{"$error":"#REF!"}},{"$f":"IF(ROWS('Charge atelier chaudronnerie'!$3:10)<=COUNTIF(nom,$AQ$2),INDEX(DatePriseOf,SMALL(IF(nom=$AQ$2,ROW(INDIRECT(\"1:\"&ROWS(Expr1)))),ROWS('Charge atelier chaudronnerie'!$3:10))),\"\")","v":{"$error":"#REF!"}},null,{"$f":"IF(ROWS('Charge atelier chaudronnerie'!$3:10)<=COUNTIF(nom,$AU$2),INDEX(Expr1,SMALL(IF(nom=$AU$2,ROW(INDIRECT(\"1:\"&ROWS(Expr1)))),ROWS('Charge atelier chaudronnerie'!$3:10))),\"\")","v":{"$error":"#REF!"}},{"$f":"IF(ROWS('Charge atelier chaudronnerie'!$3:10)<=COUNTIF(nom,$AU$2),INDEX(Expr2,SMALL(IF(nom=$AU$2,ROW(INDIRECT(\"1:\"&ROWS(Expr1)))),ROWS('Charge atelier chaudronnerie'!$3:10))),\"\")","v":{"$error":"#REF!"}},{"$f":"IF(ROWS('Charge atelier chaudronnerie'!$3:10)<=COUNTIF(nom,$AU$2),INDEX(DatePriseOf,SMALL(IF(nom=$AU$2,ROW(INDIRECT(\"1:\"&ROWS(Expr1)))),ROWS('Charge atelier chaudronnerie'!$3:10))),\"\")","v":{"$error":"#REF!"}},null,{"$f":"IF(ROWS('Charge atelier chaudronnerie'!$3:10)<=COUNTIF(nom,$AY$2),INDEX(Expr1,SMALL(IF(nom=$AY$2,ROW(INDIRECT(\"1:\"&ROWS(Expr1)))),ROWS('Charge atelier chaudronnerie'!$3:10))),\"\")","v":{"$error":"#REF!"}},{"$f":"IF(ROWS('Charge atelier chaudronnerie'!$3:10)<=COUNTIF(nom,$AY$2),INDEX(Expr2,SMALL(IF(nom=$AY$2,ROW(INDIRECT(\"1:\"&ROWS(Expr1)))),ROWS('Charge atelier chaudronnerie'!$3:10))),\"\")","v":{"$error":"#REF!"}},{"$f":"IF(ROWS('Charge atelier chaudronnerie'!$3:10)<=COUNTIF(nom,$AY$2),INDEX(DatePriseOf,SMALL(IF(nom=$AY$2,ROW(INDIRECT(\"1:\"&ROWS(Expr1)))),ROWS('Charge atelier chaudronnerie'!$3:10))),\"\")","v":{"$error":"#REF!"}},null,{"$f":"IF(ROWS('Charge atelier chaudronnerie'!$3:10)<=COUNTIF(nom,$BC$2),INDEX(Expr1,SMALL(IF(nom=$BC$2,ROW(INDIRECT(\"1:\"&ROWS(Expr1)))),ROWS('Charge atelier chaudronnerie'!$3:10))),\"\")","v":{"$error":"#REF!"}},{"$f":"IF(ROWS('Charge atelier chaudronnerie'!$3:10)<=COUNTIF(nom,$BC$2),INDEX(Expr2,SMALL(IF(nom=$BC$2,ROW(INDIRECT(\"1:\"&ROWS(Expr1)))),ROWS('Charge atelier chaudronnerie'!$3:10))),\"\")","v":{"$error":"#REF!"}},{"$f":"IF(ROWS('Charge atelier chaudronnerie'!$3:10)<=COUNTIF(nom,$BC$2),INDEX(DatePriseOf,SMALL(IF(nom=$BC$2,ROW(INDIRECT(\"1:\"&ROWS(Expr1)))),ROWS('Charge atelier chaudronnerie'!$3:10))),\"\")","v":{"$error":"#REF!"}},null,{"$f":"IF(ROWS('Charge atelier chaudronnerie'!$3:10)<=COUNTIF(nom,$BG$2),INDEX(Expr1,SMALL(IF(nom=$BG$2,ROW(INDIRECT(\"1:\"&ROWS(Expr1)))),ROWS('Charge atelier chaudronnerie'!$3:10))),\"\")","v":{"$error":"#REF!"}},{"$f":"IF(ROWS('Charge atelier chaudronnerie'!$3:10)<=COUNTIF(nom,$BG$2),INDEX(Expr2,SMALL(IF(nom=$BG$2,ROW(INDIRECT(\"1:\"&ROWS(Expr1)))),ROWS('Charge atelier chaudronnerie'!$3:10))),\"\")","v":{"$error":"#REF!"}},{"$f":"IF(ROWS('Charge atelier chaudronnerie'!$3:10)<=COUNTIF(nom,$BG$2),INDEX(DatePriseOf,SMALL(IF(nom=$BG$2,ROW(INDIRECT(\"1:\"&ROWS(Expr1)))),ROWS('Charge atelier chaudronnerie'!$3:10))),\"\")","v":{"$error":"#REF!"}},null,{"$f":"IF(ROWS('Charge atelier chaudronnerie'!$3:10)<=COUNTIF(nom,$BK$2),INDEX(Expr1,SMALL(IF(nom=$BK$2,ROW(INDIRECT(\"1:\"&ROWS(Expr1)))),ROWS('Charge atelier chaudronnerie'!$3:10))),\"\")","v":{"$error":"#REF!"}},{"$f":"IF(ROWS('Charge atelier chaudronnerie'!$3:10)<=COUNTIF(nom,$BK$2),INDEX(Expr2,SMALL(IF(nom=$BK$2,ROW(INDIRECT(\"1:\"&ROWS(Expr1)))),ROWS('Charge atelier chaudronnerie'!$3:10))),\"\")","v":{"$error":"#REF!"}},{"$f":"IF(ROWS('Charge atelier chaudronnerie'!$3:10)<=COUNTIF(nom,$BK$2),INDEX(DatePriseOf,SMALL(IF(nom=$BK$2,ROW(INDIRECT(\"1:\"&ROWS(Expr1)))),ROWS('Charge atelier chaudronnerie'!$3:10))),\"\")","v":{"$error":"#REF!"}},null,{"$f":"IF(ROWS('Charge atelier chaudronnerie'!$3:8)<=COUNTIF(nom,$BO$2),INDEX(Expr1,SMALL(IF(nom=$BO$2,ROW(INDIRECT(\"1:\"&ROWS(Expr1)))),ROWS('Charge atelier chaudronnerie'!$3:8))),\"\")","v":{"$error":"#REF!"}},{"$f":"IF(ROWS('Charge atelier chaudronnerie'!$3:8)<=COUNTIF(nom,$BO$2),INDEX(Expr2,SMALL(IF(nom=$BO$2,ROW(INDIRECT(\"1:\"&ROWS(Expr1)))),ROWS('Charge atelier chaudronnerie'!$3:8))),\"\")","v":{"$error":"#REF!"}},{"$f":"IF(ROWS('Charge atelier chaudronnerie'!$3:8)<=COUNTIF(nom,$BO$2),INDEX(DatePriseOf,SMALL(IF(nom=$BO$2,ROW(INDIRECT(\"1:\"&ROWS(Expr1)))),ROWS('Charge atelier chaudronnerie'!$3:8))),\"\")","v":{"$error":"#REF!"}},null,{"$f":"IF(ROWS('Charge atelier chaudronnerie'!$3:8)<=COUNTIF(nom,$BS$2),INDEX(Expr1,SMALL(IF(nom=$BS$2,ROW(INDIRECT(\"1:\"&ROWS(Expr1)))),ROWS('Charge atelier chaudronnerie'!$3:8))),\"\")","v":{"$error":"#REF!"}},{"$f":"IF(ROWS('Charge atelier chaudronnerie'!$3:8)<=COUNTIF(nom,$BS$2),INDEX(Expr2,SMALL(IF(nom=$BS$2,ROW(INDIRECT(\"1:\"&ROWS(Expr1)))),ROWS('Charge atelier chaudronnerie'!$3:8))),\"\")","v":{"$error":"#REF!"}},{"$f":"IF(ROWS('Charge atelier chaudronnerie'!$3:8)<=COUNTIF(nom,$BS$2),INDEX(DatePriseOf,SMALL(IF(nom=$BS$2,ROW(INDIRECT(\"1:\"&ROWS(Expr1)))),ROWS('Charge atelier chaudronnerie'!$3:8))),\"\")","v":{"$error":"#REF!"}}]
["max","PEDRERO",{"$f":"IF(ROWS('Charge atelier chaudronnerie'!$3:11)<=COUNTIF(nom,$C$2),INDEX(Expr1,SMALL(IF(nom=$C$2,ROW(INDIRECT(\"1:\"&ROWS(Expr1)))),ROWS('Charge atelier chaudronnerie'!$3:11))),\"\")","v":{"$error":"#REF!"}},{"$f":"IF(ROWS('Charge atelier chaudronnerie'!$3:11)<=COUNTIF(nom,$C$2),INDEX(Expr2,SMALL(IF(nom=$C$2,ROW(INDIRECT(\"1:\"&ROWS(Expr1)))),ROWS('Charge atelier chaudronnerie'!$3:11))),\"\")","v":{"$error":"#REF!"}},{"$f":"IF(ROWS('Charge atelier chaudronnerie'!$3:11)<=COUNTIF(nom,$C$2),INDEX(DatePriseOf,SMALL(IF(nom=$C$2,ROW(INDIRECT(\"1:\"&ROWS(Expr1)))),ROWS('Charge atelier chaudronnerie'!$3:11))),\"\")","v":{"$error":"#REF!"}},null,{"$f":"IF(ROWS('Charge atelier chaudronnerie'!$3:11)<=COUNTIF(nom,$G$2),INDEX(Expr1,SMALL(IF(nom=$G$2,ROW(INDIRECT(\"1:\"&ROWS(Expr1)))),ROWS('Charge atelier chaudronnerie'!$3:11))),\"\")","v":{"$error":"#REF!"}},{"$f":"IF(ROWS('Charge atelier chaudronnerie'!$3:11)<=COUNTIF(nom,$G$2),INDEX(Expr2,SMALL(IF(nom=$G$2,ROW(INDIRECT(\"1:\"&ROWS(Expr1)))),ROWS('Charge atelier chaudronnerie'!$3:11))),\"\")","v":{"$error":"#REF!"}},{"$f":"IF(ROWS('Charge atelier chaudronnerie'!$3:11)<=COUNTIF(nom,$G$2),INDEX(DatePriseOf,SMALL(IF(nom=$G$2,ROW(INDIRECT(\"1:\"&ROWS(Expr1)))),ROWS('Charge atelier chaudronnerie'!$3:11))),\"\")","v":{"$error":"#REF!"}},null,{"$f":"IF(ROWS('Charge atelier chaudronnerie'!$3:11)<=COUNTIF(nom,$K$2),INDEX(Expr1,SMALL(IF(nom=$K$2,ROW(INDIRECT(\"1:\"&ROWS(Expr1)))),ROWS('Charge atelier chaudronnerie'!$3:11))),\"\")","v":{"$error":"#REF!"}},{"$f":"IF(ROWS('Charge atelier chaudronnerie'!$3:11)<=COUNTIF(nom,$K$2),INDEX(Expr2,SMALL(IF(nom=$K$2,ROW(INDIRECT(\"1:\"&ROWS(Expr1)))),ROWS('Charge atelier chaudronnerie'!$3:11))),\"\")","v":{"$error":"#REF!"}},{"$f":"IF(ROWS('Charge atelier chaudronnerie'!$3:11)<=COUNTIF(nom,$K$2),INDEX(DatePriseOf,SMALL(IF(nom=$K$2,ROW(INDIRECT(\"1:\"&ROWS(Expr1)))),ROWS('Charge atelier chaudronnerie'!$3:11))),\"\")","v":{"$error":"#REF!"}},null,{"$f":"IF(ROWS('Charge atelier chaudronnerie'!$3:11)<=COUNTIF(nom,$O$2),INDEX(Expr1,SMALL(IF(nom=$O$2,ROW(INDIRECT(\"1:\"&ROWS(Expr1)))),ROWS('Charge atelier chaudronnerie'!$3:11))),\"\")","v":{"$error":"#REF!"}},{"$f":"IF(ROWS('Charge atelier chaudronnerie'!$3:11)<=COUNTIF(nom,$O$2),INDEX(Expr2,SMALL(IF(nom=$O$2,ROW(INDIRECT(\"1:\"&ROWS(Expr1)))),ROWS('Charge atelier chaudronnerie'!$3:11))),\"\")","v":{"$error":"#REF!"}},{"$f":"IF(ROWS('Charge atelier chaudronnerie'!$3:11)<=COUNTIF(nom,$O$2),INDEX(DatePriseOf,SMALL(IF(nom=$O$2,ROW(INDIRECT(\"1:\"&ROWS(Expr1)))),ROWS('Charge atelier chaudronnerie'!$3:11))),\"\")","v":{"$error":"#REF!"}},null,{"$f":"IF(ROWS('Charge atelier chaudronnerie'!$3:11)<=COUNTIF(nom,$S$2),INDEX(Expr1,SMALL(IF(nom=$S$2,ROW(INDIRECT(\"1:\"&ROWS(Expr1)))),ROWS('Charge atelier chaudronnerie'!$3:11))),\"\")","v":{"$error":"#REF!"}},{"$f":"IF(ROWS('Charge atelier chaudronnerie'!$3:11)<=COUNTIF(nom,$S$2),INDEX(Expr2,SMALL(IF(nom=$S$2,ROW(INDIRECT(\"1:\"&ROWS(Expr1)))),ROWS('Charge atelier chaudronnerie'!$3:11))),\"\")","v":{"$error":"#REF!"}},{"$f":"IF(ROWS('Charge atelier chaudronnerie'!$3:11)<=COUNTIF(nom,$S$2),INDEX(DatePriseOf,SMALL(IF(nom=$S$2,ROW(INDIRECT(\"1:\"&ROWS(Expr1)))),ROWS('Charge atelier chaudronnerie'!$3:11))),\"\")","v":{"$error":"#REF!"}},null,{"$f":"IF(ROWS('Charge atelier chaudronnerie'!$3:11)<=COUNTIF(nom,$W$2),INDEX(Expr1,SMALL(IF(nom=$W$2,ROW(INDIRECT(\"1:\"&ROWS(Expr1)))),ROWS('Charge atelier chaudronnerie'!$3:11))),\"\")","v":{"$error":"#REF!"}},{"$f":"IF(ROWS('Charge atelier chaudronnerie'!$3:11)<=COUNTIF(nom,$W$2),INDEX(Expr2,SMALL(IF(nom=$W$2,ROW(INDIRECT(\"1:\"&ROWS(Expr1)))),ROWS('Charge atelier chaudronnerie'!$3:11))),\"\")","v":{"$error":"#REF!"}},{"$f":"IF(ROWS('Charge atelier chaudronnerie'!$3:11)<=COUNTIF(nom,$W$2),INDEX(DatePriseOf,SMALL(IF(nom=$W$2,ROW(INDIRECT(\"1:\"&ROWS(Expr1)))),ROWS('Charge atelier chaudronnerie'!$3:11))),\"\")","v":{"$error":"#REF!"}},null,{"$f":"IF(ROWS('Charge atelier chaudronnerie'!$3:11)<=COUNTIF(nom,$AA$2),INDEX(Expr1,SMALL(IF(nom=$AA$2,ROW(INDIRECT(\"1:\"&ROWS(Expr1)))),ROWS('Charge atelier chaudronnerie'!$3:11))),\"\")","v":{"$error":"#REF!"}},{"$f":"IF(ROWS('Charge atelier chaudronnerie'!$3:11)<=COUNTIF(nom,$AA$2),INDEX(Expr2,SMALL(IF(nom=$AA$2,ROW(INDIRECT(\"1:\"&ROWS(Expr1)))),ROWS('Charge atelier chaudronnerie'!$3:11))),\"\")","v":{"$error":"#REF!"}},{"$f":"IF(ROWS('Charge atelier chaudronnerie'!$3:11)<=COUNTIF(nom,$AA$2),INDEX(DatePriseOf,SMALL(IF(nom=$AA$2,ROW(INDIRECT(\"1:\"&ROWS(Expr1)))),ROWS('Charge atelier chaudronnerie'!$3:11))),\"\")","v":{"$error":"#REF!"}},null,{"$f":"IF(ROWS('Charge atelier chaudronnerie'!$3:11)<=COUNTIF(nom,$AE$2),INDEX(Expr1,SMALL(IF(nom=$AE$2,ROW(INDIRECT(\"1:\"&ROWS(Expr1)))),ROWS('Charge atelier chaudronnerie'!$3:11))),\"\")","v":{"$error":"#REF!"}},{"$f":"IF(ROWS('Charge atelier chaudronnerie'!$3:11)<=COUNTIF(nom,$AE$2),INDEX(Expr2,SMALL(IF(nom=$AE$2,ROW(INDIRECT(\"1:\"&ROWS(Expr1)))),ROWS('Charge atelier chaudronnerie'!$3:11))),\"\")","v":{"$error":"#REF!"}},{"$f":"IF(ROWS('Charge atelier chaudronnerie'!$3:11)<=COUNTIF(nom,$AE$2),INDEX(DatePriseOf,SMALL(IF(nom=$AE$2,ROW(INDIRECT(\"1:\"&ROWS(Expr1)))),ROWS('Charge atelier chaudronnerie'!$3:11))),\"\")","v":{"$error":"#REF!"}},null,{"$f":"IF(ROWS('Charge atelier chaudronnerie'!$3:11)<=COUNTIF(nom,$AI$2),INDEX(Expr1,SMALL(IF(nom=$AI$2,ROW(INDIRECT(\"1:\"&ROWS(Expr1)))),ROWS('Charge atelier chaudronnerie'!$3:11))),\"\")","v":{"$error":"#REF!"}},{"$f":"IF(ROWS('Charge atelier chaudronnerie'!$3:11)<=COUNTIF(nom,$AI$2),INDEX(Expr2,SMALL(IF(nom=$AI$2,ROW(INDIRECT(\"1:\"&ROWS(Expr1)))),ROWS('Charge atelier chaudronnerie'!$3:11))),\"\")","v":{"$error":"#REF!"}},{"$f":"IF(ROWS('Charge atelier chaudronnerie'!$3:11)<=COUNTIF(nom,$AI$2),INDEX(DatePriseOf,SMALL(IF(nom=$AI$2,ROW(INDIRECT(\"1:\"&ROWS(Expr1)))),ROWS('Charge atelier chaudronnerie'!$3:11))),\"\")","v":{"$error":"#REF!"}},null,{"$f":"IF(ROWS('Charge atelier chaudronnerie'!$3:11)<=COUNTIF(nom,$AM$2),INDEX(Expr1,SMALL(IF(nom=$AM$2,ROW(INDIRECT(\"1:\"&ROWS(Expr1)))),ROWS('Charge atelier chaudronnerie'!$3:11))),\"\")","v":{"$error":"#REF!"}},{"$f":"IF(ROWS('Charge atelier chaudronnerie'!$3:11)<=COUNTIF(nom,$AM$2),INDEX(Expr2,SMALL(IF(nom=$AM$2,ROW(INDIRECT(\"1:\"&ROWS(Expr1)))),ROWS('Charge atelier chaudronnerie'!$3:11))),\"\")","v":{"$error":"#REF!"}},{"$f":"IF(ROWS('Charge atelier chaudronnerie'!$3:11)<=COUNTIF(nom,$AM$2),INDEX(DatePriseOf,SMALL(IF(nom=$AM$2,ROW(INDIRECT(\"1:\"&ROWS(Expr1)))),ROWS('Charge atelier chaudronnerie'!$3:11))),\"\")","v":{"$error":"#REF!"}},null,{"$f":"IF(ROWS('Charge atelier chaudronnerie'!$3:11)<=COUNTIF(nom,$AQ$2),INDEX(Expr1,SMALL(IF(nom=$AQ$2,ROW(INDIRECT(\"1:\"&ROWS(Expr1)))),ROWS('Charge atelier chaudronnerie'!$3:11))),\"\")","v":{"$error":"#REF!"}},{"$f":"IF(ROWS('Charge atelier chaudronnerie'!$3:11)<=COUNTIF(nom,$AQ$2),INDEX(Expr2,SMALL(IF(nom=$AQ$2,ROW(INDIRECT(\"1:\"&ROWS(Expr1)))),ROWS('Charge atelier chaudronnerie'!$3:11))),\"\")","v":{"$error":"#REF!"}},{"$f":"IF(ROWS('Charge atelier chaudronnerie'!$3:11)<=COUNTIF(nom,$AQ$2),INDEX(DatePriseOf,SMALL(IF(nom=$AQ$2,ROW(INDIRECT(\"1:\"&ROWS(Expr1)))),ROWS('Charge atelier chaudronnerie'!$3:11))),\"\")","v":{"$error":"#REF!"}},null,{"$f":"IF(ROWS('Charge atelier chaudronnerie'!$3:11)<=COUNTIF(nom,$AU$2),INDEX(Expr1,SMALL(IF(nom=$AU$2,ROW(INDIRECT(\"1:\"&ROWS(Expr1)))),ROWS('Charge atelier chaudronnerie'!$3:11))),\"\")","v":{"$error":"#REF!"}},{"$f":"IF(ROWS('Charge atelier chaudronnerie'!$3:11)<=COUNTIF(nom,$AU$2),INDEX(Expr2,SMALL(IF(nom=$AU$2,ROW(INDIRECT(\"1:\"&ROWS(Expr1)))),ROWS('Charge atelier chaudronnerie'!$3:11))),\"\")","v":{"$error":"#REF!"}},{"$f":"IF(ROWS('Charge atelier chaudronnerie'!$3:11)<=COUNTIF(nom,$AU$2),INDEX(DatePriseOf,SMALL(IF(nom=$AU$2,ROW(INDIRECT(\"1:\"&ROWS(Expr1)))),ROWS('Charge atelier chaudronnerie'!$3:11))),\"\")","v":{"$error":"#REF!"}},null,{"$f":"IF(ROWS('Charge atelier chaudronnerie'!$3:11)<=COUNTIF(nom,$AY$2),INDEX(Expr1,SMALL(IF(nom=$AY$2,ROW(INDIRECT(\"1:\"&ROWS(Expr1)))),ROWS('Charge atelier chaudronnerie'!$3:11))),\"\")","v":{"$error":"#REF!"}},{"$f":"IF(ROWS('Charge atelier chaudronnerie'!$3:11)<=COUNTIF(nom,$AY$2),INDEX(Expr2,SMALL(IF(nom=$AY$2,ROW(INDIRECT(\"1:\"&ROWS(Expr1)))),ROWS('Charge atelier chaudronnerie'!$3:11))),\"\")","v":{"$error":"#REF!"}},{"$f":"IF(ROWS('Charge atelier chaudronnerie'!$3:11)<=COUNTIF(nom,$AY$2),INDEX(DatePriseOf,SMALL(IF(nom=$AY$2,ROW(INDIRECT(\"1:\"&ROWS(Expr1)))),ROWS('Charge atelier chaudronnerie'!$3:11))),\"\")","v":{"$error":"#REF!"}},null,{"$f":"IF(ROWS('Charge atelier chaudronnerie'!$3:11)<=COUNTIF(nom,$BC$2),INDEX(Expr1,SMALL(IF(nom=$BC$2,ROW(INDIRECT(\"1:\"&ROWS(Expr1)))),ROWS('Charge atelier chaudronnerie'!$3:11))),\"\")","v":{"$error":"#REF!"}},{"$f":"IF(ROWS('Charge atelier chaudronnerie'!$3:11)<=COUNTIF(nom,$BC$2),INDEX(Expr2,SMALL(IF(nom=$BC$2,ROW(INDIRECT(\"1:\"&ROWS(Expr1)))),ROWS('Charge atelier chaudronnerie'!$3:11))),\"\")","v":{"$error":"#REF!"}},{"$f":"IF(ROWS('Charge atelier chaudronnerie'!$3:11)<=COUNTIF(nom,$BC$2),INDEX(DatePriseOf,SMALL(IF(nom=$BC$2,ROW(INDIRECT(\"1:\"&ROWS(Expr1)))),ROWS('Charge atelier chaudronnerie'!$3:11))),\"\")","v":{"$error":"#REF!"}},null,{"$f":"IF(ROWS('Charge atelier chaudronnerie'!$3:11)<=COUNTIF(nom,$BG$2),INDEX(Expr1,SMALL(IF(nom=$BG$2,ROW(INDIRECT(\"1:\"&ROWS(Expr1)))),ROWS('Charge atelier chaudronnerie'!$3:11))),\"\")","v":{"$error":"#REF!"}},{"$f":"IF(ROWS('Charge atelier chaudronnerie'!$3:11)<=COUNTIF(nom,$BG$2),INDEX(Expr2,SMALL(IF(nom=$BG$2,ROW(INDIRECT(\"1:\"&ROWS(Expr1)))),ROWS('Charge atelier chaudronnerie'!$3:11))),\"\")","v":{"$error":"#REF!"}},{"$f":"IF(ROWS('Charge atelier chaudronnerie'!$3:11)<=COUNTIF(nom,$BG$2),INDEX(DatePriseOf,SMALL(IF(nom=$BG$2,ROW(INDIRECT(\"1:\"&ROWS(Expr1)))),ROWS('Charge atelier chaudronnerie'!$3:11))),\"\")","v":{"$error":"#REF!"}},null,{"$f":"IF(ROWS('Charge atelier chaudronnerie'!$3:11)<=COUNTIF(nom,$BK$2),INDEX(Expr1,SMALL(IF(nom=$BK$2,ROW(INDIRECT(\"1:\"&ROWS(Expr1)))),ROWS('Charge atelier chaudronnerie'!$3:11))),\"\")","v":{"$error":"#REF!"}},{"$f":"IF(ROWS('Charge atelier chaudronnerie'!$3:11)<=COUNTIF(nom,$BK$2),INDEX(Expr2,SMALL(IF(nom=$BK$2,ROW(INDIRECT(\"1:\"&ROWS(Expr1)))),ROWS('Charge atelier chaudronnerie'!$3:11))),\"\")","v":{"$error":"#REF!"}},{"$f":"IF(ROWS('Charge atelier chaudronnerie'!$3:11)<=COUNTIF(nom,$BK$2),INDEX(DatePriseOf,SMALL(IF(nom=$BK$2,ROW(INDIRECT(\"1:\"&ROWS(Expr1)))),ROWS('Charge atelier chaudronnerie'!$3:11))),\"\")","v":{"$error":"#REF!"}},null,{"$f":"IF(ROWS('Charge atelier chaudronnerie'!$3:9)<=COUNTIF(nom,$BO$2),INDEX(Expr1,SMALL(IF(nom=$BO$2,ROW(INDIRECT(\"1:\"&ROWS(Expr1)))),ROWS('Charge atelier chaudronnerie'!$3:9))),\"\")","v":{"$error":"#REF!"}},{"$f":"IF(ROWS('Charge atelier chaudronnerie'!$3:9)<=COUNTIF(nom,$BO$2),INDEX(Expr2,SMALL(IF(nom=$BO$2,ROW(INDIRECT(\"1:\"&ROWS(Expr1)))),ROWS('Charge atelier chaudronnerie'!$3:9))),\"\")","v":{"$error":"#REF!"}},{"$f":"IF(ROWS('Charge atelier chaudronnerie'!$3:9)<=COUNTIF(nom,$BO$2),INDEX(DatePriseOf,SMALL(IF(nom=$BO$2,ROW(INDIRECT(\"1:\"&ROWS(Expr1)))),ROWS('Charge atelier chaudronnerie'!$3:9))),\"\")","v":{"$error":"#REF!"}},null,{"$f":"IF(ROWS('Charge atelier chaudronnerie'!$3:9)<=COUNTIF(nom,$BS$2),INDEX(Expr1,SMALL(IF(nom=$BS$2,ROW(INDIRECT(\"1:\"&ROWS(Expr1)))),ROWS('Charge atelier chaudronnerie'!$3:9))),\"\")","v":{"$error":"#REF!"}},{"$f":"IF(ROWS('Charge atelier chaudronnerie'!$3:9)<=COUNTIF(nom,$BS$2),INDEX(Expr2,SMALL(IF(nom=$BS$2,ROW(INDIRECT(\"1:\"&ROWS(Expr1)))),ROWS('Charge atelier chaudronnerie'!$3:9))),\"\")","v":{"$error":"#REF!"}},{"$f":"IF(ROWS('Charge atelier chaudronnerie'!$3:9)<=COUNTIF(nom,$BS$2),INDEX(DatePriseOf,SMALL(IF(nom=$BS$2,ROW(INDIRECT(\"1:\"&ROWS(Expr1)))),ROWS('Charge atelier chaudronnerie'!$3:9))),\"\")","v":{"$error":"#REF!"}}]
["sabine","RAMAZOTI",{"$f":"IF(ROWS('Charge atelier chaudronnerie'!$3:12)<=COUNTIF(nom,$C$2),INDEX(Expr1,SMALL(IF(nom=$C$2,ROW(INDIRECT(\"1:\"&ROWS(Expr1)))),ROWS('Charge atelier chaudronnerie'!$3:12))),\"\")","v":{"$error":"#REF!"}},{"$f":"IF(ROWS('Charge atelier chaudronnerie'!$3:12)<=COUNTIF(nom,$C$2),INDEX(Expr2,SMALL(IF(nom=$C$2,ROW(INDIRECT(\"1:\"&ROWS(Expr1)))),ROWS('Charge atelier chaudronnerie'!$3:12))),\"\")","v":{"$error":"#REF!"}},{"$f":"IF(ROWS('Charge atelier chaudronnerie'!$3:12)<=COUNTIF(nom,$C$2),INDEX(DatePriseOf,SMALL(IF(nom=$C$2,ROW(INDIRECT(\"1:\"&ROWS(Expr1)))),ROWS('Charge atelier chaudronnerie'!$3:12))),\"\")","v":{"$error":"#REF!"}},null,{"$f":"IF(ROWS('Charge atelier chaudronnerie'!$3:12)<=COUNTIF(nom,$G$2),INDEX(Expr1,SMALL(IF(nom=$G$2,ROW(INDIRECT(\"1:\"&ROWS(Expr1)))),ROWS('Charge atelier chaudronnerie'!$3:12))),\"\")","v":{"$error":"#REF!"}},{"$f":"IF(ROWS('Charge atelier chaudronnerie'!$3:12)<=COUNTIF(nom,$G$2),INDEX(Expr2,SMALL(IF(nom=$G$2,ROW(INDIRECT(\"1:\"&ROWS(Expr1)))),ROWS('Charge atelier chaudronnerie'!$3:12))),\"\")","v":{"$error":"#REF!"}},{"$f":"IF(ROWS('Charge atelier chaudronnerie'!$3:12)<=COUNTIF(nom,$G$2),INDEX(DatePriseOf,SMALL(IF(nom=$G$2,ROW(INDIRECT(\"1:\"&ROWS(Expr1)))),ROWS('Charge atelier chaudronnerie'!$3:12))),\"\")","v":{"$error":"#REF!"}},null,{"$f":"IF(ROWS('Charge atelier chaudronnerie'!$3:12)<=COUNTIF(nom,$K$2),INDEX(Expr1,SMALL(IF(nom=$K$2,ROW(INDIRECT(\"1:\"&ROWS(Expr1)))),ROWS('Charge atelier chaudronnerie'!$3:12))),\"\")","v":{"$error":"#REF!"}},{"$f":"IF(ROWS('Charge atelier chaudronnerie'!$3:12)<=COUNTIF(nom,$K$2),INDEX(Expr2,SMALL(IF(nom=$K$2,ROW(INDIRECT(\"1:\"&ROWS(Expr1)))),ROWS('Charge atelier chaudronnerie'!$3:12))),\"\")","v":{"$error":"#REF!"}},{"$f":"IF(ROWS('Charge atelier chaudronnerie'!$3:12)<=COUNTIF(nom,$K$2),INDEX(DatePriseOf,SMALL(IF(nom=$K$2,ROW(INDIRECT(\"1:\"&ROWS(Expr1)))),ROWS('Charge atelier chaudronnerie'!$3:12))),\"\")","v":{"$error":"#REF!"}},null,{"$f":"IF(ROWS('Charge atelier chaudronnerie'!$3:12)<=COUNTIF(nom,$O$2),INDEX(Expr1,SMALL(IF(nom=$O$2,ROW(INDIRECT(\"1:\"&ROWS(Expr1)))),ROWS('Charge atelier chaudronnerie'!$3:12))),\"\")","v":{"$error":"#REF!"}},{"$f":"IF(ROWS('Charge atelier chaudronnerie'!$3:12)<=COUNTIF(nom,$O$2),INDEX(Expr2,SMALL(IF(nom=$O$2,ROW(INDIRECT(\"1:\"&ROWS(Expr1)))),ROWS('Charge atelier chaudronnerie'!$3:12))),\"\")","v":{"$error":"#REF!"}},{"$f":"IF(ROWS('Charge atelier chaudronnerie'!$3:12)<=COUNTIF(nom,$O$2),INDEX(DatePriseOf,SMALL(IF(nom=$O$2,ROW(INDIRECT(\"1:\"&ROWS(Expr1)))),ROWS('Charge atelier chaudronnerie'!$3:12))),\"\")","v":{"$error":"#REF!"}},null,{"$f":"IF(ROWS('Charge atelier chaudronnerie'!$3:12)<=COUNTIF(nom,$S$2),INDEX(Expr1,SMALL(IF(nom=$S$2,ROW(INDIRECT(\"1:\"&ROWS(Expr1)))),ROWS('Charge atelier chaudronnerie'!$3:12))),\"\")","v":{"$error":"#REF!"}},{"$f":"IF(ROWS('Charge atelier chaudronnerie'!$3:12)<=COUNTIF(nom,$S$2),INDEX(Expr2,SMALL(IF(nom=$S$2,ROW(INDIRECT(\"1:\"&ROWS(Expr1)))),ROWS('Charge atelier chaudronnerie'!$3:12))),\"\")","v":{"$error":"#REF!"}},{"$f":"IF(ROWS('Charge atelier chaudronnerie'!$3:12)<=COUNTIF(nom,$S$2),INDEX(DatePriseOf,SMALL(IF(nom=$S$2,ROW(INDIRECT(\"1:\"&ROWS(Expr1)))),ROWS('Charge atelier chaudronnerie'!$3:12))),\"\")","v":{"$error":"#REF!"}},null,{"$f":"IF(ROWS('Charge atelier chaudronnerie'!$3:12)<=COUNTIF(nom,$W$2),INDEX(Expr1,SMALL(IF(nom=$W$2,ROW(INDIRECT(\"1:\"&ROWS(Expr1)))),ROWS('Charge atelier chaudronnerie'!$3:12))),\"\")","v":{"$error":"#REF!"}},{"$f":"IF(ROWS('Charge atelier chaudronnerie'!$3:12)<=COUNTIF(nom,$W$2),INDEX(Expr2,SMALL(IF(nom=$W$2,ROW(INDIRECT(\"1:\"&ROWS(Expr1)))),ROWS('Charge atelier chaudronnerie'!$3:12))),\"\")","v":{"$error":"#REF!"}},{"$f":"IF(ROWS('Charge atelier chaudronnerie'!$3:12)<=COUNTIF(nom,$W$2),INDEX(DatePriseOf,SMALL(IF(nom=$W$2,ROW(INDIRECT(\"1:\"&ROWS(Expr1)))),ROWS('Charge atelier chaudronnerie'!$3:12))),\"\")","v":{"$error":"#REF!"}},null,{"$f":"IF(ROWS('Charge atelier chaudronnerie'!$3:12)<=COUNTIF(nom,$AA$2),INDEX(Expr1,SMALL(IF(nom=$AA$2,ROW(INDIRECT(\"1:\"&ROWS(Expr1)))),ROWS('Charge atelier chaudronnerie'!$3:12))),\"\")","v":{"$error":"#REF!"}},{"$f":"IF(ROWS('Charge atelier chaudronnerie'!$3:12)<=COUNTIF(nom,$AA$2),INDEX(Expr2,SMALL(IF(nom=$AA$2,ROW(INDIRECT(\"1:\"&ROWS(Expr1)))),ROWS('Charge atelier chaudronnerie'!$3:12))),\"\")","v":{"$error":"#REF!"}},{"$f":"IF(ROWS('Charge atelier chaudronnerie'!$3:12)<=COUNTIF(nom,$AA$2),INDEX(DatePriseOf,SMALL(IF(nom=$AA$2,ROW(INDIRECT(\"1:\"&ROWS(Expr1)))),ROWS('Charge atelier chaudronnerie'!$3:12))),\"\")","v":{"$error":"#REF!"}},null,{"$f":"IF(ROWS('Charge atelier chaudronnerie'!$3:12)<=COUNTIF(nom,$AE$2),INDEX(Expr1,SMALL(IF(nom=$AE$2,ROW(INDIRECT(\"1:\"&ROWS(Expr1)))),ROWS('Charge atelier chaudronnerie'!$3:12))),\"\")","v":{"$error":"#REF!"}},{"$f":"IF(ROWS('Charge atelier chaudronnerie'!$3:12)<=COUNTIF(nom,$AE$2),INDEX(Expr2,SMALL(IF(nom=$AE$2,ROW(INDIRECT(\"1:\"&ROWS(Expr1)))),ROWS('Charge atelier chaudronnerie'!$3:12))),\"\")","v":{"$error":"#REF!"}},{"$f":"IF(ROWS('Charge atelier chaudronnerie'!$3:12)<=COUNTIF(nom,$AE$2),INDEX(DatePriseOf,SMALL(IF(nom=$AE$2,ROW(INDIRECT(\"1:\"&ROWS(Expr1)))),ROWS('Charge atelier chaudronnerie'!$3:12))),\"\")","v":{"$error":"#REF!"}},null,{"$f":"IF(ROWS('Charge atelier chaudronnerie'!$3:12)<=COUNTIF(nom,$AI$2),INDEX(Expr1,SMALL(IF(nom=$AI$2,ROW(INDIRECT(\"1:\"&ROWS(Expr1)))),ROWS('Charge atelier chaudronnerie'!$3:12))),\"\")","v":{"$error":"#REF!"}},{"$f":"IF(ROWS('Charge atelier chaudronnerie'!$3:12)<=COUNTIF(nom,$AI$2),INDEX(Expr2,SMALL(IF(nom=$AI$2,ROW(INDIRECT(\"1:\"&ROWS(Expr1)))),ROWS('Charge atelier chaudronnerie'!$3:12))),\"\")","v":{"$error":"#REF!"}},{"$f":"IF(ROWS('Charge atelier chaudronnerie'!$3:12)<=COUNTIF(nom,$AI$2),INDEX(DatePriseOf,SMALL(IF(nom=$AI$2,ROW(INDIRECT(\"1:\"&ROWS(Expr1)))),ROWS('Charge atelier chaudronnerie'!$3:12))),\"\")","v":{"$error":"#REF!"}},null,{"$f":"IF(ROWS('Charge atelier chaudronnerie'!$3:12)<=COUNTIF(nom,$AM$2),INDEX(Expr1,SMALL(IF(nom=$AM$2,ROW(INDIRECT(\"1:\"&ROWS(Expr1)))),ROWS('Charge atelier chaudronnerie'!$3:12))),\"\")","v":{"$error":"#REF!"}},{"$f":"IF(ROWS('Charge atelier chaudronnerie'!$3:12)<=COUNTIF(nom,$AM$2),INDEX(Expr2,SMALL(IF(nom=$AM$2,ROW(INDIRECT(\"1:\"&ROWS(Expr1)))),ROWS('Charge atelier chaudronnerie'!$3:12))),\"\")","v":{"$error":"#REF!"}},{"$f":"IF(ROWS('Charge atelier chaudronnerie'!$3:12)<=COUNTIF(nom,$AM$2),INDEX(DatePriseOf,SMALL(IF(nom=$AM$2,ROW(INDIRECT(\"1:\"&ROWS(Expr1)))),ROWS('Charge atelier chaudronnerie'!$3:12))),\"\")","v":{"$error":"#REF!"}},null,{"$f":"IF(ROWS('Charge atelier chaudronnerie'!$3:12)<=COUNTIF(nom,$AQ$2),INDEX(Expr1,SMALL(IF(nom=$AQ$2,ROW(INDIRECT(\"1:\"&ROWS(Expr1)))),ROWS('Charge atelier chaudronnerie'!$3:12))),\"\")","v":{"$error":"#REF!"}},{"$f":"IF(ROWS('Charge atelier chaudronnerie'!$3:12)<=COUNTIF(nom,$AQ$2),INDEX(Expr2,SMALL(IF(nom=$AQ$2,ROW(INDIRECT(\"1:\"&ROWS(Expr1)))),ROWS('Charge atelier chaudronnerie'!$3:12))),\"\")","v":{"$error":"#REF!"}},{"$f":"IF(ROWS('Charge atelier chaudronnerie'!$3:12)<=COUNTIF(nom,$AQ$2),INDEX(DatePriseOf,SMALL(IF(nom=$AQ$2,ROW(INDIRECT(\"1:\"&ROWS(Expr1)))),ROWS('Charge atelier chaudronnerie'!$3:12))),\"\")","v":{"$error":"#REF!"}},null,{"$f":"IF(ROWS('Charge atelier chaudronnerie'!$3:12)<=COUNTIF(nom,$AU$2),INDEX(Expr1,SMALL(IF(nom=$AU$2,ROW(INDIRECT(\"1:\"&ROWS(Expr1)))),ROWS('Charge atelier chaudronnerie'!$3:12))),\"\")","v":{"$error":"#REF!"}},{"$f":"IF(ROWS('Charge atelier chaudronnerie'!$3:12)<=COUNTIF(nom,$AU$2),INDEX(Expr2,SMALL(IF(nom=$AU$2,ROW(INDIRECT(\"1:\"&ROWS(Expr1)))),ROWS('Charge atelier chaudronnerie'!$3:12))),\"\")","v":{"$error":"#REF!"}},{"$f":"IF(ROWS('Charge atelier chaudronnerie'!$3:12)<=COUNTIF(nom,$AU$2),INDEX(DatePriseOf,SMALL(IF(nom=$AU$2,ROW(INDIRECT(\"1:\"&ROWS(Expr1)))),ROWS('Charge atelier chaudronnerie'!$3:12))),\"\")","v":{"$error":"#REF!"}},null,{"$f":"IF(ROWS('Charge atelier chaudronnerie'!$3:12)<=COUNTIF(nom,$AY$2),INDEX(Expr1,SMALL(IF(nom=$AY$2,ROW(INDIRECT(\"1:\"&ROWS(Expr1)))),ROWS('Charge atelier chaudronnerie'!$3:12))),\"\")","v":{"$error":"#REF!"}},{"$f":"IF(ROWS('Charge atelier chaudronnerie'!$3:12)<=COUNTIF(nom,$AY$2),INDEX(Expr2,SMALL(IF(nom=$AY$2,ROW(INDIRECT(\"1:\"&ROWS(Expr1)))),ROWS('Charge atelier chaudronnerie'!$3:12))),\"\")","v":{"$error":"#REF!"}},{"$f":"IF(ROWS('Charge atelier chaudronnerie'!$3:12)<=COUNTIF(nom,$AY$2),INDEX(DatePriseOf,SMALL(IF(nom=$AY$2,ROW(INDIRECT(\"1:\"&ROWS(Expr1)))),ROWS('Charge atelier chaudronnerie'!$3:12))),\"\")","v":{"$error":"#REF!"}},null,{"$f":"IF(ROWS('Charge atelier chaudronnerie'!$3:12)<=COUNTIF(nom,$BC$2),INDEX(Expr1,SMALL(IF(nom=$BC$2,ROW(INDIRECT(\"1:\"&ROWS(Expr1)))),ROWS('Charge atelier chaudronnerie'!$3:12))),\"\")","v":{"$error":"#REF!"}},{"$f":"IF(ROWS('Charge atelier chaudronnerie'!$3:12)<=COUNTIF(nom,$BC$2),INDEX(Expr2,SMALL(IF(nom=$BC$2,ROW(INDIRECT(\"1:\"&ROWS(Expr1)))),ROWS('Charge atelier chaudronnerie'!$3:12))),\"\")","v":{"$error":"#REF!"}},{"$f":"IF(ROWS('Charge atelier chaudronnerie'!$3:12)<=COUNTIF(nom,$BC$2),INDEX(DatePriseOf,SMALL(IF(nom=$BC$2,ROW(INDIRECT(\"1:\"&ROWS(Expr1)))),ROWS('Charge atelier chaudronnerie'!$3:12))),\"\")","v":{"$error":"#REF!"}},null,{"$f":"IF(ROWS('Charge atelier chaudronnerie'!$3:12)<=COUNTIF(nom,$BG$2),INDEX(Expr1,SMALL(IF(nom=$BG$2,ROW(INDIRECT(\"1:\"&ROWS(Expr1)))),ROWS('Charge atelier chaudronnerie'!$3:12))),\"\")","v":{"$error":"#REF!"}},{"$f":"IF(ROWS('Charge atelier chaudronnerie'!$3:12)<=COUNTIF(nom,$BG$2),INDEX(Expr2,SMALL(IF(nom=$BG$2,ROW(INDIRECT(\"1:\"&ROWS(Expr1)))),ROWS('Charge atelier chaudronnerie'!$3:12))),\"\")","v":{"$error":"#REF!"}},{"$f":"IF(ROWS('Charge atelier chaudronnerie'!$3:12)<=COUNTIF(nom,$BG$2),INDEX(DatePriseOf,SMALL(IF(nom=$BG$2,ROW(INDIRECT(\"1:\"&ROWS(Expr1)))),ROWS('Charge atelier chaudronnerie'!$3:12))),\"\")","v":{"$error":"#REF!"}},null,{"$f":"IF(ROWS('Charge atelier chaudronnerie'!$3:12)<=COUNTIF(nom,$BK$2),INDEX(Expr1,SMALL(IF(nom=$BK$2,ROW(INDIRECT(\"1:\"&ROWS(Expr1)))),ROWS('Charge atelier chaudronnerie'!$3:12))),\"\")","v":{"$error":"#REF!"}},{"$f":"IF(ROWS('Charge atelier chaudronnerie'!$3:12)<=COUNTIF(nom,$BK$2),INDEX(Expr2,SMALL(IF(nom=$BK$2,ROW(INDIRECT(\"1:\"&ROWS(Expr1)))),ROWS('Charge atelier chaudronnerie'!$3:12))),\"\")","v":{"$error":"#REF!"}},{"$f":"IF(ROWS('Charge atelier chaudronnerie'!$3:12)<=COUNTIF(nom,$BK$2),INDEX(DatePriseOf,SMALL(IF(nom=$BK$2,ROW(INDIRECT(\"1:\"&ROWS(Expr1)))),ROWS('Charge atelier chaudronnerie'!$3:12))),\"\")","v":{"$error":"#REF!"}},null,{"$f":"IF(ROWS('Charge atelier chaudronnerie'!$3:10)<=COUNTIF(nom,$BO$2),INDEX(Expr1,SMALL(IF(nom=$BO$2,ROW(INDIRECT(\"1:\"&ROWS(Expr1)))),ROWS('Charge atelier chaudronnerie'!$3:10))),\"\")","v":{"$error":"#REF!"}},{"$f":"IF(ROWS('Charge atelier chaudronnerie'!$3:10)<=COUNTIF(nom,$BO$2),INDEX(Expr2,SMALL(IF(nom=$BO$2,ROW(INDIRECT(\"1:\"&ROWS(Expr1)))),ROWS('Charge atelier chaudronnerie'!$3:10))),\"\")","v":{"$error":"#REF!"}},{"$f":"IF(ROWS('Charge atelier chaudronnerie'!$3:10)<=COUNTIF(nom,$BO$2),INDEX(DatePriseOf,SMALL(IF(nom=$BO$2,ROW(INDIRECT(\"1:\"&ROWS(Expr1)))),ROWS('Charge atelier chaudronnerie'!$3:10))),\"\")","v":{"$error":"#REF!"}},null,{"$f":"IF(ROWS('Charge atelier chaudronnerie'!$3:10)<=COUNTIF(nom,$BS$2),INDEX(Expr1,SMALL(IF(nom=$BS$2,ROW(INDIRECT(\"1:\"&ROWS(Expr1)))),ROWS('Charge atelier chaudronnerie'!$3:10))),\"\")","v":{"$error":"#REF!"}},{"$f":"IF(ROWS('Charge atelier chaudronnerie'!$3:10)<=COUNTIF(nom,$BS$2),INDEX(Expr2,SMALL(IF(nom=$BS$2,ROW(INDIRECT(\"1:\"&ROWS(Expr1)))),ROWS('Charge atelier chaudronnerie'!$3:10))),\"\")","v":{"$error":"#REF!"}},{"$f":"IF(ROWS('Charge atelier chaudronnerie'!$3:10)<=COUNTIF(nom,$BS$2),INDEX(DatePriseOf,SMALL(IF(nom=$BS$2,ROW(INDIRECT(\"1:\"&ROWS(Expr1)))),ROWS('Charge atelier chaudronnerie'!$3:10))),\"\")","v":{"$error":"#REF!"}}]
["joel","TOTAIN",{"$f":"IF(ROWS('Charge atelier chaudronnerie'!$3:13)<=COUNTIF(nom,$C$2),INDEX(Expr1,SMALL(IF(nom=$C$2,ROW(INDIRECT(\"1:\"&ROWS(Expr1)))),ROWS('Charge atelier chaudronnerie'!$3:13))),\"\")","v":{"$error":"#REF!"}},{"$f":"IF(ROWS('Charge atelier chaudronnerie'!$3:13)<=COUNTIF(nom,$C$2),INDEX(Expr2,SMALL(IF(nom=$C$2,ROW(INDIRECT(\"1:\"&ROWS(Expr1)))),ROWS('Charge atelier chaudronnerie'!$3:13))),\"\")","v":{"$error":"#REF!"}},{"$f":"IF(ROWS('Charge atelier chaudronnerie'!$3:13)<=COUNTIF(nom,$C$2),INDEX(DatePriseOf,SMALL(IF(nom=$C$2,ROW(INDIRECT(\"1:\"&ROWS(Expr1)))),ROWS('Charge atelier chaudronnerie'!$3:13))),\"\")","v":{"$error":"#REF!"}},null,{"$f":"IF(ROWS('Charge atelier chaudronnerie'!$3:13)<=COUNTIF(nom,$G$2),INDEX(Expr1,SMALL(IF(nom=$G$2,ROW(INDIRECT(\"1:\"&ROWS(Expr1)))),ROWS('Charge atelier chaudronnerie'!$3:13))),\"\")","v":{"$error":"#REF!"}},{"$f":"IF(ROWS('Charge atelier chaudronnerie'!$3:13)<=COUNTIF(nom,$G$2),INDEX(Expr2,SMALL(IF(nom=$G$2,ROW(INDIRECT(\"1:\"&ROWS(Expr1)))),ROWS('Charge atelier chaudronnerie'!$3:13))),\"\")","v":{"$error":"#REF!"}},{"$f":"IF(ROWS('Charge atelier chaudronnerie'!$3:13)<=COUNTIF(nom,$G$2),INDEX(DatePriseOf,SMALL(IF(nom=$G$2,ROW(INDIRECT(\"1:\"&ROWS(Expr1)))),ROWS('Charge atelier chaudronnerie'!$3:13))),\"\")","v":{"$error":"#REF!"}},null,{"$f":"IF(ROWS('Charge atelier chaudronnerie'!$3:13)<=COUNTIF(nom,$K$2),INDEX(Expr1,SMALL(IF(nom=$K$2,ROW(INDIRECT(\"1:\"&ROWS(Expr1)))),ROWS('Charge atelier chaudronnerie'!$3:13))),\"\")","v":{"$error":"#REF!"}},{"$f":"IF(ROWS('Charge atelier chaudronnerie'!$3:13)<=COUNTIF(nom,$K$2),INDEX(Expr2,SMALL(IF(nom=$K$2,ROW(INDIRECT(\"1:\"&ROWS(Expr1)))),ROWS('Charge atelier chaudronnerie'!$3:13))),\"\")","v":{"$error":"#REF!"}},{"$f":"IF(ROWS('Charge atelier chaudronnerie'!$3:13)<=COUNTIF(nom,$K$2),INDEX(DatePriseOf,SMALL(IF(nom=$K$2,ROW(INDIRECT(\"1:\"&ROWS(Expr1)))),ROWS('Charge atelier chaudronnerie'!$3:13))),\"\")","v":{"$error":"#REF!"}},null,{"$f":"IF(ROWS('Charge atelier chaudronnerie'!$3:13)<=COUNTIF(nom,$O$2),INDEX(Expr1,SMALL(IF(nom=$O$2,ROW(INDIRECT(\"1:\"&ROWS(Expr1)))),ROWS('Charge atelier chaudronnerie'!$3:13))),\"\")","v":{"$error":"#REF!"}},{"$f":"IF(ROWS('Charge atelier chaudronnerie'!$3:13)<=COUNTIF(nom,$O$2),INDEX(Expr2,SMALL(IF(nom=$O$2,ROW(INDIRECT(\"1:\"&ROWS(Expr1)))),ROWS('Charge atelier chaudronnerie'!$3:13))),\"\")","v":{"$error":"#REF!"}},{"$f":"IF(ROWS('Charge atelier chaudronnerie'!$3:13)<=COUNTIF(nom,$O$2),INDEX(DatePriseOf,SMALL(IF(nom=$O$2,ROW(INDIRECT(\"1:\"&ROWS(Expr1)))),ROWS('Charge atelier chaudronnerie'!$3:13))),\"\")","v":{"$error":"#REF!"}},null,{"$f":"IF(ROWS('Charge atelier chaudronnerie'!$3:13)<=COUNTIF(nom,$S$2),INDEX(Expr1,SMALL(IF(nom=$S$2,ROW(INDIRECT(\"1:\"&ROWS(Expr1)))),ROWS('Charge atelier chaudronnerie'!$3:13))),\"\")","v":{"$error":"#REF!"}},{"$f":"IF(ROWS('Charge atelier chaudronnerie'!$3:13)<=COUNTIF(nom,$S$2),INDEX(Expr2,SMALL(IF(nom=$S$2,ROW(INDIRECT(\"1:\"&ROWS(Expr1)))),ROWS('Charge atelier chaudronnerie'!$3:13))),\"\")","v":{"$error":"#REF!"}},{"$f":"IF(ROWS('Charge atelier chaudronnerie'!$3:13)<=COUNTIF(nom,$S$2),INDEX(DatePriseOf,SMALL(IF(nom=$S$2,ROW(INDIRECT(\"1:\"&ROWS(Expr1)))),ROWS('Charge atelier chaudronnerie'!$3:13))),\"\")","v":{"$error":"#REF!"}},null,{"$f":"IF(ROWS('Charge atelier chaudronnerie'!$3:13)<=COUNTIF(nom,$W$2),INDEX(Expr1,SMALL(IF(nom=$W$2,ROW(INDIRECT(\"1:\"&ROWS(Expr1)))),ROWS('Charge atelier chaudronnerie'!$3:13))),\"\")","v":{"$error":"#REF!"}},{"$f":"IF(ROWS('Charge atelier chaudronnerie'!$3:13)<=COUNTIF(nom,$W$2),INDEX(Expr2,SMALL(IF(nom=$W$2,ROW(INDIRECT(\"1:\"&ROWS(Expr1)))),ROWS('Charge atelier chaudronnerie'!$3:13))),\"\")","v":{"$error":"#REF!"}},{"$f":"IF(ROWS('Charge atelier chaudronnerie'!$3:13)<=COUNTIF(nom,$W$2),INDEX(DatePriseOf,SMALL(IF(nom=$W$2,ROW(INDIRECT(\"1:\"&ROWS(Expr1)))),ROWS('Charge atelier chaudronnerie'!$3:13))),\"\")","v":{"$error":"#REF!"}},null,{"$f":"IF(ROWS('Charge atelier chaudronnerie'!$3:13)<=COUNTIF(nom,$AA$2),INDEX(Expr1,SMALL(IF(nom=$AA$2,ROW(INDIRECT(\"1:\"&ROWS(Expr1)))),ROWS('Charge atelier chaudronnerie'!$3:13))),\"\")","v":{"$error":"#REF!"}},{"$f":"IF(ROWS('Charge atelier chaudronnerie'!$3:13)<=COUNTIF(nom,$AA$2),INDEX(Expr2,SMALL(IF(nom=$AA$2,ROW(INDIRECT(\"1:\"&ROWS(Expr1)))),ROWS('Charge atelier chaudronnerie'!$3:13))),\"\")","v":{"$error":"#REF!"}},{"$f":"IF(ROWS('Charge atelier chaudronnerie'!$3:13)<=COUNTIF(nom,$AA$2),INDEX(DatePriseOf,SMALL(IF(nom=$AA$2,ROW(INDIRECT(\"1:\"&ROWS(Expr1)))),ROWS('Charge atelier chaudronnerie'!$3:13))),\"\")","v":{"$error":"#REF!"}},null,{"$f":"IF(ROWS('Charge atelier chaudronnerie'!$3:13)<=COUNTIF(nom,$AE$2),INDEX(Expr1,SMALL(IF(nom=$AE$2,ROW(INDIRECT(\"1:\"&ROWS(Expr1)))),ROWS('Charge atelier chaudronnerie'!$3:13))),\"\")","v":{"$error":"#REF!"}},{"$f":"IF(ROWS('Charge atelier chaudronnerie'!$3:13)<=COUNTIF(nom,$AE$2),INDEX(Expr2,SMALL(IF(nom=$AE$2,ROW(INDIRECT(\"1:\"&ROWS(Expr1)))),ROWS('Charge atelier chaudronnerie'!$3:13))),\"\")","v":{"$error":"#REF!"}},{"$f":"IF(ROWS('Charge atelier chaudronnerie'!$3:13)<=COUNTIF(nom,$AE$2),INDEX(DatePriseOf,SMALL(IF(nom=$AE$2,ROW(INDIRECT(\"1:\"&ROWS(Expr1)))),ROWS('Charge atelier chaudronnerie'!$3:13))),\"\")","v":{"$error":"#REF!"}},null,{"$f":"IF(ROWS('Charge atelier chaudronnerie'!$3:13)<=COUNTIF(nom,$AI$2),INDEX(Expr1,SMALL(IF(nom=$AI$2,ROW(INDIRECT(\"1:\"&ROWS(Expr1)))),ROWS('Charge atelier chaudronnerie'!$3:13))),\"\")","v":{"$error":"#REF!"}},{"$f":"IF(ROWS('Charge atelier chaudronnerie'!$3:13)<=COUNTIF(nom,$AI$2),INDEX(Expr2,SMALL(IF(nom=$AI$2,ROW(INDIRECT(\"1:\"&ROWS(Expr1)))),ROWS('Charge atelier chaudronnerie'!$3:13))),\"\")","v":{"$error":"#REF!"}},{"$f":"IF(ROWS('Charge atelier chaudronnerie'!$3:13)<=COUNTIF(nom,$AI$2),INDEX(DatePriseOf,SMALL(IF(nom=$AI$2,ROW(INDIRECT(\"1:\"&ROWS(Expr1)))),ROWS('Charge atelier chaudronnerie'!$3:13))),\"\")","v":{"$error":"#REF!"}},null,{"$f":"IF(ROWS('Charge atelier chaudronnerie'!$3:13)<=COUNTIF(nom,$AM$2),INDEX(Expr1,SMALL(IF(nom=$AM$2,ROW(INDIRECT(\"1:\"&ROWS(Expr1)))),ROWS('Charge atelier chaudronnerie'!$3:13))),\"\")","v":{"$error":"#REF!"}},{"$f":"IF(ROWS('Charge atelier chaudronnerie'!$3:13)<=COUNTIF(nom,$AM$2),INDEX(Expr2,SMALL(IF(nom=$AM$2,ROW(INDIRECT(\"1:\"&ROWS(Expr1)))),ROWS('Charge atelier chaudronnerie'!$3:13))),\"\")","v":{"$error":"#REF!"}},{"$f":"IF(ROWS('Charge atelier chaudronnerie'!$3:13)<=COUNTIF(nom,$AM$2),INDEX(DatePriseOf,SMALL(IF(nom=$AM$2,ROW(INDIRECT(\"1:\"&ROWS(Expr1)))),ROWS('Charge atelier chaudronnerie'!$3:13))),\"\")","v":{"$error":"#REF!"}},null,{"$f":"IF(ROWS('Charge atelier chaudronnerie'!$3:13)<=COUNTIF(nom,$AQ$2),INDEX(Expr1,SMALL(IF(nom=$AQ$2,ROW(INDIRECT(\"1:\"&ROWS(Expr1)))),ROWS('Charge atelier chaudronnerie'!$3:13))),\"\")","v":{"$error":"#REF!"}},{"$f":"IF(ROWS('Charge atelier chaudronnerie'!$3:13)<=COUNTIF(nom,$AQ$2),INDEX(Expr2,SMALL(IF(nom=$AQ$2,ROW(INDIRECT(\"1:\"&ROWS(Expr1)))),ROWS('Charge atelier chaudronnerie'!$3:13))),\"\")","v":{"$error":"#REF!"}},{"$f":"IF(ROWS('Charge atelier chaudronnerie'!$3:13)<=COUNTIF(nom,$AQ$2),INDEX(DatePriseOf,SMALL(IF(nom=$AQ$2,ROW(INDIRECT(\"1:\"&ROWS(Expr1)))),ROWS('Charge atelier chaudronnerie'!$3:13))),\"\")","v":{"$error":"#REF!"}},null,{"$f":"IF(ROWS('Charge atelier chaudronnerie'!$3:13)<=COUNTIF(nom,$AU$2),INDEX(Expr1,SMALL(IF(nom=$AU$2,ROW(INDIRECT(\"1:\"&ROWS(Expr1)))),ROWS('Charge atelier chaudronnerie'!$3:13))),\"\")","v":{"$error":"#REF!"}},{"$f":"IF(ROWS('Charge atelier chaudronnerie'!$3:13)<=COUNTIF(nom,$AU$2),INDEX(Expr2,SMALL(IF(nom=$AU$2,ROW(INDIRECT(\"1:\"&ROWS(Expr1)))),ROWS('Charge atelier chaudronnerie'!$3:13))),\"\")","v":{"$error":"#REF!"}},{"$f":"IF(ROWS('Charge atelier chaudronnerie'!$3:13)<=COUNTIF(nom,$AU$2),INDEX(DatePriseOf,SMALL(IF(nom=$AU$2,ROW(INDIRECT(\"1:\"&ROWS(Expr1)))),ROWS('Charge atelier chaudronnerie'!$3:13))),\"\")","v":{"$error":"#REF!"}},null,{"$f":"IF(ROWS('Charge atelier chaudronnerie'!$3:13)<=COUNTIF(nom,$AY$2),INDEX(Expr1,SMALL(IF(nom=$AY$2,ROW(INDIRECT(\"1:\"&ROWS(Expr1)))),ROWS('Charge atelier chaudronnerie'!$3:13))),\"\")","v":{"$error":"#REF!"}},{"$f":"IF(ROWS('Charge atelier chaudronnerie'!$3:13)<=COUNTIF(nom,$AY$2),INDEX(Expr2,SMALL(IF(nom=$AY$2,ROW(INDIRECT(\"1:\"&ROWS(Expr1)))),ROWS('Charge atelier chaudronnerie'!$3:13))),\"\")","v":{"$error":"#REF!"}},{"$f":"IF(ROWS('Charge atelier chaudronnerie'!$3:13)<=COUNTIF(nom,$AY$2),INDEX(DatePriseOf,SMALL(IF(nom=$AY$2,ROW(INDIRECT(\"1:\"&ROWS(Expr1)))),ROWS('Charge atelier chaudronnerie'!$3:13))),\"\")","v":{"$error":"#REF!"}},null,{"$f":"IF(ROWS('Charge atelier chaudronnerie'!$3:13)<=COUNTIF(nom,$BC$2),INDEX(Expr1,SMALL(IF(nom=$BC$2,ROW(INDIRECT(\"1:\"&ROWS(Expr1)))),ROWS('Charge atelier chaudronnerie'!$3:13))),\"\")","v":{"$error":"#REF!"}},{"$f":"IF(ROWS('Charge atelier chaudronnerie'!$3:13)<=COUNTIF(nom,$BC$2),INDEX(Expr2,SMALL(IF(nom=$BC$2,ROW(INDIRECT(\"1:\"&ROWS(Expr1)))),ROWS('Charge atelier chaudronnerie'!$3:13))),\"\")","v":{"$error":"#REF!"}},{"$f":"IF(ROWS('Charge atelier chaudronnerie'!$3:13)<=COUNTIF(nom,$BC$2),INDEX(DatePriseOf,SMALL(IF(nom=$BC$2,ROW(INDIRECT(\"1:\"&ROWS(Expr1)))),ROWS('Charge atelier chaudronnerie'!$3:13))),\"\")","v":{"$error":"#REF!"}},null,{"$f":"IF(ROWS('Charge atelier chaudronnerie'!$3:13)<=COUNTIF(nom,$BG$2),INDEX(Expr1,SMALL(IF(nom=$BG$2,ROW(INDIRECT(\"1:\"&ROWS(Expr1)))),ROWS('Charge atelier chaudronnerie'!$3:13))),\"\")","v":{"$error":"#REF!"}},{"$f":"IF(ROWS('Charge atelier chaudronnerie'!$3:13)<=COUNTIF(nom,$BG$2),INDEX(Expr2,SMALL(IF(nom=$BG$2,ROW(INDIRECT(\"1:\"&ROWS(Expr1)))),ROWS('Charge atelier chaudronnerie'!$3:13))),\"\")","v":{"$error":"#REF!"}},{"$f":"IF(ROWS('Charge atelier chaudronnerie'!$3:13)<=COUNTIF(nom,$BG$2),INDEX(DatePriseOf,SMALL(IF(nom=$BG$2,ROW(INDIRECT(\"1:\"&ROWS(Expr1)))),ROWS('Charge atelier chaudronnerie'!$3:13))),\"\")","v":{"$error":"#REF!"}},null,{"$f":"IF(ROWS('Charge atelier chaudronnerie'!$3:13)<=COUNTIF(nom,$BK$2),INDEX(Expr1,SMALL(IF(nom=$BK$2,ROW(INDIRECT(\"1:\"&ROWS(Expr1)))),ROWS('Charge atelier chaudronnerie'!$3:13))),\"\")","v":{"$error":"#REF!"}},{"$f":"IF(ROWS('Charge atelier chaudronnerie'!$3:13)<=COUNTIF(nom,$BK$2),INDEX(Expr2,SMALL(IF(nom=$BK$2,ROW(INDIRECT(\"1:\"&ROWS(Expr1)))),ROWS('Charge atelier chaudronnerie'!$3:13))),\"\")","v":{"$error":"#REF!"}},{"$f":"IF(ROWS('Charge atelier chaudronnerie'!$3:13)<=COUNTIF(nom,$BK$2),INDEX(DatePriseOf,SMALL(IF(nom=$BK$2,ROW(INDIRECT(\"1:\"&ROWS(Expr1)))),ROWS('Charge atelier chaudronnerie'!$3:13))),\"\")","v":{"$error":"#REF!"}},null,{"$f":"IF(ROWS('Charge atelier chaudronnerie'!$3:11)<=COUNTIF(nom,$BO$2),INDEX(Expr1,SMALL(IF(nom=$BO$2,ROW(INDIRECT(\"1:\"&ROWS(Expr1)))),ROWS('Charge atelier chaudronnerie'!$3:11))),\"\")","v":{"$error":"#REF!"}},{"$f":"IF(ROWS('Charge atelier chaudronnerie'!$3:11)<=COUNTIF(nom,$BO$2),INDEX(Expr2,SMALL(IF(nom=$BO$2,ROW(INDIRECT(\"1:\"&ROWS(Expr1)))),ROWS('Charge atelier chaudronnerie'!$3:11))),\"\")","v":{"$error":"#REF!"}},{"$f":"IF(ROWS('Charge atelier chaudronnerie'!$3:11)<=COUNTIF(nom,$BO$2),INDEX(DatePriseOf,SMALL(IF(nom=$BO$2,ROW(INDIRECT(\"1:\"&ROWS(Expr1)))),ROWS('Charge atelier chaudronnerie'!$3:11))),\"\")","v":{"$error":"#REF!"}},null,{"$f":"IF(ROWS('Charge atelier chaudronnerie'!$3:11)<=COUNTIF(nom,$BS$2),INDEX(Expr1,SMALL(IF(nom=$BS$2,ROW(INDIRECT(\"1:\"&ROWS(Expr1)))),ROWS('Charge atelier chaudronnerie'!$3:11))),\"\")","v":{"$error":"#REF!"}},{"$f":"IF(ROWS('Charge atelier chaudronnerie'!$3:11)<=COUNTIF(nom,$BS$2),INDEX(Expr2,SMALL(IF(nom=$BS$2,ROW(INDIRECT(\"1:\"&ROWS(Expr1)))),ROWS('Charge atelier chaudronnerie'!$3:11))),\"\")","v":{"$error":"#REF!"}},{"$f":"IF(ROWS('Charge atelier chaudronnerie'!$3:11)<=COUNTIF(nom,$BS$2),INDEX(DatePriseOf,SMALL(IF(nom=$BS$2,ROW(INDIRECT(\"1:\"&ROWS(Expr1)))),ROWS('Charge atelier chaudronnerie'!$3:11))),\"\")","v":{"$error":"#REF!"}}]
["kevin",null,{"$f":"IF(ROWS('Charge atelier chaudronnerie'!$3:14)<=COUNTIF(nom,$C$2),INDEX(Expr1,SMALL(IF(nom=$C$2,ROW(INDIRECT(\"1:\"&ROWS(Expr1)))),ROWS('Charge atelier chaudronnerie'!$3:14))),\"\")","v":{"$error":"#REF!"}},{"$f":"IF(ROWS('Charge atelier chaudronnerie'!$3:14)<=COUNTIF(nom,$C$2),INDEX(Expr2,SMALL(IF(nom=$C$2,ROW(INDIRECT(\"1:\"&ROWS(Expr1)))),ROWS('Charge atelier chaudronnerie'!$3:14))),\"\")","v":{"$error":"#REF!"}},{"$f":"IF(ROWS('Charge atelier chaudronnerie'!$3:14)<=COUNTIF(nom,$C$2),INDEX(DatePriseOf,SMALL(IF(nom=$C$2,ROW(INDIRECT(\"1:\"&ROWS(Expr1)))),ROWS('Charge atelier chaudronnerie'!$3:14))),\"\")","v":{"$error":"#REF!"}},null,{"$f":"IF(ROWS('Charge atelier chaudronnerie'!$3:14)<=COUNTIF(nom,$G$2),INDEX(Expr1,SMALL(IF(nom=$G$2,ROW(INDIRECT(\"1:\"&ROWS(Expr1)))),ROWS('Charge atelier chaudronnerie'!$3:14))),\"\")","v":{"$error":"#REF!"}},{"$f":"IF(ROWS('Charge atelier chaudronnerie'!$3:14)<=COUNTIF(nom,$G$2),INDEX(Expr2,SMALL(IF(nom=$G$2,ROW(INDIRECT(\"1:\"&ROWS(Expr1)))),ROWS('Charge atelier chaudronnerie'!$3:14))),\"\")","v":{"$error":"#REF!"}},{"$f":"IF(ROWS('Charge atelier chaudronnerie'!$3:14)<=COUNTIF(nom,$G$2),INDEX(DatePriseOf,SMALL(IF(nom=$G$2,ROW(INDIRECT(\"1:\"&ROWS(Expr1)))),ROWS('Charge atelier chaudronnerie'!$3:14))),\"\")","v":{"$error":"#REF!"}},null,{"$f":"IF(ROWS('Charge atelier chaudronnerie'!$3:14)<=COUNTIF(nom,$K$2),INDEX(Expr1,SMALL(IF(nom=$K$2,ROW(INDIRECT(\"1:\"&ROWS(Expr1)))),ROWS('Charge atelier chaudronnerie'!$3:14))),\"\")","v":{"$error":"#REF!"}},{"$f":"IF(ROWS('Charge atelier chaudronnerie'!$3:14)<=COUNTIF(nom,$K$2),INDEX(Expr2,SMALL(IF(nom=$K$2,ROW(INDIRECT(\"1:\"&ROWS(Expr1)))),ROWS('Charge atelier chaudronnerie'!$3:14))),\"\")","v":{"$error":"#REF!"}},{"$f":"IF(ROWS('Charge atelier chaudronnerie'!$3:14)<=COUNTIF(nom,$K$2),INDEX(DatePriseOf,SMALL(IF(nom=$K$2,ROW(INDIRECT(\"1:\"&ROWS(Expr1)))),ROWS('Charge atelier chaudronnerie'!$3:14))),\"\")","v":{"$error":"#REF!"}},null,{"$f":"IF(ROWS('Charge atelier chaudronnerie'!$3:14)<=COUNTIF(nom,$O$2),INDEX(Expr1,SMALL(IF(nom=$O$2,ROW(INDIRECT(\"1:\"&ROWS(Expr1)))),ROWS('Charge atelier chaudronnerie'!$3:14))),\"\")","v":{"$error":"#REF!"}},{"$f":"IF(ROWS('Charge atelier chaudronnerie'!$3:14)<=COUNTIF(nom,$O$2),INDEX(Expr2,SMALL(IF(nom=$O$2,ROW(INDIRECT(\"1:\"&ROWS(Expr1)))),ROWS('Charge atelier chaudronnerie'!$3:14))),\"\")","v":{"$error":"#REF!"}},{"$f":"IF(ROWS('Charge atelier chaudronnerie'!$3:14)<=COUNTIF(nom,$O$2),INDEX(DatePriseOf,SMALL(IF(nom=$O$2,ROW(INDIRECT(\"1:\"&ROWS(Expr1)))),ROWS('Charge atelier chaudronnerie'!$3:14))),\"\")","v":{"$error":"#REF!"}},null,{"$f":"IF(ROWS('Charge atelier chaudronnerie'!$3:14)<=COUNTIF(nom,$S$2),INDEX(Expr1,SMALL(IF(nom=$S$2,ROW(INDIRECT(\"1:\"&ROWS(Expr1)))),ROWS('Charge atelier chaudronnerie'!$3:14))),\"\")","v":{"$error":"#REF!"}},{"$f":"IF(ROWS('Charge atelier chaudronnerie'!$3:14)<=COUNTIF(nom,$S$2),INDEX(Expr2,SMALL(IF(nom=$S$2,ROW(INDIRECT(\"1:\"&ROWS(Expr1)))),ROWS('Charge atelier chaudronnerie'!$3:14))),\"\")","v":{"$error":"#REF!"}},{"$f":"IF(ROWS('Charge atelier chaudronnerie'!$3:14)<=COUNTIF(nom,$S$2),INDEX(DatePriseOf,SMALL(IF(nom=$S$2,ROW(INDIRECT(\"1:\"&ROWS(Expr1)))),ROWS('Charge atelier chaudronnerie'!$3:14))),\"\")","v":{"$error":"#REF!"}},null,{"$f":"IF(ROWS('Charge atelier chaudronnerie'!$3:14)<=COUNTIF(nom,$W$2),INDEX(Expr1,SMALL(IF(nom=$W$2,ROW(INDIRECT(\"1:\"&ROWS(Expr1)))),ROWS('Charge atelier chaudronnerie'!$3:14))),\"\")","v":{"$error":"#REF!"}},{"$f":"IF(ROWS('Charge atelier chaudronnerie'!$3:14)<=COUNTIF(nom,$W$2),INDEX(Expr2,SMALL(IF(nom=$W$2,ROW(INDIRECT(\"1:\"&ROWS(Expr1)))),ROWS('Charge atelier chaudronnerie'!$3:14))),\"\")","v":{"$error":"#REF!"}},{"$f":"IF(ROWS('Charge atelier chaudronnerie'!$3:14)<=COUNTIF(nom,$W$2),INDEX(DatePriseOf,SMALL(IF(nom=$W$2,ROW(INDIRECT(\"1:\"&ROWS(Expr1)))),ROWS('Charge atelier chaudronnerie'!$3:14))),\"\")","v":{"$error":"#REF!"}},null,{"$f":"IF(ROWS('Charge atelier chaudronnerie'!$3:14)<=COUNTIF(nom,$AA$2),INDEX(Expr1,SMALL(IF(nom=$AA$2,ROW(INDIRECT(\"1:\"&ROWS(Expr1)))),ROWS('Charge atelier chaudronnerie'!$3:14))),\"\")","v":{"$error":"#REF!"}},{"$f":"IF(ROWS('Charge atelier chaudronnerie'!$3:14)<=COUNTIF(nom,$AA$2),INDEX(Expr2,SMALL(IF(nom=$AA$2,ROW(INDIRECT(\"1:\"&ROWS(Expr1)))),ROWS('Charge atelier chaudronnerie'!$3:14))),\"\")","v":{"$error":"#REF!"}},{"$f":"IF(ROWS('Charge atelier chaudronnerie'!$3:14)<=COUNTIF(nom,$AA$2),INDEX(DatePriseOf,SMALL(IF(nom=$AA$2,ROW(INDIRECT(\"1:\"&ROWS(Expr1)))),ROWS('Charge atelier chaudronnerie'!$3:14))),\"\")","v":{"$error":"#REF!"}},null,{"$f":"IF(ROWS('Charge atelier chaudronnerie'!$3:14)<=COUNTIF(nom,$AE$2),INDEX(Expr1,SMALL(IF(nom=$AE$2,ROW(INDIRECT(\"1:\"&ROWS(Expr1)))),ROWS('Charge atelier chaudronnerie'!$3:14))),\"\")","v":{"$error":"#REF!"}},{"$f":"IF(ROWS('Charge atelier chaudronnerie'!$3:14)<=COUNTIF(nom,$AE$2),INDEX(Expr2,SMALL(IF(nom=$AE$2,ROW(INDIRECT(\"1:\"&ROWS(Expr1)))),ROWS('Charge atelier chaudronnerie'!$3:14))),\"\")","v":{"$error":"#REF!"}},{"$f":"IF(ROWS('Charge atelier chaudronnerie'!$3:14)<=COUNTIF(nom,$AE$2),INDEX(DatePriseOf,SMALL(IF(nom=$AE$2,ROW(INDIRECT(\"1:\"&ROWS(Expr1)))),ROWS('Charge atelier chaudronnerie'!$3:14))),\"\")","v":{"$error":"#REF!"}},null,{"$f":"IF(ROWS('Charge atelier chaudronnerie'!$3:14)<=COUNTIF(nom,$AI$2),INDEX(Expr1,SMALL(IF(nom=$AI$2,ROW(INDIRECT(\"1:\"&ROWS(Expr1)))),ROWS('Charge atelier chaudronnerie'!$3:14))),\"\")","v":{"$error":"#REF!"}},{"$f":"IF(ROWS('Charge atelier chaudronnerie'!$3:14)<=COUNTIF(nom,$AI$2),INDEX(Expr2,SMALL(IF(nom=$AI$2,ROW(INDIRECT(\"1:\"&ROWS(Expr1)))),ROWS('Charge atelier chaudronnerie'!$3:14))),\"\")","v":{"$error":"#REF!"}},{"$f":"IF(ROWS('Charge atelier chaudronnerie'!$3:14)<=COUNTIF(nom,$AI$2),INDEX(DatePriseOf,SMALL(IF(nom=$AI$2,ROW(INDIRECT(\"1:\"&ROWS(Expr1)))),ROWS('Charge atelier chaudronnerie'!$3:14))),\"\")","v":{"$error":"#REF!"}},null,{"$f":"IF(ROWS('Charge atelier chaudronnerie'!$3:14)<=COUNTIF(nom,$AM$2),INDEX(Expr1,SMALL(IF(nom=$AM$2,ROW(INDIRECT(\"1:\"&ROWS(Expr1)))),ROWS('Charge atelier chaudronnerie'!$3:14))),\"\")","v":{"$error":"#REF!"}},{"$f":"IF(ROWS('Charge atelier chaudronnerie'!$3:14)<=COUNTIF(nom,$AM$2),INDEX(Expr2,SMALL(IF(nom=$AM$2,ROW(INDIRECT(\"1:\"&ROWS(Expr1)))),ROWS('Charge atelier chaudronnerie'!$3:14))),\"\")","v":{"$error":"#REF!"}},{"$f":"IF(ROWS('Charge atelier chaudronnerie'!$3:14)<=COUNTIF(nom,$AM$2),INDEX(DatePriseOf,SMALL(IF(nom=$AM$2,ROW(INDIRECT(\"1:\"&ROWS(Expr1)))),ROWS('Charge atelier chaudronnerie'!$3:14))),\"\")","v":{"$error":"#REF!"}},null,{"$f":"IF(ROWS('Charge atelier chaudronnerie'!$3:14)<=COUNTIF(nom,$AQ$2),INDEX(Expr1,SMALL(IF(nom=$AQ$2,ROW(INDIRECT(\"1:\"&ROWS(Expr1)))),ROWS('Charge atelier chaudronnerie'!$3:14))),\"\")","v":{"$error":"#REF!"}},{"$f":"IF(ROWS('Charge atelier chaudronnerie'!$3:14)<=COUNTIF(nom,$AQ$2),INDEX(Expr2,SMALL(IF(nom=$AQ$2,ROW(INDIRECT(\"1:\"&ROWS(Expr1)))),ROWS('Charge atelier chaudronnerie'!$3:14))),\"\")","v":{"$error":"#REF!"}},{"$f":"IF(ROWS('Charge atelier chaudronnerie'!$3:14)<=COUNTIF(nom,$AQ$2),INDEX(DatePriseOf,SMALL(IF(nom=$AQ$2,ROW(INDIRECT(\"1:\"&ROWS(Expr1)))),ROWS('Charge atelier chaudronnerie'!$3:14))),\"\")","v":{"$error":"#REF!"}},null,{"$f":"IF(ROWS('Charge atelier chaudronnerie'!$3:14)<=COUNTIF(nom,$AU$2),INDEX(Expr1,SMALL(IF(nom=$AU$2,ROW(INDIRECT(\"1:\"&ROWS(Expr1)))),ROWS('Charge atelier chaudronnerie'!$3:14))),\"\")","v":{"$error":"#REF!"}},{"$f":"IF(ROWS('Charge atelier chaudronnerie'!$3:14)<=COUNTIF(nom,$AU$2),INDEX(Expr2,SMALL(IF(nom=$AU$2,ROW(INDIRECT(\"1:\"&ROWS(Expr1)))),ROWS('Charge atelier chaudronnerie'!$3:14))),\"\")","v":{"$error":"#REF!"}},{"$f":"IF(ROWS('Charge atelier chaudronnerie'!$3:14)<=COUNTIF(nom,$AU$2),INDEX(DatePriseOf,SMALL(IF(nom=$AU$2,ROW(INDIRECT(\"1:\"&ROWS(Expr1)))),ROWS('Charge atelier chaudronnerie'!$3:14))),\"\")","v":{"$error":"#REF!"}},null,{"$f":"IF(ROWS('Charge atelier chaudronnerie'!$3:14)<=COUNTIF(nom,$AY$2),INDEX(Expr1,SMALL(IF(nom=$AY$2,ROW(INDIRECT(\"1:\"&ROWS(Expr1)))),ROWS('Charge atelier chaudronnerie'!$3:14))),\"\")","v":{"$error":"#REF!"}},{"$f":"IF(ROWS('Charge atelier chaudronnerie'!$3:14)<=COUNTIF(nom,$AY$2),INDEX(Expr2,SMALL(IF(nom=$AY$2,ROW(INDIRECT(\"1:\"&ROWS(Expr1)))),ROWS('Charge atelier chaudronnerie'!$3:14))),\"\")","v":{"$error":"#REF!"}},{"$f":"IF(ROWS('Charge atelier chaudronnerie'!$3:14)<=COUNTIF(nom,$AY$2),INDEX(DatePriseOf,SMALL(IF(nom=$AY$2,ROW(INDIRECT(\"1:\"&ROWS(Expr1)))),ROWS('Charge atelier chaudronnerie'!$3:14))),\"\")","v":{"$error":"#REF!"}},null,{"$f":"IF(ROWS('Charge atelier chaudronnerie'!$3:14)<=COUNTIF(nom,$BC$2),INDEX(Expr1,SMALL(IF(nom=$BC$2,ROW(INDIRECT(\"1:\"&ROWS(Expr1)))),ROWS('Charge atelier chaudronnerie'!$3:14))),\"\")","v":{"$error":"#REF!"}},{"$f":"IF(ROWS('Charge atelier chaudronnerie'!$3:14)<=COUNTIF(nom,$BC$2),INDEX(Expr2,SMALL(IF(nom=$BC$2,ROW(INDIRECT(\"1:\"&ROWS(Expr1)))),ROWS('Charge atelier chaudronnerie'!$3:14))),\"\")","v":{"$error":"#REF!"}},{"$f":"IF(ROWS('Charge atelier chaudronnerie'!$3:14)<=COUNTIF(nom,$BC$2),INDEX(DatePriseOf,SMALL(IF(nom=$BC$2,ROW(INDIRECT(\"1:\"&ROWS(Expr1)))),ROWS('Charge atelier chaudronnerie'!$3:14))),\"\")","v":{"$error":"#REF!"}},null,{"$f":"IF(ROWS('Charge atelier chaudronnerie'!$3:14)<=COUNTIF(nom,$BG$2),INDEX(Expr1,SMALL(IF(nom=$BG$2,ROW(INDIRECT(\"1:\"&ROWS(Expr1)))),ROWS('Charge atelier chaudronnerie'!$3:14))),\"\")","v":{"$error":"#REF!"}},{"$f":"IF(ROWS('Charge atelier chaudronnerie'!$3:14)<=COUNTIF(nom,$BG$2),INDEX(Expr2,SMALL(IF(nom=$BG$2,ROW(INDIRECT(\"1:\"&ROWS(Expr1)))),ROWS('Charge atelier chaudronnerie'!$3:14))),\"\")","v":{"$error":"#REF!"}},{"$f":"IF(ROWS('Charge atelier chaudronnerie'!$3:14)<=COUNTIF(nom,$BG$2),INDEX(DatePriseOf,SMALL(IF(nom=$BG$2,ROW(INDIRECT(\"1:\"&ROWS(Expr1)))),ROWS('Charge atelier chaudronnerie'!$3:14))),\"\")","v":{"$error":"#REF!"}},null,{"$f":"IF(ROWS('Charge atelier chaudronnerie'!$3:14)<=COUNTIF(nom,$BK$2),INDEX(Expr1,SMALL(IF(nom=$BK$2,ROW(INDIRECT(\"1:\"&ROWS(Expr1)))),ROWS('Charge atelier chaudronnerie'!$3:14))),\"\")","v":{"$error":"#REF!"}},{"$f":"IF(ROWS('Charge atelier chaudronnerie'!$3:14)<=COUNTIF(nom,$BK$2),INDEX(Expr2,SMALL(IF(nom=$BK$2,ROW(INDIRECT(\"1:\"&ROWS(Expr1)))),ROWS('Charge atelier chaudronnerie'!$3:14))),\"\")","v":{"$error":"#REF!"}},{"$f":"IF(ROWS('Charge atelier chaudronnerie'!$3:14)<=COUNTIF(nom,$BK$2),INDEX(DatePriseOf,SMALL(IF(nom=$BK$2,ROW(INDIRECT(\"1:\"&ROWS(Expr1)))),ROWS('Charge atelier chaudronnerie'!$3:14))),\"\")","v":{"$error":"#REF!"}},null,{"$f":"IF(ROWS('Charge atelier chaudronnerie'!$3:11)<=COUNTIF(nom,$BO$2),INDEX(Expr1,SMALL(IF(nom=$BO$2,ROW(INDIRECT(\"1:\"&ROWS(Expr1)))),ROWS('Charge atelier chaudronnerie'!$3:11))),\"\")","v":{"$error":"#REF!"}},{"$f":"IF(ROWS('Charge atelier chaudronnerie'!$3:11)<=COUNTIF(nom,$BO$2),INDEX(Expr2,SMALL(IF(nom=$BO$2,ROW(INDIRECT(\"1:\"&ROWS(Expr1)))),ROWS('Charge atelier chaudronnerie'!$3:11))),\"\")","v":{"$error":"#REF!"}},{"$f":"IF(ROWS('Charge atelier chaudronnerie'!$3:11)<=COUNTIF(nom,$BO$2),INDEX(DatePriseOf,SMALL(IF(nom=$BO$2,ROW(INDIRECT(\"1:\"&ROWS(Expr1)))),ROWS('Charge atelier chaudronnerie'!$3:11))),\"\")","v":{"$error":"#REF!"}},null,{"$f":"IF(ROWS('Charge atelier chaudronnerie'!$3:11)<=COUNTIF(nom,$BS$2),INDEX(Expr1,SMALL(IF(nom=$BS$2,ROW(INDIRECT(\"1:\"&ROWS(Expr1)))),ROWS('Charge atelier chaudronnerie'!$3:11))),\"\")","v":{"$error":"#REF!"}},{"$f":"IF(ROWS('Charge atelier chaudronnerie'!$3:11)<=COUNTIF(nom,$BS$2),INDEX(Expr2,SMALL(IF(nom=$BS$2,ROW(INDIRECT(\"1:\"&ROWS(Expr1)))),ROWS('Charge atelier chaudronnerie'!$3:11))),\"\")","v":{"$error":"#REF!"}},{"$f":"IF(ROWS('Charge atelier chaudronnerie'!$3:11)<=COUNTIF(nom,$BS$2),INDEX(DatePriseOf,SMALL(IF(nom=$BS$2,ROW(INDIRECT(\"1:\"&ROWS(Expr1)))),ROWS('Charge atelier chaudronnerie'!$3:11))),\"\")","v":{"$error":"#REF!"}}]
["miro",null,{"$f":"IF(ROWS('Charge atelier chaudronnerie'!$3:15)<=COUNTIF(nom,$C$2),INDEX(Expr1,SMALL(IF(nom=$C$2,ROW(INDIRECT(\"1:\"&ROWS(Expr1)))),ROWS('Charge atelier chaudronnerie'!$3:15))),\"\")","v":{"$error":"#REF!"}},{"$f":"IF(ROWS('Charge atelier chaudronnerie'!$3:15)<=COUNTIF(nom,$C$2),INDEX(Expr2,SMALL(IF(nom=$C$2,ROW(INDIRECT(\"1:\"&ROWS(Expr1)))),ROWS('Charge atelier chaudronnerie'!$3:15))),\"\")","v":{"$error":"#REF!"}},{"$f":"IF(ROWS('Charge atelier chaudronnerie'!$3:15)<=COUNTIF(nom,$C$2),INDEX(DatePriseOf,SMALL(IF(nom=$C$2,ROW(INDIRECT(\"1:\"&ROWS(Expr1)))),ROWS('Charge atelier chaudronnerie'!$3:15))),\"\")","v":{"$error":"#REF!"}},null,{"$f":"IF(ROWS('Charge atelier chaudronnerie'!$3:15)<=COUNTIF(nom,$G$2),INDEX(Expr1,SMALL(IF(nom=$G$2,ROW(INDIRECT(\"1:\"&ROWS(Expr1)))),ROWS('Charge atelier chaudronnerie'!$3:15))),\"\")","v":{"$error":"#REF!"}},{"$f":"IF(ROWS('Charge atelier chaudronnerie'!$3:15)<=COUNTIF(nom,$G$2),INDEX(Expr2,SMALL(IF(nom=$G$2,ROW(INDIRECT(\"1:\"&ROWS(Expr1)))),ROWS('Charge atelier chaudronnerie'!$3:15))),\"\")","v":{"$error":"#REF!"}},{"$f":"IF(ROWS('Charge atelier chaudronnerie'!$3:15)<=COUNTIF(nom,$G$2),INDEX(DatePriseOf,SMALL(IF(nom=$G$2,ROW(INDIRECT(\"1:\"&ROWS(Expr1)))),ROWS('Charge atelier chaudronnerie'!$3:15))),\"\")","v":{"$error":"#REF!"}},null,{"$f":"IF(ROWS('Charge atelier chaudronnerie'!$3:15)<=COUNTIF(nom,$K$2),INDEX(Expr1,SMALL(IF(nom=$K$2,ROW(INDIRECT(\"1:\"&ROWS(Expr1)))),ROWS('Charge atelier chaudronnerie'!$3:15))),\"\")","v":{"$error":"#REF!"}},{"$f":"IF(ROWS('Charge atelier chaudronnerie'!$3:15)<=COUNTIF(nom,$K$2),INDEX(Expr2,SMALL(IF(nom=$K$2,ROW(INDIRECT(\"1:\"&ROWS(Expr1)))),ROWS('Charge atelier chaudronnerie'!$3:15))),\"\")","v":{"$error":"#REF!"}},{"$f":"IF(ROWS('Charge atelier chaudronnerie'!$3:15)<=COUNTIF(nom,$K$2),INDEX(DatePriseOf,SMALL(IF(nom=$K$2,ROW(INDIRECT(\"1:\"&ROWS(Expr1)))),ROWS('Charge atelier chaudronnerie'!$3:15))),\"\")","v":{"$error":"#REF!"}},null,{"$f":"IF(ROWS('Charge atelier chaudronnerie'!$3:15)<=COUNTIF(nom,$O$2),INDEX(Expr1,SMALL(IF(nom=$O$2,ROW(INDIRECT(\"1:\"&ROWS(Expr1)))),ROWS('Charge atelier chaudronnerie'!$3:15))),\"\")","v":{"$error":"#REF!"}},{"$f":"IF(ROWS('Charge atelier chaudronnerie'!$3:15)<=COUNTIF(nom,$O$2),INDEX(Expr2,SMALL(IF(nom=$O$2,ROW(INDIRECT(\"1:\"&ROWS(Expr1)))),ROWS('Charge atelier chaudronnerie'!$3:15))),\"\")","v":{"$error":"#REF!"}},{"$f":"IF(ROWS('Charge atelier chaudronnerie'!$3:15)<=COUNTIF(nom,$O$2),INDEX(DatePriseOf,SMALL(IF(nom=$O$2,ROW(INDIRECT(\"1:\"&ROWS(Expr1)))),ROWS('Charge atelier chaudronnerie'!$3:15))),\"\")","v":{"$error":"#REF!"}},null,{"$f":"IF(ROWS('Charge atelier chaudronnerie'!$3:15)<=COUNTIF(nom,$S$2),INDEX(Expr1,SMALL(IF(nom=$S$2,ROW(INDIRECT(\"1:\"&ROWS(Expr1)))),ROWS('Charge atelier chaudronnerie'!$3:15))),\"\")","v":{"$error":"#REF!"}},{"$f":"IF(ROWS('Charge atelier chaudronnerie'!$3:15)<=COUNTIF(nom,$S$2),INDEX(Expr2,SMALL(IF(nom=$S$2,ROW(INDIRECT(\"1:\"&ROWS(Expr1)))),ROWS('Charge atelier chaudronnerie'!$3:15))),\"\")","v":{"$error":"#REF!"}},{"$f":"IF(ROWS('Charge atelier chaudronnerie'!$3:15)<=COUNTIF(nom,$S$2),INDEX(DatePriseOf,SMALL(IF(nom=$S$2,ROW(INDIRECT(\"1:\"&ROWS(Expr1)))),ROWS('Charge atelier chaudronnerie'!$3:15))),\"\")","v":{"$error":"#REF!"}},null,{"$f":"IF(ROWS('Charge atelier chaudronnerie'!$3:15)<=COUNTIF(nom,$W$2),INDEX(Expr1,SMALL(IF(nom=$W$2,ROW(INDIRECT(\"1:\"&ROWS(Expr1)))),ROWS('Charge atelier chaudronnerie'!$3:15))),\"\")","v":{"$error":"#REF!"}},{"$f":"IF(ROWS('Charge atelier chaudronnerie'!$3:15)<=COUNTIF(nom,$W$2),INDEX(Expr2,SMALL(IF(nom=$W$2,ROW(INDIRECT(\"1:\"&ROWS(Expr1)))),ROWS('Charge atelier chaudronnerie'!$3:15))),\"\")","v":{"$error":"#REF!"}},{"$f":"IF(ROWS('Charge atelier chaudronnerie'!$3:15)<=COUNTIF(nom,$W$2),INDEX(DatePriseOf,SMALL(IF(nom=$W$2,ROW(INDIRECT(\"1:\"&ROWS(Expr1)))),ROWS('Charge atelier chaudronnerie'!$3:15))),\"\")","v":{"$error":"#REF!"}},null,{"$f":"IF(ROWS('Charge atelier chaudronnerie'!$3:15)<=COUNTIF(nom,$AA$2),INDEX(Expr1,SMALL(IF(nom=$AA$2,ROW(INDIRECT(\"1:\"&ROWS(Expr1)))),ROWS('Charge atelier chaudronnerie'!$3:15))),\"\")","v":{"$error":"#REF!"}},{"$f":"IF(ROWS('Charge atelier chaudronnerie'!$3:15)<=COUNTIF(nom,$AA$2),INDEX(Expr2,SMALL(IF(nom=$AA$2,ROW(INDIRECT(\"1:\"&ROWS(Expr1)))),ROWS('Charge atelier chaudronnerie'!$3:15))),\"\")","v":{"$error":"#REF!"}},{"$f":"IF(ROWS('Charge atelier chaudronnerie'!$3:15)<=COUNTIF(nom,$AA$2),INDEX(DatePriseOf,SMALL(IF(nom=$AA$2,ROW(INDIRECT(\"1:\"&ROWS(Expr1)))),ROWS('Charge atelier chaudronnerie'!$3:15))),\"\")","v":{"$error":"#REF!"}},null,{"$f":"IF(ROWS('Charge atelier chaudronnerie'!$3:15)<=COUNTIF(nom,$AE$2),INDEX(Expr1,SMALL(IF(nom=$AE$2,ROW(INDIRECT(\"1:\"&ROWS(Expr1)))),ROWS('Charge atelier chaudronnerie'!$3:15))),\"\")","v":{"$error":"#REF!"}},{"$f":"IF(ROWS('Charge atelier chaudronnerie'!$3:15)<=COUNTIF(nom,$AE$2),INDEX(Expr2,SMALL(IF(nom=$AE$2,ROW(INDIRECT(\"1:\"&ROWS(Expr1)))),ROWS('Charge atelier chaudronnerie'!$3:15))),\"\")","v":{"$error":"#REF!"}},{"$f":"IF(ROWS('Charge atelier chaudronnerie'!$3:15)<=COUNTIF(nom,$AE$2),INDEX(DatePriseOf,SMALL(IF(nom=$AE$2,ROW(INDIRECT(\"1:\"&ROWS(Expr1)))),ROWS('Charge atelier chaudronnerie'!$3:15))),\"\")","v":{"$error":"#REF!"}},null,{"$f":"IF(ROWS('Charge atelier chaudronnerie'!$3:15)<=COUNTIF(nom,$AI$2),INDEX(Expr1,SMALL(IF(nom=$AI$2,ROW(INDIRECT(\"1:\"&ROWS(Expr1)))),ROWS('Charge atelier chaudronnerie'!$3:15))),\"\")","v":{"$error":"#REF!"}},{"$f":"IF(ROWS('Charge atelier chaudronnerie'!$3:15)<=COUNTIF(nom,$AI$2),INDEX(Expr2,SMALL(IF(nom=$AI$2,ROW(INDIRECT(\"1:\"&ROWS(Expr1)))),ROWS('Charge atelier chaudronnerie'!$3:15))),\"\")","v":{"$error":"#REF!"}},{"$f":"IF(ROWS('Charge atelier chaudronnerie'!$3:15)<=COUNTIF(nom,$AI$2),INDEX(DatePriseOf,SMALL(IF(nom=$AI$2,ROW(INDIRECT(\"1:\"&ROWS(Expr1)))),ROWS('Charge atelier chaudronnerie'!$3:15))),\"\")","v":{"$error":"#REF!"}},null,{"$f":"IF(ROWS('Charge atelier chaudronnerie'!$3:15)<=COUNTIF(nom,$AM$2),INDEX(Expr1,SMALL(IF(nom=$AM$2,ROW(INDIRECT(\"1:\"&ROWS(Expr1)))),ROWS('Charge atelier chaudronnerie'!$3:15))),\"\")","v":{"$error":"#REF!"}},{"$f":"IF(ROWS('Charge atelier chaudronnerie'!$3:15)<=COUNTIF(nom,$AM$2),INDEX(Expr2,SMALL(IF(nom=$AM$2,ROW(INDIRECT(\"1:\"&ROWS(Expr1)))),ROWS('Charge atelier chaudronnerie'!$3:15))),\"\")","v":{"$error":"#REF!"}},{"$f":"IF(ROWS('Charge atelier chaudronnerie'!$3:15)<=COUNTIF(nom,$AM$2),INDEX(DatePriseOf,SMALL(IF(nom=$AM$2,ROW(INDIRECT(\"1:\"&ROWS(Expr1)))),ROWS('Charge atelier chaudronnerie'!$3:15))),\"\")","v":{"$error":"#REF!"}},null,{"$f":"IF(ROWS('Charge atelier chaudronnerie'!$3:15)<=COUNTIF(nom,$AQ$2),INDEX(Expr1,SMALL(IF(nom=$AQ$2,ROW(INDIRECT(\"1:\"&ROWS(Expr1)))),ROWS('Charge atelier chaudronnerie'!$3:15))),\"\")","v":{"$error":"#REF!"}},{"$f":"IF(ROWS('Charge atelier chaudronnerie'!$3:15)<=COUNTIF(nom,$AQ$2),INDEX(Expr2,SMALL(IF(nom=$AQ$2,ROW(INDIRECT(\"1:\"&ROWS(Expr1)))),ROWS('Charge atelier chaudronnerie'!$3:15))),\"\")","v":{"$error":"#REF!"}},{"$f":"IF(ROWS('Charge atelier chaudronnerie'!$3:15)<=COUNTIF(nom,$AQ$2),INDEX(DatePriseOf,SMALL(IF(nom=$AQ$2,ROW(INDIRECT(\"1:\"&ROWS(Expr1)))),ROWS('Charge atelier chaudronnerie'!$3:15))),\"\")","v":{"$error":"#REF!"}},null,{"$f":"IF(ROWS('Charge atelier chaudronnerie'!$3:15)<=COUNTIF(nom,$AU$2),INDEX(Expr1,SMALL(IF(nom=$AU$2,ROW(INDIRECT(\"1:\"&ROWS(Expr1)))),ROWS('Charge atelier chaudronnerie'!$3:15))),\"\")","v":{"$error":"#REF!"}},{"$f":"IF(ROWS('Charge atelier chaudronnerie'!$3:15)<=COUNTIF(nom,$AU$2),INDEX(Expr2,SMALL(IF(nom=$AU$2,ROW(INDIRECT(\"1:\"&ROWS(Expr1)))),ROWS('Charge atelier chaudronnerie'!$3:15))),\"\")","v":{"$error":"#REF!"}},{"$f":"IF(ROWS('Charge atelier chaudronnerie'!$3:15)<=COUNTIF(nom,$AU$2),INDEX(DatePriseOf,SMALL(IF(nom=$AU$2,ROW(INDIRECT(\"1:\"&ROWS(Expr1)))),ROWS('Charge atelier chaudronnerie'!$3:15))),\"\")","v":{"$error":"#REF!"}},null,{"$f":"IF(ROWS('Charge atelier chaudronnerie'!$3:15)<=COUNTIF(nom,$AY$2),INDEX(Expr1,SMALL(IF(nom=$AY$2,ROW(INDIRECT(\"1:\"&ROWS(Expr1)))),ROWS('Charge atelier chaudronnerie'!$3:15))),\"\")","v":{"$error":"#REF!"}},{"$f":"IF(ROWS('Charge atelier chaudronnerie'!$3:15)<=COUNTIF(nom,$AY$2),INDEX(Expr2,SMALL(IF(nom=$AY$2,ROW(INDIRECT(\"1:\"&ROWS(Expr1)))),ROWS('Charge atelier chaudronnerie'!$3:15))),\"\")","v":{"$error":"#REF!"}},{"$f":"IF(ROWS('Charge atelier chaudronnerie'!$3:15)<=COUNTIF(nom,$AY$2),INDEX(DatePriseOf,SMALL(IF(nom=$AY$2,ROW(INDIRECT(\"1:\"&ROWS(Expr1)))),ROWS('Charge atelier chaudronnerie'!$3:15))),\"\")","v":{"$error":"#REF!"}},null,{"$f":"IF(ROWS('Charge atelier chaudronnerie'!$3:15)<=COUNTIF(nom,$BC$2),INDEX(Expr1,SMALL(IF(nom=$BC$2,ROW(INDIRECT(\"1:\"&ROWS(Expr1)))),ROWS('Charge atelier chaudronnerie'!$3:15))),\"\")","v":{"$error":"#REF!"}},{"$f":"IF(ROWS('Charge atelier chaudronnerie'!$3:15)<=COUNTIF(nom,$BC$2),INDEX(Expr2,SMALL(IF(nom=$BC$2,ROW(INDIRECT(\"1:\"&ROWS(Expr1)))),ROWS('Charge atelier chaudronnerie'!$3:15))),\"\")","v":{"$error":"#REF!"}},{"$f":"IF(ROWS('Charge atelier chaudronnerie'!$3:15)<=COUNTIF(nom,$BC$2),INDEX(DatePriseOf,SMALL(IF(nom=$BC$2,ROW(INDIRECT(\"1:\"&ROWS(Expr1)))),ROWS('Charge atelier chaudronnerie'!$3:15))),\"\")","v":{"$error":"#REF!"}},null,{"$f":"IF(ROWS('Charge atelier chaudronnerie'!$3:15)<=COUNTIF(nom,$BG$2),INDEX(Expr1,SMALL(IF(nom=$BG$2,ROW(INDIRECT(\"1:\"&ROWS(Expr1)))),ROWS('Charge atelier chaudronnerie'!$3:15))),\"\")","v":{"$error":"#REF!"}},{"$f":"IF(ROWS('Charge atelier chaudronnerie'!$3:15)<=COUNTIF(nom,$BG$2),INDEX(Expr2,SMALL(IF(nom=$BG$2,ROW(INDIRECT(\"1:\"&ROWS(Expr1)))),ROWS('Charge atelier chaudronnerie'!$3:15))),\"\")","v":{"$error":"#REF!"}},{"$f":"IF(ROWS('Charge atelier chaudronnerie'!$3:15)<=COUNTIF(nom,$BG$2),INDEX(DatePriseOf,SMALL(IF(nom=$BG$2,ROW(INDIRECT(\"1:\"&ROWS(Expr1)))),ROWS('Charge atelier chaudronnerie'!$3:15))),\"\")","v":{"$error":"#REF!"}},null,{"$f":"IF(ROWS('Charge atelier chaudronnerie'!$3:15)<=COUNTIF(nom,$BK$2),INDEX(Expr1,SMALL(IF(nom=$BK$2,ROW(INDIRECT(\"1:\"&ROWS(Expr1)))),ROWS('Charge atelier chaudronnerie'!$3:15))),\"\")","v":{"$error":"#REF!"}},{"$f":"IF(ROWS('Charge atelier chaudronnerie'!$3:15)<=COUNTIF(nom,$BK$2),INDEX(Expr2,SMALL(IF(nom=$BK$2,ROW(INDIRECT(\"1:\"&ROWS(Expr1)))),ROWS('Charge atelier chaudronnerie'!$3:15))),\"\")","v":{"$error":"#REF!"}},{"$f":"IF(ROWS('Charge atelier chaudronnerie'!$3:15)<=COUNTIF(nom,$BK$2),INDEX(DatePriseOf,SMALL(IF(nom=$BK$2,ROW(INDIRECT(\"1:\"&ROWS(Expr1)))),ROWS('Charge atelier chaudronnerie'!$3:15))),\"\")","v":{"$error":"#REF!"}},null,{"$f":"IF(ROWS('Charge atelier chaudronnerie'!$3:12)<=COUNTIF(nom,$BO$2),INDEX(Expr1,SMALL(IF(nom=$BO$2,ROW(INDIRECT(\"1:\"&ROWS(Expr1)))),ROWS('Charge atelier chaudronnerie'!$3:12))),\"\")","v":{"$error":"#REF!"}},{"$f":"IF(ROWS('Charge atelier chaudronnerie'!$3:12)<=COUNTIF(nom,$BO$2),INDEX(Expr2,SMALL(IF(nom=$BO$2,ROW(INDIRECT(\"1:\"&ROWS(Expr1)))),ROWS('Charge atelier chaudronnerie'!$3:12))),\"\")","v":{"$error":"#REF!"}},{"$f":"IF(ROWS('Charge atelier chaudronnerie'!$3:12)<=COUNTIF(nom,$BO$2),INDEX(DatePriseOf,SMALL(IF(nom=$BO$2,ROW(INDIRECT(\"1:\"&ROWS(Expr1)))),ROWS('Charge atelier chaudronnerie'!$3:12))),\"\")","v":{"$error":"#REF!"}},null,{"$f":"IF(ROWS('Charge atelier chaudronnerie'!$3:12)<=COUNTIF(nom,$BS$2),INDEX(Expr1,SMALL(IF(nom=$BS$2,ROW(INDIRECT(\"1:\"&ROWS(Expr1)))),ROWS('Charge atelier chaudronnerie'!$3:12))),\"\")","v":{"$error":"#REF!"}},{"$f":"IF(ROWS('Charge atelier chaudronnerie'!$3:12)<=COUNTIF(nom,$BS$2),INDEX(Expr2,SMALL(IF(nom=$BS$2,ROW(INDIRECT(\"1:\"&ROWS(Expr1)))),ROWS('Charge atelier chaudronnerie'!$3:12))),\"\")","v":{"$error":"#REF!"}},{"$f":"IF(ROWS('Charge atelier chaudronnerie'!$3:12)<=COUNTIF(nom,$BS$2),INDEX(DatePriseOf,SMALL(IF(nom=$BS$2,ROW(INDIRECT(\"1:\"&ROWS(Expr1)))),ROWS('Charge atelier chaudronnerie'!$3:12))),\"\")","v":{"$error":"#REF!"}}]
["mirek",null,{"$f":"IF(ROWS('Charge atelier chaudronnerie'!$3:16)<=COUNTIF(nom,$C$2),INDEX(Expr1,SMALL(IF(nom=$C$2,ROW(INDIRECT(\"1:\"&ROWS(Expr1)))),ROWS('Charge atelier chaudronnerie'!$3:16))),\"\")","v":{"$error":"#REF!"}},{"$f":"IF(ROWS('Charge atelier chaudronnerie'!$3:16)<=COUNTIF(nom,$C$2),INDEX(Expr2,SMALL(IF(nom=$C$2,ROW(INDIRECT(\"1:\"&ROWS(Expr1)))),ROWS('Charge atelier chaudronnerie'!$3:16))),\"\")","v":{"$error":"#REF!"}},{"$f":"IF(ROWS('Charge atelier chaudronnerie'!$3:16)<=COUNTIF(nom,$C$2),INDEX(DatePriseOf,SMALL(IF(nom=$C$2,ROW(INDIRECT(\"1:\"&ROWS(Expr1)))),ROWS('Charge atelier chaudronnerie'!$3:16))),\"\")","v":{"$error":"#REF!"}},null,{"$f":"IF(ROWS('Charge atelier chaudronnerie'!$3:16)<=COUNTIF(nom,$G$2),INDEX(Expr1,SMALL(IF(nom=$G$2,ROW(INDIRECT(\"1:\"&ROWS(Expr1)))),ROWS('Charge atelier chaudronnerie'!$3:16))),\"\")","v":{"$error":"#REF!"}},{"$f":"IF(ROWS('Charge atelier chaudronnerie'!$3:16)<=COUNTIF(nom,$G$2),INDEX(Expr2,SMALL(IF(nom=$G$2,ROW(INDIRECT(\"1:\"&ROWS(Expr1)))),ROWS('Charge atelier chaudronnerie'!$3:16))),\"\")","v":{"$error":"#REF!"}},{"$f":"IF(ROWS('Charge atelier chaudronnerie'!$3:16)<=COUNTIF(nom,$G$2),INDEX(DatePriseOf,SMALL(IF(nom=$G$2,ROW(INDIRECT(\"1:\"&ROWS(Expr1)))),ROWS('Charge atelier chaudronnerie'!$3:16))),\"\")","v":{"$error":"#REF!"}},null,{"$f":"IF(ROWS('Charge atelier chaudronnerie'!$3:16)<=COUNTIF(nom,$K$2),INDEX(Expr1,SMALL(IF(nom=$K$2,ROW(INDIRECT(\"1:\"&ROWS(Expr1)))),ROWS('Charge atelier chaudronnerie'!$3:16))),\"\")","v":{"$error":"#REF!"}},{"$f":"IF(ROWS('Charge atelier chaudronnerie'!$3:16)<=COUNTIF(nom,$K$2),INDEX(Expr2,SMALL(IF(nom=$K$2,ROW(INDIRECT(\"1:\"&ROWS(Expr1)))),ROWS('Charge atelier chaudronnerie'!$3:16))),\"\")","v":{"$error":"#REF!"}},{"$f":"IF(ROWS('Charge atelier chaudronnerie'!$3:16)<=COUNTIF(nom,$K$2),INDEX(DatePriseOf,SMALL(IF(nom=$K$2,ROW(INDIRECT(\"1:\"&ROWS(Expr1)))),ROWS('Charge atelier chaudronnerie'!$3:16))),\"\")","v":{"$error":"#REF!"}},null,{"$f":"IF(ROWS('Charge atelier chaudronnerie'!$3:16)<=COUNTIF(nom,$O$2),INDEX(Expr1,SMALL(IF(nom=$O$2,ROW(INDIRECT(\"1:\"&ROWS(Expr1)))),ROWS('Charge atelier chaudronnerie'!$3:16))),\"\")","v":{"$error":"#REF!"}},{"$f":"IF(ROWS('Charge atelier chaudronnerie'!$3:16)<=COUNTIF(nom,$O$2),INDEX(Expr2,SMALL(IF(nom=$O$2,ROW(INDIRECT(\"1:\"&ROWS(Expr1)))),ROWS('Charge atelier chaudronnerie'!$3:16))),\"\")","v":{"$error":"#REF!"}},{"$f":"IF(ROWS('Charge atelier chaudronnerie'!$3:16)<=COUNTIF(nom,$O$2),INDEX(DatePriseOf,SMALL(IF(nom=$O$2,ROW(INDIRECT(\"1:\"&ROWS(Expr1)))),ROWS('Charge atelier chaudronnerie'!$3:16))),\"\")","v":{"$error":"#REF!"}},null,{"$f":"IF(ROWS('Charge atelier chaudronnerie'!$3:16)<=COUNTIF(nom,$S$2),INDEX(Expr1,SMALL(IF(nom=$S$2,ROW(INDIRECT(\"1:\"&ROWS(Expr1)))),ROWS('Charge atelier chaudronnerie'!$3:16))),\"\")","v":{"$error":"#REF!"}},{"$f":"IF(ROWS('Charge atelier chaudronnerie'!$3:16)<=COUNTIF(nom,$S$2),INDEX(Expr2,SMALL(IF(nom=$S$2,ROW(INDIRECT(\"1:\"&ROWS(Expr1)))),ROWS('Charge atelier chaudronnerie'!$3:16))),\"\")","v":{"$error":"#REF!"}},{"$f":"IF(ROWS('Charge atelier chaudronnerie'!$3:16)<=COUNTIF(nom,$S$2),INDEX(DatePriseOf,SMALL(IF(nom=$S$2,ROW(INDIRECT(\"1:\"&ROWS(Expr1)))),ROWS('Charge atelier chaudronnerie'!$3:16))),\"\")","v":{"$error":"#REF!"}},null,{"$f":"IF(ROWS('Charge atelier chaudronnerie'!$3:16)<=COUNTIF(nom,$W$2),INDEX(Expr1,SMALL(IF(nom=$W$2,ROW(INDIRECT(\"1:\"&ROWS(Expr1)))),ROWS('Charge atelier chaudronnerie'!$3:16))),\"\")","v":{"$error":"#REF!"}},{"$f":"IF(ROWS('Charge atelier chaudronnerie'!$3:16)<=COUNTIF(nom,$W$2),INDEX(Expr2,SMALL(IF(nom=$W$2,ROW(INDIRECT(\"1:\"&ROWS(Expr1)))),ROWS('Charge atelier chaudronnerie'!$3:16))),\"\")","v":{"$error":"#REF!"}},{"$f":"IF(ROWS('Charge atelier chaudronnerie'!$3:16)<=COUNTIF(nom,$W$2),INDEX(DatePriseOf,SMALL(IF(nom=$W$2,ROW(INDIRECT(\"1:\"&ROWS(Expr1)))),ROWS('Charge atelier chaudronnerie'!$3:16))),\"\")","v":{"$error":"#REF!"}},null,{"$f":"IF(ROWS('Charge atelier chaudronnerie'!$3:16)<=COUNTIF(nom,$AA$2),INDEX(Expr1,SMALL(IF(nom=$AA$2,ROW(INDIRECT(\"1:\"&ROWS(Expr1)))),ROWS('Charge atelier chaudronnerie'!$3:16))),\"\")","v":{"$error":"#REF!"}},{"$f":"IF(ROWS('Charge atelier chaudronnerie'!$3:16)<=COUNTIF(nom,$AA$2),INDEX(Expr2,SMALL(IF(nom=$AA$2,ROW(INDIRECT(\"1:\"&ROWS(Expr1)))),ROWS('Charge atelier chaudronnerie'!$3:16))),\"\")","v":{"$error":"#REF!"}},{"$f":"IF(ROWS('Charge atelier chaudronnerie'!$3:16)<=COUNTIF(nom,$AA$2),INDEX(DatePriseOf,SMALL(IF(nom=$AA$2,ROW(INDIRECT(\"1:\"&ROWS(Expr1)))),ROWS('Charge atelier chaudronnerie'!$3:16))),\"\")","v":{"$error":"#REF!"}},null,{"$f":"IF(ROWS('Charge atelier chaudronnerie'!$3:16)<=COUNTIF(nom,$AE$2),INDEX(Expr1,SMALL(IF(nom=$AE$2,ROW(INDIRECT(\"1:\"&ROWS(Expr1)))),ROWS('Charge atelier chaudronnerie'!$3:16))),\"\")","v":{"$error":"#REF!"}},{"$f":"IF(ROWS('Charge atelier chaudronnerie'!$3:16)<=COUNTIF(nom,$AE$2),INDEX(Expr2,SMALL(IF(nom=$AE$2,ROW(INDIRECT(\"1:\"&ROWS(Expr1)))),ROWS('Charge atelier chaudronnerie'!$3:16))),\"\")","v":{"$error":"#REF!"}},{"$f":"IF(ROWS('Charge atelier chaudronnerie'!$3:16)<=COUNTIF(nom,$AE$2),INDEX(DatePriseOf,SMALL(IF(nom=$AE$2,ROW(INDIRECT(\"1:\"&ROWS(Expr1)))),ROWS('Charge atelier chaudronnerie'!$3:16))),\"\")","v":{"$error":"#REF!"}},null,{"$f":"IF(ROWS('Charge atelier chaudronnerie'!$3:16)<=COUNTIF(nom,$AI$2),INDEX(Expr1,SMALL(IF(nom=$AI$2,ROW(INDIRECT(\"1:\"&ROWS(Expr1)))),ROWS('Charge atelier chaudronnerie'!$3:16))),\"\")","v":{"$error":"#REF!"}},{"$f":"IF(ROWS('Charge atelier chaudronnerie'!$3:16)<=COUNTIF(nom,$AI$2),INDEX(Expr2,SMALL(IF(nom=$AI$2,ROW(INDIRECT(\"1:\"&ROWS(Expr1)))),ROWS('Charge atelier chaudronnerie'!$3:16))),\"\")","v":{"$error":"#REF!"}},{"$f":"IF(ROWS('Charge atelier chaudronnerie'!$3:16)<=COUNTIF(nom,$AI$2),INDEX(DatePriseOf,SMALL(IF(nom=$AI$2,ROW(INDIRECT(\"1:\"&ROWS(Expr1)))),ROWS('Charge atelier chaudronnerie'!$3:16))),\"\")","v":{"$error":"#REF!"}},null,{"$f":"IF(ROWS('Charge atelier chaudronnerie'!$3:16)<=COUNTIF(nom,$AM$2),INDEX(Expr1,SMALL(IF(nom=$AM$2,ROW(INDIRECT(\"1:\"&ROWS(Expr1)))),ROWS('Charge atelier chaudronnerie'!$3:16))),\"\")","v":{"$error":"#REF!"}},{"$f":"IF(ROWS('Charge atelier chaudronnerie'!$3:16)<=COUNTIF(nom,$AM$2),INDEX(Expr2,SMALL(IF(nom=$AM$2,ROW(INDIRECT(\"1:\"&ROWS(Expr1)))),ROWS('Charge atelier chaudronnerie'!$3:16))),\"\")","v":{"$error":"#REF!"}},{"$f":"IF(ROWS('Charge atelier chaudronnerie'!$3:16)<=COUNTIF(nom,$AM$2),INDEX(DatePriseOf,SMALL(IF(nom=$AM$2,ROW(INDIRECT(\"1:\"&ROWS(Expr1)))),ROWS('Charge atelier chaudronnerie'!$3:16))),\"\")","v":{"$error":"#REF!"}},null,{"$f":"IF(ROWS('Charge atelier chaudronnerie'!$3:16)<=COUNTIF(nom,$AQ$2),INDEX(Expr1,SMALL(IF(nom=$AQ$2,ROW(INDIRECT(\"1:\"&ROWS(Expr1)))),ROWS('Charge atelier chaudronnerie'!$3:16))),\"\")","v":{"$error":"#REF!"}},{"$f":"IF(ROWS('Charge atelier chaudronnerie'!$3:16)<=COUNTIF(nom,$AQ$2),INDEX(Expr2,SMALL(IF(nom=$AQ$2,ROW(INDIRECT(\"1:\"&ROWS(Expr1)))),ROWS('Charge atelier chaudronnerie'!$3:16))),\"\")","v":{"$error":"#REF!"}},{"$f":"IF(ROWS('Charge atelier chaudronnerie'!$3:16)<=COUNTIF(nom,$AQ$2),INDEX(DatePriseOf,SMALL(IF(nom=$AQ$2,ROW(INDIRECT(\"1:\"&ROWS(Expr1)))),ROWS('Charge atelier chaudronnerie'!$3:16))),\"\")","v":{"$error":"#REF!"}},null,{"$f":"IF(ROWS('Charge atelier chaudronnerie'!$3:16)<=COUNTIF(nom,$AU$2),INDEX(Expr1,SMALL(IF(nom=$AU$2,ROW(INDIRECT(\"1:\"&ROWS(Expr1)))),ROWS('Charge atelier chaudronnerie'!$3:16))),\"\")","v":{"$error":"#REF!"}},{"$f":"IF(ROWS('Charge atelier chaudronnerie'!$3:16)<=COUNTIF(nom,$AU$2),INDEX(Expr2,SMALL(IF(nom=$AU$2,ROW(INDIRECT(\"1:\"&ROWS(Expr1)))),ROWS('Charge atelier chaudronnerie'!$3:16))),\"\")","v":{"$error":"#REF!"}},{"$f":"IF(ROWS('Charge atelier chaudronnerie'!$3:16)<=COUNTIF(nom,$AU$2),INDEX(DatePriseOf,SMALL(IF(nom=$AU$2,ROW(INDIRECT(\"1:\"&ROWS(Expr1)))),ROWS('Charge atelier chaudronnerie'!$3:16))),\"\")","v":{"$error":"#REF!"}},null,{"$f":"IF(ROWS('Charge atelier chaudronnerie'!$3:16)<=COUNTIF(nom,$AY$2),INDEX(Expr1,SMALL(IF(nom=$AY$2,ROW(INDIRECT(\"1:\"&ROWS(Expr1)))),ROWS('Charge atelier chaudronnerie'!$3:16))),\"\")","v":{"$error":"#REF!"}},{"$f":"IF(ROWS('Charge atelier chaudronnerie'!$3:16)<=COUNTIF(nom,$AY$2),INDEX(Expr2,SMALL(IF(nom=$AY$2,ROW(INDIRECT(\"1:\"&ROWS(Expr1)))),ROWS('Charge atelier chaudronnerie'!$3:16))),\"\")","v":{"$error":"#REF!"}},{"$f":"IF(ROWS('Charge atelier chaudronnerie'!$3:16)<=COUNTIF(nom,$AY$2),INDEX(DatePriseOf,SMALL(IF(nom=$AY$2,ROW(INDIRECT(\"1:\"&ROWS(Expr1)))),ROWS('Charge atelier chaudronnerie'!$3:16))),\"\")","v":{"$error":"#REF!"}},null,{"$f":"IF(ROWS('Charge atelier chaudronnerie'!$3:16)<=COUNTIF(nom,$BC$2),INDEX(Expr1,SMALL(IF(nom=$BC$2,ROW(INDIRECT(\"1:\"&ROWS(Expr1)))),ROWS('Charge atelier chaudronnerie'!$3:16))),\"\")","v":{"$error":"#REF!"}},{"$f":"IF(ROWS('Charge atelier chaudronnerie'!$3:16)<=COUNTIF(nom,$BC$2),INDEX(Expr2,SMALL(IF(nom=$BC$2,ROW(INDIRECT(\"1:\"&ROWS(Expr1)))),ROWS('Charge atelier chaudronnerie'!$3:16))),\"\")","v":{"$error":"#REF!"}},{"$f":"IF(ROWS('Charge atelier chaudronnerie'!$3:16)<=COUNTIF(nom,$BC$2),INDEX(DatePriseOf,SMALL(IF(nom=$BC$2,ROW(INDIRECT(\"1:\"&ROWS(Expr1)))),ROWS('Charge atelier chaudronnerie'!$3:16))),\"\")","v":{"$error":"#REF!"}},null,{"$f":"IF(ROWS('Charge atelier chaudronnerie'!$3:16)<=COUNTIF(nom,$BG$2),INDEX(Expr1,SMALL(IF(nom=$BG$2,ROW(INDIRECT(\"1:\"&ROWS(Expr1)))),ROWS('Charge atelier chaudronnerie'!$3:16))),\"\")","v":{"$error":"#REF!"}},{"$f":"IF(ROWS('Charge atelier chaudronnerie'!$3:16)<=COUNTIF(nom,$BG$2),INDEX(Expr2,SMALL(IF(nom=$BG$2,ROW(INDIRECT(\"1:\"&ROWS(Expr1)))),ROWS('Charge atelier chaudronnerie'!$3:16))),\"\")","v":{"$error":"#REF!"}},{"$f":"IF(ROWS('Charge atelier chaudronnerie'!$3:16)<=COUNTIF(nom,$BG$2),INDEX(DatePriseOf,SMALL(IF(nom=$BG$2,ROW(INDIRECT(\"1:\"&ROWS(Expr1)))),ROWS('Charge atelier chaudronnerie'!$3:16))),\"\")","v":{"$error":"#REF!"}},null,{"$f":"IF(ROWS('Charge atelier chaudronnerie'!$3:16)<=COUNTIF(nom,$BK$2),INDEX(Expr1,SMALL(IF(nom=$BK$2,ROW(INDIRECT(\"1:\"&ROWS(Expr1)))),ROWS('Charge atelier chaudronnerie'!$3:16))),\"\")","v":{"$error":"#REF!"}},{"$f":"IF(ROWS('Charge atelier chaudronnerie'!$3:16)<=COUNTIF(nom,$BK$2),INDEX(Expr2,SMALL(IF(nom=$BK$2,ROW(INDIRECT(\"1:\"&ROWS(Expr1)))),ROWS('Charge atelier chaudronnerie'!$3:16))),\"\")","v":{"$error":"#REF!"}},{"$f":"IF(ROWS('Charge atelier chaudronnerie'!$3:16)<=COUNTIF(nom,$BK$2),INDEX(DatePriseOf,SMALL(IF(nom=$BK$2,ROW(INDIRECT(\"1:\"&ROWS(Expr1)))),ROWS('Charge atelier chaudronnerie'!$3:16))),\"\")","v":{"$error":"#REF!"}},null,{"$f":"IF(ROWS('Charge atelier chaudronnerie'!$3:13)<=COUNTIF(nom,$BO$2),INDEX(Expr1,SMALL(IF(nom=$BO$2,ROW(INDIRECT(\"1:\"&ROWS(Expr1)))),ROWS('Charge atelier chaudronnerie'!$3:13))),\"\")","v":{"$error":"#REF!"}},{"$f":"IF(ROWS('Charge atelier chaudronnerie'!$3:13)<=COUNTIF(nom,$BO$2),INDEX(Expr2,SMALL(IF(nom=$BO$2,ROW(INDIRECT(\"1:\"&ROWS(Expr1)))),ROWS('Charge atelier chaudronnerie'!$3:13))),\"\")","v":{"$error":"#REF!"}},{"$f":"IF(ROWS('Charge atelier chaudronnerie'!$3:13)<=COUNTIF(nom,$BO$2),INDEX(DatePriseOf,SMALL(IF(nom=$BO$2,ROW(INDIRECT(\"1:\"&ROWS(Expr1)))),ROWS('Charge atelier chaudronnerie'!$3:13))),\"\")","v":{"$error":"#REF!"}},null,{"$f":"IF(ROWS('Charge atelier chaudronnerie'!$3:13)<=COUNTIF(nom,$BS$2),INDEX(Expr1,SMALL(IF(nom=$BS$2,ROW(INDIRECT(\"1:\"&ROWS(Expr1)))),ROWS('Charge atelier chaudronnerie'!$3:13))),\"\")","v":{"$error":"#REF!"}},{"$f":"IF(ROWS('Charge atelier chaudronnerie'!$3:13)<=COUNTIF(nom,$BS$2),INDEX(Expr2,SMALL(IF(nom=$BS$2,ROW(INDIRECT(\"1:\"&ROWS(Expr1)))),ROWS('Charge atelier chaudronnerie'!$3:13))),\"\")","v":{"$error":"#REF!"}},{"$f":"IF(ROWS('Charge atelier chaudronnerie'!$3:13)<=COUNTIF(nom,$BS$2),INDEX(DatePriseOf,SMALL(IF(nom=$BS$2,ROW(INDIRECT(\"1:\"&ROWS(Expr1)))),ROWS('Charge atelier chaudronnerie'!$3:13))),\"\")","v":{"$error":"#REF!"}}]
["nicholas",null,{"$f":"IF(ROWS('Charge atelier chaudronnerie'!$3:17)<=COUNTIF(nom,$C$2),INDEX(Expr1,SMALL(IF(nom=$C$2,ROW(INDIRECT(\"1:\"&ROWS(Expr1)))),ROWS('Charge atelier chaudronnerie'!$3:17))),\"\")","v":{"$error":"#REF!"}},{"$f":"IF(ROWS('Charge atelier chaudronnerie'!$3:17)<=COUNTIF(nom,$C$2),INDEX(Expr2,SMALL(IF(nom=$C$2,ROW(INDIRECT(\"1:\"&ROWS(Expr1)))),ROWS('Charge atelier chaudronnerie'!$3:17))),\"\")","v":{"$error":"#REF!"}},{"$f":"IF(ROWS('Charge atelier chaudronnerie'!$3:17)<=COUNTIF(nom,$C$2),INDEX(DatePriseOf,SMALL(IF(nom=$C$2,ROW(INDIRECT(\"1:\"&ROWS(Expr1)))),ROWS('Charge atelier chaudronnerie'!$3:17))),\"\")","v":{"$error":"#REF!"}},null,{"$f":"IF(ROWS('Charge atelier chaudronnerie'!$3:17)<=COUNTIF(nom,$G$2),INDEX(Expr1,SMALL(IF(nom=$G$2,ROW(INDIRECT(\"1:\"&ROWS(Expr1)))),ROWS('Charge atelier chaudronnerie'!$3:17))),\"\")","v":{"$error":"#REF!"}},{"$f":"IF(ROWS('Charge atelier chaudronnerie'!$3:17)<=COUNTIF(nom,$G$2),INDEX(Expr2,SMALL(IF(nom=$G$2,ROW(INDIRECT(\"1:\"&ROWS(Expr1)))),ROWS('Charge atelier chaudronnerie'!$3:17))),\"\")","v":{"$error":"#REF!"}},{"$f":"IF(ROWS('Charge atelier chaudronnerie'!$3:17)<=COUNTIF(nom,$G$2),INDEX(DatePriseOf,SMALL(IF(nom=$G$2,ROW(INDIRECT(\"1:\"&ROWS(Expr1)))),ROWS('Charge atelier chaudronnerie'!$3:17))),\"\")","v":{"$error":"#REF!"}},null,{"$f":"IF(ROWS('Charge atelier chaudronnerie'!$3:17)<=COUNTIF(nom,$K$2),INDEX(Expr1,SMALL(IF(nom=$K$2,ROW(INDIRECT(\"1:\"&ROWS(Expr1)))),ROWS('Charge atelier chaudronnerie'!$3:17))),\"\")","v":{"$error":"#REF!"}},{"$f":"IF(ROWS('Charge atelier chaudronnerie'!$3:17)<=COUNTIF(nom,$K$2),INDEX(Expr2,SMALL(IF(nom=$K$2,ROW(INDIRECT(\"1:\"&ROWS(Expr1)))),ROWS('Charge atelier chaudronnerie'!$3:17))),\"\")","v":{"$error":"#REF!"}},{"$f":"IF(ROWS('Charge atelier chaudronnerie'!$3:17)<=COUNTIF(nom,$K$2),INDEX(DatePriseOf,SMALL(IF(nom=$K$2,ROW(INDIRECT(\"1:\"&ROWS(Expr1)))),ROWS('Charge atelier chaudronnerie'!$3:17))),\"\")","v":{"$error":"#REF!"}},null,{"$f":"IF(ROWS('Charge atelier chaudronnerie'!$3:17)<=COUNTIF(nom,$O$2),INDEX(Expr1,SMALL(IF(nom=$O$2,ROW(INDIRECT(\"1:\"&ROWS(Expr1)))),ROWS('Charge atelier chaudronnerie'!$3:17))),\"\")","v":{"$error":"#REF!"}},{"$f":"IF(ROWS('Charge atelier chaudronnerie'!$3:17)<=COUNTIF(nom,$O$2),INDEX(Expr2,SMALL(IF(nom=$O$2,ROW(INDIRECT(\"1:\"&ROWS(Expr1)))),ROWS('Charge atelier chaudronnerie'!$3:17))),\"\")","v":{"$error":"#REF!"}},{"$f":"IF(ROWS('Charge atelier chaudronnerie'!$3:17)<=COUNTIF(nom,$O$2),INDEX(DatePriseOf,SMALL(IF(nom=$O$2,ROW(INDIRECT(\"1:\"&ROWS(Expr1)))),ROWS('Charge atelier chaudronnerie'!$3:17))),\"\")","v":{"$error":"#REF!"}},null,{"$f":"IF(ROWS('Charge atelier chaudronnerie'!$3:17)<=COUNTIF(nom,$S$2),INDEX(Expr1,SMALL(IF(nom=$S$2,ROW(INDIRECT(\"1:\"&ROWS(Expr1)))),ROWS('Charge atelier chaudronnerie'!$3:17))),\"\")","v":{"$error":"#REF!"}},{"$f":"IF(ROWS('Charge atelier chaudronnerie'!$3:17)<=COUNTIF(nom,$S$2),INDEX(Expr2,SMALL(IF(nom=$S$2,ROW(INDIRECT(\"1:\"&ROWS(Expr1)))),ROWS('Charge atelier chaudronnerie'!$3:17))),\"\")","v":{"$error":"#REF!"}},{"$f":"IF(ROWS('Charge atelier chaudronnerie'!$3:17)<=COUNTIF(nom,$S$2),INDEX(DatePriseOf,SMALL(IF(nom=$S$2,ROW(INDIRECT(\"1:\"&ROWS(Expr1)))),ROWS('Charge atelier chaudronnerie'!$3:17))),\"\")","v":{"$error":"#REF!"}},null,{"$f":"IF(ROWS('Charge atelier chaudronnerie'!$3:17)<=COUNTIF(nom,$W$2),INDEX(Expr1,SMALL(IF(nom=$W$2,ROW(INDIRECT(\"1:\"&ROWS(Expr1)))),ROWS('Charge atelier chaudronnerie'!$3:17))),\"\")","v":{"$error":"#REF!"}},{"$f":"IF(ROWS('Charge atelier chaudronnerie'!$3:17)<=COUNTIF(nom,$W$2),INDEX(Expr2,SMALL(IF(nom=$W$2,ROW(INDIRECT(\"1:\"&ROWS(Expr1)))),ROWS('Charge atelier chaudronnerie'!$3:17))),\"\")","v":{"$error":"#REF!"}},{"$f":"IF(ROWS('Charge atelier chaudronnerie'!$3:17)<=COUNTIF(nom,$W$2),INDEX(DatePriseOf,SMALL(IF(nom=$W$2,ROW(INDIRECT(\"1:\"&ROWS(Expr1)))),ROWS('Charge atelier chaudronnerie'!$3:17))),\"\")","v":{"$error":"#REF!"}},null,{"$f":"IF(ROWS('Charge atelier chaudronnerie'!$3:17)<=COUNTIF(nom,$AA$2),INDEX(Expr1,SMALL(IF(nom=$AA$2,ROW(INDIRECT(\"1:\"&ROWS(Expr1)))),ROWS('Charge atelier chaudronnerie'!$3:17))),\"\")","v":{"$error":"#REF!"}},{"$f":"IF(ROWS('Charge atelier chaudronnerie'!$3:17)<=COUNTIF(nom,$AA$2),INDEX(Expr2,SMALL(IF(nom=$AA$2,ROW(INDIRECT(\"1:\"&ROWS(Expr1)))),ROWS('Charge atelier chaudronnerie'!$3:17))),\"\")","v":{"$error":"#REF!"}},{"$f":"IF(ROWS('Charge atelier chaudronnerie'!$3:17)<=COUNTIF(nom,$AA$2),INDEX(DatePriseOf,SMALL(IF(nom=$AA$2,ROW(INDIRECT(\"1:\"&ROWS(Expr1)))),ROWS('Charge atelier chaudronnerie'!$3:17))),\"\")","v":{"$error":"#REF!"}},null,{"$f":"IF(ROWS('Charge atelier chaudronnerie'!$3:17)<=COUNTIF(nom,$AE$2),INDEX(Expr1,SMALL(IF(nom=$AE$2,ROW(INDIRECT(\"1:\"&ROWS(Expr1)))),ROWS('Charge atelier chaudronnerie'!$3:17))),\"\")","v":{"$error":"#REF!"}},{"$f":"IF(ROWS('Charge atelier chaudronnerie'!$3:17)<=COUNTIF(nom,$AE$2),INDEX(Expr2,SMALL(IF(nom=$AE$2,ROW(INDIRECT(\"1:\"&ROWS(Expr1)))),ROWS('Charge atelier chaudronnerie'!$3:17))),\"\")","v":{"$error":"#REF!"}},{"$f":"IF(ROWS('Charge atelier chaudronnerie'!$3:17)<=COUNTIF(nom,$AE$2),INDEX(DatePriseOf,SMALL(IF(nom=$AE$2,ROW(INDIRECT(\"1:\"&ROWS(Expr1)))),ROWS('Charge atelier chaudronnerie'!$3:17))),\"\")","v":{"$error":"#REF!"}},null,{"$f":"IF(ROWS('Charge atelier chaudronnerie'!$3:17)<=COUNTIF(nom,$AI$2),INDEX(Expr1,SMALL(IF(nom=$AI$2,ROW(INDIRECT(\"1:\"&ROWS(Expr1)))),ROWS('Charge atelier chaudronnerie'!$3:17))),\"\")","v":{"$error":"#REF!"}},{"$f":"IF(ROWS('Charge atelier chaudronnerie'!$3:17)<=COUNTIF(nom,$AI$2),INDEX(Expr2,SMALL(IF(nom=$AI$2,ROW(INDIRECT(\"1:\"&ROWS(Expr1)))),ROWS('Charge atelier chaudronnerie'!$3:17))),\"\")","v":{"$error":"#REF!"}},{"$f":"IF(ROWS('Charge atelier chaudronnerie'!$3:17)<=COUNTIF(nom,$AI$2),INDEX(DatePriseOf,SMALL(IF(nom=$AI$2,ROW(INDIRECT(\"1:\"&ROWS(Expr1)))),ROWS('Charge atelier chaudronnerie'!$3:17))),\"\")","v":{"$error":"#REF!"}},null,{"$f":"IF(ROWS('Charge atelier chaudronnerie'!$3:17)<=COUNTIF(nom,$AM$2),INDEX(Expr1,SMALL(IF(nom=$AM$2,ROW(INDIRECT(\"1:\"&ROWS(Expr1)))),ROWS('Charge atelier chaudronnerie'!$3:17))),\"\")","v":{"$error":"#REF!"}},{"$f":"IF(ROWS('Charge atelier chaudronnerie'!$3:17)<=COUNTIF(nom,$AM$2),INDEX(Expr2,SMALL(IF(nom=$AM$2,ROW(INDIRECT(\"1:\"&ROWS(Expr1)))),ROWS('Charge atelier chaudronnerie'!$3:17))),\"\")","v":{"$error":"#REF!"}},{"$f":"IF(ROWS('Charge atelier chaudronnerie'!$3:17)<=COUNTIF(nom,$AM$2),INDEX(DatePriseOf,SMALL(IF(nom=$AM$2,ROW(INDIRECT(\"1:\"&ROWS(Expr1)))),ROWS('Charge atelier chaudronnerie'!$3:17))),\"\")","v":{"$error":"#REF!"}},null,{"$f":"IF(ROWS('Charge atelier chaudronnerie'!$3:17)<=COUNTIF(nom,$AQ$2),INDEX(Expr1,SMALL(IF(nom=$AQ$2,ROW(INDIRECT(\"1:\"&ROWS(Expr1)))),ROWS('Charge atelier chaudronnerie'!$3:17))),\"\")","v":{"$error":"#REF!"}},{"$f":"IF(ROWS('Charge atelier chaudronnerie'!$3:17)<=COUNTIF(nom,$AQ$2),INDEX(Expr2,SMALL(IF(nom=$AQ$2,ROW(INDIRECT(\"1:\"&ROWS(Expr1)))),ROWS('Charge atelier chaudronnerie'!$3:17))),\"\")","v":{"$error":"#REF!"}},{"$f":"IF(ROWS('Charge atelier chaudronnerie'!$3:17)<=COUNTIF(nom,$AQ$2),INDEX(DatePriseOf,SMALL(IF(nom=$AQ$2,ROW(INDIRECT(\"1:\"&ROWS(Expr1)))),ROWS('Charge atelier chaudronnerie'!$3:17))),\"\")","v":{"$error":"#REF!"}},null,{"$f":"IF(ROWS('Charge atelier chaudronnerie'!$3:17)<=COUNTIF(nom,$AU$2),INDEX(Expr1,SMALL(IF(nom=$AU$2,ROW(INDIRECT(\"1:\"&ROWS(Expr1)))),ROWS('Charge atelier chaudronnerie'!$3:17))),\"\")","v":{"$error":"#REF!"}},{"$f":"IF(ROWS('Charge atelier chaudronnerie'!$3:17)<=COUNTIF(nom,$AU$2),INDEX(Expr2,SMALL(IF(nom=$AU$2,ROW(INDIRECT(\"1:\"&ROWS(Expr1)))),ROWS('Charge atelier chaudronnerie'!$3:17))),\"\")","v":{"$error":"#REF!"}},{"$f":"IF(ROWS('Charge atelier chaudronnerie'!$3:17)<=COUNTIF(nom,$AU$2),INDEX(DatePriseOf,SMALL(IF(nom=$AU$2,ROW(INDIRECT(\"1:\"&ROWS(Expr1)))),ROWS('Charge atelier chaudronnerie'!$3:17))),\"\")","v":{"$error":"#REF!"}},null,{"$f":"IF(ROWS('Charge atelier chaudronnerie'!$3:17)<=COUNTIF(nom,$AY$2),INDEX(Expr1,SMALL(IF(nom=$AY$2,ROW(INDIRECT(\"1:\"&ROWS(Expr1)))),ROWS('Charge atelier chaudronnerie'!$3:17))),\"\")","v":{"$error":"#REF!"}},{"$f":"IF(ROWS('Charge atelier chaudronnerie'!$3:17)<=COUNTIF(nom,$AY$2),INDEX(Expr2,SMALL(IF(nom=$AY$2,ROW(INDIRECT(\"1:\"&ROWS(Expr1)))),ROWS('Charge atelier chaudronnerie'!$3:17))),\"\")","v":{"$error":"#REF!"}},{"$f":"IF(ROWS('Charge atelier chaudronnerie'!$3:17)<=COUNTIF(nom,$AY$2),INDEX(DatePriseOf,SMALL(IF(nom=$AY$2,ROW(INDIRECT(\"1:\"&ROWS(Expr1)))),ROWS('Charge atelier chaudronnerie'!$3:17))),\"\")","v":{"$error":"#REF!"}},null,{"$f":"IF(ROWS('Charge atelier chaudronnerie'!$3:17)<=COUNTIF(nom,$BC$2),INDEX(Expr1,SMALL(IF(nom=$BC$2,ROW(INDIRECT(\"1:\"&ROWS(Expr1)))),ROWS('Charge atelier chaudronnerie'!$3:17))),\"\")","v":{"$error":"#REF!"}},{"$f":"IF(ROWS('Charge atelier chaudronnerie'!$3:17)<=COUNTIF(nom,$BC$2),INDEX(Expr2,SMALL(IF(nom=$BC$2,ROW(INDIRECT(\"1:\"&ROWS(Expr1)))),ROWS('Charge atelier chaudronnerie'!$3:17))),\"\")","v":{"$error":"#REF!"}},{"$f":"IF(ROWS('Charge atelier chaudronnerie'!$3:17)<=COUNTIF(nom,$BC$2),INDEX(DatePriseOf,SMALL(IF(nom=$BC$2,ROW(INDIRECT(\"1:\"&ROWS(Expr1)))),ROWS('Charge atelier chaudronnerie'!$3:17))),\"\")","v":{"$error":"#REF!"}},null,{"$f":"IF(ROWS('Charge atelier chaudronnerie'!$3:17)<=COUNTIF(nom,$BG$2),INDEX(Expr1,SMALL(IF(nom=$BG$2,ROW(INDIRECT(\"1:\"&ROWS(Expr1)))),ROWS('Charge atelier chaudronnerie'!$3:17))),\"\")","v":{"$error":"#REF!"}},{"$f":"IF(ROWS('Charge atelier chaudronnerie'!$3:17)<=COUNTIF(nom,$BG$2),INDEX(Expr2,SMALL(IF(nom=$BG$2,ROW(INDIRECT(\"1:\"&ROWS(Expr1)))),ROWS('Charge atelier chaudronnerie'!$3:17))),\"\")","v":{"$error":"#REF!"}},{"$f":"IF(ROWS('Charge atelier chaudronnerie'!$3:17)<=COUNTIF(nom,$BG$2),INDEX(DatePriseOf,SMALL(IF(nom=$BG$2,ROW(INDIRECT(\"1:\"&ROWS(Expr1)))),ROWS('Charge atelier chaudronnerie'!$3:17))),\"\")","v":{"$error":"#REF!"}},null,{"$f":"IF(ROWS('Charge atelier chaudronnerie'!$3:17)<=COUNTIF(nom,$BK$2),INDEX(Expr1,SMALL(IF(nom=$BK$2,ROW(INDIRECT(\"1:\"&ROWS(Expr1)))),ROWS('Charge atelier chaudronnerie'!$3:17))),\"\")","v":{"$error":"#REF!"}},{"$f":"IF(ROWS('Charge atelier chaudronnerie'!$3:17)<=COUNTIF(nom,$BK$2),INDEX(Expr2,SMALL(IF(nom=$BK$2,ROW(INDIRECT(\"1:\"&ROWS(Expr1)))),ROWS('Charge atelier chaudronnerie'!$3:17))),\"\")","v":{"$error":"#REF!"}},{"$f":"IF(ROWS('Charge atelier chaudronnerie'!$3:17)<=COUNTIF(nom,$BK$2),INDEX(DatePriseOf,SMALL(IF(nom=$BK$2,ROW(INDIRECT(\"1:\"&ROWS(Expr1)))),ROWS('Charge atelier chaudronnerie'!$3:17))),\"\")","v":{"$error":"#REF!"}},null,{"$f":"IF(ROWS('Charge atelier chaudronnerie'!$3:14)<=COUNTIF(nom,$BO$2),INDEX(Expr1,SMALL(IF(nom=$BO$2,ROW(INDIRECT(\"1:\"&ROWS(Expr1)))),ROWS('Charge atelier chaudronnerie'!$3:14))),\"\")","v":{"$error":"#REF!"}},{"$f":"IF(ROWS('Charge atelier chaudronnerie'!$3:14)<=COUNTIF(nom,$BO$2),INDEX(Expr2,SMALL(IF(nom=$BO$2,ROW(INDIRECT(\"1:\"&ROWS(Expr1)))),ROWS('Charge atelier chaudronnerie'!$3:14))),\"\")","v":{"$error":"#REF!"}},{"$f":"IF(ROWS('Charge atelier chaudronnerie'!$3:14)<=COUNTIF(nom,$BO$2),INDEX(DatePriseOf,SMALL(IF(nom=$BO$2,ROW(INDIRECT(\"1:\"&ROWS(Expr1)))),ROWS('Charge atelier chaudronnerie'!$3:14))),\"\")","v":{"$error":"#REF!"}},null,{"$f":"IF(ROWS('Charge atelier chaudronnerie'!$3:14)<=COUNTIF(nom,$BS$2),INDEX(Expr1,SMALL(IF(nom=$BS$2,ROW(INDIRECT(\"1:\"&ROWS(Expr1)))),ROWS('Charge atelier chaudronnerie'!$3:14))),\"\")","v":{"$error":"#REF!"}},{"$f":"IF(ROWS('Charge atelier chaudronnerie'!$3:14)<=COUNTIF(nom,$BS$2),INDEX(Expr2,SMALL(IF(nom=$BS$2,ROW(INDIRECT(\"1:\"&ROWS(Expr1)))),ROWS('Charge atelier chaudronnerie'!$3:14))),\"\")","v":{"$error":"#REF!"}},{"$f":"IF(ROWS('Charge atelier chaudronnerie'!$3:14)<=COUNTIF(nom,$BS$2),INDEX(DatePriseOf,SMALL(IF(nom=$BS$2,ROW(INDIRECT(\"1:\"&ROWS(Expr1)))),ROWS('Charge atelier chaudronnerie'!$3:14))),\"\")","v":{"$error":"#REF!"}}]
["frederic",null,{"$f":"IF(ROWS('Charge atelier chaudronnerie'!$3:18)<=COUNTIF(nom,$C$2),INDEX(Expr1,SMALL(IF(nom=$C$2,ROW(INDIRECT(\"1:\"&ROWS(Expr1)))),ROWS('Charge atelier chaudronnerie'!$3:18))),\"\")","v":{"$error":"#REF!"}},{"$f":"IF(ROWS('Charge atelier chaudronnerie'!$3:18)<=COUNTIF(nom,$C$2),INDEX(Expr2,SMALL(IF(nom=$C$2,ROW(INDIRECT(\"1:\"&ROWS(Expr1)))),ROWS('Charge atelier chaudronnerie'!$3:18))),\"\")","v":{"$error":"#REF!"}},{"$f":"IF(ROWS('Charge atelier chaudronnerie'!$3:18)<=COUNTIF(nom,$C$2),INDEX(DatePriseOf,SMALL(IF(nom=$C$2,ROW(INDIRECT(\"1:\"&ROWS(Expr1)))),ROWS('Charge atelier chaudronnerie'!$3:18))),\"\")","v":{"$error":"#REF!"}},null,{"$f":"IF(ROWS('Charge atelier chaudronnerie'!$3:18)<=COUNTIF(nom,$G$2),INDEX(Expr1,SMALL(IF(nom=$G$2,ROW(INDIRECT(\"1:\"&ROWS(Expr1)))),ROWS('Charge atelier chaudronnerie'!$3:18))),\"\")","v":{"$error":"#REF!"}},{"$f":"IF(ROWS('Charge atelier chaudronnerie'!$3:18)<=COUNTIF(nom,$G$2),INDEX(Expr2,SMALL(IF(nom=$G$2,ROW(INDIRECT(\"1:\"&ROWS(Expr1)))),ROWS('Charge atelier chaudronnerie'!$3:18))),\"\")","v":{"$error":"#REF!"}},{"$f":"IF(ROWS('Charge atelier chaudronnerie'!$3:18)<=COUNTIF(nom,$G$2),INDEX(DatePriseOf,SMALL(IF(nom=$G$2,ROW(INDIRECT(\"1:\"&ROWS(Expr1)))),ROWS('Charge atelier chaudronnerie'!$3:18))),\"\")","v":{"$error":"#REF!"}},null,{"$f":"IF(ROWS('Charge atelier chaudronnerie'!$3:18)<=COUNTIF(nom,$K$2),INDEX(Expr1,SMALL(IF(nom=$K$2,ROW(INDIRECT(\"1:\"&ROWS(Expr1)))),ROWS('Charge atelier chaudronnerie'!$3:18))),\"\")","v":{"$error":"#REF!"}},{"$f":"IF(ROWS('Charge atelier chaudronnerie'!$3:18)<=COUNTIF(nom,$K$2),INDEX(Expr2,SMALL(IF(nom=$K$2,ROW(INDIRECT(\"1:\"&ROWS(Expr1)))),ROWS('Charge atelier chaudronnerie'!$3:18))),\"\")","v":{"$error":"#REF!"}},{"$f":"IF(ROWS('Charge atelier chaudronnerie'!$3:18)<=COUNTIF(nom,$K$2),INDEX(DatePriseOf,SMALL(IF(nom=$K$2,ROW(INDIRECT(\"1:\"&ROWS(Expr1)))),ROWS('Charge atelier chaudronnerie'!$3:18))),\"\")","v":{"$error":"#REF!"}},null,{"$f":"IF(ROWS('Charge atelier chaudronnerie'!$3:18)<=COUNTIF(nom,$O$2),INDEX(Expr1,SMALL(IF(nom=$O$2,ROW(INDIRECT(\"1:\"&ROWS(Expr1)))),ROWS('Charge atelier chaudronnerie'!$3:18))),\"\")","v":{"$error":"#REF!"}},{"$f":"IF(ROWS('Charge atelier chaudronnerie'!$3:18)<=COUNTIF(nom,$O$2),INDEX(Expr2,SMALL(IF(nom=$O$2,ROW(INDIRECT(\"1:\"&ROWS(Expr1)))),ROWS('Charge atelier chaudronnerie'!$3:18))),\"\")","v":{"$error":"#REF!"}},{"$f":"IF(ROWS('Charge atelier chaudronnerie'!$3:18)<=COUNTIF(nom,$O$2),INDEX(DatePriseOf,SMALL(IF(nom=$O$2,ROW(INDIRECT(\"1:\"&ROWS(Expr1)))),ROWS('Charge atelier chaudronnerie'!$3:18))),\"\")","v":{"$error":"#REF!"}},null,{"$f":"IF(ROWS('Charge atelier chaudronnerie'!$3:18)<=COUNTIF(nom,$S$2),INDEX(Expr1,SMALL(IF(nom=$S$2,ROW(INDIRECT(\"1:\"&ROWS(Expr1)))),ROWS('Charge atelier chaudronnerie'!$3:18))),\"\")","v":{"$error":"#REF!"}},{"$f":"IF(ROWS('Charge atelier chaudronnerie'!$3:18)<=COUNTIF(nom,$S$2),INDEX(Expr2,SMALL(IF(nom=$S$2,ROW(INDIRECT(\"1:\"&ROWS(Expr1)))),ROWS('Charge atelier chaudronnerie'!$3:18))),\"\")","v":{"$error":"#REF!"}},{"$f":"IF(ROWS('Charge atelier chaudronnerie'!$3:18)<=COUNTIF(nom,$S$2),INDEX(DatePriseOf,SMALL(IF(nom=$S$2,ROW(INDIRECT(\"1:\"&ROWS(Expr1)))),ROWS('Charge atelier chaudronnerie'!$3:18))),\"\")","v":{"$error":"#REF!"}},null,{"$f":"IF(ROWS('Charge atelier chaudronnerie'!$3:18)<=COUNTIF(nom,$W$2),INDEX(Expr1,SMALL(IF(nom=$W$2,ROW(INDIRECT(\"1:\"&ROWS(Expr1)))),ROWS('Charge atelier chaudronnerie'!$3:18))),\"\")","v":{"$error":"#REF!"}},{"$f":"IF(ROWS('Charge atelier chaudronnerie'!$3:18)<=COUNTIF(nom,$W$2),INDEX(Expr2,SMALL(IF(nom=$W$2,ROW(INDIRECT(\"1:\"&ROWS(Expr1)))),ROWS('Charge atelier chaudronnerie'!$3:18))),\"\")","v":{"$error":"#REF!"}},{"$f":"IF(ROWS('Charge atelier chaudronnerie'!$3:18)<=COUNTIF(nom,$W$2),INDEX(DatePriseOf,SMALL(IF(nom=$W$2,ROW(INDIRECT(\"1:\"&ROWS(Expr1)))),ROWS('Charge atelier chaudronnerie'!$3:18))),\"\")","v":{"$error":"#REF!"}},null,{"$f":"IF(ROWS('Charge atelier chaudronnerie'!$3:18)<=COUNTIF(nom,$AA$2),INDEX(Expr1,SMALL(IF(nom=$AA$2,ROW(INDIRECT(\"1:\"&ROWS(Expr1)))),ROWS('Charge atelier chaudronnerie'!$3:18))),\"\")","v":{"$error":"#REF!"}},{"$f":"IF(ROWS('Charge atelier chaudronnerie'!$3:18)<=COUNTIF(nom,$AA$2),INDEX(Expr2,SMALL(IF(nom=$AA$2,ROW(INDIRECT(\"1:\"&ROWS(Expr1)))),ROWS('Charge atelier chaudronnerie'!$3:18))),\"\")","v":{"$error":"#REF!"}},{"$f":"IF(ROWS('Charge atelier chaudronnerie'!$3:18)<=COUNTIF(nom,$AA$2),INDEX(DatePriseOf,SMALL(IF(nom=$AA$2,ROW(INDIRECT(\"1:\"&ROWS(Expr1)))),ROWS('Charge atelier chaudronnerie'!$3:18))),\"\")","v":{"$error":"#REF!"}},null,{"$f":"IF(ROWS('Charge atelier chaudronnerie'!$3:18)<=COUNTIF(nom,$AE$2),INDEX(Expr1,SMALL(IF(nom=$AE$2,ROW(INDIRECT(\"1:\"&ROWS(Expr1)))),ROWS('Charge atelier chaudronnerie'!$3:18))),\"\")","v":{"$error":"#REF!"}},{"$f":"IF(ROWS('Charge atelier chaudronnerie'!$3:18)<=COUNTIF(nom,$AE$2),INDEX(Expr2,SMALL(IF(nom=$AE$2,ROW(INDIRECT(\"1:\"&ROWS(Expr1)))),ROWS('Charge atelier chaudronnerie'!$3:18))),\"\")","v":{"$error":"#REF!"}},{"$f":"IF(ROWS('Charge atelier chaudronnerie'!$3:18)<=COUNTIF(nom,$AE$2),INDEX(DatePriseOf,SMALL(IF(nom=$AE$2,ROW(INDIRECT(\"1:\"&ROWS(Expr1)))),ROWS('Charge atelier chaudronnerie'!$3:18))),\"\")","v":{"$error":"#REF!"}},null,{"$f":"IF(ROWS('Charge atelier chaudronnerie'!$3:18)<=COUNTIF(nom,$AI$2),INDEX(Expr1,SMALL(IF(nom=$AI$2,ROW(INDIRECT(\"1:\"&ROWS(Expr1)))),ROWS('Charge atelier chaudronnerie'!$3:18))),\"\")","v":{"$error":"#REF!"}},{"$f":"IF(ROWS('Charge atelier chaudronnerie'!$3:18)<=COUNTIF(nom,$AI$2),INDEX(Expr2,SMALL(IF(nom=$AI$2,ROW(INDIRECT(\"1:\"&ROWS(Expr1)))),ROWS('Charge atelier chaudronnerie'!$3:18))),\"\")","v":{"$error":"#REF!"}},{"$f":"IF(ROWS('Charge atelier chaudronnerie'!$3:18)<=COUNTIF(nom,$AI$2),INDEX(DatePriseOf,SMALL(IF(nom=$AI$2,ROW(INDIRECT(\"1:\"&ROWS(Expr1)))),ROWS('Charge atelier chaudronnerie'!$3:18))),\"\")","v":{"$error":"#REF!"}},null,{"$f":"IF(ROWS('Charge atelier chaudronnerie'!$3:18)<=COUNTIF(nom,$AM$2),INDEX(Expr1,SMALL(IF(nom=$AM$2,ROW(INDIRECT(\"1:\"&ROWS(Expr1)))),ROWS('Charge atelier chaudronnerie'!$3:18))),\"\")","v":{"$error":"#REF!"}},{"$f":"IF(ROWS('Charge atelier chaudronnerie'!$3:18)<=COUNTIF(nom,$AM$2),INDEX(Expr2,SMALL(IF(nom=$AM$2,ROW(INDIRECT(\"1:\"&ROWS(Expr1)))),ROWS('Charge atelier chaudronnerie'!$3:18))),\"\")","v":{"$error":"#REF!"}},{"$f":"IF(ROWS('Charge atelier chaudronnerie'!$3:18)<=COUNTIF(nom,$AM$2),INDEX(DatePriseOf,SMALL(IF(nom=$AM$2,ROW(INDIRECT(\"1:\"&ROWS(Expr1)))),ROWS('Charge atelier chaudronnerie'!$3:18))),\"\")","v":{"$error":"#REF!"}},null,{"$f":"IF(ROWS('Charge atelier chaudronnerie'!$3:18)<=COUNTIF(nom,$AQ$2),INDEX(Expr1,SMALL(IF(nom=$AQ$2,ROW(INDIRECT(\"1:\"&ROWS(Expr1)))),ROWS('Charge atelier chaudronnerie'!$3:18))),\"\")","v":{"$error":"#REF!"}},{"$f":"IF(ROWS('Charge atelier chaudronnerie'!$3:18)<=COUNTIF(nom,$AQ$2),INDEX(Expr2,SMALL(IF(nom=$AQ$2,ROW(INDIRECT(\"1:\"&ROWS(Expr1)))),ROWS('Charge atelier chaudronnerie'!$3:18))),\"\")","v":{"$error":"#REF!"}},{"$f":"IF(ROWS('Charge atelier chaudronnerie'!$3:18)<=COUNTIF(nom,$AQ$2),INDEX(DatePriseOf,SMALL(IF(nom=$AQ$2,ROW(INDIRECT(\"1:\"&ROWS(Expr1)))),ROWS('Charge atelier chaudronnerie'!$3:18))),\"\")","v":{"$error":"#REF!"}},null,{"$f":"IF(ROWS('Charge atelier chaudronnerie'!$3:18)<=COUNTIF(nom,$AU$2),INDEX(Expr1,SMALL(IF(nom=$AU$2,ROW(INDIRECT(\"1:\"&ROWS(Expr1)))),ROWS('Charge atelier chaudronnerie'!$3:18))),\"\")","v":{"$error":"#REF!"}},{"$f":"IF(ROWS('Charge atelier chaudronnerie'!$3:18)<=COUNTIF(nom,$AU$2),INDEX(Expr2,SMALL(IF(nom=$AU$2,ROW(INDIRECT(\"1:\"&ROWS(Expr1)))),ROWS('Charge atelier chaudronnerie'!$3:18))),\"\")","v":{"$error":"#REF!"}},{"$f":"IF(ROWS('Charge atelier chaudronnerie'!$3:18)<=COUNTIF(nom,$AU$2),INDEX(DatePriseOf,SMALL(IF(nom=$AU$2,ROW(INDIRECT(\"1:\"&ROWS(Expr1)))),ROWS('Charge atelier chaudronnerie'!$3:18))),\"\")","v":{"$error":"#REF!"}},null,{"$f":"IF(ROWS('Charge atelier chaudronnerie'!$3:18)<=COUNTIF(nom,$AY$2),INDEX(Expr1,SMALL(IF(nom=$AY$2,ROW(INDIRECT(\"1:\"&ROWS(Expr1)))),ROWS('Charge atelier chaudronnerie'!$3:18))),\"\")","v":{"$error":"#REF!"}},{"$f":"IF(ROWS('Charge atelier chaudronnerie'!$3:18)<=COUNTIF(nom,$AY$2),INDEX(Expr2,SMALL(IF(nom=$AY$2,ROW(INDIRECT(\"1:\"&ROWS(Expr1)))),ROWS('Charge atelier chaudronnerie'!$3:18))),\"\")","v":{"$error":"#REF!"}},{"$f":"IF(ROWS('Charge atelier chaudronnerie'!$3:18)<=COUNTIF(nom,$AY$2),INDEX(DatePriseOf,SMALL(IF(nom=$AY$2,ROW(INDIRECT(\"1:\"&ROWS(Expr1)))),ROWS('Charge atelier chaudronnerie'!$3:18))),\"\")","v":{"$error":"#REF!"}},null,{"$f":"IF(ROWS('Charge atelier chaudronnerie'!$3:18)<=COUNTIF(nom,$BC$2),INDEX(Expr1,SMALL(IF(nom=$BC$2,ROW(INDIRECT(\"1:\"&ROWS(Expr1)))),ROWS('Charge atelier chaudronnerie'!$3:18))),\"\")","v":{"$error":"#REF!"}},{"$f":"IF(ROWS('Charge atelier chaudronnerie'!$3:18)<=COUNTIF(nom,$BC$2),INDEX(Expr2,SMALL(IF(nom=$BC$2,ROW(INDIRECT(\"1:\"&ROWS(Expr1)))),ROWS('Charge atelier chaudronnerie'!$3:18))),\"\")","v":{"$error":"#REF!"}},{"$f":"IF(ROWS('Charge atelier chaudronnerie'!$3:18)<=COUNTIF(nom,$BC$2),INDEX(DatePriseOf,SMALL(IF(nom=$BC$2,ROW(INDIRECT(\"1:\"&ROWS(Expr1)))),ROWS('Charge atelier chaudronnerie'!$3:18))),\"\")","v":{"$error":"#REF!"}},null,{"$f":"IF(ROWS('Charge atelier chaudronnerie'!$3:18)<=COUNTIF(nom,$BG$2),INDEX(Expr1,SMALL(IF(nom=$BG$2,ROW(INDIRECT(\"1:\"&ROWS(Expr1)))),ROWS('Charge atelier chaudronnerie'!$3:18))),\"\")","v":{"$error":"#REF!"}},{"$f":"IF(ROWS('Charge atelier chaudronnerie'!$3:18)<=COUNTIF(nom,$BG$2),INDEX(Expr2,SMALL(IF(nom=$BG$2,ROW(INDIRECT(\"1:\"&ROWS(Expr1)))),ROWS('Charge atelier chaudronnerie'!$3:18))),\"\")","v":{"$error":"#REF!"}},{"$f":"IF(ROWS('Charge atelier chaudronnerie'!$3:18)<=COUNTIF(nom,$BG$2),INDEX(DatePriseOf,SMALL(IF(nom=$BG$2,ROW(INDIRECT(\"1:\"&ROWS(Expr1)))),ROWS('Charge atelier chaudronnerie'!$3:18))),\"\")","v":{"$error":"#REF!"}},null,{"$f":"IF(ROWS('Charge atelier chaudronnerie'!$3:18)<=COUNTIF(nom,$BK$2),INDEX(Expr1,SMALL(IF(nom=$BK$2,ROW(INDIRECT(\"1:\"&ROWS(Expr1)))),ROWS('Charge atelier chaudronnerie'!$3:18))),\"\")","v":{"$error":"#REF!"}},{"$f":"IF(ROWS('Charge atelier chaudronnerie'!$3:18)<=COUNTIF(nom,$BK$2),INDEX(Expr2,SMALL(IF(nom=$BK$2,ROW(INDIRECT(\"1:\"&ROWS(Expr1)))),ROWS('Charge atelier chaudronnerie'!$3:18))),\"\")","v":{"$error":"#REF!"}},{"$f":"IF(ROWS('Charge atelier chaudronnerie'!$3:18)<=COUNTIF(nom,$BK$2),INDEX(DatePriseOf,SMALL(IF(nom=$BK$2,ROW(INDIRECT(\"1:\"&ROWS(Expr1)))),ROWS('Charge atelier chaudronnerie'!$3:18))),\"\")","v":{"$error":"#REF!"}},null,{"$f":"IF(ROWS('Charge atelier chaudronnerie'!$3:15)<=COUNTIF(nom,$BO$2),INDEX(Expr1,SMALL(IF(nom=$BO$2,ROW(INDIRECT(\"1:\"&ROWS(Expr1)))),ROWS('Charge atelier chaudronnerie'!$3:15))),\"\")","v":{"$error":"#REF!"}},{"$f":"IF(ROWS('Charge atelier chaudronnerie'!$3:15)<=COUNTIF(nom,$BO$2),INDEX(Expr2,SMALL(IF(nom=$BO$2,ROW(INDIRECT(\"1:\"&ROWS(Expr1)))),ROWS('Charge atelier chaudronnerie'!$3:15))),\"\")","v":{"$error":"#REF!"}},{"$f":"IF(ROWS('Charge atelier chaudronnerie'!$3:15)<=COUNTIF(nom,$BO$2),INDEX(DatePriseOf,SMALL(IF(nom=$BO$2,ROW(INDIRECT(\"1:\"&ROWS(Expr1)))),ROWS('Charge atelier chaudronnerie'!$3:15))),\"\")","v":{"$error":"#REF!"}},null,{"$f":"IF(ROWS('Charge atelier chaudronnerie'!$3:15)<=COUNTIF(nom,$BS$2),INDEX(Expr1,SMALL(IF(nom=$BS$2,ROW(INDIRECT(\"1:\"&ROWS(Expr1)))),ROWS('Charge atelier chaudronnerie'!$3:15))),\"\")","v":{"$error":"#REF!"}},{"$f":"IF(ROWS('Charge atelier chaudronnerie'!$3:15)<=COUNTIF(nom,$BS$2),INDEX(Expr2,SMALL(IF(nom=$BS$2,ROW(INDIRECT(\"1:\"&ROWS(Expr1)))),ROWS('Charge atelier chaudronnerie'!$3:15))),\"\")","v":{"$error":"#REF!"}},{"$f":"IF(ROWS('Charge atelier chaudronnerie'!$3:15)<=COUNTIF(nom,$BS$2),INDEX(DatePriseOf,SMALL(IF(nom=$BS$2,ROW(INDIRECT(\"1:\"&ROWS(Expr1)))),ROWS('Charge atelier chaudronnerie'!$3:15))),\"\")","v":{"$error":"#REF!"}}]
["stefano",null,{"$f":"IF(ROWS('Charge atelier chaudronnerie'!$3:19)<=COUNTIF(nom,$C$2),INDEX(Expr1,SMALL(IF(nom=$C$2,ROW(INDIRECT(\"1:\"&ROWS(Expr1)))),ROWS('Charge atelier chaudronnerie'!$3:19))),\"\")","v":{"$error":"#REF!"}},{"$f":"IF(ROWS('Charge atelier chaudronnerie'!$3:19)<=COUNTIF(nom,$C$2),INDEX(Expr2,SMALL(IF(nom=$C$2,ROW(INDIRECT(\"1:\"&ROWS(Expr1)))),ROWS('Charge atelier chaudronnerie'!$3:19))),\"\")","v":{"$error":"#REF!"}},{"$f":"IF(ROWS('Charge atelier chaudronnerie'!$3:19)<=COUNTIF(nom,$C$2),INDEX(DatePriseOf,SMALL(IF(nom=$C$2,ROW(INDIRECT(\"1:\"&ROWS(Expr1)))),ROWS('Charge atelier chaudronnerie'!$3:19))),\"\")","v":{"$error":"#REF!"}},null,{"$f":"IF(ROWS('Charge atelier chaudronnerie'!$3:19)<=COUNTIF(nom,$G$2),INDEX(Expr1,SMALL(IF(nom=$G$2,ROW(INDIRECT(\"1:\"&ROWS(Expr1)))),ROWS('Charge atelier chaudronnerie'!$3:19))),\"\")","v":{"$error":"#REF!"}},{"$f":"IF(ROWS('Charge atelier chaudronnerie'!$3:19)<=COUNTIF(nom,$G$2),INDEX(Expr2,SMALL(IF(nom=$G$2,ROW(INDIRECT(\"1:\"&ROWS(Expr1)))),ROWS('Charge atelier chaudronnerie'!$3:19))),\"\")","v":{"$error":"#REF!"}},{"$f":"IF(ROWS('Charge atelier chaudronnerie'!$3:19)<=COUNTIF(nom,$G$2),INDEX(DatePriseOf,SMALL(IF(nom=$G$2,ROW(INDIRECT(\"1:\"&ROWS(Expr1)))),ROWS('Charge atelier chaudronnerie'!$3:19))),\"\")","v":{"$error":"#REF!"}},null,{"$f":"IF(ROWS('Charge atelier chaudronnerie'!$3:19)<=COUNTIF(nom,$K$2),INDEX(Expr1,SMALL(IF(nom=$K$2,ROW(INDIRECT(\"1:\"&ROWS(Expr1)))),ROWS('Charge atelier chaudronnerie'!$3:19))),\"\")","v":{"$error":"#REF!"}},{"$f":"IF(ROWS('Charge atelier chaudronnerie'!$3:19)<=COUNTIF(nom,$K$2),INDEX(Expr2,SMALL(IF(nom=$K$2,ROW(INDIRECT(\"1:\"&ROWS(Expr1)))),ROWS('Charge atelier chaudronnerie'!$3:19))),\"\")","v":{"$error":"#REF!"}},{"$f":"IF(ROWS('Charge atelier chaudronnerie'!$3:19)<=COUNTIF(nom,$K$2),INDEX(DatePriseOf,SMALL(IF(nom=$K$2,ROW(INDIRECT(\"1:\"&ROWS(Expr1)))),ROWS('Charge atelier chaudronnerie'!$3:19))),\"\")","v":{"$error":"#REF!"}},null,{"$f":"IF(ROWS('Charge atelier chaudronnerie'!$3:19)<=COUNTIF(nom,$O$2),INDEX(Expr1,SMALL(IF(nom=$O$2,ROW(INDIRECT(\"1:\"&ROWS(Expr1)))),ROWS('Charge atelier chaudronnerie'!$3:19))),\"\")","v":{"$error":"#REF!"}},{"$f":"IF(ROWS('Charge atelier chaudronnerie'!$3:19)<=COUNTIF(nom,$O$2),INDEX(Expr2,SMALL(IF(nom=$O$2,ROW(INDIRECT(\"1:\"&ROWS(Expr1)))),ROWS('Charge atelier chaudronnerie'!$3:19))),\"\")","v":{"$error":"#REF!"}},{"$f":"IF(ROWS('Charge atelier chaudronnerie'!$3:19)<=COUNTIF(nom,$O$2),INDEX(DatePriseOf,SMALL(IF(nom=$O$2,ROW(INDIRECT(\"1:\"&ROWS(Expr1)))),ROWS('Charge atelier chaudronnerie'!$3:19))),\"\")","v":{"$error":"#REF!"}},null,{"$f":"IF(ROWS('Charge atelier chaudronnerie'!$3:19)<=COUNTIF(nom,$S$2),INDEX(Expr1,SMALL(IF(nom=$S$2,ROW(INDIRECT(\"1:\"&ROWS(Expr1)))),ROWS('Charge atelier chaudronnerie'!$3:19))),\"\")","v":{"$error":"#REF!"}},{"$f":"IF(ROWS('Charge atelier chaudronnerie'!$3:19)<=COUNTIF(nom,$S$2),INDEX(Expr2,SMALL(IF(nom=$S$2,ROW(INDIRECT(\"1:\"&ROWS(Expr1)))),ROWS('Charge atelier chaudronnerie'!$3:19))),\"\")","v":{"$error":"#REF!"}},{"$f":"IF(ROWS('Charge atelier chaudronnerie'!$3:19)<=COUNTIF(nom,$S$2),INDEX(DatePriseOf,SMALL(IF(nom=$S$2,ROW(INDIRECT(\"1:\"&ROWS(Expr1)))),ROWS('Charge atelier chaudronnerie'!$3:19))),\"\")","v":{"$error":"#REF!"}},null,{"$f":"IF(ROWS('Charge atelier chaudronnerie'!$3:19)<=COUNTIF(nom,$W$2),INDEX(Expr1,SMALL(IF(nom=$W$2,ROW(INDIRECT(\"1:\"&ROWS(Expr1)))),ROWS('Charge atelier chaudronnerie'!$3:19))),\"\")","v":{"$error":"#REF!"}},{"$f":"IF(ROWS('Charge atelier chaudronnerie'!$3:19)<=COUNTIF(nom,$W$2),INDEX(Expr2,SMALL(IF(nom=$W$2,ROW(INDIRECT(\"1:\"&ROWS(Expr1)))),ROWS('Charge atelier chaudronnerie'!$3:19))),\"\")","v":{"$error":"#REF!"}},{"$f":"IF(ROWS('Charge atelier chaudronnerie'!$3:19)<=COUNTIF(nom,$W$2),INDEX(DatePriseOf,SMALL(IF(nom=$W$2,ROW(INDIRECT(\"1:\"&ROWS(Expr1)))),ROWS('Charge atelier chaudronnerie'!$3:19))),\"\")","v":{"$error":"#REF!"}},null,{"$f":"IF(ROWS('Charge atelier chaudronnerie'!$3:19)<=COUNTIF(nom,$AA$2),INDEX(Expr1,SMALL(IF(nom=$AA$2,ROW(INDIRECT(\"1:\"&ROWS(Expr1)))),ROWS('Charge atelier chaudronnerie'!$3:19))),\"\")","v":{"$error":"#REF!"}},{"$f":"IF(ROWS('Charge atelier chaudronnerie'!$3:19)<=COUNTIF(nom,$AA$2),INDEX(Expr2,SMALL(IF(nom=$AA$2,ROW(INDIRECT(\"1:\"&ROWS(Expr1)))),ROWS('Charge atelier chaudronnerie'!$3:19))),\"\")","v":{"$error":"#REF!"}},{"$f":"IF(ROWS('Charge atelier chaudronnerie'!$3:19)<=COUNTIF(nom,$AA$2),INDEX(DatePriseOf,SMALL(IF(nom=$AA$2,ROW(INDIRECT(\"1:\"&ROWS(Expr1)))),ROWS('Charge atelier chaudronnerie'!$3:19))),\"\")","v":{"$error":"#REF!"}},null,{"$f":"IF(ROWS('Charge atelier chaudronnerie'!$3:19)<=COUNTIF(nom,$AE$2),INDEX(Expr1,SMALL(IF(nom=$AE$2,ROW(INDIRECT(\"1:\"&ROWS(Expr1)))),ROWS('Charge atelier chaudronnerie'!$3:19))),\"\")","v":{"$error":"#REF!"}},{"$f":"IF(ROWS('Charge atelier chaudronnerie'!$3:19)<=COUNTIF(nom,$AE$2),INDEX(Expr2,SMALL(IF(nom=$AE$2,ROW(INDIRECT(\"1:\"&ROWS(Expr1)))),ROWS('Charge atelier chaudronnerie'!$3:19))),\"\")","v":{"$error":"#REF!"}},{"$f":"IF(ROWS('Charge atelier chaudronnerie'!$3:19)<=COUNTIF(nom,$AE$2),INDEX(DatePriseOf,SMALL(IF(nom=$AE$2,ROW(INDIRECT(\"1:\"&ROWS(Expr1)))),ROWS('Charge atelier chaudronnerie'!$3:19))),\"\")","v":{"$error":"#REF!"}},null,{"$f":"IF(ROWS('Charge atelier chaudronnerie'!$3:19)<=COUNTIF(nom,$AI$2),INDEX(Expr1,SMALL(IF(nom=$AI$2,ROW(INDIRECT(\"1:\"&ROWS(Expr1)))),ROWS('Charge atelier chaudronnerie'!$3:19))),\"\")","v":{"$error":"#REF!"}},{"$f":"IF(ROWS('Charge atelier chaudronnerie'!$3:19)<=COUNTIF(nom,$AI$2),INDEX(Expr2,SMALL(IF(nom=$AI$2,ROW(INDIRECT(\"1:\"&ROWS(Expr1)))),ROWS('Charge atelier chaudronnerie'!$3:19))),\"\")","v":{"$error":"#REF!"}},{"$f":"IF(ROWS('Charge atelier chaudronnerie'!$3:19)<=COUNTIF(nom,$AI$2),INDEX(DatePriseOf,SMALL(IF(nom=$AI$2,ROW(INDIRECT(\"1:\"&ROWS(Expr1)))),ROWS('Charge atelier chaudronnerie'!$3:19))),\"\")","v":{"$error":"#REF!"}},null,{"$f":"IF(ROWS('Charge atelier chaudronnerie'!$3:19)<=COUNTIF(nom,$AM$2),INDEX(Expr1,SMALL(IF(nom=$AM$2,ROW(INDIRECT(\"1:\"&ROWS(Expr1)))),ROWS('Charge atelier chaudronnerie'!$3:19))),\"\")","v":{"$error":"#REF!"}},{"$f":"IF(ROWS('Charge atelier chaudronnerie'!$3:19)<=COUNTIF(nom,$AM$2),INDEX(Expr2,SMALL(IF(nom=$AM$2,ROW(INDIRECT(\"1:\"&ROWS(Expr1)))),ROWS('Charge atelier chaudronnerie'!$3:19))),\"\")","v":{"$error":"#REF!"}},{"$f":"IF(ROWS('Charge atelier chaudronnerie'!$3:19)<=COUNTIF(nom,$AM$2),INDEX(DatePriseOf,SMALL(IF(nom=$AM$2,ROW(INDIRECT(\"1:\"&ROWS(Expr1)))),ROWS('Charge atelier chaudronnerie'!$3:19))),\"\")","v":{"$error":"#REF!"}},null,{"$f":"IF(ROWS('Charge atelier chaudronnerie'!$3:19)<=COUNTIF(nom,$AQ$2),INDEX(Expr1,SMALL(IF(nom=$AQ$2,ROW(INDIRECT(\"1:\"&ROWS(Expr1)))),ROWS('Charge atelier chaudronnerie'!$3:19))),\"\")","v":{"$error":"#REF!"}},{"$f":"IF(ROWS('Charge atelier chaudronnerie'!$3:19)<=COUNTIF(nom,$AQ$2),INDEX(Expr2,SMALL(IF(nom=$AQ$2,ROW(INDIRECT(\"1:\"&ROWS(Expr1)))),ROWS('Charge atelier chaudronnerie'!$3:19))),\"\")","v":{"$error":"#REF!"}},{"$f":"IF(ROWS('Charge atelier chaudronnerie'!$3:19)<=COUNTIF(nom,$AQ$2),INDEX(DatePriseOf,SMALL(IF(nom=$AQ$2,ROW(INDIRECT(\"1:\"&ROWS(Expr1)))),ROWS('Charge atelier chaudronnerie'!$3:19))),\"\")","v":{"$error":"#REF!"}},null,{"$f":"IF(ROWS('Charge atelier chaudronnerie'!$3:19)<=COUNTIF(nom,$AU$2),INDEX(Expr1,SMALL(IF(nom=$AU$2,ROW(INDIRECT(\"1:\"&ROWS(Expr1)))),ROWS('Charge atelier chaudronnerie'!$3:19))),\"\")","v":{"$error":"#REF!"}},{"$f":"IF(ROWS('Charge atelier chaudronnerie'!$3:19)<=COUNTIF(nom,$AU$2),INDEX(Expr2,SMALL(IF(nom=$AU$2,ROW(INDIRECT(\"1:\"&ROWS(Expr1)))),ROWS('Charge atelier chaudronnerie'!$3:19))),\"\")","v":{"$error":"#REF!"}},{"$f":"IF(ROWS('Charge atelier chaudronnerie'!$3:19)<=COUNTIF(nom,$AU$2),INDEX(DatePriseOf,SMALL(IF(nom=$AU$2,ROW(INDIRECT(\"1:\"&ROWS(Expr1)))),ROWS('Charge atelier chaudronnerie'!$3:19))),\"\")","v":{"$error":"#REF!"}},null,{"$f":"IF(ROWS('Charge atelier chaudronnerie'!$3:19)<=COUNTIF(nom,$AY$2),INDEX(Expr1,SMALL(IF(nom=$AY$2,ROW(INDIRECT(\"1:\"&ROWS(Expr1)))),ROWS('Charge atelier chaudronnerie'!$3:19))),\"\")","v":{"$error":"#REF!"}},{"$f":"IF(ROWS('Charge atelier chaudronnerie'!$3:19)<=COUNTIF(nom,$AY$2),INDEX(Expr2,SMALL(IF(nom=$AY$2,ROW(INDIRECT(\"1:\"&ROWS(Expr1)))),ROWS('Charge atelier chaudronnerie'!$3:19))),\"\")","v":{"$error":"#REF!"}},{"$f":"IF(ROWS('Charge atelier chaudronnerie'!$3:19)<=COUNTIF(nom,$AY$2),INDEX(DatePriseOf,SMALL(IF(nom=$AY$2,ROW(INDIRECT(\"1:\"&ROWS(Expr1)))),ROWS('Charge atelier chaudronnerie'!$3:19))),\"\")","v":{"$error":"#REF!"}},null,{"$f":"IF(ROWS('Charge atelier chaudronnerie'!$3:19)<=COUNTIF(nom,$BC$2),INDEX(Expr1,SMALL(IF(nom=$BC$2,ROW(INDIRECT(\"1:\"&ROWS(Expr1)))),ROWS('Charge atelier chaudronnerie'!$3:19))),\"\")","v":{"$error":"#REF!"}},{"$f":"IF(ROWS('Charge atelier chaudronnerie'!$3:19)<=COUNTIF(nom,$BC$2),INDEX(Expr2,SMALL(IF(nom=$BC$2,ROW(INDIRECT(\"1:\"&ROWS(Expr1)))),ROWS('Charge atelier chaudronnerie'!$3:19))),\"\")","v":{"$error":"#REF!"}},{"$f":"IF(ROWS('Charge atelier chaudronnerie'!$3:19)<=COUNTIF(nom,$BC$2),INDEX(DatePriseOf,SMALL(IF(nom=$BC$2,ROW(INDIRECT(\"1:\"&ROWS(Expr1)))),ROWS('Charge atelier chaudronnerie'!$3:19))),\"\")","v":{"$error":"#REF!"}},null,{"$f":"IF(ROWS('Charge atelier chaudronnerie'!$3:19)<=COUNTIF(nom,$BG$2),INDEX(Expr1,SMALL(IF(nom=$BG$2,ROW(INDIRECT(\"1:\"&ROWS(Expr1)))),ROWS('Charge atelier chaudronnerie'!$3:19))),\"\")","v":{"$error":"#REF!"}},{"$f":"IF(ROWS('Charge atelier chaudronnerie'!$3:19)<=COUNTIF(nom,$BG$2),INDEX(Expr2,SMALL(IF(nom=$BG$2,ROW(INDIRECT(\"1:\"&ROWS(Expr1)))),ROWS('Charge atelier chaudronnerie'!$3:19))),\"\")","v":{"$error":"#REF!"}},{"$f":"IF(ROWS('Charge atelier chaudronnerie'!$3:19)<=COUNTIF(nom,$BG$2),INDEX(DatePriseOf,SMALL(IF(nom=$BG$2,ROW(INDIRECT(\"1:\"&ROWS(Expr1)))),ROWS('Charge atelier chaudronnerie'!$3:19))),\"\")","v":{"$error":"#REF!"}},null,{"$f":"IF(ROWS('Charge atelier chaudronnerie'!$3:19)<=COUNTIF(nom,$BK$2),INDEX(Expr1,SMALL(IF(nom=$BK$2,ROW(INDIRECT(\"1:\"&ROWS(Expr1)))),ROWS('Charge atelier chaudronnerie'!$3:19))),\"\")","v":{"$error":"#REF!"}},{"$f":"IF(ROWS('Charge atelier chaudronnerie'!$3:19)<=COUNTIF(nom,$BK$2),INDEX(Expr2,SMALL(IF(nom=$BK$2,ROW(INDIRECT(\"1:\"&ROWS(Expr1)))),ROWS('Charge atelier chaudronnerie'!$3:19))),\"\")","v":{"$error":"#REF!"}},{"$f":"IF(ROWS('Charge atelier chaudronnerie'!$3:19)<=COUNTIF(nom,$BK$2),INDEX(DatePriseOf,SMALL(IF(nom=$BK$2,ROW(INDIRECT(\"1:\"&ROWS(Expr1)))),ROWS('Charge atelier chaudronnerie'!$3:19))),\"\")","v":{"$error":"#REF!"}},null,{"$f":"IF(ROWS('Charge atelier chaudronnerie'!$3:16)<=COUNTIF(nom,$BO$2),INDEX(Expr1,SMALL(IF(nom=$BO$2,ROW(INDIRECT(\"1:\"&ROWS(Expr1)))),ROWS('Charge atelier chaudronnerie'!$3:16))),\"\")","v":{"$error":"#REF!"}},{"$f":"IF(ROWS('Charge atelier chaudronnerie'!$3:16)<=COUNTIF(nom,$BO$2),INDEX(Expr2,SMALL(IF(nom=$BO$2,ROW(INDIRECT(\"1:\"&ROWS(Expr1)))),ROWS('Charge atelier chaudronnerie'!$3:16))),\"\")","v":{"$error":"#REF!"}},{"$f":"IF(ROWS('Charge atelier chaudronnerie'!$3:16)<=COUNTIF(nom,$BO$2),INDEX(DatePriseOf,SMALL(IF(nom=$BO$2,ROW(INDIRECT(\"1:\"&ROWS(Expr1)))),ROWS('Charge atelier chaudronnerie'!$3:16))),\"\")","v":{"$error":"#REF!"}},null,{"$f":"IF(ROWS('Charge atelier chaudronnerie'!$3:16)<=COUNTIF(nom,$BS$2),INDEX(Expr1,SMALL(IF(nom=$BS$2,ROW(INDIRECT(\"1:\"&ROWS(Expr1)))),ROWS('Charge atelier chaudronnerie'!$3:16))),\"\")","v":{"$error":"#REF!"}},{"$f":"IF(ROWS('Charge atelier chaudronnerie'!$3:16)<=COUNTIF(nom,$BS$2),INDEX(Expr2,SMALL(IF(nom=$BS$2,ROW(INDIRECT(\"1:\"&ROWS(Expr1)))),ROWS('Charge atelier chaudronnerie'!$3:16))),\"\")","v":{"$error":"#REF!"}},{"$f":"IF(ROWS('Charge atelier chaudronnerie'!$3:16)<=COUNTIF(nom,$BS$2),INDEX(DatePriseOf,SMALL(IF(nom=$BS$2,ROW(INDIRECT(\"1:\"&ROWS(Expr1)))),ROWS('Charge atelier chaudronnerie'!$3:16))),\"\")","v":{"$error":"#REF!"}}]
["françois",null,{"$f":"IF(ROWS('Charge atelier chaudronnerie'!$3:20)<=COUNTIF(nom,$C$2),INDEX(Expr1,SMALL(IF(nom=$C$2,ROW(INDIRECT(\"1:\"&ROWS(Expr1)))),ROWS('Charge atelier chaudronnerie'!$3:20))),\"\")","v":{"$error":"#REF!"}},{"$f":"IF(ROWS('Charge atelier chaudronnerie'!$3:20)<=COUNTIF(nom,$C$2),INDEX(Expr2,SMALL(IF(nom=$C$2,ROW(INDIRECT(\"1:\"&ROWS(Expr1)))),ROWS('Charge atelier chaudronnerie'!$3:20))),\"\")","v":{"$error":"#REF!"}},{"$f":"IF(ROWS('Charge atelier chaudronnerie'!$3:20)<=COUNTIF(nom,$C$2),INDEX(DatePriseOf,SMALL(IF(nom=$C$2,ROW(INDIRECT(\"1:\"&ROWS(Expr1)))),ROWS('Charge atelier chaudronnerie'!$3:20))),\"\")","v":{"$error":"#REF!"}},null,{"$f":"IF(ROWS('Charge atelier chaudronnerie'!$3:20)<=COUNTIF(nom,$G$2),INDEX(Expr1,SMALL(IF(nom=$G$2,ROW(INDIRECT(\"1:\"&ROWS(Expr1)))),ROWS('Charge atelier chaudronnerie'!$3:20))),\"\")","v":{"$error":"#REF!"}},{"$f":"IF(ROWS('Charge atelier chaudronnerie'!$3:20)<=COUNTIF(nom,$G$2),INDEX(Expr2,SMALL(IF(nom=$G$2,ROW(INDIRECT(\"1:\"&ROWS(Expr1)))),ROWS('Charge atelier chaudronnerie'!$3:20))),\"\")","v":{"$error":"#REF!"}},{"$f":"IF(ROWS('Charge atelier chaudronnerie'!$3:20)<=COUNTIF(nom,$G$2),INDEX(DatePriseOf,SMALL(IF(nom=$G$2,ROW(INDIRECT(\"1:\"&ROWS(Expr1)))),ROWS('Charge atelier chaudronnerie'!$3:20))),\"\")","v":{"$error":"#REF!"}},null,{"$f":"IF(ROWS('Charge atelier chaudronnerie'!$3:20)<=COUNTIF(nom,$K$2),INDEX(Expr1,SMALL(IF(nom=$K$2,ROW(INDIRECT(\"1:\"&ROWS(Expr1)))),ROWS('Charge atelier chaudronnerie'!$3:20))),\"\")","v":{"$error":"#REF!"}},{"$f":"IF(ROWS('Charge atelier chaudronnerie'!$3:20)<=COUNTIF(nom,$K$2),INDEX(Expr2,SMALL(IF(nom=$K$2,ROW(INDIRECT(\"1:\"&ROWS(Expr1)))),ROWS('Charge atelier chaudronnerie'!$3:20))),\"\")","v":{"$error":"#REF!"}},{"$f":"IF(ROWS('Charge atelier chaudronnerie'!$3:20)<=COUNTIF(nom,$K$2),INDEX(DatePriseOf,SMALL(IF(nom=$K$2,ROW(INDIRECT(\"1:\"&ROWS(Expr1)))),ROWS('Charge atelier chaudronnerie'!$3:20))),\"\")","v":{"$error":"#REF!"}},null,{"$f":"IF(ROWS('Charge atelier chaudronnerie'!$3:20)<=COUNTIF(nom,$O$2),INDEX(Expr1,SMALL(IF(nom=$O$2,ROW(INDIRECT(\"1:\"&ROWS(Expr1)))),ROWS('Charge atelier chaudronnerie'!$3:20))),\"\")","v":{"$error":"#REF!"}},{"$f":"IF(ROWS('Charge atelier chaudronnerie'!$3:20)<=COUNTIF(nom,$O$2),INDEX(Expr2,SMALL(IF(nom=$O$2,ROW(INDIRECT(\"1:\"&ROWS(Expr1)))),ROWS('Charge atelier chaudronnerie'!$3:20))),\"\")","v":{"$error":"#REF!"}},{"$f":"IF(ROWS('Charge atelier chaudronnerie'!$3:20)<=COUNTIF(nom,$O$2),INDEX(DatePriseOf,SMALL(IF(nom=$O$2,ROW(INDIRECT(\"1:\"&ROWS(Expr1)))),ROWS('Charge atelier chaudronnerie'!$3:20))),\"\")","v":{"$error":"#REF!"}},null,{"$f":"IF(ROWS('Charge atelier chaudronnerie'!$3:20)<=COUNTIF(nom,$S$2),INDEX(Expr1,SMALL(IF(nom=$S$2,ROW(INDIRECT(\"1:\"&ROWS(Expr1)))),ROWS('Charge atelier chaudronnerie'!$3:20))),\"\")","v":{"$error":"#REF!"}},{"$f":"IF(ROWS('Charge atelier chaudronnerie'!$3:20)<=COUNTIF(nom,$S$2),INDEX(Expr2,SMALL(IF(nom=$S$2,ROW(INDIRECT(\"1:\"&ROWS(Expr1)))),ROWS('Charge atelier chaudronnerie'!$3:20))),\"\")","v":{"$error":"#REF!"}},{"$f":"IF(ROWS('Charge atelier chaudronnerie'!$3:20)<=COUNTIF(nom,$S$2),INDEX(DatePriseOf,SMALL(IF(nom=$S$2,ROW(INDIRECT(\"1:\"&ROWS(Expr1)))),ROWS('Charge atelier chaudronnerie'!$3:20))),\"\")","v":{"$error":"#REF!"}},null,{"$f":"IF(ROWS('Charge atelier chaudronnerie'!$3:20)<=COUNTIF(nom,$W$2),INDEX(Expr1,SMALL(IF(nom=$W$2,ROW(INDIRECT(\"1:\"&ROWS(Expr1)))),ROWS('Charge atelier chaudronnerie'!$3:20))),\"\")","v":{"$error":"#REF!"}},{"$f":"IF(ROWS('Charge atelier chaudronnerie'!$3:20)<=COUNTIF(nom,$W$2),INDEX(Expr2,SMALL(IF(nom=$W$2,ROW(INDIRECT(\"1:\"&ROWS(Expr1)))),ROWS('Charge atelier chaudronnerie'!$3:20))),\"\")","v":{"$error":"#REF!"}},{"$f":"IF(ROWS('Charge atelier chaudronnerie'!$3:20)<=COUNTIF(nom,$W$2),INDEX(DatePriseOf,SMALL(IF(nom=$W$2,ROW(INDIRECT(\"1:\"&ROWS(Expr1)))),ROWS('Charge atelier chaudronnerie'!$3:20))),\"\")","v":{"$error":"#REF!"}},null,{"$f":"IF(ROWS('Charge atelier chaudronnerie'!$3:20)<=COUNTIF(nom,$AA$2),INDEX(Expr1,SMALL(IF(nom=$AA$2,ROW(INDIRECT(\"1:\"&ROWS(Expr1)))),ROWS('Charge atelier chaudronnerie'!$3:20))),\"\")","v":{"$error":"#REF!"}},{"$f":"IF(ROWS('Charge atelier chaudronnerie'!$3:20)<=COUNTIF(nom,$AA$2),INDEX(Expr2,SMALL(IF(nom=$AA$2,ROW(INDIRECT(\"1:\"&ROWS(Expr1)))),ROWS('Charge atelier chaudronnerie'!$3:20))),\"\")","v":{"$error":"#REF!"}},{"$f":"IF(ROWS('Charge atelier chaudronnerie'!$3:20)<=COUNTIF(nom,$AA$2),INDEX(DatePriseOf,SMALL(IF(nom=$AA$2,ROW(INDIRECT(\"1:\"&ROWS(Expr1)))),ROWS('Charge atelier chaudronnerie'!$3:20))),\"\")","v":{"$error":"#REF!"}},null,{"$f":"IF(ROWS('Charge atelier chaudronnerie'!$3:20)<=COUNTIF(nom,$AE$2),INDEX(Expr1,SMALL(IF(nom=$AE$2,ROW(INDIRECT(\"1:\"&ROWS(Expr1)))),ROWS('Charge atelier chaudronnerie'!$3:20))),\"\")","v":{"$error":"#REF!"}},{"$f":"IF(ROWS('Charge atelier chaudronnerie'!$3:20)<=COUNTIF(nom,$AE$2),INDEX(Expr2,SMALL(IF(nom=$AE$2,ROW(INDIRECT(\"1:\"&ROWS(Expr1)))),ROWS('Charge atelier chaudronnerie'!$3:20))),\"\")","v":{"$error":"#REF!"}},{"$f":"IF(ROWS('Charge atelier chaudronnerie'!$3:20)<=COUNTIF(nom,$AE$2),INDEX(DatePriseOf,SMALL(IF(nom=$AE$2,ROW(INDIRECT(\"1:\"&ROWS(Expr1)))),ROWS('Charge atelier chaudronnerie'!$3:20))),\"\")","v":{"$error":"#REF!"}},null,{"$f":"IF(ROWS('Charge atelier chaudronnerie'!$3:20)<=COUNTIF(nom,$AI$2),INDEX(Expr1,SMALL(IF(nom=$AI$2,ROW(INDIRECT(\"1:\"&ROWS(Expr1)))),ROWS('Charge atelier chaudronnerie'!$3:20))),\"\")","v":{"$error":"#REF!"}},{"$f":"IF(ROWS('Charge atelier chaudronnerie'!$3:20)<=COUNTIF(nom,$AI$2),INDEX(Expr2,SMALL(IF(nom=$AI$2,ROW(INDIRECT(\"1:\"&ROWS(Expr1)))),ROWS('Charge atelier chaudronnerie'!$3:20))),\"\")","v":{"$error":"#REF!"}},{"$f":"IF(ROWS('Charge atelier chaudronnerie'!$3:20)<=COUNTIF(nom,$AI$2),INDEX(DatePriseOf,SMALL(IF(nom=$AI$2,ROW(INDIRECT(\"1:\"&ROWS(Expr1)))),ROWS('Charge atelier chaudronnerie'!$3:20))),\"\")","v":{"$error":"#REF!"}},null,{"$f":"IF(ROWS('Charge atelier chaudronnerie'!$3:20)<=COUNTIF(nom,$AM$2),INDEX(Expr1,SMALL(IF(nom=$AM$2,ROW(INDIRECT(\"1:\"&ROWS(Expr1)))),ROWS('Charge atelier chaudronnerie'!$3:20))),\"\")","v":{"$error":"#REF!"}},{"$f":"IF(ROWS('Charge atelier chaudronnerie'!$3:20)<=COUNTIF(nom,$AM$2),INDEX(Expr2,SMALL(IF(nom=$AM$2,ROW(INDIRECT(\"1:\"&ROWS(Expr1)))),ROWS('Charge atelier chaudronnerie'!$3:20))),\"\")","v":{"$error":"#REF!"}},{"$f":"IF(ROWS('Charge atelier chaudronnerie'!$3:20)<=COUNTIF(nom,$AM$2),INDEX(DatePriseOf,SMALL(IF(nom=$AM$2,ROW(INDIRECT(\"1:\"&ROWS(Expr1)))),ROWS('Charge atelier chaudronnerie'!$3:20))),\"\")","v":{"$error":"#REF!"}},null,{"$f":"IF(ROWS('Charge atelier chaudronnerie'!$3:20)<=COUNTIF(nom,$AQ$2),INDEX(Expr1,SMALL(IF(nom=$AQ$2,ROW(INDIRECT(\"1:\"&ROWS(Expr1)))),ROWS('Charge atelier chaudronnerie'!$3:20))),\"\")","v":{"$error":"#REF!"}},{"$f":"IF(ROWS('Charge atelier chaudronnerie'!$3:20)<=COUNTIF(nom,$AQ$2),INDEX(Expr2,SMALL(IF(nom=$AQ$2,ROW(INDIRECT(\"1:\"&ROWS(Expr1)))),ROWS('Charge atelier chaudronnerie'!$3:20))),\"\")","v":{"$error":"#REF!"}},{"$f":"IF(ROWS('Charge atelier chaudronnerie'!$3:20)<=COUNTIF(nom,$AQ$2),INDEX(DatePriseOf,SMALL(IF(nom=$AQ$2,ROW(INDIRECT(\"1:\"&ROWS(Expr1)))),ROWS('Charge atelier chaudronnerie'!$3:20))),\"\")","v":{"$error":"#REF!"}},null,{"$f":"IF(ROWS('Charge atelier chaudronnerie'!$3:20)<=COUNTIF(nom,$AU$2),INDEX(Expr1,SMALL(IF(nom=$AU$2,ROW(INDIRECT(\"1:\"&ROWS(Expr1)))),ROWS('Charge atelier chaudronnerie'!$3:20))),\"\")","v":{"$error":"#REF!"}},{"$f":"IF(ROWS('Charge atelier chaudronnerie'!$3:20)<=COUNTIF(nom,$AU$2),INDEX(Expr2,SMALL(IF(nom=$AU$2,ROW(INDIRECT(\"1:\"&ROWS(Expr1)))),ROWS('Charge atelier chaudronnerie'!$3:20))),\"\")","v":{"$error":"#REF!"}},{"$f":"IF(ROWS('Charge atelier chaudronnerie'!$3:20)<=COUNTIF(nom,$AU$2),INDEX(DatePriseOf,SMALL(IF(nom=$AU$2,ROW(INDIRECT(\"1:\"&ROWS(Expr1)))),ROWS('Charge atelier chaudronnerie'!$3:20))),\"\")","v":{"$error":"#REF!"}},null,{"$f":"IF(ROWS('Charge atelier chaudronnerie'!$3:20)<=COUNTIF(nom,$AY$2),INDEX(Expr1,SMALL(IF(nom=$AY$2,ROW(INDIRECT(\"1:\"&ROWS(Expr1)))),ROWS('Charge atelier chaudronnerie'!$3:20))),\"\")","v":{"$error":"#REF!"}},{"$f":"IF(ROWS('Charge atelier chaudronnerie'!$3:20)<=COUNTIF(nom,$AY$2),INDEX(Expr2,SMALL(IF(nom=$AY$2,ROW(INDIRECT(\"1:\"&ROWS(Expr1)))),ROWS('Charge atelier chaudronnerie'!$3:20))),\"\")","v":{"$error":"#REF!"}},{"$f":"IF(ROWS('Charge atelier chaudronnerie'!$3:20)<=COUNTIF(nom,$AY$2),INDEX(DatePriseOf,SMALL(IF(nom=$AY$2,ROW(INDIRECT(\"1:\"&ROWS(Expr1)))),ROWS('Charge atelier chaudronnerie'!$3:20))),\"\")","v":{"$error":"#REF!"}},null,{"$f":"IF(ROWS('Charge atelier chaudronnerie'!$3:20)<=COUNTIF(nom,$BC$2),INDEX(Expr1,SMALL(IF(nom=$BC$2,ROW(INDIRECT(\"1:\"&ROWS(Expr1)))),ROWS('Charge atelier chaudronnerie'!$3:20))),\"\")","v":{"$error":"#REF!"}},{"$f":"IF(ROWS('Charge atelier chaudronnerie'!$3:20)<=COUNTIF(nom,$BC$2),INDEX(Expr2,SMALL(IF(nom=$BC$2,ROW(INDIRECT(\"1:\"&ROWS(Expr1)))),ROWS('Charge atelier chaudronnerie'!$3:20))),\"\")","v":{"$error":"#REF!"}},{"$f":"IF(ROWS('Charge atelier chaudronnerie'!$3:20)<=COUNTIF(nom,$BC$2),INDEX(DatePriseOf,SMALL(IF(nom=$BC$2,ROW(INDIRECT(\"1:\"&ROWS(Expr1)))),ROWS('Charge atelier chaudronnerie'!$3:20))),\"\")","v":{"$error":"#REF!"}},null,{"$f":"IF(ROWS('Charge atelier chaudronnerie'!$3:20)<=COUNTIF(nom,$BG$2),INDEX(Expr1,SMALL(IF(nom=$BG$2,ROW(INDIRECT(\"1:\"&ROWS(Expr1)))),ROWS('Charge atelier chaudronnerie'!$3:20))),\"\")","v":{"$error":"#REF!"}},{"$f":"IF(ROWS('Charge atelier chaudronnerie'!$3:20)<=COUNTIF(nom,$BG$2),INDEX(Expr2,SMALL(IF(nom=$BG$2,ROW(INDIRECT(\"1:\"&ROWS(Expr1)))),ROWS('Charge atelier chaudronnerie'!$3:20))),\"\")","v":{"$error":"#REF!"}},{"$f":"IF(ROWS('Charge atelier chaudronnerie'!$3:20)<=COUNTIF(nom,$BG$2),INDEX(DatePriseOf,SMALL(IF(nom=$BG$2,ROW(INDIRECT(\"1:\"&ROWS(Expr1)))),ROWS('Charge atelier chaudronnerie'!$3:20))),\"\")","v":{"$error":"#REF!"}},null,{"$f":"IF(ROWS('Charge atelier chaudronnerie'!$3:20)<=COUNTIF(nom,$BK$2),INDEX(Expr1,SMALL(IF(nom=$BK$2,ROW(INDIRECT(\"1:\"&ROWS(Expr1)))),ROWS('Charge atelier chaudronnerie'!$3:20))),\"\")","v":{"$error":"#REF!"}},{"$f":"IF(ROWS('Charge atelier chaudronnerie'!$3:20)<=COUNTIF(nom,$BK$2),INDEX(Expr2,SMALL(IF(nom=$BK$2,ROW(INDIRECT(\"1:\"&ROWS(Expr1)))),ROWS('Charge atelier chaudronnerie'!$3:20))),\"\")","v":{"$error":"#REF!"}},{"$f":"IF(ROWS('Charge atelier chaudronnerie'!$3:20)<=COUNTIF(nom,$BK$2),INDEX(DatePriseOf,SMALL(IF(nom=$BK$2,ROW(INDIRECT(\"1:\"&ROWS(Expr1)))),ROWS('Charge atelier chaudronnerie'!$3:20))),\"\")","v":{"$error":"#REF!"}},null,{"$f":"IF(ROWS('Charge atelier chaudronnerie'!$3:17)<=COUNTIF(nom,$BO$2),INDEX(Expr1,SMALL(IF(nom=$BO$2,ROW(INDIRECT(\"1:\"&ROWS(Expr1)))),ROWS('Charge atelier chaudronnerie'!$3:17))),\"\")","v":{"$error":"#REF!"}},{"$f":"IF(ROWS('Charge atelier chaudronnerie'!$3:17)<=COUNTIF(nom,$BO$2),INDEX(Expr2,SMALL(IF(nom=$BO$2,ROW(INDIRECT(\"1:\"&ROWS(Expr1)))),ROWS('Charge atelier chaudronnerie'!$3:17))),\"\")","v":{"$error":"#REF!"}},{"$f":"IF(ROWS('Charge atelier chaudronnerie'!$3:17)<=COUNTIF(nom,$BO$2),INDEX(DatePriseOf,SMALL(IF(nom=$BO$2,ROW(INDIRECT(\"1:\"&ROWS(Expr1)))),ROWS('Charge atelier chaudronnerie'!$3:17))),\"\")","v":{"$error":"#REF!"}},null,{"$f":"IF(ROWS('Charge atelier chaudronnerie'!$3:17)<=COUNTIF(nom,$BS$2),INDEX(Expr1,SMALL(IF(nom=$BS$2,ROW(INDIRECT(\"1:\"&ROWS(Expr1)))),ROWS('Charge atelier chaudronnerie'!$3:17))),\"\")","v":{"$error":"#REF!"}},{"$f":"IF(ROWS('Charge atelier chaudronnerie'!$3:17)<=COUNTIF(nom,$BS$2),INDEX(Expr2,SMALL(IF(nom=$BS$2,ROW(INDIRECT(\"1:\"&ROWS(Expr1)))),ROWS('Charge atelier chaudronnerie'!$3:17))),\"\")","v":{"$error":"#REF!"}},{"$f":"IF(ROWS('Charge atelier chaudronnerie'!$3:17)<=COUNTIF(nom,$BS$2),INDEX(DatePriseOf,SMALL(IF(nom=$BS$2,ROW(INDIRECT(\"1:\"&ROWS(Expr1)))),ROWS('Charge atelier chaudronnerie'!$3:17))),\"\")","v":{"$error":"#REF!"}}]
[null,null,{"$f":"IF(ROWS('Charge atelier chaudronnerie'!$3:21)<=COUNTIF(nom,$C$2),INDEX(Expr1,SMALL(IF(nom=$C$2,ROW(INDIRECT(\"1:\"&ROWS(Expr1)))),ROWS('Charge atelier chaudronnerie'!$3:21))),\"\")","v":{"$error":"#REF!"}},{"$f":"IF(ROWS('Charge atelier chaudronnerie'!$3:21)<=COUNTIF(nom,$C$2),INDEX(Expr2,SMALL(IF(nom=$C$2,ROW(INDIRECT(\"1:\"&ROWS(Expr1)))),ROWS('Charge atelier chaudronnerie'!$3:21))),\"\")","v":{"$error":"#REF!"}},{"$f":"IF(ROWS('Charge atelier chaudronnerie'!$3:21)<=COUNTIF(nom,$C$2),INDEX(DatePriseOf,SMALL(IF(nom=$C$2,ROW(INDIRECT(\"1:\"&ROWS(Expr1)))),ROWS('Charge atelier chaudronnerie'!$3:21))),\"\")","v":{"$error":"#REF!"}},null,{"$f":"IF(ROWS('Charge atelier chaudronnerie'!$3:21)<=COUNTIF(nom,$G$2),INDEX(Expr1,SMALL(IF(nom=$G$2,ROW(INDIRECT(\"1:\"&ROWS(Expr1)))),ROWS('Charge atelier chaudronnerie'!$3:21))),\"\")","v":{"$error":"#REF!"}},{"$f":"IF(ROWS('Charge atelier chaudronnerie'!$3:21)<=COUNTIF(nom,$G$2),INDEX(Expr2,SMALL(IF(nom=$G$2,ROW(INDIRECT(\"1:\"&ROWS(Expr1)))),ROWS('Charge atelier chaudronnerie'!$3:21))),\"\")","v":{"$error":"#REF!"}},{"$f":"IF(ROWS('Charge atelier chaudronnerie'!$3:21)<=COUNTIF(nom,$G$2),INDEX(DatePriseOf,SMALL(IF(nom=$G$2,ROW(INDIRECT(\"1:\"&ROWS(Expr1)))),ROWS('Charge atelier chaudronnerie'!$3:21))),\"\")","v":{"$error":"#REF!"}},null,{"$f":"IF(ROWS('Charge atelier chaudronnerie'!$3:21)<=COUNTIF(nom,$K$2),INDEX(Expr1,SMALL(IF(nom=$K$2,ROW(INDIRECT(\"1:\"&ROWS(Expr1)))),ROWS('Charge atelier chaudronnerie'!$3:21))),\"\")","v":{"$error":"#REF!"}},{"$f":"IF(ROWS('Charge atelier chaudronnerie'!$3:21)<=COUNTIF(nom,$K$2),INDEX(Expr2,SMALL(IF(nom=$K$2,ROW(INDIRECT(\"1:\"&ROWS(Expr1)))),ROWS('Charge atelier chaudronnerie'!$3:21))),\"\")","v":{"$error":"#REF!"}},{"$f":"IF(ROWS('Charge atelier chaudronnerie'!$3:21)<=COUNTIF(nom,$K$2),INDEX(DatePriseOf,SMALL(IF(nom=$K$2,ROW(INDIRECT(\"1:\"&ROWS(Expr1)))),ROWS('Charge atelier chaudronnerie'!$3:21))),\"\")","v":{"$error":"#REF!"}},null,{"$f":"IF(ROWS('Charge atelier chaudronnerie'!$3:21)<=COUNTIF(nom,$O$2),INDEX(Expr1,SMALL(IF(nom=$O$2,ROW(INDIRECT(\"1:\"&ROWS(Expr1)))),ROWS('Charge atelier chaudronnerie'!$3:21))),\"\")","v":{"$error":"#REF!"}},{"$f":"IF(ROWS('Charge atelier chaudronnerie'!$3:21)<=COUNTIF(nom,$O$2),INDEX(Expr2,SMALL(IF(nom=$O$2,ROW(INDIRECT(\"1:\"&ROWS(Expr1)))),ROWS('Charge atelier chaudronnerie'!$3:21))),\"\")","v":{"$error":"#REF!"}},{"$f":"IF(ROWS('Charge atelier chaudronnerie'!$3:21)<=COUNTIF(nom,$O$2),INDEX(DatePriseOf,SMALL(IF(nom=$O$2,ROW(INDIRECT(\"1:\"&ROWS(Expr1)))),ROWS('Charge atelier chaudronnerie'!$3:21))),\"\")","v":{"$error":"#REF!"}},null,{"$f":"IF(ROWS('Charge atelier chaudronnerie'!$3:21)<=COUNTIF(nom,$S$2),INDEX(Expr1,SMALL(IF(nom=$S$2,ROW(INDIRECT(\"1:\"&ROWS(Expr1)))),ROWS('Charge atelier chaudronnerie'!$3:21))),\"\")","v":{"$error":"#REF!"}},{"$f":"IF(ROWS('Charge atelier chaudronnerie'!$3:21)<=COUNTIF(nom,$S$2),INDEX(Expr2,SMALL(IF(nom=$S$2,ROW(INDIRECT(\"1:\"&ROWS(Expr1)))),ROWS('Charge atelier chaudronnerie'!$3:21))),\"\")","v":{"$error":"#REF!"}},{"$f":"IF(ROWS('Charge atelier chaudronnerie'!$3:21)<=COUNTIF(nom,$S$2),INDEX(DatePriseOf,SMALL(IF(nom=$S$2,ROW(INDIRECT(\"1:\"&ROWS(Expr1)))),ROWS('Charge atelier chaudronnerie'!$3:21))),\"\")","v":{"$error":"#REF!"}},null,{"$f":"IF(ROWS('Charge atelier chaudronnerie'!$3:21)<=COUNTIF(nom,$W$2),INDEX(Expr1,SMALL(IF(nom=$W$2,ROW(INDIRECT(\"1:\"&ROWS(Expr1)))),ROWS('Charge atelier chaudronnerie'!$3:21))),\"\")","v":{"$error":"#REF!"}},{"$f":"IF(ROWS('Charge atelier chaudronnerie'!$3:21)<=COUNTIF(nom,$W$2),INDEX(Expr2,SMALL(IF(nom=$W$2,ROW(INDIRECT(\"1:\"&ROWS(Expr1)))),ROWS('Charge atelier chaudronnerie'!$3:21))),\"\")","v":{"$error":"#REF!"}},{"$f":"IF(ROWS('Charge atelier chaudronnerie'!$3:21)<=COUNTIF(nom,$W$2),INDEX(DatePriseOf,SMALL(IF(nom=$W$2,ROW(INDIRECT(\"1:\"&ROWS(Expr1)))),ROWS('Charge atelier chaudronnerie'!$3:21))),\"\")","v":{"$error":"#REF!"}},null,{"$f":"IF(ROWS('Charge atelier chaudronnerie'!$3:21)<=COUNTIF(nom,$AA$2),INDEX(Expr1,SMALL(IF(nom=$AA$2,ROW(INDIRECT(\"1:\"&ROWS(Expr1)))),ROWS('Charge atelier chaudronnerie'!$3:21))),\"\")","v":{"$error":"#REF!"}},{"$f":"IF(ROWS('Charge atelier chaudronnerie'!$3:21)<=COUNTIF(nom,$AA$2),INDEX(Expr2,SMALL(IF(nom=$AA$2,ROW(INDIRECT(\"1:\"&ROWS(Expr1)))),ROWS('Charge atelier chaudronnerie'!$3:21))),\"\")","v":{"$error":"#REF!"}},{"$f":"IF(ROWS('Charge atelier chaudronnerie'!$3:21)<=COUNTIF(nom,$AA$2),INDEX(DatePriseOf,SMALL(IF(nom=$AA$2,ROW(INDIRECT(\"1:\"&ROWS(Expr1)))),ROWS('Charge atelier chaudronnerie'!$3:21))),\"\")","v":{"$error":"#REF!"}},null,{"$f":"IF(ROWS('Charge atelier chaudronnerie'!$3:21)<=COUNTIF(nom,$AE$2),INDEX(Expr1,SMALL(IF(nom=$AE$2,ROW(INDIRECT(\"1:\"&ROWS(Expr1)))),ROWS('Charge atelier chaudronnerie'!$3:21))),\"\")","v":{"$error":"#REF!"}},{"$f":"IF(ROWS('Charge atelier chaudronnerie'!$3:21)<=COUNTIF(nom,$AE$2),INDEX(Expr2,SMALL(IF(nom=$AE$2,ROW(INDIRECT(\"1:\"&ROWS(Expr1)))),ROWS('Charge atelier chaudronnerie'!$3:21))),\"\")","v":{"$error":"#REF!"}},{"$f":"IF(ROWS('Charge atelier chaudronnerie'!$3:21)<=COUNTIF(nom,$AE$2),INDEX(DatePriseOf,SMALL(IF(nom=$AE$2,ROW(INDIRECT(\"1:\"&ROWS(Expr1)))),ROWS('Charge atelier chaudronnerie'!$3:21))),\"\")","v":{"$error":"#REF!"}},null,{"$f":"IF(ROWS('Charge atelier chaudronnerie'!$3:21)<=COUNTIF(nom,$AI$2),INDEX(Expr1,SMALL(IF(nom=$AI$2,ROW(INDIRECT(\"1:\"&ROWS(Expr1)))),ROWS('Charge atelier chaudronnerie'!$3:21))),\"\")","v":{"$error":"#REF!"}},{"$f":"IF(ROWS('Charge atelier chaudronnerie'!$3:21)<=COUNTIF(nom,$AI$2),INDEX(Expr2,SMALL(IF(nom=$AI$2,ROW(INDIRECT(\"1:\"&ROWS(Expr1)))),ROWS('Charge atelier chaudronnerie'!$3:21))),\"\")","v":{"$error":"#REF!"}},{"$f":"IF(ROWS('Charge atelier chaudronnerie'!$3:21)<=COUNTIF(nom,$AI$2),INDEX(DatePriseOf,SMALL(IF(nom=$AI$2,ROW(INDIRECT(\"1:\"&ROWS(Expr1)))),ROWS('Charge atelier chaudronnerie'!$3:21))),\"\")","v":{"$error":"#REF!"}},null,{"$f":"IF(ROWS('Charge atelier chaudronnerie'!$3:21)<=COUNTIF(nom,$AM$2),INDEX(Expr1,SMALL(IF(nom=$AM$2,ROW(INDIRECT(\"1:\"&ROWS(Expr1)))),ROWS('Charge atelier chaudronnerie'!$3:21))),\"\")","v":{"$error":"#REF!"}},{"$f":"IF(ROWS('Charge atelier chaudronnerie'!$3:21)<=COUNTIF(nom,$AM$2),INDEX(Expr2,SMALL(IF(nom=$AM$2,ROW(INDIRECT(\"1:\"&ROWS(Expr1)))),ROWS('Charge atelier chaudronnerie'!$3:21))),\"\")","v":{"$error":"#REF!"}},{"$f":"IF(ROWS('Charge atelier chaudronnerie'!$3:21)<=COUNTIF(nom,$AM$2),INDEX(DatePriseOf,SMALL(IF(nom=$AM$2,ROW(INDIRECT(\"1:\"&ROWS(Expr1)))),ROWS('Charge atelier chaudronnerie'!$3:21))),\"\")","v":{"$error":"#REF!"}},null,{"$f":"IF(ROWS('Charge atelier chaudronnerie'!$3:21)<=COUNTIF(nom,$AQ$2),INDEX(Expr1,SMALL(IF(nom=$AQ$2,ROW(INDIRECT(\"1:\"&ROWS(Expr1)))),ROWS('Charge atelier chaudronnerie'!$3:21))),\"\")","v":{"$error":"#REF!"}},{"$f":"IF(ROWS('Charge atelier chaudronnerie'!$3:21)<=COUNTIF(nom,$AQ$2),INDEX(Expr2,SMALL(IF(nom=$AQ$2,ROW(INDIRECT(\"1:\"&ROWS(Expr1)))),ROWS('Charge atelier chaudronnerie'!$3:21))),\"\")","v":{"$error":"#REF!"}},{"$f":"IF(ROWS('Charge atelier chaudronnerie'!$3:21)<=COUNTIF(nom,$AQ$2),INDEX(DatePriseOf,SMALL(IF(nom=$AQ$2,ROW(INDIRECT(\"1:\"&ROWS(Expr1)))),ROWS('Charge atelier chaudronnerie'!$3:21))),\"\")","v":{"$error":"#REF!"}},null,{"$f":"IF(ROWS('Charge atelier chaudronnerie'!$3:21)<=COUNTIF(nom,$AU$2),INDEX(Expr1,SMALL(IF(nom=$AU$2,ROW(INDIRECT(\"1:\"&ROWS(Expr1)))),ROWS('Charge atelier chaudronnerie'!$3:21))),\"\")","v":{"$error":"#REF!"}},{"$f":"IF(ROWS('Charge atelier chaudronnerie'!$3:21)<=COUNTIF(nom,$AU$2),INDEX(Expr2,SMALL(IF(nom=$AU$2,ROW(INDIRECT(\"1:\"&ROWS(Expr1)))),ROWS('Charge atelier chaudronnerie'!$3:21))),\"\")","v":{"$error":"#REF!"}},{"$f":"IF(ROWS('Charge atelier chaudronnerie'!$3:21)<=COUNTIF(nom,$AU$2),INDEX(DatePriseOf,SMALL(IF(nom=$AU$2,ROW(INDIRECT(\"1:\"&ROWS(Expr1)))),ROWS('Charge atelier chaudronnerie'!$3:21))),\"\")","v":{"$error":"#REF!"}},null,{"$f":"IF(ROWS('Charge atelier chaudronnerie'!$3:21)<=COUNTIF(nom,$AY$2),INDEX(Expr1,SMALL(IF(nom=$AY$2,ROW(INDIRECT(\"1:\"&ROWS(Expr1)))),ROWS('Charge atelier chaudronnerie'!$3:21))),\"\")","v":{"$error":"#REF!"}},{"$f":"IF(ROWS('Charge atelier chaudronnerie'!$3:21)<=COUNTIF(nom,$AY$2),INDEX(Expr2,SMALL(IF(nom=$AY$2,ROW(INDIRECT(\"1:\"&ROWS(Expr1)))),ROWS('Charge atelier chaudronnerie'!$3:21))),\"\")","v":{"$error":"#REF!"}},{"$f":"IF(ROWS('Charge atelier chaudronnerie'!$3:21)<=COUNTIF(nom,$AY$2),INDEX(DatePriseOf,SMALL(IF(nom=$AY$2,ROW(INDIRECT(\"1:\"&ROWS(Expr1)))),ROWS('Charge atelier chaudronnerie'!$3:21))),\"\")","v":{"$error":"#REF!"}},null,{"$f":"IF(ROWS('Charge atelier chaudronnerie'!$3:21)<=COUNTIF(nom,$BC$2),INDEX(Expr1,SMALL(IF(nom=$BC$2,ROW(INDIRECT(\"1:\"&ROWS(Expr1)))),ROWS('Charge atelier chaudronnerie'!$3:21))),\"\")","v":{"$error":"#REF!"}},{"$f":"IF(ROWS('Charge atelier chaudronnerie'!$3:21)<=COUNTIF(nom,$BC$2),INDEX(Expr2,SMALL(IF(nom=$BC$2,ROW(INDIRECT(\"1:\"&ROWS(Expr1)))),ROWS('Charge atelier chaudronnerie'!$3:21))),\"\")","v":{"$error":"#REF!"}},{"$f":"IF(ROWS('Charge atelier chaudronnerie'!$3:21)<=COUNTIF(nom,$BC$2),INDEX(DatePriseOf,SMALL(IF(nom=$BC$2,ROW(INDIRECT(\"1:\"&ROWS(Expr1)))),ROWS('Charge atelier chaudronnerie'!$3:21))),\"\")","v":{"$error":"#REF!"}},null,{"$f":"IF(ROWS('Charge atelier chaudronnerie'!$3:21)<=COUNTIF(nom,$BG$2),INDEX(Expr1,SMALL(IF(nom=$BG$2,ROW(INDIRECT(\"1:\"&ROWS(Expr1)))),ROWS('Charge atelier chaudronnerie'!$3:21))),\"\")","v":{"$error":"#REF!"}},{"$f":"IF(ROWS('Charge atelier chaudronnerie'!$3:21)<=COUNTIF(nom,$BG$2),INDEX(Expr2,SMALL(IF(nom=$BG$2,ROW(INDIRECT(\"1:\"&ROWS(Expr1)))),ROWS('Charge atelier chaudronnerie'!$3:21))),\"\")","v":{"$error":"#REF!"}},{"$f":"IF(ROWS('Charge atelier chaudronnerie'!$3:21)<=COUNTIF(nom,$BG$2),INDEX(DatePriseOf,SMALL(IF(nom=$BG$2,ROW(INDIRECT(\"1:\"&ROWS(Expr1)))),ROWS('Charge atelier chaudronnerie'!$3:21))),\"\")","v":{"$error":"#REF!"}},null,{"$f":"IF(ROWS('Charge atelier chaudronnerie'!$3:21)<=COUNTIF(nom,$BK$2),INDEX(Expr1,SMALL(IF(nom=$BK$2,ROW(INDIRECT(\"1:\"&ROWS(Expr1)))),ROWS('Charge atelier chaudronnerie'!$3:21))),\"\")","v":{"$error":"#REF!"}},{"$f":"IF(ROWS('Charge atelier chaudronnerie'!$3:21)<=COUNTIF(nom,$BK$2),INDEX(Expr2,SMALL(IF(nom=$BK$2,ROW(INDIRECT(\"1:\"&ROWS(Expr1)))),ROWS('Charge atelier chaudronnerie'!$3:21))),\"\")","v":{"$error":"#REF!"}},{"$f":"IF(ROWS('Charge atelier chaudronnerie'!$3:21)<=COUNTIF(nom,$BK$2),INDEX(DatePriseOf,SMALL(IF(nom=$BK$2,ROW(INDIRECT(\"1:\"&ROWS(Expr1)))),ROWS('Charge atelier chaudronnerie'!$3:21))),\"\")","v":{"$error":"#REF!"}},null,{"$f":"IF(ROWS('Charge atelier chaudronnerie'!$3:18)<=COUNTIF(nom,$BO$2),INDEX(Expr1,SMALL(IF(nom=$BO$2,ROW(INDIRECT(\"1:\"&ROWS(Expr1)))),ROWS('Charge atelier chaudronnerie'!$3:18))),\"\")","v":{"$error":"#REF!"}},{"$f":"IF(ROWS('Charge atelier chaudronnerie'!$3:18)<=COUNTIF(nom,$BO$2),INDEX(Expr2,SMALL(IF(nom=$BO$2,ROW(INDIRECT(\"1:\"&ROWS(Expr1)))),ROWS('Charge atelier chaudronnerie'!$3:18))),\"\")","v":{"$error":"#REF!"}},{"$f":"IF(ROWS('Charge atelier chaudronnerie'!$3:18)<=COUNTIF(nom,$BO$2),INDEX(DatePriseOf,SMALL(IF(nom=$BO$2,ROW(INDIRECT(\"1:\"&ROWS(Expr1)))),ROWS('Charge atelier chaudronnerie'!$3:18))),\"\")","v":{"$error":"#REF!"}},null,{"$f":"IF(ROWS('Charge atelier chaudronnerie'!$3:18)<=COUNTIF(nom,$BS$2),INDEX(Expr1,SMALL(IF(nom=$BS$2,ROW(INDIRECT(\"1:\"&ROWS(Expr1)))),ROWS('Charge atelier chaudronnerie'!$3:18))),\"\")","v":{"$error":"#REF!"}},{"$f":"IF(ROWS('Charge atelier chaudronnerie'!$3:18)<=COUNTIF(nom,$BS$2),INDEX(Expr2,SMALL(IF(nom=$BS$2,ROW(INDIRECT(\"1:\"&ROWS(Expr1)))),ROWS('Charge atelier chaudronnerie'!$3:18))),\"\")","v":{"$error":"#REF!"}},{"$f":"IF(ROWS('Charge atelier chaudronnerie'!$3:18)<=COUNTIF(nom,$BS$2),INDEX(DatePriseOf,SMALL(IF(nom=$BS$2,ROW(INDIRECT(\"1:\"&ROWS(Expr1)))),ROWS('Charge atelier chaudronnerie'!$3:18))),\"\")","v":{"$error":"#REF!"}}]
[null,null,{"$f":"IF(ROWS('Charge atelier chaudronnerie'!$3:22)<=COUNTIF(nom,$C$2),INDEX(Expr1,SMALL(IF(nom=$C$2,ROW(INDIRECT(\"1:\"&ROWS(Expr1)))),ROWS('Charge atelier chaudronnerie'!$3:22))),\"\")","v":{"$error":"#REF!"}},{"$f":"IF(ROWS('Charge atelier chaudronnerie'!$3:22)<=COUNTIF(nom,$C$2),INDEX(Expr2,SMALL(IF(nom=$C$2,ROW(INDIRECT(\"1:\"&ROWS(Expr1)))),ROWS('Charge atelier chaudronnerie'!$3:22))),\"\")","v":{"$error":"#REF!"}},{"$f":"IF(ROWS('Charge atelier chaudronnerie'!$3:22)<=COUNTIF(nom,$C$2),INDEX(DatePriseOf,SMALL(IF(nom=$C$2,ROW(INDIRECT(\"1:\"&ROWS(Expr1)))),ROWS('Charge atelier chaudronnerie'!$3:22))),\"\")","v":{"$error":"#REF!"}},null,{"$f":"IF(ROWS('Charge atelier chaudronnerie'!$3:22)<=COUNTIF(nom,$G$2),INDEX(Expr1,SMALL(IF(nom=$G$2,ROW(INDIRECT(\"1:\"&ROWS(Expr1)))),ROWS('Charge atelier chaudronnerie'!$3:22))),\"\")","v":{"$error":"#REF!"}},{"$f":"IF(ROWS('Charge atelier chaudronnerie'!$3:22)<=COUNTIF(nom,$G$2),INDEX(Expr2,SMALL(IF(nom=$G$2,ROW(INDIRECT(\"1:\"&ROWS(Expr1)))),ROWS('Charge atelier chaudronnerie'!$3:22))),\"\")","v":{"$error":"#REF!"}},{"$f":"IF(ROWS('Charge atelier chaudronnerie'!$3:22)<=COUNTIF(nom,$G$2),INDEX(DatePriseOf,SMALL(IF(nom=$G$2,ROW(INDIRECT(\"1:\"&ROWS(Expr1)))),ROWS('Charge atelier chaudronnerie'!$3:22))),\"\")","v":{"$error":"#REF!"}},null,{"$f":"IF(ROWS('Charge atelier chaudronnerie'!$3:22)<=COUNTIF(nom,$K$2),INDEX(Expr1,SMALL(IF(nom=$K$2,ROW(INDIRECT(\"1:\"&ROWS(Expr1)))),ROWS('Charge atelier chaudronnerie'!$3:22))),\"\")","v":{"$error":"#REF!"}},{"$f":"IF(ROWS('Charge atelier chaudronnerie'!$3:22)<=COUNTIF(nom,$K$2),INDEX(Expr2,SMALL(IF(nom=$K$2,ROW(INDIRECT(\"1:\"&ROWS(Expr1)))),ROWS('Charge atelier chaudronnerie'!$3:22))),\"\")","v":{"$error":"#REF!"}},{"$f":"IF(ROWS('Charge atelier chaudronnerie'!$3:22)<=COUNTIF(nom,$K$2),INDEX(DatePriseOf,SMALL(IF(nom=$K$2,ROW(INDIRECT(\"1:\"&ROWS(Expr1)))),ROWS('Charge atelier chaudronnerie'!$3:22))),\"\")","v":{"$error":"#REF!"}},null,{"$f":"IF(ROWS('Charge atelier chaudronnerie'!$3:22)<=COUNTIF(nom,$O$2),INDEX(Expr1,SMALL(IF(nom=$O$2,ROW(INDIRECT(\"1:\"&ROWS(Expr1)))),ROWS('Charge atelier chaudronnerie'!$3:22))),\"\")","v":{"$error":"#REF!"}},{"$f":"IF(ROWS('Charge atelier chaudronnerie'!$3:22)<=COUNTIF(nom,$O$2),INDEX(Expr2,SMALL(IF(nom=$O$2,ROW(INDIRECT(\"1:\"&ROWS(Expr1)))),ROWS('Charge atelier chaudronnerie'!$3:22))),\"\")","v":{"$error":"#REF!"}},{"$f":"IF(ROWS('Charge atelier chaudronnerie'!$3:22)<=COUNTIF(nom,$O$2),INDEX(DatePriseOf,SMALL(IF(nom=$O$2,ROW(INDIRECT(\"1:\"&ROWS(Expr1)))),ROWS('Charge atelier chaudronnerie'!$3:22))),\"\")","v":{"$error":"#REF!"}},null,{"$f":"IF(ROWS('Charge atelier chaudronnerie'!$3:22)<=COUNTIF(nom,$S$2),INDEX(Expr1,SMALL(IF(nom=$S$2,ROW(INDIRECT(\"1:\"&ROWS(Expr1)))),ROWS('Charge atelier chaudronnerie'!$3:22))),\"\")","v":{"$error":"#REF!"}},{"$f":"IF(ROWS('Charge atelier chaudronnerie'!$3:22)<=COUNTIF(nom,$S$2),INDEX(Expr2,SMALL(IF(nom=$S$2,ROW(INDIRECT(\"1:\"&ROWS(Expr1)))),ROWS('Charge atelier chaudronnerie'!$3:22))),\"\")","v":{"$error":"#REF!"}},{"$f":"IF(ROWS('Charge atelier chaudronnerie'!$3:22)<=COUNTIF(nom,$S$2),INDEX(DatePriseOf,SMALL(IF(nom=$S$2,ROW(INDIRECT(\"1:\"&ROWS(Expr1)))),ROWS('Charge atelier chaudronnerie'!$3:22))),\"\")","v":{"$error":"#REF!"}},null,{"$f":"IF(ROWS('Charge atelier chaudronnerie'!$3:22)<=COUNTIF(nom,$W$2),INDEX(Expr1,SMALL(IF(nom=$W$2,ROW(INDIRECT(\"1:\"&ROWS(Expr1)))),ROWS('Charge atelier chaudronnerie'!$3:22))),\"\")","v":{"$error":"#REF!"}},{"$f":"IF(ROWS('Charge atelier chaudronnerie'!$3:22)<=COUNTIF(nom,$W$2),INDEX(Expr2,SMALL(IF(nom=$W$2,ROW(INDIRECT(\"1:\"&ROWS(Expr1)))),ROWS('Charge atelier chaudronnerie'!$3:22))),\"\")","v":{"$error":"#REF!"}},{"$f":"IF(ROWS('Charge atelier chaudronnerie'!$3:22)<=COUNTIF(nom,$W$2),INDEX(DatePriseOf,SMALL(IF(nom=$W$2,ROW(INDIRECT(\"1:\"&ROWS(Expr1)))),ROWS('Charge atelier chaudronnerie'!$3:22))),\"\")","v":{"$error":"#REF!"}},null,{"$f":"IF(ROWS('Charge atelier chaudronnerie'!$3:22)<=COUNTIF(nom,$AA$2),INDEX(Expr1,SMALL(IF(nom=$AA$2,ROW(INDIRECT(\"1:\"&ROWS(Expr1)))),ROWS('Charge atelier chaudronnerie'!$3:22))),\"\")","v":{"$error":"#REF!"}},{"$f":"IF(ROWS('Charge atelier chaudronnerie'!$3:22)<=COUNTIF(nom,$AA$2),INDEX(Expr2,SMALL(IF(nom=$AA$2,ROW(INDIRECT(\"1:\"&ROWS(Expr1)))),ROWS('Charge atelier chaudronnerie'!$3:22))),\"\")","v":{"$error":"#REF!"}},{"$f":"IF(ROWS('Charge atelier chaudronnerie'!$3:22)<=COUNTIF(nom,$AA$2),INDEX(DatePriseOf,SMALL(IF(nom=$AA$2,ROW(INDIRECT(\"1:\"&ROWS(Expr1)))),ROWS('Charge atelier chaudronnerie'!$3:22))),\"\")","v":{"$error":"#REF!"}},null,{"$f":"IF(ROWS('Charge atelier chaudronnerie'!$3:22)<=COUNTIF(nom,$AE$2),INDEX(Expr1,SMALL(IF(nom=$AE$2,ROW(INDIRECT(\"1:\"&ROWS(Expr1)))),ROWS('Charge atelier chaudronnerie'!$3:22))),\"\")","v":{"$error":"#REF!"}},{"$f":"IF(ROWS('Charge atelier chaudronnerie'!$3:22)<=COUNTIF(nom,$AE$2),INDEX(Expr2,SMALL(IF(nom=$AE$2,ROW(INDIRECT(\"1:\"&ROWS(Expr1)))),ROWS('Charge atelier chaudronnerie'!$3:22))),\"\")","v":{"$error":"#REF!"}},{"$f":"IF(ROWS('Charge atelier chaudronnerie'!$3:22)<=COUNTIF(nom,$AE$2),INDEX(DatePriseOf,SMALL(IF(nom=$AE$2,ROW(INDIRECT(\"1:\"&ROWS(Expr1)))),ROWS('Charge atelier chaudronnerie'!$3:22))),\"\")","v":{"$error":"#REF!"}},null,{"$f":"IF(ROWS('Charge atelier chaudronnerie'!$3:22)<=COUNTIF(nom,$AI$2),INDEX(Expr1,SMALL(IF(nom=$AI$2,ROW(INDIRECT(\"1:\"&ROWS(Expr1)))),ROWS('Charge atelier chaudronnerie'!$3:22))),\"\")","v":{"$error":"#REF!"}},{"$f":"IF(ROWS('Charge atelier chaudronnerie'!$3:22)<=COUNTIF(nom,$AI$2),INDEX(Expr2,SMALL(IF(nom=$AI$2,ROW(INDIRECT(\"1:\"&ROWS(Expr1)))),ROWS('Charge atelier chaudronnerie'!$3:22))),\"\")","v":{"$error":"#REF!"}},{"$f":"IF(ROWS('Charge atelier chaudronnerie'!$3:22)<=COUNTIF(nom,$AI$2),INDEX(DatePriseOf,SMALL(IF(nom=$AI$2,ROW(INDIRECT(\"1:\"&ROWS(Expr1)))),ROWS('Charge atelier chaudronnerie'!$3:22))),\"\")","v":{"$error":"#REF!"}},null,{"$f":"IF(ROWS('Charge atelier chaudronnerie'!$3:22)<=COUNTIF(nom,$AM$2),INDEX(Expr1,SMALL(IF(nom=$AM$2,ROW(INDIRECT(\"1:\"&ROWS(Expr1)))),ROWS('Charge atelier chaudronnerie'!$3:22))),\"\")","v":{"$error":"#REF!"}},{"$f":"IF(ROWS('Charge atelier chaudronnerie'!$3:22)<=COUNTIF(nom,$AM$2),INDEX(Expr2,SMALL(IF(nom=$AM$2,ROW(INDIRECT(\"1:\"&ROWS(Expr1)))),ROWS('Charge atelier chaudronnerie'!$3:22))),\"\")","v":{"$error":"#REF!"}},{"$f":"IF(ROWS('Charge atelier chaudronnerie'!$3:22)<=COUNTIF(nom,$AM$2),INDEX(DatePriseOf,SMALL(IF(nom=$AM$2,ROW(INDIRECT(\"1:\"&ROWS(Expr1)))),ROWS('Charge atelier chaudronnerie'!$3:22))),\"\")","v":{"$error":"#REF!"}},null,{"$f":"IF(ROWS('Charge atelier chaudronnerie'!$3:22)<=COUNTIF(nom,$AQ$2),INDEX(Expr1,SMALL(IF(nom=$AQ$2,ROW(INDIRECT(\"1:\"&ROWS(Expr1)))),ROWS('Charge atelier chaudronnerie'!$3:22))),\"\")","v":{"$error":"#REF!"}},{"$f":"IF(ROWS('Charge atelier chaudronnerie'!$3:22)<=COUNTIF(nom,$AQ$2),INDEX(Expr2,SMALL(IF(nom=$AQ$2,ROW(INDIRECT(\"1:\"&ROWS(Expr1)))),ROWS('Charge atelier chaudronnerie'!$3:22))),\"\")","v":{"$error":"#REF!"}},{"$f":"IF(ROWS('Charge atelier chaudronnerie'!$3:22)<=COUNTIF(nom,$AQ$2),INDEX(DatePriseOf,SMALL(IF(nom=$AQ$2,ROW(INDIRECT(\"1:\"&ROWS(Expr1)))),ROWS('Charge atelier chaudronnerie'!$3:22))),\"\")","v":{"$error":"#REF!"}},null,{"$f":"IF(ROWS('Charge atelier chaudronnerie'!$3:22)<=COUNTIF(nom,$AU$2),INDEX(Expr1,SMALL(IF(nom=$AU$2,ROW(INDIRECT(\"1:\"&ROWS(Expr1)))),ROWS('Charge atelier chaudronnerie'!$3:22))),\"\")","v":{"$error":"#REF!"}},{"$f":"IF(ROWS('Charge atelier chaudronnerie'!$3:22)<=COUNTIF(nom,$AU$2),INDEX(Expr2,SMALL(IF(nom=$AU$2,ROW(INDIRECT(\"1:\"&ROWS(Expr1)))),ROWS('Charge atelier chaudronnerie'!$3:22))),\"\")","v":{"$error":"#REF!"}},{"$f":"IF(ROWS('Charge atelier chaudronnerie'!$3:22)<=COUNTIF(nom,$AU$2),INDEX(DatePriseOf,SMALL(IF(nom=$AU$2,ROW(INDIRECT(\"1:\"&ROWS(Expr1)))),ROWS('Charge atelier chaudronnerie'!$3:22))),\"\")","v":{"$error":"#REF!"}},null,{"$f":"IF(ROWS('Charge atelier chaudronnerie'!$3:22)<=COUNTIF(nom,$AY$2),INDEX(Expr1,SMALL(IF(nom=$AY$2,ROW(INDIRECT(\"1:\"&ROWS(Expr1)))),ROWS('Charge atelier chaudronnerie'!$3:22))),\"\")","v":{"$error":"#REF!"}},{"$f":"IF(ROWS('Charge atelier chaudronnerie'!$3:22)<=COUNTIF(nom,$AY$2),INDEX(Expr2,SMALL(IF(nom=$AY$2,ROW(INDIRECT(\"1:\"&ROWS(Expr1)))),ROWS('Charge atelier chaudronnerie'!$3:22))),\"\")","v":{"$error":"#REF!"}},{"$f":"IF(ROWS('Charge atelier chaudronnerie'!$3:22)<=COUNTIF(nom,$AY$2),INDEX(DatePriseOf,SMALL(IF(nom=$AY$2,ROW(INDIRECT(\"1:\"&ROWS(Expr1)))),ROWS('Charge atelier chaudronnerie'!$3:22))),\"\")","v":{"$error":"#REF!"}},null,{"$f":"IF(ROWS('Charge atelier chaudronnerie'!$3:22)<=COUNTIF(nom,$BC$2),INDEX(Expr1,SMALL(IF(nom=$BC$2,ROW(INDIRECT(\"1:\"&ROWS(Expr1)))),ROWS('Charge atelier chaudronnerie'!$3:22))),\"\")","v":{"$error":"#REF!"}},{"$f":"IF(ROWS('Charge atelier chaudronnerie'!$3:22)<=COUNTIF(nom,$BC$2),INDEX(Expr2,SMALL(IF(nom=$BC$2,ROW(INDIRECT(\"1:\"&ROWS(Expr1)))),ROWS('Charge atelier chaudronnerie'!$3:22))),\"\")","v":{"$error":"#REF!"}},{"$f":"IF(ROWS('Charge atelier chaudronnerie'!$3:22)<=COUNTIF(nom,$BC$2),INDEX(DatePriseOf,SMALL(IF(nom=$BC$2,ROW(INDIRECT(\"1:\"&ROWS(Expr1)))),ROWS('Charge atelier chaudronnerie'!$3:22))),\"\")","v":{"$error":"#REF!"}},null,{"$f":"IF(ROWS('Charge atelier chaudronnerie'!$3:22)<=COUNTIF(nom,$BG$2),INDEX(Expr1,SMALL(IF(nom=$BG$2,ROW(INDIRECT(\"1:\"&ROWS(Expr1)))),ROWS('Charge atelier chaudronnerie'!$3:22))),\"\")","v":{"$error":"#REF!"}},{"$f":"IF(ROWS('Charge atelier chaudronnerie'!$3:22)<=COUNTIF(nom,$BG$2),INDEX(Expr2,SMALL(IF(nom=$BG$2,ROW(INDIRECT(\"1:\"&ROWS(Expr1)))),ROWS('Charge atelier chaudronnerie'!$3:22))),\"\")","v":{"$error":"#REF!"}},{"$f":"IF(ROWS('Charge atelier chaudronnerie'!$3:22)<=COUNTIF(nom,$BG$2),INDEX(DatePriseOf,SMALL(IF(nom=$BG$2,ROW(INDIRECT(\"1:\"&ROWS(Expr1)))),ROWS('Charge atelier chaudronnerie'!$3:22))),\"\")","v":{"$error":"#REF!"}},null,{"$f":"IF(ROWS('Charge atelier chaudronnerie'!$3:22)<=COUNTIF(nom,$BK$2),INDEX(Expr1,SMALL(IF(nom=$BK$2,ROW(INDIRECT(\"1:\"&ROWS(Expr1)))),ROWS('Charge atelier chaudronnerie'!$3:22))),\"\")","v":{"$error":"#REF!"}},{"$f":"IF(ROWS('Charge atelier chaudronnerie'!$3:22)<=COUNTIF(nom,$BK$2),INDEX(Expr2,SMALL(IF(nom=$BK$2,ROW(INDIRECT(\"1:\"&ROWS(Expr1)))),ROWS('Charge atelier chaudronnerie'!$3:22))),\"\")","v":{"$error":"#REF!"}},{"$f":"IF(ROWS('Charge atelier chaudronnerie'!$3:22)<=COUNTIF(nom,$BK$2),INDEX(DatePriseOf,SMALL(IF(nom=$BK$2,ROW(INDIRECT(\"1:\"&ROWS(Expr1)))),ROWS('Charge atelier chaudronnerie'!$3:22))),\"\")","v":{"$error":"#REF!"}},null,{"$f":"IF(ROWS('Charge atelier chaudronnerie'!$3:19)<=COUNTIF(nom,$BO$2),INDEX(Expr1,SMALL(IF(nom=$BO$2,ROW(INDIRECT(\"1:\"&ROWS(Expr1)))),ROWS('Charge atelier chaudronnerie'!$3:19))),\"\")","v":{"$error":"#REF!"}},{"$f":"IF(ROWS('Charge atelier chaudronnerie'!$3:19)<=COUNTIF(nom,$BO$2),INDEX(Expr2,SMALL(IF(nom=$BO$2,ROW(INDIRECT(\"1:\"&ROWS(Expr1)))),ROWS('Charge atelier chaudronnerie'!$3:19))),\"\")","v":{"$error":"#REF!"}},{"$f":"IF(ROWS('Charge atelier chaudronnerie'!$3:19)<=COUNTIF(nom,$BO$2),INDEX(DatePriseOf,SMALL(IF(nom=$BO$2,ROW(INDIRECT(\"1:\"&ROWS(Expr1)))),ROWS('Charge atelier chaudronnerie'!$3:19))),\"\")","v":{"$error":"#REF!"}},null,{"$f":"IF(ROWS('Charge atelier chaudronnerie'!$3:19)<=COUNTIF(nom,$BS$2),INDEX(Expr1,SMALL(IF(nom=$BS$2,ROW(INDIRECT(\"1:\"&ROWS(Expr1)))),ROWS('Charge atelier chaudronnerie'!$3:19))),\"\")","v":{"$error":"#REF!"}},{"$f":"IF(ROWS('Charge atelier chaudronnerie'!$3:19)<=COUNTIF(nom,$BS$2),INDEX(Expr2,SMALL(IF(nom=$BS$2,ROW(INDIRECT(\"1:\"&ROWS(Expr1)))),ROWS('Charge atelier chaudronnerie'!$3:19))),\"\")","v":{"$error":"#REF!"}},{"$f":"IF(ROWS('Charge atelier chaudronnerie'!$3:19)<=COUNTIF(nom,$BS$2),INDEX(DatePriseOf,SMALL(IF(nom=$BS$2,ROW(INDIRECT(\"1:\"&ROWS(Expr1)))),ROWS('Charge atelier chaudronnerie'!$3:19))),\"\")","v":{"$error":"#REF!"}}]
[null,null,{"$f":"IF(ROWS('Charge atelier chaudronnerie'!$3:23)<=COUNTIF(nom,$C$2),INDEX(Expr1,SMALL(IF(nom=$C$2,ROW(INDIRECT(\"1:\"&ROWS(Expr1)))),ROWS('Charge atelier chaudronnerie'!$3:23))),\"\")","v":{"$error":"#REF!"}},{"$f":"IF(ROWS('Charge atelier chaudronnerie'!$3:23)<=COUNTIF(nom,$C$2),INDEX(Expr2,SMALL(IF(nom=$C$2,ROW(INDIRECT(\"1:\"&ROWS(Expr1)))),ROWS('Charge atelier chaudronnerie'!$3:23))),\"\")","v":{"$error":"#REF!"}},{"$f":"IF(ROWS('Charge atelier chaudronnerie'!$3:23)<=COUNTIF(nom,$C$2),INDEX(DatePriseOf,SMALL(IF(nom=$C$2,ROW(INDIRECT(\"1:\"&ROWS(Expr1)))),ROWS('Charge atelier chaudronnerie'!$3:23))),\"\")","v":{"$error":"#REF!"}},null,{"$f":"IF(ROWS('Charge atelier chaudronnerie'!$3:23)<=COUNTIF(nom,$G$2),INDEX(Expr1,SMALL(IF(nom=$G$2,ROW(INDIRECT(\"1:\"&ROWS(Expr1)))),ROWS('Charge atelier chaudronnerie'!$3:23))),\"\")","v":{"$error":"#REF!"}},{"$f":"IF(ROWS('Charge atelier chaudronnerie'!$3:23)<=COUNTIF(nom,$G$2),INDEX(Expr2,SMALL(IF(nom=$G$2,ROW(INDIRECT(\"1:\"&ROWS(Expr1)))),ROWS('Charge atelier chaudronnerie'!$3:23))),\"\")","v":{"$error":"#REF!"}},{"$f":"IF(ROWS('Charge atelier chaudronnerie'!$3:23)<=COUNTIF(nom,$G$2),INDEX(DatePriseOf,SMALL(IF(nom=$G$2,ROW(INDIRECT(\"1:\"&ROWS(Expr1)))),ROWS('Charge atelier chaudronnerie'!$3:23))),\"\")","v":{"$error":"#REF!"}},null,{"$f":"IF(ROWS('Charge atelier chaudronnerie'!$3:23)<=COUNTIF(nom,$K$2),INDEX(Expr1,SMALL(IF(nom=$K$2,ROW(INDIRECT(\"1:\"&ROWS(Expr1)))),ROWS('Charge atelier chaudronnerie'!$3:23))),\"\")","v":{"$error":"#REF!"}},{"$f":"IF(ROWS('Charge atelier chaudronnerie'!$3:23)<=COUNTIF(nom,$K$2),INDEX(Expr2,SMALL(IF(nom=$K$2,ROW(INDIRECT(\"1:\"&ROWS(Expr1)))),ROWS('Charge atelier chaudronnerie'!$3:23))),\"\")","v":{"$error":"#REF!"}},{"$f":"IF(ROWS('Charge atelier chaudronnerie'!$3:23)<=COUNTIF(nom,$K$2),INDEX(DatePriseOf,SMALL(IF(nom=$K$2,ROW(INDIRECT(\"1:\"&ROWS(Expr1)))),ROWS('Charge atelier chaudronnerie'!$3:23))),\"\")","v":{"$error":"#REF!"}},null,{"$f":"IF(ROWS('Charge atelier chaudronnerie'!$3:23)<=COUNTIF(nom,$O$2),INDEX(Expr1,SMALL(IF(nom=$O$2,ROW(INDIRECT(\"1:\"&ROWS(Expr1)))),ROWS('Charge atelier chaudronnerie'!$3:23))),\"\")","v":{"$error":"#REF!"}},{"$f":"IF(ROWS('Charge atelier chaudronnerie'!$3:23)<=COUNTIF(nom,$O$2),INDEX(Expr2,SMALL(IF(nom=$O$2,ROW(INDIRECT(\"1:\"&ROWS(Expr1)))),ROWS('Charge atelier chaudronnerie'!$3:23))),\"\")","v":{"$error":"#REF!"}},{"$f":"IF(ROWS('Charge atelier chaudronnerie'!$3:23)<=COUNTIF(nom,$O$2),INDEX(DatePriseOf,SMALL(IF(nom=$O$2,ROW(INDIRECT(\"1:\"&ROWS(Expr1)))),ROWS('Charge atelier chaudronnerie'!$3:23))),\"\")","v":{"$error":"#REF!"}},null,{"$f":"IF(ROWS('Charge atelier chaudronnerie'!$3:23)<=COUNTIF(nom,$S$2),INDEX(Expr1,SMALL(IF(nom=$S$2,ROW(INDIRECT(\"1:\"&ROWS(Expr1)))),ROWS('Charge atelier chaudronnerie'!$3:23))),\"\")","v":{"$error":"#REF!"}},{"$f":"IF(ROWS('Charge atelier chaudronnerie'!$3:23)<=COUNTIF(nom,$S$2),INDEX(Expr2,SMALL(IF(nom=$S$2,ROW(INDIRECT(\"1:\"&ROWS(Expr1)))),ROWS('Charge atelier chaudronnerie'!$3:23))),\"\")","v":{"$error":"#REF!"}},{"$f":"IF(ROWS('Charge atelier chaudronnerie'!$3:23)<=COUNTIF(nom,$S$2),INDEX(DatePriseOf,SMALL(IF(nom=$S$2,ROW(INDIRECT(\"1:\"&ROWS(Expr1)))),ROWS('Charge atelier chaudronnerie'!$3:23))),\"\")","v":{"$error":"#REF!"}},null,{"$f":"IF(ROWS('Charge atelier chaudronnerie'!$3:23)<=COUNTIF(nom,$W$2),INDEX(Expr1,SMALL(IF(nom=$W$2,ROW(INDIRECT(\"1:\"&ROWS(Expr1)))),ROWS('Charge atelier chaudronnerie'!$3:23))),\"\")","v":{"$error":"#REF!"}},{"$f":"IF(ROWS('Charge atelier chaudronnerie'!$3:23)<=COUNTIF(nom,$W$2),INDEX(Expr2,SMALL(IF(nom=$W$2,ROW(INDIRECT(\"1:\"&ROWS(Expr1)))),ROWS('Charge atelier chaudronnerie'!$3:23))),\"\")","v":{"$error":"#REF!"}},{"$f":"IF(ROWS('Charge atelier chaudronnerie'!$3:23)<=COUNTIF(nom,$W$2),INDEX(DatePriseOf,SMALL(IF(nom=$W$2,ROW(INDIRECT(\"1:\"&ROWS(Expr1)))),ROWS('Charge atelier chaudronnerie'!$3:23))),\"\")","v":{"$error":"#REF!"}},null,{"$f":"IF(ROWS('Charge atelier chaudronnerie'!$3:23)<=COUNTIF(nom,$AA$2),INDEX(Expr1,SMALL(IF(nom=$AA$2,ROW(INDIRECT(\"1:\"&ROWS(Expr1)))),ROWS('Charge atelier chaudronnerie'!$3:23))),\"\")","v":{"$error":"#REF!"}},{"$f":"IF(ROWS('Charge atelier chaudronnerie'!$3:23)<=COUNTIF(nom,$AA$2),INDEX(Expr2,SMALL(IF(nom=$AA$2,ROW(INDIRECT(\"1:\"&ROWS(Expr1)))),ROWS('Charge atelier chaudronnerie'!$3:23))),\"\")","v":{"$error":"#REF!"}},{"$f":"IF(ROWS('Charge atelier chaudronnerie'!$3:23)<=COUNTIF(nom,$AA$2),INDEX(DatePriseOf,SMALL(IF(nom=$AA$2,ROW(INDIRECT(\"1:\"&ROWS(Expr1)))),ROWS('Charge atelier chaudronnerie'!$3:23))),\"\")","v":{"$error":"#REF!"}},null,{"$f":"IF(ROWS('Charge atelier chaudronnerie'!$3:23)<=COUNTIF(nom,$AE$2),INDEX(Expr1,SMALL(IF(nom=$AE$2,ROW(INDIRECT(\"1:\"&ROWS(Expr1)))),ROWS('Charge atelier chaudronnerie'!$3:23))),\"\")","v":{"$error":"#REF!"}},{"$f":"IF(ROWS('Charge atelier chaudronnerie'!$3:23)<=COUNTIF(nom,$AE$2),INDEX(Expr2,SMALL(IF(nom=$AE$2,ROW(INDIRECT(\"1:\"&ROWS(Expr1)))),ROWS('Charge atelier chaudronnerie'!$3:23))),\"\")","v":{"$error":"#REF!"}},{"$f":"IF(ROWS('Charge atelier chaudronnerie'!$3:23)<=COUNTIF(nom,$AE$2),INDEX(DatePriseOf,SMALL(IF(nom=$AE$2,ROW(INDIRECT(\"1:\"&ROWS(Expr1)))),ROWS('Charge atelier chaudronnerie'!$3:23))),\"\")","v":{"$error":"#REF!"}},null,{"$f":"IF(ROWS('Charge atelier chaudronnerie'!$3:23)<=COUNTIF(nom,$AI$2),INDEX(Expr1,SMALL(IF(nom=$AI$2,ROW(INDIRECT(\"1:\"&ROWS(Expr1)))),ROWS('Charge atelier chaudronnerie'!$3:23))),\"\")","v":{"$error":"#REF!"}},{"$f":"IF(ROWS('Charge atelier chaudronnerie'!$3:23)<=COUNTIF(nom,$AI$2),INDEX(Expr2,SMALL(IF(nom=$AI$2,ROW(INDIRECT(\"1:\"&ROWS(Expr1)))),ROWS('Charge atelier chaudronnerie'!$3:23))),\"\")","v":{"$error":"#REF!"}},{"$f":"IF(ROWS('Charge atelier chaudronnerie'!$3:23)<=COUNTIF(nom,$AI$2),INDEX(DatePriseOf,SMALL(IF(nom=$AI$2,ROW(INDIRECT(\"1:\"&ROWS(Expr1)))),ROWS('Charge atelier chaudronnerie'!$3:23))),\"\")","v":{"$error":"#REF!"}},null,{"$f":"IF(ROWS('Charge atelier chaudronnerie'!$3:23)<=COUNTIF(nom,$AM$2),INDEX(Expr1,SMALL(IF(nom=$AM$2,ROW(INDIRECT(\"1:\"&ROWS(Expr1)))),ROWS('Charge atelier chaudronnerie'!$3:23))),\"\")","v":{"$error":"#REF!"}},{"$f":"IF(ROWS('Charge atelier chaudronnerie'!$3:23)<=COUNTIF(nom,$AM$2),INDEX(Expr2,SMALL(IF(nom=$AM$2,ROW(INDIRECT(\"1:\"&ROWS(Expr1)))),ROWS('Charge atelier chaudronnerie'!$3:23))),\"\")","v":{"$error":"#REF!"}},{"$f":"IF(ROWS('Charge atelier chaudronnerie'!$3:23)<=COUNTIF(nom,$AM$2),INDEX(DatePriseOf,SMALL(IF(nom=$AM$2,ROW(INDIRECT(\"1:\"&ROWS(Expr1)))),ROWS('Charge atelier chaudronnerie'!$3:23))),\"\")","v":{"$error":"#REF!"}},null,{"$f":"IF(ROWS('Charge atelier chaudronnerie'!$3:23)<=COUNTIF(nom,$AQ$2),INDEX(Expr1,SMALL(IF(nom=$AQ$2,ROW(INDIRECT(\"1:\"&ROWS(Expr1)))),ROWS('Charge atelier chaudronnerie'!$3:23))),\"\")","v":{"$error":"#REF!"}},{"$f":"IF(ROWS('Charge atelier chaudronnerie'!$3:23)<=COUNTIF(nom,$AQ$2),INDEX(Expr2,SMALL(IF(nom=$AQ$2,ROW(INDIRECT(\"1:\"&ROWS(Expr1)))),ROWS('Charge atelier chaudronnerie'!$3:23))),\"\")","v":{"$error":"#REF!"}},{"$f":"IF(ROWS('Charge atelier chaudronnerie'!$3:23)<=COUNTIF(nom,$AQ$2),INDEX(DatePriseOf,SMALL(IF(nom=$AQ$2,ROW(INDIRECT(\"1:\"&ROWS(Expr1)))),ROWS('Charge atelier chaudronnerie'!$3:23))),\"\")","v":{"$error":"#REF!"}},null,{"$f":"IF(ROWS('Charge atelier chaudronnerie'!$3:23)<=COUNTIF(nom,$AU$2),INDEX(Expr1,SMALL(IF(nom=$AU$2,ROW(INDIRECT(\"1:\"&ROWS(Expr1)))),ROWS('Charge atelier chaudronnerie'!$3:23))),\"\")","v":{"$error":"#REF!"}},{"$f":"IF(ROWS('Charge atelier chaudronnerie'!$3:23)<=COUNTIF(nom,$AU$2),INDEX(Expr2,SMALL(IF(nom=$AU$2,ROW(INDIRECT(\"1:\"&ROWS(Expr1)))),ROWS('Charge atelier chaudronnerie'!$3:23))),\"\")","v":{"$error":"#REF!"}},{"$f":"IF(ROWS('Charge atelier chaudronnerie'!$3:23)<=COUNTIF(nom,$AU$2),INDEX(DatePriseOf,SMALL(IF(nom=$AU$2,ROW(INDIRECT(\"1:\"&ROWS(Expr1)))),ROWS('Charge atelier chaudronnerie'!$3:23))),\"\")","v":{"$error":"#REF!"}},null,{"$f":"IF(ROWS('Charge atelier chaudronnerie'!$3:23)<=COUNTIF(nom,$AY$2),INDEX(Expr1,SMALL(IF(nom=$AY$2,ROW(INDIRECT(\"1:\"&ROWS(Expr1)))),ROWS('Charge atelier chaudronnerie'!$3:23))),\"\")","v":{"$error":"#REF!"}},{"$f":"IF(ROWS('Charge atelier chaudronnerie'!$3:23)<=COUNTIF(nom,$AY$2),INDEX(Expr2,SMALL(IF(nom=$AY$2,ROW(INDIRECT(\"1:\"&ROWS(Expr1)))),ROWS('Charge atelier chaudronnerie'!$3:23))),\"\")","v":{"$error":"#REF!"}},{"$f":"IF(ROWS('Charge atelier chaudronnerie'!$3:23)<=COUNTIF(nom,$AY$2),INDEX(DatePriseOf,SMALL(IF(nom=$AY$2,ROW(INDIRECT(\"1:\"&ROWS(Expr1)))),ROWS('Charge atelier chaudronnerie'!$3:23))),\"\")","v":{"$error":"#REF!"}},null,{"$f":"IF(ROWS('Charge atelier chaudronnerie'!$3:23)<=COUNTIF(nom,$BC$2),INDEX(Expr1,SMALL(IF(nom=$BC$2,ROW(INDIRECT(\"1:\"&ROWS(Expr1)))),ROWS('Charge atelier chaudronnerie'!$3:23))),\"\")","v":{"$error":"#REF!"}},{"$f":"IF(ROWS('Charge atelier chaudronnerie'!$3:23)<=COUNTIF(nom,$BC$2),INDEX(Expr2,SMALL(IF(nom=$BC$2,ROW(INDIRECT(\"1:\"&ROWS(Expr1)))),ROWS('Charge atelier chaudronnerie'!$3:23))),\"\")","v":{"$error":"#REF!"}},{"$f":"IF(ROWS('Charge atelier chaudronnerie'!$3:23)<=COUNTIF(nom,$BC$2),INDEX(DatePriseOf,SMALL(IF(nom=$BC$2,ROW(INDIRECT(\"1:\"&ROWS(Expr1)))),ROWS('Charge atelier chaudronnerie'!$3:23))),\"\")","v":{"$error":"#REF!"}},null,{"$f":"IF(ROWS('Charge atelier chaudronnerie'!$3:23)<=COUNTIF(nom,$BG$2),INDEX(Expr1,SMALL(IF(nom=$BG$2,ROW(INDIRECT(\"1:\"&ROWS(Expr1)))),ROWS('Charge atelier chaudronnerie'!$3:23))),\"\")","v":{"$error":"#REF!"}},{"$f":"IF(ROWS('Charge atelier chaudronnerie'!$3:23)<=COUNTIF(nom,$BG$2),INDEX(Expr2,SMALL(IF(nom=$BG$2,ROW(INDIRECT(\"1:\"&ROWS(Expr1)))),ROWS('Charge atelier chaudronnerie'!$3:23))),\"\")","v":{"$error":"#REF!"}},{"$f":"IF(ROWS('Charge atelier chaudronnerie'!$3:23)<=COUNTIF(nom,$BG$2),INDEX(DatePriseOf,SMALL(IF(nom=$BG$2,ROW(INDIRECT(\"1:\"&ROWS(Expr1)))),ROWS('Charge atelier chaudronnerie'!$3:23))),\"\")","v":{"$error":"#REF!"}},null,{"$f":"IF(ROWS('Charge atelier chaudronnerie'!$3:23)<=COUNTIF(nom,$BK$2),INDEX(Expr1,SMALL(IF(nom=$BK$2,ROW(INDIRECT(\"1:\"&ROWS(Expr1)))),ROWS('Charge atelier chaudronnerie'!$3:23))),\"\")","v":{"$error":"#REF!"}},{"$f":"IF(ROWS('Charge atelier chaudronnerie'!$3:23)<=COUNTIF(nom,$BK$2),INDEX(Expr2,SMALL(IF(nom=$BK$2,ROW(INDIRECT(\"1:\"&ROWS(Expr1)))),ROWS('Charge atelier chaudronnerie'!$3:23))),\"\")","v":{"$error":"#REF!"}},{"$f":"IF(ROWS('Charge atelier chaudronnerie'!$3:23)<=COUNTIF(nom,$BK$2),INDEX(DatePriseOf,SMALL(IF(nom=$BK$2,ROW(INDIRECT(\"1:\"&ROWS(Expr1)))),ROWS('Charge atelier chaudronnerie'!$3:23))),\"\")","v":{"$error":"#REF!"}},null,{"$f":"IF(ROWS('Charge atelier chaudronnerie'!$3:20)<=COUNTIF(nom,$BO$2),INDEX(Expr1,SMALL(IF(nom=$BO$2,ROW(INDIRECT(\"1:\"&ROWS(Expr1)))),ROWS('Charge atelier chaudronnerie'!$3:20))),\"\")","v":{"$error":"#REF!"}},{"$f":"IF(ROWS('Charge atelier chaudronnerie'!$3:20)<=COUNTIF(nom,$BO$2),INDEX(Expr2,SMALL(IF(nom=$BO$2,ROW(INDIRECT(\"1:\"&ROWS(Expr1)))),ROWS('Charge atelier chaudronnerie'!$3:20))),\"\")","v":{"$error":"#REF!"}},{"$f":"IF(ROWS('Charge atelier chaudronnerie'!$3:20)<=COUNTIF(nom,$BO$2),INDEX(DatePriseOf,SMALL(IF(nom=$BO$2,ROW(INDIRECT(\"1:\"&ROWS(Expr1)))),ROWS('Charge atelier chaudronnerie'!$3:20))),\"\")","v":{"$error":"#REF!"}},null,{"$f":"IF(ROWS('Charge atelier chaudronnerie'!$3:20)<=COUNTIF(nom,$BS$2),INDEX(Expr1,SMALL(IF(nom=$BS$2,ROW(INDIRECT(\"1:\"&ROWS(Expr1)))),ROWS('Charge atelier chaudronnerie'!$3:20))),\"\")","v":{"$error":"#REF!"}},{"$f":"IF(ROWS('Charge atelier chaudronnerie'!$3:20)<=COUNTIF(nom,$BS$2),INDEX(Expr2,SMALL(IF(nom=$BS$2,ROW(INDIRECT(\"1:\"&ROWS(Expr1)))),ROWS('Charge atelier chaudronnerie'!$3:20))),\"\")","v":{"$error":"#REF!"}},{"$f":"IF(ROWS('Charge atelier chaudronnerie'!$3:20)<=COUNTIF(nom,$BS$2),INDEX(DatePriseOf,SMALL(IF(nom=$BS$2,ROW(INDIRECT(\"1:\"&ROWS(Expr1)))),ROWS('Charge atelier chaudronnerie'!$3:20))),\"\")","v":{"$error":"#REF!"}}]
["PE1",null,{"$f":"IF(ROWS('Charge atelier chaudronnerie'!$3:24)<=COUNTIF(nom,$C$2),INDEX(Expr1,SMALL(IF(nom=$C$2,ROW(INDIRECT(\"1:\"&ROWS(Expr1)))),ROWS('Charge atelier chaudronnerie'!$3:24))),\"\")","v":{"$error":"#REF!"}},{"$f":"IF(ROWS('Charge atelier chaudronnerie'!$3:24)<=COUNTIF(nom,$C$2),INDEX(Expr2,SMALL(IF(nom=$C$2,ROW(INDIRECT(\"1:\"&ROWS(Expr1)))),ROWS('Charge atelier chaudronnerie'!$3:24))),\"\")","v":{"$error":"#REF!"}},{"$f":"IF(ROWS('Charge atelier chaudronnerie'!$3:24)<=COUNTIF(nom,$C$2),INDEX(DatePriseOf,SMALL(IF(nom=$C$2,ROW(INDIRECT(\"1:\"&ROWS(Expr1)))),ROWS('Charge atelier chaudronnerie'!$3:24))),\"\")","v":{"$error":"#REF!"}},null,{"$f":"IF(ROWS('Charge atelier chaudronnerie'!$3:24)<=COUNTIF(nom,$G$2),INDEX(Expr1,SMALL(IF(nom=$G$2,ROW(INDIRECT(\"1:\"&ROWS(Expr1)))),ROWS('Charge atelier chaudronnerie'!$3:24))),\"\")","v":{"$error":"#REF!"}},{"$f":"IF(ROWS('Charge atelier chaudronnerie'!$3:24)<=COUNTIF(nom,$G$2),INDEX(Expr2,SMALL(IF(nom=$G$2,ROW(INDIRECT(\"1:\"&ROWS(Expr1)))),ROWS('Charge atelier chaudronnerie'!$3:24))),\"\")","v":{"$error":"#REF!"}},{"$f":"IF(ROWS('Charge atelier chaudronnerie'!$3:24)<=COUNTIF(nom,$G$2),INDEX(DatePriseOf,SMALL(IF(nom=$G$2,ROW(INDIRECT(\"1:\"&ROWS(Expr1)))),ROWS('Charge atelier chaudronnerie'!$3:24))),\"\")","v":{"$error":"#REF!"}},null,{"$f":"IF(ROWS('Charge atelier chaudronnerie'!$3:24)<=COUNTIF(nom,$K$2),INDEX(Expr1,SMALL(IF(nom=$K$2,ROW(INDIRECT(\"1:\"&ROWS(Expr1)))),ROWS('Charge atelier chaudronnerie'!$3:24))),\"\")","v":{"$error":"#REF!"}},{"$f":"IF(ROWS('Charge atelier chaudronnerie'!$3:24)<=COUNTIF(nom,$K$2),INDEX(Expr2,SMALL(IF(nom=$K$2,ROW(INDIRECT(\"1:\"&ROWS(Expr1)))),ROWS('Charge atelier chaudronnerie'!$3:24))),\"\")","v":{"$error":"#REF!"}},{"$f":"IF(ROWS('Charge atelier chaudronnerie'!$3:24)<=COUNTIF(nom,$K$2),INDEX(DatePriseOf,SMALL(IF(nom=$K$2,ROW(INDIRECT(\"1:\"&ROWS(Expr1)))),ROWS('Charge atelier chaudronnerie'!$3:24))),\"\")","v":{"$error":"#REF!"}},null,{"$f":"IF(ROWS('Charge atelier chaudronnerie'!$3:24)<=COUNTIF(nom,$O$2),INDEX(Expr1,SMALL(IF(nom=$O$2,ROW(INDIRECT(\"1:\"&ROWS(Expr1)))),ROWS('Charge atelier chaudronnerie'!$3:24))),\"\")","v":{"$error":"#REF!"}},{"$f":"IF(ROWS('Charge atelier chaudronnerie'!$3:24)<=COUNTIF(nom,$O$2),INDEX(Expr2,SMALL(IF(nom=$O$2,ROW(INDIRECT(\"1:\"&ROWS(Expr1)))),ROWS('Charge atelier chaudronnerie'!$3:24))),\"\")","v":{"$error":"#REF!"}},{"$f":"IF(ROWS('Charge atelier chaudronnerie'!$3:24)<=COUNTIF(nom,$O$2),INDEX(DatePriseOf,SMALL(IF(nom=$O$2,ROW(INDIRECT(\"1:\"&ROWS(Expr1)))),ROWS('Charge atelier chaudronnerie'!$3:24))),\"\")","v":{"$error":"#REF!"}},null,{"$f":"IF(ROWS('Charge atelier chaudronnerie'!$3:24)<=COUNTIF(nom,$S$2),INDEX(Expr1,SMALL(IF(nom=$S$2,ROW(INDIRECT(\"1:\"&ROWS(Expr1)))),ROWS('Charge atelier chaudronnerie'!$3:24))),\"\")","v":{"$error":"#REF!"}},{"$f":"IF(ROWS('Charge atelier chaudronnerie'!$3:24)<=COUNTIF(nom,$S$2),INDEX(Expr2,SMALL(IF(nom=$S$2,ROW(INDIRECT(\"1:\"&ROWS(Expr1)))),ROWS('Charge atelier chaudronnerie'!$3:24))),\"\")","v":{"$error":"#REF!"}},{"$f":"IF(ROWS('Charge atelier chaudronnerie'!$3:24)<=COUNTIF(nom,$S$2),INDEX(DatePriseOf,SMALL(IF(nom=$S$2,ROW(INDIRECT(\"1:\"&ROWS(Expr1)))),ROWS('Charge atelier chaudronnerie'!$3:24))),\"\")","v":{"$error":"#REF!"}},null,{"$f":"IF(ROWS('Charge atelier chaudronnerie'!$3:24)<=COUNTIF(nom,$W$2),INDEX(Expr1,SMALL(IF(nom=$W$2,ROW(INDIRECT(\"1:\"&ROWS(Expr1)))),ROWS('Charge atelier chaudronnerie'!$3:24))),\"\")","v":{"$error":"#REF!"}},{"$f":"IF(ROWS('Charge atelier chaudronnerie'!$3:24)<=COUNTIF(nom,$W$2),INDEX(Expr2,SMALL(IF(nom=$W$2,ROW(INDIRECT(\"1:\"&ROWS(Expr1)))),ROWS('Charge atelier chaudronnerie'!$3:24))),\"\")","v":{"$error":"#REF!"}},{"$f":"IF(ROWS('Charge atelier chaudronnerie'!$3:24)<=COUNTIF(nom,$W$2),INDEX(DatePriseOf,SMALL(IF(nom=$W$2,ROW(INDIRECT(\"1:\"&ROWS(Expr1)))),ROWS('Charge atelier chaudronnerie'!$3:24))),\"\")","v":{"$error":"#REF!"}},null,{"$f":"IF(ROWS('Charge atelier chaudronnerie'!$3:24)<=COUNTIF(nom,$AA$2),INDEX(Expr1,SMALL(IF(nom=$AA$2,ROW(INDIRECT(\"1:\"&ROWS(Expr1)))),ROWS('Charge atelier chaudronnerie'!$3:24))),\"\")","v":{"$error":"#REF!"}},{"$f":"IF(ROWS('Charge atelier chaudronnerie'!$3:24)<=COUNTIF(nom,$AA$2),INDEX(Expr2,SMALL(IF(nom=$AA$2,ROW(INDIRECT(\"1:\"&ROWS(Expr1)))),ROWS('Charge atelier chaudronnerie'!$3:24))),\"\")","v":{"$error":"#REF!"}},{"$f":"IF(ROWS('Charge atelier chaudronnerie'!$3:24)<=COUNTIF(nom,$AA$2),INDEX(DatePriseOf,SMALL(IF(nom=$AA$2,ROW(INDIRECT(\"1:\"&ROWS(Expr1)))),ROWS('Charge atelier chaudronnerie'!$3:24))),\"\")","v":{"$error":"#REF!"}},null,{"$f":"IF(ROWS('Charge atelier chaudronnerie'!$3:24)<=COUNTIF(nom,$AE$2),INDEX(Expr1,SMALL(IF(nom=$AE$2,ROW(INDIRECT(\"1:\"&ROWS(Expr1)))),ROWS('Charge atelier chaudronnerie'!$3:24))),\"\")","v":{"$error":"#REF!"}},{"$f":"IF(ROWS('Charge atelier chaudronnerie'!$3:24)<=COUNTIF(nom,$AE$2),INDEX(Expr2,SMALL(IF(nom=$AE$2,ROW(INDIRECT(\"1:\"&ROWS(Expr1)))),ROWS('Charge atelier chaudronnerie'!$3:24))),\"\")","v":{"$error":"#REF!"}},{"$f":"IF(ROWS('Charge atelier chaudronnerie'!$3:24)<=COUNTIF(nom,$AE$2),INDEX(DatePriseOf,SMALL(IF(nom=$AE$2,ROW(INDIRECT(\"1:\"&ROWS(Expr1)))),ROWS('Charge atelier chaudronnerie'!$3:24))),\"\")","v":{"$error":"#REF!"}},null,{"$f":"IF(ROWS('Charge atelier chaudronnerie'!$3:24)<=COUNTIF(nom,$AI$2),INDEX(Expr1,SMALL(IF(nom=$AI$2,ROW(INDIRECT(\"1:\"&ROWS(Expr1)))),ROWS('Charge atelier chaudronnerie'!$3:24))),\"\")","v":{"$error":"#REF!"}},{"$f":"IF(ROWS('Charge atelier chaudronnerie'!$3:24)<=COUNTIF(nom,$AI$2),INDEX(Expr2,SMALL(IF(nom=$AI$2,ROW(INDIRECT(\"1:\"&ROWS(Expr1)))),ROWS('Charge atelier chaudronnerie'!$3:24))),\"\")","v":{"$error":"#REF!"}},{"$f":"IF(ROWS('Charge atelier chaudronnerie'!$3:24)<=COUNTIF(nom,$AI$2),INDEX(DatePriseOf,SMALL(IF(nom=$AI$2,ROW(INDIRECT(\"1:\"&ROWS(Expr1)))),ROWS('Charge atelier chaudronnerie'!$3:24))),\"\")","v":{"$error":"#REF!"}},null,{"$f":"IF(ROWS('Charge atelier chaudronnerie'!$3:24)<=COUNTIF(nom,$AM$2),INDEX(Expr1,SMALL(IF(nom=$AM$2,ROW(INDIRECT(\"1:\"&ROWS(Expr1)))),ROWS('Charge atelier chaudronnerie'!$3:24))),\"\")","v":{"$error":"#REF!"}},{"$f":"IF(ROWS('Charge atelier chaudronnerie'!$3:24)<=COUNTIF(nom,$AM$2),INDEX(Expr2,SMALL(IF(nom=$AM$2,ROW(INDIRECT(\"1:\"&ROWS(Expr1)))),ROWS('Charge atelier chaudronnerie'!$3:24))),\"\")","v":{"$error":"#REF!"}},{"$f":"IF(ROWS('Charge atelier chaudronnerie'!$3:24)<=COUNTIF(nom,$AM$2),INDEX(DatePriseOf,SMALL(IF(nom=$AM$2,ROW(INDIRECT(\"1:\"&ROWS(Expr1)))),ROWS('Charge atelier chaudronnerie'!$3:24))),\"\")","v":{"$error":"#REF!"}},null,{"$f":"IF(ROWS('Charge atelier chaudronnerie'!$3:24)<=COUNTIF(nom,$AQ$2),INDEX(Expr1,SMALL(IF(nom=$AQ$2,ROW(INDIRECT(\"1:\"&ROWS(Expr1)))),ROWS('Charge atelier chaudronnerie'!$3:24))),\"\")","v":{"$error":"#REF!"}},{"$f":"IF(ROWS('Charge atelier chaudronnerie'!$3:24)<=COUNTIF(nom,$AQ$2),INDEX(Expr2,SMALL(IF(nom=$AQ$2,ROW(INDIRECT(\"1:\"&ROWS(Expr1)))),ROWS('Charge atelier chaudronnerie'!$3:24))),\"\")","v":{"$error":"#REF!"}},{"$f":"IF(ROWS('Charge atelier chaudronnerie'!$3:24)<=COUNTIF(nom,$AQ$2),INDEX(DatePriseOf,SMALL(IF(nom=$AQ$2,ROW(INDIRECT(\"1:\"&ROWS(Expr1)))),ROWS('Charge atelier chaudronnerie'!$3:24))),\"\")","v":{"$error":"#REF!"}},null,{"$f":"IF(ROWS('Charge atelier chaudronnerie'!$3:24)<=COUNTIF(nom,$AU$2),INDEX(Expr1,SMALL(IF(nom=$AU$2,ROW(INDIRECT(\"1:\"&ROWS(Expr1)))),ROWS('Charge atelier chaudronnerie'!$3:24))),\"\")","v":{"$error":"#REF!"}},{"$f":"IF(ROWS('Charge atelier chaudronnerie'!$3:24)<=COUNTIF(nom,$AU$2),INDEX(Expr2,SMALL(IF(nom=$AU$2,ROW(INDIRECT(\"1:\"&ROWS(Expr1)))),ROWS('Charge atelier chaudronnerie'!$3:24))),\"\")","v":{"$error":"#REF!"}},{"$f":"IF(ROWS('Charge atelier chaudronnerie'!$3:24)<=COUNTIF(nom,$AU$2),INDEX(DatePriseOf,SMALL(IF(nom=$AU$2,ROW(INDIRECT(\"1:\"&ROWS(Expr1)))),ROWS('Charge atelier chaudronnerie'!$3:24))),\"\")","v":{"$error":"#REF!"}},null,{"$f":"IF(ROWS('Charge atelier chaudronnerie'!$3:24)<=COUNTIF(nom,$AY$2),INDEX(Expr1,SMALL(IF(nom=$AY$2,ROW(INDIRECT(\"1:\"&ROWS(Expr1)))),ROWS('Charge atelier chaudronnerie'!$3:24))),\"\")","v":{"$error":"#REF!"}},{"$f":"IF(ROWS('Charge atelier chaudronnerie'!$3:24)<=COUNTIF(nom,$AY$2),INDEX(Expr2,SMALL(IF(nom=$AY$2,ROW(INDIRECT(\"1:\"&ROWS(Expr1)))),ROWS('Charge atelier chaudronnerie'!$3:24))),\"\")","v":{"$error":"#REF!"}},{"$f":"IF(ROWS('Charge atelier chaudronnerie'!$3:24)<=COUNTIF(nom,$AY$2),INDEX(DatePriseOf,SMALL(IF(nom=$AY$2,ROW(INDIRECT(\"1:\"&ROWS(Expr1)))),ROWS('Charge atelier chaudronnerie'!$3:24))),\"\")","v":{"$error":"#REF!"}},null,{"$f":"IF(ROWS('Charge atelier chaudronnerie'!$3:24)<=COUNTIF(nom,$BC$2),INDEX(Expr1,SMALL(IF(nom=$BC$2,ROW(INDIRECT(\"1:\"&ROWS(Expr1)))),ROWS('Charge atelier chaudronnerie'!$3:24))),\"\")","v":{"$error":"#REF!"}},{"$f":"IF(ROWS('Charge atelier chaudronnerie'!$3:24)<=COUNTIF(nom,$BC$2),INDEX(Expr2,SMALL(IF(nom=$BC$2,ROW(INDIRECT(\"1:\"&ROWS(Expr1)))),ROWS('Charge atelier chaudronnerie'!$3:24))),\"\")","v":{"$error":"#REF!"}},{"$f":"IF(ROWS('Charge atelier chaudronnerie'!$3:24)<=COUNTIF(nom,$BC$2),INDEX(DatePriseOf,SMALL(IF(nom=$BC$2,ROW(INDIRECT(\"1:\"&ROWS(Expr1)))),ROWS('Charge atelier chaudronnerie'!$3:24))),\"\")","v":{"$error":"#REF!"}},null,{"$f":"IF(ROWS('Charge atelier chaudronnerie'!$3:24)<=COUNTIF(nom,$BG$2),INDEX(Expr1,SMALL(IF(nom=$BG$2,ROW(INDIRECT(\"1:\"&ROWS(Expr1)))),ROWS('Charge atelier chaudronnerie'!$3:24))),\"\")","v":{"$error":"#REF!"}},{"$f":"IF(ROWS('Charge atelier chaudronnerie'!$3:24)<=COUNTIF(nom,$BG$2),INDEX(Expr2,SMALL(IF(nom=$BG$2,ROW(INDIRECT(\"1:\"&ROWS(Expr1)))),ROWS('Charge atelier chaudronnerie'!$3:24))),\"\")","v":{"$error":"#REF!"}},{"$f":"IF(ROWS('Charge atelier chaudronnerie'!$3:24)<=COUNTIF(nom,$BG$2),INDEX(DatePriseOf,SMALL(IF(nom=$BG$2,ROW(INDIRECT(\"1:\"&ROWS(Expr1)))),ROWS('Charge atelier chaudronnerie'!$3:24))),\"\")","v":{"$error":"#REF!"}},null,{"$f":"IF(ROWS('Charge atelier chaudronnerie'!$3:24)<=COUNTIF(nom,$BK$2),INDEX(Expr1,SMALL(IF(nom=$BK$2,ROW(INDIRECT(\"1:\"&ROWS(Expr1)))),ROWS('Charge atelier chaudronnerie'!$3:24))),\"\")","v":{"$error":"#REF!"}},{"$f":"IF(ROWS('Charge atelier chaudronnerie'!$3:24)<=COUNTIF(nom,$BK$2),INDEX(Expr2,SMALL(IF(nom=$BK$2,ROW(INDIRECT(\"1:\"&ROWS(Expr1)))),ROWS('Charge atelier chaudronnerie'!$3:24))),\"\")","v":{"$error":"#REF!"}},{"$f":"IF(ROWS('Charge atelier chaudronnerie'!$3:24)<=COUNTIF(nom,$BK$2),INDEX(DatePriseOf,SMALL(IF(nom=$BK$2,ROW(INDIRECT(\"1:\"&ROWS(Expr1)))),ROWS('Charge atelier chaudronnerie'!$3:24))),\"\")","v":{"$error":"#REF!"}},null,{"$f":"IF(ROWS('Charge atelier chaudronnerie'!$3:21)<=COUNTIF(nom,$BO$2),INDEX(Expr1,SMALL(IF(nom=$BO$2,ROW(INDIRECT(\"1:\"&ROWS(Expr1)))),ROWS('Charge atelier chaudronnerie'!$3:21))),\"\")","v":{"$error":"#REF!"}},{"$f":"IF(ROWS('Charge atelier chaudronnerie'!$3:21)<=COUNTIF(nom,$BO$2),INDEX(Expr2,SMALL(IF(nom=$BO$2,ROW(INDIRECT(\"1:\"&ROWS(Expr1)))),ROWS('Charge atelier chaudronnerie'!$3:21))),\"\")","v":{"$error":"#REF!"}},{"$f":"IF(ROWS('Charge atelier chaudronnerie'!$3:21)<=COUNTIF(nom,$BO$2),INDEX(DatePriseOf,SMALL(IF(nom=$BO$2,ROW(INDIRECT(\"1:\"&ROWS(Expr1)))),ROWS('Charge atelier chaudronnerie'!$3:21))),\"\")","v":{"$error":"#REF!"}},null,{"$f":"IF(ROWS('Charge atelier chaudronnerie'!$3:21)<=COUNTIF(nom,$BS$2),INDEX(Expr1,SMALL(IF(nom=$BS$2,ROW(INDIRECT(\"1:\"&ROWS(Expr1)))),ROWS('Charge atelier chaudronnerie'!$3:21))),\"\")","v":{"$error":"#REF!"}},{"$f":"IF(ROWS('Charge atelier chaudronnerie'!$3:21)<=COUNTIF(nom,$BS$2),INDEX(Expr2,SMALL(IF(nom=$BS$2,ROW(INDIRECT(\"1:\"&ROWS(Expr1)))),ROWS('Charge atelier chaudronnerie'!$3:21))),\"\")","v":{"$error":"#REF!"}},{"$f":"IF(ROWS('Charge atelier chaudronnerie'!$3:21)<=COUNTIF(nom,$BS$2),INDEX(DatePriseOf,SMALL(IF(nom=$BS$2,ROW(INDIRECT(\"1:\"&ROWS(Expr1)))),ROWS('Charge atelier chaudronnerie'!$3:21))),\"\")","v":{"$error":"#REF!"}}]
["PE2",null,{"$f":"IF(ROWS('Charge atelier chaudronnerie'!$3:25)<=COUNTIF(nom,$C$2),INDEX(Expr1,SMALL(IF(nom=$C$2,ROW(INDIRECT(\"1:\"&ROWS(Expr1)))),ROWS('Charge atelier chaudronnerie'!$3:25))),\"\")","v":{"$error":"#REF!"}},{"$f":"IF(ROWS('Charge atelier chaudronnerie'!$3:25)<=COUNTIF(nom,$C$2),INDEX(Expr2,SMALL(IF(nom=$C$2,ROW(INDIRECT(\"1:\"&ROWS(Expr1)))),ROWS('Charge atelier chaudronnerie'!$3:25))),\"\")","v":{"$error":"#REF!"}},{"$f":"IF(ROWS('Charge atelier chaudronnerie'!$3:25)<=COUNTIF(nom,$C$2),INDEX(DatePriseOf,SMALL(IF(nom=$C$2,ROW(INDIRECT(\"1:\"&ROWS(Expr1)))),ROWS('Charge atelier chaudronnerie'!$3:25))),\"\")","v":{"$error":"#REF!"}},null,{"$f":"IF(ROWS('Charge atelier chaudronnerie'!$3:25)<=COUNTIF(nom,$G$2),INDEX(Expr1,SMALL(IF(nom=$G$2,ROW(INDIRECT(\"1:\"&ROWS(Expr1)))),ROWS('Charge atelier chaudronnerie'!$3:25))),\"\")","v":{"$error":"#REF!"}},{"$f":"IF(ROWS('Charge atelier chaudronnerie'!$3:25)<=COUNTIF(nom,$G$2),INDEX(Expr2,SMALL(IF(nom=$G$2,ROW(INDIRECT(\"1:\"&ROWS(Expr1)))),ROWS('Charge atelier chaudronnerie'!$3:25))),\"\")","v":{"$error":"#REF!"}},{"$f":"IF(ROWS('Charge atelier chaudronnerie'!$3:25)<=COUNTIF(nom,$G$2),INDEX(DatePriseOf,SMALL(IF(nom=$G$2,ROW(INDIRECT(\"1:\"&ROWS(Expr1)))),ROWS('Charge atelier chaudronnerie'!$3:25))),\"\")","v":{"$error":"#REF!"}},null,{"$f":"IF(ROWS('Charge atelier chaudronnerie'!$3:25)<=COUNTIF(nom,$K$2),INDEX(Expr1,SMALL(IF(nom=$K$2,ROW(INDIRECT(\"1:\"&ROWS(Expr1)))),ROWS('Charge atelier chaudronnerie'!$3:25))),\"\")","v":{"$error":"#REF!"}},{"$f":"IF(ROWS('Charge atelier chaudronnerie'!$3:25)<=COUNTIF(nom,$K$2),INDEX(Expr2,SMALL(IF(nom=$K$2,ROW(INDIRECT(\"1:\"&ROWS(Expr1)))),ROWS('Charge atelier chaudronnerie'!$3:25))),\"\")","v":{"$error":"#REF!"}},{"$f":"IF(ROWS('Charge atelier chaudronnerie'!$3:25)<=COUNTIF(nom,$K$2),INDEX(DatePriseOf,SMALL(IF(nom=$K$2,ROW(INDIRECT(\"1:\"&ROWS(Expr1)))),ROWS('Charge atelier chaudronnerie'!$3:25))),\"\")","v":{"$error":"#REF!"}},null,{"$f":"IF(ROWS('Charge atelier chaudronnerie'!$3:25)<=COUNTIF(nom,$O$2),INDEX(Expr1,SMALL(IF(nom=$O$2,ROW(INDIRECT(\"1:\"&ROWS(Expr1)))),ROWS('Charge atelier chaudronnerie'!$3:25))),\"\")","v":{"$error":"#REF!"}},{"$f":"IF(ROWS('Charge atelier chaudronnerie'!$3:25)<=COUNTIF(nom,$O$2),INDEX(Expr2,SMALL(IF(nom=$O$2,ROW(INDIRECT(\"1:\"&ROWS(Expr1)))),ROWS('Charge atelier chaudronnerie'!$3:25))),\"\")","v":{"$error":"#REF!"}},{"$f":"IF(ROWS('Charge atelier chaudronnerie'!$3:25)<=COUNTIF(nom,$O$2),INDEX(DatePriseOf,SMALL(IF(nom=$O$2,ROW(INDIRECT(\"1:\"&ROWS(Expr1)))),ROWS('Charge atelier chaudronnerie'!$3:25))),\"\")","v":{"$error":"#REF!"}},null,{"$f":"IF(ROWS('Charge atelier chaudronnerie'!$3:25)<=COUNTIF(nom,$S$2),INDEX(Expr1,SMALL(IF(nom=$S$2,ROW(INDIRECT(\"1:\"&ROWS(Expr1)))),ROWS('Charge atelier chaudronnerie'!$3:25))),\"\")","v":{"$error":"#REF!"}},{"$f":"IF(ROWS('Charge atelier chaudronnerie'!$3:25)<=COUNTIF(nom,$S$2),INDEX(Expr2,SMALL(IF(nom=$S$2,ROW(INDIRECT(\"1:\"&ROWS(Expr1)))),ROWS('Charge atelier chaudronnerie'!$3:25))),\"\")","v":{"$error":"#REF!"}},{"$f":"IF(ROWS('Charge atelier chaudronnerie'!$3:25)<=COUNTIF(nom,$S$2),INDEX(DatePriseOf,SMALL(IF(nom=$S$2,ROW(INDIRECT(\"1:\"&ROWS(Expr1)))),ROWS('Charge atelier chaudronnerie'!$3:25))),\"\")","v":{"$error":"#REF!"}},null,{"$f":"IF(ROWS('Charge atelier chaudronnerie'!$3:25)<=COUNTIF(nom,$W$2),INDEX(Expr1,SMALL(IF(nom=$W$2,ROW(INDIRECT(\"1:\"&ROWS(Expr1)))),ROWS('Charge atelier chaudronnerie'!$3:25))),\"\")","v":{"$error":"#REF!"}},{"$f":"IF(ROWS('Charge atelier chaudronnerie'!$3:25)<=COUNTIF(nom,$W$2),INDEX(Expr2,SMALL(IF(nom=$W$2,ROW(INDIRECT(\"1:\"&ROWS(Expr1)))),ROWS('Charge atelier chaudronnerie'!$3:25))),\"\")","v":{"$error":"#REF!"}},{"$f":"IF(ROWS('Charge atelier chaudronnerie'!$3:25)<=COUNTIF(nom,$W$2),INDEX(DatePriseOf,SMALL(IF(nom=$W$2,ROW(INDIRECT(\"1:\"&ROWS(Expr1)))),ROWS('Charge atelier chaudronnerie'!$3:25))),\"\")","v":{"$error":"#REF!"}},null,{"$f":"IF(ROWS('Charge atelier chaudronnerie'!$3:25)<=COUNTIF(nom,$AA$2),INDEX(Expr1,SMALL(IF(nom=$AA$2,ROW(INDIRECT(\"1:\"&ROWS(Expr1)))),ROWS('Charge atelier chaudronnerie'!$3:25))),\"\")","v":{"$error":"#REF!"}},{"$f":"IF(ROWS('Charge atelier chaudronnerie'!$3:25)<=COUNTIF(nom,$AA$2),INDEX(Expr2,SMALL(IF(nom=$AA$2,ROW(INDIRECT(\"1:\"&ROWS(Expr1)))),ROWS('Charge atelier chaudronnerie'!$3:25))),\"\")","v":{"$error":"#REF!"}},{"$f":"IF(ROWS('Charge atelier chaudronnerie'!$3:25)<=COUNTIF(nom,$AA$2),INDEX(DatePriseOf,SMALL(IF(nom=$AA$2,ROW(INDIRECT(\"1:\"&ROWS(Expr1)))),ROWS('Charge atelier chaudronnerie'!$3:25))),\"\")","v":{"$error":"#REF!"}},null,{"$f":"IF(ROWS('Charge atelier chaudronnerie'!$3:25)<=COUNTIF(nom,$AE$2),INDEX(Expr1,SMALL(IF(nom=$AE$2,ROW(INDIRECT(\"1:\"&ROWS(Expr1)))),ROWS('Charge atelier chaudronnerie'!$3:25))),\"\")","v":{"$error":"#REF!"}},{"$f":"IF(ROWS('Charge atelier chaudronnerie'!$3:25)<=COUNTIF(nom,$AE$2),INDEX(Expr2,SMALL(IF(nom=$AE$2,ROW(INDIRECT(\"1:\"&ROWS(Expr1)))),ROWS('Charge atelier chaudronnerie'!$3:25))),\"\")","v":{"$error":"#REF!"}},{"$f":"IF(ROWS('Charge atelier chaudronnerie'!$3:25)<=COUNTIF(nom,$AE$2),INDEX(DatePriseOf,SMALL(IF(nom=$AE$2,ROW(INDIRECT(\"1:\"&ROWS(Expr1)))),ROWS('Charge atelier chaudronnerie'!$3:25))),\"\")","v":{"$error":"#REF!"}},null,{"$f":"IF(ROWS('Charge atelier chaudronnerie'!$3:25)<=COUNTIF(nom,$AI$2),INDEX(Expr1,SMALL(IF(nom=$AI$2,ROW(INDIRECT(\"1:\"&ROWS(Expr1)))),ROWS('Charge atelier chaudronnerie'!$3:25))),\"\")","v":{"$error":"#REF!"}},{"$f":"IF(ROWS('Charge atelier chaudronnerie'!$3:25)<=COUNTIF(nom,$AI$2),INDEX(Expr2,SMALL(IF(nom=$AI$2,ROW(INDIRECT(\"1:\"&ROWS(Expr1)))),ROWS('Charge atelier chaudronnerie'!$3:25))),\"\")","v":{"$error":"#REF!"}},{"$f":"IF(ROWS('Charge atelier chaudronnerie'!$3:25)<=COUNTIF(nom,$AI$2),INDEX(DatePriseOf,SMALL(IF(nom=$AI$2,ROW(INDIRECT(\"1:\"&ROWS(Expr1)))),ROWS('Charge atelier chaudronnerie'!$3:25))),\"\")","v":{"$error":"#REF!"}},null,{"$f":"IF(ROWS('Charge atelier chaudronnerie'!$3:25)<=COUNTIF(nom,$AM$2),INDEX(Expr1,SMALL(IF(nom=$AM$2,ROW(INDIRECT(\"1:\"&ROWS(Expr1)))),ROWS('Charge atelier chaudronnerie'!$3:25))),\"\")","v":{"$error":"#REF!"}},{"$f":"IF(ROWS('Charge atelier chaudronnerie'!$3:25)<=COUNTIF(nom,$AM$2),INDEX(Expr2,SMALL(IF(nom=$AM$2,ROW(INDIRECT(\"1:\"&ROWS(Expr1)))),ROWS('Charge atelier chaudronnerie'!$3:25))),\"\")","v":{"$error":"#REF!"}},{"$f":"IF(ROWS('Charge atelier chaudronnerie'!$3:25)<=COUNTIF(nom,$AM$2),INDEX(DatePriseOf,SMALL(IF(nom=$AM$2,ROW(INDIRECT(\"1:\"&ROWS(Expr1)))),ROWS('Charge atelier chaudronnerie'!$3:25))),\"\")","v":{"$error":"#REF!"}},null,{"$f":"IF(ROWS('Charge atelier chaudronnerie'!$3:25)<=COUNTIF(nom,$AQ$2),INDEX(Expr1,SMALL(IF(nom=$AQ$2,ROW(INDIRECT(\"1:\"&ROWS(Expr1)))),ROWS('Charge atelier chaudronnerie'!$3:25))),\"\")","v":{"$error":"#REF!"}},{"$f":"IF(ROWS('Charge atelier chaudronnerie'!$3:25)<=COUNTIF(nom,$AQ$2),INDEX(Expr2,SMALL(IF(nom=$AQ$2,ROW(INDIRECT(\"1:\"&ROWS(Expr1)))),ROWS('Charge atelier chaudronnerie'!$3:25))),\"\")","v":{"$error":"#REF!"}},{"$f":"IF(ROWS('Charge atelier chaudronnerie'!$3:25)<=COUNTIF(nom,$AQ$2),INDEX(DatePriseOf,SMALL(IF(nom=$AQ$2,ROW(INDIRECT(\"1:\"&ROWS(Expr1)))),ROWS('Charge atelier chaudronnerie'!$3:25))),\"\")","v":{"$error":"#REF!"}},null,{"$f":"IF(ROWS('Charge atelier chaudronnerie'!$3:25)<=COUNTIF(nom,$AU$2),INDEX(Expr1,SMALL(IF(nom=$AU$2,ROW(INDIRECT(\"1:\"&ROWS(Expr1)))),ROWS('Charge atelier chaudronnerie'!$3:25))),\"\")","v":{"$error":"#REF!"}},{"$f":"IF(ROWS('Charge atelier chaudronnerie'!$3:25)<=COUNTIF(nom,$AU$2),INDEX(Expr2,SMALL(IF(nom=$AU$2,ROW(INDIRECT(\"1:\"&ROWS(Expr1)))),ROWS('Charge atelier chaudronnerie'!$3:25))),\"\")","v":{"$error":"#REF!"}},{"$f":"IF(ROWS('Charge atelier chaudronnerie'!$3:25)<=COUNTIF(nom,$AU$2),INDEX(DatePriseOf,SMALL(IF(nom=$AU$2,ROW(INDIRECT(\"1:\"&ROWS(Expr1)))),ROWS('Charge atelier chaudronnerie'!$3:25))),\"\")","v":{"$error":"#REF!"}},null,{"$f":"IF(ROWS('Charge atelier chaudronnerie'!$3:25)<=COUNTIF(nom,$AY$2),INDEX(Expr1,SMALL(IF(nom=$AY$2,ROW(INDIRECT(\"1:\"&ROWS(Expr1)))),ROWS('Charge atelier chaudronnerie'!$3:25))),\"\")","v":{"$error":"#REF!"}},{"$f":"IF(ROWS('Charge atelier chaudronnerie'!$3:25)<=COUNTIF(nom,$AY$2),INDEX(Expr2,SMALL(IF(nom=$AY$2,ROW(INDIRECT(\"1:\"&ROWS(Expr1)))),ROWS('Charge atelier chaudronnerie'!$3:25))),\"\")","v":{"$error":"#REF!"}},{"$f":"IF(ROWS('Charge atelier chaudronnerie'!$3:25)<=COUNTIF(nom,$AY$2),INDEX(DatePriseOf,SMALL(IF(nom=$AY$2,ROW(INDIRECT(\"1:\"&ROWS(Expr1)))),ROWS('Charge atelier chaudronnerie'!$3:25))),\"\")","v":{"$error":"#REF!"}},null,{"$f":"IF(ROWS('Charge atelier chaudronnerie'!$3:25)<=COUNTIF(nom,$BC$2),INDEX(Expr1,SMALL(IF(nom=$BC$2,ROW(INDIRECT(\"1:\"&ROWS(Expr1)))),ROWS('Charge atelier chaudronnerie'!$3:25))),\"\")","v":{"$error":"#REF!"}},{"$f":"IF(ROWS('Charge atelier chaudronnerie'!$3:25)<=COUNTIF(nom,$BC$2),INDEX(Expr2,SMALL(IF(nom=$BC$2,ROW(INDIRECT(\"1:\"&ROWS(Expr1)))),ROWS('Charge atelier chaudronnerie'!$3:25))),\"\")","v":{"$error":"#REF!"}},{"$f":"IF(ROWS('Charge atelier chaudronnerie'!$3:25)<=COUNTIF(nom,$BC$2),INDEX(DatePriseOf,SMALL(IF(nom=$BC$2,ROW(INDIRECT(\"1:\"&ROWS(Expr1)))),ROWS('Charge atelier chaudronnerie'!$3:25))),\"\")","v":{"$error":"#REF!"}},null,{"$f":"IF(ROWS('Charge atelier chaudronnerie'!$3:25)<=COUNTIF(nom,$BG$2),INDEX(Expr1,SMALL(IF(nom=$BG$2,ROW(INDIRECT(\"1:\"&ROWS(Expr1)))),ROWS('Charge atelier chaudronnerie'!$3:25))),\"\")","v":{"$error":"#REF!"}},{"$f":"IF(ROWS('Charge atelier chaudronnerie'!$3:25)<=COUNTIF(nom,$BG$2),INDEX(Expr2,SMALL(IF(nom=$BG$2,ROW(INDIRECT(\"1:\"&ROWS(Expr1)))),ROWS('Charge atelier chaudronnerie'!$3:25))),\"\")","v":{"$error":"#REF!"}},{"$f":"IF(ROWS('Charge atelier chaudronnerie'!$3:25)<=COUNTIF(nom,$BG$2),INDEX(DatePriseOf,SMALL(IF(nom=$BG$2,ROW(INDIRECT(\"1:\"&ROWS(Expr1)))),ROWS('Charge atelier chaudronnerie'!$3:25))),\"\")","v":{"$error":"#REF!"}},null,{"$f":"IF(ROWS('Charge atelier chaudronnerie'!$3:25)<=COUNTIF(nom,$BK$2),INDEX(Expr1,SMALL(IF(nom=$BK$2,ROW(INDIRECT(\"1:\"&ROWS(Expr1)))),ROWS('Charge atelier chaudronnerie'!$3:25))),\"\")","v":{"$error":"#REF!"}},{"$f":"IF(ROWS('Charge atelier chaudronnerie'!$3:25)<=COUNTIF(nom,$BK$2),INDEX(Expr2,SMALL(IF(nom=$BK$2,ROW(INDIRECT(\"1:\"&ROWS(Expr1)))),ROWS('Charge atelier chaudronnerie'!$3:25))),\"\")","v":{"$error":"#REF!"}},{"$f":"IF(ROWS('Charge atelier chaudronnerie'!$3:25)<=COUNTIF(nom,$BK$2),INDEX(DatePriseOf,SMALL(IF(nom=$BK$2,ROW(INDIRECT(\"1:\"&ROWS(Expr1)))),ROWS('Charge atelier chaudronnerie'!$3:25))),\"\")","v":{"$error":"#REF!"}},null,{"$f":"IF(ROWS('Charge atelier chaudronnerie'!$3:22)<=COUNTIF(nom,$BO$2),INDEX(Expr1,SMALL(IF(nom=$BO$2,ROW(INDIRECT(\"1:\"&ROWS(Expr1)))),ROWS('Charge atelier chaudronnerie'!$3:22))),\"\")","v":{"$error":"#REF!"}},{"$f":"IF(ROWS('Charge atelier chaudronnerie'!$3:22)<=COUNTIF(nom,$BO$2),INDEX(Expr2,SMALL(IF(nom=$BO$2,ROW(INDIRECT(\"1:\"&ROWS(Expr1)))),ROWS('Charge atelier chaudronnerie'!$3:22))),\"\")","v":{"$error":"#REF!"}},{"$f":"IF(ROWS('Charge atelier chaudronnerie'!$3:22)<=COUNTIF(nom,$BO$2),INDEX(DatePriseOf,SMALL(IF(nom=$BO$2,ROW(INDIRECT(\"1:\"&ROWS(Expr1)))),ROWS('Charge atelier chaudronnerie'!$3:22))),\"\")","v":{"$error":"#REF!"}},null,{"$f":"IF(ROWS('Charge atelier chaudronnerie'!$3:22)<=COUNTIF(nom,$BS$2),INDEX(Expr1,SMALL(IF(nom=$BS$2,ROW(INDIRECT(\"1:\"&ROWS(Expr1)))),ROWS('Charge atelier chaudronnerie'!$3:22))),\"\")","v":{"$error":"#REF!"}},{"$f":"IF(ROWS('Charge atelier chaudronnerie'!$3:22)<=COUNTIF(nom,$BS$2),INDEX(Expr2,SMALL(IF(nom=$BS$2,ROW(INDIRECT(\"1:\"&ROWS(Expr1)))),ROWS('Charge atelier chaudronnerie'!$3:22))),\"\")","v":{"$error":"#REF!"}},{"$f":"IF(ROWS('Charge atelier chaudronnerie'!$3:22)<=COUNTIF(nom,$BS$2),INDEX(DatePriseOf,SMALL(IF(nom=$BS$2,ROW(INDIRECT(\"1:\"&ROWS(Expr1)))),ROWS('Charge atelier chaudronnerie'!$3:22))),\"\")","v":{"$error":"#REF!"}}]
["PE3",null,{"$f":"IF(ROWS('Charge atelier chaudronnerie'!$3:26)<=COUNTIF(nom,$C$2),INDEX(Expr1,SMALL(IF(nom=$C$2,ROW(INDIRECT(\"1:\"&ROWS(Expr1)))),ROWS('Charge atelier chaudronnerie'!$3:26))),\"\")","v":{"$error":"#REF!"}},{"$f":"IF(ROWS('Charge atelier chaudronnerie'!$3:26)<=COUNTIF(nom,$C$2),INDEX(Expr2,SMALL(IF(nom=$C$2,ROW(INDIRECT(\"1:\"&ROWS(Expr1)))),ROWS('Charge atelier chaudronnerie'!$3:26))),\"\")","v":{"$error":"#REF!"}},{"$f":"IF(ROWS('Charge atelier chaudronnerie'!$3:26)<=COUNTIF(nom,$C$2),INDEX(DatePriseOf,SMALL(IF(nom=$C$2,ROW(INDIRECT(\"1:\"&ROWS(Expr1)))),ROWS('Charge atelier chaudronnerie'!$3:26))),\"\")","v":{"$error":"#REF!"}},null,{"$f":"IF(ROWS('Charge atelier chaudronnerie'!$3:26)<=COUNTIF(nom,$G$2),INDEX(Expr1,SMALL(IF(nom=$G$2,ROW(INDIRECT(\"1:\"&ROWS(Expr1)))),ROWS('Charge atelier chaudronnerie'!$3:26))),\"\")","v":{"$error":"#REF!"}},{"$f":"IF(ROWS('Charge atelier chaudronnerie'!$3:26)<=COUNTIF(nom,$G$2),INDEX(Expr2,SMALL(IF(nom=$G$2,ROW(INDIRECT(\"1:\"&ROWS(Expr1)))),ROWS('Charge atelier chaudronnerie'!$3:26))),\"\")","v":{"$error":"#REF!"}},{"$f":"IF(ROWS('Charge atelier chaudronnerie'!$3:26)<=COUNTIF(nom,$G$2),INDEX(DatePriseOf,SMALL(IF(nom=$G$2,ROW(INDIRECT(\"1:\"&ROWS(Expr1)))),ROWS('Charge atelier chaudronnerie'!$3:26))),\"\")","v":{"$error":"#REF!"}},null,{"$f":"IF(ROWS('Charge atelier chaudronnerie'!$3:26)<=COUNTIF(nom,$K$2),INDEX(Expr1,SMALL(IF(nom=$K$2,ROW(INDIRECT(\"1:\"&ROWS(Expr1)))),ROWS('Charge atelier chaudronnerie'!$3:26))),\"\")","v":{"$error":"#REF!"}},{"$f":"IF(ROWS('Charge atelier chaudronnerie'!$3:26)<=COUNTIF(nom,$K$2),INDEX(Expr2,SMALL(IF(nom=$K$2,ROW(INDIRECT(\"1:\"&ROWS(Expr1)))),ROWS('Charge atelier chaudronnerie'!$3:26))),\"\")","v":{"$error":"#REF!"}},{"$f":"IF(ROWS('Charge atelier chaudronnerie'!$3:26)<=COUNTIF(nom,$K$2),INDEX(DatePriseOf,SMALL(IF(nom=$K$2,ROW(INDIRECT(\"1:\"&ROWS(Expr1)))),ROWS('Charge atelier chaudronnerie'!$3:26))),\"\")","v":{"$error":"#REF!"}},null,{"$f":"IF(ROWS('Charge atelier chaudronnerie'!$3:26)<=COUNTIF(nom,$O$2),INDEX(Expr1,SMALL(IF(nom=$O$2,ROW(INDIRECT(\"1:\"&ROWS(Expr1)))),ROWS('Charge atelier chaudronnerie'!$3:26))),\"\")","v":{"$error":"#REF!"}},{"$f":"IF(ROWS('Charge atelier chaudronnerie'!$3:26)<=COUNTIF(nom,$O$2),INDEX(Expr2,SMALL(IF(nom=$O$2,ROW(INDIRECT(\"1:\"&ROWS(Expr1)))),ROWS('Charge atelier chaudronnerie'!$3:26))),\"\")","v":{"$error":"#REF!"}},{"$f":"IF(ROWS('Charge atelier chaudronnerie'!$3:26)<=COUNTIF(nom,$O$2),INDEX(DatePriseOf,SMALL(IF(nom=$O$2,ROW(INDIRECT(\"1:\"&ROWS(Expr1)))),ROWS('Charge atelier chaudronnerie'!$3:26))),\"\")","v":{"$error":"#REF!"}},null,{"$f":"IF(ROWS('Charge atelier chaudronnerie'!$3:26)<=COUNTIF(nom,$S$2),INDEX(Expr1,SMALL(IF(nom=$S$2,ROW(INDIRECT(\"1:\"&ROWS(Expr1)))),ROWS('Charge atelier chaudronnerie'!$3:26))),\"\")","v":{"$error":"#REF!"}},{"$f":"IF(ROWS('Charge atelier chaudronnerie'!$3:26)<=COUNTIF(nom,$S$2),INDEX(Expr2,SMALL(IF(nom=$S$2,ROW(INDIRECT(\"1:\"&ROWS(Expr1)))),ROWS('Charge atelier chaudronnerie'!$3:26))),\"\")","v":{"$error":"#REF!"}},{"$f":"IF(ROWS('Charge atelier chaudronnerie'!$3:26)<=COUNTIF(nom,$S$2),INDEX(DatePriseOf,SMALL(IF(nom=$S$2,ROW(INDIRECT(\"1:\"&ROWS(Expr1)))),ROWS('Charge atelier chaudronnerie'!$3:26))),\"\")","v":{"$error":"#REF!"}},null,{"$f":"IF(ROWS('Charge atelier chaudronnerie'!$3:26)<=COUNTIF(nom,$W$2),INDEX(Expr1,SMALL(IF(nom=$W$2,ROW(INDIRECT(\"1:\"&ROWS(Expr1)))),ROWS('Charge atelier chaudronnerie'!$3:26))),\"\")","v":{"$error":"#REF!"}},{"$f":"IF(ROWS('Charge atelier chaudronnerie'!$3:26)<=COUNTIF(nom,$W$2),INDEX(Expr2,SMALL(IF(nom=$W$2,ROW(INDIRECT(\"1:\"&ROWS(Expr1)))),ROWS('Charge atelier chaudronnerie'!$3:26))),\"\")","v":{"$error":"#REF!"}},{"$f":"IF(ROWS('Charge atelier chaudronnerie'!$3:26)<=COUNTIF(nom,$W$2),INDEX(DatePriseOf,SMALL(IF(nom=$W$2,ROW(INDIRECT(\"1:\"&ROWS(Expr1)))),ROWS('Charge atelier chaudronnerie'!$3:26))),\"\")","v":{"$error":"#REF!"}},null,{"$f":"IF(ROWS('Charge atelier chaudronnerie'!$3:26)<=COUNTIF(nom,$AA$2),INDEX(Expr1,SMALL(IF(nom=$AA$2,ROW(INDIRECT(\"1:\"&ROWS(Expr1)))),ROWS('Charge atelier chaudronnerie'!$3:26))),\"\")","v":{"$error":"#REF!"}},{"$f":"IF(ROWS('Charge atelier chaudronnerie'!$3:26)<=COUNTIF(nom,$AA$2),INDEX(Expr2,SMALL(IF(nom=$AA$2,ROW(INDIRECT(\"1:\"&ROWS(Expr1)))),ROWS('Charge atelier chaudronnerie'!$3:26))),\"\")","v":{"$error":"#REF!"}},{"$f":"IF(ROWS('Charge atelier chaudronnerie'!$3:26)<=COUNTIF(nom,$AA$2),INDEX(DatePriseOf,SMALL(IF(nom=$AA$2,ROW(INDIRECT(\"1:\"&ROWS(Expr1)))),ROWS('Charge atelier chaudronnerie'!$3:26))),\"\")","v":{"$error":"#REF!"}},null,{"$f":"IF(ROWS('Charge atelier chaudronnerie'!$3:26)<=COUNTIF(nom,$AE$2),INDEX(Expr1,SMALL(IF(nom=$AE$2,ROW(INDIRECT(\"1:\"&ROWS(Expr1)))),ROWS('Charge atelier chaudronnerie'!$3:26))),\"\")","v":{"$error":"#REF!"}},{"$f":"IF(ROWS('Charge atelier chaudronnerie'!$3:26)<=COUNTIF(nom,$AE$2),INDEX(Expr2,SMALL(IF(nom=$AE$2,ROW(INDIRECT(\"1:\"&ROWS(Expr1)))),ROWS('Charge atelier chaudronnerie'!$3:26))),\"\")","v":{"$error":"#REF!"}},{"$f":"IF(ROWS('Charge atelier chaudronnerie'!$3:26)<=COUNTIF(nom,$AE$2),INDEX(DatePriseOf,SMALL(IF(nom=$AE$2,ROW(INDIRECT(\"1:\"&ROWS(Expr1)))),ROWS('Charge atelier chaudronnerie'!$3:26))),\"\")","v":{"$error":"#REF!"}},null,{"$f":"IF(ROWS('Charge atelier chaudronnerie'!$3:26)<=COUNTIF(nom,$AI$2),INDEX(Expr1,SMALL(IF(nom=$AI$2,ROW(INDIRECT(\"1:\"&ROWS(Expr1)))),ROWS('Charge atelier chaudronnerie'!$3:26))),\"\")","v":{"$error":"#REF!"}},{"$f":"IF(ROWS('Charge atelier chaudronnerie'!$3:26)<=COUNTIF(nom,$AI$2),INDEX(Expr2,SMALL(IF(nom=$AI$2,ROW(INDIRECT(\"1:\"&ROWS(Expr1)))),ROWS('Charge atelier chaudronnerie'!$3:26))),\"\")","v":{"$error":"#REF!"}},{"$f":"IF(ROWS('Charge atelier chaudronnerie'!$3:26)<=COUNTIF(nom,$AI$2),INDEX(DatePriseOf,SMALL(IF(nom=$AI$2,ROW(INDIRECT(\"1:\"&ROWS(Expr1)))),ROWS('Charge atelier chaudronnerie'!$3:26))),\"\")","v":{"$error":"#REF!"}},null,{"$f":"IF(ROWS('Charge atelier chaudronnerie'!$3:26)<=COUNTIF(nom,$AM$2),INDEX(Expr1,SMALL(IF(nom=$AM$2,ROW(INDIRECT(\"1:\"&ROWS(Expr1)))),ROWS('Charge atelier chaudronnerie'!$3:26))),\"\")","v":{"$error":"#REF!"}},{"$f":"IF(ROWS('Charge atelier chaudronnerie'!$3:26)<=COUNTIF(nom,$AM$2),INDEX(Expr2,SMALL(IF(nom=$AM$2,ROW(INDIRECT(\"1:\"&ROWS(Expr1)))),ROWS('Charge atelier chaudronnerie'!$3:26))),\"\")","v":{"$error":"#REF!"}},{"$f":"IF(ROWS('Charge atelier chaudronnerie'!$3:26)<=COUNTIF(nom,$AM$2),INDEX(DatePriseOf,SMALL(IF(nom=$AM$2,ROW(INDIRECT(\"1:\"&ROWS(Expr1)))),ROWS('Charge atelier chaudronnerie'!$3:26))),\"\")","v":{"$error":"#REF!"}},null,{"$f":"IF(ROWS('Charge atelier chaudronnerie'!$3:26)<=COUNTIF(nom,$AQ$2),INDEX(Expr1,SMALL(IF(nom=$AQ$2,ROW(INDIRECT(\"1:\"&ROWS(Expr1)))),ROWS('Charge atelier chaudronnerie'!$3:26))),\"\")","v":{"$error":"#REF!"}},{"$f":"IF(ROWS('Charge atelier chaudronnerie'!$3:26)<=COUNTIF(nom,$AQ$2),INDEX(Expr2,SMALL(IF(nom=$AQ$2,ROW(INDIRECT(\"1:\"&ROWS(Expr1)))),ROWS('Charge atelier chaudronnerie'!$3:26))),\"\")","v":{"$error":"#REF!"}},{"$f":"IF(ROWS('Charge atelier chaudronnerie'!$3:26)<=COUNTIF(nom,$AQ$2),INDEX(DatePriseOf,SMALL(IF(nom=$AQ$2,ROW(INDIRECT(\"1:\"&ROWS(Expr1)))),ROWS('Charge atelier chaudronnerie'!$3:26))),\"\")","v":{"$error":"#REF!"}},null,{"$f":"IF(ROWS('Charge atelier chaudronnerie'!$3:26)<=COUNTIF(nom,$AU$2),INDEX(Expr1,SMALL(IF(nom=$AU$2,ROW(INDIRECT(\"1:\"&ROWS(Expr1)))),ROWS('Charge atelier chaudronnerie'!$3:26))),\"\")","v":{"$error":"#REF!"}},{"$f":"IF(ROWS('Charge atelier chaudronnerie'!$3:26)<=COUNTIF(nom,$AU$2),INDEX(Expr2,SMALL(IF(nom=$AU$2,ROW(INDIRECT(\"1:\"&ROWS(Expr1)))),ROWS('Charge atelier chaudronnerie'!$3:26))),\"\")","v":{"$error":"#REF!"}},{"$f":"IF(ROWS('Charge atelier chaudronnerie'!$3:26)<=COUNTIF(nom,$AU$2),INDEX(DatePriseOf,SMALL(IF(nom=$AU$2,ROW(INDIRECT(\"1:\"&ROWS(Expr1)))),ROWS('Charge atelier chaudronnerie'!$3:26))),\"\")","v":{"$error":"#REF!"}},null,{"$f":"IF(ROWS('Charge atelier chaudronnerie'!$3:26)<=COUNTIF(nom,$AY$2),INDEX(Expr1,SMALL(IF(nom=$AY$2,ROW(INDIRECT(\"1:\"&ROWS(Expr1)))),ROWS('Charge atelier chaudronnerie'!$3:26))),\"\")","v":{"$error":"#REF!"}},{"$f":"IF(ROWS('Charge atelier chaudronnerie'!$3:26)<=COUNTIF(nom,$AY$2),INDEX(Expr2,SMALL(IF(nom=$AY$2,ROW(INDIRECT(\"1:\"&ROWS(Expr1)))),ROWS('Charge atelier chaudronnerie'!$3:26))),\"\")","v":{"$error":"#REF!"}},{"$f":"IF(ROWS('Charge atelier chaudronnerie'!$3:26)<=COUNTIF(nom,$AY$2),INDEX(DatePriseOf,SMALL(IF(nom=$AY$2,ROW(INDIRECT(\"1:\"&ROWS(Expr1)))),ROWS('Charge atelier chaudronnerie'!$3:26))),\"\")","v":{"$error":"#REF!"}},null,{"$f":"IF(ROWS('Charge atelier chaudronnerie'!$3:26)<=COUNTIF(nom,$BC$2),INDEX(Expr1,SMALL(IF(nom=$BC$2,ROW(INDIRECT(\"1:\"&ROWS(Expr1)))),ROWS('Charge atelier chaudronnerie'!$3:26))),\"\")","v":{"$error":"#REF!"}},{"$f":"IF(ROWS('Charge atelier chaudronnerie'!$3:26)<=COUNTIF(nom,$BC$2),INDEX(Expr2,SMALL(IF(nom=$BC$2,ROW(INDIRECT(\"1:\"&ROWS(Expr1)))),ROWS('Charge atelier chaudronnerie'!$3:26))),\"\")","v":{"$error":"#REF!"}},{"$f":"IF(ROWS('Charge atelier chaudronnerie'!$3:26)<=COUNTIF(nom,$BC$2),INDEX(DatePriseOf,SMALL(IF(nom=$BC$2,ROW(INDIRECT(\"1:\"&ROWS(Expr1)))),ROWS('Charge atelier chaudronnerie'!$3:26))),\"\")","v":{"$error":"#REF!"}},null,{"$f":"IF(ROWS('Charge atelier chaudronnerie'!$3:26)<=COUNTIF(nom,$BG$2),INDEX(Expr1,SMALL(IF(nom=$BG$2,ROW(INDIRECT(\"1:\"&ROWS(Expr1)))),ROWS('Charge atelier chaudronnerie'!$3:26))),\"\")","v":{"$error":"#REF!"}},{"$f":"IF(ROWS('Charge atelier chaudronnerie'!$3:26)<=COUNTIF(nom,$BG$2),INDEX(Expr2,SMALL(IF(nom=$BG$2,ROW(INDIRECT(\"1:\"&ROWS(Expr1)))),ROWS('Charge atelier chaudronnerie'!$3:26))),\"\")","v":{"$error":"#REF!"}},{"$f":"IF(ROWS('Charge atelier chaudronnerie'!$3:26)<=COUNTIF(nom,$BG$2),INDEX(DatePriseOf,SMALL(IF(nom=$BG$2,ROW(INDIRECT(\"1:\"&ROWS(Expr1)))),ROWS('Charge atelier chaudronnerie'!$3:26))),\"\")","v":{"$error":"#REF!"}},null,{"$f":"IF(ROWS('Charge atelier chaudronnerie'!$3:26)<=COUNTIF(nom,$BK$2),INDEX(Expr1,SMALL(IF(nom=$BK$2,ROW(INDIRECT(\"1:\"&ROWS(Expr1)))),ROWS('Charge atelier chaudronnerie'!$3:26))),\"\")","v":{"$error":"#REF!"}},{"$f":"IF(ROWS('Charge atelier chaudronnerie'!$3:26)<=COUNTIF(nom,$BK$2),INDEX(Expr2,SMALL(IF(nom=$BK$2,ROW(INDIRECT(\"1:\"&ROWS(Expr1)))),ROWS('Charge atelier chaudronnerie'!$3:26))),\"\")","v":{"$error":"#REF!"}},{"$f":"IF(ROWS('Charge atelier chaudronnerie'!$3:26)<=COUNTIF(nom,$BK$2),INDEX(DatePriseOf,SMALL(IF(nom=$BK$2,ROW(INDIRECT(\"1:\"&ROWS(Expr1)))),ROWS('Charge atelier chaudronnerie'!$3:26))),\"\")","v":{"$error":"#REF!"}},null,{"$f":"IF(ROWS('Charge atelier chaudronnerie'!$3:23)<=COUNTIF(nom,$BO$2),INDEX(Expr1,SMALL(IF(nom=$BO$2,ROW(INDIRECT(\"1:\"&ROWS(Expr1)))),ROWS('Charge atelier chaudronnerie'!$3:23))),\"\")","v":{"$error":"#REF!"}},{"$f":"IF(ROWS('Charge atelier chaudronnerie'!$3:23)<=COUNTIF(nom,$BO$2),INDEX(Expr2,SMALL(IF(nom=$BO$2,ROW(INDIRECT(\"1:\"&ROWS(Expr1)))),ROWS('Charge atelier chaudronnerie'!$3:23))),\"\")","v":{"$error":"#REF!"}},{"$f":"IF(ROWS('Charge atelier chaudronnerie'!$3:23)<=COUNTIF(nom,$BO$2),INDEX(DatePriseOf,SMALL(IF(nom=$BO$2,ROW(INDIRECT(\"1:\"&ROWS(Expr1)))),ROWS('Charge atelier chaudronnerie'!$3:23))),\"\")","v":{"$error":"#REF!"}},null,{"$f":"IF(ROWS('Charge atelier chaudronnerie'!$3:23)<=COUNTIF(nom,$BS$2),INDEX(Expr1,SMALL(IF(nom=$BS$2,ROW(INDIRECT(\"1:\"&ROWS(Expr1)))),ROWS('Charge atelier chaudronnerie'!$3:23))),\"\")","v":{"$error":"#REF!"}},{"$f":"IF(ROWS('Charge atelier chaudronnerie'!$3:23)<=COUNTIF(nom,$BS$2),INDEX(Expr2,SMALL(IF(nom=$BS$2,ROW(INDIRECT(\"1:\"&ROWS(Expr1)))),ROWS('Charge atelier chaudronnerie'!$3:23))),\"\")","v":{"$error":"#REF!"}},{"$f":"IF(ROWS('Charge atelier chaudronnerie'!$3:23)<=COUNTIF(nom,$BS$2),INDEX(DatePriseOf,SMALL(IF(nom=$BS$2,ROW(INDIRECT(\"1:\"&ROWS(Expr1)))),ROWS('Charge atelier chaudronnerie'!$3:23))),\"\")","v":{"$error":"#REF!"}}]
["CH1",null,{"$f":"IF(ROWS('Charge atelier chaudronnerie'!$3:27)<=COUNTIF(nom,$C$2),INDEX(Expr1,SMALL(IF(nom=$C$2,ROW(INDIRECT(\"1:\"&ROWS(Expr1)))),ROWS('Charge atelier chaudronnerie'!$3:27))),\"\")","v":{"$error":"#REF!"}},{"$f":"IF(ROWS('Charge atelier chaudronnerie'!$3:27)<=COUNTIF(nom,$C$2),INDEX(Expr2,SMALL(IF(nom=$C$2,ROW(INDIRECT(\"1:\"&ROWS(Expr1)))),ROWS('Charge atelier chaudronnerie'!$3:27))),\"\")","v":{"$error":"#REF!"}},{"$f":"IF(ROWS('Charge atelier chaudronnerie'!$3:27)<=COUNTIF(nom,$C$2),INDEX(DatePriseOf,SMALL(IF(nom=$C$2,ROW(INDIRECT(\"1:\"&ROWS(Expr1)))),ROWS('Charge atelier chaudronnerie'!$3:27))),\"\")","v":{"$error":"#REF!"}},null,{"$f":"IF(ROWS('Charge atelier chaudronnerie'!$3:27)<=COUNTIF(nom,$G$2),INDEX(Expr1,SMALL(IF(nom=$G$2,ROW(INDIRECT(\"1:\"&ROWS(Expr1)))),ROWS('Charge atelier chaudronnerie'!$3:27))),\"\")","v":{"$error":"#REF!"}},{"$f":"IF(ROWS('Charge atelier chaudronnerie'!$3:27)<=COUNTIF(nom,$G$2),INDEX(Expr2,SMALL(IF(nom=$G$2,ROW(INDIRECT(\"1:\"&ROWS(Expr1)))),ROWS('Charge atelier chaudronnerie'!$3:27))),\"\")","v":{"$error":"#REF!"}},{"$f":"IF(ROWS('Charge atelier chaudronnerie'!$3:27)<=COUNTIF(nom,$G$2),INDEX(DatePriseOf,SMALL(IF(nom=$G$2,ROW(INDIRECT(\"1:\"&ROWS(Expr1)))),ROWS('Charge atelier chaudronnerie'!$3:27))),\"\")","v":{"$error":"#REF!"}},null,{"$f":"IF(ROWS('Charge atelier chaudronnerie'!$3:27)<=COUNTIF(nom,$K$2),INDEX(Expr1,SMALL(IF(nom=$K$2,ROW(INDIRECT(\"1:\"&ROWS(Expr1)))),ROWS('Charge atelier chaudronnerie'!$3:27))),\"\")","v":{"$error":"#REF!"}},{"$f":"IF(ROWS('Charge atelier chaudronnerie'!$3:27)<=COUNTIF(nom,$K$2),INDEX(Expr2,SMALL(IF(nom=$K$2,ROW(INDIRECT(\"1:\"&ROWS(Expr1)))),ROWS('Charge atelier chaudronnerie'!$3:27))),\"\")","v":{"$error":"#REF!"}},{"$f":"IF(ROWS('Charge atelier chaudronnerie'!$3:27)<=COUNTIF(nom,$K$2),INDEX(DatePriseOf,SMALL(IF(nom=$K$2,ROW(INDIRECT(\"1:\"&ROWS(Expr1)))),ROWS('Charge atelier chaudronnerie'!$3:27))),\"\")","v":{"$error":"#REF!"}},null,{"$f":"IF(ROWS('Charge atelier chaudronnerie'!$3:27)<=COUNTIF(nom,$O$2),INDEX(Expr1,SMALL(IF(nom=$O$2,ROW(INDIRECT(\"1:\"&ROWS(Expr1)))),ROWS('Charge atelier chaudronnerie'!$3:27))),\"\")","v":{"$error":"#REF!"}},{"$f":"IF(ROWS('Charge atelier chaudronnerie'!$3:27)<=COUNTIF(nom,$O$2),INDEX(Expr2,SMALL(IF(nom=$O$2,ROW(INDIRECT(\"1:\"&ROWS(Expr1)))),ROWS('Charge atelier chaudronnerie'!$3:27))),\"\")","v":{"$error":"#REF!"}},{"$f":"IF(ROWS('Charge atelier chaudronnerie'!$3:27)<=COUNTIF(nom,$O$2),INDEX(DatePriseOf,SMALL(IF(nom=$O$2,ROW(INDIRECT(\"1:\"&ROWS(Expr1)))),ROWS('Charge atelier chaudronnerie'!$3:27))),\"\")","v":{"$error":"#REF!"}},null,{"$f":"IF(ROWS('Charge atelier chaudronnerie'!$3:27)<=COUNTIF(nom,$S$2),INDEX(Expr1,SMALL(IF(nom=$S$2,ROW(INDIRECT(\"1:\"&ROWS(Expr1)))),ROWS('Charge atelier chaudronnerie'!$3:27))),\"\")","v":{"$error":"#REF!"}},{"$f":"IF(ROWS('Charge atelier chaudronnerie'!$3:27)<=COUNTIF(nom,$S$2),INDEX(Expr2,SMALL(IF(nom=$S$2,ROW(INDIRECT(\"1:\"&ROWS(Expr1)))),ROWS('Charge atelier chaudronnerie'!$3:27))),\"\")","v":{"$error":"#REF!"}},{"$f":"IF(ROWS('Charge atelier chaudronnerie'!$3:27)<=COUNTIF(nom,$S$2),INDEX(DatePriseOf,SMALL(IF(nom=$S$2,ROW(INDIRECT(\"1:\"&ROWS(Expr1)))),ROWS('Charge atelier chaudronnerie'!$3:27))),\"\")","v":{"$error":"#REF!"}},null,{"$f":"IF(ROWS('Charge atelier chaudronnerie'!$3:27)<=COUNTIF(nom,$W$2),INDEX(Expr1,SMALL(IF(nom=$W$2,ROW(INDIRECT(\"1:\"&ROWS(Expr1)))),ROWS('Charge atelier chaudronnerie'!$3:27))),\"\")","v":{"$error":"#REF!"}},{"$f":"IF(ROWS('Charge atelier chaudronnerie'!$3:27)<=COUNTIF(nom,$W$2),INDEX(Expr2,SMALL(IF(nom=$W$2,ROW(INDIRECT(\"1:\"&ROWS(Expr1)))),ROWS('Charge atelier chaudronnerie'!$3:27))),\"\")","v":{"$error":"#REF!"}},{"$f":"IF(ROWS('Charge atelier chaudronnerie'!$3:27)<=COUNTIF(nom,$W$2),INDEX(DatePriseOf,SMALL(IF(nom=$W$2,ROW(INDIRECT(\"1:\"&ROWS(Expr1)))),ROWS('Charge atelier chaudronnerie'!$3:27))),\"\")","v":{"$error":"#REF!"}},null,{"$f":"IF(ROWS('Charge atelier chaudronnerie'!$3:27)<=COUNTIF(nom,$AA$2),INDEX(Expr1,SMALL(IF(nom=$AA$2,ROW(INDIRECT(\"1:\"&ROWS(Expr1)))),ROWS('Charge atelier chaudronnerie'!$3:27))),\"\")","v":{"$error":"#REF!"}},{"$f":"IF(ROWS('Charge atelier chaudronnerie'!$3:27)<=COUNTIF(nom,$AA$2),INDEX(Expr2,SMALL(IF(nom=$AA$2,ROW(INDIRECT(\"1:\"&ROWS(Expr1)))),ROWS('Charge atelier chaudronnerie'!$3:27))),\"\")","v":{"$error":"#REF!"}},{"$f":"IF(ROWS('Charge atelier chaudronnerie'!$3:27)<=COUNTIF(nom,$AA$2),INDEX(DatePriseOf,SMALL(IF(nom=$AA$2,ROW(INDIRECT(\"1:\"&ROWS(Expr1)))),ROWS('Charge atelier chaudronnerie'!$3:27))),\"\")","v":{"$error":"#REF!"}},null,{"$f":"IF(ROWS('Charge atelier chaudronnerie'!$3:27)<=COUNTIF(nom,$AE$2),INDEX(Expr1,SMALL(IF(nom=$AE$2,ROW(INDIRECT(\"1:\"&ROWS(Expr1)))),ROWS('Charge atelier chaudronnerie'!$3:27))),\"\")","v":{"$error":"#REF!"}},{"$f":"IF(ROWS('Charge atelier chaudronnerie'!$3:27)<=COUNTIF(nom,$AE$2),INDEX(Expr2,SMALL(IF(nom=$AE$2,ROW(INDIRECT(\"1:\"&ROWS(Expr1)))),ROWS('Charge atelier chaudronnerie'!$3:27))),\"\")","v":{"$error":"#REF!"}},{"$f":"IF(ROWS('Charge atelier chaudronnerie'!$3:27)<=COUNTIF(nom,$AE$2),INDEX(DatePriseOf,SMALL(IF(nom=$AE$2,ROW(INDIRECT(\"1:\"&ROWS(Expr1)))),ROWS('Charge atelier chaudronnerie'!$3:27))),\"\")","v":{"$error":"#REF!"}},null,{"$f":"IF(ROWS('Charge atelier chaudronnerie'!$3:27)<=COUNTIF(nom,$AI$2),INDEX(Expr1,SMALL(IF(nom=$AI$2,ROW(INDIRECT(\"1:\"&ROWS(Expr1)))),ROWS('Charge atelier chaudronnerie'!$3:27))),\"\")","v":{"$error":"#REF!"}},{"$f":"IF(ROWS('Charge atelier chaudronnerie'!$3:27)<=COUNTIF(nom,$AI$2),INDEX(Expr2,SMALL(IF(nom=$AI$2,ROW(INDIRECT(\"1:\"&ROWS(Expr1)))),ROWS('Charge atelier chaudronnerie'!$3:27))),\"\")","v":{"$error":"#REF!"}},{"$f":"IF(ROWS('Charge atelier chaudronnerie'!$3:27)<=COUNTIF(nom,$AI$2),INDEX(DatePriseOf,SMALL(IF(nom=$AI$2,ROW(INDIRECT(\"1:\"&ROWS(Expr1)))),ROWS('Charge atelier chaudronnerie'!$3:27))),\"\")","v":{"$error":"#REF!"}},null,{"$f":"IF(ROWS('Charge atelier chaudronnerie'!$3:27)<=COUNTIF(nom,$AM$2),INDEX(Expr1,SMALL(IF(nom=$AM$2,ROW(INDIRECT(\"1:\"&ROWS(Expr1)))),ROWS('Charge atelier chaudronnerie'!$3:27))),\"\")","v":{"$error":"#REF!"}},{"$f":"IF(ROWS('Charge atelier chaudronnerie'!$3:27)<=COUNTIF(nom,$AM$2),INDEX(Expr2,SMALL(IF(nom=$AM$2,ROW(INDIRECT(\"1:\"&ROWS(Expr1)))),ROWS('Charge atelier chaudronnerie'!$3:27))),\"\")","v":{"$error":"#REF!"}},{"$f":"IF(ROWS('Charge atelier chaudronnerie'!$3:27)<=COUNTIF(nom,$AM$2),INDEX(DatePriseOf,SMALL(IF(nom=$AM$2,ROW(INDIRECT(\"1:\"&ROWS(Expr1)))),ROWS('Charge atelier chaudronnerie'!$3:27))),\"\")","v":{"$error":"#REF!"}},null,{"$f":"IF(ROWS('Charge atelier chaudronnerie'!$3:27)<=COUNTIF(nom,$AQ$2),INDEX(Expr1,SMALL(IF(nom=$AQ$2,ROW(INDIRECT(\"1:\"&ROWS(Expr1)))),ROWS('Charge atelier chaudronnerie'!$3:27))),\"\")","v":{"$error":"#REF!"}},{"$f":"IF(ROWS('Charge atelier chaudronnerie'!$3:27)<=COUNTIF(nom,$AQ$2),INDEX(Expr2,SMALL(IF(nom=$AQ$2,ROW(INDIRECT(\"1:\"&ROWS(Expr1)))),ROWS('Charge atelier chaudronnerie'!$3:27))),\"\")","v":{"$error":"#REF!"}},{"$f":"IF(ROWS('Charge atelier chaudronnerie'!$3:27)<=COUNTIF(nom,$AQ$2),INDEX(DatePriseOf,SMALL(IF(nom=$AQ$2,ROW(INDIRECT(\"1:\"&ROWS(Expr1)))),ROWS('Charge atelier chaudronnerie'!$3:27))),\"\")","v":{"$error":"#REF!"}},null,{"$f":"IF(ROWS('Charge atelier chaudronnerie'!$3:27)<=COUNTIF(nom,$AU$2),INDEX(Expr1,SMALL(IF(nom=$AU$2,ROW(INDIRECT(\"1:\"&ROWS(Expr1)))),ROWS('Charge atelier chaudronnerie'!$3:27))),\"\")","v":{"$error":"#REF!"}},{"$f":"IF(ROWS('Charge atelier chaudronnerie'!$3:27)<=COUNTIF(nom,$AU$2),INDEX(Expr2,SMALL(IF(nom=$AU$2,ROW(INDIRECT(\"1:\"&ROWS(Expr1)))),ROWS('Charge atelier chaudronnerie'!$3:27))),\"\")","v":{"$error":"#REF!"}},{"$f":"IF(ROWS('Charge atelier chaudronnerie'!$3:27)<=COUNTIF(nom,$AU$2),INDEX(DatePriseOf,SMALL(IF(nom=$AU$2,ROW(INDIRECT(\"1:\"&ROWS(Expr1)))),ROWS('Charge atelier chaudronnerie'!$3:27))),\"\")","v":{"$error":"#REF!"}},null,{"$f":"IF(ROWS('Charge atelier chaudronnerie'!$3:27)<=COUNTIF(nom,$AY$2),INDEX(Expr1,SMALL(IF(nom=$AY$2,ROW(INDIRECT(\"1:\"&ROWS(Expr1)))),ROWS('Charge atelier chaudronnerie'!$3:27))),\"\")","v":{"$error":"#REF!"}},{"$f":"IF(ROWS('Charge atelier chaudronnerie'!$3:27)<=COUNTIF(nom,$AY$2),INDEX(Expr2,SMALL(IF(nom=$AY$2,ROW(INDIRECT(\"1:\"&ROWS(Expr1)))),ROWS('Charge atelier chaudronnerie'!$3:27))),\"\")","v":{"$error":"#REF!"}},{"$f":"IF(ROWS('Charge atelier chaudronnerie'!$3:27)<=COUNTIF(nom,$AY$2),INDEX(DatePriseOf,SMALL(IF(nom=$AY$2,ROW(INDIRECT(\"1:\"&ROWS(Expr1)))),ROWS('Charge atelier chaudronnerie'!$3:27))),\"\")","v":{"$error":"#REF!"}},null,{"$f":"IF(ROWS('Charge atelier chaudronnerie'!$3:27)<=COUNTIF(nom,$BC$2),INDEX(Expr1,SMALL(IF(nom=$BC$2,ROW(INDIRECT(\"1:\"&ROWS(Expr1)))),ROWS('Charge atelier chaudronnerie'!$3:27))),\"\")","v":{"$error":"#REF!"}},{"$f":"IF(ROWS('Charge atelier chaudronnerie'!$3:27)<=COUNTIF(nom,$BC$2),INDEX(Expr2,SMALL(IF(nom=$BC$2,ROW(INDIRECT(\"1:\"&ROWS(Expr1)))),ROWS('Charge atelier chaudronnerie'!$3:27))),\"\")","v":{"$error":"#REF!"}},{"$f":"IF(ROWS('Charge atelier chaudronnerie'!$3:27)<=COUNTIF(nom,$BC$2),INDEX(DatePriseOf,SMALL(IF(nom=$BC$2,ROW(INDIRECT(\"1:\"&ROWS(Expr1)))),ROWS('Charge atelier chaudronnerie'!$3:27))),\"\")","v":{"$error":"#REF!"}},null,{"$f":"IF(ROWS('Charge atelier chaudronnerie'!$3:27)<=COUNTIF(nom,$BG$2),INDEX(Expr1,SMALL(IF(nom=$BG$2,ROW(INDIRECT(\"1:\"&ROWS(Expr1)))),ROWS('Charge atelier chaudronnerie'!$3:27))),\"\")","v":{"$error":"#REF!"}},{"$f":"IF(ROWS('Charge atelier chaudronnerie'!$3:27)<=COUNTIF(nom,$BG$2),INDEX(Expr2,SMALL(IF(nom=$BG$2,ROW(INDIRECT(\"1:\"&ROWS(Expr1)))),ROWS('Charge atelier chaudronnerie'!$3:27))),\"\")","v":{"$error":"#REF!"}},{"$f":"IF(ROWS('Charge atelier chaudronnerie'!$3:27)<=COUNTIF(nom,$BG$2),INDEX(DatePriseOf,SMALL(IF(nom=$BG$2,ROW(INDIRECT(\"1:\"&ROWS(Expr1)))),ROWS('Charge atelier chaudronnerie'!$3:27))),\"\")","v":{"$error":"#REF!"}},null,{"$f":"IF(ROWS('Charge atelier chaudronnerie'!$3:27)<=COUNTIF(nom,$BK$2),INDEX(Expr1,SMALL(IF(nom=$BK$2,ROW(INDIRECT(\"1:\"&ROWS(Expr1)))),ROWS('Charge atelier chaudronnerie'!$3:27))),\"\")","v":{"$error":"#REF!"}},{"$f":"IF(ROWS('Charge atelier chaudronnerie'!$3:27)<=COUNTIF(nom,$BK$2),INDEX(Expr2,SMALL(IF(nom=$BK$2,ROW(INDIRECT(\"1:\"&ROWS(Expr1)))),ROWS('Charge atelier chaudronnerie'!$3:27))),\"\")","v":{"$error":"#REF!"}},{"$f":"IF(ROWS('Charge atelier chaudronnerie'!$3:27)<=COUNTIF(nom,$BK$2),INDEX(DatePriseOf,SMALL(IF(nom=$BK$2,ROW(INDIRECT(\"1:\"&ROWS(Expr1)))),ROWS('Charge atelier chaudronnerie'!$3:27))),\"\")","v":{"$error":"#REF!"}},null,{"$f":"IF(ROWS('Charge atelier chaudronnerie'!$3:24)<=COUNTIF(nom,$BO$2),INDEX(Expr1,SMALL(IF(nom=$BO$2,ROW(INDIRECT(\"1:\"&ROWS(Expr1)))),ROWS('Charge atelier chaudronnerie'!$3:24))),\"\")","v":{"$error":"#REF!"}},{"$f":"IF(ROWS('Charge atelier chaudronnerie'!$3:24)<=COUNTIF(nom,$BO$2),INDEX(Expr2,SMALL(IF(nom=$BO$2,ROW(INDIRECT(\"1:\"&ROWS(Expr1)))),ROWS('Charge atelier chaudronnerie'!$3:24))),\"\")","v":{"$error":"#REF!"}},{"$f":"IF(ROWS('Charge atelier chaudronnerie'!$3:24)<=COUNTIF(nom,$BO$2),INDEX(DatePriseOf,SMALL(IF(nom=$BO$2,ROW(INDIRECT(\"1:\"&ROWS(Expr1)))),ROWS('Charge atelier chaudronnerie'!$3:24))),\"\")","v":{"$error":"#REF!"}},null,{"$f":"IF(ROWS('Charge atelier chaudronnerie'!$3:24)<=COUNTIF(nom,$BS$2),INDEX(Expr1,SMALL(IF(nom=$BS$2,ROW(INDIRECT(\"1:\"&ROWS(Expr1)))),ROWS('Charge atelier chaudronnerie'!$3:24))),\"\")","v":{"$error":"#REF!"}},{"$f":"IF(ROWS('Charge atelier chaudronnerie'!$3:24)<=COUNTIF(nom,$BS$2),INDEX(Expr2,SMALL(IF(nom=$BS$2,ROW(INDIRECT(\"1:\"&ROWS(Expr1)))),ROWS('Charge atelier chaudronnerie'!$3:24))),\"\")","v":{"$error":"#REF!"}},{"$f":"IF(ROWS('Charge atelier chaudronnerie'!$3:24)<=COUNTIF(nom,$BS$2),INDEX(DatePriseOf,SMALL(IF(nom=$BS$2,ROW(INDIRECT(\"1:\"&ROWS(Expr1)))),ROWS('Charge atelier chaudronnerie'!$3:24))),\"\")","v":{"$error":"#REF!"}}]
["CH2",null,{"$f":"IF(ROWS('Charge atelier chaudronnerie'!$3:28)<=COUNTIF(nom,$C$2),INDEX(Expr1,SMALL(IF(nom=$C$2,ROW(INDIRECT(\"1:\"&ROWS(Expr1)))),ROWS('Charge atelier chaudronnerie'!$3:28))),\"\")","v":{"$error":"#REF!"}},{"$f":"IF(ROWS('Charge atelier chaudronnerie'!$3:28)<=COUNTIF(nom,$C$2),INDEX(Expr2,SMALL(IF(nom=$C$2,ROW(INDIRECT(\"1:\"&ROWS(Expr1)))),ROWS('Charge atelier chaudronnerie'!$3:28))),\"\")","v":{"$error":"#REF!"}},{"$f":"IF(ROWS('Charge atelier chaudronnerie'!$3:28)<=COUNTIF(nom,$C$2),INDEX(DatePriseOf,SMALL(IF(nom=$C$2,ROW(INDIRECT(\"1:\"&ROWS(Expr1)))),ROWS('Charge atelier chaudronnerie'!$3:28))),\"\")","v":{"$error":"#REF!"}},null,{"$f":"IF(ROWS('Charge atelier chaudronnerie'!$3:28)<=COUNTIF(nom,$G$2),INDEX(Expr1,SMALL(IF(nom=$G$2,ROW(INDIRECT(\"1:\"&ROWS(Expr1)))),ROWS('Charge atelier chaudronnerie'!$3:28))),\"\")","v":{"$error":"#REF!"}},{"$f":"IF(ROWS('Charge atelier chaudronnerie'!$3:28)<=COUNTIF(nom,$G$2),INDEX(Expr2,SMALL(IF(nom=$G$2,ROW(INDIRECT(\"1:\"&ROWS(Expr1)))),ROWS('Charge atelier chaudronnerie'!$3:28))),\"\")","v":{"$error":"#REF!"}},{"$f":"IF(ROWS('Charge atelier chaudronnerie'!$3:28)<=COUNTIF(nom,$G$2),INDEX(DatePriseOf,SMALL(IF(nom=$G$2,ROW(INDIRECT(\"1:\"&ROWS(Expr1)))),ROWS('Charge atelier chaudronnerie'!$3:28))),\"\")","v":{"$error":"#REF!"}},null,{"$f":"IF(ROWS('Charge atelier chaudronnerie'!$3:28)<=COUNTIF(nom,$K$2),INDEX(Expr1,SMALL(IF(nom=$K$2,ROW(INDIRECT(\"1:\"&ROWS(Expr1)))),ROWS('Charge atelier chaudronnerie'!$3:28))),\"\")","v":{"$error":"#REF!"}},{"$f":"IF(ROWS('Charge atelier chaudronnerie'!$3:28)<=COUNTIF(nom,$K$2),INDEX(Expr2,SMALL(IF(nom=$K$2,ROW(INDIRECT(\"1:\"&ROWS(Expr1)))),ROWS('Charge atelier chaudronnerie'!$3:28))),\"\")","v":{"$error":"#REF!"}},{"$f":"IF(ROWS('Charge atelier chaudronnerie'!$3:28)<=COUNTIF(nom,$K$2),INDEX(DatePriseOf,SMALL(IF(nom=$K$2,ROW(INDIRECT(\"1:\"&ROWS(Expr1)))),ROWS('Charge atelier chaudronnerie'!$3:28))),\"\")","v":{"$error":"#REF!"}},null,{"$f":"IF(ROWS('Charge atelier chaudronnerie'!$3:28)<=COUNTIF(nom,$O$2),INDEX(Expr1,SMALL(IF(nom=$O$2,ROW(INDIRECT(\"1:\"&ROWS(Expr1)))),ROWS('Charge atelier chaudronnerie'!$3:28))),\"\")","v":{"$error":"#REF!"}},{"$f":"IF(ROWS('Charge atelier chaudronnerie'!$3:28)<=COUNTIF(nom,$O$2),INDEX(Expr2,SMALL(IF(nom=$O$2,ROW(INDIRECT(\"1:\"&ROWS(Expr1)))),ROWS('Charge atelier chaudronnerie'!$3:28))),\"\")","v":{"$error":"#REF!"}},{"$f":"IF(ROWS('Charge atelier chaudronnerie'!$3:28)<=COUNTIF(nom,$O$2),INDEX(DatePriseOf,SMALL(IF(nom=$O$2,ROW(INDIRECT(\"1:\"&ROWS(Expr1)))),ROWS('Charge atelier chaudronnerie'!$3:28))),\"\")","v":{"$error":"#REF!"}},null,{"$f":"IF(ROWS('Charge atelier chaudronnerie'!$3:28)<=COUNTIF(nom,$S$2),INDEX(Expr1,SMALL(IF(nom=$S$2,ROW(INDIRECT(\"1:\"&ROWS(Expr1)))),ROWS('Charge atelier chaudronnerie'!$3:28))),\"\")","v":{"$error":"#REF!"}},{"$f":"IF(ROWS('Charge atelier chaudronnerie'!$3:28)<=COUNTIF(nom,$S$2),INDEX(Expr2,SMALL(IF(nom=$S$2,ROW(INDIRECT(\"1:\"&ROWS(Expr1)))),ROWS('Charge atelier chaudronnerie'!$3:28))),\"\")","v":{"$error":"#REF!"}},{"$f":"IF(ROWS('Charge atelier chaudronnerie'!$3:28)<=COUNTIF(nom,$S$2),INDEX(DatePriseOf,SMALL(IF(nom=$S$2,ROW(INDIRECT(\"1:\"&ROWS(Expr1)))),ROWS('Charge atelier chaudronnerie'!$3:28))),\"\")","v":{"$error":"#REF!"}},null,{"$f":"IF(ROWS('Charge atelier chaudronnerie'!$3:28)<=COUNTIF(nom,$W$2),INDEX(Expr1,SMALL(IF(nom=$W$2,ROW(INDIRECT(\"1:\"&ROWS(Expr1)))),ROWS('Charge atelier chaudronnerie'!$3:28))),\"\")","v":{"$error":"#REF!"}},{"$f":"IF(ROWS('Charge atelier chaudronnerie'!$3:28)<=COUNTIF(nom,$W$2),INDEX(Expr2,SMALL(IF(nom=$W$2,ROW(INDIRECT(\"1:\"&ROWS(Expr1)))),ROWS('Charge atelier chaudronnerie'!$3:28))),\"\")","v":{"$error":"#REF!"}},{"$f":"IF(ROWS('Charge atelier chaudronnerie'!$3:28)<=COUNTIF(nom,$W$2),INDEX(DatePriseOf,SMALL(IF(nom=$W$2,ROW(INDIRECT(\"1:\"&ROWS(Expr1)))),ROWS('Charge atelier chaudronnerie'!$3:28))),\"\")","v":{"$error":"#REF!"}},null,{"$f":"IF(ROWS('Charge atelier chaudronnerie'!$3:28)<=COUNTIF(nom,$AA$2),INDEX(Expr1,SMALL(IF(nom=$AA$2,ROW(INDIRECT(\"1:\"&ROWS(Expr1)))),ROWS('Charge atelier chaudronnerie'!$3:28))),\"\")","v":{"$error":"#REF!"}},{"$f":"IF(ROWS('Charge atelier chaudronnerie'!$3:28)<=COUNTIF(nom,$AA$2),INDEX(Expr2,SMALL(IF(nom=$AA$2,ROW(INDIRECT(\"1:\"&ROWS(Expr1)))),ROWS('Charge atelier chaudronnerie'!$3:28))),\"\")","v":{"$error":"#REF!"}},{"$f":"IF(ROWS('Charge atelier chaudronnerie'!$3:28)<=COUNTIF(nom,$AA$2),INDEX(DatePriseOf,SMALL(IF(nom=$AA$2,ROW(INDIRECT(\"1:\"&ROWS(Expr1)))),ROWS('Charge atelier chaudronnerie'!$3:28))),\"\")","v":{"$error":"#REF!"}},null,{"$f":"IF(ROWS('Charge atelier chaudronnerie'!$3:28)<=COUNTIF(nom,$AE$2),INDEX(Expr1,SMALL(IF(nom=$AE$2,ROW(INDIRECT(\"1:\"&ROWS(Expr1)))),ROWS('Charge atelier chaudronnerie'!$3:28))),\"\")","v":{"$error":"#REF!"}},{"$f":"IF(ROWS('Charge atelier chaudronnerie'!$3:28)<=COUNTIF(nom,$AE$2),INDEX(Expr2,SMALL(IF(nom=$AE$2,ROW(INDIRECT(\"1:\"&ROWS(Expr1)))),ROWS('Charge atelier chaudronnerie'!$3:28))),\"\")","v":{"$error":"#REF!"}},{"$f":"IF(ROWS('Charge atelier chaudronnerie'!$3:28)<=COUNTIF(nom,$AE$2),INDEX(DatePriseOf,SMALL(IF(nom=$AE$2,ROW(INDIRECT(\"1:\"&ROWS(Expr1)))),ROWS('Charge atelier chaudronnerie'!$3:28))),\"\")","v":{"$error":"#REF!"}},null,{"$f":"IF(ROWS('Charge atelier chaudronnerie'!$3:28)<=COUNTIF(nom,$AI$2),INDEX(Expr1,SMALL(IF(nom=$AI$2,ROW(INDIRECT(\"1:\"&ROWS(Expr1)))),ROWS('Charge atelier chaudronnerie'!$3:28))),\"\")","v":{"$error":"#REF!"}},{"$f":"IF(ROWS('Charge atelier chaudronnerie'!$3:28)<=COUNTIF(nom,$AI$2),INDEX(Expr2,SMALL(IF(nom=$AI$2,ROW(INDIRECT(\"1:\"&ROWS(Expr1)))),ROWS('Charge atelier chaudronnerie'!$3:28))),\"\")","v":{"$error":"#REF!"}},{"$f":"IF(ROWS('Charge atelier chaudronnerie'!$3:28)<=COUNTIF(nom,$AI$2),INDEX(DatePriseOf,SMALL(IF(nom=$AI$2,ROW(INDIRECT(\"1:\"&ROWS(Expr1)))),ROWS('Charge atelier chaudronnerie'!$3:28))),\"\")","v":{"$error":"#REF!"}},null,{"$f":"IF(ROWS('Charge atelier chaudronnerie'!$3:28)<=COUNTIF(nom,$AM$2),INDEX(Expr1,SMALL(IF(nom=$AM$2,ROW(INDIRECT(\"1:\"&ROWS(Expr1)))),ROWS('Charge atelier chaudronnerie'!$3:28))),\"\")","v":{"$error":"#REF!"}},{"$f":"IF(ROWS('Charge atelier chaudronnerie'!$3:28)<=COUNTIF(nom,$AM$2),INDEX(Expr2,SMALL(IF(nom=$AM$2,ROW(INDIRECT(\"1:\"&ROWS(Expr1)))),ROWS('Charge atelier chaudronnerie'!$3:28))),\"\")","v":{"$error":"#REF!"}},{"$f":"IF(ROWS('Charge atelier chaudronnerie'!$3:28)<=COUNTIF(nom,$AM$2),INDEX(DatePriseOf,SMALL(IF(nom=$AM$2,ROW(INDIRECT(\"1:\"&ROWS(Expr1)))),ROWS('Charge atelier chaudronnerie'!$3:28))),\"\")","v":{"$error":"#REF!"}},null,{"$f":"IF(ROWS('Charge atelier chaudronnerie'!$3:28)<=COUNTIF(nom,$AQ$2),INDEX(Expr1,SMALL(IF(nom=$AQ$2,ROW(INDIRECT(\"1:\"&ROWS(Expr1)))),ROWS('Charge atelier chaudronnerie'!$3:28))),\"\")","v":{"$error":"#REF!"}},{"$f":"IF(ROWS('Charge atelier chaudronnerie'!$3:28)<=COUNTIF(nom,$AQ$2),INDEX(Expr2,SMALL(IF(nom=$AQ$2,ROW(INDIRECT(\"1:\"&ROWS(Expr1)))),ROWS('Charge atelier chaudronnerie'!$3:28))),\"\")","v":{"$error":"#REF!"}},{"$f":"IF(ROWS('Charge atelier chaudronnerie'!$3:28)<=COUNTIF(nom,$AQ$2),INDEX(DatePriseOf,SMALL(IF(nom=$AQ$2,ROW(INDIRECT(\"1:\"&ROWS(Expr1)))),ROWS('Charge atelier chaudronnerie'!$3:28))),\"\")","v":{"$error":"#REF!"}},null,{"$f":"IF(ROWS('Charge atelier chaudronnerie'!$3:28)<=COUNTIF(nom,$AU$2),INDEX(Expr1,SMALL(IF(nom=$AU$2,ROW(INDIRECT(\"1:\"&ROWS(Expr1)))),ROWS('Charge atelier chaudronnerie'!$3:28))),\"\")","v":{"$error":"#REF!"}},{"$f":"IF(ROWS('Charge atelier chaudronnerie'!$3:28)<=COUNTIF(nom,$AU$2),INDEX(Expr2,SMALL(IF(nom=$AU$2,ROW(INDIRECT(\"1:\"&ROWS(Expr1)))),ROWS('Charge atelier chaudronnerie'!$3:28))),\"\")","v":{"$error":"#REF!"}},{"$f":"IF(ROWS('Charge atelier chaudronnerie'!$3:28)<=COUNTIF(nom,$AU$2),INDEX(DatePriseOf,SMALL(IF(nom=$AU$2,ROW(INDIRECT(\"1:\"&ROWS(Expr1)))),ROWS('Charge atelier chaudronnerie'!$3:28))),\"\")","v":{"$error":"#REF!"}},null,{"$f":"IF(ROWS('Charge atelier chaudronnerie'!$3:28)<=COUNTIF(nom,$AY$2),INDEX(Expr1,SMALL(IF(nom=$AY$2,ROW(INDIRECT(\"1:\"&ROWS(Expr1)))),ROWS('Charge atelier chaudronnerie'!$3:28))),\"\")","v":{"$error":"#REF!"}},{"$f":"IF(ROWS('Charge atelier chaudronnerie'!$3:28)<=COUNTIF(nom,$AY$2),INDEX(Expr2,SMALL(IF(nom=$AY$2,ROW(INDIRECT(\"1:\"&ROWS(Expr1)))),ROWS('Charge atelier chaudronnerie'!$3:28))),\"\")","v":{"$error":"#REF!"}},{"$f":"IF(ROWS('Charge atelier chaudronnerie'!$3:28)<=COUNTIF(nom,$AY$2),INDEX(DatePriseOf,SMALL(IF(nom=$AY$2,ROW(INDIRECT(\"1:\"&ROWS(Expr1)))),ROWS('Charge atelier chaudronnerie'!$3:28))),\"\")","v":{"$error":"#REF!"}},null,{"$f":"IF(ROWS('Charge atelier chaudronnerie'!$3:28)<=COUNTIF(nom,$BC$2),INDEX(Expr1,SMALL(IF(nom=$BC$2,ROW(INDIRECT(\"1:\"&ROWS(Expr1)))),ROWS('Charge atelier chaudronnerie'!$3:28))),\"\")","v":{"$error":"#REF!"}},{"$f":"IF(ROWS('Charge atelier chaudronnerie'!$3:28)<=COUNTIF(nom,$BC$2),INDEX(Expr2,SMALL(IF(nom=$BC$2,ROW(INDIRECT(\"1:\"&ROWS(Expr1)))),ROWS('Charge atelier chaudronnerie'!$3:28))),\"\")","v":{"$error":"#REF!"}},{"$f":"IF(ROWS('Charge atelier chaudronnerie'!$3:28)<=COUNTIF(nom,$BC$2),INDEX(DatePriseOf,SMALL(IF(nom=$BC$2,ROW(INDIRECT(\"1:\"&ROWS(Expr1)))),ROWS('Charge atelier chaudronnerie'!$3:28))),\"\")","v":{"$error":"#REF!"}},null,{"$f":"IF(ROWS('Charge atelier chaudronnerie'!$3:28)<=COUNTIF(nom,$BG$2),INDEX(Expr1,SMALL(IF(nom=$BG$2,ROW(INDIRECT(\"1:\"&ROWS(Expr1)))),ROWS('Charge atelier chaudronnerie'!$3:28))),\"\")","v":{"$error":"#REF!"}},{"$f":"IF(ROWS('Charge atelier chaudronnerie'!$3:28)<=COUNTIF(nom,$BG$2),INDEX(Expr2,SMALL(IF(nom=$BG$2,ROW(INDIRECT(\"1:\"&ROWS(Expr1)))),ROWS('Charge atelier chaudronnerie'!$3:28))),\"\")","v":{"$error":"#REF!"}},{"$f":"IF(ROWS('Charge atelier chaudronnerie'!$3:28)<=COUNTIF(nom,$BG$2),INDEX(DatePriseOf,SMALL(IF(nom=$BG$2,ROW(INDIRECT(\"1:\"&ROWS(Expr1)))),ROWS('Charge atelier chaudronnerie'!$3:28))),\"\")","v":{"$error":"#REF!"}},null,{"$f":"IF(ROWS('Charge atelier chaudronnerie'!$3:28)<=COUNTIF(nom,$BK$2),INDEX(Expr1,SMALL(IF(nom=$BK$2,ROW(INDIRECT(\"1:\"&ROWS(Expr1)))),ROWS('Charge atelier chaudronnerie'!$3:28))),\"\")","v":{"$error":"#REF!"}},{"$f":"IF(ROWS('Charge atelier chaudronnerie'!$3:28)<=COUNTIF(nom,$BK$2),INDEX(Expr2,SMALL(IF(nom=$BK$2,ROW(INDIRECT(\"1:\"&ROWS(Expr1)))),ROWS('Charge atelier chaudronnerie'!$3:28))),\"\")","v":{"$error":"#REF!"}},{"$f":"IF(ROWS('Charge atelier chaudronnerie'!$3:28)<=COUNTIF(nom,$BK$2),INDEX(DatePriseOf,SMALL(IF(nom=$BK$2,ROW(INDIRECT(\"1:\"&ROWS(Expr1)))),ROWS('Charge atelier chaudronnerie'!$3:28))),\"\")","v":{"$error":"#REF!"}},null,{"$f":"IF(ROWS('Charge atelier chaudronnerie'!$3:25)<=COUNTIF(nom,$BO$2),INDEX(Expr1,SMALL(IF(nom=$BO$2,ROW(INDIRECT(\"1:\"&ROWS(Expr1)))),ROWS('Charge atelier chaudronnerie'!$3:25))),\"\")","v":{"$error":"#REF!"}},{"$f":"IF(ROWS('Charge atelier chaudronnerie'!$3:25)<=COUNTIF(nom,$BO$2),INDEX(Expr2,SMALL(IF(nom=$BO$2,ROW(INDIRECT(\"1:\"&ROWS(Expr1)))),ROWS('Charge atelier chaudronnerie'!$3:25))),\"\")","v":{"$error":"#REF!"}},{"$f":"IF(ROWS('Charge atelier chaudronnerie'!$3:25)<=COUNTIF(nom,$BO$2),INDEX(DatePriseOf,SMALL(IF(nom=$BO$2,ROW(INDIRECT(\"1:\"&ROWS(Expr1)))),ROWS('Charge atelier chaudronnerie'!$3:25))),\"\")","v":{"$error":"#REF!"}},null,{"$f":"IF(ROWS('Charge atelier chaudronnerie'!$3:25)<=COUNTIF(nom,$BS$2),INDEX(Expr1,SMALL(IF(nom=$BS$2,ROW(INDIRECT(\"1:\"&ROWS(Expr1)))),ROWS('Charge atelier chaudronnerie'!$3:25))),\"\")","v":{"$error":"#REF!"}},{"$f":"IF(ROWS('Charge atelier chaudronnerie'!$3:25)<=COUNTIF(nom,$BS$2),INDEX(Expr2,SMALL(IF(nom=$BS$2,ROW(INDIRECT(\"1:\"&ROWS(Expr1)))),ROWS('Charge atelier chaudronnerie'!$3:25))),\"\")","v":{"$error":"#REF!"}},{"$f":"IF(ROWS('Charge atelier chaudronnerie'!$3:25)<=COUNTIF(nom,$BS$2),INDEX(DatePriseOf,SMALL(IF(nom=$BS$2,ROW(INDIRECT(\"1:\"&ROWS(Expr1)))),ROWS('Charge atelier chaudronnerie'!$3:25))),\"\")","v":{"$error":"#REF!"}}]
["CH3",null,{"$f":"IF(ROWS('Charge atelier chaudronnerie'!$3:29)<=COUNTIF(nom,$C$2),INDEX(Expr1,SMALL(IF(nom=$C$2,ROW(INDIRECT(\"1:\"&ROWS(Expr1)))),ROWS('Charge atelier chaudronnerie'!$3:29))),\"\")","v":{"$error":"#REF!"}},{"$f":"IF(ROWS('Charge atelier chaudronnerie'!$3:29)<=COUNTIF(nom,$C$2),INDEX(Expr2,SMALL(IF(nom=$C$2,ROW(INDIRECT(\"1:\"&ROWS(Expr1)))),ROWS('Charge atelier chaudronnerie'!$3:29))),\"\")","v":{"$error":"#REF!"}},{"$f":"IF(ROWS('Charge atelier chaudronnerie'!$3:29)<=COUNTIF(nom,$C$2),INDEX(DatePriseOf,SMALL(IF(nom=$C$2,ROW(INDIRECT(\"1:\"&ROWS(Expr1)))),ROWS('Charge atelier chaudronnerie'!$3:29))),\"\")","v":{"$error":"#REF!"}},null,{"$f":"IF(ROWS('Charge atelier chaudronnerie'!$3:29)<=COUNTIF(nom,$G$2),INDEX(Expr1,SMALL(IF(nom=$G$2,ROW(INDIRECT(\"1:\"&ROWS(Expr1)))),ROWS('Charge atelier chaudronnerie'!$3:29))),\"\")","v":{"$error":"#REF!"}},{"$f":"IF(ROWS('Charge atelier chaudronnerie'!$3:29)<=COUNTIF(nom,$G$2),INDEX(Expr2,SMALL(IF(nom=$G$2,ROW(INDIRECT(\"1:\"&ROWS(Expr1)))),ROWS('Charge atelier chaudronnerie'!$3:29))),\"\")","v":{"$error":"#REF!"}},{"$f":"IF(ROWS('Charge atelier chaudronnerie'!$3:29)<=COUNTIF(nom,$G$2),INDEX(DatePriseOf,SMALL(IF(nom=$G$2,ROW(INDIRECT(\"1:\"&ROWS(Expr1)))),ROWS('Charge atelier chaudronnerie'!$3:29))),\"\")","v":{"$error":"#REF!"}},null,{"$f":"IF(ROWS('Charge atelier chaudronnerie'!$3:29)<=COUNTIF(nom,$K$2),INDEX(Expr1,SMALL(IF(nom=$K$2,ROW(INDIRECT(\"1:\"&ROWS(Expr1)))),ROWS('Charge atelier chaudronnerie'!$3:29))),\"\")","v":{"$error":"#REF!"}},{"$f":"IF(ROWS('Charge atelier chaudronnerie'!$3:29)<=COUNTIF(nom,$K$2),INDEX(Expr2,SMALL(IF(nom=$K$2,ROW(INDIRECT(\"1:\"&ROWS(Expr1)))),ROWS('Charge atelier chaudronnerie'!$3:29))),\"\")","v":{"$error":"#REF!"}},{"$f":"IF(ROWS('Charge atelier chaudronnerie'!$3:29)<=COUNTIF(nom,$K$2),INDEX(DatePriseOf,SMALL(IF(nom=$K$2,ROW(INDIRECT(\"1:\"&ROWS(Expr1)))),ROWS('Charge atelier chaudronnerie'!$3:29))),\"\")","v":{"$error":"#REF!"}},null,{"$f":"IF(ROWS('Charge atelier chaudronnerie'!$3:29)<=COUNTIF(nom,$O$2),INDEX(Expr1,SMALL(IF(nom=$O$2,ROW(INDIRECT(\"1:\"&ROWS(Expr1)))),ROWS('Charge atelier chaudronnerie'!$3:29))),\"\")","v":{"$error":"#REF!"}},{"$f":"IF(ROWS('Charge atelier chaudronnerie'!$3:29)<=COUNTIF(nom,$O$2),INDEX(Expr2,SMALL(IF(nom=$O$2,ROW(INDIRECT(\"1:\"&ROWS(Expr1)))),ROWS('Charge atelier chaudronnerie'!$3:29))),\"\")","v":{"$error":"#REF!"}},{"$f":"IF(ROWS('Charge atelier chaudronnerie'!$3:29)<=COUNTIF(nom,$O$2),INDEX(DatePriseOf,SMALL(IF(nom=$O$2,ROW(INDIRECT(\"1:\"&ROWS(Expr1)))),ROWS('Charge atelier chaudronnerie'!$3:29))),\"\")","v":{"$error":"#REF!"}},null,{"$f":"IF(ROWS('Charge atelier chaudronnerie'!$3:29)<=COUNTIF(nom,$S$2),INDEX(Expr1,SMALL(IF(nom=$S$2,ROW(INDIRECT(\"1:\"&ROWS(Expr1)))),ROWS('Charge atelier chaudronnerie'!$3:29))),\"\")","v":{"$error":"#REF!"}},{"$f":"IF(ROWS('Charge atelier chaudronnerie'!$3:29)<=COUNTIF(nom,$S$2),INDEX(Expr2,SMALL(IF(nom=$S$2,ROW(INDIRECT(\"1:\"&ROWS(Expr1)))),ROWS('Charge atelier chaudronnerie'!$3:29))),\"\")","v":{"$error":"#REF!"}},{"$f":"IF(ROWS('Charge atelier chaudronnerie'!$3:29)<=COUNTIF(nom,$S$2),INDEX(DatePriseOf,SMALL(IF(nom=$S$2,ROW(INDIRECT(\"1:\"&ROWS(Expr1)))),ROWS('Charge atelier chaudronnerie'!$3:29))),\"\")","v":{"$error":"#REF!"}},null,{"$f":"IF(ROWS('Charge atelier chaudronnerie'!$3:29)<=COUNTIF(nom,$W$2),INDEX(Expr1,SMALL(IF(nom=$W$2,ROW(INDIRECT(\"1:\"&ROWS(Expr1)))),ROWS('Charge atelier chaudronnerie'!$3:29))),\"\")","v":{"$error":"#REF!"}},{"$f":"IF(ROWS('Charge atelier chaudronnerie'!$3:29)<=COUNTIF(nom,$W$2),INDEX(Expr2,SMALL(IF(nom=$W$2,ROW(INDIRECT(\"1:\"&ROWS(Expr1)))),ROWS('Charge atelier chaudronnerie'!$3:29))),\"\")","v":{"$error":"#REF!"}},{"$f":"IF(ROWS('Charge atelier chaudronnerie'!$3:29)<=COUNTIF(nom,$W$2),INDEX(DatePriseOf,SMALL(IF(nom=$W$2,ROW(INDIRECT(\"1:\"&ROWS(Expr1)))),ROWS('Charge atelier chaudronnerie'!$3:29))),\"\")","v":{"$error":"#REF!"}},null,{"$f":"IF(ROWS('Charge atelier chaudronnerie'!$3:29)<=COUNTIF(nom,$AA$2),INDEX(Expr1,SMALL(IF(nom=$AA$2,ROW(INDIRECT(\"1:\"&ROWS(Expr1)))),ROWS('Charge atelier chaudronnerie'!$3:29))),\"\")","v":{"$error":"#REF!"}},{"$f":"IF(ROWS('Charge atelier chaudronnerie'!$3:29)<=COUNTIF(nom,$AA$2),INDEX(Expr2,SMALL(IF(nom=$AA$2,ROW(INDIRECT(\"1:\"&ROWS(Expr1)))),ROWS('Charge atelier chaudronnerie'!$3:29))),\"\")","v":{"$error":"#REF!"}},{"$f":"IF(ROWS('Charge atelier chaudronnerie'!$3:29)<=COUNTIF(nom,$AA$2),INDEX(DatePriseOf,SMALL(IF(nom=$AA$2,ROW(INDIRECT(\"1:\"&ROWS(Expr1)))),ROWS('Charge atelier chaudronnerie'!$3:29))),\"\")","v":{"$error":"#REF!"}},null,{"$f":"IF(ROWS('Charge atelier chaudronnerie'!$3:29)<=COUNTIF(nom,$AE$2),INDEX(Expr1,SMALL(IF(nom=$AE$2,ROW(INDIRECT(\"1:\"&ROWS(Expr1)))),ROWS('Charge atelier chaudronnerie'!$3:29))),\"\")","v":{"$error":"#REF!"}},{"$f":"IF(ROWS('Charge atelier chaudronnerie'!$3:29)<=COUNTIF(nom,$AE$2),INDEX(Expr2,SMALL(IF(nom=$AE$2,ROW(INDIRECT(\"1:\"&ROWS(Expr1)))),ROWS('Charge atelier chaudronnerie'!$3:29))),\"\")","v":{"$error":"#REF!"}},{"$f":"IF(ROWS('Charge atelier chaudronnerie'!$3:29)<=COUNTIF(nom,$AE$2),INDEX(DatePriseOf,SMALL(IF(nom=$AE$2,ROW(INDIRECT(\"1:\"&ROWS(Expr1)))),ROWS('Charge atelier chaudronnerie'!$3:29))),\"\")","v":{"$error":"#REF!"}},null,{"$f":"IF(ROWS('Charge atelier chaudronnerie'!$3:29)<=COUNTIF(nom,$AI$2),INDEX(Expr1,SMALL(IF(nom=$AI$2,ROW(INDIRECT(\"1:\"&ROWS(Expr1)))),ROWS('Charge atelier chaudronnerie'!$3:29))),\"\")","v":{"$error":"#REF!"}},{"$f":"IF(ROWS('Charge atelier chaudronnerie'!$3:29)<=COUNTIF(nom,$AI$2),INDEX(Expr2,SMALL(IF(nom=$AI$2,ROW(INDIRECT(\"1:\"&ROWS(Expr1)))),ROWS('Charge atelier chaudronnerie'!$3:29))),\"\")","v":{"$error":"#REF!"}},{"$f":"IF(ROWS('Charge atelier chaudronnerie'!$3:29)<=COUNTIF(nom,$AI$2),INDEX(DatePriseOf,SMALL(IF(nom=$AI$2,ROW(INDIRECT(\"1:\"&ROWS(Expr1)))),ROWS('Charge atelier chaudronnerie'!$3:29))),\"\")","v":{"$error":"#REF!"}},null,{"$f":"IF(ROWS('Charge atelier chaudronnerie'!$3:29)<=COUNTIF(nom,$AM$2),INDEX(Expr1,SMALL(IF(nom=$AM$2,ROW(INDIRECT(\"1:\"&ROWS(Expr1)))),ROWS('Charge atelier chaudronnerie'!$3:29))),\"\")","v":{"$error":"#REF!"}},{"$f":"IF(ROWS('Charge atelier chaudronnerie'!$3:29)<=COUNTIF(nom,$AM$2),INDEX(Expr2,SMALL(IF(nom=$AM$2,ROW(INDIRECT(\"1:\"&ROWS(Expr1)))),ROWS('Charge atelier chaudronnerie'!$3:29))),\"\")","v":{"$error":"#REF!"}},{"$f":"IF(ROWS('Charge atelier chaudronnerie'!$3:29)<=COUNTIF(nom,$AM$2),INDEX(DatePriseOf,SMALL(IF(nom=$AM$2,ROW(INDIRECT(\"1:\"&ROWS(Expr1)))),ROWS('Charge atelier chaudronnerie'!$3:29))),\"\")","v":{"$error":"#REF!"}},null,{"$f":"IF(ROWS('Charge atelier chaudronnerie'!$3:29)<=COUNTIF(nom,$AQ$2),INDEX(Expr1,SMALL(IF(nom=$AQ$2,ROW(INDIRECT(\"1:\"&ROWS(Expr1)))),ROWS('Charge atelier chaudronnerie'!$3:29))),\"\")","v":{"$error":"#REF!"}},{"$f":"IF(ROWS('Charge atelier chaudronnerie'!$3:29)<=COUNTIF(nom,$AQ$2),INDEX(Expr2,SMALL(IF(nom=$AQ$2,ROW(INDIRECT(\"1:\"&ROWS(Expr1)))),ROWS('Charge atelier chaudronnerie'!$3:29))),\"\")","v":{"$error":"#REF!"}},{"$f":"IF(ROWS('Charge atelier chaudronnerie'!$3:29)<=COUNTIF(nom,$AQ$2),INDEX(DatePriseOf,SMALL(IF(nom=$AQ$2,ROW(INDIRECT(\"1:\"&ROWS(Expr1)))),ROWS('Charge atelier chaudronnerie'!$3:29))),\"\")","v":{"$error":"#REF!"}},null,{"$f":"IF(ROWS('Charge atelier chaudronnerie'!$3:29)<=COUNTIF(nom,$AU$2),INDEX(Expr1,SMALL(IF(nom=$AU$2,ROW(INDIRECT(\"1:\"&ROWS(Expr1)))),ROWS('Charge atelier chaudronnerie'!$3:29))),\"\")","v":{"$error":"#REF!"}},{"$f":"IF(ROWS('Charge atelier chaudronnerie'!$3:29)<=COUNTIF(nom,$AU$2),INDEX(Expr2,SMALL(IF(nom=$AU$2,ROW(INDIRECT(\"1:\"&ROWS(Expr1)))),ROWS('Charge atelier chaudronnerie'!$3:29))),\"\")","v":{"$error":"#REF!"}},{"$f":"IF(ROWS('Charge atelier chaudronnerie'!$3:29)<=COUNTIF(nom,$AU$2),INDEX(DatePriseOf,SMALL(IF(nom=$AU$2,ROW(INDIRECT(\"1:\"&ROWS(Expr1)))),ROWS('Charge atelier chaudronnerie'!$3:29))),\"\")","v":{"$error":"#REF!"}},null,{"$f":"IF(ROWS('Charge atelier chaudronnerie'!$3:29)<=COUNTIF(nom,$AY$2),INDEX(Expr1,SMALL(IF(nom=$AY$2,ROW(INDIRECT(\"1:\"&ROWS(Expr1)))),ROWS('Charge atelier chaudronnerie'!$3:29))),\"\")","v":{"$error":"#REF!"}},{"$f":"IF(ROWS('Charge atelier chaudronnerie'!$3:29)<=COUNTIF(nom,$AY$2),INDEX(Expr2,SMALL(IF(nom=$AY$2,ROW(INDIRECT(\"1:\"&ROWS(Expr1)))),ROWS('Charge atelier chaudronnerie'!$3:29))),\"\")","v":{"$error":"#REF!"}},{"$f":"IF(ROWS('Charge atelier chaudronnerie'!$3:29)<=COUNTIF(nom,$AY$2),INDEX(DatePriseOf,SMALL(IF(nom=$AY$2,ROW(INDIRECT(\"1:\"&ROWS(Expr1)))),ROWS('Charge atelier chaudronnerie'!$3:29))),\"\")","v":{"$error":"#REF!"}},null,{"$f":"IF(ROWS('Charge atelier chaudronnerie'!$3:29)<=COUNTIF(nom,$BC$2),INDEX(Expr1,SMALL(IF(nom=$BC$2,ROW(INDIRECT(\"1:\"&ROWS(Expr1)))),ROWS('Charge atelier chaudronnerie'!$3:29))),\"\")","v":{"$error":"#REF!"}},{"$f":"IF(ROWS('Charge atelier chaudronnerie'!$3:29)<=COUNTIF(nom,$BC$2),INDEX(Expr2,SMALL(IF(nom=$BC$2,ROW(INDIRECT(\"1:\"&ROWS(Expr1)))),ROWS('Charge atelier chaudronnerie'!$3:29))),\"\")","v":{"$error":"#REF!"}},{"$f":"IF(ROWS('Charge atelier chaudronnerie'!$3:29)<=COUNTIF(nom,$BC$2),INDEX(DatePriseOf,SMALL(IF(nom=$BC$2,ROW(INDIRECT(\"1:\"&ROWS(Expr1)))),ROWS('Charge atelier chaudronnerie'!$3:29))),\"\")","v":{"$error":"#REF!"}},null,{"$f":"IF(ROWS('Charge atelier chaudronnerie'!$3:29)<=COUNTIF(nom,$BG$2),INDEX(Expr1,SMALL(IF(nom=$BG$2,ROW(INDIRECT(\"1:\"&ROWS(Expr1)))),ROWS('Charge atelier chaudronnerie'!$3:29))),\"\")","v":{"$error":"#REF!"}},{"$f":"IF(ROWS('Charge atelier chaudronnerie'!$3:29)<=COUNTIF(nom,$BG$2),INDEX(Expr2,SMALL(IF(nom=$BG$2,ROW(INDIRECT(\"1:\"&ROWS(Expr1)))),ROWS('Charge atelier chaudronnerie'!$3:29))),\"\")","v":{"$error":"#REF!"}},{"$f":"IF(ROWS('Charge atelier chaudronnerie'!$3:29)<=COUNTIF(nom,$BG$2),INDEX(DatePriseOf,SMALL(IF(nom=$BG$2,ROW(INDIRECT(\"1:\"&ROWS(Expr1)))),ROWS('Charge atelier chaudronnerie'!$3:29))),\"\")","v":{"$error":"#REF!"}},null,{"$f":"IF(ROWS('Charge atelier chaudronnerie'!$3:29)<=COUNTIF(nom,$BK$2),INDEX(Expr1,SMALL(IF(nom=$BK$2,ROW(INDIRECT(\"1:\"&ROWS(Expr1)))),ROWS('Charge atelier chaudronnerie'!$3:29))),\"\")","v":{"$error":"#REF!"}},{"$f":"IF(ROWS('Charge atelier chaudronnerie'!$3:29)<=COUNTIF(nom,$BK$2),INDEX(Expr2,SMALL(IF(nom=$BK$2,ROW(INDIRECT(\"1:\"&ROWS(Expr1)))),ROWS('Charge atelier chaudronnerie'!$3:29))),\"\")","v":{"$error":"#REF!"}},{"$f":"IF(ROWS('Charge atelier chaudronnerie'!$3:29)<=COUNTIF(nom,$BK$2),INDEX(DatePriseOf,SMALL(IF(nom=$BK$2,ROW(INDIRECT(\"1:\"&ROWS(Expr1)))),ROWS('Charge atelier chaudronnerie'!$3:29))),\"\")","v":{"$error":"#REF!"}},null,{"$f":"IF(ROWS('Charge atelier chaudronnerie'!$3:26)<=COUNTIF(nom,$BO$2),INDEX(Expr1,SMALL(IF(nom=$BO$2,ROW(INDIRECT(\"1:\"&ROWS(Expr1)))),ROWS('Charge atelier chaudronnerie'!$3:26))),\"\")","v":{"$error":"#REF!"}},{"$f":"IF(ROWS('Charge atelier chaudronnerie'!$3:26)<=COUNTIF(nom,$BO$2),INDEX(Expr2,SMALL(IF(nom=$BO$2,ROW(INDIRECT(\"1:\"&ROWS(Expr1)))),ROWS('Charge atelier chaudronnerie'!$3:26))),\"\")","v":{"$error":"#REF!"}},{"$f":"IF(ROWS('Charge atelier chaudronnerie'!$3:26)<=COUNTIF(nom,$BO$2),INDEX(DatePriseOf,SMALL(IF(nom=$BO$2,ROW(INDIRECT(\"1:\"&ROWS(Expr1)))),ROWS('Charge atelier chaudronnerie'!$3:26))),\"\")","v":{"$error":"#REF!"}},null,{"$f":"IF(ROWS('Charge atelier chaudronnerie'!$3:26)<=COUNTIF(nom,$BS$2),INDEX(Expr1,SMALL(IF(nom=$BS$2,ROW(INDIRECT(\"1:\"&ROWS(Expr1)))),ROWS('Charge atelier chaudronnerie'!$3:26))),\"\")","v":{"$error":"#REF!"}},{"$f":"IF(ROWS('Charge atelier chaudronnerie'!$3:26)<=COUNTIF(nom,$BS$2),INDEX(Expr2,SMALL(IF(nom=$BS$2,ROW(INDIRECT(\"1:\"&ROWS(Expr1)))),ROWS('Charge atelier chaudronnerie'!$3:26))),\"\")","v":{"$error":"#REF!"}},{"$f":"IF(ROWS('Charge atelier chaudronnerie'!$3:26)<=COUNTIF(nom,$BS$2),INDEX(DatePriseOf,SMALL(IF(nom=$BS$2,ROW(INDIRECT(\"1:\"&ROWS(Expr1)))),ROWS('Charge atelier chaudronnerie'!$3:26))),\"\")","v":{"$error":"#REF!"}}]
["CH4",null,{"$f":"IF(ROWS('Charge atelier chaudronnerie'!$3:30)<=COUNTIF(nom,$C$2),INDEX(Expr1,SMALL(IF(nom=$C$2,ROW(INDIRECT(\"1:\"&ROWS(Expr1)))),ROWS('Charge atelier chaudronnerie'!$3:30))),\"\")","v":{"$error":"#REF!"}},{"$f":"IF(ROWS('Charge atelier chaudronnerie'!$3:30)<=COUNTIF(nom,$C$2),INDEX(Expr2,SMALL(IF(nom=$C$2,ROW(INDIRECT(\"1:\"&ROWS(Expr1)))),ROWS('Charge atelier chaudronnerie'!$3:30))),\"\")","v":{"$error":"#REF!"}},{"$f":"IF(ROWS('Charge atelier chaudronnerie'!$3:30)<=COUNTIF(nom,$C$2),INDEX(DatePriseOf,SMALL(IF(nom=$C$2,ROW(INDIRECT(\"1:\"&ROWS(Expr1)))),ROWS('Charge atelier chaudronnerie'!$3:30))),\"\")","v":{"$error":"#REF!"}},null,{"$f":"IF(ROWS('Charge atelier chaudronnerie'!$3:30)<=COUNTIF(nom,$G$2),INDEX(Expr1,SMALL(IF(nom=$G$2,ROW(INDIRECT(\"1:\"&ROWS(Expr1)))),ROWS('Charge atelier chaudronnerie'!$3:30))),\"\")","v":{"$error":"#REF!"}},{"$f":"IF(ROWS('Charge atelier chaudronnerie'!$3:30)<=COUNTIF(nom,$G$2),INDEX(Expr2,SMALL(IF(nom=$G$2,ROW(INDIRECT(\"1:\"&ROWS(Expr1)))),ROWS('Charge atelier chaudronnerie'!$3:30))),\"\")","v":{"$error":"#REF!"}},{"$f":"IF(ROWS('Charge atelier chaudronnerie'!$3:30)<=COUNTIF(nom,$G$2),INDEX(DatePriseOf,SMALL(IF(nom=$G$2,ROW(INDIRECT(\"1:\"&ROWS(Expr1)))),ROWS('Charge atelier chaudronnerie'!$3:30))),\"\")","v":{"$error":"#REF!"}},null,{"$f":"IF(ROWS('Charge atelier chaudronnerie'!$3:30)<=COUNTIF(nom,$K$2),INDEX(Expr1,SMALL(IF(nom=$K$2,ROW(INDIRECT(\"1:\"&ROWS(Expr1)))),ROWS('Charge atelier chaudronnerie'!$3:30))),\"\")","v":{"$error":"#REF!"}},{"$f":"IF(ROWS('Charge atelier chaudronnerie'!$3:30)<=COUNTIF(nom,$K$2),INDEX(Expr2,SMALL(IF(nom=$K$2,ROW(INDIRECT(\"1:\"&ROWS(Expr1)))),ROWS('Charge atelier chaudronnerie'!$3:30))),\"\")","v":{"$error":"#REF!"}},{"$f":"IF(ROWS('Charge atelier chaudronnerie'!$3:30)<=COUNTIF(nom,$K$2),INDEX(DatePriseOf,SMALL(IF(nom=$K$2,ROW(INDIRECT(\"1:\"&ROWS(Expr1)))),ROWS('Charge atelier chaudronnerie'!$3:30))),\"\")","v":{"$error":"#REF!"}},null,{"$f":"IF(ROWS('Charge atelier chaudronnerie'!$3:30)<=COUNTIF(nom,$O$2),INDEX(Expr1,SMALL(IF(nom=$O$2,ROW(INDIRECT(\"1:\"&ROWS(Expr1)))),ROWS('Charge atelier chaudronnerie'!$3:30))),\"\")","v":{"$error":"#REF!"}},{"$f":"IF(ROWS('Charge atelier chaudronnerie'!$3:30)<=COUNTIF(nom,$O$2),INDEX(Expr2,SMALL(IF(nom=$O$2,ROW(INDIRECT(\"1:\"&ROWS(Expr1)))),ROWS('Charge atelier chaudronnerie'!$3:30))),\"\")","v":{"$error":"#REF!"}},{"$f":"IF(ROWS('Charge atelier chaudronnerie'!$3:30)<=COUNTIF(nom,$O$2),INDEX(DatePriseOf,SMALL(IF(nom=$O$2,ROW(INDIRECT(\"1:\"&ROWS(Expr1)))),ROWS('Charge atelier chaudronnerie'!$3:30))),\"\")","v":{"$error":"#REF!"}},null,{"$f":"IF(ROWS('Charge atelier chaudronnerie'!$3:30)<=COUNTIF(nom,$S$2),INDEX(Expr1,SMALL(IF(nom=$S$2,ROW(INDIRECT(\"1:\"&ROWS(Expr1)))),ROWS('Charge atelier chaudronnerie'!$3:30))),\"\")","v":{"$error":"#REF!"}},{"$f":"IF(ROWS('Charge atelier chaudronnerie'!$3:30)<=COUNTIF(nom,$S$2),INDEX(Expr2,SMALL(IF(nom=$S$2,ROW(INDIRECT(\"1:\"&ROWS(Expr1)))),ROWS('Charge atelier chaudronnerie'!$3:30))),\"\")","v":{"$error":"#REF!"}},{"$f":"IF(ROWS('Charge atelier chaudronnerie'!$3:30)<=COUNTIF(nom,$S$2),INDEX(DatePriseOf,SMALL(IF(nom=$S$2,ROW(INDIRECT(\"1:\"&ROWS(Expr1)))),ROWS('Charge atelier chaudronnerie'!$3:30))),\"\")","v":{"$error":"#REF!"}},null,{"$f":"IF(ROWS('Charge atelier chaudronnerie'!$3:30)<=COUNTIF(nom,$W$2),INDEX(Expr1,SMALL(IF(nom=$W$2,ROW(INDIRECT(\"1:\"&ROWS(Expr1)))),ROWS('Charge atelier chaudronnerie'!$3:30))),\"\")","v":{"$error":"#REF!"}},{"$f":"IF(ROWS('Charge atelier chaudronnerie'!$3:30)<=COUNTIF(nom,$W$2),INDEX(Expr2,SMALL(IF(nom=$W$2,ROW(INDIRECT(\"1:\"&ROWS(Expr1)))),ROWS('Charge atelier chaudronnerie'!$3:30))),\"\")","v":{"$error":"#REF!"}},{"$f":"IF(ROWS('Charge atelier chaudronnerie'!$3:30)<=COUNTIF(nom,$W$2),INDEX(DatePriseOf,SMALL(IF(nom=$W$2,ROW(INDIRECT(\"1:\"&ROWS(Expr1)))),ROWS('Charge atelier chaudronnerie'!$3:30))),\"\")","v":{"$error":"#REF!"}},null,{"$f":"IF(ROWS('Charge atelier chaudronnerie'!$3:30)<=COUNTIF(nom,$AA$2),INDEX(Expr1,SMALL(IF(nom=$AA$2,ROW(INDIRECT(\"1:\"&ROWS(Expr1)))),ROWS('Charge atelier chaudronnerie'!$3:30))),\"\")","v":{"$error":"#REF!"}},{"$f":"IF(ROWS('Charge atelier chaudronnerie'!$3:30)<=COUNTIF(nom,$AA$2),INDEX(Expr2,SMALL(IF(nom=$AA$2,ROW(INDIRECT(\"1:\"&ROWS(Expr1)))),ROWS('Charge atelier chaudronnerie'!$3:30))),\"\")","v":{"$error":"#REF!"}},{"$f":"IF(ROWS('Charge atelier chaudronnerie'!$3:30)<=COUNTIF(nom,$AA$2),INDEX(DatePriseOf,SMALL(IF(nom=$AA$2,ROW(INDIRECT(\"1:\"&ROWS(Expr1)))),ROWS('Charge atelier chaudronnerie'!$3:30))),\"\")","v":{"$error":"#REF!"}},null,{"$f":"IF(ROWS('Charge atelier chaudronnerie'!$3:30)<=COUNTIF(nom,$AE$2),INDEX(Expr1,SMALL(IF(nom=$AE$2,ROW(INDIRECT(\"1:\"&ROWS(Expr1)))),ROWS('Charge atelier chaudronnerie'!$3:30))),\"\")","v":{"$error":"#REF!"}},{"$f":"IF(ROWS('Charge atelier chaudronnerie'!$3:30)<=COUNTIF(nom,$AE$2),INDEX(Expr2,SMALL(IF(nom=$AE$2,ROW(INDIRECT(\"1:\"&ROWS(Expr1)))),ROWS('Charge atelier chaudronnerie'!$3:30))),\"\")","v":{"$error":"#REF!"}},{"$f":"IF(ROWS('Charge atelier chaudronnerie'!$3:30)<=COUNTIF(nom,$AE$2),INDEX(DatePriseOf,SMALL(IF(nom=$AE$2,ROW(INDIRECT(\"1:\"&ROWS(Expr1)))),ROWS('Charge atelier chaudronnerie'!$3:30))),\"\")","v":{"$error":"#REF!"}},null,{"$f":"IF(ROWS('Charge atelier chaudronnerie'!$3:30)<=COUNTIF(nom,$AI$2),INDEX(Expr1,SMALL(IF(nom=$AI$2,ROW(INDIRECT(\"1:\"&ROWS(Expr1)))),ROWS('Charge atelier chaudronnerie'!$3:30))),\"\")","v":{"$error":"#REF!"}},{"$f":"IF(ROWS('Charge atelier chaudronnerie'!$3:30)<=COUNTIF(nom,$AI$2),INDEX(Expr2,SMALL(IF(nom=$AI$2,ROW(INDIRECT(\"1:\"&ROWS(Expr1)))),ROWS('Charge atelier chaudronnerie'!$3:30))),\"\")","v":{"$error":"#REF!"}},{"$f":"IF(ROWS('Charge atelier chaudronnerie'!$3:30)<=COUNTIF(nom,$AI$2),INDEX(DatePriseOf,SMALL(IF(nom=$AI$2,ROW(INDIRECT(\"1:\"&ROWS(Expr1)))),ROWS('Charge atelier chaudronnerie'!$3:30))),\"\")","v":{"$error":"#REF!"}},null,{"$f":"IF(ROWS('Charge atelier chaudronnerie'!$3:30)<=COUNTIF(nom,$AM$2),INDEX(Expr1,SMALL(IF(nom=$AM$2,ROW(INDIRECT(\"1:\"&ROWS(Expr1)))),ROWS('Charge atelier chaudronnerie'!$3:30))),\"\")","v":{"$error":"#REF!"}},{"$f":"IF(ROWS('Charge atelier chaudronnerie'!$3:30)<=COUNTIF(nom,$AM$2),INDEX(Expr2,SMALL(IF(nom=$AM$2,ROW(INDIRECT(\"1:\"&ROWS(Expr1)))),ROWS('Charge atelier chaudronnerie'!$3:30))),\"\")","v":{"$error":"#REF!"}},{"$f":"IF(ROWS('Charge atelier chaudronnerie'!$3:30)<=COUNTIF(nom,$AM$2),INDEX(DatePriseOf,SMALL(IF(nom=$AM$2,ROW(INDIRECT(\"1:\"&ROWS(Expr1)))),ROWS('Charge atelier chaudronnerie'!$3:30))),\"\")","v":{"$error":"#REF!"}},null,{"$f":"IF(ROWS('Charge atelier chaudronnerie'!$3:30)<=COUNTIF(nom,$AQ$2),INDEX(Expr1,SMALL(IF(nom=$AQ$2,ROW(INDIRECT(\"1:\"&ROWS(Expr1)))),ROWS('Charge atelier chaudronnerie'!$3:30))),\"\")","v":{"$error":"#REF!"}},{"$f":"IF(ROWS('Charge atelier chaudronnerie'!$3:30)<=COUNTIF(nom,$AQ$2),INDEX(Expr2,SMALL(IF(nom=$AQ$2,ROW(INDIRECT(\"1:\"&ROWS(Expr1)))),ROWS('Charge atelier chaudronnerie'!$3:30))),\"\")","v":{"$error":"#REF!"}},{"$f":"IF(ROWS('Charge atelier chaudronnerie'!$3:30)<=COUNTIF(nom,$AQ$2),INDEX(DatePriseOf,SMALL(IF(nom=$AQ$2,ROW(INDIRECT(\"1:\"&ROWS(Expr1)))),ROWS('Charge atelier chaudronnerie'!$3:30))),\"\")","v":{"$error":"#REF!"}},null,{"$f":"IF(ROWS('Charge atelier chaudronnerie'!$3:30)<=COUNTIF(nom,$AU$2),INDEX(Expr1,SMALL(IF(nom=$AU$2,ROW(INDIRECT(\"1:\"&ROWS(Expr1)))),ROWS('Charge atelier chaudronnerie'!$3:30))),\"\")","v":{"$error":"#REF!"}},{"$f":"IF(ROWS('Charge atelier chaudronnerie'!$3:30)<=COUNTIF(nom,$AU$2),INDEX(Expr2,SMALL(IF(nom=$AU$2,ROW(INDIRECT(\"1:\"&ROWS(Expr1)))),ROWS('Charge atelier chaudronnerie'!$3:30))),\"\")","v":{"$error":"#REF!"}},{"$f":"IF(ROWS('Charge atelier chaudronnerie'!$3:30)<=COUNTIF(nom,$AU$2),INDEX(DatePriseOf,SMALL(IF(nom=$AU$2,ROW(INDIRECT(\"1:\"&ROWS(Expr1)))),ROWS('Charge atelier chaudronnerie'!$3:30))),\"\")","v":{"$error":"#REF!"}},null,{"$f":"IF(ROWS('Charge atelier chaudronnerie'!$3:30)<=COUNTIF(nom,$AY$2),INDEX(Expr1,SMALL(IF(nom=$AY$2,ROW(INDIRECT(\"1:\"&ROWS(Expr1)))),ROWS('Charge atelier chaudronnerie'!$3:30))),\"\")","v":{"$error":"#REF!"}},{"$f":"IF(ROWS('Charge atelier chaudronnerie'!$3:30)<=COUNTIF(nom,$AY$2),INDEX(Expr2,SMALL(IF(nom=$AY$2,ROW(INDIRECT(\"1:\"&ROWS(Expr1)))),ROWS('Charge atelier chaudronnerie'!$3:30))),\"\")","v":{"$error":"#REF!"}},{"$f":"IF(ROWS('Charge atelier chaudronnerie'!$3:30)<=COUNTIF(nom,$AY$2),INDEX(DatePriseOf,SMALL(IF(nom=$AY$2,ROW(INDIRECT(\"1:\"&ROWS(Expr1)))),ROWS('Charge atelier chaudronnerie'!$3:30))),\"\")","v":{"$error":"#REF!"}},null,{"$f":"IF(ROWS('Charge atelier chaudronnerie'!$3:30)<=COUNTIF(nom,$BC$2),INDEX(Expr1,SMALL(IF(nom=$BC$2,ROW(INDIRECT(\"1:\"&ROWS(Expr1)))),ROWS('Charge atelier chaudronnerie'!$3:30))),\"\")","v":{"$error":"#REF!"}},{"$f":"IF(ROWS('Charge atelier chaudronnerie'!$3:30)<=COUNTIF(nom,$BC$2),INDEX(Expr2,SMALL(IF(nom=$BC$2,ROW(INDIRECT(\"1:\"&ROWS(Expr1)))),ROWS('Charge atelier chaudronnerie'!$3:30))),\"\")","v":{"$error":"#REF!"}},{"$f":"IF(ROWS('Charge atelier chaudronnerie'!$3:30)<=COUNTIF(nom,$BC$2),INDEX(DatePriseOf,SMALL(IF(nom=$BC$2,ROW(INDIRECT(\"1:\"&ROWS(Expr1)))),ROWS('Charge atelier chaudronnerie'!$3:30))),\"\")","v":{"$error":"#REF!"}},null,{"$f":"IF(ROWS('Charge atelier chaudronnerie'!$3:30)<=COUNTIF(nom,$BG$2),INDEX(Expr1,SMALL(IF(nom=$BG$2,ROW(INDIRECT(\"1:\"&ROWS(Expr1)))),ROWS('Charge atelier chaudronnerie'!$3:30))),\"\")","v":{"$error":"#REF!"}},{"$f":"IF(ROWS('Charge atelier chaudronnerie'!$3:30)<=COUNTIF(nom,$BG$2),INDEX(Expr2,SMALL(IF(nom=$BG$2,ROW(INDIRECT(\"1:\"&ROWS(Expr1)))),ROWS('Charge atelier chaudronnerie'!$3:30))),\"\")","v":{"$error":"#REF!"}},{"$f":"IF(ROWS('Charge atelier chaudronnerie'!$3:30)<=COUNTIF(nom,$BG$2),INDEX(DatePriseOf,SMALL(IF(nom=$BG$2,ROW(INDIRECT(\"1:\"&ROWS(Expr1)))),ROWS('Charge atelier chaudronnerie'!$3:30))),\"\")","v":{"$error":"#REF!"}},null,{"$f":"IF(ROWS('Charge atelier chaudronnerie'!$3:30)<=COUNTIF(nom,$BK$2),INDEX(Expr1,SMALL(IF(nom=$BK$2,ROW(INDIRECT(\"1:\"&ROWS(Expr1)))),ROWS('Charge atelier chaudronnerie'!$3:30))),\"\")","v":{"$error":"#REF!"}},{"$f":"IF(ROWS('Charge atelier chaudronnerie'!$3:30)<=COUNTIF(nom,$BK$2),INDEX(Expr2,SMALL(IF(nom=$BK$2,ROW(INDIRECT(\"1:\"&ROWS(Expr1)))),ROWS('Charge atelier chaudronnerie'!$3:30))),\"\")","v":{"$error":"#REF!"}},{"$f":"IF(ROWS('Charge atelier chaudronnerie'!$3:30)<=COUNTIF(nom,$BK$2),INDEX(DatePriseOf,SMALL(IF(nom=$BK$2,ROW(INDIRECT(\"1:\"&ROWS(Expr1)))),ROWS('Charge atelier chaudronnerie'!$3:30))),\"\")","v":{"$error":"#REF!"}},null,{"$f":"IF(ROWS('Charge atelier chaudronnerie'!$3:27)<=COUNTIF(nom,$BO$2),INDEX(Expr1,SMALL(IF(nom=$BO$2,ROW(INDIRECT(\"1:\"&ROWS(Expr1)))),ROWS('Charge atelier chaudronnerie'!$3:27))),\"\")","v":{"$error":"#REF!"}},{"$f":"IF(ROWS('Charge atelier chaudronnerie'!$3:27)<=COUNTIF(nom,$BO$2),INDEX(Expr2,SMALL(IF(nom=$BO$2,ROW(INDIRECT(\"1:\"&ROWS(Expr1)))),ROWS('Charge atelier chaudronnerie'!$3:27))),\"\")","v":{"$error":"#REF!"}},{"$f":"IF(ROWS('Charge atelier chaudronnerie'!$3:27)<=COUNTIF(nom,$BO$2),INDEX(DatePriseOf,SMALL(IF(nom=$BO$2,ROW(INDIRECT(\"1:\"&ROWS(Expr1)))),ROWS('Charge atelier chaudronnerie'!$3:27))),\"\")","v":{"$error":"#REF!"}},null,{"$f":"IF(ROWS('Charge atelier chaudronnerie'!$3:27)<=COUNTIF(nom,$BS$2),INDEX(Expr1,SMALL(IF(nom=$BS$2,ROW(INDIRECT(\"1:\"&ROWS(Expr1)))),ROWS('Charge atelier chaudronnerie'!$3:27))),\"\")","v":{"$error":"#REF!"}},{"$f":"IF(ROWS('Charge atelier chaudronnerie'!$3:27)<=COUNTIF(nom,$BS$2),INDEX(Expr2,SMALL(IF(nom=$BS$2,ROW(INDIRECT(\"1:\"&ROWS(Expr1)))),ROWS('Charge atelier chaudronnerie'!$3:27))),\"\")","v":{"$error":"#REF!"}},{"$f":"IF(ROWS('Charge atelier chaudronnerie'!$3:27)<=COUNTIF(nom,$BS$2),INDEX(DatePriseOf,SMALL(IF(nom=$BS$2,ROW(INDIRECT(\"1:\"&ROWS(Expr1)))),ROWS('Charge atelier chaudronnerie'!$3:27))),\"\")","v":{"$error":"#REF!"}}]
["CH",null,{"$f":"IF(ROWS('Charge atelier chaudronnerie'!$3:31)<=COUNTIF(nom,$C$2),INDEX(Expr1,SMALL(IF(nom=$C$2,ROW(INDIRECT(\"1:\"&ROWS(Expr1)))),ROWS('Charge atelier chaudronnerie'!$3:31))),\"\")","v":{"$error":"#REF!"}},{"$f":"IF(ROWS('Charge atelier chaudronnerie'!$3:31)<=COUNTIF(nom,$C$2),INDEX(Expr2,SMALL(IF(nom=$C$2,ROW(INDIRECT(\"1:\"&ROWS(Expr1)))),ROWS('Charge atelier chaudronnerie'!$3:31))),\"\")","v":{"$error":"#REF!"}},{"$f":"IF(ROWS('Charge atelier chaudronnerie'!$3:31)<=COUNTIF(nom,$C$2),INDEX(DatePriseOf,SMALL(IF(nom=$C$2,ROW(INDIRECT(\"1:\"&ROWS(Expr1)))),ROWS('Charge atelier chaudronnerie'!$3:31))),\"\")","v":{"$error":"#REF!"}},null,{"$f":"IF(ROWS('Charge atelier chaudronnerie'!$3:31)<=COUNTIF(nom,$G$2),INDEX(Expr1,SMALL(IF(nom=$G$2,ROW(INDIRECT(\"1:\"&ROWS(Expr1)))),ROWS('Charge atelier chaudronnerie'!$3:31))),\"\")","v":{"$error":"#REF!"}},{"$f":"IF(ROWS('Charge atelier chaudronnerie'!$3:31)<=COUNTIF(nom,$G$2),INDEX(Expr2,SMALL(IF(nom=$G$2,ROW(INDIRECT(\"1:\"&ROWS(Expr1)))),ROWS('Charge atelier chaudronnerie'!$3:31))),\"\")","v":{"$error":"#REF!"}},{"$f":"IF(ROWS('Charge atelier chaudronnerie'!$3:31)<=COUNTIF(nom,$G$2),INDEX(DatePriseOf,SMALL(IF(nom=$G$2,ROW(INDIRECT(\"1:\"&ROWS(Expr1)))),ROWS('Charge atelier chaudronnerie'!$3:31))),\"\")","v":{"$error":"#REF!"}},null,{"$f":"IF(ROWS('Charge atelier chaudronnerie'!$3:31)<=COUNTIF(nom,$K$2),INDEX(Expr1,SMALL(IF(nom=$K$2,ROW(INDIRECT(\"1:\"&ROWS(Expr1)))),ROWS('Charge atelier chaudronnerie'!$3:31))),\"\")","v":{"$error":"#REF!"}},{"$f":"IF(ROWS('Charge atelier chaudronnerie'!$3:31)<=COUNTIF(nom,$K$2),INDEX(Expr2,SMALL(IF(nom=$K$2,ROW(INDIRECT(\"1:\"&ROWS(Expr1)))),ROWS('Charge atelier chaudronnerie'!$3:31))),\"\")","v":{"$error":"#REF!"}},{"$f":"IF(ROWS('Charge atelier chaudronnerie'!$3:31)<=COUNTIF(nom,$K$2),INDEX(DatePriseOf,SMALL(IF(nom=$K$2,ROW(INDIRECT(\"1:\"&ROWS(Expr1)))),ROWS('Charge atelier chaudronnerie'!$3:31))),\"\")","v":{"$error":"#REF!"}},null,{"$f":"IF(ROWS('Charge atelier chaudronnerie'!$3:31)<=COUNTIF(nom,$O$2),INDEX(Expr1,SMALL(IF(nom=$O$2,ROW(INDIRECT(\"1:\"&ROWS(Expr1)))),ROWS('Charge atelier chaudronnerie'!$3:31))),\"\")","v":{"$error":"#REF!"}},{"$f":"IF(ROWS('Charge atelier chaudronnerie'!$3:31)<=COUNTIF(nom,$O$2),INDEX(Expr2,SMALL(IF(nom=$O$2,ROW(INDIRECT(\"1:\"&ROWS(Expr1)))),ROWS('Charge atelier chaudronnerie'!$3:31))),\"\")","v":{"$error":"#REF!"}},{"$f":"IF(ROWS('Charge atelier chaudronnerie'!$3:31)<=COUNTIF(nom,$O$2),INDEX(DatePriseOf,SMALL(IF(nom=$O$2,ROW(INDIRECT(\"1:\"&ROWS(Expr1)))),ROWS('Charge atelier chaudronnerie'!$3:31))),\"\")","v":{"$error":"#REF!"}},null,{"$f":"IF(ROWS('Charge atelier chaudronnerie'!$3:31)<=COUNTIF(nom,$S$2),INDEX(Expr1,SMALL(IF(nom=$S$2,ROW(INDIRECT(\"1:\"&ROWS(Expr1)))),ROWS('Charge atelier chaudronnerie'!$3:31))),\"\")","v":{"$error":"#REF!"}},{"$f":"IF(ROWS('Charge atelier chaudronnerie'!$3:31)<=COUNTIF(nom,$S$2),INDEX(Expr2,SMALL(IF(nom=$S$2,ROW(INDIRECT(\"1:\"&ROWS(Expr1)))),ROWS('Charge atelier chaudronnerie'!$3:31))),\"\")","v":{"$error":"#REF!"}},{"$f":"IF(ROWS('Charge atelier chaudronnerie'!$3:31)<=COUNTIF(nom,$S$2),INDEX(DatePriseOf,SMALL(IF(nom=$S$2,ROW(INDIRECT(\"1:\"&ROWS(Expr1)))),ROWS('Charge atelier chaudronnerie'!$3:31))),\"\")","v":{"$error":"#REF!"}},null,{"$f":"IF(ROWS('Charge atelier chaudronnerie'!$3:31)<=COUNTIF(nom,$W$2),INDEX(Expr1,SMALL(IF(nom=$W$2,ROW(INDIRECT(\"1:\"&ROWS(Expr1)))),ROWS('Charge atelier chaudronnerie'!$3:31))),\"\")","v":{"$error":"#REF!"}},{"$f":"IF(ROWS('Charge atelier chaudronnerie'!$3:31)<=COUNTIF(nom,$W$2),INDEX(Expr2,SMALL(IF(nom=$W$2,ROW(INDIRECT(\"1:\"&ROWS(Expr1)))),ROWS('Charge atelier chaudronnerie'!$3:31))),\"\")","v":{"$error":"#REF!"}},{"$f":"IF(ROWS('Charge atelier chaudronnerie'!$3:31)<=COUNTIF(nom,$W$2),INDEX(DatePriseOf,SMALL(IF(nom=$W$2,ROW(INDIRECT(\"1:\"&ROWS(Expr1)))),ROWS('Charge atelier chaudronnerie'!$3:31))),\"\")","v":{"$error":"#REF!"}},null,{"$f":"IF(ROWS('Charge atelier chaudronnerie'!$3:31)<=COUNTIF(nom,$AA$2),INDEX(Expr1,SMALL(IF(nom=$AA$2,ROW(INDIRECT(\"1:\"&ROWS(Expr1)))),ROWS('Charge atelier chaudronnerie'!$3:31))),\"\")","v":{"$error":"#REF!"}},{"$f":"IF(ROWS('Charge atelier chaudronnerie'!$3:31)<=COUNTIF(nom,$AA$2),INDEX(Expr2,SMALL(IF(nom=$AA$2,ROW(INDIRECT(\"1:\"&ROWS(Expr1)))),ROWS('Charge atelier chaudronnerie'!$3:31))),\"\")","v":{"$error":"#REF!"}},{"$f":"IF(ROWS('Charge atelier chaudronnerie'!$3:31)<=COUNTIF(nom,$AA$2),INDEX(DatePriseOf,SMALL(IF(nom=$AA$2,ROW(INDIRECT(\"1:\"&ROWS(Expr1)))),ROWS('Charge atelier chaudronnerie'!$3:31))),\"\")","v":{"$error":"#REF!"}},null,{"$f":"IF(ROWS('Charge atelier chaudronnerie'!$3:31)<=COUNTIF(nom,$AE$2),INDEX(Expr1,SMALL(IF(nom=$AE$2,ROW(INDIRECT(\"1:\"&ROWS(Expr1)))),ROWS('Charge atelier chaudronnerie'!$3:31))),\"\")","v":{"$error":"#REF!"}},{"$f":"IF(ROWS('Charge atelier chaudronnerie'!$3:31)<=COUNTIF(nom,$AE$2),INDEX(Expr2,SMALL(IF(nom=$AE$2,ROW(INDIRECT(\"1:\"&ROWS(Expr1)))),ROWS('Charge atelier chaudronnerie'!$3:31))),\"\")","v":{"$error":"#REF!"}},{"$f":"IF(ROWS('Charge atelier chaudronnerie'!$3:31)<=COUNTIF(nom,$AE$2),INDEX(DatePriseOf,SMALL(IF(nom=$AE$2,ROW(INDIRECT(\"1:\"&ROWS(Expr1)))),ROWS('Charge atelier chaudronnerie'!$3:31))),\"\")","v":{"$error":"#REF!"}},null,{"$f":"IF(ROWS('Charge atelier chaudronnerie'!$3:31)<=COUNTIF(nom,$AI$2),INDEX(Expr1,SMALL(IF(nom=$AI$2,ROW(INDIRECT(\"1:\"&ROWS(Expr1)))),ROWS('Charge atelier chaudronnerie'!$3:31))),\"\")","v":{"$error":"#REF!"}},{"$f":"IF(ROWS('Charge atelier chaudronnerie'!$3:31)<=COUNTIF(nom,$AI$2),INDEX(Expr2,SMALL(IF(nom=$AI$2,ROW(INDIRECT(\"1:\"&ROWS(Expr1)))),ROWS('Charge atelier chaudronnerie'!$3:31))),\"\")","v":{"$error":"#REF!"}},{"$f":"IF(ROWS('Charge atelier chaudronnerie'!$3:31)<=COUNTIF(nom,$AI$2),INDEX(DatePriseOf,SMALL(IF(nom=$AI$2,ROW(INDIRECT(\"1:\"&ROWS(Expr1)))),ROWS('Charge atelier chaudronnerie'!$3:31))),\"\")","v":{"$error":"#REF!"}},null,{"$f":"IF(ROWS('Charge atelier chaudronnerie'!$3:31)<=COUNTIF(nom,$AM$2),INDEX(Expr1,SMALL(IF(nom=$AM$2,ROW(INDIRECT(\"1:\"&ROWS(Expr1)))),ROWS('Charge atelier chaudronnerie'!$3:31))),\"\")","v":{"$error":"#REF!"}},{"$f":"IF(ROWS('Charge atelier chaudronnerie'!$3:31)<=COUNTIF(nom,$AM$2),INDEX(Expr2,SMALL(IF(nom=$AM$2,ROW(INDIRECT(\"1:\"&ROWS(Expr1)))),ROWS('Charge atelier chaudronnerie'!$3:31))),\"\")","v":{"$error":"#REF!"}},{"$f":"IF(ROWS('Charge atelier chaudronnerie'!$3:31)<=COUNTIF(nom,$AM$2),INDEX(DatePriseOf,SMALL(IF(nom=$AM$2,ROW(INDIRECT(\"1:\"&ROWS(Expr1)))),ROWS('Charge atelier chaudronnerie'!$3:31))),\"\")","v":{"$error":"#REF!"}},null,{"$f":"IF(ROWS('Charge atelier chaudronnerie'!$3:31)<=COUNTIF(nom,$AQ$2),INDEX(Expr1,SMALL(IF(nom=$AQ$2,ROW(INDIRECT(\"1:\"&ROWS(Expr1)))),ROWS('Charge atelier chaudronnerie'!$3:31))),\"\")","v":{"$error":"#REF!"}},{"$f":"IF(ROWS('Charge atelier chaudronnerie'!$3:31)<=COUNTIF(nom,$AQ$2),INDEX(Expr2,SMALL(IF(nom=$AQ$2,ROW(INDIRECT(\"1:\"&ROWS(Expr1)))),ROWS('Charge atelier chaudronnerie'!$3:31))),\"\")","v":{"$error":"#REF!"}},{"$f":"IF(ROWS('Charge atelier chaudronnerie'!$3:31)<=COUNTIF(nom,$AQ$2),INDEX(DatePriseOf,SMALL(IF(nom=$AQ$2,ROW(INDIRECT(\"1:\"&ROWS(Expr1)))),ROWS('Charge atelier chaudronnerie'!$3:31))),\"\")","v":{"$error":"#REF!"}},null,{"$f":"IF(ROWS('Charge atelier chaudronnerie'!$3:31)<=COUNTIF(nom,$AU$2),INDEX(Expr1,SMALL(IF(nom=$AU$2,ROW(INDIRECT(\"1:\"&ROWS(Expr1)))),ROWS('Charge atelier chaudronnerie'!$3:31))),\"\")","v":{"$error":"#REF!"}},{"$f":"IF(ROWS('Charge atelier chaudronnerie'!$3:31)<=COUNTIF(nom,$AU$2),INDEX(Expr2,SMALL(IF(nom=$AU$2,ROW(INDIRECT(\"1:\"&ROWS(Expr1)))),ROWS('Charge atelier chaudronnerie'!$3:31))),\"\")","v":{"$error":"#REF!"}},{"$f":"IF(ROWS('Charge atelier chaudronnerie'!$3:31)<=COUNTIF(nom,$AU$2),INDEX(DatePriseOf,SMALL(IF(nom=$AU$2,ROW(INDIRECT(\"1:\"&ROWS(Expr1)))),ROWS('Charge atelier chaudronnerie'!$3:31))),\"\")","v":{"$error":"#REF!"}},null,{"$f":"IF(ROWS('Charge atelier chaudronnerie'!$3:31)<=COUNTIF(nom,$AY$2),INDEX(Expr1,SMALL(IF(nom=$AY$2,ROW(INDIRECT(\"1:\"&ROWS(Expr1)))),ROWS('Charge atelier chaudronnerie'!$3:31))),\"\")","v":{"$error":"#REF!"}},{"$f":"IF(ROWS('Charge atelier chaudronnerie'!$3:31)<=COUNTIF(nom,$AY$2),INDEX(Expr2,SMALL(IF(nom=$AY$2,ROW(INDIRECT(\"1:\"&ROWS(Expr1)))),ROWS('Charge atelier chaudronnerie'!$3:31))),\"\")","v":{"$error":"#REF!"}},{"$f":"IF(ROWS('Charge atelier chaudronnerie'!$3:31)<=COUNTIF(nom,$AY$2),INDEX(DatePriseOf,SMALL(IF(nom=$AY$2,ROW(INDIRECT(\"1:\"&ROWS(Expr1)))),ROWS('Charge atelier chaudronnerie'!$3:31))),\"\")","v":{"$error":"#REF!"}},null,{"$f":"IF(ROWS('Charge atelier chaudronnerie'!$3:31)<=COUNTIF(nom,$BC$2),INDEX(Expr1,SMALL(IF(nom=$BC$2,ROW(INDIRECT(\"1:\"&ROWS(Expr1)))),ROWS('Charge atelier chaudronnerie'!$3:31))),\"\")","v":{"$error":"#REF!"}},{"$f":"IF(ROWS('Charge atelier chaudronnerie'!$3:31)<=COUNTIF(nom,$BC$2),INDEX(Expr2,SMALL(IF(nom=$BC$2,ROW(INDIRECT(\"1:\"&ROWS(Expr1)))),ROWS('Charge atelier chaudronnerie'!$3:31))),\"\")","v":{"$error":"#REF!"}},{"$f":"IF(ROWS('Charge atelier chaudronnerie'!$3:31)<=COUNTIF(nom,$BC$2),INDEX(DatePriseOf,SMALL(IF(nom=$BC$2,ROW(INDIRECT(\"1:\"&ROWS(Expr1)))),ROWS('Charge atelier chaudronnerie'!$3:31))),\"\")","v":{"$error":"#REF!"}},null,{"$f":"IF(ROWS('Charge atelier chaudronnerie'!$3:31)<=COUNTIF(nom,$BG$2),INDEX(Expr1,SMALL(IF(nom=$BG$2,ROW(INDIRECT(\"1:\"&ROWS(Expr1)))),ROWS('Charge atelier chaudronnerie'!$3:31))),\"\")","v":{"$error":"#REF!"}},{"$f":"IF(ROWS('Charge atelier chaudronnerie'!$3:31)<=COUNTIF(nom,$BG$2),INDEX(Expr2,SMALL(IF(nom=$BG$2,ROW(INDIRECT(\"1:\"&ROWS(Expr1)))),ROWS('Charge atelier chaudronnerie'!$3:31))),\"\")","v":{"$error":"#REF!"}},{"$f":"IF(ROWS('Charge atelier chaudronnerie'!$3:31)<=COUNTIF(nom,$BG$2),INDEX(DatePriseOf,SMALL(IF(nom=$BG$2,ROW(INDIRECT(\"1:\"&ROWS(Expr1)))),ROWS('Charge atelier chaudronnerie'!$3:31))),\"\")","v":{"$error":"#REF!"}},null,{"$f":"IF(ROWS('Charge atelier chaudronnerie'!$3:31)<=COUNTIF(nom,$BK$2),INDEX(Expr1,SMALL(IF(nom=$BK$2,ROW(INDIRECT(\"1:\"&ROWS(Expr1)))),ROWS('Charge atelier chaudronnerie'!$3:31))),\"\")","v":{"$error":"#REF!"}},{"$f":"IF(ROWS('Charge atelier chaudronnerie'!$3:31)<=COUNTIF(nom,$BK$2),INDEX(Expr2,SMALL(IF(nom=$BK$2,ROW(INDIRECT(\"1:\"&ROWS(Expr1)))),ROWS('Charge atelier chaudronnerie'!$3:31))),\"\")","v":{"$error":"#REF!"}},{"$f":"IF(ROWS('Charge atelier chaudronnerie'!$3:31)<=COUNTIF(nom,$BK$2),INDEX(DatePriseOf,SMALL(IF(nom=$BK$2,ROW(INDIRECT(\"1:\"&ROWS(Expr1)))),ROWS('Charge atelier chaudronnerie'!$3:31))),\"\")","v":{"$error":"#REF!"}},null,{"$f":"IF(ROWS('Charge atelier chaudronnerie'!$3:28)<=COUNTIF(nom,$BO$2),INDEX(Expr1,SMALL(IF(nom=$BO$2,ROW(INDIRECT(\"1:\"&ROWS(Expr1)))),ROWS('Charge atelier chaudronnerie'!$3:28))),\"\")","v":{"$error":"#REF!"}},{"$f":"IF(ROWS('Charge atelier chaudronnerie'!$3:28)<=COUNTIF(nom,$BO$2),INDEX(Expr2,SMALL(IF(nom=$BO$2,ROW(INDIRECT(\"1:\"&ROWS(Expr1)))),ROWS('Charge atelier chaudronnerie'!$3:28))),\"\")","v":{"$error":"#REF!"}},{"$f":"IF(ROWS('Charge atelier chaudronnerie'!$3:28)<=COUNTIF(nom,$BO$2),INDEX(DatePriseOf,SMALL(IF(nom=$BO$2,ROW(INDIRECT(\"1:\"&ROWS(Expr1)))),ROWS('Charge atelier chaudronnerie'!$3:28))),\"\")","v":{"$error":"#REF!"}},null,{"$f":"IF(ROWS('Charge atelier chaudronnerie'!$3:28)<=COUNTIF(nom,$BS$2),INDEX(Expr1,SMALL(IF(nom=$BS$2,ROW(INDIRECT(\"1:\"&ROWS(Expr1)))),ROWS('Charge atelier chaudronnerie'!$3:28))),\"\")","v":{"$error":"#REF!"}},{"$f":"IF(ROWS('Charge atelier chaudronnerie'!$3:28)<=COUNTIF(nom,$BS$2),INDEX(Expr2,SMALL(IF(nom=$BS$2,ROW(INDIRECT(\"1:\"&ROWS(Expr1)))),ROWS('Charge atelier chaudronnerie'!$3:28))),\"\")","v":{"$error":"#REF!"}},{"$f":"IF(ROWS('Charge atelier chaudronnerie'!$3:28)<=COUNTIF(nom,$BS$2),INDEX(DatePriseOf,SMALL(IF(nom=$BS$2,ROW(INDIRECT(\"1:\"&ROWS(Expr1)))),ROWS('Charge atelier chaudronnerie'!$3:28))),\"\")","v":{"$error":"#REF!"}}]
[null,null,"PE1",{"$nulls":5},"PE2",{"$nulls":5},"PE3",{"$nulls":5},"CH1",{"$nulls":3},"CH2",{"$nulls":3},"CH3",{"$nulls":3},"CH4",{"$nulls":3},"CH"]
[null,null,{"$f":"IF(ROWS('Charge atelier chaudronnerie'!$3:3)<=COUNTIF(nom,$C$33),INDEX(Expr1,SMALL(IF(nom=$C$33,ROW(INDIRECT(\"1:\"&ROWS(Expr1)))),ROWS('Charge atelier chaudronnerie'!$3:3))),\"\")","v":{"$error":"#REF!"}},{"$nulls":5},{"$f":"IF(ROWS('Charge atelier chaudronnerie'!$3:3)<=COUNTIF(nom,$I$33),INDEX(Expr1,SMALL(IF(nom=$I$33,ROW(INDIRECT(\"1:\"&ROWS(Expr1)))),ROWS('Charge atelier chaudronnerie'!$3:3))),\"\")","v":{"$error":"#REF!"}},{"$nulls":5},{"$f":"IF(ROWS('Charge atelier chaudronnerie'!$3:3)<=COUNTIF(nom,$O$33),INDEX(Expr1,SMALL(IF(nom=$O$33,ROW(INDIRECT(\"1:\"&ROWS(Expr1)))),ROWS('Charge atelier chaudronnerie'!$3:3))),\"\")","v":{"$error":"#REF!"}},{"$nulls":5},{"$f":"IF(ROWS('Charge atelier chaudronnerie'!$3:3)<=COUNTIF(nom,$U$33),INDEX(Expr1,SMALL(IF(nom=$U$33,ROW(INDIRECT(\"1:\"&ROWS(Expr1)))),ROWS('Charge atelier chaudronnerie'!$3:3))),\"\")","v":{"$error":"#REF!"}},{"$nulls":3},{"$f":"IF(ROWS('Charge atelier chaudronnerie'!$3:3)<=COUNTIF(nom,$Y$33),INDEX(Expr1,SMALL(IF(nom=$Y$33,ROW(INDIRECT(\"1:\"&ROWS(Expr1)))),ROWS('Charge atelier chaudronnerie'!$3:3))),\"\")","v":{"$error":"#REF!"}},{"$nulls":3},{"$f":"IF(ROWS('Charge atelier chaudronnerie'!$3:3)<=COUNTIF(nom,$AC$33),INDEX(Expr1,SMALL(IF(nom=$AC$33,ROW(INDIRECT(\"1:\"&ROWS(Expr1)))),ROWS('Charge atelier chaudronnerie'!$3:3))),\"\")","v":{"$error":"#REF!"}},{"$nulls":3},{"$f":"IF(ROWS('Charge atelier chaudronnerie'!$3:3)<=COUNTIF(nom,$AG$33),INDEX(Expr1,SMALL(IF(nom=$AG$33,ROW(INDIRECT(\"1:\"&ROWS(Expr1)))),ROWS('Charge atelier chaudronnerie'!$3:3))),\"\")","v":{"$error":"#REF!"}},{"$nulls":3},{"$f":"IF(ROWS('Charge atelier chaudronnerie'!$3:3)<=COUNTIF(nom,$AK$33),INDEX(Expr1,SMALL(IF(nom=$AK$33,ROW(INDIRECT(\"1:\"&ROWS(Expr1)))),ROWS('Charge atelier chaudronnerie'!$3:3))),\"\")","v":{"$error":"#REF!"}}]
[null,null,{"$f":"IF(ROWS('Charge atelier chaudronnerie'!$3:4)<=COUNTIF(nom,$C$33),INDEX(Expr1,SMALL(IF(nom=$C$33,ROW(INDIRECT(\"1:\"&ROWS(Expr1)))),ROWS('Charge atelier chaudronnerie'!$3:4))),\"\")","v":{"$error":"#REF!"}},{"$nulls":5},{"$f":"IF(ROWS('Charge atelier chaudronnerie'!$3:4)<=COUNTIF(nom,$I$33),INDEX(Expr1,SMALL(IF(nom=$I$33,ROW(INDIRECT(\"1:\"&ROWS(Expr1)))),ROWS('Charge atelier chaudronnerie'!$3:4))),\"\")","v":{"$error":"#REF!"}},{"$nulls":5},{"$f":"IF(ROWS('Charge atelier chaudronnerie'!$3:4)<=COUNTIF(nom,$O$33),INDEX(Expr1,SMALL(IF(nom=$O$33,ROW(INDIRECT(\"1:\"&ROWS(Expr1)))),ROWS('Charge atelier chaudronnerie'!$3:4))),\"\")","v":{"$error":"#REF!"}},{"$nulls":5},{"$f":"IF(ROWS('Charge atelier chaudronnerie'!$3:4)<=COUNTIF(nom,$U$33),INDEX(Expr1,SMALL(IF(nom=$U$33,ROW(INDIRECT(\"1:\"&ROWS(Expr1)))),ROWS('Charge atelier chaudronnerie'!$3:4))),\"\")","v":{"$error":"#REF!"}},{"$nulls":3},{"$f":"IF(ROWS('Charge atelier chaudronnerie'!$3:4)<=COUNTIF(nom,$Y$33),INDEX(Expr1,SMALL(IF(nom=$Y$33,ROW(INDIRECT(\"1:\"&ROWS(Expr1)))),ROWS('Charge atelier chaudronnerie'!$3:4))),\"\")","v":{"$error":"#REF!"}},{"$nulls":3},{"$f":"IF(ROWS('Charge atelier chaudronnerie'!$3:4)<=COUNTIF(nom,$AC$33),INDEX(Expr1,SMALL(IF(nom=$AC$33,ROW(INDIRECT(\"1:\"&ROWS(Expr1)))),ROWS('Charge atelier chaudronnerie'!$3:4))),\"\")","v":{"$error":"#REF!"}},{"$nulls":3},{"$f":"IF(ROWS('Charge atelier chaudronnerie'!$3:4)<=COUNTIF(nom,$AG$33),INDEX(Expr1,SMALL(IF(nom=$AG$33,ROW(INDIRECT(\"1:\"&ROWS(Expr1)))),ROWS('Charge atelier chaudronnerie'!$3:4))),\"\")","v":{"$error":"#REF!"}},{"$nulls":3},{"$f":"IF(ROWS('Charge atelier chaudronnerie'!$3:4)<=COUNTIF(nom,$AK$33),INDEX(Expr1,SMALL(IF(nom=$AK$33,ROW(INDIRECT(\"1:\"&ROWS(Expr1)))),ROWS('Charge atelier chaudronnerie'!$3:4))),\"\")","v":{"$error":"#REF!"}}]
[null,null,{"$f":"IF(ROWS('Charge atelier chaudronnerie'!$3:5)<=COUNTIF(nom,$C$33),INDEX(Expr1,SMALL(IF(nom=$C$33,ROW(INDIRECT(\"1:\"&ROWS(Expr1)))),ROWS('Charge atelier chaudronnerie'!$3:5))),\"\")","v":{"$error":"#REF!"}},{"$nulls":5},{"$f":"IF(ROWS('Charge atelier chaudronnerie'!$3:5)<=COUNTIF(nom,$I$33),INDEX(Expr1,SMALL(IF(nom=$I$33,ROW(INDIRECT(\"1:\"&ROWS(Expr1)))),ROWS('Charge atelier chaudronnerie'!$3:5))),\"\")","v":{"$error":"#REF!"}},{"$nulls":5},{"$f":"IF(ROWS('Charge atelier chaudronnerie'!$3:5)<=COUNTIF(nom,$O$33),INDEX(Expr1,SMALL(IF(nom=$O$33,ROW(INDIRECT(\"1:\"&ROWS(Expr1)))),ROWS('Charge atelier chaudronnerie'!$3:5))),\"\")","v":{"$error":"#REF!"}},{"$nulls":5},{"$f":"IF(ROWS('Charge atelier chaudronnerie'!$3:5)<=COUNTIF(nom,$U$33),INDEX(Expr1,SMALL(IF(nom=$U$33,ROW(INDIRECT(\"1:\"&ROWS(Expr1)))),ROWS('Charge atelier chaudronnerie'!$3:5))),\"\")","v":{"$error":"#REF!"}},{"$nulls":3},{"$f":"IF(ROWS('Charge atelier chaudronnerie'!$3:5)<=COUNTIF(nom,$Y$33),INDEX(Expr1,SMALL(IF(nom=$Y$33,ROW(INDIRECT(\"1:\"&ROWS(Expr1)))),ROWS('Charge atelier chaudronnerie'!$3:5))),\"\")","v":{"$error":"#REF!"}},{"$nulls":3},{"$f":"IF(ROWS('Charge atelier chaudronnerie'!$3:5)<=COUNTIF(nom,$AC$33),INDEX(Expr1,SMALL(IF(nom=$AC$33,ROW(INDIRECT(\"1:\"&ROWS(Expr1)))),ROWS('Charge atelier chaudronnerie'!$3:5))),\"\")","v":{"$error":"#REF!"}},{"$nulls":3},{"$f":"IF(ROWS('Charge atelier chaudronnerie'!$3:5)<=COUNTIF(nom,$AG$33),INDEX(Expr1,SMALL(IF(nom=$AG$33,ROW(INDIRECT(\"1:\"&ROWS(Expr1)))),ROWS('Charge atelier chaudronnerie'!$3:5))),\"\")","v":{"$error":"#REF!"}},{"$nulls":3},{"$f":"IF(ROWS('Charge atelier chaudronnerie'!$3:5)<=COUNTIF(nom,$AK$33),INDEX(Expr1,SMALL(IF(nom=$AK$33,ROW(INDIRECT(\"1:\"&ROWS(Expr1)))),ROWS('Charge atelier chaudronnerie'!$3:5))),\"\")","v":{"$error":"#REF!"}}]
[null,null,{"$f":"IF(ROWS('Charge atelier chaudronnerie'!$3:6)<=COUNTIF(nom,$C$33),INDEX(Expr1,SMALL(IF(nom=$C$33,ROW(INDIRECT(\"1:\"&ROWS(Expr1)))),ROWS('Charge atelier chaudronnerie'!$3:6))),\"\")","v":{"$error":"#REF!"}},{"$nulls":5},{"$f":"IF(ROWS('Charge atelier chaudronnerie'!$3:6)<=COUNTIF(nom,$I$33),INDEX(Expr1,SMALL(IF(nom=$I$33,ROW(INDIRECT(\"1:\"&ROWS(Expr1)))),ROWS('Charge atelier chaudronnerie'!$3:6))),\"\")","v":{"$error":"#REF!"}},{"$nulls":5},{"$f":"IF(ROWS('Charge atelier chaudronnerie'!$3:6)<=COUNTIF(nom,$O$33),INDEX(Expr1,SMALL(IF(nom=$O$33,ROW(INDIRECT(\"1:\"&ROWS(Expr1)))),ROWS('Charge atelier chaudronnerie'!$3:6))),\"\")","v":{"$error":"#REF!"}},{"$nulls":5},{"$f":"IF(ROWS('Charge atelier chaudronnerie'!$3:6)<=COUNTIF(nom,$U$33),INDEX(Expr1,SMALL(IF(nom=$U$33,ROW(INDIRECT(\"1:\"&ROWS(Expr1)))),ROWS('Charge atelier chaudronnerie'!$3:6))),\"\")","v":{"$error":"#REF!"}},{"$nulls":3},{"$f":"IF(ROWS('Charge atelier chaudronnerie'!$3:6)<=COUNTIF(nom,$Y$33),INDEX(Expr1,SMALL(IF(nom=$Y$33,ROW(INDIRECT(\"1:\"&ROWS(Expr1)))),ROWS('Charge atelier chaudronnerie'!$3:6))),\"\")","v":{"$error":"#REF!"}},{"$nulls":3},{"$f":"IF(ROWS('Charge atelier chaudronnerie'!$3:6)<=COUNTIF(nom,$AC$33),INDEX(Expr1,SMALL(IF(nom=$AC$33,ROW(INDIRECT(\"1:\"&ROWS(Expr1)))),ROWS('Charge atelier chaudronnerie'!$3:6))),\"\")","v":{"$error":"#REF!"}},{"$nulls":3},{"$f":"IF(ROWS('Charge atelier chaudronnerie'!$3:6)<=COUNTIF(nom,$AG$33),INDEX(Expr1,SMALL(IF(nom=$AG$33,ROW(INDIRECT(\"1:\"&ROWS(Expr1)))),ROWS('Charge atelier chaudronnerie'!$3:6))),\"\")","v":{"$error":"#REF!"}},{"$nulls":3},{"$f":"IF(ROWS('Charge atelier chaudronnerie'!$3:6)<=COUNTIF(nom,$AK$33),INDEX(Expr1,SMALL(IF(nom=$AK$33,ROW(INDIRECT(\"1:\"&ROWS(Expr1)))),ROWS('Charge atelier chaudronnerie'!$3:6))),\"\")","v":{"$error":"#REF!"}}]
[null,null,{"$f":"IF(ROWS('Charge atelier chaudronnerie'!$3:7)<=COUNTIF(nom,$C$33),INDEX(Expr1,SMALL(IF(nom=$C$33,ROW(INDIRECT(\"1:\"&ROWS(Expr1)))),ROWS('Charge atelier chaudronnerie'!$3:7))),\"\")","v":{"$error":"#REF!"}},{"$nulls":5},{"$f":"IF(ROWS('Charge atelier chaudronnerie'!$3:7)<=COUNTIF(nom,$I$33),INDEX(Expr1,SMALL(IF(nom=$I$33,ROW(INDIRECT(\"1:\"&ROWS(Expr1)))),ROWS('Charge atelier chaudronnerie'!$3:7))),\"\")","v":{"$error":"#REF!"}},{"$nulls":5},{"$f":"IF(ROWS('Charge atelier chaudronnerie'!$3:7)<=COUNTIF(nom,$O$33),INDEX(Expr1,SMALL(IF(nom=$O$33,ROW(INDIRECT(\"1:\"&ROWS(Expr1)))),ROWS('Charge atelier chaudronnerie'!$3:7))),\"\")","v":{"$error":"#REF!"}},{"$nulls":5},{"$f":"IF(ROWS('Charge atelier chaudronnerie'!$3:7)<=COUNTIF(nom,$U$33),INDEX(Expr1,SMALL(IF(nom=$U$33,ROW(INDIRECT(\"1:\"&ROWS(Expr1)))),ROWS('Charge atelier chaudronnerie'!$3:7))),\"\")","v":{"$error":"#REF!"}},{"$nulls":3},{"$f":"IF(ROWS('Charge atelier chaudronnerie'!$3:7)<=COUNTIF(nom,$Y$33),INDEX(Expr1,SMALL(IF(nom=$Y$33,ROW(INDIRECT(\"1:\"&ROWS(Expr1)))),ROWS('Charge atelier chaudronnerie'!$3:7))),\"\")","v":{"$error":"#REF!"}},{"$nulls":3},{"$f":"IF(ROWS('Charge atelier chaudronnerie'!$3:7)<=COUNTIF(nom,$AC$33),INDEX(Expr1,SMALL(IF(nom=$AC$33,ROW(INDIRECT(\"1:\"&ROWS(Expr1)))),ROWS('Charge atelier chaudronnerie'!$3:7))),\"\")","v":{"$error":"#REF!"}},{"$nulls":3},{"$f":"IF(ROWS('Charge atelier chaudronnerie'!$3:7)<=COUNTIF(nom,$AG$33),INDEX(Expr1,SMALL(IF(nom=$AG$33,ROW(INDIRECT(\"1:\"&ROWS(Expr1)))),ROWS('Charge atelier chaudronnerie'!$3:7))),\"\")","v":{"$error":"#REF!"}},{"$nulls":3},{"$f":"IF(ROWS('Charge atelier chaudronnerie'!$3:7)<=COUNTIF(nom,$AK$33),INDEX(Expr1,SMALL(IF(nom=$AK$33,ROW(INDIRECT(\"1:\"&ROWS(Expr1)))),ROWS('Charge atelier chaudronnerie'!$3:7))),\"\")","v":{"$error":"#REF!"}}]
[null,null,{"$f":"IF(ROWS('Charge atelier chaudronnerie'!$3:8)<=COUNTIF(nom,$C$33),INDEX(Expr1,SMALL(IF(nom=$C$33,ROW(INDIRECT(\"1:\"&ROWS(Expr1)))),ROWS('Charge atelier chaudronnerie'!$3:8))),\"\")","v":{"$error":"#REF!"}},{"$nulls":5},{"$f":"IF(ROWS('Charge atelier chaudronnerie'!$3:8)<=COUNTIF(nom,$I$33),INDEX(Expr1,SMALL(IF(nom=$I$33,ROW(INDIRECT(\"1:\"&ROWS(Expr1)))),ROWS('Charge atelier chaudronnerie'!$3:8))),\"\")","v":{"$error":"#REF!"}},{"$nulls":5},{"$f":"IF(ROWS('Charge atelier chaudronnerie'!$3:8)<=COUNTIF(nom,$O$33),INDEX(Expr1,SMALL(IF(nom=$O$33,ROW(INDIRECT(\"1:\"&ROWS(Expr1)))),ROWS('Charge atelier chaudronnerie'!$3:8))),\"\")","v":{"$error":"#REF!"}},{"$nulls":5},{"$f":"IF(ROWS('Charge atelier chaudronnerie'!$3:8)<=COUNTIF(nom,$U$33),INDEX(Expr1,SMALL(IF(nom=$U$33,ROW(INDIRECT(\"1:\"&ROWS(Expr1)))),ROWS('Charge atelier chaudronnerie'!$3:8))),\"\")","v":{"$error":"#REF!"}},{"$nulls":3},{"$f":"IF(ROWS('Charge atelier chaudronnerie'!$3:8)<=COUNTIF(nom,$Y$33),INDEX(Expr1,SMALL(IF(nom=$Y$33,ROW(INDIRECT(\"1:\"&ROWS(Expr1)))),ROWS('Charge atelier chaudronnerie'!$3:8))),\"\")","v":{"$error":"#REF!"}},{"$nulls":3},{"$f":"IF(ROWS('Charge atelier chaudronnerie'!$3:8)<=COUNTIF(nom,$AC$33),INDEX(Expr1,SMALL(IF(nom=$AC$33,ROW(INDIRECT(\"1:\"&ROWS(Expr1)))),ROWS('Charge atelier chaudronnerie'!$3:8))),\"\")","v":{"$error":"#REF!"}},{"$nulls":3},{"$f":"IF(ROWS('Charge atelier chaudronnerie'!$3:8)<=COUNTIF(nom,$AG$33),INDEX(Expr1,SMALL(IF(nom=$AG$33,ROW(INDIRECT(\"1:\"&ROWS(Expr1)))),ROWS('Charge atelier chaudronnerie'!$3:8))),\"\")","v":{"$error":"#REF!"}},{"$nulls":3},{"$f":"IF(ROWS('Charge atelier chaudronnerie'!$3:8)<=COUNTIF(nom,$AK$33),INDEX(Expr1,SMALL(IF(nom=$AK$33,ROW(INDIRECT(\"1:\"&ROWS(Expr1)))),ROWS('Charge atelier chaudronnerie'!$3:8))),\"\")","v":{"$error":"#REF!"}}]
[null,null,{"$f":"IF(ROWS('Charge atelier chaudronnerie'!$3:9)<=COUNTIF(nom,$C$33),INDEX(Expr1,SMALL(IF(nom=$C$33,ROW(INDIRECT(\"1:\"&ROWS(Expr1)))),ROWS('Charge atelier chaudronnerie'!$3:9))),\"\")","v":{"$error":"#REF!"}},{"$nulls":5},{"$f":"IF(ROWS('Charge atelier chaudronnerie'!$3:9)<=COUNTIF(nom,$I$33),INDEX(Expr1,SMALL(IF(nom=$I$33,ROW(INDIRECT(\"1:\"&ROWS(Expr1)))),ROWS('Charge atelier chaudronnerie'!$3:9))),\"\")","v":{"$error":"#REF!"}},{"$nulls":5},{"$f":"IF(ROWS('Charge atelier chaudronnerie'!$3:9)<=COUNTIF(nom,$O$33),INDEX(Expr1,SMALL(IF(nom=$O$33,ROW(INDIRECT(\"1:\"&ROWS(Expr1)))),ROWS('Charge atelier chaudronnerie'!$3:9))),\"\")","v":{"$error":"#REF!"}},{"$nulls":5},{"$f":"IF(ROWS('Charge atelier chaudronnerie'!$3:9)<=COUNTIF(nom,$U$33),INDEX(Expr1,SMALL(IF(nom=$U$33,ROW(INDIRECT(\"1:\"&ROWS(Expr1)))),ROWS('Charge atelier chaudronnerie'!$3:9))),\"\")","v":{"$error":"#REF!"}},{"$nulls":3},{"$f":"IF(ROWS('Charge atelier chaudronnerie'!$3:9)<=COUNTIF(nom,$Y$33),INDEX(Expr1,SMALL(IF(nom=$Y$33,ROW(INDIRECT(\"1:\"&ROWS(Expr1)))),ROWS('Charge atelier chaudronnerie'!$3:9))),\"\")","v":{"$error":"#REF!"}},{"$nulls":3},{"$f":"IF(ROWS('Charge atelier chaudronnerie'!$3:9)<=COUNTIF(nom,$AC$33),INDEX(Expr1,SMALL(IF(nom=$AC$33,ROW(INDIRECT(\"1:\"&ROWS(Expr1)))),ROWS('Charge atelier chaudronnerie'!$3:9))),\"\")","v":{"$error":"#REF!"}},{"$nulls":3},{"$f":"IF(ROWS('Charge atelier chaudronnerie'!$3:9)<=COUNTIF(nom,$AG$33),INDEX(Expr1,SMALL(IF(nom=$AG$33,ROW(INDIRECT(\"1:\"&ROWS(Expr1)))),ROWS('Charge atelier chaudronnerie'!$3:9))),\"\")","v":{"$error":"#REF!"}},{"$nulls":3},{"$f":"IF(ROWS('Charge atelier chaudronnerie'!$3:9)<=COUNTIF(nom,$AK$33),INDEX(Expr1,SMALL(IF(nom=$AK$33,ROW(INDIRECT(\"1:\"&ROWS(Expr1)))),ROWS('Charge atelier chaudronnerie'!$3:9))),\"\")","v":{"$error":"#REF!"}}]
[null,null,{"$f":"IF(ROWS('Charge atelier chaudronnerie'!$3:10)<=COUNTIF(nom,$C$33),INDEX(Expr1,SMALL(IF(nom=$C$33,ROW(INDIRECT(\"1:\"&ROWS(Expr1)))),ROWS('Charge atelier chaudronnerie'!$3:10))),\"\")","v":{"$error":"#REF!"}},{"$nulls":5},{"$f":"IF(ROWS('Charge atelier chaudronnerie'!$3:10)<=COUNTIF(nom,$I$33),INDEX(Expr1,SMALL(IF(nom=$I$33,ROW(INDIRECT(\"1:\"&ROWS(Expr1)))),ROWS('Charge atelier chaudronnerie'!$3:10))),\"\")","v":{"$error":"#REF!"}},{"$nulls":5},{"$f":"IF(ROWS('Charge atelier chaudronnerie'!$3:10)<=COUNTIF(nom,$O$33),INDEX(Expr1,SMALL(IF(nom=$O$33,ROW(INDIRECT(\"1:\"&ROWS(Expr1)))),ROWS('Charge atelier chaudronnerie'!$3:10))),\"\")","v":{"$error":"#REF!"}},{"$nulls":5},{"$f":"IF(ROWS('Charge atelier chaudronnerie'!$3:10)<=COUNTIF(nom,$U$33),INDEX(Expr1,SMALL(IF(nom=$U$33,ROW(INDIRECT(\"1:\"&ROWS(Expr1)))),ROWS('Charge atelier chaudronnerie'!$3:10))),\"\")","v":{"$error":"#REF!"}},{"$nulls":3},{"$f":"IF(ROWS('Charge atelier chaudronnerie'!$3:10)<=COUNTIF(nom,$Y$33),INDEX(Expr1,SMALL(IF(nom=$Y$33,ROW(INDIRECT(\"1:\"&ROWS(Expr1)))),ROWS('Charge atelier chaudronnerie'!$3:10))),\"\")","v":{"$error":"#REF!"}},{"$nulls":3},{"$f":"IF(ROWS('Charge atelier chaudronnerie'!$3:10)<=COUNTIF(nom,$AC$33),INDEX(Expr1,SMALL(IF(nom=$AC$33,ROW(INDIRECT(\"1:\"&ROWS(Expr1)))),ROWS('Charge atelier chaudronnerie'!$3:10))),\"\")","v":{"$error":"#REF!"}},{"$nulls":3},{"$f":"IF(ROWS('Charge atelier chaudronnerie'!$3:10)<=COUNTIF(nom,$AG$33),INDEX(Expr1,SMALL(IF(nom=$AG$33,ROW(INDIRECT(\"1:\"&ROWS(Expr1)))),ROWS('Charge atelier chaudronnerie'!$3:10))),\"\")","v":{"$error":"#REF!"}},{"$nulls":3},{"$f":"IF(ROWS('Charge atelier chaudronnerie'!$3:10)<=COUNTIF(nom,$AK$33),INDEX(Expr1,SMALL(IF(nom=$AK$33,ROW(INDIRECT(\"1:\"&ROWS(Expr1)))),ROWS('Charge atelier chaudronnerie'!$3:10))),\"\")","v":{"$error":"#REF!"}}]
[null,null,{"$f":"IF(ROWS('Charge atelier chaudronnerie'!$3:11)<=COUNTIF(nom,$C$33),INDEX(Expr1,SMALL(IF(nom=$C$33,ROW(INDIRECT(\"1:\"&ROWS(Expr1)))),ROWS('Charge atelier chaudronnerie'!$3:11))),\"\")","v":{"$error":"#REF!"}},{"$nulls":5},{"$f":"IF(ROWS('Charge atelier chaudronnerie'!$3:11)<=COUNTIF(nom,$I$33),INDEX(Expr1,SMALL(IF(nom=$I$33,ROW(INDIRECT(\"1:\"&ROWS(Expr1)))),ROWS('Charge atelier chaudronnerie'!$3:11))),\"\")","v":{"$error":"#REF!"}},{"$nulls":5},{"$f":"IF(ROWS('Charge atelier chaudronnerie'!$3:11)<=COUNTIF(nom,$O$33),INDEX(Expr1,SMALL(IF(nom=$O$33,ROW(INDIRECT(\"1:\"&ROWS(Expr1)))),ROWS('Charge atelier chaudronnerie'!$3:11))),\"\")","v":{"$error":"#REF!"}},{"$nulls":5},{"$f":"IF(ROWS('Charge atelier chaudronnerie'!$3:11)<=COUNTIF(nom,$U$33),INDEX(Expr1,SMALL(IF(nom=$U$33,ROW(INDIRECT(\"1:\"&ROWS(Expr1)))),ROWS('Charge atelier chaudronnerie'!$3:11))),\"\")","v":{"$error":"#REF!"}},{"$nulls":3},{"$f":"IF(ROWS('Charge atelier chaudronnerie'!$3:11)<=COUNTIF(nom,$Y$33),INDEX(Expr1,SMALL(IF(nom=$Y$33,ROW(INDIRECT(\"1:\"&ROWS(Expr1)))),ROWS('Charge atelier chaudronnerie'!$3:11))),\"\")","v":{"$error":"#REF!"}},{"$nulls":3},{"$f":"IF(ROWS('Charge atelier chaudronnerie'!$3:11)<=COUNTIF(nom,$AC$33),INDEX(Expr1,SMALL(IF(nom=$AC$33,ROW(INDIRECT(\"1:\"&ROWS(Expr1)))),ROWS('Charge atelier chaudronnerie'!$3:11))),\"\")","v":{"$error":"#REF!"}},{"$nulls":3},{"$f":"IF(ROWS('Charge atelier chaudronnerie'!$3:11)<=COUNTIF(nom,$AG$33),INDEX(Expr1,SMALL(IF(nom=$AG$33,ROW(INDIRECT(\"1:\"&ROWS(Expr1)))),ROWS('Charge atelier chaudronnerie'!$3:11))),\"\")","v":{"$error":"#REF!"}},{"$nulls":3},{"$f":"IF(ROWS('Charge atelier chaudronnerie'!$3:11)<=COUNTIF(nom,$AK$33),INDEX(Expr1,SMALL(IF(nom=$AK$33,ROW(INDIRECT(\"1:\"&ROWS(Expr1)))),ROWS('Charge atelier chaudronnerie'!$3:11))),\"\")","v":{"$error":"#REF!"}}]
[null,null,{"$f":"IF(ROWS('Charge atelier chaudronnerie'!$3:12)<=COUNTIF(nom,$C$33),INDEX(Expr1,SMALL(IF(nom=$C$33,ROW(INDIRECT(\"1:\"&ROWS(Expr1)))),ROWS('Charge atelier chaudronnerie'!$3:12))),\"\")","v":{"$error":"#REF!"}},{"$nulls":5},{"$f":"IF(ROWS('Charge atelier chaudronnerie'!$3:12)<=COUNTIF(nom,$I$33),INDEX(Expr1,SMALL(IF(nom=$I$33,ROW(INDIRECT(\"1:\"&ROWS(Expr1)))),ROWS('Charge atelier chaudronnerie'!$3:12))),\"\")","v":{"$error":"#REF!"}},{"$nulls":5},{"$f":"IF(ROWS('Charge atelier chaudronnerie'!$3:12)<=COUNTIF(nom,$O$33),INDEX(Expr1,SMALL(IF(nom=$O$33,ROW(INDIRECT(\"1:\"&ROWS(Expr1)))),ROWS('Charge atelier chaudronnerie'!$3:12))),\"\")","v":{"$error":"#REF!"}},{"$nulls":5},{"$f":"IF(ROWS('Charge atelier chaudronnerie'!$3:12)<=COUNTIF(nom,$U$33),INDEX(Expr1,SMALL(IF(nom=$U$33,ROW(INDIRECT(\"1:\"&ROWS(Expr1)))),ROWS('Charge atelier chaudronnerie'!$3:12))),\"\")","v":{"$error":"#REF!"}},{"$nulls":3},{"$f":"IF(ROWS('Charge atelier chaudronnerie'!$3:12)<=COUNTIF(nom,$Y$33),INDEX(Expr1,SMALL(IF(nom=$Y$33,ROW(INDIRECT(\"1:\"&ROWS(Expr1)))),ROWS('Charge atelier chaudronnerie'!$3:12))),\"\")","v":{"$error":"#REF!"}},{"$nulls":3},{"$f":"IF(ROWS('Charge atelier chaudronnerie'!$3:12)<=COUNTIF(nom,$AC$33),INDEX(Expr1,SMALL(IF(nom=$AC$33,ROW(INDIRECT(\"1:\"&ROWS(Expr1)))),ROWS('Charge atelier chaudronnerie'!$3:12))),\"\")","v":{"$error":"#REF!"}},{"$nulls":3},{"$f":"IF(ROWS('Charge atelier chaudronnerie'!$3:12)<=COUNTIF(nom,$AG$33),INDEX(Expr1,SMALL(IF(nom=$AG$33,ROW(INDIRECT(\"1:\"&ROWS(Expr1)))),ROWS('Charge atelier chaudronnerie'!$3:12))),\"\")","v":{"$error":"#REF!"}},{"$nulls":3},{"$f":"IF(ROWS('Charge atelier chaudronnerie'!$3:12)<=COUNTIF(nom,$AK$33),INDEX(Expr1,SMALL(IF(nom=$AK$33,ROW(INDIRECT(\"1:\"&ROWS(Expr1)))),ROWS('Charge atelier chaudronnerie'!$3:12))),\"\")","v":{"$error":"#REF!"}}]
[null,null,{"$f":"IF(ROWS('Charge atelier chaudronnerie'!$3:13)<=COUNTIF(nom,$C$33),INDEX(Expr1,SMALL(IF(nom=$C$33,ROW(INDIRECT(\"1:\"&ROWS(Expr1)))),ROWS('Charge atelier chaudronnerie'!$3:13))),\"\")","v":{"$error":"#REF!"}},{"$nulls":5},{"$f":"IF(ROWS('Charge atelier chaudronnerie'!$3:13)<=COUNTIF(nom,$I$33),INDEX(Expr1,SMALL(IF(nom=$I$33,ROW(INDIRECT(\"1:\"&ROWS(Expr1)))),ROWS('Charge atelier chaudronnerie'!$3:13))),\"\")","v":{"$error":"#REF!"}},{"$nulls":5},{"$f":"IF(ROWS('Charge atelier chaudronnerie'!$3:13)<=COUNTIF(nom,$O$33),INDEX(Expr1,SMALL(IF(nom=$O$33,ROW(INDIRECT(\"1:\"&ROWS(Expr1)))),ROWS('Charge atelier chaudronnerie'!$3:13))),\"\")","v":{"$error":"#REF!"}},{"$nulls":5},{"$f":"IF(ROWS('Charge atelier chaudronnerie'!$3:13)<=COUNTIF(nom,$U$33),INDEX(Expr1,SMALL(IF(nom=$U$33,ROW(INDIRECT(\"1:\"&ROWS(Expr1)))),ROWS('Charge atelier chaudronnerie'!$3:13))),\"\")","v":{"$error":"#REF!"}},{"$nulls":3},{"$f":"IF(ROWS('Charge atelier chaudronnerie'!$3:13)<=COUNTIF(nom,$Y$33),INDEX(Expr1,SMALL(IF(nom=$Y$33,ROW(INDIRECT(\"1:\"&ROWS(Expr1)))),ROWS('Charge atelier chaudronnerie'!$3:13))),\"\")","v":{"$error":"#REF!"}},{"$nulls":3},{"$f":"IF(ROWS('Charge atelier chaudronnerie'!$3:13)<=COUNTIF(nom,$AC$33),INDEX(Expr1,SMALL(IF(nom=$AC$33,ROW(INDIRECT(\"1:\"&ROWS(Expr1)))),ROWS('Charge atelier chaudronnerie'!$3:13))),\"\")","v":{"$error":"#REF!"}},{"$nulls":3},{"$f":"IF(ROWS('Charge atelier chaudronnerie'!$3:13)<=COUNTIF(nom,$AG$33),INDEX(Expr1,SMALL(IF(nom=$AG$33,ROW(INDIRECT(\"1:\"&ROWS(Expr1)))),ROWS('Charge atelier chaudronnerie'!$3:13))),\"\")","v":{"$error":"#REF!"}},{"$nulls":3},{"$f":"IF(ROWS('Charge atelier chaudronnerie'!$3:13)<=COUNTIF(nom,$AK$33),INDEX(Expr1,SMALL(IF(nom=$AK$33,ROW(INDIRECT(\"1:\"&ROWS(Expr1)))),ROWS('Charge atelier chaudronnerie'!$3:13))),\"\")","v":{"$error":"#REF!"}}]
[null,null,{"$f":"IF(ROWS('Charge atelier chaudronnerie'!$3:14)<=COUNTIF(nom,$C$33),INDEX(Expr1,SMALL(IF(nom=$C$33,ROW(INDIRECT(\"1:\"&ROWS(Expr1)))),ROWS('Charge atelier chaudronnerie'!$3:14))),\"\")","v":{"$error":"#REF!"}},{"$nulls":5},{"$f":"IF(ROWS('Charge atelier chaudronnerie'!$3:14)<=COUNTIF(nom,$I$33),INDEX(Expr1,SMALL(IF(nom=$I$33,ROW(INDIRECT(\"1:\"&ROWS(Expr1)))),ROWS('Charge atelier chaudronnerie'!$3:14))),\"\")","v":{"$error":"#REF!"}},{"$nulls":5},{"$f":"IF(ROWS('Charge atelier chaudronnerie'!$3:14)<=COUNTIF(nom,$O$33),INDEX(Expr1,SMALL(IF(nom=$O$33,ROW(INDIRECT(\"1:\"&ROWS(Expr1)))),ROWS('Charge atelier chaudronnerie'!$3:14))),\"\")","v":{"$error":"#REF!"}},{"$nulls":5},{"$f":"IF(ROWS('Charge atelier chaudronnerie'!$3:14)<=COUNTIF(nom,$U$33),INDEX(Expr1,SMALL(IF(nom=$U$33,ROW(INDIRECT(\"1:\"&ROWS(Expr1)))),ROWS('Charge atelier chaudronnerie'!$3:14))),\"\")","v":{"$error":"#REF!"}},{"$nulls":3},{"$f":"IF(ROWS('Charge atelier chaudronnerie'!$3:14)<=COUNTIF(nom,$Y$33),INDEX(Expr1,SMALL(IF(nom=$Y$33,ROW(INDIRECT(\"1:\"&ROWS(Expr1)))),ROWS('Charge atelier chaudronnerie'!$3:14))),\"\")","v":{"$error":"#REF!"}},{"$nulls":3},{"$f":"IF(ROWS('Charge atelier chaudronnerie'!$3:14)<=COUNTIF(nom,$AC$33),INDEX(Expr1,SMALL(IF(nom=$AC$33,ROW(INDIRECT(\"1:\"&ROWS(Expr1)))),ROWS('Charge atelier chaudronnerie'!$3:14))),\"\")","v":{"$error":"#REF!"}},{"$nulls":3},{"$f":"IF(ROWS('Charge atelier chaudronnerie'!$3:14)<=COUNTIF(nom,$AG$33),INDEX(Expr1,SMALL(IF(nom=$AG$33,ROW(INDIRECT(\"1:\"&ROWS(Expr1)))),ROWS('Charge atelier chaudronnerie'!$3:14))),\"\")","v":{"$error":"#REF!"}},{"$nulls":3},{"$f":"IF(ROWS('Charge atelier chaudronnerie'!$3:14)<=COUNTIF(nom,$AK$33),INDEX(Expr1,SMALL(IF(nom=$AK$33,ROW(INDIRECT(\"1:\"&ROWS(Expr1)))),ROWS('Charge atelier chaudronnerie'!$3:14))),\"\")","v":{"$error":"#REF!"}}]
[null,null,{"$f":"IF(ROWS('Charge atelier chaudronnerie'!$3:15)<=COUNTIF(nom,$C$33),INDEX(Expr1,SMALL(IF(nom=$C$33,ROW(INDIRECT(\"1:\"&ROWS(Expr1)))),ROWS('Charge atelier chaudronnerie'!$3:15))),\"\")","v":{"$error":"#REF!"}},{"$nulls":5},{"$f":"IF(ROWS('Charge atelier chaudronnerie'!$3:15)<=COUNTIF(nom,$I$33),INDEX(Expr1,SMALL(IF(nom=$I$33,ROW(INDIRECT(\"1:\"&ROWS(Expr1)))),ROWS('Charge atelier chaudronnerie'!$3:15))),\"\")","v":{"$error":"#REF!"}},{"$nulls":5},{"$f":"IF(ROWS('Charge atelier chaudronnerie'!$3:15)<=COUNTIF(nom,$O$33),INDEX(Expr1,SMALL(IF(nom=$O$33,ROW(INDIRECT(\"1:\"&ROWS(Expr1)))),ROWS('Charge atelier chaudronnerie'!$3:15))),\"\")","v":{"$error":"#REF!"}},{"$nulls":5},{"$f":"IF(ROWS('Charge atelier chaudronnerie'!$3:15)<=COUNTIF(nom,$U$33),INDEX(Expr1,SMALL(IF(nom=$U$33,ROW(INDIRECT(\"1:\"&ROWS(Expr1)))),ROWS('Charge atelier chaudronnerie'!$3:15))),\"\")","v":{"$error":"#REF!"}},{"$nulls":3},{"$f":"IF(ROWS('Charge atelier chaudronnerie'!$3:15)<=COUNTIF(nom,$Y$33),INDEX(Expr1,SMALL(IF(nom=$Y$33,ROW(INDIRECT(\"1:\"&ROWS(Expr1)))),ROWS('Charge atelier chaudronnerie'!$3:15))),\"\")","v":{"$error":"#REF!"}},{"$nulls":3},{"$f":"IF(ROWS('Charge atelier chaudronnerie'!$3:15)<=COUNTIF(nom,$AC$33),INDEX(Expr1,SMALL(IF(nom=$AC$33,ROW(INDIRECT(\"1:\"&ROWS(Expr1)))),ROWS('Charge atelier chaudronnerie'!$3:15))),\"\")","v":{"$error":"#REF!"}},{"$nulls":3},{"$f":"IF(ROWS('Charge atelier chaudronnerie'!$3:15)<=COUNTIF(nom,$AG$33),INDEX(Expr1,SMALL(IF(nom=$AG$33,ROW(INDIRECT(\"1:\"&ROWS(Expr1)))),ROWS('Charge atelier chaudronnerie'!$3:15))),\"\")","v":{"$error":"#REF!"}},{"$nulls":3},{"$f":"IF(ROWS('Charge atelier chaudronnerie'!$3:15)<=COUNTIF(nom,$AK$33),INDEX(Expr1,SMALL(IF(nom=$AK$33,ROW(INDIRECT(\"1:\"&ROWS(Expr1)))),ROWS('Charge atelier chaudronnerie'!$3:15))),\"\")","v":{"$error":"#REF!"}}]
[null,null,{"$f":"IF(ROWS('Charge atelier chaudronnerie'!$3:16)<=COUNTIF(nom,$C$33),INDEX(Expr1,SMALL(IF(nom=$C$33,ROW(INDIRECT(\"1:\"&ROWS(Expr1)))),ROWS('Charge atelier chaudronnerie'!$3:16))),\"\")","v":{"$error":"#REF!"}},{"$nulls":5},{"$f":"IF(ROWS('Charge atelier chaudronnerie'!$3:16)<=COUNTIF(nom,$I$33),INDEX(Expr1,SMALL(IF(nom=$I$33,ROW(INDIRECT(\"1:\"&ROWS(Expr1)))),ROWS('Charge atelier chaudronnerie'!$3:16))),\"\")","v":{"$error":"#REF!"}},{"$nulls":5},{"$f":"IF(ROWS('Charge atelier chaudronnerie'!$3:16)<=COUNTIF(nom,$O$33),INDEX(Expr1,SMALL(IF(nom=$O$33,ROW(INDIRECT(\"1:\"&ROWS(Expr1)))),ROWS('Charge atelier chaudronnerie'!$3:16))),\"\")","v":{"$error":"#REF!"}},{"$nulls":5},{"$f":"IF(ROWS('Charge atelier chaudronnerie'!$3:16)<=COUNTIF(nom,$U$33),INDEX(Expr1,SMALL(IF(nom=$U$33,ROW(INDIRECT(\"1:\"&ROWS(Expr1)))),ROWS('Charge atelier chaudronnerie'!$3:16))),\"\")","v":{"$error":"#REF!"}},{"$nulls":3},{"$f":"IF(ROWS('Charge atelier chaudronnerie'!$3:16)<=COUNTIF(nom,$Y$33),INDEX(Expr1,SMALL(IF(nom=$Y$33,ROW(INDIRECT(\"1:\"&ROWS(Expr1)))),ROWS('Charge atelier chaudronnerie'!$3:16))),\"\")","v":{"$error":"#REF!"}},{"$nulls":3},{"$f":"IF(ROWS('Charge atelier chaudronnerie'!$3:16)<=COUNTIF(nom,$AC$33),INDEX(Expr1,SMALL(IF(nom=$AC$33,ROW(INDIRECT(\"1:\"&ROWS(Expr1)))),ROWS('Charge atelier chaudronnerie'!$3:16))),\"\")","v":{"$error":"#REF!"}},{"$nulls":3},{"$f":"IF(ROWS('Charge atelier chaudronnerie'!$3:16)<=COUNTIF(nom,$AG$33),INDEX(Expr1,SMALL(IF(nom=$AG$33,ROW(INDIRECT(\"1:\"&ROWS(Expr1)))),ROWS('Charge atelier chaudronnerie'!$3:16))),\"\")","v":{"$error":"#REF!"}},{"$nulls":3},{"$f":"IF(ROWS('Charge atelier chaudronnerie'!$3:16)<=COUNTIF(nom,$AK$33),INDEX(Expr1,SMALL(IF(nom=$AK$33,ROW(INDIRECT(\"1:\"&ROWS(Expr1)))),ROWS('Charge atelier chaudronnerie'!$3:16))),\"\")","v":{"$error":"#REF!"}}]
[null,null,{"$f":"IF(ROWS('Charge atelier chaudronnerie'!$3:17)<=COUNTIF(nom,$C$33),INDEX(Expr1,SMALL(IF(nom=$C$33,ROW(INDIRECT(\"1:\"&ROWS(Expr1)))),ROWS('Charge atelier chaudronnerie'!$3:17))),\"\")","v":{"$error":"#REF!"}},{"$nulls":5},{"$f":"IF(ROWS('Charge atelier chaudronnerie'!$3:17)<=COUNTIF(nom,$I$33),INDEX(Expr1,SMALL(IF(nom=$I$33,ROW(INDIRECT(\"1:\"&ROWS(Expr1)))),ROWS('Charge atelier chaudronnerie'!$3:17))),\"\")","v":{"$error":"#REF!"}},{"$nulls":5},{"$f":"IF(ROWS('Charge atelier chaudronnerie'!$3:17)<=COUNTIF(nom,$O$33),INDEX(Expr1,SMALL(IF(nom=$O$33,ROW(INDIRECT(\"1:\"&ROWS(Expr1)))),ROWS('Charge atelier chaudronnerie'!$3:17))),\"\")","v":{"$error":"#REF!"}},{"$nulls":5},{"$f":"IF(ROWS('Charge atelier chaudronnerie'!$3:17)<=COUNTIF(nom,$U$33),INDEX(Expr1,SMALL(IF(nom=$U$33,ROW(INDIRECT(\"1:\"&ROWS(Expr1)))),ROWS('Charge atelier chaudronnerie'!$3:17))),\"\")","v":{"$error":"#REF!"}},{"$nulls":3},{"$f":"IF(ROWS('Charge atelier chaudronnerie'!$3:17)<=COUNTIF(nom,$Y$33),INDEX(Expr1,SMALL(IF(nom=$Y$33,ROW(INDIRECT(\"1:\"&ROWS(Expr1)))),ROWS('Charge atelier chaudronnerie'!$3:17))),\"\")","v":{"$error":"#REF!"}},{"$nulls":3},{"$f":"IF(ROWS('Charge atelier chaudronnerie'!$3:17)<=COUNTIF(nom,$AC$33),INDEX(Expr1,SMALL(IF(nom=$AC$33,ROW(INDIRECT(\"1:\"&ROWS(Expr1)))),ROWS('Charge atelier chaudronnerie'!$3:17))),\"\")","v":{"$error":"#REF!"}},{"$nulls":3},{"$f":"IF(ROWS('Charge atelier chaudronnerie'!$3:17)<=COUNTIF(nom,$AG$33),INDEX(Expr1,SMALL(IF(nom=$AG$33,ROW(INDIRECT(\"1:\"&ROWS(Expr1)))),ROWS('Charge atelier chaudronnerie'!$3:17))),\"\")","v":{"$error":"#REF!"}},{"$nulls":3},{"$f":"IF(ROWS('Charge atelier chaudronnerie'!$3:17)<=COUNTIF(nom,$AK$33),INDEX(Expr1,SMALL(IF(nom=$AK$33,ROW(INDIRECT(\"1:\"&ROWS(Expr1)))),ROWS('Charge atelier chaudronnerie'!$3:17))),\"\")","v":{"$error":"#REF!"}}]
[null,null,{"$f":"IF(ROWS('Charge atelier chaudronnerie'!$3:18)<=COUNTIF(nom,$C$33),INDEX(Expr1,SMALL(IF(nom=$C$33,ROW(INDIRECT(\"1:\"&ROWS(Expr1)))),ROWS('Charge atelier chaudronnerie'!$3:18))),\"\")","v":{"$error":"#REF!"}},{"$nulls":5},{"$f":"IF(ROWS('Charge atelier chaudronnerie'!$3:18)<=COUNTIF(nom,$I$33),INDEX(Expr1,SMALL(IF(nom=$I$33,ROW(INDIRECT(\"1:\"&ROWS(Expr1)))),ROWS('Charge atelier chaudronnerie'!$3:18))),\"\")","v":{"$error":"#REF!"}},{"$nulls":5},{"$f":"IF(ROWS('Charge atelier chaudronnerie'!$3:18)<=COUNTIF(nom,$O$33),INDEX(Expr1,SMALL(IF(nom=$O$33,ROW(INDIRECT(\"1:\"&ROWS(Expr1)))),ROWS('Charge atelier chaudronnerie'!$3:18))),\"\")","v":{"$error":"#REF!"}},{"$nulls":5},{"$f":"IF(ROWS('Charge atelier chaudronnerie'!$3:18)<=COUNTIF(nom,$U$33),INDEX(Expr1,SMALL(IF(nom=$U$33,ROW(INDIRECT(\"1:\"&ROWS(Expr1)))),ROWS('Charge atelier chaudronnerie'!$3:18))),\"\")","v":{"$error":"#REF!"}},{"$nulls":3},{"$f":"IF(ROWS('Charge atelier chaudronnerie'!$3:18)<=COUNTIF(nom,$Y$33),INDEX(Expr1,SMALL(IF(nom=$Y$33,ROW(INDIRECT(\"1:\"&ROWS(Expr1)))),ROWS('Charge atelier chaudronnerie'!$3:18))),\"\")","v":{"$error":"#REF!"}},{"$nulls":3},{"$f":"IF(ROWS('Charge atelier chaudronnerie'!$3:18)<=COUNTIF(nom,$AC$33),INDEX(Expr1,SMALL(IF(nom=$AC$33,ROW(INDIRECT(\"1:\"&ROWS(Expr1)))),ROWS('Charge atelier chaudronnerie'!$3:18))),\"\")","v":{"$error":"#REF!"}},{"$nulls":3},{"$f":"IF(ROWS('Charge atelier chaudronnerie'!$3:18)<=COUNTIF(nom,$AG$33),INDEX(Expr1,SMALL(IF(nom=$AG$33,ROW(INDIRECT(\"1:\"&ROWS(Expr1)))),ROWS('Charge atelier chaudronnerie'!$3:18))),\"\")","v":{"$error":"#REF!"}},{"$nulls":3},{"$f":"IF(ROWS('Charge atelier chaudronnerie'!$3:18)<=COUNTIF(nom,$AK$33),INDEX(Expr1,SMALL(IF(nom=$AK$33,ROW(INDIRECT(\"1:\"&ROWS(Expr1)))),ROWS('Charge atelier chaudronnerie'!$3:18))),\"\")","v":{"$error":"#REF!"}}]
[null,null,{"$f":"IF(ROWS('Charge atelier chaudronnerie'!$3:19)<=COUNTIF(nom,$C$33),INDEX(Expr1,SMALL(IF(nom=$C$33,ROW(INDIRECT(\"1:\"&ROWS(Expr1)))),ROWS('Charge atelier chaudronnerie'!$3:19))),\"\")","v":{"$error":"#REF!"}},{"$nulls":5},{"$f":"IF(ROWS('Charge atelier chaudronnerie'!$3:19)<=COUNTIF(nom,$I$33),INDEX(Expr1,SMALL(IF(nom=$I$33,ROW(INDIRECT(\"1:\"&ROWS(Expr1)))),ROWS('Charge atelier chaudronnerie'!$3:19))),\"\")","v":{"$error":"#REF!"}},{"$nulls":5},{"$f":"IF(ROWS('Charge atelier chaudronnerie'!$3:19)<=COUNTIF(nom,$O$33),INDEX(Expr1,SMALL(IF(nom=$O$33,ROW(INDIRECT(\"1:\"&ROWS(Expr1)))),ROWS('Charge atelier chaudronnerie'!$3:19))),\"\")","v":{"$error":"#REF!"}},{"$nulls":5},{"$f":"IF(ROWS('Charge atelier chaudronnerie'!$3:19)<=COUNTIF(nom,$U$33),INDEX(Expr1,SMALL(IF(nom=$U$33,ROW(INDIRECT(\"1:\"&ROWS(Expr1)))),ROWS('Charge atelier chaudronnerie'!$3:19))),\"\")","v":{"$error":"#REF!"}},{"$nulls":3},{"$f":"IF(ROWS('Charge atelier chaudronnerie'!$3:19)<=COUNTIF(nom,$Y$33),INDEX(Expr1,SMALL(IF(nom=$Y$33,ROW(INDIRECT(\"1:\"&ROWS(Expr1)))),ROWS('Charge atelier chaudronnerie'!$3:19))),\"\")","v":{"$error":"#REF!"}},{"$nulls":3},{"$f":"IF(ROWS('Charge atelier chaudronnerie'!$3:19)<=COUNTIF(nom,$AC$33),INDEX(Expr1,SMALL(IF(nom=$AC$33,ROW(INDIRECT(\"1:\"&ROWS(Expr1)))),ROWS('Charge atelier chaudronnerie'!$3:19))),\"\")","v":{"$error":"#REF!"}},{"$nulls":3},{"$f":"IF(ROWS('Charge atelier chaudronnerie'!$3:19)<=COUNTIF(nom,$AG$33),INDEX(Expr1,SMALL(IF(nom=$AG$33,ROW(INDIRECT(\"1:\"&ROWS(Expr1)))),ROWS('Charge atelier chaudronnerie'!$3:19))),\"\")","v":{"$error":"#REF!"}},{"$nulls":3},{"$f":"IF(ROWS('Charge atelier chaudronnerie'!$3:19)<=COUNTIF(nom,$AK$33),INDEX(Expr1,SMALL(IF(nom=$AK$33,ROW(INDIRECT(\"1:\"&ROWS(Expr1)))),ROWS('Charge atelier chaudronnerie'!$3:19))),\"\")","v":{"$error":"#REF!"}}]
[null,null,{"$f":"IF(ROWS('Charge atelier chaudronnerie'!$3:20)<=COUNTIF(nom,$C$33),INDEX(Expr1,SMALL(IF(nom=$C$33,ROW(INDIRECT(\"1:\"&ROWS(Expr1)))),ROWS('Charge atelier chaudronnerie'!$3:20))),\"\")","v":{"$error":"#REF!"}},{"$nulls":5},{"$f":"IF(ROWS('Charge atelier chaudronnerie'!$3:20)<=COUNTIF(nom,$I$33),INDEX(Expr1,SMALL(IF(nom=$I$33,ROW(INDIRECT(\"1:\"&ROWS(Expr1)))),ROWS('Charge atelier chaudronnerie'!$3:20))),\"\")","v":{"$error":"#REF!"}},{"$nulls":5},{"$f":"IF(ROWS('Charge atelier chaudronnerie'!$3:20)<=COUNTIF(nom,$O$33),INDEX(Expr1,SMALL(IF(nom=$O$33,ROW(INDIRECT(\"1:\"&ROWS(Expr1)))),ROWS('Charge atelier chaudronnerie'!$3:20))),\"\")","v":{"$error":"#REF!"}},{"$nulls":5},{"$f":"IF(ROWS('Charge atelier chaudronnerie'!$3:20)<=COUNTIF(nom,$U$33),INDEX(Expr1,SMALL(IF(nom=$U$33,ROW(INDIRECT(\"1:\"&ROWS(Expr1)))),ROWS('Charge atelier chaudronnerie'!$3:20))),\"\")","v":{"$error":"#REF!"}},{"$nulls":3},{"$f":"IF(ROWS('Charge atelier chaudronnerie'!$3:20)<=COUNTIF(nom,$Y$33),INDEX(Expr1,SMALL(IF(nom=$Y$33,ROW(INDIRECT(\"1:\"&ROWS(Expr1)))),ROWS('Charge atelier chaudronnerie'!$3:20))),\"\")","v":{"$error":"#REF!"}},{"$nulls":3},{"$f":"IF(ROWS('Charge atelier chaudronnerie'!$3:20)<=COUNTIF(nom,$AC$33),INDEX(Expr1,SMALL(IF(nom=$AC$33,ROW(INDIRECT(\"1:\"&ROWS(Expr1)))),ROWS('Charge atelier chaudronnerie'!$3:20))),\"\")","v":{"$error":"#REF!"}},{"$nulls":3},{"$f":"IF(ROWS('Charge atelier chaudronnerie'!$3:20)<=COUNTIF(nom,$AG$33),INDEX(Expr1,SMALL(IF(nom=$AG$33,ROW(INDIRECT(\"1:\"&ROWS(Expr1)))),ROWS('Charge atelier chaudronnerie'!$3:20))),\"\")","v":{"$error":"#REF!"}},{"$nulls":3},{"$f":"IF(ROWS('Charge atelier chaudronnerie'!$3:20)<=COUNTIF(nom,$AK$33),INDEX(Expr1,SMALL(IF(nom=$AK$33,ROW(INDIRECT(\"1:\"&ROWS(Expr1)))),ROWS('Charge atelier chaudronnerie'!$3:20))),\"\")","v":{"$error":"#REF!"}}]
[null,null,{"$f":"IF(ROWS('Charge atelier chaudronnerie'!$3:21)<=COUNTIF(nom,$C$33),INDEX(Expr1,SMALL(IF(nom=$C$33,ROW(INDIRECT(\"1:\"&ROWS(Expr1)))),ROWS('Charge atelier chaudronnerie'!$3:21))),\"\")","v":{"$error":"#REF!"}},{"$nulls":5},{"$f":"IF(ROWS('Charge atelier chaudronnerie'!$3:21)<=COUNTIF(nom,$I$33),INDEX(Expr1,SMALL(IF(nom=$I$33,ROW(INDIRECT(\"1:\"&ROWS(Expr1)))),ROWS('Charge atelier chaudronnerie'!$3:21))),\"\")","v":{"$error":"#REF!"}},{"$nulls":5},{"$f":"IF(ROWS('Charge atelier chaudronnerie'!$3:21)<=COUNTIF(nom,$O$33),INDEX(Expr1,SMALL(IF(nom=$O$33,ROW(INDIRECT(\"1:\"&ROWS(Expr1)))),ROWS('Charge atelier chaudronnerie'!$3:21))),\"\")","v":{"$error":"#REF!"}},{"$nulls":5},{"$f":"IF(ROWS('Charge atelier chaudronnerie'!$3:21)<=COUNTIF(nom,$U$33),INDEX(Expr1,SMALL(IF(nom=$U$33,ROW(INDIRECT(\"1:\"&ROWS(Expr1)))),ROWS('Charge atelier chaudronnerie'!$3:21))),\"\")","v":{"$error":"#REF!"}},{"$nulls":3},{"$f":"IF(ROWS('Charge atelier chaudronnerie'!$3:21)<=COUNTIF(nom,$Y$33),INDEX(Expr1,SMALL(IF(nom=$Y$33,ROW(INDIRECT(\"1:\"&ROWS(Expr1)))),ROWS('Charge atelier chaudronnerie'!$3:21))),\"\")","v":{"$error":"#REF!"}},{"$nulls":3},{"$f":"IF(ROWS('Charge atelier chaudronnerie'!$3:21)<=COUNTIF(nom,$AC$33),INDEX(Expr1,SMALL(IF(nom=$AC$33,ROW(INDIRECT(\"1:\"&ROWS(Expr1)))),ROWS('Charge atelier chaudronnerie'!$3:21))),\"\")","v":{"$error":"#REF!"}},{"$nulls":3},{"$f":"IF(ROWS('Charge atelier chaudronnerie'!$3:21)<=COUNTIF(nom,$AG$33),INDEX(Expr1,SMALL(IF(nom=$AG$33,ROW(INDIRECT(\"1:\"&ROWS(Expr1)))),ROWS('Charge atelier chaudronnerie'!$3:21))),\"\")","v":{"$error":"#REF!"}},{"$nulls":3},{"$f":"IF(ROWS('Charge atelier chaudronnerie'!$3:21)<=COUNTIF(nom,$AK$33),INDEX(Expr1,SMALL(IF(nom=$AK$33,ROW(INDIRECT(\"1:\"&ROWS(Expr1)))),ROWS('Charge atelier chaudronnerie'!$3:21))),\"\")","v":{"$error":"#REF!"}}]
[null,null,{"$f":"IF(ROWS('Charge atelier chaudronnerie'!$3:22)<=COUNTIF(nom,$C$33),INDEX(Expr1,SMALL(IF(nom=$C$33,ROW(INDIRECT(\"1:\"&ROWS(Expr1)))),ROWS('Charge atelier chaudronnerie'!$3:22))),\"\")","v":{"$error":"#REF!"}},{"$nulls":5},{"$f":"IF(ROWS('Charge atelier chaudronnerie'!$3:22)<=COUNTIF(nom,$I$33),INDEX(Expr1,SMALL(IF(nom=$I$33,ROW(INDIRECT(\"1:\"&ROWS(Expr1)))),ROWS('Charge atelier chaudronnerie'!$3:22))),\"\")","v":{"$error":"#REF!"}},{"$nulls":5},{"$f":"IF(ROWS('Charge atelier chaudronnerie'!$3:22)<=COUNTIF(nom,$O$33),INDEX(Expr1,SMALL(IF(nom=$O$33,ROW(INDIRECT(\"1:\"&ROWS(Expr1)))),ROWS('Charge atelier chaudronnerie'!$3:22))),\"\")","v":{"$error":"#REF!"}},{"$nulls":5},{"$f":"IF(ROWS('Charge atelier chaudronnerie'!$3:22)<=COUNTIF(nom,$U$33),INDEX(Expr1,SMALL(IF(nom=$U$33,ROW(INDIRECT(\"1:\"&ROWS(Expr1)))),ROWS('Charge atelier chaudronnerie'!$3:22))),\"\")","v":{"$error":"#REF!"}},{"$nulls":3},{"$f":"IF(ROWS('Charge atelier chaudronnerie'!$3:22)<=COUNTIF(nom,$Y$33),INDEX(Expr1,SMALL(IF(nom=$Y$33,ROW(INDIRECT(\"1:\"&ROWS(Expr1)))),ROWS('Charge atelier chaudronnerie'!$3:22))),\"\")","v":{"$error":"#REF!"}},{"$nulls":3},{"$f":"IF(ROWS('Charge atelier chaudronnerie'!$3:22)<=COUNTIF(nom,$AC$33),INDEX(Expr1,SMALL(IF(nom=$AC$33,ROW(INDIRECT(\"1:\"&ROWS(Expr1)))),ROWS('Charge atelier chaudronnerie'!$3:22))),\"\")","v":{"$error":"#REF!"}},{"$nulls":3},{"$f":"IF(ROWS('Charge atelier chaudronnerie'!$3:22)<=COUNTIF(nom,$AG$33),INDEX(Expr1,SMALL(IF(nom=$AG$33,ROW(INDIRECT(\"1:\"&ROWS(Expr1)))),ROWS('Charge atelier chaudronnerie'!$3:22))),\"\")","v":{"$error":"#REF!"}},{"$nulls":3},{"$f":"IF(ROWS('Charge atelier chaudronnerie'!$3:22)<=COUNTIF(nom,$AK$33),INDEX(Expr1,SMALL(IF(nom=$AK$33,ROW(INDIRECT(\"1:\"&ROWS(Expr1)))),ROWS('Charge atelier chaudronnerie'!$3:22))),\"\")","v":{"$error":"#REF!"}}]
[null,null,{"$f":"IF(ROWS('Charge atelier chaudronnerie'!$3:23)<=COUNTIF(nom,$C$33),INDEX(Expr1,SMALL(IF(nom=$C$33,ROW(INDIRECT(\"1:\"&ROWS(Expr1)))),ROWS('Charge atelier chaudronnerie'!$3:23))),\"\")","v":{"$error":"#REF!"}},{"$nulls":5},{"$f":"IF(ROWS('Charge atelier chaudronnerie'!$3:23)<=COUNTIF(nom,$I$33),INDEX(Expr1,SMALL(IF(nom=$I$33,ROW(INDIRECT(\"1:\"&ROWS(Expr1)))),ROWS('Charge atelier chaudronnerie'!$3:23))),\"\")","v":{"$error":"#REF!"}},{"$nulls":5},{"$f":"IF(ROWS('Charge atelier chaudronnerie'!$3:23)<=COUNTIF(nom,$O$33),INDEX(Expr1,SMALL(IF(nom=$O$33,ROW(INDIRECT(\"1:\"&ROWS(Expr1)))),ROWS('Charge atelier chaudronnerie'!$3:23))),\"\")","v":{"$error":"#REF!"}},{"$nulls":5},{"$f":"IF(ROWS('Charge atelier chaudronnerie'!$3:23)<=COUNTIF(nom,$U$33),INDEX(Expr1,SMALL(IF(nom=$U$33,ROW(INDIRECT(\"1:\"&ROWS(Expr1)))),ROWS('Charge atelier chaudronnerie'!$3:23))),\"\")","v":{"$error":"#REF!"}},{"$nulls":3},{"$f":"IF(ROWS('Charge atelier chaudronnerie'!$3:23)<=COUNTIF(nom,$Y$33),INDEX(Expr1,SMALL(IF(nom=$Y$33,ROW(INDIRECT(\"1:\"&ROWS(Expr1)))),ROWS('Charge atelier chaudronnerie'!$3:23))),\"\")","v":{"$error":"#REF!"}},{"$nulls":3},{"$f":"IF(ROWS('Charge atelier chaudronnerie'!$3:23)<=COUNTIF(nom,$AC$33),INDEX(Expr1,SMALL(IF(nom=$AC$33,ROW(INDIRECT(\"1:\"&ROWS(Expr1)))),ROWS('Charge atelier chaudronnerie'!$3:23))),\"\")","v":{"$error":"#REF!"}},{"$nulls":3},{"$f":"IF(ROWS('Charge atelier chaudronnerie'!$3:23)<=COUNTIF(nom,$AG$33),INDEX(Expr1,SMALL(IF(nom=$AG$33,ROW(INDIRECT(\"1:\"&ROWS(Expr1)))),ROWS('Charge atelier chaudronnerie'!$3:23))),\"\")","v":{"$error":"#REF!"}},{"$nulls":3},{"$f":"IF(ROWS('Charge atelier chaudronnerie'!$3:23)<=COUNTIF(nom,$AK$33),INDEX(Expr1,SMALL(IF(nom=$AK$33,ROW(INDIRECT(\"1:\"&ROWS(Expr1)))),ROWS('Charge atelier chaudronnerie'!$3:23))),\"\")","v":{"$error":"#REF!"}}]
[null,null,{"$f":"IF(ROWS('Charge atelier chaudronnerie'!$3:24)<=COUNTIF(nom,$C$33),INDEX(Expr1,SMALL(IF(nom=$C$33,ROW(INDIRECT(\"1:\"&ROWS(Expr1)))),ROWS('Charge atelier chaudronnerie'!$3:24))),\"\")","v":{"$error":"#REF!"}},{"$nulls":5},{"$f":"IF(ROWS('Charge atelier chaudronnerie'!$3:24)<=COUNTIF(nom,$I$33),INDEX(Expr1,SMALL(IF(nom=$I$33,ROW(INDIRECT(\"1:\"&ROWS(Expr1)))),ROWS('Charge atelier chaudronnerie'!$3:24))),\"\")","v":{"$error":"#REF!"}},{"$nulls":5},{"$f":"IF(ROWS('Charge atelier chaudronnerie'!$3:24)<=COUNTIF(nom,$O$33),INDEX(Expr1,SMALL(IF(nom=$O$33,ROW(INDIRECT(\"1:\"&ROWS(Expr1)))),ROWS('Charge atelier chaudronnerie'!$3:24))),\"\")","v":{"$error":"#REF!"}},{"$nulls":5},{"$f":"IF(ROWS('Charge atelier chaudronnerie'!$3:24)<=COUNTIF(nom,$U$33),INDEX(Expr1,SMALL(IF(nom=$U$33,ROW(INDIRECT(\"1:\"&ROWS(Expr1)))),ROWS('Charge atelier chaudronnerie'!$3:24))),\"\")","v":{"$error":"#REF!"}},{"$nulls":3},{"$f":"IF(ROWS('Charge atelier chaudronnerie'!$3:24)<=COUNTIF(nom,$Y$33),INDEX(Expr1,SMALL(IF(nom=$Y$33,ROW(INDIRECT(\"1:\"&ROWS(Expr1)))),ROWS('Charge atelier chaudronnerie'!$3:24))),\"\")","v":{"$error":"#REF!"}},{"$nulls":3},{"$f":"IF(ROWS('Charge atelier chaudronnerie'!$3:24)<=COUNTIF(nom,$AC$33),INDEX(Expr1,SMALL(IF(nom=$AC$33,ROW(INDIRECT(\"1:\"&ROWS(Expr1)))),ROWS('Charge atelier chaudronnerie'!$3:24))),\"\")","v":{"$error":"#REF!"}},{"$nulls":3},{"$f":"IF(ROWS('Charge atelier chaudronnerie'!$3:24)<=COUNTIF(nom,$AG$33),INDEX(Expr1,SMALL(IF(nom=$AG$33,ROW(INDIRECT(\"1:\"&ROWS(Expr1)))),ROWS('Charge atelier chaudronnerie'!$3:24))),\"\")","v":{"$error":"#REF!"}},{"$nulls":3},{"$f":"IF(ROWS('Charge atelier chaudronnerie'!$3:24)<=COUNTIF(nom,$AK$33),INDEX(Expr1,SMALL(IF(nom=$AK$33,ROW(INDIRECT(\"1:\"&ROWS(Expr1)))),ROWS('Charge atelier chaudronnerie'!$3:24))),\"\")","v":{"$error":"#REF!"}}]
[null,null,{"$f":"IF(ROWS('Charge atelier chaudronnerie'!$3:25)<=COUNTIF(nom,$C$33),INDEX(Expr1,SMALL(IF(nom=$C$33,ROW(INDIRECT(\"1:\"&ROWS(Expr1)))),ROWS('Charge atelier chaudronnerie'!$3:25))),\"\")","v":{"$error":"#REF!"}},{"$nulls":5},{"$f":"IF(ROWS('Charge atelier chaudronnerie'!$3:25)<=COUNTIF(nom,$I$33),INDEX(Expr1,SMALL(IF(nom=$I$33,ROW(INDIRECT(\"1:\"&ROWS(Expr1)))),ROWS('Charge atelier chaudronnerie'!$3:25))),\"\")","v":{"$error":"#REF!"}},{"$nulls":5},{"$f":"IF(ROWS('Charge atelier chaudronnerie'!$3:25)<=COUNTIF(nom,$O$33),INDEX(Expr1,SMALL(IF(nom=$O$33,ROW(INDIRECT(\"1:\"&ROWS(Expr1)))),ROWS('Charge atelier chaudronnerie'!$3:25))),\"\")","v":{"$error":"#REF!"}},{"$nulls":5},{"$f":"IF(ROWS('Charge atelier chaudronnerie'!$3:25)<=COUNTIF(nom,$U$33),INDEX(Expr1,SMALL(IF(nom=$U$33,ROW(INDIRECT(\"1:\"&ROWS(Expr1)))),ROWS('Charge atelier chaudronnerie'!$3:25))),\"\")","v":{"$error":"#REF!"}},{"$nulls":3},{"$f":"IF(ROWS('Charge atelier chaudronnerie'!$3:25)<=COUNTIF(nom,$Y$33),INDEX(Expr1,SMALL(IF(nom=$Y$33,ROW(INDIRECT(\"1:\"&ROWS(Expr1)))),ROWS('Charge atelier chaudronnerie'!$3:25))),\"\")","v":{"$error":"#REF!"}},{"$nulls":3},{"$f":"IF(ROWS('Charge atelier chaudronnerie'!$3:25)<=COUNTIF(nom,$AC$33),INDEX(Expr1,SMALL(IF(nom=$AC$33,ROW(INDIRECT(\"1:\"&ROWS(Expr1)))),ROWS('Charge atelier chaudronnerie'!$3:25))),\"\")","v":{"$error":"#REF!"}},{"$nulls":3},{"$f":"IF(ROWS('Charge atelier chaudronnerie'!$3:25)<=COUNTIF(nom,$AG$33),INDEX(Expr1,SMALL(IF(nom=$AG$33,ROW(INDIRECT(\"1:\"&ROWS(Expr1)))),ROWS('Charge atelier chaudronnerie'!$3:25))),\"\")","v":{"$error":"#REF!"}},{"$nulls":3},{"$f":"IF(ROWS('Charge atelier chaudronnerie'!$3:25)<=COUNTIF(nom,$AK$33),INDEX(Expr1,SMALL(IF(nom=$AK$33,ROW(INDIRECT(\"1:\"&ROWS(Expr1)))),ROWS('Charge atelier chaudronnerie'!$3:25))),\"\")","v":{"$error":"#REF!"}}]
[null,null,{"$f":"IF(ROWS('Charge atelier chaudronnerie'!$3:26)<=COUNTIF(nom,$C$33),INDEX(Expr1,SMALL(IF(nom=$C$33,ROW(INDIRECT(\"1:\"&ROWS(Expr1)))),ROWS('Charge atelier chaudronnerie'!$3:26))),\"\")","v":{"$error":"#REF!"}},{"$nulls":5},{"$f":"IF(ROWS('Charge atelier chaudronnerie'!$3:26)<=COUNTIF(nom,$I$33),INDEX(Expr1,SMALL(IF(nom=$I$33,ROW(INDIRECT(\"1:\"&ROWS(Expr1)))),ROWS('Charge atelier chaudronnerie'!$3:26))),\"\")","v":{"$error":"#REF!"}},{"$nulls":5},{"$f":"IF(ROWS('Charge atelier chaudronnerie'!$3:26)<=COUNTIF(nom,$O$33),INDEX(Expr1,SMALL(IF(nom=$O$33,ROW(INDIRECT(\"1:\"&ROWS(Expr1)))),ROWS('Charge atelier chaudronnerie'!$3:26))),\"\")","v":{"$error":"#REF!"}},{"$nulls":5},{"$f":"IF(ROWS('Charge atelier chaudronnerie'!$3:26)<=COUNTIF(nom,$U$33),INDEX(Expr1,SMALL(IF(nom=$U$33,ROW(INDIRECT(\"1:\"&ROWS(Expr1)))),ROWS('Charge atelier chaudronnerie'!$3:26))),\"\")","v":{"$error":"#REF!"}},{"$nulls":3},{"$f":"IF(ROWS('Charge atelier chaudronnerie'!$3:26)<=COUNTIF(nom,$Y$33),INDEX(Expr1,SMALL(IF(nom=$Y$33,ROW(INDIRECT(\"1:\"&ROWS(Expr1)))),ROWS('Charge atelier chaudronnerie'!$3:26))),\"\")","v":{"$error":"#REF!"}},{"$nulls":3},{"$f":"IF(ROWS('Charge atelier chaudronnerie'!$3:26)<=COUNTIF(nom,$AC$33),INDEX(Expr1,SMALL(IF(nom=$AC$33,ROW(INDIRECT(\"1:\"&ROWS(Expr1)))),ROWS('Charge atelier chaudronnerie'!$3:26))),\"\")","v":{"$error":"#REF!"}},{"$nulls":3},{"$f":"IF(ROWS('Charge atelier chaudronnerie'!$3:26)<=COUNTIF(nom,$AG$33),INDEX(Expr1,SMALL(IF(nom=$AG$33,ROW(INDIRECT(\"1:\"&ROWS(Expr1)))),ROWS('Charge atelier chaudronnerie'!$3:26))),\"\")","v":{"$error":"#REF!"}},{"$nulls":3},{"$f":"IF(ROWS('Charge atelier chaudronnerie'!$3:26)<=COUNTIF(nom,$AK$33),INDEX(Expr1,SMALL(IF(nom=$AK$33,ROW(INDIRECT(\"1:\"&ROWS(Expr1)))),ROWS('Charge atelier chaudronnerie'!$3:26))),\"\")","v":{"$error":"#REF!"}}]
[null,null,{"$f":"IF(ROWS('Charge atelier chaudronnerie'!$3:27)<=COUNTIF(nom,$C$33),INDEX(Expr1,SMALL(IF(nom=$C$33,ROW(INDIRECT(\"1:\"&ROWS(Expr1)))),ROWS('Charge atelier chaudronnerie'!$3:27))),\"\")","v":{"$error":"#REF!"}},{"$nulls":5},{"$f":"IF(ROWS('Charge atelier chaudronnerie'!$3:27)<=COUNTIF(nom,$I$33),INDEX(Expr1,SMALL(IF(nom=$I$33,ROW(INDIRECT(\"1:\"&ROWS(Expr1)))),ROWS('Charge atelier chaudronnerie'!$3:27))),\"\")","v":{"$error":"#REF!"}},{"$nulls":5},{"$f":"IF(ROWS('Charge atelier chaudronnerie'!$3:27)<=COUNTIF(nom,$O$33),INDEX(Expr1,SMALL(IF(nom=$O$33,ROW(INDIRECT(\"1:\"&ROWS(Expr1)))),ROWS('Charge atelier chaudronnerie'!$3:27))),\"\")","v":{"$error":"#REF!"}},{"$nulls":5},{"$f":"IF(ROWS('Charge atelier chaudronnerie'!$3:27)<=COUNTIF(nom,$U$33),INDEX(Expr1,SMALL(IF(nom=$U$33,ROW(INDIRECT(\"1:\"&ROWS(Expr1)))),ROWS('Charge atelier chaudronnerie'!$3:27))),\"\")","v":{"$error":"#REF!"}},{"$nulls":3},{"$f":"IF(ROWS('Charge atelier chaudronnerie'!$3:27)<=COUNTIF(nom,$Y$33),INDEX(Expr1,SMALL(IF(nom=$Y$33,ROW(INDIRECT(\"1:\"&ROWS(Expr1)))),ROWS('Charge atelier chaudronnerie'!$3:27))),\"\")","v":{"$error":"#REF!"}},{"$nulls":3},{"$f":"IF(ROWS('Charge atelier chaudronnerie'!$3:27)<=COUNTIF(nom,$AC$33),INDEX(Expr1,SMALL(IF(nom=$AC$33,ROW(INDIRECT(\"1:\"&ROWS(Expr1)))),ROWS('Charge atelier chaudronnerie'!$3:27))),\"\")","v":{"$error":"#REF!"}},{"$nulls":3},{"$f":"IF(ROWS('Charge atelier chaudronnerie'!$3:27)<=COUNTIF(nom,$AG$33),INDEX(Expr1,SMALL(IF(nom=$AG$33,ROW(INDIRECT(\"1:\"&ROWS(Expr1)))),ROWS('Charge atelier chaudronnerie'!$3:27))),\"\")","v":{"$error":"#REF!"}},{"$nulls":3},{"$f":"IF(ROWS('Charge atelier chaudronnerie'!$3:27)<=COUNTIF(nom,$AK$33),INDEX(Expr1,SMALL(IF(nom=$AK$33,ROW(INDIRECT(\"1:\"&ROWS(Expr1)))),ROWS('Charge atelier chaudronnerie'!$3:27))),\"\")","v":{"$error":"#REF!"}}]
[null,null,{"$f":"IF(ROWS('Charge atelier chaudronnerie'!$3:28)<=COUNTIF(nom,$C$33),INDEX(Expr1,SMALL(IF(nom=$C$33,ROW(INDIRECT(\"1:\"&ROWS(Expr1)))),ROWS('Charge atelier chaudronnerie'!$3:28))),\"\")","v":{"$error":"#REF!"}},{"$nulls":5},{"$f":"IF(ROWS('Charge atelier chaudronnerie'!$3:28)<=COUNTIF(nom,$I$33),INDEX(Expr1,SMALL(IF(nom=$I$33,ROW(INDIRECT(\"1:\"&ROWS(Expr1)))),ROWS('Charge atelier chaudronnerie'!$3:28))),\"\")","v":{"$error":"#REF!"}},{"$nulls":5},{"$f":"IF(ROWS('Charge atelier chaudronnerie'!$3:28)<=COUNTIF(nom,$O$33),INDEX(Expr1,SMALL(IF(nom=$O$33,ROW(INDIRECT(\"1:\"&ROWS(Expr1)))),ROWS('Charge atelier chaudronnerie'!$3:28))),\"\")","v":{"$error":"#REF!"}},{"$nulls":5},{"$f":"IF(ROWS('Charge atelier chaudronnerie'!$3:28)<=COUNTIF(nom,$U$33),INDEX(Expr1,SMALL(IF(nom=$U$33,ROW(INDIRECT(\"1:\"&ROWS(Expr1)))),ROWS('Charge atelier chaudronnerie'!$3:28))),\"\")","v":{"$error":"#REF!"}},{"$nulls":3},{"$f":"IF(ROWS('Charge atelier chaudronnerie'!$3:28)<=COUNTIF(nom,$Y$33),INDEX(Expr1,SMALL(IF(nom=$Y$33,ROW(INDIRECT(\"1:\"&ROWS(Expr1)))),ROWS('Charge atelier chaudronnerie'!$3:28))),\"\")","v":{"$error":"#REF!"}},{"$nulls":3},{"$f":"IF(ROWS('Charge atelier chaudronnerie'!$3:28)<=COUNTIF(nom,$AC$33),INDEX(Expr1,SMALL(IF(nom=$AC$33,ROW(INDIRECT(\"1:\"&ROWS(Expr1)))),ROWS('Charge atelier chaudronnerie'!$3:28))),\"\")","v":{"$error":"#REF!"}},{"$nulls":3},{"$f":"IF(ROWS('Charge atelier chaudronnerie'!$3:28)<=COUNTIF(nom,$AG$33),INDEX(Expr1,SMALL(IF(nom=$AG$33,ROW(INDIRECT(\"1:\"&ROWS(Expr1)))),ROWS('Charge atelier chaudronnerie'!$3:28))),\"\")","v":{"$error":"#REF!"}},{"$nulls":3},{"$f":"IF(ROWS('Charge atelier chaudronnerie'!$3:28)<=COUNTIF(nom,$AK$33),INDEX(Expr1,SMALL(IF(nom=$AK$33,ROW(INDIRECT(\"1:\"&ROWS(Expr1)))),ROWS('Charge atelier chaudronnerie'!$3:28))),\"\")","v":{"$error":"#REF!"}}]
[null,null,{"$f":"IF(ROWS('Charge atelier chaudronnerie'!$3:29)<=COUNTIF(nom,$C$33),INDEX(Expr1,SMALL(IF(nom=$C$33,ROW(INDIRECT(\"1:\"&ROWS(Expr1)))),ROWS('Charge atelier chaudronnerie'!$3:29))),\"\")","v":{"$error":"#REF!"}},{"$nulls":5},{"$f":"IF(ROWS('Charge atelier chaudronnerie'!$3:29)<=COUNTIF(nom,$I$33),INDEX(Expr1,SMALL(IF(nom=$I$33,ROW(INDIRECT(\"1:\"&ROWS(Expr1)))),ROWS('Charge atelier chaudronnerie'!$3:29))),\"\")","v":{"$error":"#REF!"}},{"$nulls":5},{"$f":"IF(ROWS('Charge atelier chaudronnerie'!$3:29)<=COUNTIF(nom,$O$33),INDEX(Expr1,SMALL(IF(nom=$O$33,ROW(INDIRECT(\"1:\"&ROWS(Expr1)))),ROWS('Charge atelier chaudronnerie'!$3:29))),\"\")","v":{"$error":"#REF!"}},{"$nulls":5},{"$f":"IF(ROWS('Charge atelier chaudronnerie'!$3:29)<=COUNTIF(nom,$U$33),INDEX(Expr1,SMALL(IF(nom=$U$33,ROW(INDIRECT(\"1:\"&ROWS(Expr1)))),ROWS('Charge atelier chaudronnerie'!$3:29))),\"\")","v":{"$error":"#REF!"}},{"$nulls":3},{"$f":"IF(ROWS('Charge atelier chaudronnerie'!$3:29)<=COUNTIF(nom,$Y$33),INDEX(Expr1,SMALL(IF(nom=$Y$33,ROW(INDIRECT(\"1:\"&ROWS(Expr1)))),ROWS('Charge atelier chaudronnerie'!$3:29))),\"\")","v":{"$error":"#REF!"}},{"$nulls":3},{"$f":"IF(ROWS('Charge atelier chaudronnerie'!$3:29)<=COUNTIF(nom,$AC$33),INDEX(Expr1,SMALL(IF(nom=$AC$33,ROW(INDIRECT(\"1:\"&ROWS(Expr1)))),ROWS('Charge atelier chaudronnerie'!$3:29))),\"\")","v":{"$error":"#REF!"}},{"$nulls":3},{"$f":"IF(ROWS('Charge atelier chaudronnerie'!$3:29)<=COUNTIF(nom,$AG$33),INDEX(Expr1,SMALL(IF(nom=$AG$33,ROW(INDIRECT(\"1:\"&ROWS(Expr1)))),ROWS('Charge atelier chaudronnerie'!$3:29))),\"\")","v":{"$error":"#REF!"}},{"$nulls":3},{"$f":"IF(ROWS('Charge atelier chaudronnerie'!$3:29)<=COUNTIF(nom,$AK$33),INDEX(Expr1,SMALL(IF(nom=$AK$33,ROW(INDIRECT(\"1:\"&ROWS(Expr1)))),ROWS('Charge atelier chaudronnerie'!$3:29))),\"\")","v":{"$error":"#REF!"}}]
[null,null,{"$f":"IF(ROWS('Charge atelier chaudronnerie'!$3:30)<=COUNTIF(nom,$C$33),INDEX(Expr1,SMALL(IF(nom=$C$33,ROW(INDIRECT(\"1:\"&ROWS(Expr1)))),ROWS('Charge atelier chaudronnerie'!$3:30))),\"\")","v":{"$error":"#REF!"}},{"$nulls":5},{"$f":"IF(ROWS('Charge atelier chaudronnerie'!$3:30)<=COUNTIF(nom,$I$33),INDEX(Expr1,SMALL(IF(nom=$I$33,ROW(INDIRECT(\"1:\"&ROWS(Expr1)))),ROWS('Charge atelier chaudronnerie'!$3:30))),\"\")","v":{"$error":"#REF!"}},{"$nulls":5},{"$f":"IF(ROWS('Charge atelier chaudronnerie'!$3:30)<=COUNTIF(nom,$O$33),INDEX(Expr1,SMALL(IF(nom=$O$33,ROW(INDIRECT(\"1:\"&ROWS(Expr1)))),ROWS('Charge atelier chaudronnerie'!$3:30))),\"\")","v":{"$error":"#REF!"}},{"$nulls":5},{"$f":"IF(ROWS('Charge atelier chaudronnerie'!$3:30)<=COUNTIF(nom,$U$33),INDEX(Expr1,SMALL(IF(nom=$U$33,ROW(INDIRECT(\"1:\"&ROWS(Expr1)))),ROWS('Charge atelier chaudronnerie'!$3:30))),\"\")","v":{"$error":"#REF!"}},{"$nulls":3},{"$f":"IF(ROWS('Charge atelier chaudronnerie'!$3:30)<=COUNTIF(nom,$Y$33),INDEX(Expr1,SMALL(IF(nom=$Y$33,ROW(INDIRECT(\"1:\"&ROWS(Expr1)))),ROWS('Charge atelier chaudronnerie'!$3:30))),\"\")","v":{"$error":"#REF!"}},{"$nulls":3},{"$f":"IF(ROWS('Charge atelier chaudronnerie'!$3:30)<=COUNTIF(nom,$AC$33),INDEX(Expr1,SMALL(IF(nom=$AC$33,ROW(INDIRECT(\"1:\"&ROWS(Expr1)))),ROWS('Charge atelier chaudronnerie'!$3:30))),\"\")","v":{"$error":"#REF!"}},{"$nulls":3},{"$f":"IF(ROWS('Charge atelier chaudronnerie'!$3:30)<=COUNTIF(nom,$AG$33),INDEX(Expr1,SMALL(IF(nom=$AG$33,ROW(INDIRECT(\"1:\"&ROWS(Expr1)))),ROWS('Charge atelier chaudronnerie'!$3:30))),\"\")","v":{"$error":"#REF!"}},{"$nulls":3},{"$f":"IF(ROWS('Charge atelier chaudronnerie'!$3:30)<=COUNTIF(nom,$AK$33),INDEX(Expr1,SMALL(IF(nom=$AK$33,ROW(INDIRECT(\"1:\"&ROWS(Expr1)))),ROWS('Charge atelier chaudronnerie'!$3:30))),\"\")","v":{"$error":"#REF!"}}]
[null,null,{"$f":"IF(ROWS('Charge atelier chaudronnerie'!$3:31)<=COUNTIF(nom,$C$33),INDEX(Expr1,SMALL(IF(nom=$C$33,ROW(INDIRECT(\"1:\"&ROWS(Expr1)))),ROWS('Charge atelier chaudronnerie'!$3:31))),\"\")","v":{"$error":"#REF!"}},{"$nulls":5},{"$f":"IF(ROWS('Charge atelier chaudronnerie'!$3:31)<=COUNTIF(nom,$I$33),INDEX(Expr1,SMALL(IF(nom=$I$33,ROW(INDIRECT(\"1:\"&ROWS(Expr1)))),ROWS('Charge atelier chaudronnerie'!$3:31))),\"\")","v":{"$error":"#REF!"}},{"$nulls":5},{"$f":"IF(ROWS('Charge atelier chaudronnerie'!$3:31)<=COUNTIF(nom,$O$33),INDEX(Expr1,SMALL(IF(nom=$O$33,ROW(INDIRECT(\"1:\"&ROWS(Expr1)))),ROWS('Charge atelier chaudronnerie'!$3:31))),\"\")","v":{"$error":"#REF!"}},{"$nulls":5},{"$f":"IF(ROWS('Charge atelier chaudronnerie'!$3:31)<=COUNTIF(nom,$U$33),INDEX(Expr1,SMALL(IF(nom=$U$33,ROW(INDIRECT(\"1:\"&ROWS(Expr1)))),ROWS('Charge atelier chaudronnerie'!$3:31))),\"\")","v":{"$error":"#REF!"}},{"$nulls":3},{"$f":"IF(ROWS('Charge atelier chaudronnerie'!$3:31)<=COUNTIF(nom,$Y$33),INDEX(Expr1,SMALL(IF(nom=$Y$33,ROW(INDIRECT(\"1:\"&ROWS(Expr1)))),ROWS('Charge atelier chaudronnerie'!$3:31))),\"\")","v":{"$error":"#REF!"}},{"$nulls":3},{"$f":"IF(ROWS('Charge atelier chaudronnerie'!$3:31)<=COUNTIF(nom,$AC$33),INDEX(Expr1,SMALL(IF(nom=$AC$33,ROW(INDIRECT(\"1:\"&ROWS(Expr1)))),ROWS('Charge atelier chaudronnerie'!$3:31))),\"\")","v":{"$error":"#REF!"}},{"$nulls":3},{"$f":"IF(ROWS('Charge atelier chaudronnerie'!$3:31)<=COUNTIF(nom,$AG$33),INDEX(Expr1,SMALL(IF(nom=$AG$33,ROW(INDIRECT(\"1:\"&ROWS(Expr1)))),ROWS('Charge atelier chaudronnerie'!$3:31))),\"\")","v":{"$error":"#REF!"}},{"$nulls":3},{"$f":"IF(ROWS('Charge atelier chaudronnerie'!$3:31)<=COUNTIF(nom,$AK$33),INDEX(Expr1,SMALL(IF(nom=$AK$33,ROW(INDIRECT(\"1:\"&ROWS(Expr1)))),ROWS('Charge atelier chaudronnerie'!$3:31))),\"\")","v":{"$error":"#REF!"}}]
[null,null,{"$f":"IF(ROWS('Charge atelier chaudronnerie'!$3:32)<=COUNTIF(nom,$C$33),INDEX(Expr1,SMALL(IF(nom=$C$33,ROW(INDIRECT(\"1:\"&ROWS(Expr1)))),ROWS('Charge atelier chaudronnerie'!$3:32))),\"\")","v":{"$error":"#REF!"}},{"$nulls":5},{"$f":"IF(ROWS('Charge atelier chaudronnerie'!$3:32)<=COUNTIF(nom,$I$33),INDEX(Expr1,SMALL(IF(nom=$I$33,ROW(INDIRECT(\"1:\"&ROWS(Expr1)))),ROWS('Charge atelier chaudronnerie'!$3:32))),\"\")","v":{"$error":"#REF!"}},{"$nulls":5},{"$f":"IF(ROWS('Charge atelier chaudronnerie'!$3:32)<=COUNTIF(nom,$O$33),INDEX(Expr1,SMALL(IF(nom=$O$33,ROW(INDIRECT(\"1:\"&ROWS(Expr1)))),ROWS('Charge atelier chaudronnerie'!$3:32))),\"\")","v":{"$error":"#REF!"}},{"$nulls":5},{"$f":"IF(ROWS('Charge atelier chaudronnerie'!$3:32)<=COUNTIF(nom,$U$33),INDEX(Expr1,SMALL(IF(nom=$U$33,ROW(INDIRECT(\"1:\"&ROWS(Expr1)))),ROWS('Charge atelier chaudronnerie'!$3:32))),\"\")","v":{"$error":"#REF!"}},{"$nulls":3},{"$f":"IF(ROWS('Charge atelier chaudronnerie'!$3:32)<=COUNTIF(nom,$Y$33),INDEX(Expr1,SMALL(IF(nom=$Y$33,ROW(INDIRECT(\"1:\"&ROWS(Expr1)))),ROWS('Charge atelier chaudronnerie'!$3:32))),\"\")","v":{"$error":"#REF!"}},{"$nulls":3},{"$f":"IF(ROWS('Charge atelier chaudronnerie'!$3:32)<=COUNTIF(nom,$AC$33),INDEX(Expr1,SMALL(IF(nom=$AC$33,ROW(INDIRECT(\"1:\"&ROWS(Expr1)))),ROWS('Charge atelier chaudronnerie'!$3:32))),\"\")","v":{"$error":"#REF!"}},{"$nulls":3},{"$f":"IF(ROWS('Charge atelier chaudronnerie'!$3:32)<=COUNTIF(nom,$AG$33),INDEX(Expr1,SMALL(IF(nom=$AG$33,ROW(INDIRECT(\"1:\"&ROWS(Expr1)))),ROWS('Charge atelier chaudronnerie'!$3:32))),\"\")","v":{"$error":"#REF!"}},{"$nulls":3},{"$f":"IF(ROWS('Charge atelier chaudronnerie'!$3:32)<=COUNTIF(nom,$AK$33),INDEX(Expr1,SMALL(IF(nom=$AK$33,ROW(INDIRECT(\"1:\"&ROWS(Expr1)))),ROWS('Charge atelier chaudronnerie'!$3:32))),\"\")","v":{"$error":"#REF!"}}]
[null,null,{"$f":"IF(ROWS('Charge atelier chaudronnerie'!$3:33)<=COUNTIF(nom,$C$33),INDEX(Expr1,SMALL(IF(nom=$C$33,ROW(INDIRECT(\"1:\"&ROWS(Expr1)))),ROWS('Charge atelier chaudronnerie'!$3:33))),\"\")","v":{"$error":"#REF!"}},{"$nulls":5},{"$f":"IF(ROWS('Charge atelier chaudronnerie'!$3:33)<=COUNTIF(nom,$I$33),INDEX(Expr1,SMALL(IF(nom=$I$33,ROW(INDIRECT(\"1:\"&ROWS(Expr1)))),ROWS('Charge atelier chaudronnerie'!$3:33))),\"\")","v":{"$error":"#REF!"}},{"$nulls":5},{"$f":"IF(ROWS('Charge atelier chaudronnerie'!$3:33)<=COUNTIF(nom,$O$33),INDEX(Expr1,SMALL(IF(nom=$O$33,ROW(INDIRECT(\"1:\"&ROWS(Expr1)))),ROWS('Charge atelier chaudronnerie'!$3:33))),\"\")","v":{"$error":"#REF!"}},{"$nulls":5},{"$f":"IF(ROWS('Charge atelier chaudronnerie'!$3:33)<=COUNTIF(nom,$U$33),INDEX(Expr1,SMALL(IF(nom=$U$33,ROW(INDIRECT(\"1:\"&ROWS(Expr1)))),ROWS('Charge atelier chaudronnerie'!$3:33))),\"\")","v":{"$error":"#REF!"}},{"$nulls":3},{"$f":"IF(ROWS('Charge atelier chaudronnerie'!$3:33)<=COUNTIF(nom,$Y$33),INDEX(Expr1,SMALL(IF(nom=$Y$33,ROW(INDIRECT(\"1:\"&ROWS(Expr1)))),ROWS('Charge atelier chaudronnerie'!$3:33))),\"\")","v":{"$error":"#REF!"}},{"$nulls":3},{"$f":"IF(ROWS('Charge atelier chaudronnerie'!$3:33)<=COUNTIF(nom,$AC$33),INDEX(Expr1,SMALL(IF(nom=$AC$33,ROW(INDIRECT(\"1:\"&ROWS(Expr1)))),ROWS('Charge atelier chaudronnerie'!$3:33))),\"\")","v":{"$error":"#REF!"}},{"$nulls":3},{"$f":"IF(ROWS('Charge atelier chaudronnerie'!$3:33)<=COUNTIF(nom,$AG$33),INDEX(Expr1,SMALL(IF(nom=$AG$33,ROW(INDIRECT(\"1:\"&ROWS(Expr1)))),ROWS('Charge atelier chaudronnerie'!$3:33))),\"\")","v":{"$error":"#REF!"}},{"$nulls":3},{"$f":"IF(ROWS('Charge atelier chaudronnerie'!$3:33)<=COUNTIF(nom,$AK$33),INDEX(Expr1,SMALL(IF(nom=$AK$33,ROW(INDIRECT(\"1:\"&ROWS(Expr1)))),ROWS('Charge atelier chaudronnerie'!$3:33))),\"\")","v":{"$error":"#REF!"}}]
[null,null,{"$f":"IF(ROWS('Charge atelier chaudronnerie'!$3:34)<=COUNTIF(nom,$C$33),INDEX(Expr1,SMALL(IF(nom=$C$33,ROW(INDIRECT(\"1:\"&ROWS(Expr1)))),ROWS('Charge atelier chaudronnerie'!$3:34))),\"\")","v":{"$error":"#REF!"}},{"$nulls":5},{"$f":"IF(ROWS('Charge atelier chaudronnerie'!$3:34)<=COUNTIF(nom,$I$33),INDEX(Expr1,SMALL(IF(nom=$I$33,ROW(INDIRECT(\"1:\"&ROWS(Expr1)))),ROWS('Charge atelier chaudronnerie'!$3:34))),\"\")","v":{"$error":"#REF!"}},{"$nulls":5},{"$f":"IF(ROWS('Charge atelier chaudronnerie'!$3:34)<=COUNTIF(nom,$O$33),INDEX(Expr1,SMALL(IF(nom=$O$33,ROW(INDIRECT(\"1:\"&ROWS(Expr1)))),ROWS('Charge atelier chaudronnerie'!$3:34))),\"\")","v":{"$error":"#REF!"}},{"$nulls":5},{"$f":"IF(ROWS('Charge atelier chaudronnerie'!$3:34)<=COUNTIF(nom,$U$33),INDEX(Expr1,SMALL(IF(nom=$U$33,ROW(INDIRECT(\"1:\"&ROWS(Expr1)))),ROWS('Charge atelier chaudronnerie'!$3:34))),\"\")","v":{"$error":"#REF!"}},{"$nulls":3},{"$f":"IF(ROWS('Charge atelier chaudronnerie'!$3:34)<=COUNTIF(nom,$Y$33),INDEX(Expr1,SMALL(IF(nom=$Y$33,ROW(INDIRECT(\"1:\"&ROWS(Expr1)))),ROWS('Charge atelier chaudronnerie'!$3:34))),\"\")","v":{"$error":"#REF!"}},{"$nulls":3},{"$f":"IF(ROWS('Charge atelier chaudronnerie'!$3:34)<=COUNTIF(nom,$AC$33),INDEX(Expr1,SMALL(IF(nom=$AC$33,ROW(INDIRECT(\"1:\"&ROWS(Expr1)))),ROWS('Charge atelier chaudronnerie'!$3:34))),\"\")","v":{"$error":"#REF!"}},{"$nulls":3},{"$f":"IF(ROWS('Charge atelier chaudronnerie'!$3:34)<=COUNTIF(nom,$AG$33),INDEX(Expr1,SMALL(IF(nom=$AG$33,ROW(INDIRECT(\"1:\"&ROWS(Expr1)))),ROWS('Charge atelier chaudronnerie'!$3:34))),\"\")","v":{"$error":"#REF!"}},{"$nulls":3},{"$f":"IF(ROWS('Charge atelier chaudronnerie'!$3:34)<=COUNTIF(nom,$AK$33),INDEX(Expr1,SMALL(IF(nom=$AK$33,ROW(INDIRECT(\"1:\"&ROWS(Expr1)))),ROWS('Charge atelier chaudronnerie'!$3:34))),\"\")","v":{"$error":"#REF!"}}]
[null,null,{"$f":"IF(ROWS('Charge atelier chaudronnerie'!$3:35)<=COUNTIF(nom,$C$33),INDEX(Expr1,SMALL(IF(nom=$C$33,ROW(INDIRECT(\"1:\"&ROWS(Expr1)))),ROWS('Charge atelier chaudronnerie'!$3:35))),\"\")","v":{"$error":"#REF!"}},{"$nulls":5},{"$f":"IF(ROWS('Charge atelier chaudronnerie'!$3:35)<=COUNTIF(nom,$I$33),INDEX(Expr1,SMALL(IF(nom=$I$33,ROW(INDIRECT(\"1:\"&ROWS(Expr1)))),ROWS('Charge atelier chaudronnerie'!$3:35))),\"\")","v":{"$error":"#REF!"}},{"$nulls":5},{"$f":"IF(ROWS('Charge atelier chaudronnerie'!$3:35)<=COUNTIF(nom,$O$33),INDEX(Expr1,SMALL(IF(nom=$O$33,ROW(INDIRECT(\"1:\"&ROWS(Expr1)))),ROWS('Charge atelier chaudronnerie'!$3:35))),\"\")","v":{"$error":"#REF!"}},{"$nulls":5},{"$f":"IF(ROWS('Charge atelier chaudronnerie'!$3:35)<=COUNTIF(nom,$U$33),INDEX(Expr1,SMALL(IF(nom=$U$33,ROW(INDIRECT(\"1:\"&ROWS(Expr1)))),ROWS('Charge atelier chaudronnerie'!$3:35))),\"\")","v":{"$error":"#REF!"}},{"$nulls":3},{"$f":"IF(ROWS('Charge atelier chaudronnerie'!$3:35)<=COUNTIF(nom,$Y$33),INDEX(Expr1,SMALL(IF(nom=$Y$33,ROW(INDIRECT(\"1:\"&ROWS(Expr1)))),ROWS('Charge atelier chaudronnerie'!$3:35))),\"\")","v":{"$error":"#REF!"}},{"$nulls":3},{"$f":"IF(ROWS('Charge atelier chaudronnerie'!$3:35)<=COUNTIF(nom,$AC$33),INDEX(Expr1,SMALL(IF(nom=$AC$33,ROW(INDIRECT(\"1:\"&ROWS(Expr1)))),ROWS('Charge atelier chaudronnerie'!$3:35))),\"\")","v":{"$error":"#REF!"}},{"$nulls":3},{"$f":"IF(ROWS('Charge atelier chaudronnerie'!$3:35)<=COUNTIF(nom,$AG$33),INDEX(Expr1,SMALL(IF(nom=$AG$33,ROW(INDIRECT(\"1:\"&ROWS(Expr1)))),ROWS('Charge atelier chaudronnerie'!$3:35))),\"\")","v":{"$error":"#REF!"}},{"$nulls":3},{"$f":"IF(ROWS('Charge atelier chaudronnerie'!$3:35)<=COUNTIF(nom,$AK$33),INDEX(Expr1,SMALL(IF(nom=$AK$33,ROW(INDIRECT(\"1:\"&ROWS(Expr1)))),ROWS('Charge atelier chaudronnerie'!$3:35))),\"\")","v":{"$error":"#REF!"}}]
[null,null,{"$f":"IF(ROWS('Charge atelier chaudronnerie'!$3:36)<=COUNTIF(nom,$C$33),INDEX(Expr1,SMALL(IF(nom=$C$33,ROW(INDIRECT(\"1:\"&ROWS(Expr1)))),ROWS('Charge atelier chaudronnerie'!$3:36))),\"\")","v":{"$error":"#REF!"}},{"$nulls":5},{"$f":"IF(ROWS('Charge atelier chaudronnerie'!$3:36)<=COUNTIF(nom,$I$33),INDEX(Expr1,SMALL(IF(nom=$I$33,ROW(INDIRECT(\"1:\"&ROWS(Expr1)))),ROWS('Charge atelier chaudronnerie'!$3:36))),\"\")","v":{"$error":"#REF!"}},{"$nulls":5},{"$f":"IF(ROWS('Charge atelier chaudronnerie'!$3:36)<=COUNTIF(nom,$O$33),INDEX(Expr1,SMALL(IF(nom=$O$33,ROW(INDIRECT(\"1:\"&ROWS(Expr1)))),ROWS('Charge atelier chaudronnerie'!$3:36))),\"\")","v":{"$error":"#REF!"}},{"$nulls":5},{"$f":"IF(ROWS('Charge atelier chaudronnerie'!$3:36)<=COUNTIF(nom,$U$33),INDEX(Expr1,SMALL(IF(nom=$U$33,ROW(INDIRECT(\"1:\"&ROWS(Expr1)))),ROWS('Charge atelier chaudronnerie'!$3:36))),\"\")","v":{"$error":"#REF!"}},{"$nulls":3},{"$f":"IF(ROWS('Charge atelier chaudronnerie'!$3:36)<=COUNTIF(nom,$Y$33),INDEX(Expr1,SMALL(IF(nom=$Y$33,ROW(INDIRECT(\"1:\"&ROWS(Expr1)))),ROWS('Charge atelier chaudronnerie'!$3:36))),\"\")","v":{"$error":"#REF!"}},{"$nulls":3},{"$f":"IF(ROWS('Charge atelier chaudronnerie'!$3:36)<=COUNTIF(nom,$AC$33),INDEX(Expr1,SMALL(IF(nom=$AC$33,ROW(INDIRECT(\"1:\"&ROWS(Expr1)))),ROWS('Charge atelier chaudronnerie'!$3:36))),\"\")","v":{"$error":"#REF!"}},{"$nulls":3},{"$f":"IF(ROWS('Charge atelier chaudronnerie'!$3:36)<=COUNTIF(nom,$AG$33),INDEX(Expr1,SMALL(IF(nom=$AG$33,ROW(INDIRECT(\"1:\"&ROWS(Expr1)))),ROWS('Charge atelier chaudronnerie'!$3:36))),\"\")","v":{"$error":"#REF!"}},{"$nulls":3},{"$f":"IF(ROWS('Charge atelier chaudronnerie'!$3:36)<=COUNTIF(nom,$AK$33),INDEX(Expr1,SMALL(IF(nom=$AK$33,ROW(INDIRECT(\"1:\"&ROWS(Expr1)))),ROWS('Charge atelier chaudronnerie'!$3:36))),\"\")","v":{"$error":"#REF!"}}]
[null,null,{"$f":"IF(ROWS('Charge atelier chaudronnerie'!$3:37)<=COUNTIF(nom,$C$33),INDEX(Expr1,SMALL(IF(nom=$C$33,ROW(INDIRECT(\"1:\"&ROWS(Expr1)))),ROWS('Charge atelier chaudronnerie'!$3:37))),\"\")","v":{"$error":"#REF!"}},{"$nulls":5},{"$f":"IF(ROWS('Charge atelier chaudronnerie'!$3:37)<=COUNTIF(nom,$I$33),INDEX(Expr1,SMALL(IF(nom=$I$33,ROW(INDIRECT(\"1:\"&ROWS(Expr1)))),ROWS('Charge atelier chaudronnerie'!$3:37))),\"\")","v":{"$error":"#REF!"}},{"$nulls":5},{"$f":"IF(ROWS('Charge atelier chaudronnerie'!$3:37)<=COUNTIF(nom,$O$33),INDEX(Expr1,SMALL(IF(nom=$O$33,ROW(INDIRECT(\"1:\"&ROWS(Expr1)))),ROWS('Charge atelier chaudronnerie'!$3:37))),\"\")","v":{"$error":"#REF!"}},{"$nulls":5},{"$f":"IF(ROWS('Charge atelier chaudronnerie'!$3:37)<=COUNTIF(nom,$U$33),INDEX(Expr1,SMALL(IF(nom=$U$33,ROW(INDIRECT(\"1:\"&ROWS(Expr1)))),ROWS('Charge atelier chaudronnerie'!$3:37))),\"\")","v":{"$error":"#REF!"}},{"$nulls":3},{"$f":"IF(ROWS('Charge atelier chaudronnerie'!$3:37)<=COUNTIF(nom,$Y$33),INDEX(Expr1,SMALL(IF(nom=$Y$33,ROW(INDIRECT(\"1:\"&ROWS(Expr1)))),ROWS('Charge atelier chaudronnerie'!$3:37))),\"\")","v":{"$error":"#REF!"}},{"$nulls":3},{"$f":"IF(ROWS('Charge atelier chaudronnerie'!$3:37)<=COUNTIF(nom,$AC$33),INDEX(Expr1,SMALL(IF(nom=$AC$33,ROW(INDIRECT(\"1:\"&ROWS(Expr1)))),ROWS('Charge atelier chaudronnerie'!$3:37))),\"\")","v":{"$error":"#REF!"}},{"$nulls":3},{"$f":"IF(ROWS('Charge atelier chaudronnerie'!$3:37)<=COUNTIF(nom,$AG$33),INDEX(Expr1,SMALL(IF(nom=$AG$33,ROW(INDIRECT(\"1:\"&ROWS(Expr1)))),ROWS('Charge atelier chaudronnerie'!$3:37))),\"\")","v":{"$error":"#REF!"}},{"$nulls":3},{"$f":"IF(ROWS('Charge atelier chaudronnerie'!$3:37)<=COUNTIF(nom,$AK$33),INDEX(Expr1,SMALL(IF(nom=$AK$33,ROW(INDIRECT(\"1:\"&ROWS(Expr1)))),ROWS('Charge atelier chaudronnerie'!$3:37))),\"\")","v":{"$error":"#REF!"}}]
[null,null,{"$f":"IF(ROWS('Charge atelier chaudronnerie'!$3:38)<=COUNTIF(nom,$C$33),INDEX(Expr1,SMALL(IF(nom=$C$33,ROW(INDIRECT(\"1:\"&ROWS(Expr1)))),ROWS('Charge atelier chaudronnerie'!$3:38))),\"\")","v":{"$error":"#REF!"}},{"$nulls":5},{"$f":"IF(ROWS('Charge atelier chaudronnerie'!$3:38)<=COUNTIF(nom,$I$33),INDEX(Expr1,SMALL(IF(nom=$I$33,ROW(INDIRECT(\"1:\"&ROWS(Expr1)))),ROWS('Charge atelier chaudronnerie'!$3:38))),\"\")","v":{"$error":"#REF!"}},{"$nulls":5},{"$f":"IF(ROWS('Charge atelier chaudronnerie'!$3:38)<=COUNTIF(nom,$O$33),INDEX(Expr1,SMALL(IF(nom=$O$33,ROW(INDIRECT(\"1:\"&ROWS(Expr1)))),ROWS('Charge atelier chaudronnerie'!$3:38))),\"\")","v":{"$error":"#REF!"}},{"$nulls":5},{"$f":"IF(ROWS('Charge atelier chaudronnerie'!$3:38)<=COUNTIF(nom,$U$33),INDEX(Expr1,SMALL(IF(nom=$U$33,ROW(INDIRECT(\"1:\"&ROWS(Expr1)))),ROWS('Charge atelier chaudronnerie'!$3:38))),\"\")","v":{"$error":"#REF!"}},{"$nulls":3},{"$f":"IF(ROWS('Charge atelier chaudronnerie'!$3:38)<=COUNTIF(nom,$Y$33),INDEX(Expr1,SMALL(IF(nom=$Y$33,ROW(INDIRECT(\"1:\"&ROWS(Expr1)))),ROWS('Charge atelier chaudronnerie'!$3:38))),\"\")","v":{"$error":"#REF!"}},{"$nulls":3},{"$f":"IF(ROWS('Charge atelier chaudronnerie'!$3:38)<=COUNTIF(nom,$AC$33),INDEX(Expr1,SMALL(IF(nom=$AC$33,ROW(INDIRECT(\"1:\"&ROWS(Expr1)))),ROWS('Charge atelier chaudronnerie'!$3:38))),\"\")","v":{"$error":"#REF!"}},{"$nulls":3},{"$f":"IF(ROWS('Charge atelier chaudronnerie'!$3:38)<=COUNTIF(nom,$AG$33),INDEX(Expr1,SMALL(IF(nom=$AG$33,ROW(INDIRECT(\"1:\"&ROWS(Expr1)))),ROWS('Charge atelier chaudronnerie'!$3:38))),\"\")","v":{"$error":"#REF!"}},{"$nulls":3},{"$f":"IF(ROWS('Charge atelier chaudronnerie'!$3:38)<=COUNTIF(nom,$AK$33),INDEX(Expr1,SMALL(IF(nom=$AK$33,ROW(INDIRECT(\"1:\"&ROWS(Expr1)))),ROWS('Charge atelier chaudronnerie'!$3:38))),\"\")","v":{"$error":"#REF!"}}]
[null,null,{"$f":"IF(ROWS('Charge atelier chaudronnerie'!$3:39)<=COUNTIF(nom,$C$33),INDEX(Expr1,SMALL(IF(nom=$C$33,ROW(INDIRECT(\"1:\"&ROWS(Expr1)))),ROWS('Charge atelier chaudronnerie'!$3:39))),\"\")","v":{"$error":"#REF!"}},{"$nulls":5},{"$f":"IF(ROWS('Charge atelier chaudronnerie'!$3:39)<=COUNTIF(nom,$I$33),INDEX(Expr1,SMALL(IF(nom=$I$33,ROW(INDIRECT(\"1:\"&ROWS(Expr1)))),ROWS('Charge atelier chaudronnerie'!$3:39))),\"\")","v":{"$error":"#REF!"}},{"$nulls":5},{"$f":"IF(ROWS('Charge atelier chaudronnerie'!$3:39)<=COUNTIF(nom,$O$33),INDEX(Expr1,SMALL(IF(nom=$O$33,ROW(INDIRECT(\"1:\"&ROWS(Expr1)))),ROWS('Charge atelier chaudronnerie'!$3:39))),\"\")","v":{"$error":"#REF!"}},{"$nulls":5},{"$f":"IF(ROWS('Charge atelier chaudronnerie'!$3:39)<=COUNTIF(nom,$U$33),INDEX(Expr1,SMALL(IF(nom=$U$33,ROW(INDIRECT(\"1:\"&ROWS(Expr1)))),ROWS('Charge atelier chaudronnerie'!$3:39))),\"\")","v":{"$error":"#REF!"}},{"$nulls":3},{"$f":"IF(ROWS('Charge atelier chaudronnerie'!$3:39)<=COUNTIF(nom,$Y$33),INDEX(Expr1,SMALL(IF(nom=$Y$33,ROW(INDIRECT(\"1:\"&ROWS(Expr1)))),ROWS('Charge atelier chaudronnerie'!$3:39))),\"\")","v":{"$error":"#REF!"}},{"$nulls":3},{"$f":"IF(ROWS('Charge atelier chaudronnerie'!$3:39)<=COUNTIF(nom,$AC$33),INDEX(Expr1,SMALL(IF(nom=$AC$33,ROW(INDIRECT(\"1:\"&ROWS(Expr1)))),ROWS('Charge atelier chaudronnerie'!$3:39))),\"\")","v":{"$error":"#REF!"}},{"$nulls":3},{"$f":"IF(ROWS('Charge atelier chaudronnerie'!$3:39)<=COUNTIF(nom,$AG$33),INDEX(Expr1,SMALL(IF(nom=$AG$33,ROW(INDIRECT(\"1:\"&ROWS(Expr1)))),ROWS('Charge atelier chaudronnerie'!$3:39))),\"\")","v":{"$error":"#REF!"}},{"$nulls":3},{"$f":"IF(ROWS('Charge atelier chaudronnerie'!$3:39)<=COUNTIF(nom,$AK$33),INDEX(Expr1,SMALL(IF(nom=$AK$33,ROW(INDIRECT(\"1:\"&ROWS(Expr1)))),ROWS('Charge atelier chaudronnerie'!$3:39))),\"\")","v":{"$error":"#REF!"}}]

{"sheet":"St4-3-2015","index":2,"n_rows":78,"n_cols":18,"rows_kept":78}
["262592","    7925","STRINGER","123CS5010345/A01",4,"EC","40.00",2.2,0,"2015-04-28",50,"2015-04-21T08:00:00","NC",{"v":6.666666666664241,"d":"7"},null,"PE2"]
["228535","    7811","STRINGER","123CS1102335",2,"EC","40.00",2.8,1.05,"2014-05-17T05:19:00",90,"2014-07-30T08:02:00","2014-10-16","FNC TTH","PP",null,"2015-01-22"]
["237994","    7816","STRINGER","123CS1102336/J02",2,"EC","40.00",2.8,0.07,"2015-02-06",50,"2015-03-02T08:00:00","EC",{"v":-24.33333333333576,"d":"-24"}]
["264746","    7944","STRINGER","123CS5010472/T01",2,"EC","40.00",4.4,2.47,"2015-06-29",50,"2015-03-02T09:41:00","EC",{"v":118.59652777777956,"d":"119"}]
["261795","    7520","STRINGER","123CS5010474/T01",2,"EC","40.00",4.6,0,"2015-03-12",50,"2015-03-02T11:25:00","NC",{"v":9.524305555554747,"d":"10"}]
["264738","    7922","STRINGER","123CS5010341/A01",2,"EC","40.00",4.2,4.02,"2015-04-13",50,"2015-03-02T11:26:00","EC",{"v":41.52361111110804,"d":"42"}]
["257576","    7524","STRINGER","123CS5010478/T01",2,"EC","40.00",5.6,0,"2015-03-12",50,"2015-03-03T08:13:00","NC",{"v":8.65763888888614,"d":"9"}]
["246578","    7940","STRINGER","123CS5010467/T01",2,"EC","50.00",7,0,"2014-12-17",50,"2015-03-09T09:01:00","NC",{"v":-82.37569444444671,"d":"-82"}]
["246579","    7941","STRINGER","123CS5010468/T01",2,"EC","50.00",7,0,"2014-12-17",50,"2015-03-09T09:13:00","NC",{"v":-82.3840277777781,"d":"-82"}]
["246626","    7795","STRINGER","123CS1102237/G03",2,"EC","40.00",1.4,0,"2015-03-03",50,"2015-03-09T09:13:00","NC",{"v":-6.384027777778101,"d":"-6"}]
["246644","    7805","STRINGER","123CS1102333/J02",2,"EC","40.00",3.2,0,"2015-02-27",50,"2015-03-09T09:49:00","NC",{"v":-10.409027777779556,"d":"-10"}]
["246634","    7791","STRINGER","123CS1102235/G03",2,"EC","40.00",2.8,0,"2015-03-03",50,"2015-03-09T10:26:00","NC",{"v":-6.434722222220444,"d":"-6"}]
["261849","    7942","STRINGER","123CS5010470/T01",2,"EC","50.00",7,0,"2015-02-12",50,"2015-03-09T10:35:00","NC",{"v":-25.44097222221899,"d":"-25"}]
["262561","    7817","STRINGER","123CS11023737/J02",2,"EC","40.00",1.4,0,"2015-02-27",50,"2015-03-09T10:39:00","NC",{"v":-10.443749999998545,"d":"-10"}]
["239142","    7802","STRINGER","123CS1102332/J02",2,"EC","40.00",3.9,0,"2015-03-11",50,"2015-03-09T10:51:00","NC",{"v":1.5479166666700621,"d":"2"}]
["244611","    7797","STRINGER","123CS1102238/G03",2,"EC","40.00",1.4,0,"2015-03-04",50,"2015-03-09T11:15:00","NC",{"v":-5.46875,"d":"-5"}]
["248043","    7794","STRINGER","123CS1102236/G03",2,"EC","40.00",2.8,0,"2015-03-11",50,"2015-03-09T11:26:00","NC",{"v":1.523611111108039,"d":"2"}]
["248030","    7808","STRINGER","123CS1102334/J02",2,"EC","40.00",3.2,0,"2015-03-11",50,"2015-03-09T13:17:00","NC",{"v":1.4465277777781012,"d":"1"}]
["260304","    7915","STRINGER","123CS5010334/U12",2,"EC","40.00",4.6,0,"2015-03-11",50,"2015-03-09T14:28:00","NC",{"v":1.3972222222218988,"d":"1"}]
["239087","    7937","STRINGER","123CS5010464/T01",2,"EC","50.00",6.6,0,"2015-03-16",50,"2015-03-11T08:00:00","NC",{"v":4.666666666664241,"d":"5"}]
["246575","    7938","STRINGER","123CS5010465/T01",2,"EC","50.00",6.6,0,"2015-03-16",50,"2015-03-11T08:00:00","NC",{"v":4.666666666664241,"d":"5"}]
["262554","    7936","STRINGER","123CS5010463/T01",2,"EC","50.00",6.6,0,"2015-03-16",50,"2015-03-11T08:00:00","NC",{"v":4.666666666664241,"d":"5"}]
["264721","    7940","STRINGER","123CS5010467/T01",2,"EC","50.00",7,0,"2015-03-16",50,"2015-03-11T08:00:00","NC",{"v":4.666666666664241,"d":"5"}]
["217386","    7941","STRINGER","123CS5010468/T01",2,"EC","50.00",7,0,"2015-03-16",50,"2015-03-11T08:33:00","NC",{"v":4.64375000000291,"d":"5"}]
["262568","    7939","STRINGER","123CS5010466/T01",2,"EC","50.00",6.6,0,"2015-03-16",50,"2015-03-11T08:58:00","NC",{"v":4.62638888888614,"d":"5"}]
["248048","    7811","STRINGER","123CS1102335/J02",2,"EC","40.00",2.8,0,"2015-03-31",50,"2015-03-25T08:00:00","NC",{"v":5.666666666664241,"d":"6"}]
["248055","    7800","STRINGER","123CS1102331/J02",2,"EC","40.00",3.9,0,"2015-03-31",50,"2015-03-25T08:00:00","NC",{"v":5.666666666664241,"d":"6"}]
["247399","    7783","STRINGER","123CS1102231/G03",2,"EC","40.00",3.9,0,"2015-04-07",50,"2015-03-30T11:53:00","NC",{"v":7.504861111112405,"d":"8"}]
["264747","    7523","STRINGER","123CS5010477/T01",2,"EC","40.00",5.6,0,"2015-04-14",50,"2015-03-31T10:11:00","NC",{"v":13.575694444443798,"d":"14"}]
["246777","    7521","STRINGER","123CS5010475/T01",2,"EC","50.00",7,0,"2015-04-10",50,"2015-04-03T09:28:00","NC",{"v":6.6055555555576575,"d":"7"}]
["246497","    7917","STRINGER","123CS5010336/A03",2,"EC","40.00",4.2,0,"2015-04-13",50,"2015-04-07T08:00:00","NC",{"v":5.666666666664241,"d":"6"}]
["246645","    7816","STRINGER","123CS1102336/J02",2,"EC","40.00",2.8,0,"2015-04-13",50,"2015-04-07T08:00:00","NC",{"v":5.666666666664241,"d":"6"}]
["246709","    7911","STRINGER","123CS50103119/V05",2,"EC","40.00",4.2,0,"2015-04-13",50,"2015-04-07T08:00:00","NC",{"v":5.666666666664241,"d":"6"}]
["246776","    7916","STRINGER","123CS5010335/A03",2,"EC","40.00",4.2,0,"2015-04-13",50,"2015-04-07T08:00:00","NC",{"v":5.666666666664241,"d":"6"}]
["248026","    7785","STRINGER","123CS1102232/G03",2,"EC","40.00",3.9,0,"2015-04-13",50,"2015-04-07T08:00:00","NC",{"v":5.666666666664241,"d":"6"}]
["251452","    7907","STRINGER","123CS50103101/A01",2,"EC","40.00",3.9,0,"2015-04-13",50,"2015-04-07T08:00:00","NC",{"v":5.666666666664241,"d":"6"}]
["251937","    7926","STRINGER","123CS5010347/A01",2,"EC","40.00",4.2,0,"2015-04-13",50,"2015-04-07T08:00:00","NC",{"v":5.666666666664241,"d":"6"}]
["247426","    7943","STRINGER","123CS5010471/T01",2,"EC","40.00",4.4,0,"2015-04-14",50,"2015-04-08T08:00:00","NC",{"v":5.666666666664241,"d":"6"}]
["262711","    7942","STRINGER","123CS5010470/T01",2,"EC","50.00",7,0,"2015-04-15",50,"2015-04-10T08:00:00","NC",{"v":4.666666666664241,"d":"5"}]
["263161","    7522","STRINGER","123CS5010476/T01",2,"EC","50.00",7,0,"2015-04-15",50,"2015-04-10T08:00:00","NC",{"v":4.666666666664241,"d":"5"}]
["241852","    7927","STRINGER","123CS5010348/A01",2,"EC","40.00",4.2,0,"2015-04-20",50,"2015-04-14T08:00:00","NC",{"v":5.666666666664241,"d":"6"}]
["255326","    7805","STRINGER","123CS1102333/J02",2,"EC","40.00",3.2,0,"2015-06-16",50,"2015-06-10T08:00:00","NC",{"v":5.666666666664241,"d":"6"}]
["264730","    7928","STRINGER","123CS5010349/A01",2,"EC","40.00",2.8,0,"2015-06-22",50,"2015-06-19T08:00:00","NC",{"v":2.6666666666642413,"d":"3"}]
["264731","   18686","STRINGER","123CS50103198/V05",2,"EC","40.00",3.2,0,"2015-06-22",50,"2015-06-19T08:00:00","NC",{"v":2.6666666666642413,"d":"3"}]
["256551","    7794","STRINGER","123CS1102236/G03",2,"EC","40.00",2.8,0,"2015-06-26",50,"2015-06-22T08:00:00","NC",{"v":3.6666666666642413,"d":"4"}]
["264730","    7928","STRINGER","123CS5010349/A01",2,"EC","50.00",1.3,0,"2015-06-24",50,"2015-06-22T08:00:00","NC",{"v":1.6666666666642413,"d":"2"}]
["264731","   18686","STRINGER","123CS50103198/V05",2,"EC","50.00",1.3,0,"2015-06-24",50,"2015-06-22T08:00:00","NC",{"v":1.6666666666642413,"d":"2"}]
["264736","    7914","STRINGER","123CS5010333/U12",2,"EC","40.00",4.6,0,"2015-06-26",50,"2015-06-22T08:00:00","NC",{"v":3.6666666666642413,"d":"4"}]
["264732","    7918","STRINGER","123CS5010337/U01",2,"EC","40.00",3.3,0,"2015-06-26",50,"2015-06-22T08:28:00","NC",{"v":3.647222222221899,"d":"4"}]
["264733","    7909","STIRINGER","123CS50103103/A01",2,"EC","40.00",3.9,0,"2015-06-26",50,"2015-06-22T08:43:00","NC",{"v":3.6368055555576575,"d":"4"}]
["239151","    7919","STRINGER","123CS5010338/A01",2,"EC","40.00",3.3,0,"2015-06-26",50,"2015-06-22T09:25:00","NC",{"v":3.6076388888905058,"d":"4"}]
["262712","    7910","STRINGER","123CS50103104/A01",2,"D ","40.00",3.9,0,"2015-06-26",50,"2015-06-22T09:31:00","NC",{"v":3.6034722222248092,"d":"4"}]
["264737","    7908","STRINGER","123CS50103102/A01",2,"EC","40.00",3.9,0,"2015-06-26",50,"2015-06-22T09:31:00","NC",{"v":3.6034722222248092,"d":"4"}]
["264743","    7520","STRINGER","123CS5010474/T01",2,"EC","40.00",4.6,0,"2015-06-29",50,"2015-06-22T11:11:00","NC",{"v":6.534027777779556,"d":"7"}]
["264745","    7945","STRINGER","123CS5010473/T01",2,"EC","40.00",4.6,0,"2015-06-29",50,"2015-06-22T11:11:00","NC",{"v":6.534027777779556,"d":"7"}]
["264742","    7524","STRINGER","123CS5010478/T01",2,"EC","40.00",5.6,0,"2015-06-29",50,"2015-06-23T08:00:00","NC",{"v":5.666666666664241,"d":"6"}]
["264748","    7934","STRINGER","123CS5010433/G01",2,"EC","40.00",3.5,0,"2015-06-29",50,"2015-06-23T08:00:00","NC",{"v":5.666666666664241,"d":"6"}]
["264751","    7935","STRINGER","123CS5010434/G01",2,"EC","40.00",3.5,0,"2015-06-29",50,"2015-06-23T08:00:00","NC",{"v":5.666666666664241,"d":"6"}]
["264730","    7928","STRINGER","123CS5010349/A01",2,"EC","60.00",0.4,0,"2015-06-30",50,"2015-06-24T09:30:00","NC",{"v":5.604166666664241,"d":"6"}]
["264731","   18686","STRINGER","123CS50103198/V05",2,"EC","60.00",0.4,0,"2015-06-30",50,"2015-06-24T09:50:00","NC",{"v":5.5902777777810115,"d":"6"}]
["264720","    7941","STRINGER","123CS5010468/T01",2,"EC","50.00",7,0,"2015-07-02",50,"2015-06-29T08:00:00","NC",{"v":2.6666666666642413,"d":"3"}]
["247421","    5693","STRINGER","123CS5010469/T01",2,"EC","50.00",7,0,"2015-07-02",50,"2015-06-29T08:23:00","NC",{"v":2.6506944444408873,"d":"3"}]
["264722","    7936","STRINGER","123CS5010463/T01",2,"EC","50.00",6.6,0,"2015-07-02",50,"2015-06-29T08:49:00","NC",{"v":2.632638888891961,"d":"3"}]
["264724","    7938","STRINGER","123CS5010465/T01",2,"EC","50.00",6.6,0,"2015-07-02",50,"2015-06-29T09:07:00","NC",{"v":2.6201388888875954,"d":"3"}]
["246574","    7937","STRINGER","123CS5010464/T01",2,"EC","50.00",6.6,0,"2015-07-02",50,"2015-06-29T09:25:00","NC",{"v":2.6076388888905058,"d":"3"}]
["263251","    7522","STRINGER","123CS5010476/T01",2,"D ","50.00",7,0,"2015-10-22",50,"2015-10-19T10:13:00","NC",{"v":2.5743055555576575,"d":"3"}]
["260175","    7794","STRINGER","123CS1102236/G03",2,"D ","40.00",2.8,0,"2015-11-27",50,"2015-11-23T16:31:00","NC",{"v":3.311805555553292,"d":"3"}]
["239084","   18685","STRINGER","123CS50103197/V05",2,"EC","60.00",0.4,0,"2014-12-12",50,"","NC",{"$error":"#VALUE!"}]
["239084","   18685","STRINGER","123CS50103197/V05",2,"EC","50.00",1.3,0,"2014-12-08",50,"","NC",{"$error":"#VALUE!"}]
["242246","   18686","STRINGER","123CS50103198/V05",2,"EC","60.00",0.4,0,"2014-12-12",50,"","NC",{"$error":"#VALUE!"}]
["242246","   18686","STRINGER","123CS50103198/V05",2,"EC","50.00",1.3,0,"2014-12-08",50,"","NC",{"$error":"#VALUE!"}]
["246601","   18685","STRINGER","123CS50103197/V05",2,"EC","60.00",0.4,0,"2015-03-13",50,"","NC",{"$error":"#VALUE!"}]
["246601","   18685","STRINGER","123CS50103197/V05",2,"EC","50.00",1.3,0,"2015-03-09",50,"","NC",{"$error":"#VALUE!"}]
["246712","   18686","STRINGER","123CS50103198/V05",2,"EC","60.00",0.4,0,"2015-03-13",50,"","NC",{"$error":"#VALUE!"}]
["246712","   18686","STRINGER","123CS50103198/V05",2,"EC","50.00",1.3,0,"2015-03-09",50,"","NC",{"$error":"#VALUE!"}]
["247416","    7928","STRINGER","123CS5010349/A01",2,"EC","60.00",0.4,0,"2015-03-13",50,"","NC",{"$error":"#VALUE!"}]
["247416","    7928","STRINGER","123CS5010349/A01",2,"EC","50.00",1.3,0,"2015-03-09",50,"","NC",{"$error":"#VALUE!"}]
["254682","    7817","STRINGER","123CS11023737/J02",2,"EC","40.00",0.45,0,"2014-12-25T04:07:00",50,"2014-11-18","NC",null,null,"kevin","2015-01-13","2015-01-23"]

{"sheet":"23-3-2015","index":3,"n_rows":131,"n_cols":19,"rows_kept":131}
["F900/2000 DEFLECTEUR","266067","   21946","PLIAGE","F50B114000226B2M1",18,"EC","40.00",2.54,0,"2015-02-04",50,"2015-03-19T10:08:00","NC",null,"PC 18/3","CH"]
["F900 TRONCON T4","263828","   30147","EMBOUT EQUIPE","FGFB244050010",5,"EC","70.00",0.7,0,"2015-01-13",90,"2015-03-24T09:51:00","NC",null,null,"CH"]
["F900/2000 DEFLECTEUR","266067","   21946","PLIAGE","F50B114000226B2M1",18,"EC","70.00",1.8,0,"2015-03-02",50,"2015-03-27T10:03:00","NC",null,null,"CH"]
["F900 TRONCON T5","261190","   27283","REPRISE","FGFB256009011",5,"EC","40.00",3.7,0,"2015-04-14",50,"2015-04-10T08:00:00","2015-04-09T08:00:00",{"$f":"K4-M4","v":{"v":3.6666666666642413,"d":"4"}},null,"PE2"]
["F900 TRONCON T5","261203","   27250","CORNIERE","FGFB252030011",5,"EC","40.00",0.6,0,"2015-04-13",50,"2015-04-13T08:00:00","2015-04-07T16:08:00",{"v":-0.33333333333575865,"d":"-0"},null,"PE2"]
["F900 TRONCON T5","261966","   27749","CORNIERE POUTRE DROITE","FGFB252002011",5,"EC","40.00",0.55,0,"2015-04-13",50,"2015-04-13T08:00:00","2015-04-08T08:00:00",{"v":-0.33333333333575865,"d":"-0"},null,"PE2"]
["F900 TRONCON T5","261203","   27250","CORNIERE","FGFB252030011",5,"EC","50.00",0.95,0,"2015-04-17",50,"2015-04-14T15:57:00","2015-04-13T08:00:00",{"v":2.335416666668607,"d":"2"},null,"PE2"]
["F900 TRONCON T5","261966","   27749","CORNIERE POUTRE DROITE","FGFB252002011",5,"EC","50.00",0.95,0,"2015-04-17",50,"2015-04-14T15:57:00","2015-04-13T08:00:00",{"v":2.335416666668607,"d":"2"},null,"PE2"]
["F900 TRONCON T5","261190","   27283","REPRISE","FGFB256009011",5,"EC","60.00",1.7,0,"2015-04-30",50,"2015-04-20T08:00:00","NC",{"v":9.666666666664241,"d":"10"},null,"PE2"]
["NH90 CLOISON PARE FEU","250903","   26159","RAIDISSEUR SUP. EQUIPE","S713A6016218",5,"EC","40.00",1.45,0,"2015-04-14",50,"2015-04-21T15:00:00","2015-04-17T08:00:00",{"v":-7.625,"d":"-8"},null,"PE1"]
["F900 TRONCON T5","262665","   27326","CORNIERE","FGFB257520032",5,"EC","40.00",0.65,0,"2015-04-30",50,"2015-04-22T08:00:00","2015-04-27T08:00:00",{"v":7.666666666664241,"d":"8"},null,"PE2"]
["NH90 CLOISON PARE FEU","262617","   21581","RAIDISSEUR SUPERIEUR","S713A5016109",5,"EC","40.00",1.45,0,"2015-04-22",50,"2015-04-22T09:27:00","2015-04-23T08:31:00",{"v":-0.3937500000029104,"d":"-0"},null,"PE1"]
["AS365 DAUPHIN","254181","    6359","CONDUIT EQUIPE","365A54502227EQ",20,"EC","40.00",2.2,0,"2015-03-31",50,"2015-04-23T08:00:00","NC",{"v":-23.33333333333576,"d":"-23"},null,"PE1"]
["AS365 DAUPHIN","254181","    6359","CONDUIT EQUIPE","365A54502227EQ",20,"EC","40.00",2.2,0,"2015-03-31",50,"2015-04-23T08:00:00","NC",{"v":-23.33333333333576,"d":"-23"},null,"PE1"]
["F900 TRONCON T5","262665","   27326","CORNIERE","FGFB257520032",5,"EC","50.00",0.95,0,"2015-05-07",50,"2015-04-23T11:58:00","2015-04-29T16:03:00",{"v":13.50138888888614,"d":"14"},null,"PE2"]
["E2D","251494","    7705","SUPPORT","123CS5110192/A06",6,"EC","30.00",0.26,0,"2015-03-12T00:53:29",50,"2015-04-27T16:12:00","2015-04-22T16:44:00",{"$f":"M16-K16","v":{"v":46.63785879629722,"d":"47"}},null,"CH3"]
["NH90 CLOISON PARE FEU","262617","   21581","RAIDISSEUR SUPERIEUR","S713A5016109",5,"EC","60.00",3.95,0,"2015-05-05",50,"2015-04-28T08:29:00","NC",{"$f":"K17-M17","v":{"v":6.646527777775191,"d":"7"}},null,"PE1"]
["NH90 CLOISON PARE FEU","250903","   26159","RAIDISSEUR SUP. EQUIPE","S713A6016218",5,"EC","60.00",3.95,0,"2015-04-24",50,"2015-04-28T10:17:00","2015-04-22T09:43:00",{"$f":"K18-M18","v":{"v":-4.428472222221899,"d":"-4"}},null,"PE1"]
["E2D","251494","    7705","SUPPORT","123CS5110192/A06",6,"EC","40.00",0.5,0,"2015-03-20T23:02:00",50,"2015-04-29T16:18:00","2015-03-30T08:00:00",null,null,"CH3"]
["F900 TRONCON T5","263219","   27934","LISSE 8 C25-27 G","FGFB256007004A3",5,"EC","50.00",0.6,0,"2015-05-19",50,"2015-05-04T08:00:00","NC",null,null,"PE2"]
["AS365 DAUPHIN","254181","    6359","CONDUIT EQUIPE","365A54502227EQ",20,"EC","70.00",3.2,0,"2015-04-01",50,"2015-05-05T13:25:00","NC",{"$f":"K21-M21","v":{"v":-34.55902777778101,"d":"-35"}}]
["AS365 DAUPHIN","254181","    6359","CONDUIT EQUIPE","365A54502227EQ",20,"EC","70.00",3.2,0,"2015-04-01",50,"2015-05-05T13:25:00","NC",{"$f":"K22-M22","v":{"v":-34.55902777778101,"d":"-35"}}]
["AS365 DAUPHIN","254181","    6359","CONDUIT EQUIPE","365A54502227EQ",20,"EC","130.00",10.2,0,"2015-05-05",50,"2015-05-05T16:24:00","2015-06-11T08:00:00",{"$f":"K23-M23","v":{"v":-0.6833333333343035,"d":"-1"}}]
["AS365 DAUPHIN","254181","    6359","CONDUIT EQUIPE","365A54502227EQ",20,"EC","130.00",10.2,0,"2015-05-05",50,"2015-05-05T16:24:00","2015-06-11T08:00:00",{"$f":"K24-M24","v":{"v":-0.6833333333343035,"d":"-1"}}]
["F900 TRONCON T5","263427","   28190","CORNIERE EXTRADOS D.","FGFB257620009",5,"EC","40.00",1.75,0,"2015-05-19",50,"2015-05-07T08:00:00","NC",null,null,"PE2"]
["E2D","255421","    7642","STIFFENER","123CS5110031/NC00",6,"EC","50.00",1.1,0,"2015-06-08T03:46:17",50,"2015-08-20T08:00:00","NC",{"$f":"M26-K26","v":{"v":73.17619212963473,"d":"73"}},null,"CH2"]
["E2D","255423","    7643","STIFFENER","123CS5110032/NC00",6,"EC","50.00",1.1,0,"2015-06-08T03:46:17",50,"2015-08-20T08:00:00","NC",{"$f":"M27-K27","v":{"v":73.17619212963473,"d":"73"}},null,"CH2"]
["E2D","255421","    7642","STIFFENER","123CS5110031/NC00",6,"EC","40.00",1.1,0,"2015-06-13T15:02:00",50,"2015-08-20T16:30:00","2015-06-10T13:22:00",null,null,"CH2"]
["E2D","255423","    7643","STIFFENER","123CS5110032/NC00",6,"EC","40.00",1.1,0,"2015-06-13T15:02:00",50,"2015-08-20T16:30:00","2015-06-10T15:54:00",null,null,"CH2"]
["E2D","249456","   23865","STIFFENER","123CS1192111/B01",6,"EC","50.00",10.4,0,"2015-09-22T11:39:26",50,"2015-09-29T08:00:00","NC",{"$f":"M30-K30","v":{"v":6.847615740742185,"d":"7"}},null,"CH3"]
["E2D","249456","   23865","STIFFENER","123CS1192111/B01",6,"EC","50.00",10.4,0,"2015-09-22T11:39:26",50,"2015-09-29T08:00:00","NC",{"v":6.847615740742185,"d":"7"},null,"CH3"]
["E2D","249456","   23865","STIFFENER","123CS1192111/B01",6,"EC","70.00",2.6,0,"2015-09-28T08:54:51",50,"2015-10-07T09:12:00","NC",{"v":9.01190972221957,"d":"9"},null,"CH3"]
["E2D","249456","   23865","STIFFENER","123CS1192111/B01",6,"EC","70.00",2.6,0,"2015-09-28T08:54:51",50,"2015-10-07T09:12:00","NC",{"v":9.01190972221957,"d":"9"},null,"CH3"]
["E2D","249456","   23865","STIFFENER","123CS1192111/B01",6,"EC","90.00",2.6,0,"2015-10-01T08:54:51",50,"2015-10-07T09:12:00","NC",{"v":6.0119097222195705,"d":"6"},null,"CH3"]
["E2D","249456","   23865","STIFFENER","123CS1192111/B01",6,"EC","90.00",2.6,0,"2015-10-01T08:54:51",50,"2015-10-07T09:12:00","NC",{"v":6.0119097222195705,"d":"6"},null,"CH3"]
["F900/2000 DEFLECTEUR","261155","   21856","NERVURE 9B NUE","F50B124000128B2M1",12,"EC","40.00",3.2,0,"2015-02-17",50,"2015-03-17T09:09:00","NC",null,"PC 18/3","joel","2015-03-20"]
["F900/2000 DEFLECTEUR","261155","   21856","NERVURE 9B NUE","F50B124000128B2M1",12,"EC","60.00",3,0,"2015-03-05",50,"2015-03-23T08:00:00","NC",null,null,"joel","2015-03-20"]
["FGF PIECES ELEMENTAI","264760","   17186","BOSSAGE","FGFB581410014A1",5,"EC","50.00",22.7,0,"2015-04-09",50,"2015-04-13T08:00:00","2015-05-25T09:36:00",{"$f":"K38-M38","v":{"v":-4.333333333335759,"d":"-4"}},null,"gaby","2015-03-19"]
["FGF PIECES ELEMENTAI","264760","   17186","BOSSAGE","FGFB581410014A1",5,"EC","50.00",22.7,0,"2015-04-09",50,"2015-04-13T08:00:00","2015-05-25T09:36:00",{"$f":"K39-M39","v":{"v":-4.333333333335759,"d":"-4"}},null,"gaby","2015-03-19"]
["FGF PIECES ELEMENTAI","264760","   17186","BOSSAGE","FGFB581410014A1",5,"EC","50.00",22.7,0,"2015-04-09",50,"2015-04-13T08:00:00","2015-05-25T09:36:00",{"$f":"K40-M40","v":{"v":-4.333333333335759,"d":"-4"}},null,"gaby","2015-03-19"]
["E2D","266221","    7821","STIFFENER","123CS1102620/B00",6,"EC","40.00",0.38,0,"2015-02-02",50,"2015-03-23T08:00:00","NC",null,null,"sabine","2015-03-19"]
["NH90 CLOISON PARE FEU","261841","    9588","SUPPORT JOINT","S713A6016216",5,"EC","30.00",3.7,0,"2015-03-24",50,"2015-03-26T14:28:00","NC",null,null,"remi","2015-03-19"]
["FGF PIECES ELEMENTAI","264760","   17186","BOSSAGE","FGFB581410014A1",5,"EC","80.00",2.7,0,"2015-04-16",50,"2015-04-24T08:00:00","2015-06-05T08:00:00",{"$f":"K43-M43","v":{"v":-8.333333333335759,"d":"-8"}},null,"gaby","2015-03-19"]
["FGF PIECES ELEMENTAI","264760","   17186","BOSSAGE","FGFB581410014A1",5,"EC","80.00",2.7,0,"2015-04-16",50,"2015-04-24T08:00:00","2015-06-05T08:00:00",{"v":-8.333333333335759,"d":"-8"},null,"gaby","2015-03-19"]
["FGF PIECES ELEMENTAI","264760","   17186","BOSSAGE","FGFB581410014A1",5,"EC","80.00",2.7,0,"2015-04-16",50,"2015-04-24T08:00:00","2015-06-05T08:00:00",{"v":-8.333333333335759,"d":"-8"},null,"gaby","2015-03-19"]
["FGF PIECES ELEMENTAI","264760","   17186","BOSSAGE","FGFB581410014A1",5,"EC","90.00",2.2,0,"2015-04-22",50,"2015-04-27T08:00:00","2015-06-08T09:13:00",{"v":-5.333333333335759,"d":"-5"},null,"gaby","2015-03-19"]
["FGF PIECES ELEMENTAI","264760","   17186","BOSSAGE","FGFB581410014A1",5,"EC","90.00",2.2,0,"2015-04-22",50,"2015-04-27T08:00:00","2015-06-08T09:13:00",{"v":-5.333333333335759,"d":"-5"},null,"gaby","2015-03-19"]
["FGF PIECES ELEMENTAI","264760","   17186","BOSSAGE","FGFB581410014A1",5,"EC","90.00",2.2,0,"2015-04-22",50,"2015-04-27T08:00:00","2015-06-08T09:13:00",{"v":-5.333333333335759,"d":"-5"},null,"gaby","2015-03-19"]
["FALCON 10/MY20","266590","   20697","BOUCHE D'ALIMENTATION","MY2072185820",1,"EC","30.00",3.2,"","2015-03-27",50,"2015-03-25T15:45:00","NC",null,null,"ronan","2015-03-19"]
["FALCON 10/MY20","266590","   20697","BOUCHE D'ALIMENTATION","MY2072185820",1,"EC","50.00",1.2,"","2015-04-10",50,"2015-04-01T15:50:00","NC",null,null,"CH","2015-03-19"]
["F900/2000 DEFLECTEUR","261106","   31860","NERVURE 2A NUE","F50B114021001M1",12,"EC","40.00",3.2,0,"2015-04-07",50,"2015-04-08T14:05:00","2015-03-31T09:36:00",{"$f":"K51-M51","v":{"v":-1.5868055555547471,"d":"-2"}},null,"mirek","2015-03-19"]
["F900/2000 DEFLECTEUR","262620","   31801","NERVURE 6B","F50B114000146B2M1NU",12,"EC","40.00",3.2,0,"2015-04-07",50,"2015-04-08T14:05:00","2015-04-01T08:00:00",{"$f":"K52-M52","v":{"v":-1.5868055555547471,"d":"-2"}},null,"mirek","2015-03-19"]
["A330 LOWER PANNEL EQ","259544","   19638","RAIDISSEUR L48","F5312003820001",20,"EC","50.00",1.55,0,"2015-04-07",50,"2015-04-07T08:24:00","NC",{"$f":"K53-M53","v":{"v":-0.3499999999985448,"d":"-0"}},null,"françois","2015-03-18"]
["F900 TRONCON T5","261122","   28154","REPRISE","FGFB257520009",5,"EC","40.00",1.75,0,"2015-02-27T06:00:00",50,"2015-04-02T08:00:00","2015-02-27T08:00:00",{"$f":"M54-K54","v":{"v":34.08333333333576,"d":"34"}},null,"mirek","2015-03-19"]
["F900 TRONCON T5","261148","   28034","CORNIERE","FGFB256008055",10,"EC","50.00",1.2,0,"2015-04-10",50,"2015-04-07T08:00:00","2015-04-02T15:48:00",{"$f":"K55-M55","v":{"v":2.6666666666642413,"d":"3"}},null,"mirek","2015-03-19"]
["AS332 SUPER PUMA","259230","   10175","SUPPORT ROBINET","332A55422621",3,"EC","50.00",1.3,0,"2015-03-05",50,"2015-03-24T14:04:00","2015-03-16T14:08:00",{"$f":"K56-M56","v":{"v":-19.58611111110804,"d":"-20"}},null,"remi","2015-03-18"]
["FGF PIECES ELEMENTAI","264760","   17186","BOSSAGE","FGFB581410014A1",5,"EC","30.00",22.7,0,"2015-04-01",50,"2015-03-30T08:00:00","2015-05-11T09:09:00",{"$f":"K57-M57","v":{"v":1.6666666666642413,"d":"2"}},null,"gaby","2015-03-19"]
["FGF PIECES ELEMENTAI","264760","   17186","BOSSAGE","FGFB581410014A1",5,"EC","30.00",22.7,0,"2015-04-01",50,"2015-03-30T08:00:00","2015-05-11T09:09:00",{"$f":"K58-M58","v":{"v":1.6666666666642413,"d":"2"}},null,"gaby","2015-03-19"]
["FGF PIECES ELEMENTAI","264760","   17186","BOSSAGE","FGFB581410014A1",5,"EC","30.00",22.7,0,"2015-04-01",50,"2015-03-30T08:00:00","2015-05-11T09:09:00",{"$f":"K59-M59","v":{"v":1.6666666666642413,"d":"2"}},null,"gaby","2015-03-19"]
["AS365 RAIL","266074","   16637","TOLE INFERIEURE DROITE","365A87303471/DRW365A873034INDE",10,"EC","out",4.2,0,"2015-03-19",50,"2015-03-18T10:01:00","NC",null,null,"ronan","2015-03-17"]
["AS332 SUPER PUMA","264698","    9935","B HQ ANNEAU DE FIXATION","330A87238101",6,"EC","OUT",1.1,0,"2015-03-16",50,"2015-03-24T15:44:00","2015-03-18T10:43:00",{"$f":"K61-M61","v":{"v":-8.655555555553292,"d":"-9"}},null,"sabine","2015-03-17"]
["EUROCOPTER ETIRAGE","250872","   37649","SEMELLE GAUCHE","365A21312844/365A213128INDAX",6,"EC","70.00",1.7,0,"2014-11-27",50,"2015-03-02T16:19:00","NC",{"v":-95.67986111110804,"d":"-96"},"pbl outillage","gaby","2015-02-16"]
["AS332 SUPER PUMA","259152","    9873","ANNEAU DE FIXATION","330A87238100",3,"EC","OUT",0.65,0,"2015-02-13",50,"2015-03-10T11:46:00","NC",{"v":-25.49027777777519,"d":"-25"},null,"sabine","2015-03-06"]
["F900 TRONCON T5","260951","   27935","LISSE 8 C27-30 G","FGFB256007007A3",5,"EC","50.00",1.7,1.31,"2015-02-20",50,"2015-03-09T09:41:00","EC",{"v":-17.403472222220444,"d":"-17"},null,"remi","2015-02-19"]
["EUROCOPTER ETIRAGE","250873","   37649","SEMELLE GAUCHE","365A21312844/365A213128INDAX",2,"EC","70.00",0.7,0,"2014-11-14",50,"2015-03-02T15:40:00","NC",{"v":-108.65277777778101,"d":"-109"},"pbl outillage","gaby","2015-02-16"]
["FGF PIECES ELEMENTAI","264896","   37898","PLIAGE","FGFB581410006B1",10,"EC","20.00",1.7,0,"2015-03-26",50,"2015-03-20T08:50:00","NC",{"v":5.631944444445253,"d":"6"},null,"jean-luc","2015-03-05"]
["FGF PIECES ELEMENTAI","264896","   37898","PLIAGE","FGFB581410006B1",10,"EC","20.00",1.7,0,"2015-03-26",50,"2015-03-20T08:50:00","NC",{"v":5.631944444445253,"d":"6"},null,"jean-luc","2015-03-05"]
["F900 TRONCON T5","260951","   27935","LISSE 8 C27-30 G","FGFB256007007A3",5,"EC","40.00",1,0,"2015-02-16",50,"2015-03-09T10:00:00","NC",{"v":-21.41666666666424,"d":"-21"},null,"remi","2015-02-19"]
["EUROCOPTER ETIRAGE","251977","   37649","SEMELLE GAUCHE","365A21312844/365A213128INDAX",4,"EC","70.00",1.2,0,"2014-11-14",50,"2015-03-02T16:01:00","NC",{"v":-108.66736111111095,"d":"-109"},"pbl outillage","gaby","2015-02-16"]
["F900/2000 CARENE","245403","    5786","CARENE SOUDEE DROITE","F50B182001B2",3,"EC","70.00",2,0,"2014-10-29",50,"2015-03-18T08:00:00","NC",{"v":-140.33333333333576,"d":"-140"},null,"antoine","2015-03-04"]
["F900/2000 CARENE","245403","    5786","CARENE SOUDEE DROITE","F50B182001B2",3,"EC","70.00",2,0,"2014-10-29",50,"2015-03-18T08:00:00","NC",{"v":-140.33333333333576,"d":"-140"},null,"antoine","2015-03-04"]
["F900/2000 CARENE","248010","    5786","CARENE SOUDEE DROITE","F50B182001B2",3,"EC","70.00",2,0,"2014-11-17",50,"2015-03-19T08:00:00","NC",{"v":-122.33333333333576,"d":"-122"},null,"jean-luc","2015-03-04"]
["F900/2000 CARENE","248010","    5786","CARENE SOUDEE DROITE","F50B182001B2",3,"EC","70.00",2,0,"2014-11-17",50,"2015-03-19T08:00:00","NC",{"v":-122.33333333333576,"d":"-122"},null,"jean-luc","2015-03-04"]
["AS365 RAIL","262780","   16637","TOLE INFERIEURE DROITE","365A87303471/DRW365A873034INDE",10,"EC","out",4.2,0,"2014-12-19",90,"2015-03-11T08:00:00","NC",{"v":-82.33333333333576,"d":"-82"},"pbl perçage vu méthode","ronan"]
["EUROCOPTER ETIRAGE","263835","   39062","GOUTTIERE GAUCHE","365A2530423601",15,"EC","70.00",9.2,0,"2015-02-13",50,"2015-03-19T10:07:00","NC",{"v":-34.421527777776646,"d":"-34"},null,"jean-luc","2015-03-10"]
["EUROCOPTER ETIRAGE","250872","   37649","SEMELLE GAUCHE","365A21312844/365A213128INDAX",6,"EC","80.00",2,0,"2014-12-11",50,"2015-03-11T09:16:00","NC",{"v":-90.38611111111095,"d":"-90"},"pbl outillage","gaby","2015-02-16"]
["EUROCOPTER ETIRAGE","250873","   37649","SEMELLE GAUCHE","365A21312844/365A213128INDAX",2,"EC","80.00",0.8,0,"2014-11-28",50,"2015-03-11T11:08:00","NC",{"v":-103.4638888888876,"d":"-103"},"pbl outillage","gaby","2015-02-16"]
["EUROCOPTER ETIRAGE","251977","   37649","SEMELLE GAUCHE","365A21312844/365A213128INDAX",4,"EC","80.00",1.4,0,"2014-11-28",50,"2015-03-11T11:55:00","NC",{"v":-103.49652777778101,"d":"-103"},"pbl outillage","gaby","2015-02-16"]
["E2D","263349","    7670","STIFFENER","123CS5110165/NC00",6,"EC","30.00",0.8,0,"2015-03-05",50,"2015-03-05T08:00:00","NC",{"v":-0.33333333333575865,"d":"-0"},null,"gregory","2015-03-04"]
["F900/2000 CARENE","245403","    5786","CARENE SOUDEE DROITE","F50B182001B2",3,"EC","90.00",9,0,"2014-11-04",50,"2015-03-23T08:00:00","NC",{"v":-139.33333333333576,"d":"-139"},null,"antoine","2015-03-04"]
["F900/2000 CARENE","245403","    5786","CARENE SOUDEE DROITE","F50B182001B2",3,"EC","90.00",9,0,"2014-11-04",50,"2015-03-23T08:00:00","NC",{"v":-139.33333333333576,"d":"-139"},null,"antoine","2015-03-04"]
["F900/2000 CARENE","248010","    5786","CARENE SOUDEE DROITE","F50B182001B2",3,"EC","90.00",9,0,"2014-11-21",50,"2015-03-25T10:34:00","NC",{"v":-124.44027777777956,"d":"-124"},null,"jean-luc","2015-03-04"]
["F900/2000 CARENE","248010","    5786","CARENE SOUDEE DROITE","F50B182001B2",3,"EC","90.00",9,0,"2014-11-21",50,"2015-03-25T10:34:00","NC",{"v":-124.44027777777956,"d":"-124"},null,"jean-luc","2015-03-04"]
["AS332 SUPER PUMA","259226","   10178","SUPPORT ROBINET","332A55422620",3,"EC","50.00",1.3,0,"2015-03-05",50,"2015-03-16T16:11:00","2015-03-13T10:24:00",{"v":-11.674305555556202,"d":"-12"},null,"patrick","2015-03-11"]
["AS332 SUPER PUMA","259226","   10178","SUPPORT ROBINET","332A55422620",3,"EC","70.00",0.65,0,"2015-03-24",50,"2015-03-23T08:43:00","2015-03-18T08:00:00",{"v":0.6368055555576575,"d":"1"},null,"patrick","2015-03-11"]
["F900/2000 CARENE","245403","    5786","CARENE SOUDEE DROITE","F50B182001B2",3,"EC","110.00",15,0,"2014-11-07",50,"2015-03-30T08:00:00","NC",{"v":-143.33333333333576,"d":"-143"},null,"antoine","2015-03-04"]
["F900/2000 CARENE","245403","    5786","CARENE SOUDEE DROITE","F50B182001B2",3,"EC","110.00",15,0,"2014-11-07",50,"2015-03-30T08:00:00","NC",{"v":-143.33333333333576,"d":"-143"},null,"antoine","2015-03-04"]
["F900/2000 CARENE","248010","    5786","CARENE SOUDEE DROITE","F50B182001B2",3,"EC","110.00",15,0,"2014-11-26",50,"2015-04-07T11:55:00","NC",{"v":-132.496527777781,"d":"-132"},null,"jean-luc","2015-03-04"]
["F900/2000 CARENE","248010","    5786","CARENE SOUDEE DROITE","F50B182001B2",3,"EC","110.00",15,0,"2014-11-26",50,"2015-04-07T11:55:00","NC",{"v":-132.496527777781,"d":"-132"},null,"jean-luc","2015-03-04"]
["FGF PIECES ELEMENTAI","264896","   37898","PLIAGE","FGFB581410006B1",10,"EC","60.00",2.2,0,"2015-04-17",50,"2015-04-10T08:00:00","NC",{"v":6.666666666664241,"d":"7"},null,"jean-luc","2015-03-05"]
["FGF PIECES ELEMENTAI","264896","   37898","PLIAGE","FGFB581410006B1",10,"EC","60.00",2.2,0,"2015-04-17",50,"2015-04-10T08:00:00","NC",{"v":6.666666666664241,"d":"7"},null,"jean-luc","2015-03-05"]
["FGF PIECES ELEMENTAI","264896","   37898","PLIAGE","FGFB581410006B1",10,"EC","80.00",8.2,0,"2015-05-06",50,"2015-04-22T09:15:00","NC",{"v":13.614583333335759,"d":"14"},null,"jean-luc","2015-03-05"]
["FGF PIECES ELEMENTAI","264896","   37898","PLIAGE","FGFB581410006B1",10,"EC","80.00",8.2,0,"2015-05-06",50,"2015-04-22T09:15:00","NC",{"v":13.614583333335759,"d":"14"},null,"jean-luc","2015-03-05"]
["AS332 SUPER PUMA","259230","   10175","SUPPORT ROBINET","332A55422621",3,"EC","70.00",0.65,0,"2015-03-24",50,"2015-03-30T08:00:00","2015-03-23T08:00:00",{"v":-6.333333333335759,"d":"-6"},null,"remi","2015-03-18"]
["E2D","266221","    7821","STIFFENER","123CS1102620/B00",6,"EC","50.00",0.8,0,"2015-02-05",50,"2015-03-23T14:28:00","NC",null,null,"sabine","2015-03-19"]
["F900 TRONCON T5","261887","   27803","REVETEMENT DE SEUIL","FGFB256011001A2",5,"EC","40.00",12.7,0,"2014-10-15",50,"2015-03-16T09:25:00","NC",null,"det CN 17/3"]
["AS332 SUPER PUMA","241025","    9806","TOLE SUPPORT GAUCHE","332A55201020/DRW332A552010INDI",10,"EC","60.00",0.7,0,"2014-06-05T04:29:00",50,"2015-01-22T08:00:00","2014-10-23T08:57:00"]
["NH90 CLOISON PARE FEU","260208","    9434","COIN DE VALISE","S713A2016278",10,"EC","30.00",3.2,0,"2015-03-12",50,"2015-03-19T09:25:00","NC",null,"stock PE 18/1"]
["AS332 SUPER PUMA","241025","    9806","TOLE SUPPORT GAUCHE","332A55201020/DRW332A552010INDI",10,"EC","90.00",1.7,0,"2014-06-14T10:19:00",50,"2015-01-28T08:00:00","2014-11-24","recuit 20/10 PC à faire"]
["AS332 SUPER PUMA","241037","    9806","TOLE SUPPORT GAUCHE","332A55201020/DRW332A552010INDI",10,"EC","60.00",0.7,0,"2014-10-30T04:29:00",50,"2015-01-22T11:36:00","2014-11-25T08:57:00"]
["AS332 SUPER PUMA","225723","   16827","POTENCE GAUCHE","330A87311806",5,"EC","30.00",2.7,0,"2014-09-01T09:15:26",50,"2015-01-27T09:40:00","NC",{"$f":"M101-K101","v":{"v":148.01706018518598,"d":"148"}},"aju à faire"]
["AS332 SUPER PUMA","225722","   16828","POTENCE DROITE","330A87311906",5,"EA","30.00",2.7,0,"2014-09-02T09:15:26",50,"2015-01-27T10:33:00","NC",{"$f":"M102-K102","v":{"v":147.05386574073782,"d":"147"}},"stock PE 6/1"]
["AS332 SUPER PUMA","241037","    9806","TOLE SUPPORT GAUCHE","332A55201020/DRW332A552010INDI",10,"EC","90.00",1.7,0,"2014-07-29T05:49:43",50,"2015-03-30T08:00:00","2014-12-19T08:00:00","ebav 15/4 PC à faire"]
["E2D","252011","   23466","RIB","123CS1150919/D01",6,"EC","40.00",2,0,"2015-04-10T06:51:26",50,"2015-04-08T15:00:00","2015-04-10T08:00:00",{"$f":"M104-K104","v":{"v":-1.660717592589208,"d":"-2"}}]
["F900 TRONCON T5","261130","   27206","VOILE","FGFB252020014A1",5,"EC","40.00",1.45,0,"2015-04-08",50,"2015-04-10T08:00:00","2015-04-03T08:00:00",{"$f":"K105-M105","v":{"v":-2.3333333333357587,"d":"-2"}}]
["F900 TRONCON T5","261130","   27206","VOILE","FGFB252020014A1",5,"EC","40.00",1.45,0,"2015-04-08",50,"2015-04-10T08:00:00","2015-04-03T08:00:00",{"v":-2.3333333333357587,"d":"-2"}]
["AS332 SUPER PUMA","262666","    9834","DIFFUSEUR EQUIPE","332A5210760001",10,"EC","50.00",5.2,0,"2015-02-12",50,"2015-04-10T08:00:00","2015-04-13T09:07:00",{"v":-57.33333333333576,"d":"-57"}]
["AS332 SUPER PUMA","262666","    9834","DIFFUSEUR EQUIPE","332A5210760001",10,"EC","50.00",5.2,0,"2015-02-12",50,"2015-04-10T08:00:00","2015-04-13T09:07:00",{"v":-57.33333333333576,"d":"-57"}]
["F900 TRONCON T5","261130","   27206","VOILE","FGFB252020014A1",5,"EC","50.00",0.25,0,"2015-04-14",50,"2015-04-13T08:15:00","2015-04-07T16:45:00",{"v":0.65625,"d":"1"}]
["F900 TRONCON T5","261130","   27206","VOILE","FGFB252020014A1",5,"EC","50.00",0.25,0,"2015-04-14",50,"2015-04-13T08:15:00","2015-04-07T16:45:00",{"v":0.65625,"d":"1"}]
["AS332 SUPER PUMA","262666","    9834","DIFFUSEUR EQUIPE","332A5210760001",10,"EC","60.00",1.3,0,"2015-02-16",50,"2015-04-15T15:32:00","NC",{"v":-58.6472222222219,"d":"-59"}]
["AS332 SUPER PUMA","262666","    9834","DIFFUSEUR EQUIPE","332A5210760001",10,"EC","60.00",1.3,0,"2015-02-16",50,"2015-04-15T15:32:00","NC",{"v":-58.6472222222219,"d":"-59"}]
["F900 TRONCON T5","261130","   27206","VOILE","FGFB252020014A1",5,"EC","60.00",0.95,0,"2015-04-28",50,"2015-04-15T11:43:00","2015-04-13T16:03:00",{"v":12.511805555557657,"d":"13"}]
["F900 TRONCON T5","261130","   27206","VOILE","FGFB252020014A1",5,"EC","60.00",0.95,0,"2015-04-28",50,"2015-04-15T11:43:00","2015-04-13T16:03:00",{"v":12.511805555557657,"d":"13"}]
["E2D","252008","   30814","RIB","123CS10204337/U05",6,"EC","50.00",5,0,"2015-04-02T11:21:00",50,"2015-04-16T08:00:00","2015-03-30T08:00:00"]
["E2D","252008","   30814","RIB","123CS10204337/U05",6,"EC","60.00",1.7,0,"2015-03-10T05:49:43",50,"2015-04-20T08:00:00","2015-03-11T16:53:00",{"$f":"M116-K116","v":{"v":41.09047453704261,"d":"41"}}]
["E2D","252011","   23466","RIB","123CS1150919/D01",6,"EC","70.00",2.6,0,"2015-04-17T08:54:51",50,"2015-04-20T08:00:00","NC",{"$f":"M117-K117","v":{"v":2.961909722223936,"d":"3"}}]
["AS332 SUPER PUMA","262666","    9834","DIFFUSEUR EQUIPE","332A5210760001",10,"EC","80.00",3.2,0,"2015-02-25",50,"2015-04-21T11:35:00","2015-04-21T15:19:00",{"$f":"K118-M118","v":{"v":-55.482638888890506,"d":"-55"}}]
["AS332 SUPER PUMA","262666","    9834","DIFFUSEUR EQUIPE","332A5210760001",10,"EC","80.00",3.2,0,"2015-02-25",50,"2015-04-21T11:35:00","2015-04-21T15:19:00",{"$f":"K119-M119","v":{"v":-55.482638888890506,"d":"-55"}}]
["RAFALE APEX","260260","    6295","ENTURE NUE","RA1M125316103",5,"EC","30.00",1.95,0,"2015-06-26",50,"2015-09-23T11:00:00","2015-06-17T15:33:00",{"$f":"K120-M120","v":{"v":-89.45833333333576,"d":"-89"}}]
["RAFALE APEX","260260","    6295","ENTURE NUE","RA1M125316103",5,"EC","50.00",0.7,0,"2015-07-07",50,"2015-09-29T08:00:00","2015-06-29T14:35:00",{"$f":"K121-M121","v":{"v":-84.33333333333576,"d":"-84"}}]
["F900/2000 DEFLECTEUR","261095","   21901","PLIAGE","F50B124000155B2M1",18,"EC","40.00",2.9,0,"2015-04-01",50,"2015-03-30T13:51:00","2015-04-01T14:06:00",{"$f":"K122-M122","v":{"v":1.4229166666700621,"d":"1"}},null,"françois","2015-03-18","2015-03-20"]
["F900 TRONCON T4","254120","   30151","BOITIER","FGFB244050005",1,"EC","70.00",0.51,0,"2015-02-13",50,"2015-03-16T10:00:00","NC",null,null,"mirek","2015-03-19","2015-03-19"]
["F900/2000 DEFLECTEUR","260332","   21932","PLIAGE","F50B114000218B2M1",18,"EC","40.00",2.9,0,"2015-03-23",50,"2015-03-25T16:04:00","2015-03-20T08:55:00",{"$f":"K124-M124","v":{"v":-2.6694444444437977,"d":"-3"}},null,"patrick","2015-03-18","2015-03-18"]
["EUROCOPTER ETIRAGE","260935","   32525","GOUTTIERE GAUCHE","365A25304236",10,"EC","70.00",3.2,6.29,"2015-02-24",50,"2015-03-04T14:24:00","EC",{"$f":"K125-M125","v":{"v":-8.599999999998545,"d":"-9"}},null,"jean-luc","2015-02-19","2015-03-18"]
["F900/2000 DEFLECTEUR","259012","   31919","PORTE NUE SOUS AF","FGFB114000371",10,"EC","70.00",4.7,0,"2015-02-06",50,"2015-03-17T08:50:00","NC",null,null,"max","2015-03-17","2015-03-17"]
["AS365 RAIL","265491","   31643","VOILE GAUCHE","365A21377520/DRW365A213775INDB",6,"D ","70.00",0.62,0,"2015-04-17",50,"2015-04-01T08:43:00","NC"]
["F900/2000 DEFLECTEUR","263347","   31919","PORTE NUE SOUS AF","FGFB114000371",10,"EA","20.00",0.4,0,"2015-04-10",50,"2015-04-13T13:56:00","NC",{"$f":"K128-M128","v":{"v":-3.5805555555562023,"d":"-4"}},"PC direct"]
["F900/2000 DEFLECTEUR","263347","   31919","PORTE NUE SOUS AF","FGFB114000371",10,"EA","20.00",0.4,0,"2015-04-10",50,"2015-04-13T13:56:00","NC",{"$f":"K129-M129","v":{"v":-3.5805555555562023,"d":"-4"}},"PC direct"]
["SILVERCREST IFD","261274","   36851","ACCESS DOOR, 8 O/C REAR","3879139030/HP01",6,"D ","40.00",2,0,"2014-10-08T06:51:26",50,"2015-04-13T08:03:00","NC",{"$f":"M130-K130","v":{"v":187.0496990740794,"d":"187"}},null,"ronan","2015-02-09"]
["SILVERCREST IFD","261274","   36851","ACCESS DOOR, 8 O/C REAR","3879139030/HP01",6,"D ","60.00",1.4,0,"2014-10-09T04:48:00",50,"2015-04-17T10:31:00","NC",{"$f":"M131-K131","v":{"v":190.23819444444962,"d":"190"}},null,"ronan","2015-02-09"]

{"sheet":"St-25-3-2015","index":4,"n_rows":52,"n_cols":18,"rows_kept":52}
["217386","    7941","STRINGER","123CS5010468/T01",2,"EC","50.00",7,7.06,"2015-03-11",50,"2015-03-23T08:31:00","EC",{"v":-12.35486111111095,"d":"-12"}]
["246575","    7938","STRINGER","123CS5010465/T01",2,"EC","50.00",6.6,0,"2015-03-11",50,"2015-03-25T10:49:00","NC",{"v":-14.450694444443798,"d":"-14"}]
["262554","    7936","STRINGER","123CS5010463/T01",2,"EC","50.00",6.6,0,"2015-03-11",50,"2015-03-25T12:00:00","NC",{"v":-14.5,"d":"-15"}]
["239087","    7937","STRINGER","123CS5010464/T01",2,"EC","50.00",6.6,0,"2015-03-11",50,"2015-03-25T15:49:00","NC",{"v":-14.659027777779556,"d":"-15"}]
["262568","    7939","STRINGER","123CS5010466/T01",2,"EC","50.00",6.6,0,"2015-03-11",50,"2015-03-26T08:58:00","NC",{"v":-15.37361111111386,"d":"-15"}]
["264721","    7940","STRINGER","123CS5010467/T01",2,"EC","50.00",7,0,"2015-03-11",50,"2015-03-26T10:37:00","NC",{"v":-15.442361111112405,"d":"-15"}]
["241852","    7927","STRINGER","123CS5010348/A01",2,"EC","40.00",4.2,0,"2015-03-13",50,"2015-03-30T11:14:00","NC",{"v":-17.468055555553292,"d":"-17"}]
["248048","    7811","STRINGER","123CS1102335/J02",2,"EC","40.00",2.8,0,"2015-04-07",50,"2015-04-01T08:00:00","NC",{"v":5.666666666664241,"d":"6"}]
["248055","    7800","STRINGER","123CS1102331/J02",2,"EC","40.00",3.9,0,"2015-04-07",50,"2015-04-01T08:00:00","NC",{"v":5.666666666664241,"d":"6"}]
["246777","    7521","STRINGER","123CS5010475/T01",2,"EC","50.00",7,0,"2015-04-08",50,"2015-04-02T08:00:00","NC",{"v":5.666666666664241,"d":"6"}]
["247399","    7783","STRINGER","123CS1102231/G03",2,"EC","40.00",3.9,0,"2015-04-10",50,"2015-04-07T09:13:00","NC",{"v":2.615972222221899,"d":"3"}]
["262711","    7942","STRINGER","123CS5010470/T01",2,"EC","50.00",7,0,"2015-04-10",50,"2015-04-07T10:28:00","NC",{"v":2.56388888888614,"d":"3"}]
["263161","    7522","STRINGER","123CS5010476/T01",2,"EC","50.00",7,0,"2015-04-10",50,"2015-04-07T15:59:00","NC",{"v":2.3340277777751908,"d":"2"}]
["246645","    7816","STRINGER","123CS1102336/J02",2,"EC","40.00",2.8,0,"2015-04-17",50,"2015-04-13T09:43:00","NC",{"v":3.59513888888614,"d":"4"}]
["246776","    7916","STRINGER","123CS5010335/A03",2,"EC","40.00",4.2,0,"2015-04-17",50,"2015-04-13T10:55:00","NC",{"v":3.5451388888905058,"d":"4"}]
["246497","    7917","STRINGER","123CS5010336/A03",2,"EC","40.00",4.2,0,"2015-04-17",50,"2015-04-13T11:13:00","NC",{"v":3.53263888888614,"d":"4"}]
["246709","    7911","STRINGER","123CS50103119/V05",2,"EC","40.00",4.2,0,"2015-04-17",50,"2015-04-13T11:49:00","NC",{"v":3.507638888891961,"d":"4"}]
["251452","    7907","STRINGER","123CS50103101/A01",2,"EC","40.00",3.9,0,"2015-04-17",50,"2015-04-13T13:17:00","NC",{"v":3.446527777778101,"d":"3"}]
["248026","    7785","STRINGER","123CS1102232/G03",2,"EC","40.00",3.9,0,"2015-04-17",50,"2015-04-13T13:45:00","NC",{"v":3.4270833333357587,"d":"3"}]
["251937","    7926","STRINGER","123CS5010347/A01",2,"EC","40.00",4.2,0,"2015-04-17",50,"2015-04-13T14:26:00","NC",{"v":3.398611111108039,"d":"3"}]
["264737","    7908","STRINGER","123CS50103102/A01",2,"EC","40.00",3.9,0,"2015-04-17",50,"2015-04-13T14:39:00","NC",{"v":3.389583333329938,"d":"3"}]
["247426","    7943","STRINGER","123CS5010471/T01",2,"EC","40.00",4.4,0,"2015-04-20",50,"2015-04-15T08:00:00","NC",{"v":4.666666666664241,"d":"5"}]
["262592","    7925","STRINGER","123CS5010345/A01",4,"EC","40.00",2.2,0,"2015-04-29",50,"2015-04-23T08:00:00","NC",{"v":5.666666666664241,"d":"6"}]
["266457","    7788","STRINGER","123CS1102233/G03",2,"EC","40.00",3.2,0,"2015-05-05",50,"2015-04-29T08:00:00","NC",{"v":5.666666666664241,"d":"6"}]
["266460","    7795","STRINGER","123CS1102237/G03",2,"EC","40.00",1.4,0,"2015-05-05",50,"2015-04-29T08:00:00","NC",{"v":5.666666666664241,"d":"6"}]
["255326","    7805","STRINGER","123CS1102333/J02",2,"EC","40.00",3.2,0,"2015-06-22",50,"2015-06-17T08:00:00","NC",{"v":4.666666666664241,"d":"5"}]
["264730","    7928","STRINGER","123CS5010349/A01",2,"EC","40.00",2.8,0,"2015-06-24",50,"2015-06-22T08:00:00","NC",{"v":1.6666666666642413,"d":"2"}]
["264731","   18686","STRINGER","123CS50103198/V05",2,"EC","40.00",3.2,0,"2015-06-24",50,"2015-06-22T08:00:00","NC",{"v":1.6666666666642413,"d":"2"}]
["264730","    7928","STRINGER","123CS5010349/A01",2,"EC","50.00",1.3,0,"2015-06-26",50,"2015-06-24T10:48:00","NC",{"v":1.5500000000029104,"d":"2"}]
["264731","   18686","STRINGER","123CS50103198/V05",2,"EC","50.00",1.3,0,"2015-06-26",50,"2015-06-24T11:12:00","NC",{"v":1.5333333333328483,"d":"2"}]
["239151","    7919","STRINGER","123CS5010338/A01",2,"EC","40.00",3.3,0,"2015-07-01",50,"2015-06-26T08:00:00","NC",{"v":4.666666666664241,"d":"5"}]
["256551","    7794","STRINGER","123CS1102236/G03",2,"EC","40.00",2.8,0,"2015-07-01",50,"2015-06-26T08:00:00","NC",{"v":4.666666666664241,"d":"5"}]
["264732","    7918","STRINGER","123CS5010337/U01",2,"EC","40.00",3.3,0,"2015-07-01",50,"2015-06-26T08:00:00","NC",{"v":4.666666666664241,"d":"5"}]
["264733","    7909","STIRINGER","123CS50103103/A01",2,"EC","40.00",3.9,0,"2015-07-01",50,"2015-06-26T08:00:00","NC",{"v":4.666666666664241,"d":"5"}]
["264736","    7914","STRINGER","123CS5010333/U12",2,"EC","40.00",4.6,0,"2015-07-01",50,"2015-06-26T08:00:00","NC",{"v":4.666666666664241,"d":"5"}]
["264742","    7524","STRINGER","123CS5010478/T01",2,"EC","40.00",5.6,0,"2015-07-01",50,"2015-06-26T08:00:00","NC",{"v":4.666666666664241,"d":"5"}]
["264743","    7520","STRINGER","123CS5010474/T01",2,"EC","40.00",4.6,0,"2015-07-01",50,"2015-06-26T08:00:00","NC",{"v":4.666666666664241,"d":"5"}]
["264748","    7934","STRINGER","123CS5010433/G01",2,"EC","40.00",3.5,0,"2015-07-01",50,"2015-06-26T08:00:00","NC",{"v":4.666666666664241,"d":"5"}]
["264751","    7935","STRINGER","123CS5010434/G01",2,"EC","40.00",3.5,0,"2015-07-01",50,"2015-06-26T08:00:00","NC",{"v":4.666666666664241,"d":"5"}]
["264730","    7928","STRINGER","123CS5010349/A01",2,"EC","60.00",0.4,0,"2015-07-01",50,"2015-06-29T08:00:00","NC",{"v":1.6666666666642413,"d":"2"}]
["264731","   18686","STRINGER","123CS50103198/V05",2,"EC","60.00",0.4,0,"2015-07-01",50,"2015-06-29T08:00:00","NC",{"v":1.6666666666642413,"d":"2"}]
["246574","    7937","STRINGER","123CS5010464/T01",2,"EC","50.00",6.6,0,"2015-07-02",50,"2015-06-29T08:28:00","NC",{"v":2.647222222221899,"d":"3"}]
["247421","    5693","STRINGER","123CS5010469/T01",2,"EC","50.00",7,0,"2015-07-02",50,"2015-06-29T08:35:00","NC",{"v":2.6423611111094942,"d":"3"}]
["264720","    7941","STRINGER","123CS5010468/T01",2,"EC","50.00",7,0,"2015-07-02",50,"2015-06-29T08:48:00","NC",{"v":2.633333333331393,"d":"3"}]
["264722","    7936","STRINGER","123CS5010463/T01",2,"EC","50.00",6.6,0,"2015-07-02",50,"2015-06-29T09:13:00","NC",{"v":2.615972222221899,"d":"3"}]
["264724","    7938","STRINGER","123CS5010465/T01",2,"EC","50.00",6.6,0,"2015-07-02",50,"2015-06-29T09:19:00","NC",{"v":2.6118055555562023,"d":"3"}]
["262712","    7910","STRINGER","123CS50103104/A01",2,"D ","40.00",3.9,0,"2015-07-01",50,"2015-06-30T08:07:00","NC",{"v":0.6618055555591127,"d":"1"}]
["263251","    7522","STRINGER","123CS5010476/T01",2,"D ","50.00",7,0,"2015-10-22",50,"2015-10-20T10:27:00","NC",{"v":1.5645833333328483,"d":"2"}]
["266458","    7791","STRINGER","123CS1102235/G03",2,"EC","40.00",2.8,0,"2015-11-12",50,"2015-11-06T08:00:00","NC",{"v":5.666666666664241,"d":"6"}]
["260175","    7794","STRINGER","123CS1102236/G03",2,"D ","40.00",2.8,0,"2015-12-03",50,"2015-12-02T08:51:00","NC",{"v":0.6312499999985448,"d":"1"}]
["264738","    7922","STRINGER","123CS5010341/A01",2,"EC","40.00",4.2,4.02,"2015-07-01",50,"","EC",{"$error":"#VALUE!"}]
["254682","    7817","STRINGER","123CS11023737/J02",2,"EC","40.00",0.45,0,"2014-12-25T04:07:00",50,"2014-11-18","NC",null,null,"kevin","2015-01-13","2015-01-23"]

{"sheet":"30-03-2015","index":5,"n_rows":142,"n_cols":19,"rows_kept":142}
["F900 TRONCON T5","262665","   27326","CORNIERE","FGFB257520032",5,"EC","40.00",0.65,0,"2015-04-30",50,"2015-04-22T08:00:00","2015-04-27T08:00:00",{"$f":"K1-M1","v":{"v":7.666666666664241,"d":"8"}},null,"CH"]
["E2D","251494","    7705","SUPPORT","123CS5110192/A06",6,"EC","30.00",0.26,0,"2015-03-12T00:53:29",50,"2015-04-27T16:12:00","2015-04-22T16:44:00",{"$f":"M2-K2","v":{"v":46.63785879629722,"d":"47"}},null,"CH"]
["NH90 CLOISON PARE FEU","262617","   21581","RAIDISSEUR SUPERIEUR","S713A5016109",5,"EC","60.00",3.95,0,"2015-05-05",50,"2015-04-28T08:29:00","NC",{"$f":"K3-M3","v":{"v":6.646527777775191,"d":"7"}},null,"CH"]
["E2D","251494","    7705","SUPPORT","123CS5110192/A06",6,"EC","40.00",0.5,0,"2015-03-20T23:02:00",50,"2015-04-28T15:14:00","2015-04-29T16:18:00",null,null,"CH"]
["F900 TRONCON T5","265494","   27803","REVETEMENT DE SEUIL","FGFB256011001A2",5,"EC","40.00",12.7,0,"2015-05-06",50,"2015-04-29T08:00:00","NC",{"$f":"K5-M5","v":{"v":6.666666666664241,"d":"7"}},null,"PE3"]
["F900 TRONCON T5","263219","   27934","LISSE 8 C25-27 G","FGFB256007004A3",5,"EC","50.00",0.6,0,"2015-05-19",50,"2015-05-04T08:00:00","NC",null,null,"PE2"]
["AS365 DAUPHIN","254181","    6359","CONDUIT EQUIPE","365A54502227EQ",20,"EC","70.00",3.2,0,"2015-04-01",50,"2015-05-05T13:25:00","NC",{"$f":"K7-M7","v":{"v":-34.55902777778101,"d":"-35"}}]
["AS365 DAUPHIN","254181","    6359","CONDUIT EQUIPE","365A54502227EQ",20,"EC","130.00",10.2,0,"2015-05-05",50,"2015-05-05T16:24:00","2015-06-11T08:00:00",{"$f":"K8-M8","v":{"v":-0.6833333333343035,"d":"-1"}}]
["F900 TRONCON T5","263427","   28190","CORNIERE EXTRADOS D.","FGFB257620009",5,"EC","40.00",1.75,0,"2015-05-19",50,"2015-05-07T08:00:00","NC",null,null,"PE2"]
["E2D","249456","   23865","STIFFENER","123CS1192111/B01",6,"EC","50.00",10.4,0,"2015-09-22T11:39:26",50,"2015-06-09T15:54:00","2015-09-29T08:00:00",{"$f":"M10-K10","v":{"v":-104.82321759259503,"d":"-105"}},null,"CH3"]
["E2D","249456","   23865","STIFFENER","123CS1192111/B01",6,"EC","50.00",10.4,0,"2015-09-22T11:39:26",50,"2015-06-09T15:54:00","2015-09-29T08:00:00",{"v":-104.82321759259503,"d":"-105"},null,"CH3"]
["E2D","249456","   23865","STIFFENER","123CS1192111/B01",6,"EC","70.00",2.6,0,"2015-09-28T08:54:51",50,"2015-06-17T16:18:00","2015-10-07T09:12:00",{"v":-102.69225694444322,"d":"-103"},null,"CH3"]
["E2D","249456","   23865","STIFFENER","123CS1192111/B01",6,"EC","70.00",2.6,0,"2015-09-28T08:54:51",50,"2015-06-17T16:18:00","2015-10-07T09:12:00",{"v":-102.69225694444322,"d":"-103"},null,"CH3"]
["E2D","249456","   23865","STIFFENER","123CS1192111/B01",6,"EC","90.00",2.6,0,"2015-10-01T08:54:51",50,"2015-06-23T10:43:00","2015-10-07T09:12:00",{"v":-99.92489583333372,"d":"-100"},null,"CH3"]
["E2D","249456","   23865","STIFFENER","123CS1192111/B01",6,"EC","90.00",2.6,0,"2015-10-01T08:54:51",50,"2015-06-23T10:43:00","2015-10-07T09:12:00",{"v":-99.92489583333372,"d":"-100"},null,"CH3"]
["F900 TRONCON T5","265494","   27803","REVETEMENT DE SEUIL","FGFB256011001A2",5,"EC","80.00",1.2,0,"2015-07-16",50,"2015-07-08T08:00:00","NC",{"$f":"K16-M16","v":{"v":7.666666666664241,"d":"8"}},null,"PE3"]
["E2D","255421","    7642","STIFFENER","123CS5110031/NC00",6,"EC","50.00",1.1,0,"2015-06-08T03:46:17",50,"2015-08-20T08:00:00","NC",{"$f":"M17-K17","v":{"v":73.17619212963473,"d":"73"}},null,"CH2"]
["E2D","255423","    7643","STIFFENER","123CS5110032/NC00",6,"EC","50.00",1.1,0,"2015-06-08T03:46:17",50,"2015-08-20T08:00:00","NC",{"$f":"M18-K18","v":{"v":73.17619212963473,"d":"73"}},null,"CH2"]
["E2D","255421","    7642","STIFFENER","123CS5110031/NC00",6,"EC","40.00",1.1,0,"2015-06-13T15:02:00",50,"2015-08-20T16:30:00","2015-06-10T13:22:00",null,null,"CH2"]
["E2D","255423","    7643","STIFFENER","123CS5110032/NC00",6,"EC","40.00",1.1,0,"2015-06-13T15:02:00",50,"2015-08-20T16:30:00","2015-06-10T15:54:00",null,null,"CH2"]
["AS332 SUPER PUMA","262666","    9834","DIFFUSEUR EQUIPE","332A5210760001",10,"EC","50.00",5.2,0,"2015-02-12",50,"2015-04-13T08:00:00","2015-04-10T08:00:00",{"$f":"K21-M21","v":{"v":-60.33333333333576,"d":"-60"}},null,"antoine","2015-03-26"]
["AS332 SUPER PUMA","262666","    9834","DIFFUSEUR EQUIPE","332A5210760001",10,"EC","50.00",5.2,0,"2015-02-12",50,"2015-04-13T08:00:00","2015-04-10T08:00:00",{"v":-60.33333333333576,"d":"-60"},null,"antoine","2015-03-26"]
["F900 TRONCON T5","261190","   27283","REPRISE","FGFB256009011",5,"EC","60.00",1.7,0,"2015-04-30",50,"2015-04-20T08:00:00","NC",{"v":9.666666666664241,"d":"10"},null,"CH"]
["NH90 CLOISON PARE FEU","262617","   21581","RAIDISSEUR SUPERIEUR","S713A5016109",5,"EC","40.00",1.45,0,"2015-04-22",50,"2015-04-23T08:00:00","2015-04-22T09:27:00",{"v":-1.3333333333357587,"d":"-1"},null,"CH"]
["F900 TRONCON T5","262665","   27326","CORNIERE","FGFB257520032",5,"EC","50.00",0.95,0,"2015-05-07",50,"2015-04-23T11:58:00","2015-04-29T16:03:00",{"v":13.50138888888614,"d":"14"},null,"CH"]
["F900/2000 DEFLECTEUR","261211","   21929","PLIAGE","F50B114000217B2M1",18,"EC","40.00",2.36,0,"2015-04-09",50,"2015-04-02T14:38:00","NC",{"v":6.390277777776646,"d":"6"},null,"patrick","2015-03-26"]
["AS365 DAUPHIN","254181","    6359","CONDUIT EQUIPE","365A54502227EQ",20,"EC","40.00",2.2,0,"2015-03-31",50,"2015-04-23T08:00:00","NC",{"v":-23.33333333333576,"d":"-23"},null,"antoine","2015-03-26"]
["AS365 DAUPHIN","254181","    6359","CONDUIT EQUIPE","365A54502227EQ",20,"EC","40.00",2.2,0,"2015-03-31",50,"2015-04-23T08:00:00","NC",{"v":-23.33333333333576,"d":"-23"},null,"antoine","2015-03-26"]
["F900/2000 DEFLECTEUR","261992","   21920","PLIAGE","F50B124000212B2M1",18,"EC","40.00",2,0,"2015-03-17",50,"2015-03-24T09:46:00","NC",{"v":-7.406944444446708,"d":"-7"},null,"patrick","2015-03-25"]
["F900/2000 DEFLECTEUR","261992","   21920","PLIAGE","F50B124000212B2M1",18,"EC","60.00",1.26,0,"2015-04-02",50,"2015-03-30T08:00:00","NC",{"v":2.6666666666642413,"d":"3"},null,"patrick","2015-03-25"]
["F900 TRONCON T5","261190","   27283","REPRISE","FGFB256009011",5,"EC","40.00",3.7,0,"2015-04-14",50,"2015-04-10T08:00:00","2015-04-09T08:00:00",{"v":3.6666666666642413,"d":"4"},null,"CH"]
["F900 TRONCON T5","261966","   27749","CORNIERE POUTRE DROITE","FGFB252002011",5,"EC","40.00",0.55,0,"2015-04-13",50,"2015-04-13T08:00:00","2015-04-08T08:00:00",{"v":-0.33333333333575865,"d":"-0"},null,"ronan","2015-03-24"]
["F900 TRONCON T5","261966","   27749","CORNIERE POUTRE DROITE","FGFB252002011",5,"EC","50.00",0.95,0,"2015-04-17",50,"2015-04-14T15:57:00","2015-04-13T08:00:00",{"v":2.335416666668607,"d":"2"},null,"ronan","2015-03-24"]
["F900 TRONCON T5","261203","   27250","CORNIERE","FGFB252030011",5,"EC","40.00",0.6,0,"2015-04-13",50,"2015-04-13T08:00:00","2015-04-07T16:08:00",{"v":-0.33333333333575865,"d":"-0"},null,"ronan","2015-03-24"]
["F900 TRONCON T5","261203","   27250","CORNIERE","FGFB252030011",5,"EC","50.00",0.95,0,"2015-04-17",50,"2015-04-14T15:57:00","2015-04-13T08:00:00",{"v":2.335416666668607,"d":"2"},null,"ronan","2015-03-24"]
["F900 TRONCON T5","261130","   27206","VOILE","FGFB252020014A1",5,"EC","50.00",0.25,0,"2015-04-14",50,"2015-04-13T08:15:00","2015-04-07T16:45:00",{"v":0.65625,"d":"1"},null,"ronan","2015-03-24"]
["E2D","252011","   23466","RIB","123CS1150919/D01",6,"EC","40.00",2,0,"2015-04-10T06:51:26",50,"2015-04-07T16:18:00","2015-04-10T08:00:00",{"$f":"M37-K37","v":{"v":-2.606550925920601,"d":"-3"}},null,"mirek","2015-03-24"]
["RAFALE APEX","260260","    6295","ENTURE NUE","RA1M125316103",5,"EC","30.00",1.95,0,"2015-06-26",50,"2015-03-25T14:46:00","2015-06-17T15:33:00",{"$f":"K38-M38","v":{"v":92.38472222222481,"d":"92"}},null,"patrick","2015-03-23"]
["F900 TRONCON T5","262714","   28582","SUPPORT","FGFB252302113A2",10,"EC","out",2.4,0,"2015-03-10",50,"2015-03-23T08:00:00","NC",null,"out ???","nicholas","2015-03-23"]
["EUROCOPTER ETIRAGE","250872","   37649","SEMELLE GAUCHE","365A21312844/365A213128INDAX",6,"EC","70.00",1.7,0,"2014-11-27",50,"2015-03-02T16:19:00","NC",{"$f":"K40-M40","v":{"v":-95.67986111110804,"d":"-96"}},"pbl outillage","gaby","2015-02-16"]
["E2D","266221","    7821","STIFFENER","123CS1102620/B00",6,"EC","40.00",0.38,0,"2015-02-02",50,"2015-03-23T08:00:00","NC",null,null,"sabine","2015-03-19"]
["F900 TRONCON T5","260951","   27935","LISSE 8 C27-30 G","FGFB256007007A3",5,"EC","40.00",1,0,"2015-02-16",50,"2015-03-09T10:00:00","NC",{"$f":"K42-M42","v":{"v":-21.41666666666424,"d":"-21"}},null,"remi","2015-02-19"]
["FGF PIECES ELEMENTAI","264760","   17186","BOSSAGE","FGFB581410014A1",5,"EC","50.00",22.7,0,"2015-04-09",50,"2015-04-13T08:00:00","2015-05-25T09:36:00",{"v":-4.333333333335759,"d":"-4"},null,"gaby","2015-03-19"]
["FGF PIECES ELEMENTAI","264760","   17186","BOSSAGE","FGFB581410014A1",5,"EC","50.00",22.7,0,"2015-04-09",50,"2015-04-13T08:00:00","2015-05-25T09:36:00",{"v":-4.333333333335759,"d":"-4"},null,"gaby","2015-03-19"]
["FGF PIECES ELEMENTAI","264760","   17186","BOSSAGE","FGFB581410014A1",5,"EC","50.00",22.7,0,"2015-04-09",50,"2015-04-13T08:00:00","2015-05-25T09:36:00",{"v":-4.333333333335759,"d":"-4"},null,"gaby","2015-03-19"]
["F900 TRONCON T5","260951","   27935","LISSE 8 C27-30 G","FGFB256007007A3",5,"EC","50.00",1.7,1.31,"2015-02-20",50,"2015-03-09T09:41:00","EC",{"v":-17.403472222220444,"d":"-17"},null,"remi","2015-02-19"]
["FGF PIECES ELEMENTAI","264896","   37898","PLIAGE","FGFB581410006B1",10,"EC","20.00",1.7,0,"2015-03-26",50,"2015-03-20T08:50:00","NC",{"v":5.631944444445253,"d":"6"},null,"jean-luc","2015-03-05"]
["FGF PIECES ELEMENTAI","264896","   37898","PLIAGE","FGFB581410006B1",10,"EC","20.00",1.7,0,"2015-03-26",50,"2015-03-20T08:50:00","NC",{"v":5.631944444445253,"d":"6"},null,"jean-luc","2015-03-05"]
["FALCON 10/MY20","266590","   20697","BOUCHE D'ALIMENTATION","MY2072185820",1,"EC","30.00",3.2,"","2015-03-27",50,"2015-03-25T15:45:00","NC",null,null,"ronan","2015-03-19"]
["EUROCOPTER ETIRAGE","250873","   37649","SEMELLE GAUCHE","365A21312844/365A213128INDAX",2,"EC","70.00",0.7,0,"2014-11-14",50,"2015-03-02T15:40:00","NC",{"$f":"K50-M50","v":{"v":-108.65277777778101,"d":"-109"}},"pbl outillage","gaby","2015-02-16"]
["EUROCOPTER ETIRAGE","251977","   37649","SEMELLE GAUCHE","365A21312844/365A213128INDAX",4,"EC","70.00",1.2,0,"2014-11-14",50,"2015-03-02T16:01:00","NC",{"$f":"K51-M51","v":{"v":-108.66736111111095,"d":"-109"}},"pbl outillage","gaby","2015-02-16"]
["F900/2000 CARENE","248010","    5786","CARENE SOUDEE DROITE","F50B182001B2",3,"EC","70.00",2,0,"2014-11-17",50,"2015-03-19T08:00:00","NC",{"$f":"K52-M52","v":{"v":-122.33333333333576,"d":"-122"}},null,"jean-luc","2015-03-04"]
["F900/2000 CARENE","248010","    5786","CARENE SOUDEE DROITE","F50B182001B2",3,"EC","70.00",2,0,"2014-11-17",50,"2015-03-19T08:00:00","NC",{"$f":"K53-M53","v":{"v":-122.33333333333576,"d":"-122"}},null,"jean-luc","2015-03-04"]
["E2D","266221","    7821","STIFFENER","123CS1102620/B00",6,"EC","50.00",0.8,0,"2015-02-05",50,"2015-03-23T14:28:00","NC",null,null,"sabine","2015-03-19"]
["F900/2000 CARENE","245403","    5786","CARENE SOUDEE DROITE","F50B182001B2",3,"EC","70.00",2,0,"2014-10-29",50,"2015-03-18T08:00:00","NC",{"$f":"K55-M55","v":{"v":-140.33333333333576,"d":"-140"}},null,"antoine","2015-03-04"]
["F900/2000 CARENE","245403","    5786","CARENE SOUDEE DROITE","F50B182001B2",3,"EC","70.00",2,0,"2014-10-29",50,"2015-03-18T08:00:00","NC",{"v":-140.33333333333576,"d":"-140"},null,"antoine","2015-03-04"]
["EUROCOPTER ETIRAGE","250872","   37649","SEMELLE GAUCHE","365A21312844/365A213128INDAX",6,"EC","80.00",2,0,"2014-12-11",50,"2015-03-11T09:16:00","NC",{"v":-90.38611111111095,"d":"-90"},"pbl outillage","gaby","2015-02-16"]
["EUROCOPTER ETIRAGE","250873","   37649","SEMELLE GAUCHE","365A21312844/365A213128INDAX",2,"EC","80.00",0.8,0,"2014-11-28",50,"2015-03-11T11:08:00","NC",{"v":-103.4638888888876,"d":"-103"},"pbl outillage","gaby","2015-02-16"]
["EUROCOPTER ETIRAGE","251977","   37649","SEMELLE GAUCHE","365A21312844/365A213128INDAX",4,"EC","80.00",1.4,0,"2014-11-28",50,"2015-03-11T11:55:00","NC",{"v":-103.49652777778101,"d":"-103"},"pbl outillage","gaby","2015-02-16"]
["F900/2000 CARENE","248010","    5786","CARENE SOUDEE DROITE","F50B182001B2",3,"EC","90.00",9,0,"2014-11-21",50,"2015-03-25T10:34:00","NC",{"v":-124.44027777777956,"d":"-124"},null,"jean-luc","2015-03-04"]
["F900/2000 CARENE","248010","    5786","CARENE SOUDEE DROITE","F50B182001B2",3,"EC","90.00",9,0,"2014-11-21",50,"2015-03-25T10:34:00","NC",{"v":-124.44027777777956,"d":"-124"},null,"jean-luc","2015-03-04"]
["AS332 SUPER PUMA","259226","   10178","SUPPORT ROBINET","332A55422620",3,"EC","50.00",1.3,0,"2015-03-05",50,"2015-03-16T16:11:00","2015-03-13T10:24:00",{"v":-11.674305555556202,"d":"-12"},null,"patrick","2015-03-11"]
["F900/2000 CARENE","245403","    5786","CARENE SOUDEE DROITE","F50B182001B2",3,"EC","90.00",9,0,"2014-11-04",50,"2015-03-23T08:00:00","NC",{"v":-139.33333333333576,"d":"-139"},null,"antoine","2015-03-04"]
["F900/2000 CARENE","245403","    5786","CARENE SOUDEE DROITE","F50B182001B2",3,"EC","90.00",9,0,"2014-11-04",50,"2015-03-23T08:00:00","NC",{"v":-139.33333333333576,"d":"-139"},null,"antoine","2015-03-04"]
["AS332 SUPER PUMA","259230","   10175","SUPPORT ROBINET","332A55422621",3,"EC","50.00",1.3,0,"2015-03-05",50,"2015-03-24T14:04:00","2015-03-16T14:08:00",{"v":-19.58611111110804,"d":"-20"},null,"remi","2015-03-18"]
["FGF PIECES ELEMENTAI","264760","   17186","BOSSAGE","FGFB581410014A1",5,"EC","30.00",22.7,0,"2015-04-01",50,"2015-03-30T08:00:00","2015-05-11T09:09:00",{"v":1.6666666666642413,"d":"2"},null,"gaby","2015-03-19"]
["FGF PIECES ELEMENTAI","264760","   17186","BOSSAGE","FGFB581410014A1",5,"EC","30.00",22.7,0,"2015-04-01",50,"2015-03-30T08:00:00","2015-05-11T09:09:00",{"v":1.6666666666642413,"d":"2"},null,"gaby","2015-03-19"]
["FGF PIECES ELEMENTAI","264760","   17186","BOSSAGE","FGFB581410014A1",5,"EC","30.00",22.7,0,"2015-04-01",50,"2015-03-30T08:00:00","2015-05-11T09:09:00",{"v":1.6666666666642413,"d":"2"},null,"gaby","2015-03-19"]
["AS332 SUPER PUMA","259226","   10178","SUPPORT ROBINET","332A55422620",3,"EC","70.00",0.65,0,"2015-03-24",50,"2015-03-23T08:43:00","2015-03-18T08:00:00",{"v":0.6368055555576575,"d":"1"},null,"patrick","2015-03-11"]
["AS332 SUPER PUMA","259230","   10175","SUPPORT ROBINET","332A55422621",3,"EC","70.00",0.65,0,"2015-03-24",50,"2015-03-30T08:00:00","2015-03-23T08:00:00",{"v":-6.333333333335759,"d":"-6"},null,"remi","2015-03-18"]
["F900/2000 CARENE","248010","    5786","CARENE SOUDEE DROITE","F50B182001B2",3,"EC","110.00",15,0,"2014-11-26",50,"2015-04-07T11:55:00","NC",{"v":-132.496527777781,"d":"-132"},null,"jean-luc","2015-03-04"]
["F900/2000 CARENE","248010","    5786","CARENE SOUDEE DROITE","F50B182001B2",3,"EC","110.00",15,0,"2014-11-26",50,"2015-04-07T11:55:00","NC",{"v":-132.496527777781,"d":"-132"},null,"jean-luc","2015-03-04"]
["F900/2000 CARENE","245403","    5786","CARENE SOUDEE DROITE","F50B182001B2",3,"EC","110.00",15,0,"2014-11-07",50,"2015-03-30T08:00:00","NC",{"v":-143.33333333333576,"d":"-143"},null,"antoine","2015-03-04"]
["F900/2000 CARENE","245403","    5786","CARENE SOUDEE DROITE","F50B182001B2",3,"EC","110.00",15,0,"2014-11-07",50,"2015-03-30T08:00:00","NC",{"v":-143.33333333333576,"d":"-143"},null,"antoine","2015-03-04"]
["FALCON 10/MY20","266590","   20697","BOUCHE D'ALIMENTATION","MY2072185820",1,"EC","50.00",1.2,"","2015-04-10",50,"2015-04-01T15:50:00","NC",null,null,"CH","2015-03-19"]
["FGF PIECES ELEMENTAI","264760","   17186","BOSSAGE","FGFB581410014A1",5,"EC","80.00",2.7,0,"2015-04-16",50,"2015-04-24T08:00:00","2015-06-05T08:00:00",{"$f":"K76-M76","v":{"v":-8.333333333335759,"d":"-8"}},null,"gaby","2015-03-19"]
["FGF PIECES ELEMENTAI","264760","   17186","BOSSAGE","FGFB581410014A1",5,"EC","80.00",2.7,0,"2015-04-16",50,"2015-04-24T08:00:00","2015-06-05T08:00:00",{"v":-8.333333333335759,"d":"-8"},null,"gaby","2015-03-19"]
["FGF PIECES ELEMENTAI","264760","   17186","BOSSAGE","FGFB581410014A1",5,"EC","80.00",2.7,0,"2015-04-16",50,"2015-04-24T08:00:00","2015-06-05T08:00:00",{"v":-8.333333333335759,"d":"-8"},null,"gaby","2015-03-19"]
["FGF PIECES ELEMENTAI","264896","   37898","PLIAGE","FGFB581410006B1",10,"EC","60.00",2.2,0,"2015-04-17",50,"2015-04-10T08:00:00","NC",{"v":6.666666666664241,"d":"7"},null,"jean-luc","2015-03-05"]
["FGF PIECES ELEMENTAI","264896","   37898","PLIAGE","FGFB581410006B1",10,"EC","60.00",2.2,0,"2015-04-17",50,"2015-04-10T08:00:00","NC",{"v":6.666666666664241,"d":"7"},null,"jean-luc","2015-03-05"]
["FGF PIECES ELEMENTAI","264760","   17186","BOSSAGE","FGFB581410014A1",5,"EC","90.00",2.2,0,"2015-04-22",50,"2015-04-27T08:00:00","2015-06-08T09:13:00",{"v":-5.333333333335759,"d":"-5"},null,"gaby","2015-03-19"]
["FGF PIECES ELEMENTAI","264760","   17186","BOSSAGE","FGFB581410014A1",5,"EC","90.00",2.2,0,"2015-04-22",50,"2015-04-27T08:00:00","2015-06-08T09:13:00",{"v":-5.333333333335759,"d":"-5"},null,"gaby","2015-03-19"]
["FGF PIECES ELEMENTAI","264760","   17186","BOSSAGE","FGFB581410014A1",5,"EC","90.00",2.2,0,"2015-04-22",50,"2015-04-27T08:00:00","2015-06-08T09:13:00",{"v":-5.333333333335759,"d":"-5"},null,"gaby","2015-03-19"]
["FGF PIECES ELEMENTAI","264896","   37898","PLIAGE","FGFB581410006B1",10,"EC","80.00",8.2,0,"2015-05-06",50,"2015-04-22T09:15:00","NC",{"v":13.614583333335759,"d":"14"},null,"jean-luc","2015-03-05"]
["FGF PIECES ELEMENTAI","264896","   37898","PLIAGE","FGFB581410006B1",10,"EC","80.00",8.2,0,"2015-05-06",50,"2015-04-22T09:15:00","NC",{"v":13.614583333335759,"d":"14"},null,"jean-luc","2015-03-05"]
["F900/2000 CARENE","252681","    5756","CARENE SOUDEE GAUCHE","F50B181001B2",3,"EC","30.00",4.7,0,"2014-12-04",50,"2015-03-26T08:00:00","NC",{"v":-112.33333333333576,"d":"-112"},null,"jean-luc","2015-03-23"]
["F900/2000 CARENE","252681","    5756","CARENE SOUDEE GAUCHE","F50B181001B2",3,"EC","30.00",4.7,0,"2014-12-04",50,"2015-03-26T08:00:00","NC",{"v":-112.33333333333576,"d":"-112"},null,"jean-luc","2015-03-23"]
["F900/2000 CARENE","252681","    5756","CARENE SOUDEE GAUCHE","F50B181001B2",3,"EC","30.00",4.7,0,"2014-12-04",50,"2015-03-26T08:00:00","NC",{"v":-112.33333333333576,"d":"-112"},null,"jean-luc","2015-03-23"]
["F900/2000 CARENE","252682","    5756","CARENE SOUDEE GAUCHE","F50B181001B2",3,"EC","30.00",4.7,0,"2014-12-19",50,"2015-03-26T08:00:00","NC",{"v":-97.33333333333576,"d":"-97"},null,"jean-luc","2015-03-23"]
["F900/2000 CARENE","252682","    5756","CARENE SOUDEE GAUCHE","F50B181001B2",3,"EC","30.00",4.7,0,"2014-12-19",50,"2015-03-26T08:00:00","NC",{"v":-97.33333333333576,"d":"-97"},null,"jean-luc","2015-03-23"]
["F900/2000 CARENE","252682","    5756","CARENE SOUDEE GAUCHE","F50B181001B2",3,"EC","30.00",4.7,0,"2014-12-19",50,"2015-03-26T08:00:00","NC",{"v":-97.33333333333576,"d":"-97"},null,"jean-luc","2015-03-23"]
["F900/2000 CARENE","261870","    5786","CARENE SOUDEE DROITE","F50B182001B2",3,"EC","30.00",4.7,0,"2015-03-16",50,"2015-03-26T08:00:00","NC",{"v":-10.333333333335759,"d":"-10"},null,"jean-luc","2015-03-23"]
["F900/2000 CARENE","261870","    5786","CARENE SOUDEE DROITE","F50B182001B2",3,"EC","30.00",4.7,0,"2015-03-16",50,"2015-03-26T08:00:00","NC",{"v":-10.333333333335759,"d":"-10"},null,"jean-luc","2015-03-23"]
["F900/2000 CARENE","261870","    5786","CARENE SOUDEE DROITE","F50B182001B2",3,"EC","30.00",4.7,0,"2015-03-16",50,"2015-03-26T08:00:00","NC",{"v":-10.333333333335759,"d":"-10"},null,"jean-luc","2015-03-23"]
["F900/2000 CARENE","252681","    5756","CARENE SOUDEE GAUCHE","F50B181001B2",3,"EC","70.00",2,0,"2014-12-18",50,"2015-03-31T14:00:00","NC",{"v":-103.58333333333576,"d":"-104"},null,"jean-luc","2015-03-23"]
["F900/2000 CARENE","252681","    5756","CARENE SOUDEE GAUCHE","F50B181001B2",3,"EC","70.00",2,0,"2014-12-18",50,"2015-03-31T14:00:00","NC",{"v":-103.58333333333576,"d":"-104"},null,"jean-luc","2015-03-23"]
["F900/2000 CARENE","252682","    5756","CARENE SOUDEE GAUCHE","F50B181001B2",3,"EC","70.00",2,0,"2015-01-14",50,"2015-04-01T08:00:00","NC",{"v":-77.33333333333576,"d":"-77"},null,"jean-luc","2015-03-23"]
["F900/2000 CARENE","252682","    5756","CARENE SOUDEE GAUCHE","F50B181001B2",3,"EC","70.00",2,0,"2015-01-14",50,"2015-04-01T08:00:00","NC",{"v":-77.33333333333576,"d":"-77"},null,"jean-luc","2015-03-23"]
["F900/2000 CARENE","252682","    5756","CARENE SOUDEE GAUCHE","F50B181001B2",3,"EC","70.00",2,0,"2015-01-14",50,"2015-04-01T08:00:00","NC",{"v":-77.33333333333576,"d":"-77"},null,"jean-luc","2015-03-23"]
["F900/2000 CARENE","252682","    5756","CARENE SOUDEE GAUCHE","F50B181001B2",3,"EC","90.00",9,0,"2015-01-20",50,"2015-04-07T09:43:00","NC",{"v":-77.40486111111386,"d":"-77"},null,"jean-luc","2015-03-23"]
["F900/2000 CARENE","252682","    5756","CARENE SOUDEE GAUCHE","F50B181001B2",3,"EC","90.00",9,0,"2015-01-20",50,"2015-04-07T09:43:00","NC",{"v":-77.40486111111386,"d":"-77"},null,"jean-luc","2015-03-23"]
["F900/2000 CARENE","252682","    5756","CARENE SOUDEE GAUCHE","F50B181001B2",3,"EC","90.00",9,0,"2015-01-20",50,"2015-04-07T09:43:00","NC",{"v":-77.40486111111386,"d":"-77"},null,"jean-luc","2015-03-23"]
["F900/2000 CARENE","261870","    5786","CARENE SOUDEE DROITE","F50B182001B2",3,"EC","70.00",2,0,"2015-03-30",50,"2015-04-07T16:50:00","NC",{"v":-8.701388888890506,"d":"-9"},null,"jean-luc","2015-03-23"]
["F900/2000 CARENE","261870","    5786","CARENE SOUDEE DROITE","F50B182001B2",3,"EC","70.00",2,0,"2015-03-30",50,"2015-04-07T16:50:00","NC",{"v":-8.701388888890506,"d":"-9"},null,"jean-luc","2015-03-23"]
["F900/2000 CARENE","261870","    5786","CARENE SOUDEE DROITE","F50B182001B2",3,"EC","90.00",9,0,"2015-04-03",50,"2015-04-13T08:37:00","NC",{"v":-10.359027777776646,"d":"-10"},null,"jean-luc","2015-03-23"]
["F900/2000 CARENE","261870","    5786","CARENE SOUDEE DROITE","F50B182001B2",3,"EC","90.00",9,0,"2015-04-03",50,"2015-04-13T08:37:00","NC",{"v":-10.359027777776646,"d":"-10"},null,"jean-luc","2015-03-23"]
["F900/2000 CARENE","252681","    5756","CARENE SOUDEE GAUCHE","F50B181001B2",3,"EC","110.00",15,0,"2015-01-08",50,"2015-04-15T09:04:00","NC",{"v":-97.37777777777956,"d":"-97"},null,"jean-luc","2015-03-23"]
["F900/2000 CARENE","252681","    5756","CARENE SOUDEE GAUCHE","F50B181001B2",3,"EC","110.00",15,0,"2015-01-08",50,"2015-04-15T09:04:00","NC",{"v":-97.37777777777956,"d":"-97"},null,"jean-luc","2015-03-23"]
["F900/2000 CARENE","252682","    5756","CARENE SOUDEE GAUCHE","F50B181001B2",3,"EC","110.00",15,0,"2015-01-23",50,"2015-04-15T15:12:00","NC",{"v":-82.6333333333314,"d":"-83"},null,"jean-luc","2015-03-23"]
["F900/2000 CARENE","252682","    5756","CARENE SOUDEE GAUCHE","F50B181001B2",3,"EC","110.00",15,0,"2015-01-23",50,"2015-04-15T15:12:00","NC",{"v":-82.6333333333314,"d":"-83"},null,"jean-luc","2015-03-23"]
["F900/2000 CARENE","252682","    5756","CARENE SOUDEE GAUCHE","F50B181001B2",3,"EC","110.00",15,0,"2015-01-23",50,"2015-04-15T15:12:00","NC",{"v":-82.6333333333314,"d":"-83"},null,"jean-luc","2015-03-23"]
["F900/2000 CARENE","260998","    5756","CARENE SOUDEE GAUCHE","F50B181001B2",1,"EC","30.00",1.7,0,"2015-06-17",50,"2015-06-11T08:00:00","NC",{"v":5.666666666664241,"d":"6"},null,"jean-luc","2015-03-23"]
["F900/2000 CARENE","260998","    5756","CARENE SOUDEE GAUCHE","F50B181001B2",1,"EC","30.00",1.7,0,"2015-06-17",50,"2015-06-11T08:00:00","NC",{"v":5.666666666664241,"d":"6"},null,"jean-luc","2015-03-23"]
["F900/2000 CARENE","260998","    5756","CARENE SOUDEE GAUCHE","F50B181001B2",1,"EC","30.00",1.7,0,"2015-06-17",50,"2015-06-11T08:00:00","NC",{"v":5.666666666664241,"d":"6"},null,"jean-luc","2015-03-23"]
["F900/2000 CARENE","260998","    5756","CARENE SOUDEE GAUCHE","F50B181001B2",1,"EC","70.00",0.8,0,"2015-07-01",50,"2015-06-22T09:17:00","NC",{"v":8.613194444442343,"d":"9"},null,"jean-luc","2015-03-23"]
["F900/2000 CARENE","260998","    5756","CARENE SOUDEE GAUCHE","F50B181001B2",1,"EC","70.00",0.8,0,"2015-07-01",50,"2015-06-22T09:17:00","NC",{"v":8.613194444442343,"d":"9"},null,"jean-luc","2015-03-23"]
["F900/2000 CARENE","260998","    5756","CARENE SOUDEE GAUCHE","F50B181001B2",1,"EC","90.00",3,0,"2015-07-07",50,"2015-07-03T08:00:00","NC",{"v":3.6666666666642413,"d":"4"},null,"jean-luc","2015-03-23"]
["F900/2000 CARENE","260998","    5756","CARENE SOUDEE GAUCHE","F50B181001B2",1,"EC","90.00",3,0,"2015-07-07",50,"2015-07-03T08:00:00","NC",{"v":3.6666666666642413,"d":"4"},null,"jean-luc","2015-03-23"]
["AS365 RAIL","262780","   16637","TOLE INFERIEURE DROITE","365A87303471/DRW365A873034INDE",10,"EC","out",4.2,0,"2014-06-11",90,"2015-03-25T08:00:00","NC",{"v":-287.33333333333576,"d":"-287"},null,"ronan"]
["AS365 RAIL","266074","   16637","TOLE INFERIEURE DROITE","365A87303471/DRW365A873034INDE",10,"EC","out",4.2,0,"2015-03-19",50,"2015-03-26T11:13:00","NC",{"v":-7.46736111111386,"d":"-7"},null,"ronan"]
["F900 TRONCON T5","261887","   27803","REVETEMENT DE SEUIL","FGFB256011001A2",5,"EC","40.00",12.7,0,"2014-10-15",50,"2015-03-16T09:25:00","NC",null,"det CN 17/3","joel","2015-03-24"]
["F900 TRONCON T5","261887","   27803","REVETEMENT DE SEUIL","FGFB256011001A2",5,"EC","80.00",1.2,0,"2014-12-23",50,"2015-03-23T13:54:00","NC",{"$f":"K122-M122","v":{"v":-90.57916666667006,"d":"-91"}},"det 17/3","joel","2015-03-24"]
["F900 TRONCON T5","264852","   28465","PLIAGE","FGFB252308181A1",10,"EC","50.00",0.3,0,"2015-04-30",50,"2015-04-30T08:00:00","NC",{"$f":"K123-M123","v":{"v":-0.33333333333575865,"d":"-0"}},null,"françois","2015-03-24"]
["AS332 SUPER PUMA","241025","    9806","TOLE SUPPORT GAUCHE","332A55201020/DRW332A552010INDI",10,"EC","60.00",0.7,0,"2014-06-05T04:29:00",50,"2015-01-22T08:00:00","2014-10-23T08:57:00"]
["AS332 SUPER PUMA","225723","   16827","POTENCE GAUCHE","330A87311806",5,"EC","30.00",2.7,0,"2014-09-01T09:15:26",50,"2015-01-27T09:40:00","NC",{"$f":"M125-K125","v":{"v":148.01706018518598,"d":"148"}},"aju à faire"]
["NH90 CLOISON PARE FEU","260208","    9434","COIN DE VALISE","S713A2016278",10,"EC","30.00",3.2,0,"2015-03-12",50,"2015-03-19T09:25:00","NC",null,"stock PE 18/1"]
["AS332 SUPER PUMA","225722","   16828","POTENCE DROITE","330A87311906",5,"EA","30.00",2.7,0,"2014-09-02T09:15:26",50,"2015-01-27T10:33:00","NC",{"$f":"M127-K127","v":{"v":147.05386574073782,"d":"147"}},"stock PE 6/1"]
["AS332 SUPER PUMA","241025","    9806","TOLE SUPPORT GAUCHE","332A55201020/DRW332A552010INDI",10,"EC","90.00",1.7,0,"2014-06-14T10:19:00",50,"2015-01-28T08:00:00","2014-11-24","recuit 20/10 PC à faire"]
["AS332 SUPER PUMA","241037","    9806","TOLE SUPPORT GAUCHE","332A55201020/DRW332A552010INDI",10,"EC","60.00",0.7,0,"2014-10-30T04:29:00",50,"2015-01-22T11:36:00","2014-11-25T08:57:00"]
["AS332 SUPER PUMA","241037","    9806","TOLE SUPPORT GAUCHE","332A55201020/DRW332A552010INDI",10,"EC","90.00",1.7,0,"2014-07-29T05:49:43",50,"2015-03-30T08:00:00","2014-12-19T08:00:00","ebav 15/4 PC à faire"]
["AS332 SUPER PUMA","262666","    9834","DIFFUSEUR EQUIPE","332A5210760001",10,"EC","60.00",1.3,0,"2015-02-16",50,"2015-04-15T15:32:00","NC",{"$f":"K131-M131","v":{"v":-58.6472222222219,"d":"-59"}}]
["AS332 SUPER PUMA","262666","    9834","DIFFUSEUR EQUIPE","332A5210760001",10,"EC","60.00",1.3,0,"2015-02-16",50,"2015-04-15T15:32:00","NC",{"$f":"K132-M132","v":{"v":-58.6472222222219,"d":"-59"}}]
["E2D","252008","   30814","RIB","123CS10204337/U05",6,"EC","50.00",5,0,"2015-04-02T11:21:00",50,"2015-04-16T08:00:00","2015-03-30T08:00:00"]
["E2D","252008","   30814","RIB","123CS10204337/U05",6,"EC","60.00",1.7,0,"2015-03-10T05:49:43",50,"2015-04-20T08:00:00","2015-03-11T16:53:00",{"$f":"M134-K134","v":{"v":41.09047453704261,"d":"41"}}]
["AS332 SUPER PUMA","262666","    9834","DIFFUSEUR EQUIPE","332A5210760001",10,"EC","80.00",3.2,0,"2015-02-25",50,"2015-04-22T14:13:00","2015-04-21T15:19:00",{"$f":"K135-M135","v":{"v":-56.59236111111386,"d":"-57"}}]
["AS332 SUPER PUMA","262666","    9834","DIFFUSEUR EQUIPE","332A5210760001",10,"EC","80.00",3.2,0,"2015-02-25",50,"2015-04-22T14:13:00","2015-04-21T15:19:00",{"v":-56.59236111111386,"d":"-57"}]
["AS365 RAIL","264849","    6840","RENFORT D","365A21377521",15,"EC","50.00",1.7,0,"2015-05-04",50,"2015-04-29T08:00:00","NC",{"v":4.666666666664241,"d":"5"}]
["NH90 CLOISON PARE FEU","250903","   26159","RAIDISSEUR SUP. EQUIPE","S713A6016218",5,"EC","60.00",3.95,0,"2015-04-24",50,"2015-04-21T13:30:00","2015-04-22T09:43:00",{"v":2.4375,"d":"2"},null,"jean-luc","2015-03-25","2015-03-27"]
["F900 TRONCON T5","261130","   27206","VOILE","FGFB252020014A1",5,"EC","40.00",1.45,0,"2015-04-08",50,"2015-04-10T08:00:00","2015-04-03T08:00:00",{"v":-2.3333333333357587,"d":"-2"},null,"ronan","2015-03-24","2015-03-26"]
["F900 TRONCON T4","263828","   30147","EMBOUT EQUIPE","FGFB244050010",5,"EC","50.00",0.6,0,"2014-12-17",90,"2015-03-23T08:09:00","NC",{"v":-96.3395833333343,"d":"-96"},null,"gregory","2015-03-23","2015-03-23"]
["SILVERCREST IFD","261274","   36851","ACCESS DOOR, 8 O/C REAR","3879139030/HP01",6,"D ","40.00",2,0,"2014-10-08T06:51:26",50,"2015-04-13T08:03:00","NC",{"$f":"M141-K141","v":{"v":187.0496990740794,"d":"187"}},null,"ronan","2015-02-09"]
["SILVERCREST IFD","261274","   36851","ACCESS DOOR, 8 O/C REAR","3879139030/HP01",6,"D ","60.00",1.4,0,"2014-10-09T04:48:00",50,"2015-04-17T10:31:00","NC",{"$f":"M142-K142","v":{"v":190.23819444444962,"d":"190"}},null,"ronan","2015-02-09"]

{"sheet":"St-30-03-2015","index":6,"n_rows":47,"n_cols":18,"rows_kept":47}
["241852","    7927","STRINGER","123CS5010348/A01",2,"EC","40.00",4.2,2.74,"2015-03-12",50,"2015-03-30T08:00:00","EC"]
["246575","    7938","STRINGER","123CS5010465/T01",2,"EC","50.00",6.6,7.41,"2015-03-10",50,"2015-03-30T08:00:00","EC"]
["246645","    7816","STRINGER","123CS1102336/J02",2,"EC","40.00",2.8,0,"2015-03-11",50,"2015-04-01T08:49:00","NC"]
["248048","    7811","STRINGER","123CS1102335/J02",2,"EC","40.00",2.8,0,"2015-04-03",50,"2015-04-01T13:38:00","NC"]
["246709","    7911","STRINGER","123CS50103119/V05",2,"EC","40.00",4.2,0,"2015-04-15",50,"2015-04-02T15:50:00","NC"]
["269351","   18685","STRINGER","123CS50103197/V05",2,"EC","40.00",3.2,0,"2015-04-08",50,"2015-04-08T15:00:00","NC"]
["246777","    7521","STRINGER","123CS5010475/T01",2,"EC","50.00",7,0,"2015-04-07",50,"2015-04-08T16:03:00","NC"]
["263161","    7522","STRINGER","123CS5010476/T01",2,"EC","50.00",7,0,"2015-04-09",50,"2015-04-08T16:28:00","NC"]
["262711","    7942","STRINGER","123CS5010470/T01",2,"EC","50.00",7,0,"2015-04-09",50,"2015-04-09T08:30:00","NC"]
["269351","   18685","STRINGER","123CS50103197/V05",2,"EC","50.00",1.3,0,"2015-04-10",50,"2015-04-13T09:40:00","NC"]
["246497","    7917","STRINGER","123CS5010336/A03",2,"EC","40.00",4.2,0,"2015-04-15",50,"2015-04-13T09:43:00","NC"]
["248026","    7785","STRINGER","123CS1102232/G03",2,"EC","40.00",3.9,0,"2015-04-15",50,"2015-04-13T10:30:00","NC"]
["246776","    7916","STRINGER","123CS5010335/A03",2,"EC","40.00",4.2,0,"2015-04-15",50,"2015-04-13T10:59:00","NC"]
["251937","    7926","STRINGER","123CS5010347/A01",2,"EC","40.00",4.2,0,"2015-04-15",50,"2015-04-13T14:04:00","NC"]
["251452","    7907","STRINGER","123CS50103101/A01",2,"EC","40.00",3.9,0,"2015-04-15",50,"2015-04-13T14:23:00","NC"]
["264737","    7908","STRINGER","123CS50103102/A01",2,"EC","40.00",3.9,0,"2015-04-15",50,"2015-04-13T14:50:00","NC"]
["269351","   18685","STRINGER","123CS50103197/V05",2,"EC","60.00",0.4,0,"2015-04-15",50,"2015-04-15T10:58:00","NC"]
["247426","    7943","STRINGER","123CS5010471/T01",2,"EC","40.00",4.4,0,"2015-04-17",50,"2015-04-15T15:30:00","NC"]
["262592","    7925","STRINGER","123CS5010345/A01",4,"EC","40.00",2.2,0,"2015-04-28",50,"2015-04-21T14:58:00","NC"]
["266457","    7788","STRINGER","123CS1102233/G03",2,"EC","40.00",3.2,0,"2015-05-04",50,"2015-04-27T15:32:00","NC"]
["266460","    7795","STRINGER","123CS1102237/G03",2,"EC","40.00",1.4,0,"2015-05-04",50,"2015-04-27T15:44:00","NC"]
["255326","    7805","STRINGER","123CS1102333/J02",2,"EC","40.00",3.2,0,"2015-06-18",50,"2015-06-12T08:00:00","NC"]
["264730","    7928","STRINGER","123CS5010349/A01",2,"EC","40.00",2.8,0,"2015-06-23",50,"2015-06-22T08:00:00","NC"]
["264731","   18686","STRINGER","123CS50103198/V05",2,"EC","40.00",3.2,0,"2015-06-23",50,"2015-06-22T08:00:00","NC"]
["239151","    7919","STRINGER","123CS5010338/A01",2,"EC","40.00",3.3,0,"2015-06-30",50,"2015-06-24T08:00:00","NC"]
["256551","    7794","STRINGER","123CS1102236/G03",2,"EC","40.00",2.8,0,"2015-06-30",50,"2015-06-24T08:00:00","NC"]
["264732","    7918","STRINGER","123CS5010337/U01",2,"EC","40.00",3.3,0,"2015-06-30",50,"2015-06-24T08:00:00","NC"]
["264733","    7909","STIRINGER","123CS50103103/A01",2,"EC","40.00",3.9,0,"2015-06-30",50,"2015-06-24T08:00:00","NC"]
["264736","    7914","STRINGER","123CS5010333/U12",2,"EC","40.00",4.6,0,"2015-06-30",50,"2015-06-24T08:00:00","NC"]
["264742","    7524","STRINGER","123CS5010478/T01",2,"EC","40.00",5.6,0,"2015-06-30",50,"2015-06-24T08:00:00","NC"]
["264743","    7520","STRINGER","123CS5010474/T01",2,"EC","40.00",4.6,0,"2015-06-30",50,"2015-06-24T08:00:00","NC"]
["264748","    7934","STRINGER","123CS5010433/G01",2,"EC","40.00",3.5,0,"2015-06-30",50,"2015-06-24T08:00:00","NC"]
["264751","    7935","STRINGER","123CS5010434/G01",2,"EC","40.00",3.5,0,"2015-06-30",50,"2015-06-24T08:00:00","NC"]
["264730","    7928","STRINGER","123CS5010349/A01",2,"EC","50.00",1.3,0,"2015-06-25",50,"2015-06-24T10:48:00","NC"]
["264731","   18686","STRINGER","123CS50103198/V05",2,"EC","50.00",1.3,0,"2015-06-25",50,"2015-06-24T11:12:00","NC"]
["262712","    7910","STRINGER","123CS50103104/A01",2,"D ","40.00",3.9,0,"2015-06-30",50,"2015-06-24T11:19:00","NC"]
["246574","    7937","STRINGER","123CS5010464/T01",2,"EC","50.00",6.6,0,"2015-06-30",50,"2015-06-25T08:00:00","NC"]
["247421","    5693","STRINGER","123CS5010469/T01",2,"EC","50.00",7,0,"2015-06-30",50,"2015-06-25T08:00:00","NC"]
["264720","    7941","STRINGER","123CS5010468/T01",2,"EC","50.00",7,0,"2015-06-30",50,"2015-06-25T08:00:00","NC"]
["264722","    7936","STRINGER","123CS5010463/T01",2,"EC","50.00",6.6,0,"2015-06-30",50,"2015-06-25T08:00:00","NC"]
["264724","    7938","STRINGER","123CS5010465/T01",2,"EC","50.00",6.6,0,"2015-06-30",50,"2015-06-25T08:00:00","NC"]
["264730","    7928","STRINGER","123CS5010349/A01",2,"EC","60.00",0.4,0,"2015-06-30",50,"2015-06-29T08:00:00","NC"]
["264731","   18686","STRINGER","123CS50103198/V05",2,"EC","60.00",0.4,0,"2015-06-30",50,"2015-06-29T08:00:00","NC"]
["263251","    7522","STRINGER","123CS5010476/T01",2,"D ","50.00",7,0,"2015-10-21",50,"2015-10-21T08:38:00","NC"]
["266458","    7791","STRINGER","123CS1102235/G03",2,"EC","40.00",2.8,0,"2015-11-12",50,"2015-11-05T08:00:00","NC"]
["260175","    7794","STRINGER","123CS1102236/G03",2,"D ","40.00",2.8,0,"2015-12-03",50,"2015-11-27T08:00:00","NC"]
["254682","    7817","STRINGER","123CS11023737/J02",2,"EC","40.00",0.45,0,"2014-12-25T04:07:00",50,"2014-11-18","NC",null,null,"kevin","2015-01-13","2015-01-23"]