{"text_format":"3","workbook":"xlsx","n_sheets":4,"sheets":["Joueurs","Trade17","Draft17","Choix17"],"not_rendered":{"images":2,"macros":1,"external_links":1,"defined_names":16},"read":"whole","date_system":"1900"}

{"sheet":"Joueurs","index":0,"n_rows":891,"n_cols":45,"rows_kept":891}
[{"$nulls":44},"1 - Dans la colonne AR, le caractère inutile importé de Yahoo au début du nom des joueurs de la colonne B est enlevé."]
[null,"LISTE IMPORTÉE DE YAHOO",{"$nulls":41},"***","2 - Cette liste doit nous offrir des suggestions lors de saisies dans les onglets Trade17 et Draft17"]
["14-15","Name","Team","GP",null,"G",null,"A",null,"Pts",null,"+/-",null,"PIM",null,"Hits",null,"BkS",null,"FW",null,"FL",null,"FO%",null,"PPG",null,"PPA",null,"SHG",null,"SHA",null,"GW",null,"SOG",null,"Pct",{"$nulls":3},"Pooler",null,"LISTE DES JOUEURS A UTILISER"]
[1," Connor McDavid","EDM",7,null,4,null,7,null,11,null,7,null,6,null,1,null,2,null,42,null,48,null,0.467,null,0,null,3,null,0,null,0,null,1,null,17,null,0.235,{"$nulls":3},{"$f":"VLOOKUP(B4,[1]PlayersList!$B$4:$J$1000,9,FALSE)","v":{"$error":"#N/A"}},null,{"$f":"SUBSTITUTE(B4,\" \",\"\")","v":"Connor McDavid"}]
[2," Auston Matthews","TOR",7,null,6,null,4,null,10,null,0,null,0,null,0,null,5,null,42,null,38,null,0.525,null,1,null,3,null,0,null,0,null,0,null,30,null,0.2,{"$nulls":3},{"$f":"VLOOKUP(B5,[1]PlayersList!$B$4:$J$1000,9,FALSE)","v":{"$error":"#N/A"}},null,{"$f":"SUBSTITUTE(B5,\" \",\"\")","v":"Auston Matthews"}]
[3," Jonathan Marchessault","FLA",7,null,5,null,5,null,10,null,5,null,0,null,10,null,1,null,22,null,19,null,0.537,null,1,null,2,null,0,null,0,null,1,null,23,null,0.217,{"$nulls":3},{"$f":"VLOOKUP(B6,[1]PlayersList!$B$4:$J$1000,9,FALSE)","v":{"$error":"#N/A"}},null,{"$f":"SUBSTITUTE(B6,\" \",\"\")","v":"Jonathan Marchessault"}]
[4,"brad Marchand","BOS",7,null,3,null,7,null,10,null,7,null,8,null,5,null,3,null,3,null,1,null,0.75,null,0,null,1,null,0,null,0,null,1,null,15,null,0.2,{"$nulls":3},{"$f":"VLOOKUP(B7,[1]PlayersList!$B$4:$J$1000,9,FALSE)","v":{"$error":"#N/A"}},null,"brad Marchand"]
[5," Ryan Suter","MIN",8,null,3,null,6,null,9,null,4,null,2,null,10,null,7,null,0,null,0,null,"N/A",null,1,null,1,null,0,null,0,null,0,null,19,null,0.158,{"$nulls":3},{"$f":"VLOOKUP(B8,[1]PlayersList!$B$4:$J$1000,9,FALSE)","v":{"$error":"#N/A"}},null,"Ryan Suter"]
[6," Steven Stamkos","TAM",7,null,5,null,4,null,9,null,0,null,8,null,10,null,0,null,44,null,45,null,0.494,null,1,null,1,null,0,null,0,null,1,null,25,null,0.2,{"$nulls":3},{"$f":"VLOOKUP(B9,[1]PlayersList!$B$4:$J$1000,9,FALSE)","v":{"$error":"#N/A"}},null,"Steven Stamkos"]
[7," William Nylander","TOR",7,null,4,null,5,null,9,null,1,null,4,null,2,null,3,null,13,null,15,null,0.464,null,3,null,2,null,0,null,0,null,0,null,27,null,0.148,{"$nulls":3},{"$f":"VLOOKUP(B10,[1]PlayersList!$B$4:$J$1000,9,FALSE)","v":{"$error":"#N/A"}},null,"William Nylander"]
[8," Shea Weber","MON",8,null,3,null,6,null,9,null,12,null,8,null,22,null,16,null,0,null,0,null,"N/A",null,2,null,1,null,0,null,1,null,2,null,17,null,0.176,{"$nulls":3},{"$f":"VLOOKUP(B11,[1]PlayersList!$B$4:$J$1000,9,FALSE)","v":{"$error":"#N/A"}},null,"Shea Weber"]
[9," Joe Pavelski","SAN",8,null,3,null,6,null,9,null,4,null,10,null,15,null,12,null,44,null,45,null,0.494,null,1,null,2,null,0,null,0,null,1,null,28,null,0.107,{"$nulls":3},{"$f":"VLOOKUP(B12,[1]PlayersList!$B$4:$J$1000,9,FALSE)","v":{"$error":"#N/A"}},null,"Joe Pavelski"]
[10," Artem Anisimov","CHI",7,null,4,null,5,null,9,null,6,null,8,null,2,null,1,null,35,null,65,null,0.35,null,0,null,2,null,0,null,0,null,1,null,12,null,0.333,{"$nulls":3},{"$f":"VLOOKUP(B13,[1]PlayersList!$B$4:$J$1000,9,FALSE)","v":{"$error":"#N/A"}},null,"Artem Anisimov"]
[11," Brent Burns","SAN",8,null,3,null,6,null,9,null,1,null,4,null,6,null,23,null,0,null,0,null,"N/A",null,0,null,1,null,0,null,0,null,1,null,40,null,0.075,{"$nulls":3},{"$f":"VLOOKUP(B14,[1]PlayersList!$B$4:$J$1000,9,FALSE)","v":{"$error":"#N/A"}},null,"Brent Burns"]
[12," Claude Giroux","PHI",8,null,0,null,9,null,9,null,-6,null,2,null,7,null,1,null,95,null,88,null,0.519,null,0,null,6,null,0,null,0,null,0,null,20,null,0,{"$nulls":3},{"$f":"VLOOKUP(B15,[1]PlayersList!$B$4:$J$1000,9,FALSE)","v":{"$error":"#N/A"}},null,"Claude Giroux"]
[13," Thomas Vanek","DET",7,null,4,null,4,null,8,null,5,null,4,null,3,null,1,null,0,null,1,null,0,null,2,null,2,null,0,null,0,null,0,null,13,null,0.308,{"$nulls":3},{"$f":"VLOOKUP(B16,[1]PlayersList!$B$4:$J$1000,9,FALSE)","v":{"$error":"#N/A"}},null,"Thomas Vanek"]
[14," Vladimir Tarasenko","STL",8,null,4,null,4,null,8,null,-1,null,0,null,3,null,5,null,0,null,1,null,0,null,1,null,3,null,0,null,0,null,0,null,40,null,0.1,{"$nulls":3},{"$f":"VLOOKUP(B17,[1]PlayersList!$B$4:$J$1000,9,FALSE)","v":{"$error":"#N/A"}},null,"Vladimir Tarasenko"]
[15," Gustav Nyquist","DET",8,null,3,null,5,null,8,null,5,null,2,null,5,null,0,null,1,null,0,null,1,null,0,null,1,null,0,null,0,null,2,null,15,null,0.2,{"$nulls":3},{"$f":"VLOOKUP(B18,[1]PlayersList!$B$4:$J$1000,9,FALSE)","v":{"$error":"#N/A"}},null,"Gustav Nyquist"]
[16," Evgeni Malkin","PIT",8,null,3,null,5,null,8,null,0,null,14,null,5,null,4,null,65,null,87,null,0.428,null,0,null,4,null,0,null,0,null,0,null,19,null,0.158,{"$nulls":3},{"$f":"VLOOKUP(B19,[1]PlayersList!$B$4:$J$1000,9,FALSE)","v":{"$error":"#N/A"}},null,"Evgeni Malkin"]
[17," Richard Panik","CHI",7,null,6,null,2,null,8,null,4,null,4,null,17,null,0,null,0,null,2,null,0,null,2,null,0,null,0,null,0,null,1,null,11,null,0.545,{"$nulls":3},{"$f":"VLOOKUP(B20,[1]PlayersList!$B$4:$J$1000,9,FALSE)","v":{"$error":"#N/A"}},null,"Richard Panik"]
[18," Ryan Getzlaf","ANA",7,null,1,null,7,null,8,null,0,null,6,null,6,null,5,null,60,null,45,null,0.571,null,0,null,2,null,0,null,0,null,0,null,22,null,0.045,{"$nulls":3},{"$f":"VLOOKUP(B21,[1]PlayersList!$B$4:$J$1000,9,FALSE)","v":{"$error":"#N/A"}},null,"Ryan Getzlaf"]
[19," David Pastrnak","BOS",7,null,5,null,3,null,8,null,7,null,2,null,6,null,3,null,0,null,1,null,0,null,1,null,0,null,0,null,0,null,1,null,26,null,0.192,{"$nulls":3},{"$f":"VLOOKUP(B22,[1]PlayersList!$B$4:$J$1000,9,FALSE)","v":{"$error":"#N/A"}},null,"David Pastrnak"]
[20," Mark Scheifele","WPG",7,null,4,null,4,null,8,null,1,null,4,null,6,null,6,null,65,null,90,null,0.419,null,1,null,1,null,0,null,0,null,1,null,21,null,0.19,{"$nulls":3},{"$f":"VLOOKUP(B23,[1]PlayersList!$B$4:$J$1000,9,FALSE)","v":{"$error":"#N/A"}},null,"Mark Scheifele"]
[21," Patrick Kane","CHI",7,null,2,null,6,null,8,null,7,null,4,null,3,null,1,null,1,null,10,null,0.091,null,0,null,1,null,0,null,0,null,0,null,22,null,0.091,{"$nulls":3},{"$f":"VLOOKUP(B24,[1]PlayersList!$B$4:$J$1000,9,FALSE)","v":{"$error":"#N/A"}},null,"Patrick Kane"]
[22," Jakub Voracek","PHI",8,null,3,null,5,null,8,null,-3,null,24,null,1,null,1,null,0,null,2,null,0,null,0,null,3,null,0,null,0,null,0,null,33,null,0.091,{"$nulls":3},{"$f":"VLOOKUP(B25,[1]PlayersList!$B$4:$J$1000,9,FALSE)","v":{"$error":"#N/A"}},null,"Jakub Voracek"]
[23," Patrik Laine","WPG",7,null,6,null,2,null,8,null,0,null,2,null,8,null,3,null,0,null,1,null,0,null,4,null,1,null,0,null,0,null,1,null,23,null,0.261,{"$nulls":3},{"$f":"VLOOKUP(B26,[1]PlayersList!$B$4:$J$1000,9,FALSE)","v":{"$error":"#N/A"}},null,"Patrik Laine"]
[24," Alexander Steen","STL",8,null,2,null,5,null,7,null,-1,null,2,null,5,null,7,null,17,null,36,null,0.321,null,0,null,2,null,0,null,0,null,0,null,17,null,0.118,{"$nulls":3},{"$f":"VLOOKUP(B27,[1]PlayersList!$B$4:$J$1000,9,FALSE)","v":{"$error":"#N/A"}},null,"Alexander Steen"]
[25," Brock Nelson","NYI",8,null,2,null,5,null,7,null,2,null,2,null,5,null,10,null,50,null,54,null,0.481,null,0,null,2,null,0,null,1,null,0,null,13,null,0.154,{"$nulls":3},{"$f":"VLOOKUP(B28,[1]PlayersList!$B$4:$J$1000,9,FALSE)","v":{"$error":"#N/A"}},null,"Brock Nelson"]
[26," Mika Zibanejad","NYR",7,null,2,null,5,null,7,null,0,null,6,null,4,null,1,null,70,null,57,null,0.551,null,0,null,2,null,0,null,0,null,0,null,23,null,0.087,{"$nulls":3},{"$f":"VLOOKUP(B29,[1]PlayersList!$B$4:$J$1000,9,FALSE)","v":{"$error":"#N/A"}},null,"Mika Zibanejad"]
[27," Mike Green","DET",8,null,3,null,4,null,7,null,4,null,8,null,11,null,11,null,0,null,0,null,"N/A",null,1,null,1,null,0,null,0,null,0,null,9,null,0.333,{"$nulls":3},{"$f":"VLOOKUP(B30,[1]PlayersList!$B$4:$J$1000,9,FALSE)","v":{"$error":"#N/A"}},null,"Mike Green"]
[28," Brendan Gallagher","MON",8,null,4,null,3,null,7,null,6,null,6,null,7,null,1,null,15,null,21,null,0.417,null,1,null,0,null,0,null,0,null,1,null,28,null,0.143,{"$nulls":3},{"$f":"VLOOKUP(B31,[1]PlayersList!$B$4:$J$1000,9,FALSE)","v":{"$error":"#N/A"}},null,"Brendan Gallagher"]
[29," Max Pacioretty","MON",8,null,2,null,5,null,7,null,6,null,6,null,12,null,2,null,0,null,0,null,"N/A",null,0,null,1,null,0,null,0,null,2,null,25,null,0.08,{"$nulls":3},{"$f":"VLOOKUP(B32,[1]PlayersList!$B$4:$J$1000,9,FALSE)","v":{"$error":"#N/A"}},null,"Max Pacioretty"]
[30," Phil Kessel","PIT",8,null,3,null,4,null,7,null,-3,null,2,null,2,null,3,null,0,null,0,null,"N/A",null,3,null,3,null,0,null,0,null,1,null,18,null,0.167,{"$nulls":3},{"$f":"VLOOKUP(B33,[1]PlayersList!$B$4:$J$1000,9,FALSE)","v":{"$error":"#N/A"}},null,"Phil Kessel"]
[31," Wayne Simmonds","PHI",8,null,5,null,2,null,7,null,-3,null,12,null,24,null,5,null,0,null,1,null,0,null,4,null,1,null,0,null,0,null,0,null,22,null,0.227,{"$nulls":3},{"$f":"VLOOKUP(B34,[1]PlayersList!$B$4:$J$1000,9,FALSE)","v":{"$error":"#N/A"}},null,"Wayne Simmonds"]
[32," Victor Rask","CAR",6,null,4,null,3,null,7,null,0,null,0,null,3,null,1,null,43,null,54,null,0.443,null,2,null,0,null,0,null,0,null,0,null,15,null,0.267,{"$nulls":3},{"$f":"VLOOKUP(B35,[1]PlayersList!$B$4:$J$1000,9,FALSE)","v":{"$error":"#N/A"}},null,"Victor Rask"]
[33," Alex Killorn","TAM",7,null,6,null,1,null,7,null,1,null,0,null,14,null,2,null,0,null,1,null,0,null,1,null,1,null,0,null,0,null,1,null,15,null,0.4,{"$nulls":3},{"$f":"VLOOKUP(B36,[1]PlayersList!$B$4:$J$1000,9,FALSE)","v":{"$error":"#N/A"}},null,"Alex Killorn"]
[34," Nikita Kucherov","TAM",7,null,1,null,6,null,7,null,4,null,0,null,0,null,3,null,0,null,0,null,"N/A",null,0,null,2,null,0,null,0,null,0,null,14,null,0.071,{"$nulls":3},{"$f":"VLOOKUP(B37,[1]PlayersList!$B$4:$J$1000,9,FALSE)","v":{"$error":"#N/A"}},null,"Nikita Kucherov"]
[35," Tyler Seguin","DAL",7,null,4,null,3,null,7,null,-2,null,0,null,6,null,0,null,50,null,43,null,0.538,null,2,null,2,null,0,null,0,null,1,null,24,null,0.167,{"$nulls":3},{"$f":"VLOOKUP(B38,[1]PlayersList!$B$4:$J$1000,9,FALSE)","v":{"$error":"#N/A"}},null,"Tyler Seguin"]
[36," Erik Karlsson","OTT",6,null,2,null,5,null,7,null,7,null,2,null,4,null,12,null,0,null,0,null,"N/A",null,0,null,1,null,0,null,1,null,0,null,15,null,0.133,{"$nulls":3},{"$f":"VLOOKUP(B39,[1]PlayersList!$B$4:$J$1000,9,FALSE)","v":{"$error":"#N/A"}},null,"Erik Karlsson"]
[37," Alec Martinez","LOS",7,null,2,null,5,null,7,null,2,null,0,null,12,null,15,null,0,null,0,null,"N/A",null,0,null,2,null,0,null,0,null,2,null,17,null,0.118,{"$nulls":3},{"$f":"VLOOKUP(B40,[1]PlayersList!$B$4:$J$1000,9,FALSE)","v":{"$error":"#N/A"}},null,"Alec Martinez"]
[38," Darren Helm","DET",8,null,4,null,3,null,7,null,10,null,2,null,5,null,2,null,44,null,42,null,0.512,null,2,null,0,null,0,null,1,null,1,null,14,null,0.286,{"$nulls":3},{"$f":"VLOOKUP(B41,[1]PlayersList!$B$4:$J$1000,9,FALSE)","v":{"$error":"#N/A"}},null,"Darren Helm"]
[39," Cam Fowler","ANA",8,null,3,null,4,null,7,null,1,null,2,null,5,null,8,null,0,null,0,null,"N/A",null,2,null,3,null,0,null,0,null,0,null,17,null,0.176,{"$nulls":3},{"$f":"VLOOKUP(B42,[1]PlayersList!$B$4:$J$1000,9,FALSE)","v":{"$error":"#N/A"}},null,"Cam Fowler"]
[40," Paul Stastny","STL",8,null,3,null,4,null,7,null,-3,null,12,null,5,null,4,null,96,null,86,null,0.527,null,2,null,2,null,0,null,0,null,1,null,11,null,0.273,{"$nulls":3},{"$f":"VLOOKUP(B43,[1]PlayersList!$B$4:$J$1000,9,FALSE)","v":{"$error":"#N/A"}},null,"Paul Stastny"]
[41," Chris Kreider","NYR",5,null,3,null,4,null,7,null,-1,null,4,null,17,null,4,null,0,null,0,null,"N/A",null,1,null,1,null,0,null,0,null,0,null,23,null,0.13,{"$nulls":3},{"$f":"VLOOKUP(B44,[1]PlayersList!$B$4:$J$1000,9,FALSE)","v":{"$error":"#N/A"}},null,"Chris Kreider"]
[42," Travis Konecny","PHI",8,null,1,null,6,null,7,null,1,null,6,null,8,null,4,null,0,null,0,null,"N/A",null,1,null,0,null,0,null,0,null,0,null,18,null,0.056,{"$nulls":3},{"$f":"VLOOKUP(B45,[1]PlayersList!$B$4:$J$1000,9,FALSE)","v":{"$error":"#N/A"}},null,"Travis Konecny"]
[43," Leon Draisaitl","EDM",7,null,2,null,4,null,6,null,-1,null,0,null,2,null,2,null,46,null,42,null,0.523,null,1,null,1,null,0,null,0,null,0,null,18,null,0.111,{"$nulls":3},{"$f":"VLOOKUP(B46,[1]PlayersList!$B$4:$J$1000,9,FALSE)","v":{"$error":"#N/A"}},null,"Leon Draisaitl"]
[44," Corey Perry","ANA",8,null,4,null,2,null,6,null,0,null,10,null,10,null,1,null,0,null,1,null,0,null,0,null,1,null,0,null,0,null,0,null,28,null,0.143,{"$nulls":3},{"$f":"VLOOKUP(B47,[1]PlayersList!$B$4:$J$1000,9,FALSE)","v":{"$error":"#N/A"}},null,"Corey Perry"]
[45," Ryan McDonagh","NYR",7,null,0,null,6,null,6,null,3,null,2,null,8,null,13,null,0,null,0,null,"N/A",null,0,null,2,null,0,null,0,null,0,null,12,null,0,{"$nulls":3},{"$f":"VLOOKUP(B48,[1]PlayersList!$B$4:$J$1000,9,FALSE)","v":{"$error":"#N/A"}},null,"Ryan McDonagh"]
[46," Ryan O'Reilly","BUF",6,null,3,null,3,null,6,null,-2,null,0,null,1,null,2,null,87,null,54,null,0.617,null,2,null,2,null,0,null,0,null,1,null,17,null,0.176,{"$nulls":3},{"$f":"VLOOKUP(B49,[1]PlayersList!$B$4:$J$1000,9,FALSE)","v":{"$error":"#N/A"}},null,"Ryan O'Reilly"]
[47," Devin Shore","DAL",7,null,1,null,5,null,6,null,2,null,0,null,3,null,8,null,40,null,48,null,0.455,null,0,null,1,null,0,null,0,null,0,null,10,null,0.1,{"$nulls":3},{"$f":"VLOOKUP(B50,[1]PlayersList!$B$4:$J$1000,9,FALSE)","v":{"$error":"#N/A"}},null,"Devin Shore"]
[48," Troy Brouwer","CGY",8,null,3,null,3,null,6,null,1,null,6,null,23,null,6,null,7,null,11,null,0.389,null,0,null,2,null,1,null,0,null,0,null,13,null,0.231,{"$nulls":3},{"$f":"VLOOKUP(B51,[1]PlayersList!$B$4:$J$1000,9,FALSE)","v":{"$error":"#N/A"}},null,"Troy Brouwer"]
[49," John Tavares","NYI",8,null,4,null,2,null,6,null,-1,null,8,null,3,null,5,null,79,null,86,null,0.479,null,1,null,0,null,0,null,0,null,0,null,29,null,0.138,{"$nulls":3},{"$f":"VLOOKUP(B52,[1]PlayersList!$B$4:$J$1000,9,FALSE)","v":{"$error":"#N/A"}},null,"John Tavares"]
[50," J.T. Miller","NYR",7,null,2,null,4,null,6,null,1,null,6,null,13,null,6,null,12,null,15,null,0.444,null,1,null,1,null,0,null,0,null,0,null,20,null,0.1,{"$nulls":3},{"$f":"VLOOKUP(B53,[1]PlayersList!$B$4:$J$1000,9,FALSE)","v":{"$error":"#N/A"}},null,"J.T. Miller"]
[51," Zach Parise","MIN",8,null,2,null,4,null,6,null,-2,null,8,null,8,null,13,null,0,null,1,null,0,null,0,null,1,null,0,null,0,null,0,null,28,null,0.071,{"$nulls":3},{"$f":"VLOOKUP(B54,[1]PlayersList!$B$4:$J$1000,9,FALSE)","v":{"$error":"#N/A"}},null,"Zach Parise"]
[52," Brandon Pirri","NYR",7,null,4,null,2,null,6,null,3,null,0,null,3,null,3,null,5,null,7,null,0.417,null,2,null,1,null,0,null,0,null,2,null,9,null,0.444,{"$nulls":3},{"$f":"VLOOKUP(B55,[1]PlayersList!$B$4:$J$1000,9,FALSE)","v":{"$error":"#N/A"}},null,"Brandon Pirri"]
[53," Mark Streit","PHI",8,null,2,null,4,null,6,null,-2,null,6,null,5,null,7,null,0,null,0,null,"N/A",null,1,null,3,null,0,null,0,null,0,null,14,null,0.143,{"$nulls":3},{"$f":"VLOOKUP(B56,[1]PlayersList!$B$4:$J$1000,9,FALSE)","v":{"$error":"#N/A"}},null,"Mark Streit"]
[54," Tanner Pearson","LOS",5,null,4,null,2,null,6,null,3,null,0,null,5,null,1,null,0,null,1,null,0,null,1,null,0,null,0,null,0,null,0,null,17,null,0.235,{"$nulls":3},{"$f":"VLOOKUP(B57,[1]PlayersList!$B$4:$J$1000,9,FALSE)","v":{"$error":"#N/A"}},null,"Tanner Pearson"]
[55," Blake Wheeler","WPG",7,null,3,null,3,null,6,null,-1,null,10,null,7,null,1,null,1,null,2,null,0.333,null,0,null,1,null,1,null,0,null,0,null,24,null,0.125,{"$nulls":3},{"$f":"VLOOKUP(B58,[1]PlayersList!$B$4:$J$1000,9,FALSE)","v":{"$error":"#N/A"}},null,"Blake Wheeler"]
[56," Rasmus Ristolainen","BUF",6,null,0,null,6,null,6,null,-3,null,6,null,13,null,9,null,0,null,0,null,"N/A",null,0,null,5,null,0,null,0,null,0,null,12,null,0,{"$nulls":3},{"$f":"VLOOKUP(B59,[1]PlayersList!$B$4:$J$1000,9,FALSE)","v":{"$error":"#N/A"}},null,"Rasmus Ristolainen"]
[57," Brad Richardson","ARI",7,null,3,null,3,null,6,null,-1,null,4,null,6,null,3,null,47,null,47,null,0.5,null,0,null,0,null,2,null,1,null,0,null,15,null,0.2,{"$nulls":3},{"$f":"VLOOKUP(B60,[1]PlayersList!$B$4:$J$1000,9,FALSE)","v":{"$error":"#N/A"}},null,"Brad Richardson"]
[58," Lee Stempniak","CAR",6,null,4,null,2,null,6,null,1,null,8,null,7,null,1,null,0,null,1,null,0,null,1,null,0,null,0,null,0,null,0,null,10,null,0.4,{"$nulls":3},{"$f":"VLOOKUP(B61,[1]PlayersList!$B$4:$J$1000,9,FALSE)","v":{"$error":"#N/A"}},null,"Lee Stempniak"]
[59," Joe Thornton","SAN",8,null,0,null,6,null,6,null,2,null,4,null,5,null,1,null,39,null,32,null,0.549,null,0,null,2,null,0,null,0,null,0,null,6,null,0,{"$nulls":3},{"$f":"VLOOKUP(B62,[1]PlayersList!$B$4:$J$1000,9,FALSE)","v":{"$error":"#N/A"}},null,"Joe Thornton"]
[60," Sami Vatanen","ANA",8,null,1,null,5,null,6,null,-1,null,0,null,11,null,20,null,0,null,0,null,"N/A",null,1,null,3,null,0,null,0,null,0,null,12,null,0.083,{"$nulls":3},{"$f":"VLOOKUP(B63,[1]PlayersList!$B$4:$J$1000,9,FALSE)","v":{"$error":"#N/A"}},null,"Sami Vatanen"]
[61," Alex Galchenyuk","MON",8,null,2,null,4,null,6,null,6,null,6,null,1,null,3,null,23,null,55,null,0.295,null,1,null,1,null,0,null,0,null,0,null,12,null,0.167,{"$nulls":3},{"$f":"VLOOKUP(B64,[1]PlayersList!$B$4:$J$1000,9,FALSE)","v":{"$error":"#N/A"}},null,"Alex Galchenyuk"]
[62," Anze Kopitar","LOS",7,null,2,null,4,null,6,null,0,null,2,null,8,null,8,null,91,null,92,null,0.497,null,0,null,1,null,0,null,1,null,0,null,20,null,0.1,{"$nulls":3},{"$f":"VLOOKUP(B65,[1]PlayersList!$B$4:$J$1000,9,FALSE)","v":{"$error":"#N/A"}},null,"Anze Kopitar"]
[63," Matt Cullen","PIT",8,null,1,null,5,null,6,null,2,null,0,null,6,null,2,null,86,null,54,null,0.614,null,0,null,1,null,0,null,0,null,0,null,12,null,0.083,{"$nulls":3},{"$f":"VLOOKUP(B66,[1]PlayersList!$B$4:$J$1000,9,FALSE)","v":{"$error":"#N/A"}},null,"Matt Cullen"]
[64," Duncan Keith","CHI",7,null,0,null,6,null,6,null,4,null,2,null,2,null,8,null,0,null,0,null,"N/A",null,0,null,2,null,0,null,0,null,0,null,16,null,0,{"$nulls":3},{"$f":"VLOOKUP(B67,[1]PlayersList!$B$4:$J$1000,9,FALSE)","v":{"$error":"#N/A"}},null,"Duncan Keith"]
[65," Taylor Hall","NJD",6,null,5,null,1,null,6,null,-1,null,2,null,9,null,2,null,1,null,0,null,1,null,3,null,1,null,0,null,0,null,2,null,25,null,0.2,{"$nulls":3},{"$f":"VLOOKUP(B68,[1]PlayersList!$B$4:$J$1000,9,FALSE)","v":{"$error":"#N/A"}},null,"Taylor Hall"]
[66," Jason Zucker","MIN",8,null,2,null,4,null,6,null,8,null,4,null,9,null,2,null,1,null,0,null,1,null,0,null,0,null,0,null,0,null,0,null,11,null,0.182,{"$nulls":3},{"$f":"VLOOKUP(B69,[1]PlayersList!$B$4:$J$1000,9,FALSE)","v":{"$error":"#N/A"}},null,"Jason Zucker"]
[67," Tyler Toffoli","LOS",7,null,2,null,4,null,6,null,4,null,0,null,7,null,1,null,0,null,1,null,0,null,1,null,0,null,0,null,0,null,0,null,24,null,0.083,{"$nulls":3},{"$f":"VLOOKUP(B70,[1]PlayersList!$B$4:$J$1000,9,FALSE)","v":{"$error":"#N/A"}},null,{"$f":"SUBSTITUTE(B70,\" \",\"\")","v":"Tyler Toffoli"}]
[68," Viktor Arvidsson","NAS",7,null,4,null,2,null,6,null,-1,null,2,null,3,null,5,null,1,null,0,null,1,null,1,null,1,null,1,null,0,null,0,null,19,null,0.211,{"$nulls":3},{"$f":"VLOOKUP(B71,[1]PlayersList!$B$4:$J$1000,9,FALSE)","v":{"$error":"#N/A"}},null,"Viktor Arvidsson"]
[69," Ryan Dzingel","OTT",6,null,4,null,2,null,6,null,5,null,0,null,4,null,5,null,0,null,1,null,0,null,0,null,0,null,1,null,0,null,1,null,8,null,0.5,{"$nulls":3},{"$f":"VLOOKUP(B72,[1]PlayersList!$B$4:$J$1000,9,FALSE)","v":{"$error":"#N/A"}},null,"Ryan Dzingel"]
[70," Patric Hornqvist","PIT",8,null,3,null,3,null,6,null,0,null,2,null,25,null,8,null,1,null,4,null,0.2,null,3,null,1,null,0,null,0,null,1,null,27,null,0.111,{"$nulls":3},{"$f":"VLOOKUP(B73,[1]PlayersList!$B$4:$J$1000,9,FALSE)","v":{"$error":"#N/A"}},null,"Patric Hornqvist"]
[71," Jordan Eberle","EDM",7,null,3,null,3,null,6,null,1,null,2,null,2,null,3,null,0,null,1,null,0,null,1,null,0,null,0,null,0,null,0,null,22,null,0.136,{"$nulls":3},{"$f":"VLOOKUP(B74,[1]PlayersList!$B$4:$J$1000,9,FALSE)","v":{"$error":"#N/A"}},null,"Jordan Eberle"]
[72," Eric Staal","MIN",8,null,3,null,3,null,6,null,1,null,2,null,5,null,1,null,72,null,66,null,0.522,null,0,null,0,null,0,null,0,null,1,null,20,null,0.15,{"$nulls":3},{"$f":"VLOOKUP(B75,[1]PlayersList!$B$4:$J$1000,9,FALSE)","v":{"$error":"#N/A"}},null,"Eric Staal"]
[73," Jeff Skinner","CAR",5,null,2,null,4,null,6,null,-2,null,2,null,3,null,1,null,2,null,5,null,0.286,null,1,null,2,null,0,null,0,null,0,null,21,null,0.095,{"$nulls":3},{"$f":"VLOOKUP(B76,[1]PlayersList!$B$4:$J$1000,9,FALSE)","v":{"$error":"#N/A"}},null,"Jeff Skinner"]
[74," Mitchell Marner","TOR",7,null,1,null,5,null,6,null,0,null,12,null,3,null,9,null,2,null,1,null,0.667,null,0,null,0,null,0,null,0,null,1,null,19,null,0.053,{"$nulls":3},{"$f":"VLOOKUP(B77,[1]PlayersList!$B$4:$J$1000,9,FALSE)","v":{"$error":"#N/A"}},null,"Mitchell Marner"]
[75," Kevin Shattenkirk","STL",8,null,3,null,3,null,6,null,-4,null,4,null,6,null,6,null,0,null,0,null,"N/A",null,2,null,3,null,0,null,0,null,0,null,18,null,0.167,{"$nulls":3},{"$f":"VLOOKUP(B78,[1]PlayersList!$B$4:$J$1000,9,FALSE)","v":{"$error":"#N/A"}},null,"Kevin Shattenkirk"]
[76," Jeff Petry","MON",7,null,2,null,4,null,6,null,1,null,2,null,18,null,12,null,0,null,0,null,"N/A",null,1,null,2,null,0,null,0,null,0,null,8,null,0.25,{"$nulls":3},{"$f":"VLOOKUP(B79,[1]PlayersList!$B$4:$J$1000,9,FALSE)","v":{"$error":"#N/A"}},null,"Jeff Petry"]
[77," Charlie Coyle","MIN",8,null,3,null,3,null,6,null,1,null,18,null,9,null,7,null,5,null,5,null,0.5,null,1,null,0,null,0,null,0,null,1,null,17,null,0.176,{"$nulls":3},{"$f":"VLOOKUP(B80,[1]PlayersList!$B$4:$J$1000,9,FALSE)","v":{"$error":"#N/A"}},null,"Charlie Coyle"]
[78," James van Riemsdyk","TOR",7,null,4,null,1,null,5,null,1,null,4,null,8,null,3,null,1,null,3,null,0.25,null,0,null,0,null,0,null,0,null,0,null,22,null,0.182,{"$nulls":3},{"$f":"VLOOKUP(B81,[1]PlayersList!$B$4:$J$1000,9,FALSE)","v":{"$error":"#N/A"}},null,"James van Riemsdyk"]
[79," Joel Eriksson Ek","MIN",4,null,2,null,3,null,5,null,3,null,0,null,7,null,1,null,15,null,17,null,0.469,null,0,null,0,null,0,null,0,null,1,null,7,null,0.286,{"$nulls":3},{"$f":"VLOOKUP(B82,[1]PlayersList!$B$4:$J$1000,9,FALSE)","v":{"$error":"#N/A"}},null,"Joel Eriksson Ek"]
[80," Noah Hanifin","CAR",6,null,0,null,5,null,5,null,-5,null,4,null,3,null,3,null,0,null,0,null,"N/A",null,0,null,3,null,0,null,0,null,0,null,10,null,0,{"$nulls":3},{"$f":"VLOOKUP(B83,[1]PlayersList!$B$4:$J$1000,9,FALSE)","v":{"$error":"#N/A"}},null,"Noah Hanifin"]
[81," Zach Werenski","COB",6,null,2,null,3,null,5,null,-1,null,2,null,6,null,6,null,0,null,0,null,"N/A",null,2,null,1,null,0,null,0,null,0,null,22,null,0.091,{"$nulls":3},{"$f":"VLOOKUP(B84,[1]PlayersList!$B$4:$J$1000,9,FALSE)","v":{"$error":"#N/A"}},null,"Zach Werenski"]
[82," Aleksander Barkov","FLA",7,null,2,null,3,null,5,null,3,null,0,null,1,null,5,null,55,null,43,null,0.561,null,0,null,1,null,0,null,0,null,1,null,12,null,0.167,{"$nulls":3},{"$f":"VLOOKUP(B85,[1]PlayersList!$B$4:$J$1000,9,FALSE)","v":{"$error":"#N/A"}},null,"Aleksander Barkov"]
[83," Josh Bailey","NYI",8,null,1,null,4,null,5,null,2,null,0,null,2,null,13,null,0,null,2,null,0,null,0,null,0,null,0,null,0,null,1,null,15,null,0.067,{"$nulls":3},{"$f":"VLOOKUP(B86,[1]PlayersList!$B$4:$J$1000,9,FALSE)","v":{"$error":"#N/A"}},null,"Josh Bailey"]
[84," Jonathan Drouin","TAM",7,null,2,null,3,null,5,null,-3,null,2,null,5,null,6,null,15,null,17,null,0.469,null,2,null,1,null,0,null,0,null,0,null,22,null,0.091,{"$nulls":3},{"$f":"VLOOKUP(B87,[1]PlayersList!$B$4:$J$1000,9,FALSE)","v":{"$error":"#N/A"}},null,"Jonathan Drouin"]
[85," Valtteri Filppula","TAM",7,null,3,null,2,null,5,null,4,null,4,null,4,null,2,null,50,null,70,null,0.417,null,0,null,0,null,0,null,0,null,1,null,7,null,0.429,{"$nulls":3},{"$f":"VLOOKUP(B88,[1]PlayersList!$B$4:$J$1000,9,FALSE)","v":{"$error":"#N/A"}},null,"Valtteri Filppula"]
[86," Ivan Provorov","PHI",8,null,0,null,5,null,5,null,-5,null,4,null,13,null,14,null,0,null,0,null,"N/A",null,0,null,1,null,0,null,0,null,0,null,11,null,0,{"$nulls":3},{"$f":"VLOOKUP(B89,[1]PlayersList!$B$4:$J$1000,9,FALSE)","v":{"$error":"#N/A"}},null,"Ivan Provorov"]
[87," Nathan MacKinnon","COL",5,null,1,null,4,null,5,null,1,null,0,null,3,null,0,null,45,null,45,null,0.5,null,0,null,2,null,0,null,0,null,0,null,13,null,0.077,{"$nulls":3},{"$f":"VLOOKUP(B90,[1]PlayersList!$B$4:$J$1000,9,FALSE)","v":{"$error":"#N/A"}},null,"Nathan MacKinnon"]
[88," Sebastian Aho","CAR",6,null,0,null,5,null,5,null,0,null,2,null,2,null,1,null,0,null,0,null,"N/A",null,0,null,3,null,0,null,0,null,0,null,12,null,0,{"$nulls":3},{"$f":"VLOOKUP(B91,[1]PlayersList!$B$4:$J$1000,9,FALSE)","v":{"$error":"#N/A"}},null,"Sebastian Aho"]
[89," Johnny Gaudreau","CGY",8,null,2,null,3,null,5,null,-6,null,0,null,2,null,3,null,0,null,0,null,"N/A",null,0,null,1,null,0,null,0,null,0,null,26,null,0.077,{"$nulls":3},{"$f":"VLOOKUP(B92,[1]PlayersList!$B$4:$J$1000,9,FALSE)","v":{"$error":"#N/A"}},null,"Johnny Gaudreau"]
[90," Jimmy Vesey","NYR",7,null,4,null,1,null,5,null,1,null,0,null,3,null,1,null,0,null,0,null,"N/A",null,1,null,1,null,0,null,0,null,2,null,13,null,0.308,{"$nulls":3},{"$f":"VLOOKUP(B93,[1]PlayersList!$B$4:$J$1000,9,FALSE)","v":{"$error":"#N/A"}},null,"Jimmy Vesey"]
[91," Jordan Martinook","ARI",7,null,3,null,2,null,5,null,0,null,4,null,5,null,3,null,9,null,19,null,0.321,null,0,null,0,null,0,null,1,null,0,null,14,null,0.214,{"$nulls":3},{"$f":"VLOOKUP(B94,[1]PlayersList!$B$4:$J$1000,9,FALSE)","v":{"$error":"#N/A"}},null,"Jordan Martinook"]
[92," Nikita Zaitsev","TOR",7,null,0,null,5,null,5,null,-2,null,0,null,8,null,10,null,0,null,0,null,"N/A",null,0,null,2,null,0,null,0,null,0,null,6,null,0,{"$nulls":3},{"$f":"VLOOKUP(B95,[1]PlayersList!$B$4:$J$1000,9,FALSE)","v":{"$error":"#N/A"}},null,"Nikita Zaitsev"]
[93," Victor Hedman","TAM",7,null,1,null,4,null,5,null,3,null,0,null,9,null,15,null,0,null,0,null,"N/A",null,0,null,2,null,0,null,0,null,1,null,8,null,0.125,{"$nulls":3},{"$f":"VLOOKUP(B96,[1]PlayersList!$B$4:$J$1000,9,FALSE)","v":{"$error":"#N/A"}},null,"Victor Hedman"]
[94," Matt Duchene","COL",5,null,3,null,2,null,5,null,2,null,2,null,2,null,4,null,14,null,12,null,0.538,null,0,null,1,null,0,null,0,null,1,null,14,null,0.214,{"$nulls":3},{"$f":"VLOOKUP(B97,[1]PlayersList!$B$4:$J$1000,9,FALSE)","v":{"$error":"#N/A"}},null,"Matt Duchene"]
[95," Shayne Gostisbehere","PHI",8,null,1,null,4,null,5,null,-4,null,4,null,6,null,11,null,0,null,0,null,"N/A",null,0,null,2,null,0,null,0,null,1,null,23,null,0.043,{"$nulls":3},{"$f":"VLOOKUP(B98,[1]PlayersList!$B$4:$J$1000,9,FALSE)","v":{"$error":"#N/A"}},null,"Shayne Gostisbehere"]
[96," Radim Vrbata","ARI",7,null,3,null,2,null,5,null,3,null,2,null,7,null,2,null,2,null,0,null,1,null,0,null,0,null,0,null,0,null,0,null,18,null,0.167,{"$nulls":3},{"$f":"VLOOKUP(B99,[1]PlayersList!$B$4:$J$1000,9,FALSE)","v":{"$error":"#N/A"}},null,"Radim Vrbata"]
[97," Anthony Beauvillier","NYI",7,null,1,null,4,null,5,null,4,null,2,null,12,null,2,null,1,null,1,null,0.5,null,0,null,0,null,0,null,0,null,0,null,7,null,0.143,{"$nulls":3},{"$f":"VLOOKUP(B100,[1]PlayersList!$B$4:$J$1000,9,FALSE)","v":{"$error":"#N/A"}},null,"Anthony Beauvillier"]
[98," Filip Forsberg","NAS",7,null,0,null,5,null,5,null,-5,null,4,null,13,null,2,null,2,null,5,null,0.286,null,0,null,3,null,0,null,0,null,0,null,15,null,0,{"$nulls":3},{"$f":"VLOOKUP(B101,[1]PlayersList!$B$4:$J$1000,9,FALSE)","v":{"$error":"#N/A"}},null,"Filip Forsberg"]
[99," Paul Byron","MON",8,null,2,null,3,null,5,null,2,null,2,null,9,null,4,null,1,null,0,null,1,null,0,null,0,null,1,null,0,null,1,null,10,null,0.2,{"$nulls":3},{"$f":"VLOOKUP(B102,[1]PlayersList!$B$4:$J$1000,9,FALSE)","v":{"$error":"#N/A"}},null,"Paul Byron"]
[100," Nazem Kadri","TOR",7,null,2,null,3,null,5,null,-1,null,9,null,6,null,5,null,50,null,57,null,0.467,null,1,null,2,null,0,null,0,null,0,null,9,null,0.222,{"$nulls":3},{"$f":"VLOOKUP(B103,[1]PlayersList!$B$4:$J$1000,9,FALSE)","v":{"$error":"#N/A"}},null,"Nazem Kadri"]
[101," Brayden Schenn","PHI",5,null,2,null,3,null,5,null,-3,null,9,null,11,null,1,null,1,null,2,null,0.333,null,2,null,2,null,0,null,0,null,0,null,9,null,0.222,{"$nulls":3},{"$f":"VLOOKUP(B104,[1]PlayersList!$B$4:$J$1000,9,FALSE)","v":{"$error":"#N/A"}},null,"Brayden Schenn"]
[102," Oliver Ekman-Larsson","ARI",7,null,5,null,0,null,5,null,-1,null,4,null,12,null,7,null,0,null,0,null,"N/A",null,2,null,0,null,0,null,0,null,1,null,20,null,0.25,{"$nulls":3},{"$f":"VLOOKUP(B105,[1]PlayersList!$B$4:$J$1000,9,FALSE)","v":{"$error":"#N/A"}},null,"Oliver Ekman-Larsson"]
[103," Matt Read","PHI",8,null,5,null,0,null,5,null,-2,null,0,null,18,null,7,null,0,null,3,null,0,null,1,null,0,null,0,null,0,null,0,null,22,null,0.227,{"$nulls":3},{"$f":"VLOOKUP(B106,[1]PlayersList!$B$4:$J$1000,9,FALSE)","v":{"$error":"#N/A"}},null,"Matt Read"]
[104," Travis Zajac","NJD",6,null,3,null,2,null,5,null,-1,null,4,null,6,null,1,null,60,null,54,null,0.526,null,1,null,1,null,0,null,0,null,1,null,13,null,0.231,{"$nulls":3},{"$f":"VLOOKUP(B107,[1]PlayersList!$B$4:$J$1000,9,FALSE)","v":{"$error":"#N/A"}},null,"Travis Zajac"]
[105," Justin Faulk","CAR",6,null,2,null,3,null,5,null,-6,null,4,null,7,null,6,null,0,null,0,null,"N/A",null,1,null,2,null,0,null,0,null,0,null,14,null,0.143,{"$nulls":3},{"$f":"VLOOKUP(B108,[1]PlayersList!$B$4:$J$1000,9,FALSE)","v":{"$error":"#N/A"}},null,"Justin Faulk"]
[106," Brandon Manning","PHI",8,null,1,null,4,null,5,null,4,null,4,null,24,null,8,null,0,null,0,null,"N/A",null,0,null,0,null,0,null,0,null,0,null,9,null,0.111,{"$nulls":3},{"$f":"VLOOKUP(B109,[1]PlayersList!$B$4:$J$1000,9,FALSE)","v":{"$error":"#N/A"}},null,"Brandon Manning"]
[107," Ryan Strome","NYI",8,null,2,null,3,null,5,null,-2,null,2,null,5,null,4,null,20,null,17,null,0.541,null,1,null,0,null,0,null,0,null,0,null,12,null,0.167,{"$nulls":3},{"$f":"VLOOKUP(B110,[1]PlayersList!$B$4:$J$1000,9,FALSE)","v":{"$error":"#N/A"}},null,"Ryan Strome"]
[108," Henrik Sedin","VAN",7,null,3,null,2,null,5,null,-4,null,2,null,2,null,1,null,59,null,51,null,0.536,null,1,null,1,null,0,null,0,null,1,null,10,null,0.3,{"$nulls":3},{"$f":"VLOOKUP(B111,[1]PlayersList!$B$4:$J$1000,9,FALSE)","v":{"$error":"#N/A"}},null,"Henrik Sedin"]
[109," Derek Stepan","NYR",7,null,0,null,5,null,5,null,0,null,0,null,2,null,8,null,59,null,71,null,0.454,null,0,null,2,null,0,null,0,null,0,null,19,null,0,{"$nulls":3},{"$f":"VLOOKUP(B112,[1]PlayersList!$B$4:$J$1000,9,FALSE)","v":{"$error":"#N/A"}},null,"Derek Stepan"]
[110," P.K. Subban","NAS",7,null,2,null,3,null,5,null,-6,null,8,null,9,null,20,null,0,null,0,null,"N/A",null,2,null,2,null,0,null,0,null,0,null,17,null,0.118,{"$nulls":3},{"$f":"VLOOKUP(B113,[1]PlayersList!$B$4:$J$1000,9,FALSE)","v":{"$error":"#N/A"}},null,"P.K. Subban"]
[111," Patrick Wiercioch","COL",5,null,1,null,4,null,5,null,3,null,9,null,8,null,7,null,0,null,0,null,"N/A",null,0,null,0,null,0,null,0,null,0,null,7,null,0.143,{"$nulls":3},{"$f":"VLOOKUP(B114,[1]PlayersList!$B$4:$J$1000,9,FALSE)","v":{"$error":"#N/A"}},null,"Patrick Wiercioch"]
[112," Sam Bennett","CGY",8,null,2,null,3,null,5,null,0,null,16,null,20,null,1,null,44,null,43,null,0.506,null,1,null,0,null,0,null,0,null,0,null,15,null,0.133,{"$nulls":3},{"$f":"VLOOKUP(B115,[1]PlayersList!$B$4:$J$1000,9,FALSE)","v":{"$error":"#N/A"}},null,"Sam Bennett"]
[113," Milan Lucic","EDM",7,null,3,null,2,null,5,null,3,null,7,null,20,null,2,null,1,null,1,null,0.5,null,1,null,1,null,0,null,0,null,1,null,18,null,0.167,{"$nulls":3},{"$f":"VLOOKUP(B116,[1]PlayersList!$B$4:$J$1000,9,FALSE)","v":{"$error":"#N/A"}},null,"Milan Lucic"]
[114," Tomas Hertl","SAN",8,null,4,null,1,null,5,null,1,null,8,null,14,null,1,null,19,null,24,null,0.442,null,1,null,0,null,0,null,0,null,1,null,19,null,0.211,{"$nulls":3},{"$f":"VLOOKUP(B117,[1]PlayersList!$B$4:$J$1000,9,FALSE)","v":{"$error":"#N/A"}},null,"Tomas Hertl"]
[115," Jeff Carter","LOS",7,null,2,null,3,null,5,null,0,null,2,null,6,null,4,null,68,null,52,null,0.567,null,0,null,0,null,0,null,0,null,1,null,21,null,0.095,{"$nulls":3},{"$f":"VLOOKUP(B118,[1]PlayersList!$B$4:$J$1000,9,FALSE)","v":{"$error":"#N/A"}},null,"Jeff Carter"]
[116," Dustin Brown","LOS",7,null,1,null,4,null,5,null,-2,null,4,null,17,null,2,null,0,null,0,null,"N/A",null,0,null,2,null,1,null,0,null,0,null,13,null,0.077,{"$nulls":3},{"$f":"VLOOKUP(B119,[1]PlayersList!$B$4:$J$1000,9,FALSE)","v":{"$error":"#N/A"}},null,"Dustin Brown"]
[117," Brian Campbell","CHI",7,null,1,null,4,null,5,null,6,null,2,null,10,null,4,null,0,null,0,null,"N/A",null,0,null,1,null,0,null,0,null,0,null,10,null,0.1,{"$nulls":3},{"$f":"VLOOKUP(B120,[1]PlayersList!$B$4:$J$1000,9,FALSE)","v":{"$error":"#N/A"}},null,"Brian Campbell"]
[118," Brent Seabrook","CHI",7,null,1,null,4,null,5,null,3,null,2,null,11,null,8,null,0,null,0,null,"N/A",null,1,null,1,null,0,null,0,null,0,null,12,null,0.083,{"$nulls":3},{"$f":"VLOOKUP(B121,[1]PlayersList!$B$4:$J$1000,9,FALSE)","v":{"$error":"#N/A"}},null,"Brent Seabrook"]
[119," Brandon Sutter","VAN",7,null,1,null,4,null,5,null,1,null,0,null,4,null,5,null,67,null,70,null,0.489,null,0,null,1,null,0,null,0,null,1,null,18,null,0.056,{"$nulls":3},{"$f":"VLOOKUP(B122,[1]PlayersList!$B$4:$J$1000,9,FALSE)","v":{"$error":"#N/A"}},null,"Brandon Sutter"]
[120," Tyler Bozak","TOR",7,null,3,null,2,null,5,null,1,null,0,null,4,null,2,null,72,null,48,null,0.6,null,0,null,0,null,0,null,0,null,1,null,11,null,0.273,{"$nulls":3},{"$f":"VLOOKUP(B123,[1]PlayersList!$B$4:$J$1000,9,FALSE)","v":{"$error":"#N/A"}},null,"Tyler Bozak"]
[121," Artemi Panarin","CHI",7,null,2,null,3,null,5,null,5,null,2,null,2,null,0,null,0,null,0,null,"N/A",null,1,null,0,null,0,null,0,null,0,null,14,null,0.143,{"$nulls":3},{"$f":"VLOOKUP(B124,[1]PlayersList!$B$4:$J$1000,9,FALSE)","v":{"$error":"#N/A"}},null,"Artemi Panarin"]
[122," Mats Zuccarello","NYR",7,null,2,null,3,null,5,null,4,null,4,null,10,null,2,null,1,null,1,null,0.5,null,0,null,0,null,0,null,0,null,0,null,10,null,0.2,{"$nulls":3},{"$f":"VLOOKUP(B125,[1]PlayersList!$B$4:$J$1000,9,FALSE)","v":{"$error":"#N/A"}},null,"Mats Zuccarello"]
[123," Chris Stewart","MIN",8,null,2,null,3,null,5,null,1,null,19,null,4,null,1,null,0,null,1,null,0,null,0,null,1,null,0,null,0,null,0,null,4,null,0.5,{"$nulls":3},{"$f":"VLOOKUP(B126,[1]PlayersList!$B$4:$J$1000,9,FALSE)","v":{"$error":"#N/A"}},null,"Chris Stewart"]
[124," Alexander Radulov","MON",8,null,2,null,3,null,5,null,2,null,16,null,10,null,6,null,0,null,0,null,"N/A",null,1,null,1,null,0,null,0,null,0,null,14,null,0.143,{"$nulls":3},{"$f":"VLOOKUP(B127,[1]PlayersList!$B$4:$J$1000,9,FALSE)","v":{"$error":"#N/A"}},null,"Alexander Radulov"]
[125," Mark Stone","OTT",6,null,1,null,4,null,5,null,0,null,2,null,9,null,2,null,1,null,2,null,0.333,null,0,null,0,null,0,null,0,null,1,null,11,null,0.091,{"$nulls":3},{"$f":"VLOOKUP(B128,[1]PlayersList!$B$4:$J$1000,9,FALSE)","v":{"$error":"#N/A"}},null,"Mark Stone"]
[126," Dustin Byfuglien","WPG",7,null,0,null,5,null,5,null,-1,null,2,null,20,null,14,null,0,null,0,null,"N/A",null,0,null,1,null,0,null,0,null,0,null,14,null,0,{"$nulls":3},{"$f":"VLOOKUP(B129,[1]PlayersList!$B$4:$J$1000,9,FALSE)","v":{"$error":"#N/A"}},null,"Dustin Byfuglien"]
[127," Nick Foligno","COB",6,null,1,null,4,null,5,null,0,null,2,null,12,null,4,null,7,null,6,null,0.538,null,1,null,2,null,0,null,0,null,0,null,6,null,0.167,{"$nulls":3},{"$f":"VLOOKUP(B130,[1]PlayersList!$B$4:$J$1000,9,FALSE)","v":{"$error":"#N/A"}},null,"Nick Foligno"]
[128," Alex Ovechkin","WAS",6,null,4,null,1,null,5,null,0,null,6,null,17,null,0,null,0,null,0,null,"N/A",null,1,null,0,null,0,null,0,null,2,null,25,null,0.16,{"$nulls":3},{"$f":"VLOOKUP(B131,[1]PlayersList!$B$4:$J$1000,9,FALSE)","v":{"$error":"#N/A"}},null,"Alex Ovechkin"]
[129," Max Domi","ARI",7,null,0,null,5,null,5,null,-1,null,6,null,7,null,4,null,2,null,2,null,0.5,null,0,null,1,null,0,null,0,null,0,null,15,null,0,{"$nulls":3},{"$f":"VLOOKUP(B132,[1]PlayersList!$B$4:$J$1000,9,FALSE)","v":{"$error":"#N/A"}},null,"Max Domi"]
[130," Alexander Wennberg","COB",6,null,1,null,4,null,5,null,-1,null,2,null,8,null,6,null,40,null,46,null,0.465,null,0,null,4,null,0,null,0,null,0,null,10,null,0.1,{"$nulls":3},{"$f":"VLOOKUP(B133,[1]PlayersList!$B$4:$J$1000,9,FALSE)","v":{"$error":"#N/A"}},null,"Alexander Wennberg"]
[131," Rick Nash","NYR",7,null,3,null,2,null,5,null,-4,null,2,null,4,null,8,null,0,null,0,null,"N/A",null,1,null,1,null,0,null,0,null,0,null,24,null,0.125,{"$nulls":3},{"$f":"VLOOKUP(B134,[1]PlayersList!$B$4:$J$1000,9,FALSE)","v":{"$error":"#N/A"}},null,{"$f":"SUBSTITUTE(B134,\" \",\"\")","v":"Rick Nash"}]
[132," Mark Giordano","CGY",8,null,1,null,4,null,5,null,1,null,16,null,3,null,22,null,0,null,0,null,"N/A",null,0,null,1,null,0,null,1,null,0,null,20,null,0.05,{"$nulls":3},{"$f":"VLOOKUP(B135,[1]PlayersList!$B$4:$J$1000,9,FALSE)","v":{"$error":"#N/A"}},null,"Mark Giordano"]
[133," Logan Couture","SAN",8,null,2,null,3,null,5,null,-1,null,2,null,0,null,4,null,38,null,67,null,0.362,null,2,null,0,null,0,null,0,null,0,null,22,null,0.091,{"$nulls":3},{"$f":"VLOOKUP(B136,[1]PlayersList!$B$4:$J$1000,9,FALSE)","v":{"$error":"#N/A"}},null,"Logan Couture"]
[134," Patrik Berglund","STL",8,null,1,null,3,null,4,null,2,null,4,null,10,null,4,null,56,null,38,null,0.596,null,0,null,0,null,0,null,0,null,0,null,13,null,0.077,{"$nulls":3},{"$f":"VLOOKUP(B137,[1]PlayersList!$B$4:$J$1000,9,FALSE)","v":{"$error":"#N/A"}},null,"Patrik Berglund"]
[135," Michael Frolik","CGY",8,null,3,null,1,null,4,null,-2,null,4,null,6,null,7,null,4,null,1,null,0.8,null,0,null,0,null,1,null,0,null,0,null,15,null,0.2,{"$nulls":3},{"$f":"VLOOKUP(B138,[1]PlayersList!$B$4:$J$1000,9,FALSE)","v":{"$error":"#N/A"}},null,"Michael Frolik"]
[136," Joe Colborne","COL",5,null,3,null,1,null,4,null,-1,null,2,null,5,null,3,null,12,null,25,null,0.324,null,2,null,0,null,0,null,0,null,0,null,9,null,0.333,{"$nulls":3},{"$f":"VLOOKUP(B139,[1]PlayersList!$B$4:$J$1000,9,FALSE)","v":{"$error":"#N/A"}},null,"Joe Colborne"]
[137," Ryan Johansen","NAS",7,null,0,null,4,null,4,null,-2,null,6,null,9,null,3,null,55,null,49,null,0.529,null,0,null,4,null,0,null,0,null,0,null,9,null,0,{"$nulls":3},{"$f":"VLOOKUP(B140,[1]PlayersList!$B$4:$J$1000,9,FALSE)","v":{"$error":"#N/A"}},null,"Ryan Johansen"]
[138," Nail Yakupov","STL",8,null,2,null,2,null,4,null,2,null,4,null,5,null,0,null,0,null,0,null,"N/A",null,0,null,0,null,0,null,0,null,0,null,11,null,0.182,{"$nulls":3},{"$f":"VLOOKUP(B141,[1]PlayersList!$B$4:$J$1000,9,FALSE)","v":{"$error":"#N/A"}},null,"Nail Yakupov"]
[139," Mark Letestu","EDM",7,null,2,null,2,null,4,null,1,null,0,null,6,null,3,null,42,null,46,null,0.477,null,0,null,0,null,2,null,0,null,2,null,8,null,0.25,{"$nulls":3},{"$f":"VLOOKUP(B142,[1]PlayersList!$B$4:$J$1000,9,FALSE)","v":{"$error":"#N/A"}},null,"Mark Letestu"]
[140," Cal Clutterbuck","NYI",8,null,1,null,3,null,4,null,0,null,8,null,32,null,4,null,1,null,1,null,0.5,null,0,null,0,null,0,null,0,null,0,null,12,null,0.083,{"$nulls":3},{"$f":"VLOOKUP(B143,[1]PlayersList!$B$4:$J$1000,9,FALSE)","v":{"$error":"#N/A"}},null,"Cal Clutterbuck"]
[141," Torrey Mitchell","MON",8,null,4,null,0,null,4,null,5,null,2,null,1,null,5,null,47,null,32,null,0.595,null,0,null,0,null,0,null,0,null,1,null,6,null,0.667,{"$nulls":3},{"$f":"VLOOKUP(B144,[1]PlayersList!$B$4:$J$1000,9,FALSE)","v":{"$error":"#N/A"}},null,"Torrey Mitchell"]
[142," Kyle Okposo","BUF",5,null,1,null,3,null,4,null,0,null,0,null,4,null,0,null,1,null,3,null,0.25,null,0,null,3,null,0,null,0,null,0,null,12,null,0.083,{"$nulls":3},{"$f":"VLOOKUP(B145,[1]PlayersList!$B$4:$J$1000,9,FALSE)","v":{"$error":"#N/A"}},null,"Kyle Okposo"]
[143," David Desharnais","MON",8,null,2,null,2,null,4,null,2,null,0,null,0,null,1,null,30,null,25,null,0.545,null,0,null,0,null,0,null,0,null,0,null,10,null,0.2,{"$nulls":3},{"$f":"VLOOKUP(B146,[1]PlayersList!$B$4:$J$1000,9,FALSE)","v":{"$error":"#N/A"}},null,"David Desharnais"]
[144," Jamie Benn","DAL",7,null,2,null,2,null,4,null,-5,null,11,null,11,null,3,null,40,null,30,null,0.571,null,2,null,1,null,0,null,0,null,0,null,20,null,0.1,{"$nulls":3},{"$f":"VLOOKUP(B147,[1]PlayersList!$B$4:$J$1000,9,FALSE)","v":{"$error":"#N/A"}},null,"Jamie Benn"]
[145," Jonas Brodin","MIN",8,null,1,null,3,null,4,null,6,null,6,null,3,null,12,null,0,null,0,null,"N/A",null,0,null,0,null,0,null,0,null,1,null,8,null,0.125,{"$nulls":3},{"$f":"VLOOKUP(B148,[1]PlayersList!$B$4:$J$1000,9,FALSE)","v":{"$error":"#N/A"}},null,"Jonas Brodin"]
[146," Phillip Danault","MON",8,null,2,null,2,null,4,null,3,null,0,null,6,null,7,null,17,null,22,null,0.436,null,0,null,0,null,0,null,0,null,0,null,10,null,0.2,{"$nulls":3},{"$f":"VLOOKUP(B149,[1]PlayersList!$B$4:$J$1000,9,FALSE)","v":{"$error":"#N/A"}},null,"Phillip Danault"]
[147," Ondrej Palat","TAM",7,null,1,null,3,null,4,null,-5,null,7,null,14,null,4,null,0,null,0,null,"N/A",null,0,null,2,null,0,null,0,null,0,null,13,null,0.077,{"$nulls":3},{"$f":"VLOOKUP(B150,[1]PlayersList!$B$4:$J$1000,9,FALSE)","v":{"$error":"#N/A"}},null,"Ondrej Palat"]
[148," Matt Moulson","BUF",6,null,4,null,0,null,4,null,-2,null,0,null,7,null,4,null,0,null,0,null,"N/A",null,4,null,0,null,0,null,0,null,0,null,19,null,0.211,{"$nulls":3},{"$f":"VLOOKUP(B151,[1]PlayersList!$B$4:$J$1000,9,FALSE)","v":{"$error":"#N/A"}},null,"Matt Moulson"]
[149," Daniel Sedin","VAN",7,null,2,null,2,null,4,null,-3,null,2,null,2,null,2,null,0,null,0,null,"N/A",null,1,null,1,null,0,null,0,null,1,null,17,null,0.118,{"$nulls":3},{"$f":"VLOOKUP(B152,[1]PlayersList!$B$4:$J$1000,9,FALSE)","v":{"$error":"#N/A"}},null,"Daniel Sedin"]
[150," Kyle Turris","OTT",6,null,3,null,1,null,4,null,0,null,0,null,1,null,4,null,43,null,49,null,0.467,null,0,null,0,null,0,null,0,null,1,null,12,null,0.25,{"$nulls":3},{"$f":"VLOOKUP(B153,[1]PlayersList!$B$4:$J$1000,9,FALSE)","v":{"$error":"#N/A"}},null,"Kyle Turris"]
[151," Matt Dumba","MIN",8,null,1,null,3,null,4,null,2,null,2,null,14,null,9,null,0,null,0,null,"N/A",null,1,null,1,null,0,null,0,null,0,null,16,null,0.063,{"$nulls":3},{"$f":"VLOOKUP(B154,[1]PlayersList!$B$4:$J$1000,9,FALSE)","v":{"$error":"#N/A"}},null,"Matt Dumba"]
[152," Sean Couturier","PHI",8,null,3,null,1,null,4,null,0,null,6,null,7,null,6,null,58,null,72,null,0.446,null,0,null,0,null,0,null,0,null,1,null,12,null,0.25,{"$nulls":3},{"$f":"VLOOKUP(B155,[1]PlayersList!$B$4:$J$1000,9,FALSE)","v":{"$error":"#N/A"}},null,"Sean Couturier"]
[153," Morgan Rielly","TOR",7,null,0,null,4,null,4,null,-1,null,2,null,2,null,15,null,0,null,0,null,"N/A",null,0,null,0,null,0,null,0,null,0,null,11,null,0,{"$nulls":3},{"$f":"VLOOKUP(B156,[1]PlayersList!$B$4:$J$1000,9,FALSE)","v":{"$error":"#N/A"}},null,"Morgan Rielly"]
[154," Jake Gardiner","TOR",7,null,0,null,4,null,4,null,2,null,2,null,11,null,4,null,0,null,0,null,"N/A",null,0,null,0,null,0,null,0,null,0,null,10,null,0,{"$nulls":3},{"$f":"VLOOKUP(B157,[1]PlayersList!$B$4:$J$1000,9,FALSE)","v":{"$error":"#N/A"}},null,"Jake Gardiner"]
[155," Alex Goligoski","ARI",7,null,0,null,4,null,4,null,-7,null,2,null,7,null,12,null,0,null,0,null,"N/A",null,0,null,2,null,0,null,0,null,0,null,9,null,0,{"$nulls":3},{"$f":"VLOOKUP(B158,[1]PlayersList!$B$4:$J$1000,9,FALSE)","v":{"$error":"#N/A"}},null,"Alex Goligoski"]
[156," Patrick Eaves","DAL",6,null,1,null,3,null,4,null,-2,null,0,null,12,null,2,null,0,null,0,null,"N/A",null,1,null,1,null,0,null,0,null,0,null,12,null,0.083,{"$nulls":3},{"$f":"VLOOKUP(B159,[1]PlayersList!$B$4:$J$1000,9,FALSE)","v":{"$error":"#N/A"}},null,"Patrick Eaves"]
[157," Alex Pietrangelo","STL",8,null,1,null,3,null,4,null,0,null,2,null,6,null,15,null,0,null,0,null,"N/A",null,1,null,2,null,0,null,0,null,1,null,15,null,0.067,{"$nulls":3},{"$f":"VLOOKUP(B160,[1]PlayersList!$B$4:$J$1000,9,FALSE)","v":{"$error":"#N/A"}},null,"Alex Pietrangelo"]
[158," Ryan Kesler","ANA",8,null,1,null,3,null,4,null,3,null,9,null,15,null,7,null,102,null,71,null,0.59,null,1,null,1,null,0,null,0,null,0,null,16,null,0.063,{"$nulls":3},{"$f":"VLOOKUP(B161,[1]PlayersList!$B$4:$J$1000,9,FALSE)","v":{"$error":"#N/A"}},null,"Ryan Kesler"]
[159," Matt Stajan","CGY",8,null,0,null,4,null,4,null,5,null,2,null,3,null,8,null,42,null,37,null,0.532,null,0,null,0,null,0,null,0,null,0,null,9,null,0,{"$nulls":3},{"$f":"VLOOKUP(B162,[1]PlayersList!$B$4:$J$1000,9,FALSE)","v":{"$error":"#N/A"}},null,"Matt Stajan"]
[160," Loui Eriksson","VAN",7,null,0,null,4,null,4,null,-2,null,0,null,0,null,2,null,0,null,0,null,"N/A",null,0,null,1,null,0,null,1,null,0,null,10,null,0,{"$nulls":3},{"$f":"VLOOKUP(B163,[1]PlayersList!$B$4:$J$1000,9,FALSE)","v":{"$error":"#N/A"}},null,"Loui Eriksson"]
[161," Nic Dowd","LOS",5,null,1,null,3,null,4,null,0,null,0,null,18,null,1,null,28,null,26,null,0.519,null,1,null,1,null,0,null,0,null,0,null,7,null,0.143,{"$nulls":3},{"$f":"VLOOKUP(B164,[1]PlayersList!$B$4:$J$1000,9,FALSE)","v":{"$error":"#N/A"}},null,"Nic Dowd"]
[162," Derick Brassard","OTT",6,null,1,null,3,null,4,null,1,null,0,null,9,null,0,null,47,null,49,null,0.49,null,0,null,0,null,0,null,0,null,0,null,14,null,0.071,{"$nulls":3},{"$f":"VLOOKUP(B165,[1]PlayersList!$B$4:$J$1000,9,FALSE)","v":{"$error":"#N/A"}},null,"Derick Brassard"]
[163," Micheal Ferland","CGY",8,null,2,null,2,null,4,null,1,null,0,null,16,null,2,null,0,null,0,null,"N/A",null,0,null,1,null,0,null,0,null,0,null,11,null,0.182,{"$nulls":3},{"$f":"VLOOKUP(B166,[1]PlayersList!$B$4:$J$1000,9,FALSE)","v":{"$error":"#N/A"}},null,"Micheal Ferland"]
[164," Tyler Motte","CHI",7,null,2,null,2,null,4,null,3,null,10,null,7,null,6,null,0,null,2,null,0,null,0,null,0,null,0,null,0,null,0,null,11,null,0.182,{"$nulls":3},{"$f":"VLOOKUP(B167,[1]PlayersList!$B$4:$J$1000,9,FALSE)","v":{"$error":"#N/A"}},null,"Tyler Motte"]
[165," Johnny Boychuk","NYI",8,null,2,null,2,null,4,null,0,null,0,null,21,null,19,null,0,null,0,null,"N/A",null,0,null,1,null,1,null,0,null,1,null,26,null,0.077,{"$nulls":3},{"$f":"VLOOKUP(B168,[1]PlayersList!$B$4:$J$1000,9,FALSE)","v":{"$error":"#N/A"}},null,"Johnny Boychuk"]
[166," Mike Ribeiro","NAS",7,null,1,null,3,null,4,null,-1,null,6,null,4,null,1,null,34,null,34,null,0.5,null,1,null,1,null,0,null,0,null,0,null,7,null,0.143,{"$nulls":3},{"$f":"VLOOKUP(B169,[1]PlayersList!$B$4:$J$1000,9,FALSE)","v":{"$error":"#N/A"}},null,"Mike Ribeiro"]
[167," Mike Fisher","NAS",6,null,3,null,1,null,4,null,-4,null,2,null,19,null,7,null,66,null,47,null,0.584,null,3,null,1,null,0,null,0,null,1,null,12,null,0.25,{"$nulls":3},{"$f":"VLOOKUP(B170,[1]PlayersList!$B$4:$J$1000,9,FALSE)","v":{"$error":"#N/A"}},null,"Mike Fisher"]
[168," Scott Hartnell","COB",6,null,2,null,2,null,4,null,2,null,2,null,8,null,2,null,0,null,0,null,"N/A",null,0,null,0,null,0,null,0,null,0,null,5,null,0.4,{"$nulls":3},{"$f":"VLOOKUP(B171,[1]PlayersList!$B$4:$J$1000,9,FALSE)","v":{"$error":"#N/A"}},null,"Scott Hartnell"]
[169," Andrei Markov","MON",8,null,0,null,4,null,4,null,0,null,2,null,4,null,10,null,0,null,0,null,"N/A",null,0,null,2,null,0,null,1,null,0,null,14,null,0,{"$nulls":3},{"$f":"VLOOKUP(B172,[1]PlayersList!$B$4:$J$1000,9,FALSE)","v":{"$error":"#N/A"}},null,"Andrei Markov"]
[170," Nino Niederreiter","MIN",8,null,1,null,3,null,4,null,4,null,2,null,13,null,1,null,0,null,1,null,0,null,0,null,0,null,0,null,0,null,0,null,12,null,0.083,{"$nulls":3},{"$f":"VLOOKUP(B173,[1]PlayersList!$B$4:$J$1000,9,FALSE)","v":{"$error":"#N/A"}},null,"Nino Niederreiter"]
[171," Henrik Zetterberg","DET",8,null,0,null,4,null,4,null,-1,null,0,null,7,null,2,null,48,null,32,null,0.6,null,0,null,2,null,0,null,0,null,0,null,13,null,0,{"$nulls":3},{"$f":"VLOOKUP(B174,[1]PlayersList!$B$4:$J$1000,9,FALSE)","v":{"$error":"#N/A"}},null,"Henrik Zetterberg"]
[172," Mikko Koivu","MIN",8,null,2,null,2,null,4,null,2,null,2,null,4,null,13,null,94,null,86,null,0.522,null,0,null,1,null,0,null,0,null,1,null,14,null,0.143,{"$nulls":3},{"$f":"VLOOKUP(B175,[1]PlayersList!$B$4:$J$1000,9,FALSE)","v":{"$error":"#N/A"}},null,"Mikko Koivu"]
[173," Roman Josi","NAS",7,null,1,null,3,null,4,null,-6,null,4,null,4,null,10,null,0,null,0,null,"N/A",null,1,null,3,null,0,null,0,null,0,null,21,null,0.048,{"$nulls":3},{"$f":"VLOOKUP(B176,[1]PlayersList!$B$4:$J$1000,9,FALSE)","v":{"$error":"#N/A"}},null,"Roman Josi"]
[174," Drew Doughty","LOS",7,null,2,null,2,null,4,null,1,null,4,null,13,null,12,null,1,null,0,null,1,null,0,null,1,null,0,null,0,null,0,null,20,null,0.1,{"$nulls":3},{"$f":"VLOOKUP(B177,[1]PlayersList!$B$4:$J$1000,9,FALSE)","v":{"$error":"#N/A"}},null,"Drew Doughty"]
[175," Jaromir Jagr","FLA",7,null,1,null,3,null,4,null,1,null,4,null,0,null,2,null,0,null,0,null,"N/A",null,1,null,1,null,0,null,0,null,0,null,20,null,0.05,{"$nulls":3},{"$f":"VLOOKUP(B178,[1]PlayersList!$B$4:$J$1000,9,FALSE)","v":{"$error":"#N/A"}},null,"Jaromir Jagr"]
[176," Dennis Wideman","CGY",5,null,2,null,2,null,4,null,3,null,2,null,7,null,7,null,0,null,0,null,"N/A",null,2,null,0,null,0,null,0,null,0,null,13,null,0.154,{"$nulls":3},{"$f":"VLOOKUP(B179,[1]PlayersList!$B$4:$J$1000,9,FALSE)","v":{"$error":"#N/A"}},null,"Dennis Wideman"]
[177," Travis Hamonic","NYI",8,null,1,null,3,null,4,null,-7,null,16,null,11,null,13,null,0,null,0,null,"N/A",null,0,null,1,null,0,null,0,null,0,null,11,null,0.091,{"$nulls":3},{"$f":"VLOOKUP(B180,[1]PlayersList!$B$4:$J$1000,9,FALSE)","v":{"$error":"#N/A"}},null,"Travis Hamonic"]
[178," Kris Versteeg","CGY",8,null,2,null,2,null,4,null,3,null,0,null,1,null,4,null,4,null,2,null,0.667,null,0,null,0,null,0,null,0,null,0,null,12,null,0.167,{"$nulls":3},{"$f":"VLOOKUP(B181,[1]PlayersList!$B$4:$J$1000,9,FALSE)","v":{"$error":"#N/A"}},null,"Kris Versteeg"]
[179," Frans Nielsen","DET",8,null,2,null,2,null,4,null,-1,null,0,null,4,null,4,null,47,null,67,null,0.412,null,0,null,2,null,1,null,0,null,0,null,13,null,0.154,{"$nulls":3},{"$f":"VLOOKUP(B182,[1]PlayersList!$B$4:$J$1000,9,FALSE)","v":{"$error":"#N/A"}},null,"Frans Nielsen"]
[180," Vladislav Namestnikov","TAM",7,null,2,null,2,null,4,null,2,null,4,null,5,null,2,null,9,null,12,null,0.429,null,2,null,1,null,0,null,0,null,0,null,10,null,0.2,{"$nulls":3},{"$f":"VLOOKUP(B183,[1]PlayersList!$B$4:$J$1000,9,FALSE)","v":{"$error":"#N/A"}},null,"Vladislav Namestnikov"]
[181," Damon Severson","NJD",6,null,0,null,4,null,4,null,-5,null,2,null,5,null,6,null,0,null,0,null,"N/A",null,0,null,4,null,0,null,0,null,0,null,8,null,0,{"$nulls":3},{"$f":"VLOOKUP(B184,[1]PlayersList!$B$4:$J$1000,9,FALSE)","v":{"$error":"#N/A"}},null,"Damon Severson"]
[182," Michael Matheson","FLA",7,null,2,null,2,null,4,null,2,null,2,null,5,null,9,null,1,null,0,null,1,null,0,null,1,null,0,null,0,null,0,null,19,null,0.105,{"$nulls":3},{"$f":"VLOOKUP(B185,[1]PlayersList!$B$4:$J$1000,9,FALSE)","v":{"$error":"#N/A"}},null,"Michael Matheson"]
[183," David Perron","STL",8,null,3,null,1,null,4,null,-1,null,2,null,7,null,3,null,11,null,13,null,0.458,null,1,null,0,null,0,null,0,null,1,null,21,null,0.143,{"$nulls":3},{"$f":"VLOOKUP(B186,[1]PlayersList!$B$4:$J$1000,9,FALSE)","v":{"$error":"#N/A"}},null,"David Perron"]
[184," Marian Hossa","CHI",6,null,1,null,3,null,4,null,0,null,0,null,0,null,3,null,0,null,0,null,"N/A",null,1,null,2,null,0,null,0,null,0,null,17,null,0.059,{"$nulls":3},{"$f":"VLOOKUP(B187,[1]PlayersList!$B$4:$J$1000,9,FALSE)","v":{"$error":"#N/A"}},null,"Marian Hossa"]
[185," Mikael Backlund","CGY",8,null,0,null,4,null,4,null,-2,null,2,null,2,null,9,null,67,null,65,null,0.508,null,0,null,1,null,0,null,1,null,0,null,16,null,0,{"$nulls":3},{"$f":"VLOOKUP(B188,[1]PlayersList!$B$4:$J$1000,9,FALSE)","v":{"$error":"#N/A"}},null,"Mikael Backlund"]
[186," Ryan Nugent-Hopkins","EDM",7,null,0,null,4,null,4,null,1,null,4,null,5,null,0,null,45,null,60,null,0.429,null,0,null,0,null,0,null,0,null,0,null,14,null,0,{"$nulls":3},{"$f":"VLOOKUP(B189,[1]PlayersList!$B$4:$J$1000,9,FALSE)","v":{"$error":"#N/A"}},null,"Ryan Nugent-Hopkins"]
[187," Jesper Fast","NYR",7,null,0,null,4,null,4,null,6,null,4,null,13,null,3,null,3,null,2,null,0.6,null,0,null,0,null,0,null,0,null,0,null,4,null,0,{"$nulls":3},{"$f":"VLOOKUP(B190,[1]PlayersList!$B$4:$J$1000,9,FALSE)","v":{"$error":"#N/A"}},null,"Jesper Fast"]
[188," David Backes","BOS",5,null,2,null,2,null,4,null,5,null,11,null,20,null,4,null,28,null,38,null,0.424,null,0,null,1,null,0,null,0,null,0,null,12,null,0.167,{"$nulls":3},{"$f":"VLOOKUP(B191,[1]PlayersList!$B$4:$J$1000,9,FALSE)","v":{"$error":"#N/A"}},null,"David Backes"]
[189," Luke Glendening","DET",8,null,0,null,4,null,4,null,3,null,2,null,19,null,11,null,45,null,43,null,0.511,null,0,null,1,null,0,null,0,null,0,null,12,null,0,{"$nulls":3},{"$f":"VLOOKUP(B192,[1]PlayersList!$B$4:$J$1000,9,FALSE)","v":{"$error":"#N/A"}},null,"Luke Glendening"]
[190," Benoit Pouliot","EDM",7,null,3,null,1,null,4,null,1,null,16,null,5,null,8,null,0,null,3,null,0,null,0,null,0,null,0,null,0,null,1,null,9,null,0.333,{"$nulls":3},{"$f":"VLOOKUP(B193,[1]PlayersList!$B$4:$J$1000,9,FALSE)","v":{"$error":"#N/A"}},null,"Benoit Pouliot"]
[191," Bobby Ryan","OTT",6,null,2,null,2,null,4,null,1,null,2,null,7,null,3,null,0,null,0,null,"N/A",null,1,null,0,null,0,null,0,null,0,null,13,null,0.154,{"$nulls":3},{"$f":"VLOOKUP(B194,[1]PlayersList!$B$4:$J$1000,9,FALSE)","v":{"$error":"#N/A"}},null,"Bobby Ryan"]
[192," Marcus Johansson","WAS",6,null,1,null,3,null,4,null,1,null,0,null,3,null,0,null,1,null,2,null,0.333,null,0,null,2,null,0,null,0,null,0,null,9,null,0.111,{"$nulls":3},{"$f":"VLOOKUP(B195,[1]PlayersList!$B$4:$J$1000,9,FALSE)","v":{"$error":"#N/A"}},null,"Marcus Johansson"]
[193," Andrew Cogliano","ANA",8,null,4,null,0,null,4,null,3,null,2,null,10,null,5,null,1,null,3,null,0.25,null,0,null,0,null,2,null,0,null,0,null,15,null,0.267,{"$nulls":3},{"$f":"VLOOKUP(B196,[1]PlayersList!$B$4:$J$1000,9,FALSE)","v":{"$error":"#N/A"}},null,"Andrew Cogliano"]
[194," Matt Niskanen","WAS",6,null,0,null,4,null,4,null,1,null,2,null,11,null,11,null,0,null,0,null,"N/A",null,0,null,0,null,0,null,0,null,0,null,10,null,0,{"$nulls":3},{"$f":"VLOOKUP(B197,[1]PlayersList!$B$4:$J$1000,9,FALSE)","v":{"$error":"#N/A"}},null,"Matt Niskanen"]
[195," Tyson Barrie","COL",5,null,1,null,3,null,4,null,-1,null,2,null,7,null,3,null,0,null,0,null,"N/A",null,0,null,2,null,0,null,0,null,1,null,5,null,0.2,{"$nulls":3},{"$f":"VLOOKUP(B198,[1]PlayersList!$B$4:$J$1000,9,FALSE)","v":{"$error":"#N/A"}},null,{"$f":"SUBSTITUTE(B198,\" \",\"\")","v":"Tyson Barrie"}]
[196," Cam Atkinson","COB",6,null,2,null,2,null,4,null,-6,null,2,null,2,null,2,null,1,null,0,null,1,null,2,null,2,null,0,null,0,null,0,null,16,null,0.125,{"$nulls":3},{"$f":"VLOOKUP(B199,[1]PlayersList!$B$4:$J$1000,9,FALSE)","v":{"$error":"#N/A"}},null,"Cam Atkinson"]
[197," Zack Kassian","EDM",7,null,2,null,2,null,4,null,1,null,2,null,14,null,1,null,0,null,0,null,"N/A",null,0,null,0,null,0,null,0,null,0,null,8,null,0.25,{"$nulls":3},{"$f":"VLOOKUP(B200,[1]PlayersList!$B$4:$J$1000,9,FALSE)","v":{"$error":"#N/A"}},null,"Zack Kassian"]
[198," Brandon Saad","COB",6,null,1,null,2,null,3,null,1,null,0,null,3,null,2,null,1,null,1,null,0.5,null,0,null,0,null,0,null,0,null,0,null,16,null,0.063,{"$nulls":3},{"$f":"VLOOKUP(B201,[1]PlayersList!$B$4:$J$1000,9,FALSE)","v":{"$error":"#N/A"}},null,"Brandon Saad"]
[199," Brett Ritchie","DAL",7,null,2,null,1,null,3,null,2,null,4,null,8,null,1,null,0,null,0,null,"N/A",null,0,null,0,null,0,null,0,null,0,null,13,null,0.154,{"$nulls":3},{"$f":"VLOOKUP(B202,[1]PlayersList!$B$4:$J$1000,9,FALSE)","v":{"$error":"#N/A"}},null,"Brett Ritchie"]
[200," Shane Doan","ARI",7,null,1,null,2,null,3,null,-4,null,2,null,15,null,1,null,12,null,7,null,0.632,null,1,null,1,null,0,null,0,null,0,null,16,null,0.063,{"$nulls":3},{"$f":"VLOOKUP(B203,[1]PlayersList!$B$4:$J$1000,9,FALSE)","v":{"$error":"#N/A"}},null,"Shane Doan"]
[201," Tyler Johnson","TAM",7,null,1,null,2,null,3,null,-5,null,2,null,5,null,4,null,66,null,55,null,0.545,null,1,null,1,null,0,null,0,null,0,null,9,null,0.111,{"$nulls":3},{"$f":"VLOOKUP(B204,[1]PlayersList!$B$4:$J$1000,9,FALSE)","v":{"$error":"#N/A"}},null,"Tyler Johnson"]
[202," Shane Harper","FLA",7,null,2,null,1,null,3,null,1,null,11,null,15,null,0,null,0,null,0,null,"N/A",null,0,null,0,null,0,null,0,null,0,null,9,null,0.222,{"$nulls":3},{"$f":"VLOOKUP(B205,[1]PlayersList!$B$4:$J$1000,9,FALSE)","v":{"$error":"#N/A"}},null,"Shane Harper"]
[203," Joonas Donskoi","SAN",8,null,1,null,2,null,3,null,-2,null,2,null,1,null,2,null,0,null,0,null,"N/A",null,1,null,1,null,0,null,0,null,0,null,13,null,0.077,{"$nulls":3},{"$f":"VLOOKUP(B206,[1]PlayersList!$B$4:$J$1000,9,FALSE)","v":{"$error":"#N/A"}},null,"Joonas Donskoi"]
[204," Mike Hoffman","OTT",6,null,0,null,3,null,3,null,-1,null,6,null,4,null,2,null,1,null,1,null,0.5,null,0,null,1,null,0,null,0,null,0,null,24,null,0,{"$nulls":3},{"$f":"VLOOKUP(B207,[1]PlayersList!$B$4:$J$1000,9,FALSE)","v":{"$error":"#N/A"}},null,"Mike Hoffman"]
[205," John Klingberg","DAL",7,null,0,null,3,null,3,null,-1,null,6,null,2,null,15,null,0,null,0,null,"N/A",null,0,null,3,null,0,null,0,null,0,null,10,null,0,{"$nulls":3},{"$f":"VLOOKUP(B208,[1]PlayersList!$B$4:$J$1000,9,FALSE)","v":{"$error":"#N/A"}},null,"John Klingberg"]
[206," Zac Dalpe","MIN",8,null,1,null,2,null,3,null,0,null,9,null,5,null,4,null,27,null,29,null,0.482,null,0,null,0,null,0,null,0,null,0,null,8,null,0.125,{"$nulls":3},{"$f":"VLOOKUP(B209,[1]PlayersList!$B$4:$J$1000,9,FALSE)","v":{"$error":"#N/A"}},null,"Zac Dalpe"]
[207," Tyler Pitlick","EDM",7,null,3,null,0,null,3,null,0,null,0,null,16,null,1,null,1,null,0,null,1,null,0,null,0,null,0,null,0,null,1,null,8,null,0.375,{"$nulls":3},{"$f":"VLOOKUP(B210,[1]PlayersList!$B$4:$J$1000,9,FALSE)","v":{"$error":"#N/A"}},null,"Tyler Pitlick"]
[208," Mikael Granlund","MIN",8,null,0,null,3,null,3,null,1,null,0,null,6,null,3,null,3,null,4,null,0.429,null,0,null,1,null,0,null,0,null,0,null,10,null,0,{"$nulls":3},{"$f":"VLOOKUP(B211,[1]PlayersList!$B$4:$J$1000,9,FALSE)","v":{"$error":"#N/A"}},null,"Mikael Granlund"]
[209," Kevin Hayes","NYR",7,null,2,null,1,null,3,null,3,null,0,null,5,null,5,null,40,null,36,null,0.526,null,0,null,0,null,0,null,0,null,0,null,10,null,0.2,{"$nulls":3},{"$f":"VLOOKUP(B212,[1]PlayersList!$B$4:$J$1000,9,FALSE)","v":{"$error":"#N/A"}},null,"Kevin Hayes"]
[210," Evgeny Kuznetsov","WAS",6,null,1,null,2,null,3,null,1,null,0,null,2,null,2,null,37,null,57,null,0.394,null,0,null,0,null,0,null,0,null,0,null,13,null,0.077,{"$nulls":3},{"$f":"VLOOKUP(B213,[1]PlayersList!$B$4:$J$1000,9,FALSE)","v":{"$error":"#N/A"}},null,"Evgeny Kuznetsov"]
[211," Casey Cizikas","NYI",8,null,0,null,3,null,3,null,0,null,4,null,19,null,10,null,68,null,69,null,0.496,null,0,null,0,null,0,null,0,null,0,null,11,null,0,{"$nulls":3},{"$f":"VLOOKUP(B214,[1]PlayersList!$B$4:$J$1000,9,FALSE)","v":{"$error":"#N/A"}},null,"Casey Cizikas"]
[212," Kyle Palmieri","NJD",6,null,2,null,1,null,3,null,1,null,4,null,11,null,1,null,1,null,4,null,0.2,null,1,null,1,null,0,null,0,null,0,null,13,null,0.154,{"$nulls":3},{"$f":"VLOOKUP(B215,[1]PlayersList!$B$4:$J$1000,9,FALSE)","v":{"$error":"#N/A"}},null,"Kyle Palmieri"]
[213," Michael Stone","ARI",4,null,0,null,3,null,3,null,-1,null,0,null,6,null,6,null,0,null,0,null,"N/A",null,0,null,1,null,0,null,0,null,0,null,5,null,0,{"$nulls":3},{"$f":"VLOOKUP(B216,[1]PlayersList!$B$4:$J$1000,9,FALSE)","v":{"$error":"#N/A"}},null,"Michael Stone"]
[214," Dougie Hamilton","CGY",8,null,0,null,3,null,3,null,-2,null,12,null,13,null,4,null,0,null,0,null,"N/A",null,0,null,1,null,0,null,0,null,0,null,22,null,0,{"$nulls":3},{"$f":"VLOOKUP(B217,[1]PlayersList!$B$4:$J$1000,9,FALSE)","v":{"$error":"#N/A"}},null,"Dougie Hamilton"]
[215," Zack Smith","OTT",6,null,2,null,1,null,3,null,2,null,6,null,16,null,1,null,24,null,17,null,0.585,null,0,null,0,null,1,null,0,null,0,null,12,null,0.167,{"$nulls":3},{"$f":"VLOOKUP(B218,[1]PlayersList!$B$4:$J$1000,9,FALSE)","v":{"$error":"#N/A"}},null,"Zack Smith"]
[216," Colton Sceviour","FLA",7,null,2,null,1,null,3,null,-1,null,4,null,9,null,5,null,1,null,2,null,0.333,null,0,null,1,null,1,null,0,null,1,null,16,null,0.125,{"$nulls":3},{"$f":"VLOOKUP(B219,[1]PlayersList!$B$4:$J$1000,9,FALSE)","v":{"$error":"#N/A"}},null,"Colton Sceviour"]
[217," Gabriel Landeskog","COL",5,null,2,null,1,null,3,null,0,null,2,null,10,null,0,null,6,null,8,null,0.429,null,1,null,0,null,0,null,0,null,1,null,8,null,0.25,{"$nulls":3},{"$f":"VLOOKUP(B220,[1]PlayersList!$B$4:$J$1000,9,FALSE)","v":{"$error":"#N/A"}},null,"Gabriel Landeskog"]
[218," Jakob Silfverberg","ANA",8,null,2,null,1,null,3,null,2,null,2,null,3,null,6,null,1,null,1,null,0.5,null,1,null,0,null,1,null,0,null,1,null,18,null,0.111,{"$nulls":3},{"$f":"VLOOKUP(B221,[1]PlayersList!$B$4:$J$1000,9,FALSE)","v":{"$error":"#N/A"}},null,"Jakob Silfverberg"]
[219," Philip Larsen","VAN",7,null,0,null,3,null,3,null,-5,null,2,null,2,null,3,null,0,null,0,null,"N/A",null,0,null,2,null,0,null,0,null,0,null,13,null,0,{"$nulls":3},{"$f":"VLOOKUP(B222,[1]PlayersList!$B$4:$J$1000,9,FALSE)","v":{"$error":"#N/A"}},null,"Philip Larsen"]
[220," Alexei Emelin","MON",8,null,1,null,2,null,3,null,4,null,6,null,33,null,11,null,0,null,0,null,"N/A",null,0,null,0,null,0,null,0,null,0,null,7,null,0.143,{"$nulls":3},{"$f":"VLOOKUP(B223,[1]PlayersList!$B$4:$J$1000,9,FALSE)","v":{"$error":"#N/A"}},null,"Alexei Emelin"]
[221," Connor Murphy","ARI",7,null,0,null,3,null,3,null,0,null,6,null,15,null,14,null,0,null,0,null,"N/A",null,0,null,0,null,0,null,0,null,0,null,6,null,0,{"$nulls":3},{"$f":"VLOOKUP(B224,[1]PlayersList!$B$4:$J$1000,9,FALSE)","v":{"$error":"#N/A"}},null,"Connor Murphy"]
[222," Mikhail Grigorenko","COL",5,null,0,null,3,null,3,null,2,null,2,null,2,null,1,null,5,null,3,null,0.625,null,0,null,2,null,0,null,0,null,0,null,9,null,0,{"$nulls":3},{"$f":"VLOOKUP(B225,[1]PlayersList!$B$4:$J$1000,9,FALSE)","v":{"$error":"#N/A"}},null,"Mikhail Grigorenko"]
[223," Colton Parayko","STL",8,null,0,null,3,null,3,null,-2,null,8,null,4,null,16,null,0,null,0,null,"N/A",null,0,null,1,null,0,null,0,null,0,null,15,null,0,{"$nulls":3},{"$f":"VLOOKUP(B226,[1]PlayersList!$B$4:$J$1000,9,FALSE)","v":{"$error":"#N/A"}},null,"Colton Parayko"]
[224," Adam Cracknell","DAL",7,null,2,null,1,null,3,null,1,null,0,null,11,null,3,null,10,null,3,null,0.769,null,0,null,0,null,0,null,0,null,0,null,13,null,0.154,{"$nulls":3},{"$f":"VLOOKUP(B227,[1]PlayersList!$B$4:$J$1000,9,FALSE)","v":{"$error":"#N/A"}},null,"Adam Cracknell"]
[225," Robby Fabbri","STL",8,null,0,null,3,null,3,null,-4,null,6,null,8,null,6,null,1,null,0,null,1,null,0,null,1,null,0,null,0,null,0,null,11,null,0,{"$nulls":3},{"$f":"VLOOKUP(B228,[1]PlayersList!$B$4:$J$1000,9,FALSE)","v":{"$error":"#N/A"}},null,"Robby Fabbri"]
[226," Marc-Edouard Vlasic","SAN",8,null,1,null,2,null,3,null,0,null,14,null,1,null,8,null,0,null,0,null,"N/A",null,0,null,2,null,0,null,0,null,1,null,11,null,0.091,{"$nulls":3},{"$f":"VLOOKUP(B229,[1]PlayersList!$B$4:$J$1000,9,FALSE)","v":{"$error":"#N/A"}},null,"Marc-Edouard Vlasic"]
[227," P.A. Parenteau","NJD",6,null,2,null,1,null,3,null,-2,null,2,null,6,null,0,null,0,null,1,null,0,null,0,null,0,null,0,null,0,null,0,null,12,null,0.167,{"$nulls":3},{"$f":"VLOOKUP(B230,[1]PlayersList!$B$4:$J$1000,9,FALSE)","v":{"$error":"#N/A"}},null,"P.A. Parenteau"]
[228," Andreas Athanasiou","DET",6,null,2,null,1,null,3,null,3,null,0,null,2,null,2,null,0,null,1,null,0,null,0,null,0,null,0,null,0,null,0,null,8,null,0.25,{"$nulls":3},{"$f":"VLOOKUP(B231,[1]PlayersList!$B$4:$J$1000,9,FALSE)","v":{"$error":"#N/A"}},null,"Andreas Athanasiou"]
[229," David Krejci","BOS",7,null,0,null,3,null,3,null,-4,null,4,null,6,null,5,null,45,null,44,null,0.506,null,0,null,1,null,0,null,0,null,0,null,8,null,0,{"$nulls":3},{"$f":"VLOOKUP(B232,[1]PlayersList!$B$4:$J$1000,9,FALSE)","v":{"$error":"#N/A"}},null,"David Krejci"]
[230," Patrick Marleau","SAN",8,null,2,null,1,null,3,null,-3,null,2,null,8,null,2,null,1,null,2,null,0.333,null,1,null,1,null,0,null,0,null,1,null,22,null,0.091,{"$nulls":3},{"$f":"VLOOKUP(B233,[1]PlayersList!$B$4:$J$1000,9,FALSE)","v":{"$error":"#N/A"}},null,"Patrick Marleau"]
[231," Teuvo Teravainen","CAR",6,null,2,null,1,null,3,null,-3,null,0,null,2,null,1,null,0,null,0,null,"N/A",null,1,null,1,null,0,null,0,null,0,null,7,null,0.286,{"$nulls":3},{"$f":"VLOOKUP(B234,[1]PlayersList!$B$4:$J$1000,9,FALSE)","v":{"$error":"#N/A"}},null,"Teuvo Teravainen"]
[232," Nicklas Backstrom","WAS",6,null,0,null,3,null,3,null,-1,null,2,null,5,null,1,null,56,null,40,null,0.583,null,0,null,1,null,0,null,0,null,0,null,13,null,0,{"$nulls":3},{"$f":"VLOOKUP(B235,[1]PlayersList!$B$4:$J$1000,9,FALSE)","v":{"$error":"#N/A"}},null,"Nicklas Backstrom"]
[233," Erik Johnson","COL",5,null,0,null,3,null,3,null,-1,null,0,null,17,null,10,null,0,null,0,null,"N/A",null,0,null,2,null,0,null,0,null,0,null,14,null,0,{"$nulls":3},{"$f":"VLOOKUP(B236,[1]PlayersList!$B$4:$J$1000,9,FALSE)","v":{"$error":"#N/A"}},null,"Erik Johnson"]
[234," Trevor Daley","PIT",8,null,1,null,2,null,3,null,-1,null,6,null,4,null,16,null,0,null,0,null,"N/A",null,1,null,1,null,0,null,0,null,0,null,14,null,0.071,{"$nulls":3},{"$f":"VLOOKUP(B237,[1]PlayersList!$B$4:$J$1000,9,FALSE)","v":{"$error":"#N/A"}},null,"Trevor Daley"]
[235," Carl Soderberg","COL",5,null,2,null,1,null,3,null,3,null,2,null,3,null,8,null,34,null,29,null,0.54,null,0,null,0,null,0,null,0,null,0,null,8,null,0.25,{"$nulls":3},{"$f":"VLOOKUP(B238,[1]PlayersList!$B$4:$J$1000,9,FALSE)","v":{"$error":"#N/A"}},null,"Carl Soderberg"]
[236," Kris Russell","EDM",7,null,0,null,3,null,3,null,7,null,0,null,5,null,25,null,0,null,0,null,"N/A",null,0,null,0,null,0,null,0,null,0,null,9,null,0,{"$nulls":3},{"$f":"VLOOKUP(B239,[1]PlayersList!$B$4:$J$1000,9,FALSE)","v":{"$error":"#N/A"}},null,"Kris Russell"]
[237," Markus Granlund","VAN",7,null,2,null,1,null,3,null,2,null,4,null,4,null,2,null,8,null,9,null,0.471,null,0,null,0,null,0,null,0,null,0,null,10,null,0.2,{"$nulls":3},{"$f":"VLOOKUP(B240,[1]PlayersList!$B$4:$J$1000,9,FALSE)","v":{"$error":"#N/A"}},null,"Markus Granlund"]
[238," Tom Gilbert","LOS",5,null,0,null,3,null,3,null,-2,null,0,null,1,null,8,null,0,null,0,null,"N/A",null,0,null,1,null,0,null,0,null,0,null,1,null,0,{"$nulls":3},{"$f":"VLOOKUP(B241,[1]PlayersList!$B$4:$J$1000,9,FALSE)","v":{"$error":"#N/A"}},null,"Tom Gilbert"]
[239," Andre Burakovsky","WAS",6,null,2,null,1,null,3,null,-2,null,0,null,3,null,2,null,0,null,0,null,"N/A",null,0,null,0,null,0,null,0,null,0,null,15,null,0.133,{"$nulls":3},{"$f":"VLOOKUP(B242,[1]PlayersList!$B$4:$J$1000,9,FALSE)","v":{"$error":"#N/A"}},null,"Andre Burakovsky"]
[240," Bo Horvat","VAN",7,null,3,null,0,null,3,null,-1,null,0,null,7,null,1,null,48,null,67,null,0.417,null,0,null,0,null,1,null,0,null,0,null,8,null,0.375,{"$nulls":3},{"$f":"VLOOKUP(B243,[1]PlayersList!$B$4:$J$1000,9,FALSE)","v":{"$error":"#N/A"}},null,"Bo Horvat"]
[241," Nick Ritchie","ANA",8,null,2,null,1,null,3,null,2,null,8,null,37,null,2,null,1,null,1,null,0.5,null,1,null,0,null,0,null,0,null,1,null,20,null,0.1,{"$nulls":3},{"$f":"VLOOKUP(B244,[1]PlayersList!$B$4:$J$1000,9,FALSE)","v":{"$error":"#N/A"}},null,"Nick Ritchie"]
[242," Artturi Lehkonen","MON",8,null,2,null,1,null,3,null,2,null,4,null,11,null,3,null,0,null,0,null,"N/A",null,0,null,0,null,0,null,0,null,0,null,21,null,0.095,{"$nulls":3},{"$f":"VLOOKUP(B245,[1]PlayersList!$B$4:$J$1000,9,FALSE)","v":{"$error":"#N/A"}},null,"Artturi Lehkonen"]
[243," Zdeno Chara","BOS",7,null,1,null,2,null,3,null,5,null,9,null,14,null,11,null,0,null,0,null,"N/A",null,0,null,0,null,0,null,0,null,0,null,9,null,0.111,{"$nulls":3},{"$f":"VLOOKUP(B246,[1]PlayersList!$B$4:$J$1000,9,FALSE)","v":{"$error":"#N/A"}},null,"Zdeno Chara"]
[244," Nikolaj Ehlers","WPG",7,null,1,null,2,null,3,null,-1,null,2,null,5,null,1,null,0,null,0,null,"N/A",null,0,null,1,null,0,null,0,null,0,null,14,null,0.071,{"$nulls":3},{"$f":"VLOOKUP(B247,[1]PlayersList!$B$4:$J$1000,9,FALSE)","v":{"$error":"#N/A"}},null,"Nikolaj Ehlers"]
[245," Darnell Nurse","EDM",7,null,1,null,2,null,3,null,0,null,4,null,15,null,7,null,0,null,0,null,"N/A",null,0,null,0,null,0,null,0,null,0,null,7,null,0.143,{"$nulls":3},{"$f":"VLOOKUP(B248,[1]PlayersList!$B$4:$J$1000,9,FALSE)","v":{"$error":"#N/A"}},null,"Darnell Nurse"]
[246," Sean Monahan","CGY",8,null,3,null,0,null,3,null,-6,null,4,null,5,null,5,null,85,null,82,null,0.509,null,1,null,0,null,0,null,0,null,1,null,17,null,0.176,{"$nulls":3},{"$f":"VLOOKUP(B249,[1]PlayersList!$B$4:$J$1000,9,FALSE)","v":{"$error":"#N/A"}},null,"Sean Monahan"]
[247," Martin Hanzal","ARI",7,null,2,null,1,null,3,null,-1,null,2,null,16,null,7,null,96,null,57,null,0.627,null,0,null,0,null,0,null,0,null,0,null,21,null,0.095,{"$nulls":3},{"$f":"VLOOKUP(B250,[1]PlayersList!$B$4:$J$1000,9,FALSE)","v":{"$error":"#N/A"}},null,"Martin Hanzal"]
[248," Dylan Larkin","DET",8,null,2,null,1,null,3,null,-3,null,11,null,5,null,4,null,30,null,37,null,0.448,null,0,null,0,null,0,null,0,null,1,null,24,null,0.083,{"$nulls":3},{"$f":"VLOOKUP(B251,[1]PlayersList!$B$4:$J$1000,9,FALSE)","v":{"$error":"#N/A"}},null,"Dylan Larkin"]
[249," Seth Jones","COB",6,null,1,null,2,null,3,null,-1,null,0,null,5,null,14,null,0,null,0,null,"N/A",null,0,null,0,null,0,null,0,null,0,null,10,null,0.1,{"$nulls":3},{"$f":"VLOOKUP(B252,[1]PlayersList!$B$4:$J$1000,9,FALSE)","v":{"$error":"#N/A"}},null,"Seth Jones"]
[250," Sidney Crosby","PIT",2,null,2,null,1,null,3,null,0,null,0,null,3,null,0,null,19,null,23,null,0.452,null,1,null,1,null,0,null,0,null,1,null,8,null,0.25,{"$nulls":3},{"$f":"VLOOKUP(B253,[1]PlayersList!$B$4:$J$1000,9,FALSE)","v":{"$error":"#N/A"}},null,"Sidney Crosby"]
[251," Chris Kunitz","PIT",8,null,0,null,3,null,3,null,2,null,10,null,31,null,2,null,2,null,3,null,0.4,null,0,null,0,null,0,null,0,null,0,null,17,null,0,{"$nulls":3},{"$f":"VLOOKUP(B254,[1]PlayersList!$B$4:$J$1000,9,FALSE)","v":{"$error":"#N/A"}},null,"Chris Kunitz"]
[252," Andrej Sekera","EDM",7,null,0,null,3,null,3,null,3,null,4,null,5,null,13,null,0,null,0,null,"N/A",null,0,null,1,null,0,null,0,null,0,null,7,null,0,{"$nulls":3},{"$f":"VLOOKUP(B255,[1]PlayersList!$B$4:$J$1000,9,FALSE)","v":{"$error":"#N/A"}},null,"Andrej Sekera"]
[253," Jordan Staal","CAR",6,null,3,null,0,null,3,null,0,null,4,null,11,null,1,null,76,null,34,null,0.691,null,0,null,0,null,0,null,0,null,0,null,10,null,0.3,{"$nulls":3},{"$f":"VLOOKUP(B256,[1]PlayersList!$B$4:$J$1000,9,FALSE)","v":{"$error":"#N/A"}},null,"Jordan Staal"]
[254," Jyrki Jokipakka","CGY",6,null,1,null,2,null,3,null,1,null,4,null,1,null,3,null,0,null,0,null,"N/A",null,0,null,0,null,0,null,0,null,0,null,4,null,0.25,{"$nulls":3},{"$f":"VLOOKUP(B257,[1]PlayersList!$B$4:$J$1000,9,FALSE)","v":{"$error":"#N/A"}},null,"Jyrki Jokipakka"]
[255," Antoine Vermette","ANA",8,null,0,null,3,null,3,null,1,null,4,null,10,null,10,null,87,null,36,null,0.707,null,0,null,1,null,0,null,0,null,0,null,8,null,0,{"$nulls":3},{"$f":"VLOOKUP(B258,[1]PlayersList!$B$4:$J$1000,9,FALSE)","v":{"$error":"#N/A"}},null,"Antoine Vermette"]
[256," Alexey Marchenko","DET",8,null,0,null,3,null,3,null,3,null,6,null,1,null,13,null,0,null,0,null,"N/A",null,0,null,0,null,0,null,1,null,0,null,8,null,0,{"$nulls":3},{"$f":"VLOOKUP(B259,[1]PlayersList!$B$4:$J$1000,9,FALSE)","v":{"$error":"#N/A"}},null,"Alexey Marchenko"]
[257," Scott Wilson","PIT",8,null,2,null,1,null,3,null,-3,null,0,null,21,null,4,null,0,null,0,null,"N/A",null,0,null,0,null,0,null,0,null,0,null,15,null,0.133,{"$nulls":3},{"$f":"VLOOKUP(B260,[1]PlayersList!$B$4:$J$1000,9,FALSE)","v":{"$error":"#N/A"}},null,"Scott Wilson"]
[258," Jason Spezza","DAL",5,null,2,null,1,null,3,null,-5,null,0,null,2,null,1,null,28,null,23,null,0.549,null,0,null,0,null,0,null,0,null,1,null,12,null,0.167,{"$nulls":3},{"$f":"VLOOKUP(B261,[1]PlayersList!$B$4:$J$1000,9,FALSE)","v":{"$error":"#N/A"}},null,"Jason Spezza"]
[259," Christian Dvorak","ARI",6,null,0,null,3,null,3,null,1,null,2,null,5,null,7,null,27,null,36,null,0.429,null,0,null,1,null,0,null,0,null,0,null,2,null,0,{"$nulls":3},{"$f":"VLOOKUP(B262,[1]PlayersList!$B$4:$J$1000,9,FALSE)","v":{"$error":"#N/A"}},null,{"$f":"SUBSTITUTE(B262,\" \",\"\")","v":"Christian Dvorak"}]
[260," Tobias Rieder","ARI",7,null,1,null,2,null,3,null,-1,null,0,null,3,null,3,null,0,null,2,null,0,null,0,null,0,null,0,null,1,null,0,null,12,null,0.083,{"$nulls":3},{"$f":"VLOOKUP(B263,[1]PlayersList!$B$4:$J$1000,9,FALSE)","v":{"$error":"#N/A"}},null,"Tobias Rieder"]
[261," Nick Cousins","PHI",7,null,1,null,2,null,3,null,1,null,2,null,8,null,4,null,1,null,7,null,0.125,null,0,null,0,null,0,null,0,null,0,null,7,null,0.143,{"$nulls":3},{"$f":"VLOOKUP(B264,[1]PlayersList!$B$4:$J$1000,9,FALSE)","v":{"$error":"#N/A"}},null,"Nick Cousins"]
[262," Brian Gionta","BUF",6,null,2,null,1,null,3,null,1,null,0,null,4,null,0,null,4,null,3,null,0.571,null,0,null,0,null,0,null,0,null,0,null,11,null,0.182,{"$nulls":3},{"$f":"VLOOKUP(B265,[1]PlayersList!$B$4:$J$1000,9,FALSE)","v":{"$error":"#N/A"}},null,"Brian Gionta"]
[263," Mathieu Perreault","WPG",7,null,1,null,2,null,3,null,-2,null,6,null,13,null,1,null,55,null,52,null,0.514,null,0,null,1,null,0,null,0,null,0,null,19,null,0.053,{"$nulls":3},{"$f":"VLOOKUP(B266,[1]PlayersList!$B$4:$J$1000,9,FALSE)","v":{"$error":"#N/A"}},null,"Mathieu Perreault"]
[264," Jakob Chychrun","ARI",6,null,1,null,2,null,3,null,1,null,19,null,9,null,5,null,0,null,0,null,"N/A",null,0,null,0,null,0,null,0,null,0,null,6,null,0.167,{"$nulls":3},{"$f":"VLOOKUP(B267,[1]PlayersList!$B$4:$J$1000,9,FALSE)","v":{"$error":"#N/A"}},null,"Jakob Chychrun"]
[265," Nick Schultz","PHI",6,null,0,null,3,null,3,null,2,null,0,null,13,null,15,null,0,null,0,null,"N/A",null,0,null,0,null,0,null,0,null,0,null,3,null,0,{"$nulls":3},{"$f":"VLOOKUP(B268,[1]PlayersList!$B$4:$J$1000,9,FALSE)","v":{"$error":"#N/A"}},null,"Nick Schultz"]
[266," Jason Chimera","NYI",8,null,0,null,3,null,3,null,-3,null,6,null,12,null,2,null,1,null,2,null,0.333,null,0,null,0,null,0,null,0,null,0,null,10,null,0,{"$nulls":3},{"$f":"VLOOKUP(B269,[1]PlayersList!$B$4:$J$1000,9,FALSE)","v":{"$error":"#N/A"}},null,"Jason Chimera"]
[267," Vincent Trocheck","FLA",7,null,3,null,0,null,3,null,-4,null,4,null,15,null,3,null,65,null,61,null,0.516,null,0,null,0,null,0,null,0,null,0,null,20,null,0.15,{"$nulls":3},{"$f":"VLOOKUP(B270,[1]PlayersList!$B$4:$J$1000,9,FALSE)","v":{"$error":"#N/A"}},null,"Vincent Trocheck"]
[268," Pavel Zacha","NJD",6,null,0,null,3,null,3,null,-1,null,0,null,8,null,6,null,26,null,32,null,0.448,null,0,null,1,null,0,null,0,null,0,null,7,null,0,{"$nulls":3},{"$f":"VLOOKUP(B271,[1]PlayersList!$B$4:$J$1000,9,FALSE)","v":{"$error":"#N/A"}},null,"Pavel Zacha"]
[269," Antoine Roussel","DAL",7,null,1,null,2,null,3,null,4,null,22,null,5,null,4,null,0,null,0,null,"N/A",null,0,null,0,null,0,null,0,null,1,null,10,null,0.1,{"$nulls":3},{"$f":"VLOOKUP(B272,[1]PlayersList!$B$4:$J$1000,9,FALSE)","v":{"$error":"#N/A"}},null,"Antoine Roussel"]
[270," Tom Pyatt","OTT",6,null,2,null,1,null,3,null,3,null,0,null,5,null,4,null,2,null,5,null,0.286,null,0,null,0,null,0,null,1,null,0,null,10,null,0.2,{"$nulls":3},{"$f":"VLOOKUP(B273,[1]PlayersList!$B$4:$J$1000,9,FALSE)","v":{"$error":"#N/A"}},null,"Tom Pyatt"]
[271," Conor Sheary","PIT",4,null,1,null,2,null,3,null,3,null,0,null,4,null,3,null,0,null,0,null,"N/A",null,0,null,0,null,0,null,0,null,0,null,5,null,0.2,{"$nulls":3},{"$f":"VLOOKUP(B274,[1]PlayersList!$B$4:$J$1000,9,FALSE)","v":{"$error":"#N/A"}},null,"Conor Sheary"]
[272," Jannik Hansen","VAN",7,null,1,null,2,null,3,null,1,null,2,null,4,null,0,null,0,null,0,null,"N/A",null,0,null,0,null,0,null,0,null,0,null,9,null,0.111,{"$nulls":3},{"$f":"VLOOKUP(B275,[1]PlayersList!$B$4:$J$1000,9,FALSE)","v":{"$error":"#N/A"}},null,"Jannik Hansen"]
[273," Brayden Point","TAM",7,null,0,null,3,null,3,null,3,null,0,null,4,null,2,null,2,null,0,null,1,null,0,null,0,null,0,null,0,null,0,null,17,null,0,{"$nulls":3},{"$f":"VLOOKUP(B276,[1]PlayersList!$B$4:$J$1000,9,FALSE)","v":{"$error":"#N/A"}},null,"Brayden Point"]
[274," Michael Grabner","NYR",7,null,2,null,1,null,3,null,2,null,0,null,5,null,4,null,2,null,1,null,0.667,null,0,null,0,null,0,null,0,null,0,null,9,null,0.222,{"$nulls":3},{"$f":"VLOOKUP(B277,[1]PlayersList!$B$4:$J$1000,9,FALSE)","v":{"$error":"#N/A"}},null,"Michael Grabner"]
[275," Tomas Plekanec","MON",8,null,0,null,3,null,3,null,1,null,2,null,3,null,10,null,72,null,79,null,0.477,null,0,null,2,null,0,null,0,null,0,null,19,null,0,{"$nulls":3},{"$f":"VLOOKUP(B278,[1]PlayersList!$B$4:$J$1000,9,FALSE)","v":{"$error":"#N/A"}},null,"Tomas Plekanec"]
[276," Chris Wideman","OTT",6,null,0,null,3,null,3,null,1,null,4,null,3,null,6,null,0,null,0,null,"N/A",null,0,null,0,null,0,null,0,null,0,null,9,null,0,{"$nulls":3},{"$f":"VLOOKUP(B279,[1]PlayersList!$B$4:$J$1000,9,FALSE)","v":{"$error":"#N/A"}},null,"Chris Wideman"]
[277," Jason Pominville","MIN",8,null,2,null,1,null,3,null,1,null,0,null,4,null,4,null,2,null,4,null,0.333,null,0,null,0,null,0,null,0,null,0,null,11,null,0.182,{"$nulls":3},{"$f":"VLOOKUP(B280,[1]PlayersList!$B$4:$J$1000,9,FALSE)","v":{"$error":"#N/A"}},null,"Jason Pominville"]
[278," Jordie Benn","DAL",5,null,0,null,3,null,3,null,-1,null,6,null,7,null,13,null,0,null,0,null,"N/A",null,0,null,1,null,0,null,0,null,0,null,5,null,0,{"$nulls":3},{"$f":"VLOOKUP(B281,[1]PlayersList!$B$4:$J$1000,9,FALSE)","v":{"$error":"#N/A"}},null,"Jordie Benn"]
[279," Anton Stralman","TAM",7,null,0,null,3,null,3,null,2,null,0,null,9,null,6,null,0,null,0,null,"N/A",null,0,null,2,null,0,null,0,null,0,null,8,null,0,{"$nulls":3},{"$f":"VLOOKUP(B282,[1]PlayersList!$B$4:$J$1000,9,FALSE)","v":{"$error":"#N/A"}},null,"Anton Stralman"]
[280," Chris Wagner","ANA",8,null,2,null,0,null,2,null,-1,null,4,null,21,null,3,null,14,null,16,null,0.467,null,0,null,0,null,0,null,0,null,0,null,13,null,0.154,{"$nulls":3},{"$f":"VLOOKUP(B283,[1]PlayersList!$B$4:$J$1000,9,FALSE)","v":{"$error":"#N/A"}},null,"Chris Wagner"]
[281," Matthew Tkachuk","CGY",6,null,1,null,1,null,2,null,0,null,6,null,5,null,2,null,0,null,0,null,"N/A",null,0,null,0,null,0,null,0,null,0,null,12,null,0.083,{"$nulls":3},{"$f":"VLOOKUP(B284,[1]PlayersList!$B$4:$J$1000,9,FALSE)","v":{"$error":"#N/A"}},null,"Matthew Tkachuk"]
[282," Greg McKegg","FLA",7,null,0,null,2,null,2,null,0,null,4,null,7,null,1,null,6,null,2,null,0.75,null,0,null,0,null,0,null,0,null,0,null,5,null,0,{"$nulls":3},{"$f":"VLOOKUP(B285,[1]PlayersList!$B$4:$J$1000,9,FALSE)","v":{"$error":"#N/A"}},null,"Greg McKegg"]
[283," Kyle Connor","WPG",6,null,1,null,1,null,2,null,-4,null,2,null,1,null,3,null,0,null,0,null,"N/A",null,0,null,1,null,0,null,0,null,1,null,10,null,0.1,{"$nulls":3},{"$f":"VLOOKUP(B286,[1]PlayersList!$B$4:$J$1000,9,FALSE)","v":{"$error":"#N/A"}},null,"Kyle Connor"]
[284," Jesse Puljujarvi","EDM",5,null,1,null,1,null,2,null,1,null,0,null,2,null,0,null,0,null,0,null,"N/A",null,1,null,0,null,0,null,0,null,0,null,12,null,0.083,{"$nulls":3},{"$f":"VLOOKUP(B287,[1]PlayersList!$B$4:$J$1000,9,FALSE)","v":{"$error":"#N/A"}},null,"Jesse Puljujarvi"]
[285," Johan Larsson","BUF",6,null,0,null,2,null,2,null,-3,null,4,null,7,null,9,null,39,null,40,null,0.494,null,0,null,0,null,0,null,0,null,0,null,3,null,0,{"$nulls":3},{"$f":"VLOOKUP(B288,[1]PlayersList!$B$4:$J$1000,9,FALSE)","v":{"$error":"#N/A"}},null,"Johan Larsson"]
[286," Joakim Nordstrom","CAR",6,null,0,null,2,null,2,null,-2,null,2,null,7,null,6,null,0,null,1,null,0,null,0,null,0,null,0,null,0,null,0,null,8,null,0,{"$nulls":3},{"$f":"VLOOKUP(B289,[1]PlayersList!$B$4:$J$1000,9,FALSE)","v":{"$error":"#N/A"}},null,"Joakim Nordstrom"]
[287," Brandon Carlo","BOS",7,null,1,null,1,null,2,null,5,null,4,null,8,null,21,null,0,null,0,null,"N/A",null,0,null,0,null,0,null,0,null,0,null,7,null,0.143,{"$nulls":3},{"$f":"VLOOKUP(B290,[1]PlayersList!$B$4:$J$1000,9,FALSE)","v":{"$error":"#N/A"}},null,"Brandon Carlo"]
[288," Noel Acciari","BOS",7,null,0,null,2,null,2,null,0,null,2,null,16,null,1,null,5,null,6,null,0.455,null,0,null,0,null,0,null,0,null,0,null,4,null,0,{"$nulls":3},{"$f":"VLOOKUP(B291,[1]PlayersList!$B$4:$J$1000,9,FALSE)","v":{"$error":"#N/A"}},null,"Noel Acciari"]
[289," Alex Petrovic","FLA",7,null,0,null,2,null,2,null,2,null,0,null,14,null,4,null,0,null,0,null,"N/A",null,0,null,0,null,0,null,0,null,0,null,5,null,0,{"$nulls":3},{"$f":"VLOOKUP(B292,[1]PlayersList!$B$4:$J$1000,9,FALSE)","v":{"$error":"#N/A"}},null,"Alex Petrovic"]
[290," Kevin Fiala","NAS",7,null,2,null,0,null,2,null,-1,null,0,null,4,null,0,null,0,null,0,null,"N/A",null,0,null,0,null,0,null,0,null,1,null,12,null,0.167,{"$nulls":3},{"$f":"VLOOKUP(B293,[1]PlayersList!$B$4:$J$1000,9,FALSE)","v":{"$error":"#N/A"}},null,"Kevin Fiala"]
[291," Ryan Spooner","BOS",6,null,1,null,1,null,2,null,-3,null,4,null,2,null,0,null,1,null,4,null,0.2,null,1,null,0,null,0,null,0,null,0,null,12,null,0.083,{"$nulls":3},{"$f":"VLOOKUP(B294,[1]PlayersList!$B$4:$J$1000,9,FALSE)","v":{"$error":"#N/A"}},null,"Ryan Spooner"]
[292," Tim Schaller","BOS",5,null,0,null,2,null,2,null,0,null,7,null,4,null,2,null,6,null,3,null,0.667,null,0,null,0,null,0,null,0,null,0,null,8,null,0,{"$nulls":3},{"$f":"VLOOKUP(B295,[1]PlayersList!$B$4:$J$1000,9,FALSE)","v":{"$error":"#N/A"}},null,"Tim Schaller"]
[293," Ryan Garbutt","ANA",8,null,1,null,1,null,2,null,0,null,2,null,15,null,6,null,2,null,1,null,0.667,null,0,null,0,null,0,null,1,null,1,null,7,null,0.143,{"$nulls":3},{"$f":"VLOOKUP(B296,[1]PlayersList!$B$4:$J$1000,9,FALSE)","v":{"$error":"#N/A"}},null,"Ryan Garbutt"]
[294," Joel Armia","WPG",6,null,1,null,1,null,2,null,1,null,2,null,5,null,2,null,1,null,2,null,0.333,null,0,null,0,null,0,null,0,null,0,null,13,null,0.077,{"$nulls":3},{"$f":"VLOOKUP(B297,[1]PlayersList!$B$4:$J$1000,9,FALSE)","v":{"$error":"#N/A"}},null,"Joel Armia"]
[295," Greg Pateryn","MON",6,null,0,null,2,null,2,null,2,null,0,null,4,null,11,null,0,null,0,null,"N/A",null,0,null,0,null,0,null,0,null,0,null,6,null,0,{"$nulls":3},{"$f":"VLOOKUP(B298,[1]PlayersList!$B$4:$J$1000,9,FALSE)","v":{"$error":"#N/A"}},null,"Greg Pateryn"]
[296," Reilly Smith","FLA",7,null,1,null,1,null,2,null,-2,null,0,null,5,null,3,null,1,null,0,null,1,null,1,null,0,null,0,null,0,null,0,null,14,null,0.071,{"$nulls":3},{"$f":"VLOOKUP(B299,[1]PlayersList!$B$4:$J$1000,9,FALSE)","v":{"$error":"#N/A"}},null,"Reilly Smith"]
[297," Radek Faksa","DAL",7,null,1,null,1,null,2,null,1,null,6,null,6,null,5,null,52,null,53,null,0.495,null,0,null,0,null,0,null,0,null,0,null,10,null,0.1,{"$nulls":3},{"$f":"VLOOKUP(B300,[1]PlayersList!$B$4:$J$1000,9,FALSE)","v":{"$error":"#N/A"}},null,"Radek Faksa"]
[298," Leo Komarov","TOR",7,null,0,null,2,null,2,null,-2,null,2,null,26,null,7,null,7,null,4,null,0.636,null,0,null,1,null,0,null,0,null,0,null,9,null,0,{"$nulls":3},{"$f":"VLOOKUP(B301,[1]PlayersList!$B$4:$J$1000,9,FALSE)","v":{"$error":"#N/A"}},null,"Leo Komarov"]
[299," Nathan Beaulieu","MON",8,null,0,null,2,null,2,null,8,null,9,null,11,null,12,null,0,null,0,null,"N/A",null,0,null,1,null,0,null,0,null,0,null,9,null,0,{"$nulls":3},{"$f":"VLOOKUP(B302,[1]PlayersList!$B$4:$J$1000,9,FALSE)","v":{"$error":"#N/A"}},null,"Nathan Beaulieu"]
[300," Oscar Klefbom","EDM",7,null,0,null,2,null,2,null,5,null,0,null,3,null,14,null,0,null,0,null,"N/A",null,0,null,0,null,0,null,0,null,0,null,12,null,0,{"$nulls":3},{"$f":"VLOOKUP(B303,[1]PlayersList!$B$4:$J$1000,9,FALSE)","v":{"$error":"#N/A"}},null,"Oscar Klefbom"]
[301," Ryan Sproul","DET",4,null,0,null,2,null,2,null,1,null,0,null,2,null,3,null,0,null,0,null,"N/A",null,0,null,1,null,0,null,0,null,0,null,10,null,0,{"$nulls":3},{"$f":"VLOOKUP(B304,[1]PlayersList!$B$4:$J$1000,9,FALSE)","v":{"$error":"#N/A"}},null,"Ryan Sproul"]
[302," William Karlsson","COB",6,null,1,null,1,null,2,null,2,null,0,null,4,null,2,null,34,null,38,null,0.472,null,0,null,0,null,0,null,0,null,1,null,8,null,0.125,{"$nulls":3},{"$f":"VLOOKUP(B305,[1]PlayersList!$B$4:$J$1000,9,FALSE)","v":{"$error":"#N/A"}},null,"William Karlsson"]
[303," Shane Prince","NYI",3,null,1,null,1,null,2,null,-3,null,0,null,5,null,0,null,0,null,1,null,0,null,1,null,0,null,0,null,0,null,0,null,4,null,0.25,{"$nulls":3},{"$f":"VLOOKUP(B306,[1]PlayersList!$B$4:$J$1000,9,FALSE)","v":{"$error":"#N/A"}},null,"Shane Prince"]
[304," Craig Smith","NAS",6,null,2,null,0,null,2,null,0,null,6,null,5,null,0,null,7,null,8,null,0.467,null,1,null,0,null,0,null,0,null,0,null,14,null,0.143,{"$nulls":3},{"$f":"VLOOKUP(B307,[1]PlayersList!$B$4:$J$1000,9,FALSE)","v":{"$error":"#N/A"}},null,"Craig Smith"]
[305," Andrew Shaw","MON",8,null,1,null,1,null,2,null,4,null,12,null,18,null,1,null,31,null,23,null,0.574,null,0,null,0,null,0,null,0,null,0,null,13,null,0.077,{"$nulls":3},{"$f":"VLOOKUP(B308,[1]PlayersList!$B$4:$J$1000,9,FALSE)","v":{"$error":"#N/A"}},null,"Andrew Shaw"]
[306," Jean-Gabriel Pageau","OTT",6,null,1,null,1,null,2,null,3,null,0,null,11,null,8,null,38,null,28,null,0.576,null,0,null,0,null,0,null,0,null,0,null,12,null,0.083,{"$nulls":3},{"$f":"VLOOKUP(B309,[1]PlayersList!$B$4:$J$1000,9,FALSE)","v":{"$error":"#N/A"}},null,"Jean-Gabriel Pageau"]
[307," Zemgus Girgensons","BUF",6,null,1,null,1,null,2,null,-3,null,0,null,7,null,2,null,25,null,22,null,0.532,null,0,null,0,null,0,null,0,null,0,null,9,null,0.111,{"$nulls":3},{"$f":"VLOOKUP(B310,[1]PlayersList!$B$4:$J$1000,9,FALSE)","v":{"$error":"#N/A"}},null,"Zemgus Girgensons"]
[308," Brady Skjei","NYR",7,null,0,null,2,null,2,null,1,null,2,null,15,null,5,null,0,null,0,null,"N/A",null,0,null,0,null,0,null,0,null,0,null,8,null,0,{"$nulls":3},{"$f":"VLOOKUP(B311,[1]PlayersList!$B$4:$J$1000,9,FALSE)","v":{"$error":"#N/A"}},null,"Brady Skjei"]
[309," Jared Spurgeon","MIN",4,null,1,null,1,null,2,null,2,null,0,null,2,null,7,null,0,null,0,null,"N/A",null,0,null,0,null,0,null,0,null,0,null,4,null,0.25,{"$nulls":3},{"$f":"VLOOKUP(B312,[1]PlayersList!$B$4:$J$1000,9,FALSE)","v":{"$error":"#N/A"}},null,"Jared Spurgeon"]
[310," Adam Henrique","NJD",6,null,1,null,1,null,2,null,2,null,2,null,6,null,5,null,43,null,44,null,0.494,null,0,null,0,null,0,null,0,null,0,null,9,null,0.111,{"$nulls":3},{"$f":"VLOOKUP(B313,[1]PlayersList!$B$4:$J$1000,9,FALSE)","v":{"$error":"#N/A"}},null,"Adam Henrique"]
[311," Brayden McNabb","LOS",7,null,2,null,0,null,2,null,3,null,11,null,12,null,6,null,0,null,0,null,"N/A",null,0,null,0,null,0,null,0,null,0,null,5,null,0.4,{"$nulls":3},{"$f":"VLOOKUP(B314,[1]PlayersList!$B$4:$J$1000,9,FALSE)","v":{"$error":"#N/A"}},null,"Brayden McNabb"]
[312," Nikita Zadorov","COL",5,null,0,null,2,null,2,null,-1,null,6,null,14,null,5,null,0,null,0,null,"N/A",null,0,null,0,null,0,null,0,null,0,null,5,null,0,{"$nulls":3},{"$f":"VLOOKUP(B315,[1]PlayersList!$B$4:$J$1000,9,FALSE)","v":{"$error":"#N/A"}},null,"Nikita Zadorov"]
[313," Laurent Dauphin","ARI",6,null,1,null,1,null,2,null,-1,null,4,null,11,null,4,null,8,null,11,null,0.421,null,0,null,0,null,1,null,0,null,0,null,6,null,0.167,{"$nulls":3},{"$f":"VLOOKUP(B316,[1]PlayersList!$B$4:$J$1000,9,FALSE)","v":{"$error":"#N/A"}},null,"Laurent Dauphin"]
[314," Ryan Hartman","CHI",5,null,1,null,1,null,2,null,-1,null,0,null,6,null,4,null,0,null,1,null,0,null,0,null,0,null,0,null,0,null,0,null,7,null,0.143,{"$nulls":3},{"$f":"VLOOKUP(B317,[1]PlayersList!$B$4:$J$1000,9,FALSE)","v":{"$error":"#N/A"}},null,"Ryan Hartman"]
[315," Dmitry Orlov","WAS",6,null,0,null,2,null,2,null,-1,null,0,null,10,null,6,null,0,null,0,null,"N/A",null,0,null,1,null,0,null,0,null,0,null,9,null,0,{"$nulls":3},{"$f":"VLOOKUP(B318,[1]PlayersList!$B$4:$J$1000,9,FALSE)","v":{"$error":"#N/A"}},null,"Dmitry Orlov"]
[316," Curtis McKenzie","DAL",5,null,0,null,2,null,2,null,1,null,0,null,3,null,1,null,1,null,1,null,0.5,null,0,null,0,null,0,null,0,null,0,null,4,null,0,{"$nulls":3},{"$f":"VLOOKUP(B319,[1]PlayersList!$B$4:$J$1000,9,FALSE)","v":{"$error":"#N/A"}},null,"Curtis McKenzie"]
[317," Josh Anderson","COB",6,null,2,null,0,null,2,null,3,null,4,null,6,null,2,null,1,null,2,null,0.333,null,0,null,0,null,0,null,0,null,1,null,9,null,0.222,{"$nulls":3},{"$f":"VLOOKUP(B320,[1]PlayersList!$B$4:$J$1000,9,FALSE)","v":{"$error":"#N/A"}},null,"Josh Anderson"]
[318," Justin Schultz","PIT",8,null,0,null,2,null,2,null,0,null,4,null,6,null,4,null,0,null,0,null,"N/A",null,0,null,1,null,0,null,0,null,0,null,18,null,0,{"$nulls":3},{"$f":"VLOOKUP(B321,[1]PlayersList!$B$4:$J$1000,9,FALSE)","v":{"$error":"#N/A"}},null,"Justin Schultz"]
[319," Cedric Paquette","TAM",7,null,1,null,1,null,2,null,-1,null,7,null,13,null,2,null,0,null,4,null,0,null,0,null,0,null,0,null,0,null,0,null,5,null,0.2,{"$nulls":3},{"$f":"VLOOKUP(B322,[1]PlayersList!$B$4:$J$1000,9,FALSE)","v":{"$error":"#N/A"}},null,"Cedric Paquette"]
[320," Andrej Sustr","TAM",7,null,0,null,2,null,2,null,0,null,7,null,4,null,7,null,0,null,0,null,"N/A",null,0,null,0,null,0,null,0,null,0,null,6,null,0,{"$nulls":3},{"$f":"VLOOKUP(B323,[1]PlayersList!$B$4:$J$1000,9,FALSE)","v":{"$error":"#N/A"}},null,"Andrej Sustr"]
[321," Erik Haula","MIN",4,null,1,null,1,null,2,null,2,null,2,null,0,null,1,null,23,null,28,null,0.451,null,0,null,0,null,0,null,0,null,0,null,6,null,0.167,{"$nulls":3},{"$f":"VLOOKUP(B324,[1]PlayersList!$B$4:$J$1000,9,FALSE)","v":{"$error":"#N/A"}},null,"Erik Haula"]
[322," Sam Reinhart","BUF",6,null,0,null,2,null,2,null,-1,null,2,null,2,null,1,null,17,null,22,null,0.436,null,0,null,1,null,0,null,0,null,0,null,13,null,0,{"$nulls":3},{"$f":"VLOOKUP(B325,[1]PlayersList!$B$4:$J$1000,9,FALSE)","v":{"$error":"#N/A"}},null,"Sam Reinhart"]
[323," David Savard","COB",6,null,0,null,2,null,2,null,-2,null,4,null,10,null,12,null,0,null,0,null,"N/A",null,0,null,0,null,0,null,0,null,0,null,7,null,0,{"$nulls":3},{"$f":"VLOOKUP(B326,[1]PlayersList!$B$4:$J$1000,9,FALSE)","v":{"$error":"#N/A"}},null,{"$f":"SUBSTITUTE(B326,\" \",\"\")","v":"David Savard"}]
[324," Drew Miller","DET",8,null,2,null,0,null,2,null,0,null,2,null,8,null,7,null,1,null,0,null,1,null,0,null,0,null,0,null,0,null,1,null,9,null,0.222,{"$nulls":3},{"$f":"VLOOKUP(B327,[1]PlayersList!$B$4:$J$1000,9,FALSE)","v":{"$error":"#N/A"}},null,"Drew Miller"]
[325," Johnny Oduya","DAL",7,null,0,null,2,null,2,null,0,null,4,null,2,null,17,null,0,null,0,null,"N/A",null,0,null,0,null,0,null,0,null,0,null,7,null,0,{"$nulls":3},{"$f":"VLOOKUP(B328,[1]PlayersList!$B$4:$J$1000,9,FALSE)","v":{"$error":"#N/A"}},null,"Johnny Oduya"]
[326," Keith Yandle","FLA",7,null,0,null,2,null,2,null,0,null,8,null,5,null,8,null,0,null,0,null,"N/A",null,0,null,1,null,0,null,0,null,0,null,20,null,0,{"$nulls":3},{"$f":"VLOOKUP(B329,[1]PlayersList!$B$4:$J$1000,9,FALSE)","v":{"$error":"#N/A"}},null,"Keith Yandle"]
[327," Karl Alzner","WAS",6,null,0,null,2,null,2,null,3,null,4,null,5,null,11,null,0,null,0,null,"N/A",null,0,null,0,null,0,null,0,null,0,null,10,null,0,{"$nulls":3},{"$f":"VLOOKUP(B330,[1]PlayersList!$B$4:$J$1000,9,FALSE)","v":{"$error":"#N/A"}},null,"Karl Alzner"]
[328," Dan Hamhuis","DAL",7,null,0,null,2,null,2,null,0,null,4,null,9,null,10,null,0,null,0,null,"N/A",null,0,null,0,null,0,null,0,null,0,null,8,null,0,{"$nulls":3},{"$f":"VLOOKUP(B331,[1]PlayersList!$B$4:$J$1000,9,FALSE)","v":{"$error":"#N/A"}},null,"Dan Hamhuis"]
[329," Tyler Ennis","BUF",6,null,1,null,1,null,2,null,-4,null,0,null,1,null,2,null,0,null,0,null,"N/A",null,0,null,0,null,0,null,0,null,0,null,21,null,0.048,{"$nulls":3},{"$f":"VLOOKUP(B332,[1]PlayersList!$B$4:$J$1000,9,FALSE)","v":{"$error":"#N/A"}},null,"Tyler Ennis"]
[330," Jussi Jokinen","FLA",4,null,0,null,2,null,2,null,-2,null,4,null,2,null,2,null,6,null,5,null,0.545,null,0,null,0,null,0,null,0,null,0,null,4,null,0,{"$nulls":3},{"$f":"VLOOKUP(B333,[1]PlayersList!$B$4:$J$1000,9,FALSE)","v":{"$error":"#N/A"}},null,"Jussi Jokinen"]
[331," Chris Kelly","OTT",6,null,1,null,1,null,2,null,2,null,2,null,1,null,3,null,21,null,26,null,0.447,null,0,null,0,null,0,null,0,null,0,null,10,null,0.1,{"$nulls":3},{"$f":"VLOOKUP(B334,[1]PlayersList!$B$4:$J$1000,9,FALSE)","v":{"$error":"#N/A"}},null,"Chris Kelly"]
[332," Derek MacKenzie","FLA",7,null,0,null,2,null,2,null,4,null,0,null,13,null,1,null,39,null,40,null,0.494,null,0,null,0,null,0,null,1,null,0,null,3,null,0,{"$nulls":3},{"$f":"VLOOKUP(B335,[1]PlayersList!$B$4:$J$1000,9,FALSE)","v":{"$error":"#N/A"}},null,"Derek MacKenzie"]
[333," Dominic Moore","BOS",7,null,2,null,0,null,2,null,-1,null,6,null,3,null,4,null,21,null,27,null,0.438,null,0,null,0,null,0,null,0,null,0,null,12,null,0.167,{"$nulls":3},{"$f":"VLOOKUP(B336,[1]PlayersList!$B$4:$J$1000,9,FALSE)","v":{"$error":"#N/A"}},null,"Dominic Moore"]
[334," Daniel Winnik","WAS",6,null,2,null,0,null,2,null,2,null,2,null,2,null,4,null,1,null,2,null,0.333,null,0,null,0,null,0,null,0,null,1,null,5,null,0.4,{"$nulls":3},{"$f":"VLOOKUP(B337,[1]PlayersList!$B$4:$J$1000,9,FALSE)","v":{"$error":"#N/A"}},null,"Daniel Winnik"]
[335," Nick Bonino","PIT",8,null,0,null,2,null,2,null,-5,null,4,null,10,null,12,null,75,null,79,null,0.487,null,0,null,1,null,0,null,0,null,0,null,13,null,0,{"$nulls":3},{"$f":"VLOOKUP(B338,[1]PlayersList!$B$4:$J$1000,9,FALSE)","v":{"$error":"#N/A"}},null,"Nick Bonino"]
[336," Tyler Myers","WPG",7,null,2,null,0,null,2,null,1,null,6,null,9,null,14,null,0,null,0,null,"N/A",null,0,null,0,null,0,null,0,null,0,null,12,null,0.167,{"$nulls":3},{"$f":"VLOOKUP(B339,[1]PlayersList!$B$4:$J$1000,9,FALSE)","v":{"$error":"#N/A"}},null,"Tyler Myers"]
[337," Tomas Tatar","DET",8,null,1,null,1,null,2,null,-2,null,4,null,6,null,4,null,1,null,1,null,0.5,null,0,null,1,null,0,null,0,null,0,null,24,null,0.042,{"$nulls":3},{"$f":"VLOOKUP(B340,[1]PlayersList!$B$4:$J$1000,9,FALSE)","v":{"$error":"#N/A"}},null,"Tomas Tatar"]
[338," Marcus Foligno","BUF",6,null,1,null,1,null,2,null,0,null,4,null,15,null,5,null,0,null,0,null,"N/A",null,0,null,0,null,0,null,0,null,0,null,8,null,0.125,{"$nulls":3},{"$f":"VLOOKUP(B341,[1]PlayersList!$B$4:$J$1000,9,FALSE)","v":{"$error":"#N/A"}},null,"Marcus Foligno"]
[339," Jonathan Toews","CHI",7,null,0,null,2,null,2,null,2,null,9,null,5,null,1,null,107,null,69,null,0.608,null,0,null,1,null,0,null,0,null,0,null,19,null,0,{"$nulls":3},{"$f":"VLOOKUP(B342,[1]PlayersList!$B$4:$J$1000,9,FALSE)","v":{"$error":"#N/A"}},null,"Jonathan Toews"]
[340," Dan Girardi","NYR",4,null,1,null,1,null,2,null,2,null,2,null,7,null,8,null,0,null,0,null,"N/A",null,0,null,0,null,0,null,0,null,1,null,3,null,0.333,{"$nulls":3},{"$f":"VLOOKUP(B343,[1]PlayersList!$B$4:$J$1000,9,FALSE)","v":{"$error":"#N/A"}},null,"Dan Girardi"]
[341," Nick Leddy","NYI",7,null,1,null,1,null,2,null,-6,null,2,null,7,null,14,null,0,null,0,null,"N/A",null,0,null,0,null,0,null,0,null,0,null,12,null,0.083,{"$nulls":3},{"$f":"VLOOKUP(B344,[1]PlayersList!$B$4:$J$1000,9,FALSE)","v":{"$error":"#N/A"}},null,"Nick Leddy"]
[342," Michael Cammalleri","NJD",6,null,0,null,2,null,2,null,0,null,6,null,5,null,1,null,1,null,0,null,1,null,0,null,1,null,0,null,0,null,0,null,15,null,0,{"$nulls":3},{"$f":"VLOOKUP(B345,[1]PlayersList!$B$4:$J$1000,9,FALSE)","v":{"$error":"#N/A"}},null,"Michael Cammalleri"]
[343," Jamie McGinn","ARI",2,null,1,null,1,null,2,null,0,null,2,null,2,null,3,null,0,null,0,null,"N/A",null,0,null,0,null,0,null,0,null,0,null,4,null,0.25,{"$nulls":3},{"$f":"VLOOKUP(B346,[1]PlayersList!$B$4:$J$1000,9,FALSE)","v":{"$error":"#N/A"}},null,"Jamie McGinn"]
[344," David Schlemko","SAN",8,null,0,null,2,null,2,null,1,null,2,null,6,null,9,null,0,null,0,null,"N/A",null,0,null,2,null,0,null,0,null,0,null,20,null,0,{"$nulls":3},{"$f":"VLOOKUP(B347,[1]PlayersList!$B$4:$J$1000,9,FALSE)","v":{"$error":"#N/A"}},null,"David Schlemko"]
[345," Dennis Seidenberg","NYI",8,null,2,null,0,null,2,null,5,null,4,null,9,null,21,null,0,null,0,null,"N/A",null,0,null,0,null,0,null,0,null,0,null,10,null,0.2,{"$nulls":3},{"$f":"VLOOKUP(B348,[1]PlayersList!$B$4:$J$1000,9,FALSE)","v":{"$error":"#N/A"}},null,"Dennis Seidenberg"]
[346," Cody Franson","BUF",6,null,0,null,2,null,2,null,-1,null,2,null,3,null,3,null,0,null,0,null,"N/A",null,0,null,0,null,0,null,0,null,0,null,8,null,0,{"$nulls":3},{"$f":"VLOOKUP(B349,[1]PlayersList!$B$4:$J$1000,9,FALSE)","v":{"$error":"#N/A"}},null,"Cody Franson"]
[347," Toby Enstrom","WPG",7,null,0,null,2,null,2,null,1,null,6,null,1,null,9,null,0,null,0,null,"N/A",null,0,null,1,null,0,null,0,null,0,null,10,null,0,{"$nulls":3},{"$f":"VLOOKUP(B350,[1]PlayersList!$B$4:$J$1000,9,FALSE)","v":{"$error":"#N/A"}},null,"Toby Enstrom"]
[348," Thomas Hickey","NYI",8,null,1,null,1,null,2,null,1,null,2,null,9,null,11,null,0,null,0,null,"N/A",null,0,null,0,null,0,null,0,null,0,null,8,null,0.125,{"$nulls":3},{"$f":"VLOOKUP(B351,[1]PlayersList!$B$4:$J$1000,9,FALSE)","v":{"$error":"#N/A"}},null,"Thomas Hickey"]
[349," Jonathan Ericsson","DET",8,null,0,null,2,null,2,null,3,null,28,null,7,null,10,null,0,null,0,null,"N/A",null,0,null,0,null,0,null,0,null,0,null,7,null,0,{"$nulls":3},{"$f":"VLOOKUP(B352,[1]PlayersList!$B$4:$J$1000,9,FALSE)","v":{"$error":"#N/A"}},null,"Jonathan Ericsson"]
[350," Niklas Hjalmarsson","CHI",6,null,1,null,1,null,2,null,2,null,2,null,2,null,10,null,0,null,0,null,"N/A",null,0,null,0,null,0,null,0,null,0,null,6,null,0.167,{"$nulls":3},{"$f":"VLOOKUP(B353,[1]PlayersList!$B$4:$J$1000,9,FALSE)","v":{"$error":"#N/A"}},null,"Niklas Hjalmarsson"]
[351," Fedor Tyutin","COL",4,null,0,null,2,null,2,null,0,null,0,null,9,null,5,null,0,null,0,null,"N/A",null,0,null,0,null,0,null,0,null,0,null,0,null,"N/A",{"$nulls":3},{"$f":"VLOOKUP(B354,[1]PlayersList!$B$4:$J$1000,9,FALSE)","v":{"$error":"#N/A"}},null,"Fedor Tyutin"]
[352," Kris Letang","PIT",4,null,0,null,2,null,2,null,-2,null,4,null,9,null,6,null,0,null,0,null,"N/A",null,0,null,2,null,0,null,0,null,0,null,16,null,0,{"$nulls":3},{"$f":"VLOOKUP(B355,[1]PlayersList!$B$4:$J$1000,9,FALSE)","v":{"$error":"#N/A"}},null,"Kris Letang"]
[353," Blake Comeau","COL",5,null,1,null,1,null,2,null,0,null,8,null,8,null,2,null,12,null,14,null,0.462,null,1,null,0,null,0,null,0,null,0,null,7,null,0.143,{"$nulls":3},{"$f":"VLOOKUP(B356,[1]PlayersList!$B$4:$J$1000,9,FALSE)","v":{"$error":"#N/A"}},null,"Blake Comeau"]
[354," T.J. Oshie","WAS",6,null,2,null,0,null,2,null,2,null,6,null,6,null,4,null,9,null,10,null,0.474,null,1,null,0,null,0,null,0,null,0,null,17,null,0.118,{"$nulls":3},{"$f":"VLOOKUP(B357,[1]PlayersList!$B$4:$J$1000,9,FALSE)","v":{"$error":"#N/A"}},null,"T.J. Oshie"]
[355," Clayton Stoner","ANA",5,null,0,null,2,null,2,null,-1,null,7,null,7,null,7,null,0,null,0,null,"N/A",null,0,null,0,null,0,null,0,null,0,null,3,null,0,{"$nulls":3},{"$f":"VLOOKUP(B358,[1]PlayersList!$B$4:$J$1000,9,FALSE)","v":{"$error":"#N/A"}},null,"Clayton Stoner"]
[356," Lauri Korpikoski","DAL",7,null,1,null,1,null,2,null,4,null,2,null,4,null,3,null,0,null,2,null,0,null,0,null,0,null,0,null,0,null,0,null,15,null,0.067,{"$nulls":3},{"$f":"VLOOKUP(B359,[1]PlayersList!$B$4:$J$1000,9,FALSE)","v":{"$error":"#N/A"}},null,"Lauri Korpikoski"]
[357," Shawn Matthias","WPG",7,null,1,null,1,null,2,null,2,null,4,null,7,null,2,null,1,null,3,null,0.25,null,0,null,0,null,0,null,0,null,0,null,9,null,0.111,{"$nulls":3},{"$f":"VLOOKUP(B360,[1]PlayersList!$B$4:$J$1000,9,FALSE)","v":{"$error":"#N/A"}},null,"Shawn Matthias"]
[358," Brooks Orpik","WAS",6,null,0,null,2,null,2,null,5,null,0,null,13,null,15,null,0,null,0,null,"N/A",null,0,null,0,null,0,null,0,null,0,null,4,null,0,{"$nulls":3},{"$f":"VLOOKUP(B361,[1]PlayersList!$B$4:$J$1000,9,FALSE)","v":{"$error":"#N/A"}},null,"Brooks Orpik"]
[359," Francois Beauchemin","COL",5,null,0,null,2,null,2,null,3,null,0,null,5,null,8,null,0,null,0,null,"N/A",null,0,null,1,null,0,null,0,null,0,null,5,null,0,{"$nulls":3},{"$f":"VLOOKUP(B362,[1]PlayersList!$B$4:$J$1000,9,FALSE)","v":{"$error":"#N/A"}},null,"Francois Beauchemin"]
[360," Marcus Kruger","CHI",7,null,1,null,1,null,2,null,2,null,2,null,5,null,2,null,42,null,42,null,0.5,null,0,null,0,null,0,null,0,null,0,null,5,null,0.2,{"$nulls":3},{"$f":"VLOOKUP(B363,[1]PlayersList!$B$4:$J$1000,9,FALSE)","v":{"$error":"#N/A"}},null,"Marcus Kruger"]
[361," Marc Methot","OTT",6,null,0,null,2,null,2,null,8,null,4,null,13,null,8,null,0,null,0,null,"N/A",null,0,null,0,null,0,null,0,null,0,null,10,null,0,{"$nulls":3},{"$f":"VLOOKUP(B364,[1]PlayersList!$B$4:$J$1000,9,FALSE)","v":{"$error":"#N/A"}},null,"Marc Methot"]
[362," Devin Setoguchi","LOS",7,null,0,null,2,null,2,null,1,null,0,null,5,null,0,null,1,null,0,null,1,null,0,null,0,null,0,null,0,null,0,null,7,null,0,{"$nulls":3},{"$f":"VLOOKUP(B365,[1]PlayersList!$B$4:$J$1000,9,FALSE)","v":{"$error":"#N/A"}},null,"Devin Setoguchi"]
[363," Marc Staal","NYR",7,null,1,null,1,null,2,null,0,null,0,null,6,null,8,null,0,null,0,null,"N/A",null,0,null,0,null,0,null,0,null,0,null,9,null,0.111,{"$nulls":3},{"$f":"VLOOKUP(B366,[1]PlayersList!$B$4:$J$1000,9,FALSE)","v":{"$error":"#N/A"}},null,"Marc Staal"]
[364," Nick Holden","NYR",7,null,0,null,2,null,2,null,4,null,0,null,11,null,10,null,0,null,0,null,"N/A",null,0,null,0,null,0,null,0,null,0,null,3,null,0,{"$nulls":3},{"$f":"VLOOKUP(B367,[1]PlayersList!$B$4:$J$1000,9,FALSE)","v":{"$error":"#N/A"}},null,"Nick Holden"]
[365," Patrick Maroon","EDM",7,null,2,null,0,null,2,null,1,null,6,null,12,null,0,null,1,null,1,null,0.5,null,0,null,0,null,0,null,0,null,0,null,16,null,0.125,{"$nulls":3},{"$f":"VLOOKUP(B368,[1]PlayersList!$B$4:$J$1000,9,FALSE)","v":{"$error":"#N/A"}},null,"Patrick Maroon"]
[366," Andrew MacDonald","PHI",8,null,1,null,1,null,2,null,-3,null,4,null,7,null,12,null,0,null,0,null,"N/A",null,0,null,0,null,0,null,0,null,0,null,6,null,0.167,{"$nulls":3},{"$f":"VLOOKUP(B369,[1]PlayersList!$B$4:$J$1000,9,FALSE)","v":{"$error":"#N/A"}},null,"Andrew MacDonald"]
[367," Jason Garrison","TAM",7,null,0,null,2,null,2,null,-3,null,4,null,6,null,12,null,0,null,0,null,"N/A",null,0,null,0,null,0,null,0,null,0,null,14,null,0,{"$nulls":3},{"$f":"VLOOKUP(B370,[1]PlayersList!$B$4:$J$1000,9,FALSE)","v":{"$error":"#N/A"}},null,"Jason Garrison"]
[368," Scottie Upshall","STL",7,null,1,null,1,null,2,null,-3,null,4,null,12,null,0,null,0,null,1,null,0,null,0,null,0,null,0,null,0,null,0,null,10,null,0.1,{"$nulls":3},{"$f":"VLOOKUP(B371,[1]PlayersList!$B$4:$J$1000,9,FALSE)","v":{"$error":"#N/A"}},null,"Scottie Upshall"]
[369," Colin Wilson","NAS",7,null,2,null,0,null,2,null,-3,null,6,null,6,null,1,null,0,null,1,null,0,null,1,null,0,null,0,null,0,null,0,null,10,null,0.2,{"$nulls":3},{"$f":"VLOOKUP(B372,[1]PlayersList!$B$4:$J$1000,9,FALSE)","v":{"$error":"#N/A"}},null,"Colin Wilson"]
[370," Deryk Engelland","CGY",8,null,1,null,1,null,2,null,3,null,7,null,6,null,20,null,0,null,0,null,"N/A",null,0,null,0,null,0,null,0,null,1,null,12,null,0.083,{"$nulls":3},{"$f":"VLOOKUP(B373,[1]PlayersList!$B$4:$J$1000,9,FALSE)","v":{"$error":"#N/A"}},null,"Deryk Engelland"]
[371," Calvin de Haan","NYI",8,null,1,null,1,null,2,null,3,null,6,null,8,null,19,null,0,null,0,null,"N/A",null,0,null,0,null,0,null,0,null,0,null,15,null,0.067,{"$nulls":3},{"$f":"VLOOKUP(B374,[1]PlayersList!$B$4:$J$1000,9,FALSE)","v":{"$error":"#N/A"}},null,"Calvin de Haan"]
[372," John-Michael Liles","BOS",7,null,0,null,2,null,2,null,-4,null,2,null,6,null,11,null,0,null,0,null,"N/A",null,0,null,1,null,0,null,0,null,0,null,7,null,0,{"$nulls":3},{"$f":"VLOOKUP(B375,[1]PlayersList!$B$4:$J$1000,9,FALSE)","v":{"$error":"#N/A"}},null,"John-Michael Liles"]
[373," Ryan Ellis","NAS",7,null,0,null,2,null,2,null,-1,null,2,null,14,null,16,null,0,null,0,null,"N/A",null,0,null,2,null,0,null,0,null,0,null,12,null,0,{"$nulls":3},{"$f":"VLOOKUP(B376,[1]PlayersList!$B$4:$J$1000,9,FALSE)","v":{"$error":"#N/A"}},null,"Ryan Ellis"]
[374," Milan Michalek","TOR",5,null,1,null,1,null,2,null,-2,null,2,null,7,null,9,null,0,null,1,null,0,null,0,null,0,null,0,null,0,null,0,null,6,null,0.167,{"$nulls":3},{"$f":"VLOOKUP(B377,[1]PlayersList!$B$4:$J$1000,9,FALSE)","v":{"$error":"#N/A"}},null,"Milan Michalek"]
[375," Melker Karlsson","SAN",8,null,1,null,0,null,1,null,-1,null,2,null,5,null,7,null,0,null,2,null,0,null,0,null,0,null,0,null,0,null,0,null,7,null,0.143,{"$nulls":3},{"$f":"VLOOKUP(B378,[1]PlayersList!$B$4:$J$1000,9,FALSE)","v":{"$error":"#N/A"}},null,"Melker Karlsson"]
[376," Dennis Rasmussen","CHI",5,null,1,null,0,null,1,null,0,null,0,null,4,null,6,null,2,null,3,null,0.4,null,0,null,0,null,0,null,0,null,0,null,8,null,0.125,{"$nulls":3},{"$f":"VLOOKUP(B379,[1]PlayersList!$B$4:$J$1000,9,FALSE)","v":{"$error":"#N/A"}},null,"Dennis Rasmussen"]
[377," Pierre-Edouard Bellemare","PHI",8,null,0,null,1,null,1,null,1,null,0,null,5,null,10,null,42,null,41,null,0.506,null,0,null,0,null,0,null,0,null,0,null,7,null,0,{"$nulls":3},{"$f":"VLOOKUP(B380,[1]PlayersList!$B$4:$J$1000,9,FALSE)","v":{"$error":"#N/A"}},null,"Pierre-Edouard Bellemare"]
[378," Derek Dorsett","VAN",5,null,0,null,1,null,1,null,0,null,7,null,15,null,3,null,0,null,0,null,"N/A",null,0,null,0,null,0,null,0,null,0,null,5,null,0,{"$nulls":3},{"$f":"VLOOKUP(B381,[1]PlayersList!$B$4:$J$1000,9,FALSE)","v":{"$error":"#N/A"}},null,"Derek Dorsett"]
[379," Aaron Ekblad","FLA",7,null,1,null,0,null,1,null,-2,null,2,null,17,null,10,null,0,null,0,null,"N/A",null,1,null,0,null,0,null,0,null,0,null,23,null,0.043,{"$nulls":3},{"$f":"VLOOKUP(B382,[1]PlayersList!$B$4:$J$1000,9,FALSE)","v":{"$error":"#N/A"}},null,"Aaron Ekblad"]
[380," Brian Boyle","TAM",7,null,1,null,0,null,1,null,0,null,5,null,13,null,2,null,33,null,26,null,0.559,null,0,null,0,null,0,null,0,null,0,null,11,null,0.091,{"$nulls":3},{"$f":"VLOOKUP(B383,[1]PlayersList!$B$4:$J$1000,9,FALSE)","v":{"$error":"#N/A"}},null,"Brian Boyle"]
[381," Jared Boll","ANA",7,null,0,null,1,null,1,null,-1,null,6,null,9,null,1,null,0,null,1,null,0,null,0,null,0,null,0,null,0,null,0,null,2,null,0,{"$nulls":3},{"$f":"VLOOKUP(B384,[1]PlayersList!$B$4:$J$1000,9,FALSE)","v":{"$error":"#N/A"}},null,"Jared Boll"]
[382," Sam Gagner","COB",5,null,0,null,1,null,1,null,1,null,0,null,0,null,2,null,13,null,15,null,0.464,null,0,null,1,null,0,null,0,null,0,null,5,null,0,{"$nulls":3},{"$f":"VLOOKUP(B385,[1]PlayersList!$B$4:$J$1000,9,FALSE)","v":{"$error":"#N/A"}},null,"Sam Gagner"]
[383," Nick Shore","LOS",7,null,0,null,1,null,1,null,-4,null,6,null,4,null,1,null,36,null,41,null,0.468,null,0,null,0,null,0,null,0,null,0,null,10,null,0,{"$nulls":3},{"$f":"VLOOKUP(B386,[1]PlayersList!$B$4:$J$1000,9,FALSE)","v":{"$error":"#N/A"}},null,"Nick Shore"]
[384," Alan Quine","NYI",6,null,1,null,0,null,1,null,1,null,0,null,14,null,2,null,7,null,3,null,0.7,null,0,null,0,null,0,null,0,null,1,null,4,null,0.25,{"$nulls":3},{"$f":"VLOOKUP(B387,[1]PlayersList!$B$4:$J$1000,9,FALSE)","v":{"$error":"#N/A"}},null,"Alan Quine"]
[385," Braydon Coburn","TAM",7,null,0,null,1,null,1,null,-1,null,6,null,11,null,2,null,0,null,0,null,"N/A",null,0,null,0,null,0,null,0,null,0,null,13,null,0,{"$nulls":3},{"$f":"VLOOKUP(B388,[1]PlayersList!$B$4:$J$1000,9,FALSE)","v":{"$error":"#N/A"}},null,"Braydon Coburn"]
[386," Klas Dahlbeck","CAR",4,null,0,null,1,null,1,null,0,null,6,null,3,null,0,null,0,null,0,null,"N/A",null,0,null,0,null,0,null,0,null,0,null,1,null,0,{"$nulls":3},{"$f":"VLOOKUP(B389,[1]PlayersList!$B$4:$J$1000,9,FALSE)","v":{"$error":"#N/A"}},null,"Klas Dahlbeck"]
[387," Matt Hunwick","TOR",6,null,0,null,1,null,1,null,-3,null,0,null,13,null,6,null,0,null,0,null,"N/A",null,0,null,0,null,0,null,0,null,0,null,6,null,0,{"$nulls":3},{"$f":"VLOOKUP(B390,[1]PlayersList!$B$4:$J$1000,9,FALSE)","v":{"$error":"#N/A"}},null,{"$f":"SUBSTITUTE(B390,\" \",\"\")","v":"Matt Hunwick"}]
[388," Nick Schmaltz","CHI",7,null,1,null,0,null,1,null,-2,null,2,null,3,null,3,null,20,null,43,null,0.317,null,0,null,0,null,0,null,0,null,0,null,5,null,0.2,{"$nulls":3},{"$f":"VLOOKUP(B391,[1]PlayersList!$B$4:$J$1000,9,FALSE)","v":{"$error":"#N/A"}},null,"Nick Schmaltz"]
[389," Adam Lowry","WPG",7,null,0,null,1,null,1,null,-1,null,6,null,11,null,8,null,62,null,54,null,0.534,null,0,null,1,null,0,null,0,null,0,null,4,null,0,{"$nulls":3},{"$f":"VLOOKUP(B392,[1]PlayersList!$B$4:$J$1000,9,FALSE)","v":{"$error":"#N/A"}},null,"Adam Lowry"]
[390," Reid Boucher","NJD",3,null,0,null,1,null,1,null,0,null,2,null,1,null,1,null,0,null,0,null,"N/A",null,0,null,0,null,0,null,0,null,0,null,2,null,0,{"$nulls":3},{"$f":"VLOOKUP(B393,[1]PlayersList!$B$4:$J$1000,9,FALSE)","v":{"$error":"#N/A"}},null,"Reid Boucher"]
[391," Eric Fehr","PIT",8,null,1,null,0,null,1,null,-3,null,2,null,9,null,6,null,19,null,17,null,0.528,null,0,null,0,null,0,null,0,null,1,null,10,null,0.1,{"$nulls":3},{"$f":"VLOOKUP(B394,[1]PlayersList!$B$4:$J$1000,9,FALSE)","v":{"$error":"#N/A"}},null,"Eric Fehr"]
[392," Daniel Carr","MON",2,null,0,null,1,null,1,null,1,null,2,null,0,null,0,null,0,null,0,null,"N/A",null,0,null,0,null,0,null,0,null,0,null,1,null,0,{"$nulls":3},{"$f":"VLOOKUP(B395,[1]PlayersList!$B$4:$J$1000,9,FALSE)","v":{"$error":"#N/A"}},null,"Daniel Carr"]
[393," Nikolay Kulemin","NYI",6,null,0,null,1,null,1,null,-1,null,2,null,4,null,5,null,4,null,2,null,0.667,null,0,null,0,null,0,null,0,null,0,null,5,null,0,{"$nulls":3},{"$f":"VLOOKUP(B396,[1]PlayersList!$B$4:$J$1000,9,FALSE)","v":{"$error":"#N/A"}},null,"Nikolay Kulemin"]
[394," Josh Manson","ANA",8,null,0,null,1,null,1,null,2,null,6,null,18,null,10,null,0,null,0,null,"N/A",null,0,null,0,null,0,null,0,null,0,null,7,null,0,{"$nulls":3},{"$f":"VLOOKUP(B397,[1]PlayersList!$B$4:$J$1000,9,FALSE)","v":{"$error":"#N/A"}},null,"Josh Manson"]
[395," Lukas Sedlak","COB",4,null,0,null,1,null,1,null,1,null,0,null,5,null,3,null,7,null,10,null,0.412,null,0,null,0,null,0,null,0,null,0,null,7,null,0,{"$nulls":3},{"$f":"VLOOKUP(B398,[1]PlayersList!$B$4:$J$1000,9,FALSE)","v":{"$error":"#N/A"}},null,"Lukas Sedlak"]
[396," Ian Cole","PIT",8,null,1,null,0,null,1,null,-3,null,6,null,20,null,15,null,0,null,0,null,"N/A",null,0,null,0,null,0,null,0,null,0,null,7,null,0.143,{"$nulls":3},{"$f":"VLOOKUP(B399,[1]PlayersList!$B$4:$J$1000,9,FALSE)","v":{"$error":"#N/A"}},null,"Ian Cole"]
[397," Lars Eller","WAS",6,null,1,null,0,null,1,null,1,null,8,null,2,null,0,null,30,null,32,null,0.484,null,0,null,0,null,0,null,0,null,0,null,11,null,0.091,{"$nulls":3},{"$f":"VLOOKUP(B400,[1]PlayersList!$B$4:$J$1000,9,FALSE)","v":{"$error":"#N/A"}},null,"Lars Eller"]
[398," Carl Hagelin","PIT",8,null,1,null,0,null,1,null,-3,null,0,null,6,null,1,null,0,null,1,null,0,null,0,null,0,null,0,null,0,null,0,null,11,null,0.091,{"$nulls":3},{"$f":"VLOOKUP(B401,[1]PlayersList!$B$4:$J$1000,9,FALSE)","v":{"$error":"#N/A"}},null,"Carl Hagelin"]
[399," Josh Jooris","NYR",5,null,1,null,0,null,1,null,1,null,0,null,10,null,2,null,13,null,8,null,0.619,null,0,null,0,null,0,null,0,null,0,null,3,null,0.333,{"$nulls":3},{"$f":"VLOOKUP(B402,[1]PlayersList!$B$4:$J$1000,9,FALSE)","v":{"$error":"#N/A"}},null,"Josh Jooris"]
[400," Connor Carrick","TOR",7,null,1,null,0,null,1,null,2,null,2,null,8,null,7,null,0,null,0,null,"N/A",null,0,null,0,null,0,null,0,null,0,null,18,null,0.056,{"$nulls":3},{"$f":"VLOOKUP(B403,[1]PlayersList!$B$4:$J$1000,9,FALSE)","v":{"$error":"#N/A"}},null,"Connor Carrick"]
[401," Ben Hutton","VAN",7,null,1,null,0,null,1,null,2,null,6,null,7,null,9,null,0,null,0,null,"N/A",null,0,null,0,null,0,null,0,null,0,null,9,null,0.111,{"$nulls":3},{"$f":"VLOOKUP(B404,[1]PlayersList!$B$4:$J$1000,9,FALSE)","v":{"$error":"#N/A"}},null,"Ben Hutton"]
[402," Colin Miller","BOS",7,null,0,null,1,null,1,null,-5,null,2,null,8,null,5,null,0,null,0,null,"N/A",null,0,null,0,null,0,null,0,null,0,null,10,null,0,{"$nulls":3},{"$f":"VLOOKUP(B405,[1]PlayersList!$B$4:$J$1000,9,FALSE)","v":{"$error":"#N/A"}},null,"Colin Miller"]
[403," Nick Sorensen","ANA",5,null,0,null,1,null,1,null,-1,null,2,null,2,null,3,null,1,null,0,null,1,null,0,null,0,null,0,null,0,null,0,null,7,null,0,{"$nulls":3},{"$f":"VLOOKUP(B406,[1]PlayersList!$B$4:$J$1000,9,FALSE)","v":{"$error":"#N/A"}},null,"Nick Sorensen"]
[404," Jaccob Slavin","CAR",6,null,0,null,1,null,1,null,-2,null,2,null,3,null,14,null,0,null,0,null,"N/A",null,0,null,0,null,0,null,0,null,0,null,10,null,0,{"$nulls":3},{"$f":"VLOOKUP(B407,[1]PlayersList!$B$4:$J$1000,9,FALSE)","v":{"$error":"#N/A"}},null,"Jaccob Slavin"]
[405," Brett Pesce","CAR",6,null,0,null,1,null,1,null,-1,null,2,null,2,null,14,null,0,null,0,null,"N/A",null,0,null,0,null,0,null,0,null,0,null,8,null,0,{"$nulls":3},{"$f":"VLOOKUP(B408,[1]PlayersList!$B$4:$J$1000,9,FALSE)","v":{"$error":"#N/A"}},null,"Brett Pesce"]
[406," Brett Kulak","CGY",3,null,0,null,1,null,1,null,2,null,2,null,0,null,4,null,0,null,0,null,"N/A",null,0,null,0,null,0,null,0,null,0,null,2,null,0,{"$nulls":3},{"$f":"VLOOKUP(B409,[1]PlayersList!$B$4:$J$1000,9,FALSE)","v":{"$error":"#N/A"}},null,"Brett Kulak"]
[407," James Neal","NAS",7,null,0,null,1,null,1,null,-7,null,9,null,5,null,6,null,1,null,0,null,1,null,0,null,0,null,0,null,0,null,0,null,27,null,0,{"$nulls":3},{"$f":"VLOOKUP(B410,[1]PlayersList!$B$4:$J$1000,9,FALSE)","v":{"$error":"#N/A"}},null,"James Neal"]
[408," Connor Brown","TOR",7,null,1,null,0,null,1,null,-1,null,4,null,3,null,5,null,0,null,0,null,"N/A",null,0,null,0,null,0,null,0,null,0,null,8,null,0.125,{"$nulls":3},{"$f":"VLOOKUP(B411,[1]PlayersList!$B$4:$J$1000,9,FALSE)","v":{"$error":"#N/A"}},null,"Connor Brown"]
[409," Shea Theodore","ANA",3,null,0,null,1,null,1,null,2,null,2,null,0,null,3,null,0,null,0,null,"N/A",null,0,null,0,null,0,null,1,null,0,null,2,null,0,{"$nulls":3},{"$f":"VLOOKUP(B412,[1]PlayersList!$B$4:$J$1000,9,FALSE)","v":{"$error":"#N/A"}},null,"Shea Theodore"]
[410," Josh Morrissey","WPG",7,null,0,null,1,null,1,null,1,null,0,null,12,null,7,null,0,null,0,null,"N/A",null,0,null,0,null,0,null,0,null,0,null,11,null,0,{"$nulls":3},{"$f":"VLOOKUP(B413,[1]PlayersList!$B$4:$J$1000,9,FALSE)","v":{"$error":"#N/A"}},null,"Josh Morrissey"]
[411," Drew Stafford","WPG",6,null,0,null,1,null,1,null,1,null,2,null,2,null,0,null,0,null,3,null,0,null,0,null,0,null,0,null,0,null,0,null,6,null,0,{"$nulls":3},{"$f":"VLOOKUP(B414,[1]PlayersList!$B$4:$J$1000,9,FALSE)","v":{"$error":"#N/A"}},null,"Drew Stafford"]
[412," Andrew Ladd","NYI",8,null,0,null,1,null,1,null,-3,null,2,null,8,null,2,null,0,null,0,null,"N/A",null,0,null,0,null,0,null,0,null,0,null,17,null,0,{"$nulls":3},{"$f":"VLOOKUP(B415,[1]PlayersList!$B$4:$J$1000,9,FALSE)","v":{"$error":"#N/A"}},null,"Andrew Ladd"]
[413," Elias Lindholm","CAR",6,null,0,null,1,null,1,null,-4,null,0,null,12,null,7,null,42,null,32,null,0.568,null,0,null,1,null,0,null,0,null,0,null,14,null,0,{"$nulls":3},{"$f":"VLOOKUP(B416,[1]PlayersList!$B$4:$J$1000,9,FALSE)","v":{"$error":"#N/A"}},null,"Elias Lindholm"]
[414," Michael Raffl","PHI",3,null,1,null,0,null,1,null,1,null,0,null,6,null,1,null,0,null,0,null,"N/A",null,0,null,0,null,0,null,0,null,0,null,4,null,0.25,{"$nulls":3},{"$f":"VLOOKUP(B417,[1]PlayersList!$B$4:$J$1000,9,FALSE)","v":{"$error":"#N/A"}},null,"Michael Raffl"]
[415," Danny DeKeyser","DET",8,null,1,null,0,null,1,null,4,null,6,null,10,null,23,null,0,null,0,null,"N/A",null,0,null,0,null,0,null,0,null,0,null,4,null,0.25,{"$nulls":3},{"$f":"VLOOKUP(B418,[1]PlayersList!$B$4:$J$1000,9,FALSE)","v":{"$error":"#N/A"}},null,"Danny DeKeyser"]
[416," Anders Lee","NYI",8,null,1,null,0,null,1,null,0,null,2,null,22,null,4,null,0,null,1,null,0,null,0,null,0,null,0,null,0,null,0,null,11,null,0.091,{"$nulls":3},{"$f":"VLOOKUP(B419,[1]PlayersList!$B$4:$J$1000,9,FALSE)","v":{"$error":"#N/A"}},null,"Anders Lee"]
[417," Nate Schmidt","WAS",6,null,0,null,1,null,1,null,1,null,2,null,6,null,4,null,0,null,0,null,"N/A",null,0,null,0,null,0,null,0,null,0,null,6,null,0,{"$nulls":3},{"$f":"VLOOKUP(B420,[1]PlayersList!$B$4:$J$1000,9,FALSE)","v":{"$error":"#N/A"}},null,"Nate Schmidt"]
[418," Nicholas Baptiste","BUF",2,null,1,null,0,null,1,null,1,null,0,null,1,null,0,null,0,null,1,null,0,null,0,null,0,null,0,null,0,null,0,null,0,null,"N/A",{"$nulls":3},{"$f":"VLOOKUP(B421,[1]PlayersList!$B$4:$J$1000,9,FALSE)","v":{"$error":"#N/A"}},null,"Nicholas Baptiste"]
[419," Pavel Buchnevich","NYR",2,null,0,null,1,null,1,null,1,null,2,null,1,null,2,null,0,null,0,null,"N/A",null,0,null,0,null,0,null,0,null,0,null,4,null,0,{"$nulls":3},{"$f":"VLOOKUP(B422,[1]PlayersList!$B$4:$J$1000,9,FALSE)","v":{"$error":"#N/A"}},null,"Pavel Buchnevich"]
[420," Justin Dowling","DAL",2,null,0,null,1,null,1,null,-1,null,2,null,0,null,0,null,6,null,8,null,0.429,null,0,null,1,null,0,null,0,null,0,null,2,null,0,{"$nulls":3},{"$f":"VLOOKUP(B423,[1]PlayersList!$B$4:$J$1000,9,FALSE)","v":{"$error":"#N/A"}},null,"Justin Dowling"]
[421," Alexander Edler","VAN",7,null,1,null,0,null,1,null,-2,null,4,null,13,null,26,null,0,null,0,null,"N/A",null,1,null,0,null,0,null,0,null,0,null,17,null,0.059,{"$nulls":3},{"$f":"VLOOKUP(B424,[1]PlayersList!$B$4:$J$1000,9,FALSE)","v":{"$error":"#N/A"}},null,"Alexander Edler"]
[422," Bryan Little","WPG",1,null,0,null,1,null,1,null,1,null,0,null,0,null,0,null,2,null,1,null,0.667,null,0,null,0,null,0,null,0,null,0,null,1,null,0,{"$nulls":3},{"$f":"VLOOKUP(B425,[1]PlayersList!$B$4:$J$1000,9,FALSE)","v":{"$error":"#N/A"}},null,"Bryan Little"]
[423," Joel Ward","SAN",8,null,1,null,0,null,1,null,-5,null,2,null,7,null,6,null,22,null,26,null,0.458,null,0,null,0,null,0,null,0,null,0,null,14,null,0.071,{"$nulls":3},{"$f":"VLOOKUP(B426,[1]PlayersList!$B$4:$J$1000,9,FALSE)","v":{"$error":"#N/A"}},null,"Joel Ward"]
[424," Christian Folin","MIN",7,null,0,null,1,null,1,null,8,null,8,null,18,null,7,null,0,null,0,null,"N/A",null,0,null,0,null,0,null,0,null,0,null,4,null,0,{"$nulls":3},{"$f":"VLOOKUP(B427,[1]PlayersList!$B$4:$J$1000,9,FALSE)","v":{"$error":"#N/A"}},null,"Christian Folin"]
[425," Alex Chiasson","CGY",8,null,1,null,0,null,1,null,1,null,8,null,10,null,1,null,0,null,3,null,0,null,0,null,0,null,0,null,0,null,0,null,12,null,0.083,{"$nulls":3},{"$f":"VLOOKUP(B428,[1]PlayersList!$B$4:$J$1000,9,FALSE)","v":{"$error":"#N/A"}},null,"Alex Chiasson"]
[426," Patrice Bergeron","BOS",4,null,1,null,0,null,1,null,0,null,2,null,2,null,4,null,57,null,39,null,0.594,null,0,null,0,null,0,null,0,null,1,null,9,null,0.111,{"$nulls":3},{"$f":"VLOOKUP(B429,[1]PlayersList!$B$4:$J$1000,9,FALSE)","v":{"$error":"#N/A"}},null,"Patrice Bergeron"]
[427," Erik Gudbranson","VAN",7,null,0,null,1,null,1,null,1,null,2,null,10,null,3,null,0,null,0,null,"N/A",null,0,null,0,null,0,null,0,null,0,null,8,null,0,{"$nulls":3},{"$f":"VLOOKUP(B430,[1]PlayersList!$B$4:$J$1000,9,FALSE)","v":{"$error":"#N/A"}},null,"Erik Gudbranson"]
[428," Cody Ceci","OTT",6,null,0,null,1,null,1,null,-3,null,4,null,8,null,17,null,0,null,0,null,"N/A",null,0,null,0,null,0,null,1,null,0,null,9,null,0,{"$nulls":3},{"$f":"VLOOKUP(B431,[1]PlayersList!$B$4:$J$1000,9,FALSE)","v":{"$error":"#N/A"}},null,"Cody Ceci"]
[429," Matt Carle","NAS",6,null,0,null,1,null,1,null,-1,null,0,null,3,null,5,null,0,null,0,null,"N/A",null,0,null,0,null,0,null,0,null,0,null,2,null,0,{"$nulls":3},{"$f":"VLOOKUP(B432,[1]PlayersList!$B$4:$J$1000,9,FALSE)","v":{"$error":"#N/A"}},null,"Matt Carle"]
[430," Anthony Duclair","ARI",7,null,0,null,1,null,1,null,-2,null,0,null,1,null,1,null,0,null,0,null,"N/A",null,0,null,0,null,0,null,0,null,0,null,10,null,0,{"$nulls":3},{"$f":"VLOOKUP(B433,[1]PlayersList!$B$4:$J$1000,9,FALSE)","v":{"$error":"#N/A"}},null,"Anthony Duclair"]
[431," Chris Tierney","SAN",8,null,0,null,1,null,1,null,-3,null,0,null,3,null,5,null,21,null,37,null,0.362,null,0,null,0,null,0,null,0,null,0,null,6,null,0,{"$nulls":3},{"$f":"VLOOKUP(B434,[1]PlayersList!$B$4:$J$1000,9,FALSE)","v":{"$error":"#N/A"}},null,"Chris Tierney"]
[432," Brandon Dubinsky","COB",6,null,0,null,1,null,1,null,-8,null,11,null,21,null,4,null,55,null,59,null,0.482,null,0,null,0,null,0,null,0,null,0,null,6,null,0,{"$nulls":3},{"$f":"VLOOKUP(B435,[1]PlayersList!$B$4:$J$1000,9,FALSE)","v":{"$error":"#N/A"}},null,"Brandon Dubinsky"]
[433," Anton Slepyshev","EDM",3,null,1,null,0,null,1,null,1,null,2,null,3,null,1,null,0,null,0,null,"N/A",null,0,null,0,null,0,null,0,null,0,null,5,null,0.2,{"$nulls":3},{"$f":"VLOOKUP(B436,[1]PlayersList!$B$4:$J$1000,9,FALSE)","v":{"$error":"#N/A"}},null,"Anton Slepyshev"]
[434," Jake McCabe","BUF",6,null,0,null,1,null,1,null,-2,null,4,null,5,null,7,null,0,null,0,null,"N/A",null,0,null,0,null,0,null,0,null,0,null,0,null,"N/A",{"$nulls":3},{"$f":"VLOOKUP(B437,[1]PlayersList!$B$4:$J$1000,9,FALSE)","v":{"$error":"#N/A"}},null,"Jake McCabe"]
[435," Brendan Gaunce","VAN",7,null,0,null,1,null,1,null,0,null,2,null,4,null,1,null,17,null,23,null,0.425,null,0,null,0,null,0,null,0,null,0,null,5,null,0,{"$nulls":3},{"$f":"VLOOKUP(B438,[1]PlayersList!$B$4:$J$1000,9,FALSE)","v":{"$error":"#N/A"}},null,"Brendan Gaunce"]
[436," Roman Polak","TOR",4,null,1,null,0,null,1,null,1,null,2,null,11,null,12,null,0,null,0,null,"N/A",null,0,null,0,null,0,null,0,null,0,null,4,null,0.25,{"$nulls":3},{"$f":"VLOOKUP(B439,[1]PlayersList!$B$4:$J$1000,9,FALSE)","v":{"$error":"#N/A"}},null,"Roman Polak"]
[437," Brian Flynn","MON",6,null,0,null,1,null,1,null,0,null,2,null,5,null,3,null,5,null,8,null,0.385,null,0,null,0,null,0,null,0,null,0,null,8,null,0,{"$nulls":3},{"$f":"VLOOKUP(B440,[1]PlayersList!$B$4:$J$1000,9,FALSE)","v":{"$error":"#N/A"}},null,"Brian Flynn"]
[438," Xavier Ouellet","DET",4,null,0,null,1,null,1,null,2,null,0,null,2,null,3,null,0,null,0,null,"N/A",null,0,null,0,null,0,null,0,null,0,null,5,null,0,{"$nulls":3},{"$f":"VLOOKUP(B441,[1]PlayersList!$B$4:$J$1000,9,FALSE)","v":{"$error":"#N/A"}},null,"Xavier Ouellet"]
[439," Mark Fayne","EDM",1,null,0,null,1,null,1,null,1,null,0,null,0,null,0,null,0,null,0,null,"N/A",null,0,null,0,null,0,null,0,null,0,null,1,null,0,{"$nulls":3},{"$f":"VLOOKUP(B442,[1]PlayersList!$B$4:$J$1000,9,FALSE)","v":{"$error":"#N/A"}},null,"Mark Fayne"]
[440," T.J. Brodie","CGY",8,null,0,null,1,null,1,null,-7,null,2,null,1,null,7,null,0,null,0,null,"N/A",null,0,null,1,null,0,null,0,null,0,null,12,null,0,{"$nulls":3},{"$f":"VLOOKUP(B443,[1]PlayersList!$B$4:$J$1000,9,FALSE)","v":{"$error":"#N/A"}},null,"T.J. Brodie"]
[441," Michael Sgarbossa","ANA",3,null,0,null,1,null,1,null,0,null,0,null,0,null,1,null,10,null,13,null,0.435,null,0,null,1,null,0,null,0,null,0,null,2,null,0,{"$nulls":3},{"$f":"VLOOKUP(B444,[1]PlayersList!$B$4:$J$1000,9,FALSE)","v":{"$error":"#N/A"}},null,"Michael Sgarbossa"]
[442," Zach Hyman","TOR",7,null,0,null,1,null,1,null,1,null,4,null,6,null,7,null,5,null,8,null,0.385,null,0,null,0,null,0,null,0,null,0,null,17,null,0,{"$nulls":3},{"$f":"VLOOKUP(B445,[1]PlayersList!$B$4:$J$1000,9,FALSE)","v":{"$error":"#N/A"}},null,"Zach Hyman"]
[443," Matt Calvert","COB",6,null,1,null,0,null,1,null,-4,null,2,null,8,null,4,null,2,null,3,null,0.4,null,0,null,0,null,0,null,0,null,0,null,8,null,0.125,{"$nulls":3},{"$f":"VLOOKUP(B446,[1]PlayersList!$B$4:$J$1000,9,FALSE)","v":{"$error":"#N/A"}},null,"Matt Calvert"]
[444," Jake Muzzin","LOS",7,null,1,null,0,null,1,null,-3,null,6,null,16,null,13,null,0,null,0,null,"N/A",null,1,null,0,null,0,null,0,null,0,null,12,null,0.083,{"$nulls":3},{"$f":"VLOOKUP(B447,[1]PlayersList!$B$4:$J$1000,9,FALSE)","v":{"$error":"#N/A"}},null,"Jake Muzzin"]
[445," Tom Kuhnhackl","PIT",8,null,0,null,1,null,1,null,0,null,2,null,15,null,4,null,0,null,1,null,0,null,0,null,0,null,0,null,0,null,0,null,5,null,0,{"$nulls":3},{"$f":"VLOOKUP(B448,[1]PlayersList!$B$4:$J$1000,9,FALSE)","v":{"$error":"#N/A"}},null,"Tom Kuhnhackl"]
[446," Teemu Pulkkinen","MIN",8,null,1,null,0,null,1,null,-1,null,2,null,2,null,3,null,0,null,0,null,"N/A",null,0,null,0,null,0,null,0,null,0,null,4,null,0.25,{"$nulls":3},{"$f":"VLOOKUP(B449,[1]PlayersList!$B$4:$J$1000,9,FALSE)","v":{"$error":"#N/A"}},null,"Teemu Pulkkinen"]
[447," Ryan White","ARI",6,null,1,null,0,null,1,null,-2,null,10,null,19,null,3,null,1,null,6,null,0.143,null,0,null,0,null,0,null,0,null,1,null,8,null,0.125,{"$nulls":3},{"$f":"VLOOKUP(B450,[1]PlayersList!$B$4:$J$1000,9,FALSE)","v":{"$error":"#N/A"}},null,"Ryan White"]
[448," Paul Martin","SAN",8,null,0,null,1,null,1,null,-3,null,4,null,5,null,15,null,0,null,0,null,"N/A",null,0,null,0,null,0,null,0,null,0,null,5,null,0,{"$nulls":3},{"$f":"VLOOKUP(B451,[1]PlayersList!$B$4:$J$1000,9,FALSE)","v":{"$error":"#N/A"}},null,"Paul Martin"]
[449," Patrick Sharp","DAL",4,null,0,null,1,null,1,null,-2,null,8,null,3,null,3,null,0,null,3,null,0,null,0,null,0,null,0,null,0,null,0,null,10,null,0,{"$nulls":3},{"$f":"VLOOKUP(B452,[1]PlayersList!$B$4:$J$1000,9,FALSE)","v":{"$error":"#N/A"}},null,"Patrick Sharp"]
[450," Magnus Paajarvi","STL",3,null,1,null,0,null,1,null,0,null,0,null,1,null,2,null,1,null,1,null,0.5,null,0,null,0,null,0,null,0,null,1,null,2,null,0.5,{"$nulls":3},{"$f":"VLOOKUP(B453,[1]PlayersList!$B$4:$J$1000,9,FALSE)","v":{"$error":"#N/A"}},null,"Magnus Paajarvi"]
[451," Anton Lander","EDM",6,null,0,null,1,null,1,null,3,null,2,null,5,null,6,null,34,null,21,null,0.618,null,0,null,0,null,0,null,0,null,0,null,2,null,0,{"$nulls":3},{"$f":"VLOOKUP(B454,[1]PlayersList!$B$4:$J$1000,9,FALSE)","v":{"$error":"#N/A"}},null,{"$f":"SUBSTITUTE(B454,\" \",\"\")","v":"Anton Lander"}]
[452," Dylan Strome","ARI",3,null,0,null,1,null,1,null,-3,null,0,null,3,null,1,null,13,null,15,null,0.464,null,0,null,0,null,0,null,0,null,0,null,3,null,0,{"$nulls":3},{"$f":"VLOOKUP(B455,[1]PlayersList!$B$4:$J$1000,9,FALSE)","v":{"$error":"#N/A"}},null,"Dylan Strome"]
[453," Peter Holland","TOR",6,null,0,null,1,null,1,null,-2,null,4,null,2,null,1,null,24,null,26,null,0.48,null,0,null,0,null,0,null,0,null,0,null,11,null,0,{"$nulls":3},{"$f":"VLOOKUP(B456,[1]PlayersList!$B$4:$J$1000,9,FALSE)","v":{"$error":"#N/A"}},null,"Peter Holland"]
[454," John Moore","NJD",6,null,0,null,1,null,1,null,1,null,10,null,3,null,7,null,0,null,0,null,"N/A",null,0,null,0,null,0,null,0,null,0,null,10,null,0,{"$nulls":3},{"$f":"VLOOKUP(B457,[1]PlayersList!$B$4:$J$1000,9,FALSE)","v":{"$error":"#N/A"}},null,"John Moore"]
[455," Jacob Josefson","NJD",3,null,0,null,1,null,1,null,1,null,2,null,3,null,0,null,2,null,1,null,0.667,null,0,null,1,null,0,null,0,null,0,null,3,null,0,{"$nulls":3},{"$f":"VLOOKUP(B458,[1]PlayersList!$B$4:$J$1000,9,FALSE)","v":{"$error":"#N/A"}},null,"Jacob Josefson"]
[456," Brenden Dillon","SAN",8,null,0,null,1,null,1,null,0,null,6,null,15,null,5,null,0,null,0,null,"N/A",null,0,null,0,null,0,null,0,null,0,null,11,null,0,{"$nulls":3},{"$f":"VLOOKUP(B459,[1]PlayersList!$B$4:$J$1000,9,FALSE)","v":{"$error":"#N/A"}},null,"Brenden Dillon"]
[457," Nate Prosser","MIN",4,null,0,null,1,null,1,null,0,null,0,null,3,null,6,null,0,null,0,null,"N/A",null,0,null,0,null,0,null,0,null,0,null,5,null,0,{"$nulls":3},{"$f":"VLOOKUP(B460,[1]PlayersList!$B$4:$J$1000,9,FALSE)","v":{"$error":"#N/A"}},null,"Nate Prosser"]
[458," Stephen Johns","DAL",5,null,1,null,0,null,1,null,-2,null,2,null,11,null,11,null,0,null,0,null,"N/A",null,0,null,0,null,0,null,0,null,0,null,8,null,0.125,{"$nulls":3},{"$f":"VLOOKUP(B461,[1]PlayersList!$B$4:$J$1000,9,FALSE)","v":{"$error":"#N/A"}},null,"Stephen Johns"]
[459," Justin Williams","WAS",6,null,1,null,0,null,1,null,0,null,2,null,2,null,4,null,4,null,2,null,0.667,null,0,null,0,null,0,null,0,null,0,null,7,null,0.143,{"$nulls":3},{"$f":"VLOOKUP(B462,[1]PlayersList!$B$4:$J$1000,9,FALSE)","v":{"$error":"#N/A"}},null,"Justin Williams"]
[460," Riley Sheahan","DET",8,null,0,null,1,null,1,null,-3,null,6,null,1,null,5,null,5,null,5,null,0.5,null,0,null,0,null,0,null,0,null,0,null,14,null,0,{"$nulls":3},{"$f":"VLOOKUP(B463,[1]PlayersList!$B$4:$J$1000,9,FALSE)","v":{"$error":"#N/A"}},null,"Riley Sheahan"]
[461," Mark Pysyk","FLA",7,null,1,null,0,null,1,null,2,null,2,null,2,null,6,null,0,null,0,null,"N/A",null,0,null,0,null,0,null,0,null,0,null,3,null,0.333,{"$nulls":3},{"$f":"VLOOKUP(B464,[1]PlayersList!$B$4:$J$1000,9,FALSE)","v":{"$error":"#N/A"}},null,"Mark Pysyk"]
[462," Tommy Wingels","SAN",8,null,0,null,1,null,1,null,-1,null,0,null,9,null,3,null,19,null,30,null,0.388,null,0,null,0,null,0,null,0,null,0,null,8,null,0,{"$nulls":3},{"$f":"VLOOKUP(B465,[1]PlayersList!$B$4:$J$1000,9,FALSE)","v":{"$error":"#N/A"}},null,"Tommy Wingels"]
[463," Chris Neil","OTT",6,null,1,null,0,null,1,null,-1,null,11,null,10,null,4,null,0,null,0,null,"N/A",null,0,null,0,null,0,null,0,null,0,null,10,null,0.1,{"$nulls":3},{"$f":"VLOOKUP(B466,[1]PlayersList!$B$4:$J$1000,9,FALSE)","v":{"$error":"#N/A"}},null,"Chris Neil"]
[464," Jarome Iginla","COL",5,null,1,null,0,null,1,null,-1,null,25,null,13,null,1,null,0,null,1,null,0,null,1,null,0,null,0,null,0,null,0,null,7,null,0.143,{"$nulls":3},{"$f":"VLOOKUP(B467,[1]PlayersList!$B$4:$J$1000,9,FALSE)","v":{"$error":"#N/A"}},null,"Jarome Iginla"]
[465," Alex Burmistrov","WPG",6,null,0,null,1,null,1,null,-1,null,0,null,7,null,0,null,14,null,32,null,0.304,null,0,null,0,null,0,null,0,null,0,null,2,null,0,{"$nulls":3},{"$f":"VLOOKUP(B468,[1]PlayersList!$B$4:$J$1000,9,FALSE)","v":{"$error":"#N/A"}},null,"Alex Burmistrov"]
[466," Jaden Schwartz","STL",4,null,0,null,1,null,1,null,-1,null,0,null,3,null,3,null,18,null,10,null,0.643,null,0,null,0,null,0,null,0,null,0,null,9,null,0,{"$nulls":3},{"$f":"VLOOKUP(B469,[1]PlayersList!$B$4:$J$1000,9,FALSE)","v":{"$error":"#N/A"}},null,"Jaden Schwartz"]
[467," Yohann Auvitu","NJD",6,null,0,null,1,null,1,null,3,null,0,null,4,null,1,null,0,null,0,null,"N/A",null,0,null,0,null,0,null,0,null,0,null,16,null,0,{"$nulls":3},{"$f":"VLOOKUP(B470,[1]PlayersList!$B$4:$J$1000,9,FALSE)","v":{"$error":"#N/A"}},null,"Yohann Auvitu"]
[468," Christopher Tanev","VAN",6,null,0,null,1,null,1,null,0,null,4,null,2,null,14,null,0,null,0,null,"N/A",null,0,null,0,null,0,null,0,null,0,null,4,null,0,{"$nulls":3},{"$f":"VLOOKUP(B471,[1]PlayersList!$B$4:$J$1000,9,FALSE)","v":{"$error":"#N/A"}},null,"Christopher Tanev"]
[469," Steve Ott","DET",5,null,0,null,1,null,1,null,2,null,10,null,13,null,1,null,13,null,7,null,0.65,null,0,null,0,null,0,null,0,null,0,null,7,null,0,{"$nulls":3},{"$f":"VLOOKUP(B472,[1]PlayersList!$B$4:$J$1000,9,FALSE)","v":{"$error":"#N/A"}},null,"Steve Ott"]
[470," Calle Jarnkrok","NAS",7,null,1,null,0,null,1,null,0,null,2,null,3,null,2,null,23,null,28,null,0.451,null,0,null,0,null,0,null,0,null,0,null,8,null,0.125,{"$nulls":3},{"$f":"VLOOKUP(B473,[1]PlayersList!$B$4:$J$1000,9,FALSE)","v":{"$error":"#N/A"}},null,"Calle Jarnkrok"]
[471," Chris VandeVelde","PHI",8,null,0,null,1,null,1,null,-3,null,0,null,16,null,5,null,2,null,1,null,0.667,null,0,null,0,null,0,null,0,null,0,null,7,null,0,{"$nulls":3},{"$f":"VLOOKUP(B474,[1]PlayersList!$B$4:$J$1000,9,FALSE)","v":{"$error":"#N/A"}},null,"Chris VandeVelde"]
[472," Martin Marincin","TOR",4,null,0,null,1,null,1,null,-3,null,0,null,2,null,6,null,0,null,0,null,"N/A",null,0,null,0,null,0,null,0,null,0,null,8,null,0,{"$nulls":3},{"$f":"VLOOKUP(B475,[1]PlayersList!$B$4:$J$1000,9,FALSE)","v":{"$error":"#N/A"}},null,"Martin Marincin"]
[473," Devante Smith-Pelly","NJD",6,null,0,null,1,null,1,null,-2,null,2,null,8,null,2,null,4,null,5,null,0.444,null,0,null,0,null,0,null,0,null,0,null,11,null,0,{"$nulls":3},{"$f":"VLOOKUP(B476,[1]PlayersList!$B$4:$J$1000,9,FALSE)","v":{"$error":"#N/A"}},null,"Devante Smith-Pelly"]
[474," Korbinian Holzer","ANA",3,null,0,null,1,null,1,null,1,null,2,null,2,null,4,null,0,null,0,null,"N/A",null,0,null,0,null,0,null,0,null,0,null,2,null,0,{"$nulls":3},{"$f":"VLOOKUP(B477,[1]PlayersList!$B$4:$J$1000,9,FALSE)","v":{"$error":"#N/A"}},null,"Korbinian Holzer"]
[475," Denis Malgin","FLA",7,null,0,null,1,null,1,null,-1,null,2,null,6,null,4,null,10,null,23,null,0.303,null,0,null,0,null,0,null,0,null,0,null,9,null,0,{"$nulls":3},{"$f":"VLOOKUP(B478,[1]PlayersList!$B$4:$J$1000,9,FALSE)","v":{"$error":"#N/A"}},null,"Denis Malgin"]
[476," Mattias Ekholm","NAS",7,null,0,null,1,null,1,null,0,null,0,null,7,null,10,null,0,null,0,null,"N/A",null,0,null,0,null,0,null,0,null,0,null,11,null,0,{"$nulls":3},{"$f":"VLOOKUP(B479,[1]PlayersList!$B$4:$J$1000,9,FALSE)","v":{"$error":"#N/A"}},null,"Mattias Ekholm"]
[477," Lance Bouma","CGY",8,null,0,null,1,null,1,null,1,null,2,null,14,null,6,null,0,null,1,null,0,null,0,null,0,null,0,null,0,null,0,null,3,null,0,{"$nulls":3},{"$f":"VLOOKUP(B480,[1]PlayersList!$B$4:$J$1000,9,FALSE)","v":{"$error":"#N/A"}},null,"Lance Bouma"]
[478," John Carlson","WAS",6,null,0,null,1,null,1,null,0,null,0,null,2,null,9,null,0,null,0,null,"N/A",null,0,null,0,null,0,null,0,null,0,null,21,null,0,{"$nulls":3},{"$f":"VLOOKUP(B481,[1]PlayersList!$B$4:$J$1000,9,FALSE)","v":{"$error":"#N/A"}},null,"John Carlson"]
[479," Luca Sbisa","VAN",7,null,0,null,1,null,1,null,0,null,2,null,11,null,14,null,0,null,0,null,"N/A",null,0,null,0,null,0,null,0,null,0,null,2,null,0,{"$nulls":3},{"$f":"VLOOKUP(B482,[1]PlayersList!$B$4:$J$1000,9,FALSE)","v":{"$error":"#N/A"}},null,"Luca Sbisa"]
[480," Mikkel Boedker","SAN",8,null,1,null,0,null,1,null,-3,null,2,null,5,null,3,null,2,null,4,null,0.333,null,0,null,0,null,0,null,0,null,0,null,6,null,0.167,{"$nulls":3},{"$f":"VLOOKUP(B483,[1]PlayersList!$B$4:$J$1000,9,FALSE)","v":{"$error":"#N/A"}},null,"Mikkel Boedker"]
[481," Ben Lovejoy","NJD",6,null,0,null,1,null,1,null,-1,null,0,null,12,null,14,null,0,null,0,null,"N/A",null,0,null,0,null,0,null,0,null,0,null,8,null,0,{"$nulls":3},{"$f":"VLOOKUP(B484,[1]PlayersList!$B$4:$J$1000,9,FALSE)","v":{"$error":"#N/A"}},null,"Ben Lovejoy"]
[482," Yannick Weber","NAS",6,null,0,null,1,null,1,null,0,null,9,null,12,null,4,null,0,null,0,null,"N/A",null,0,null,0,null,0,null,0,null,0,null,5,null,0,{"$nulls":3},{"$f":"VLOOKUP(B485,[1]PlayersList!$B$4:$J$1000,9,FALSE)","v":{"$error":"#N/A"}},null,"Yannick Weber"]
[483," Dale Weise","PHI",5,null,0,null,1,null,1,null,1,null,2,null,6,null,0,null,0,null,0,null,"N/A",null,0,null,0,null,0,null,0,null,0,null,1,null,0,{"$nulls":3},{"$f":"VLOOKUP(B486,[1]PlayersList!$B$4:$J$1000,9,FALSE)","v":{"$error":"#N/A"}},null,"Dale Weise"]
[484," Sven Baertschi","VAN",7,null,0,null,1,null,1,null,-2,null,0,null,6,null,2,null,1,null,0,null,1,null,0,null,0,null,0,null,0,null,0,null,10,null,0,{"$nulls":3},{"$f":"VLOOKUP(B487,[1]PlayersList!$B$4:$J$1000,9,FALSE)","v":{"$error":"#N/A"}},null,"Sven Baertschi"]
[485," Adam Clendening","NYR",5,null,0,null,1,null,1,null,3,null,2,null,1,null,2,null,0,null,0,null,"N/A",null,0,null,0,null,0,null,0,null,0,null,4,null,0,{"$nulls":3},{"$f":"VLOOKUP(B488,[1]PlayersList!$B$4:$J$1000,9,FALSE)","v":{"$error":"#N/A"}},null,"Adam Clendening"]
[486," Boone Jenner","COB",6,null,0,null,1,null,1,null,-6,null,2,null,17,null,7,null,7,null,4,null,0.636,null,0,null,0,null,0,null,0,null,0,null,12,null,0,{"$nulls":3},{"$f":"VLOOKUP(B489,[1]PlayersList!$B$4:$J$1000,9,FALSE)","v":{"$error":"#N/A"}},null,"Boone Jenner"]
[487," Rene Bourque","COL",3,null,0,null,1,null,1,null,0,null,4,null,10,null,1,null,0,null,2,null,0,null,0,null,0,null,0,null,0,null,0,null,5,null,0,{"$nulls":3},{"$f":"VLOOKUP(B490,[1]PlayersList!$B$4:$J$1000,9,FALSE)","v":{"$error":"#N/A"}},null,"Rene Bourque"]
[488," Jay Beagle","WAS",6,null,0,null,1,null,1,null,2,null,2,null,1,null,4,null,36,null,25,null,0.59,null,0,null,0,null,0,null,0,null,0,null,9,null,0,{"$nulls":3},{"$f":"VLOOKUP(B491,[1]PlayersList!$B$4:$J$1000,9,FALSE)","v":{"$error":"#N/A"}},null,"Jay Beagle"]
[489," Joel Edmundson","STL",8,null,0,null,1,null,1,null,0,null,2,null,17,null,8,null,0,null,0,null,"N/A",null,0,null,0,null,0,null,0,null,0,null,5,null,0,{"$nulls":3},{"$f":"VLOOKUP(B492,[1]PlayersList!$B$4:$J$1000,9,FALSE)","v":{"$error":"#N/A"}},null,"Joel Edmundson"]
[490," Justin Abdelkader","DET",6,null,1,null,0,null,1,null,-2,null,7,null,15,null,3,null,0,null,0,null,"N/A",null,1,null,0,null,0,null,0,null,0,null,5,null,0.2,{"$nulls":3},{"$f":"VLOOKUP(B493,[1]PlayersList!$B$4:$J$1000,9,FALSE)","v":{"$error":"#N/A"}},null,"Justin Abdelkader"]
[491," Dmitrij Jaskin","STL",6,null,0,null,1,null,1,null,1,null,2,null,8,null,2,null,3,null,4,null,0.429,null,0,null,0,null,0,null,0,null,0,null,5,null,0,{"$nulls":3},{"$f":"VLOOKUP(B494,[1]PlayersList!$B$4:$J$1000,9,FALSE)","v":{"$error":"#N/A"}},null,"Dmitrij Jaskin"]
[492," Boyd Gordon","PHI",7,null,1,null,0,null,1,null,0,null,2,null,3,null,3,null,29,null,26,null,0.527,null,0,null,0,null,0,null,0,null,0,null,6,null,0.167,{"$nulls":3},{"$f":"VLOOKUP(B495,[1]PlayersList!$B$4:$J$1000,9,FALSE)","v":{"$error":"#N/A"}},null,"Boyd Gordon"]
[493," Dwight King","LOS",7,null,0,null,1,null,1,null,0,null,2,null,16,null,2,null,2,null,2,null,0.5,null,0,null,0,null,0,null,0,null,0,null,9,null,0,{"$nulls":3},{"$f":"VLOOKUP(B496,[1]PlayersList!$B$4:$J$1000,9,FALSE)","v":{"$error":"#N/A"}},null,"Dwight King"]
[494," Gustav Forsling","CHI",7,null,0,null,1,null,1,null,0,null,0,null,5,null,3,null,0,null,0,null,"N/A",null,0,null,0,null,0,null,0,null,0,null,9,null,0,{"$nulls":3},{"$f":"VLOOKUP(B497,[1]PlayersList!$B$4:$J$1000,9,FALSE)","v":{"$error":"#N/A"}},null,"Gustav Forsling"]
[495," Marco Scandella","MIN",7,null,0,null,1,null,1,null,-6,null,0,null,4,null,6,null,0,null,0,null,"N/A",null,0,null,0,null,0,null,0,null,0,null,8,null,0,{"$nulls":3},{"$f":"VLOOKUP(B498,[1]PlayersList!$B$4:$J$1000,9,FALSE)","v":{"$error":"#N/A"}},null,"Marco Scandella"]
[496," Adam Larsson","EDM",7,null,0,null,1,null,1,null,3,null,4,null,19,null,11,null,0,null,0,null,"N/A",null,0,null,0,null,0,null,0,null,0,null,6,null,0,{"$nulls":3},{"$f":"VLOOKUP(B499,[1]PlayersList!$B$4:$J$1000,9,FALSE)","v":{"$error":"#N/A"}},null,"Adam Larsson"]
[497," Jason Demers","FLA",7,null,0,null,1,null,1,null,-3,null,4,null,3,null,5,null,0,null,0,null,"N/A",null,0,null,0,null,0,null,0,null,0,null,8,null,0,{"$nulls":3},{"$f":"VLOOKUP(B500,[1]PlayersList!$B$4:$J$1000,9,FALSE)","v":{"$error":"#N/A"}},null,"Jason Demers"]
[498," Austin Czarnik","BOS",3,null,1,null,0,null,1,null,-2,null,4,null,1,null,1,null,2,null,8,null,0.2,null,0,null,0,null,0,null,0,null,0,null,3,null,0.333,{"$nulls":3},{"$f":"VLOOKUP(B501,[1]PlayersList!$B$4:$J$1000,9,FALSE)","v":{"$error":"#N/A"}},null,"Austin Czarnik"]
[499," Andrej Nestrasil","CAR",3,null,0,null,1,null,1,null,-3,null,0,null,4,null,2,null,0,null,2,null,0,null,0,null,0,null,0,null,0,null,0,null,4,null,0,{"$nulls":3},{"$f":"VLOOKUP(B502,[1]PlayersList!$B$4:$J$1000,9,FALSE)","v":{"$error":"#N/A"}},null,"Andrej Nestrasil"]
[500," Andreas Martinsen","COL",5,null,1,null,0,null,1,null,1,null,4,null,12,null,3,null,1,null,0,null,1,null,0,null,0,null,0,null,0,null,0,null,5,null,0.2,{"$nulls":3},{"$f":"VLOOKUP(B503,[1]PlayersList!$B$4:$J$1000,9,FALSE)","v":{"$error":"#N/A"}},null,"Andreas Martinsen"]
[501," Jay Bouwmeester","STL",8,null,0,null,1,null,1,null,1,null,4,null,7,null,13,null,0,null,0,null,"N/A",null,0,null,0,null,0,null,0,null,0,null,8,null,0,{"$nulls":3},{"$f":"VLOOKUP(B504,[1]PlayersList!$B$4:$J$1000,9,FALSE)","v":{"$error":"#N/A"}},null,"Jay Bouwmeester"]
[502," Micheal Haley","SAN",3,null,0,null,1,null,1,null,1,null,17,null,8,null,0,null,0,null,0,null,"N/A",null,0,null,0,null,0,null,0,null,0,null,2,null,0,{"$nulls":3},{"$f":"VLOOKUP(B505,[1]PlayersList!$B$4:$J$1000,9,FALSE)","v":{"$error":"#N/A"}},null,"Micheal Haley"]
[503," Viktor Stalberg","CAR",5,null,1,null,0,null,1,null,-1,null,4,null,10,null,1,null,0,null,1,null,0,null,0,null,0,null,0,null,0,null,1,null,8,null,0.125,{"$nulls":3},{"$f":"VLOOKUP(B506,[1]PlayersList!$B$4:$J$1000,9,FALSE)","v":{"$error":"#N/A"}},null,"Viktor Stalberg"]
[504," Lawson Crouse","ARI",5,null,0,null,0,null,0,null,-3,null,2,null,8,null,0,null,0,null,0,null,"N/A",null,0,null,0,null,0,null,0,null,0,null,5,null,0,{"$nulls":3},{"$f":"VLOOKUP(B507,[1]PlayersList!$B$4:$J$1000,9,FALSE)","v":{"$error":"#N/A"}},null,"Lawson Crouse"]
[505," Jiri Hudler","DAL",2,null,0,null,0,null,0,null,-3,null,0,null,0,null,0,null,0,null,0,null,"N/A",null,0,null,0,null,0,null,0,null,0,null,0,null,"N/A",{"$nulls":3},{"$f":"VLOOKUP(B508,[1]PlayersList!$B$4:$J$1000,9,FALSE)","v":{"$error":"#N/A"}},null,"Jiri Hudler"]
[506," Trevor van Riemsdyk","CHI",2,null,0,null,0,null,0,null,0,null,4,null,2,null,3,null,0,null,0,null,"N/A",null,0,null,0,null,0,null,0,null,0,null,0,null,"N/A",{"$nulls":3},{"$f":"VLOOKUP(B509,[1]PlayersList!$B$4:$J$1000,9,FALSE)","v":{"$error":"#N/A"}},null,"Trevor van Riemsdyk"]
[507," Dion Phaneuf","OTT",6,null,0,null,0,null,0,null,-5,null,15,null,17,null,14,null,0,null,0,null,"N/A",null,0,null,0,null,0,null,0,null,0,null,16,null,0,{"$nulls":3},{"$f":"VLOOKUP(B510,[1]PlayersList!$B$4:$J$1000,9,FALSE)","v":{"$error":"#N/A"}},null,"Dion Phaneuf"]
[508," Josh Gorges","BUF",6,null,0,null,0,null,0,null,-3,null,8,null,12,null,12,null,0,null,0,null,"N/A",null,0,null,0,null,0,null,0,null,0,null,3,null,0,{"$nulls":3},{"$f":"VLOOKUP(B511,[1]PlayersList!$B$4:$J$1000,9,FALSE)","v":{"$error":"#N/A"}},null,"Josh Gorges"]
[509," Michal Kempny","CHI",6,null,0,null,0,null,0,null,3,null,4,null,10,null,7,null,0,null,0,null,"N/A",null,0,null,0,null,0,null,0,null,0,null,5,null,0,{"$nulls":3},{"$f":"VLOOKUP(B512,[1]PlayersList!$B$4:$J$1000,9,FALSE)","v":{"$error":"#N/A"}},null,"Michal Kempny"]
[510," Mathew Barzal","NYI",2,null,0,null,0,null,0,null,-2,null,6,null,1,null,0,null,6,null,7,null,0.462,null,0,null,0,null,0,null,0,null,0,null,0,null,"N/A",{"$nulls":3},{"$f":"VLOOKUP(B513,[1]PlayersList!$B$4:$J$1000,9,FALSE)","v":{"$error":"#N/A"}},null,"Mathew Barzal"]
[511," Jordin Tootoo","CHI",7,null,0,null,0,null,0,null,1,null,7,null,8,null,1,null,0,null,0,null,"N/A",null,0,null,0,null,0,null,0,null,0,null,9,null,0,{"$nulls":3},{"$f":"VLOOKUP(B514,[1]PlayersList!$B$4:$J$1000,9,FALSE)","v":{"$error":"#N/A"}},null,"Jordin Tootoo"]
[512," Vernon Fiddler","NJD",6,null,0,null,0,null,0,null,-1,null,7,null,4,null,2,null,42,null,37,null,0.532,null,0,null,0,null,0,null,0,null,0,null,4,null,0,{"$nulls":3},{"$f":"VLOOKUP(B515,[1]PlayersList!$B$4:$J$1000,9,FALSE)","v":{"$error":"#N/A"}},null,"Vernon Fiddler"]
[513," Matt Greene","LOS",2,null,0,null,0,null,0,null,-3,null,2,null,7,null,1,null,0,null,0,null,"N/A",null,0,null,0,null,0,null,0,null,0,null,1,null,0,{"$nulls":3},{"$f":"VLOOKUP(B516,[1]PlayersList!$B$4:$J$1000,9,FALSE)","v":{"$error":"#N/A"}},null,"Matt Greene"]
[514," Sergey Kalinin","NJD",2,null,0,null,0,null,0,null,0,null,2,null,2,null,0,null,1,null,2,null,0.333,null,0,null,0,null,0,null,0,null,0,null,0,null,"N/A",{"$nulls":3},{"$f":"VLOOKUP(B517,[1]PlayersList!$B$4:$J$1000,9,FALSE)","v":{"$error":"#N/A"}},null,"Sergey Kalinin"]
[515," Miles Wood","NJD",2,null,0,null,0,null,0,null,0,null,4,null,2,null,2,null,0,null,0,null,"N/A",null,0,null,0,null,0,null,0,null,0,null,1,null,0,{"$nulls":3},{"$f":"VLOOKUP(B518,[1]PlayersList!$B$4:$J$1000,9,FALSE)","v":{"$error":"#N/A"}},null,{"$f":"SUBSTITUTE(B518,\" \",\"\")","v":"Miles Wood"}]
[516," Roman Lyubimov","PHI",5,null,0,null,0,null,0,null,-1,null,0,null,5,null,2,null,0,null,0,null,"N/A",null,0,null,0,null,0,null,0,null,0,null,5,null,0,{"$nulls":3},{"$f":"VLOOKUP(B519,[1]PlayersList!$B$4:$J$1000,9,FALSE)","v":{"$error":"#N/A"}},null,"Roman Lyubimov"]
[517," Mikhail Sergachev","MON",3,null,0,null,0,null,0,null,1,null,0,null,7,null,2,null,0,null,0,null,"N/A",null,0,null,0,null,0,null,0,null,0,null,2,null,0,{"$nulls":3},{"$f":"VLOOKUP(B520,[1]PlayersList!$B$4:$J$1000,9,FALSE)","v":{"$error":"#N/A"}},null,"Mikhail Sergachev"]
[518," Michal Rozsival","CHI",1,null,0,null,0,null,0,null,0,null,0,null,3,null,2,null,0,null,0,null,"N/A",null,0,null,0,null,0,null,0,null,0,null,1,null,0,{"$nulls":3},{"$f":"VLOOKUP(B521,[1]PlayersList!$B$4:$J$1000,9,FALSE)","v":{"$error":"#N/A"}},null,"Michal Rozsival"]
[519," Jared McCann","FLA",7,null,0,null,0,null,0,null,-1,null,0,null,7,null,1,null,7,null,9,null,0.438,null,0,null,0,null,0,null,0,null,0,null,8,null,0,{"$nulls":3},{"$f":"VLOOKUP(B522,[1]PlayersList!$B$4:$J$1000,9,FALSE)","v":{"$error":"#N/A"}},null,"Jared McCann"]
[520," Ryan Pulock","NYI",1,null,0,null,0,null,0,null,1,null,0,null,1,null,1,null,0,null,0,null,"N/A",null,0,null,0,null,0,null,0,null,0,null,0,null,"N/A",{"$nulls":3},{"$f":"VLOOKUP(B523,[1]PlayersList!$B$4:$J$1000,9,FALSE)","v":{"$error":"#N/A"}},null,"Ryan Pulock"]
[521," Kyle Brodziak","STL",7,null,0,null,0,null,0,null,-2,null,6,null,7,null,2,null,11,null,24,null,0.314,null,0,null,0,null,0,null,0,null,0,null,5,null,0,{"$nulls":3},{"$f":"VLOOKUP(B524,[1]PlayersList!$B$4:$J$1000,9,FALSE)","v":{"$error":"#N/A"}},null,"Kyle Brodziak"]
[522," Ron Hainsey","CAR",6,null,0,null,0,null,0,null,-3,null,4,null,6,null,1,null,0,null,0,null,"N/A",null,0,null,0,null,0,null,0,null,0,null,4,null,0,{"$nulls":3},{"$f":"VLOOKUP(B525,[1]PlayersList!$B$4:$J$1000,9,FALSE)","v":{"$error":"#N/A"}},null,"Ron Hainsey"]
[523," Troy Stecher","VAN",1,null,0,null,0,null,0,null,-1,null,0,null,0,null,1,null,0,null,0,null,"N/A",null,0,null,0,null,0,null,0,null,0,null,0,null,"N/A",{"$nulls":3},{"$f":"VLOOKUP(B526,[1]PlayersList!$B$4:$J$1000,9,FALSE)","v":{"$error":"#N/A"}},null,"Troy Stecher"]
[524," Danton Heinen","BOS",5,null,0,null,0,null,0,null,-1,null,2,null,4,null,2,null,0,null,0,null,"N/A",null,0,null,0,null,0,null,0,null,0,null,3,null,0,{"$nulls":3},{"$f":"VLOOKUP(B527,[1]PlayersList!$B$4:$J$1000,9,FALSE)","v":{"$error":"#N/A"}},null,"Danton Heinen"]
[525," Zachary Sanford","WAS",4,null,0,null,0,null,0,null,0,null,2,null,3,null,0,null,4,null,0,null,1,null,0,null,0,null,0,null,0,null,0,null,5,null,0,{"$nulls":3},{"$f":"VLOOKUP(B528,[1]PlayersList!$B$4:$J$1000,9,FALSE)","v":{"$error":"#N/A"}},null,"Zachary Sanford"]
[526," Ales Hemsky","DAL",1,null,0,null,0,null,0,null,0,null,0,null,0,null,0,null,0,null,0,null,"N/A",null,0,null,0,null,0,null,0,null,0,null,1,null,0,{"$nulls":3},{"$f":"VLOOKUP(B529,[1]PlayersList!$B$4:$J$1000,9,FALSE)","v":{"$error":"#N/A"}},null,"Ales Hemsky"]
[527," Jakub Nakladal","CAR",2,null,0,null,0,null,0,null,-3,null,0,null,2,null,4,null,0,null,0,null,"N/A",null,0,null,0,null,0,null,0,null,0,null,1,null,0,{"$nulls":3},{"$f":"VLOOKUP(B530,[1]PlayersList!$B$4:$J$1000,9,FALSE)","v":{"$error":"#N/A"}},null,"Jakub Nakladal"]
[528," Jacob Larsson","ANA",4,null,0,null,0,null,0,null,-1,null,2,null,1,null,1,null,0,null,0,null,"N/A",null,0,null,0,null,0,null,0,null,0,null,2,null,0,{"$nulls":3},{"$f":"VLOOKUP(B531,[1]PlayersList!$B$4:$J$1000,9,FALSE)","v":{"$error":"#N/A"}},null,"Jacob Larsson"]
[529," Kevin Klein","NYR",4,null,0,null,0,null,0,null,-1,null,0,null,5,null,9,null,0,null,0,null,"N/A",null,0,null,0,null,0,null,0,null,0,null,7,null,0,{"$nulls":3},{"$f":"VLOOKUP(B532,[1]PlayersList!$B$4:$J$1000,9,FALSE)","v":{"$error":"#N/A"}},null,"Kevin Klein"]
[530," Frederick Gaudreau","NAS",1,null,0,null,0,null,0,null,0,null,0,null,0,null,3,null,1,null,2,null,0.333,null,0,null,0,null,0,null,0,null,0,null,0,null,"N/A",{"$nulls":3},{"$f":"VLOOKUP(B533,[1]PlayersList!$B$4:$J$1000,9,FALSE)","v":{"$error":"#N/A"}},null,"Frederick Gaudreau"]
[531," Thomas Chabot","OTT",1,null,0,null,0,null,0,null,-2,null,0,null,1,null,0,null,0,null,0,null,"N/A",null,0,null,0,null,0,null,0,null,0,null,1,null,0,{"$nulls":3},{"$f":"VLOOKUP(B534,[1]PlayersList!$B$4:$J$1000,9,FALSE)","v":{"$error":"#N/A"}},null,"Thomas Chabot"]
[532," Chris Thorburn","WPG",3,null,0,null,0,null,0,null,-1,null,9,null,3,null,1,null,3,null,2,null,0.6,null,0,null,0,null,0,null,0,null,0,null,0,null,"N/A",{"$nulls":3},{"$f":"VLOOKUP(B535,[1]PlayersList!$B$4:$J$1000,9,FALSE)","v":{"$error":"#N/A"}},null,"Chris Thorburn"]
[533," Mark Stuart","WPG",3,null,0,null,0,null,0,null,1,null,0,null,3,null,9,null,0,null,0,null,"N/A",null,0,null,0,null,0,null,0,null,0,null,3,null,0,{"$nulls":3},{"$f":"VLOOKUP(B536,[1]PlayersList!$B$4:$J$1000,9,FALSE)","v":{"$error":"#N/A"}},null,"Mark Stuart"]
[534," Markus Nutivaara","COB",6,null,0,null,0,null,0,null,-2,null,2,null,4,null,2,null,0,null,0,null,"N/A",null,0,null,0,null,0,null,0,null,0,null,2,null,0,{"$nulls":3},{"$f":"VLOOKUP(B537,[1]PlayersList!$B$4:$J$1000,9,FALSE)","v":{"$error":"#N/A"}},null,"Markus Nutivaara"]
[535," Casey Nelson","BUF",1,null,0,null,0,null,0,null,-1,null,0,null,0,null,0,null,0,null,0,null,"N/A",null,0,null,0,null,0,null,0,null,0,null,0,null,"N/A",{"$nulls":3},{"$f":"VLOOKUP(B538,[1]PlayersList!$B$4:$J$1000,9,FALSE)","v":{"$error":"#N/A"}},null,"Casey Nelson"]
[536," Brandon Tanev","WPG",7,null,0,null,0,null,0,null,-2,null,2,null,12,null,2,null,0,null,0,null,"N/A",null,0,null,0,null,0,null,0,null,0,null,8,null,0,{"$nulls":3},{"$f":"VLOOKUP(B539,[1]PlayersList!$B$4:$J$1000,9,FALSE)","v":{"$error":"#N/A"}},null,"Brandon Tanev"]
[537," Jay McClement","CAR",6,null,0,null,0,null,0,null,-5,null,0,null,6,null,2,null,25,null,18,null,0.581,null,0,null,0,null,0,null,0,null,0,null,4,null,0,{"$nulls":3},{"$f":"VLOOKUP(B540,[1]PlayersList!$B$4:$J$1000,9,FALSE)","v":{"$error":"#N/A"}},null,"Jay McClement"]
[538," Oliver Bjorkstrand","COB",3,null,0,null,0,null,0,null,-2,null,4,null,1,null,1,null,1,null,0,null,1,null,0,null,0,null,0,null,0,null,0,null,2,null,0,{"$nulls":3},{"$f":"VLOOKUP(B541,[1]PlayersList!$B$4:$J$1000,9,FALSE)","v":{"$error":"#N/A"}},null,"Oliver Bjorkstrand"]
[539," Jake Virtanen","VAN",5,null,0,null,0,null,0,null,0,null,0,null,10,null,3,null,1,null,0,null,1,null,0,null,0,null,0,null,0,null,0,null,8,null,0,{"$nulls":3},{"$f":"VLOOKUP(B542,[1]PlayersList!$B$4:$J$1000,9,FALSE)","v":{"$error":"#N/A"}},null,"Jake Virtanen"]
[540," Blake Speers","NJD",3,null,0,null,0,null,0,null,0,null,0,null,1,null,1,null,0,null,2,null,0,null,0,null,0,null,0,null,0,null,0,null,3,null,0,{"$nulls":3},{"$f":"VLOOKUP(B543,[1]PlayersList!$B$4:$J$1000,9,FALSE)","v":{"$error":"#N/A"}},null,"Blake Speers"]
[541," Hudson Fasching","BUF",4,null,0,null,0,null,0,null,-2,null,2,null,9,null,0,null,0,null,0,null,"N/A",null,0,null,0,null,0,null,0,null,0,null,3,null,0,{"$nulls":3},{"$f":"VLOOKUP(B544,[1]PlayersList!$B$4:$J$1000,9,FALSE)","v":{"$error":"#N/A"}},null,"Hudson Fasching"]
[542," Mason Raymond","ANA",4,null,0,null,0,null,0,null,-2,null,0,null,3,null,0,null,0,null,1,null,0,null,0,null,0,null,0,null,0,null,0,null,3,null,0,{"$nulls":3},{"$f":"VLOOKUP(B545,[1]PlayersList!$B$4:$J$1000,9,FALSE)","v":{"$error":"#N/A"}},null,"Mason Raymond"]
[543," Jordan Nolan","LOS",3,null,0,null,0,null,0,null,-2,null,2,null,3,null,0,null,0,null,0,null,"N/A",null,0,null,0,null,0,null,0,null,0,null,3,null,0,{"$nulls":3},{"$f":"VLOOKUP(B546,[1]PlayersList!$B$4:$J$1000,9,FALSE)","v":{"$error":"#N/A"}},null,"Jordan Nolan"]
[544," Simon Despres","ANA",1,null,0,null,0,null,0,null,0,null,0,null,1,null,1,null,0,null,0,null,"N/A",null,0,null,0,null,0,null,0,null,0,null,1,null,0,{"$nulls":3},{"$f":"VLOOKUP(B547,[1]PlayersList!$B$4:$J$1000,9,FALSE)","v":{"$error":"#N/A"}},null,"Simon Despres"]
[545," Harry Zolnierczyk","NAS",1,null,0,null,0,null,0,null,0,null,2,null,1,null,1,null,0,null,0,null,"N/A",null,0,null,0,null,0,null,0,null,0,null,0,null,"N/A",{"$nulls":3},{"$f":"VLOOKUP(B548,[1]PlayersList!$B$4:$J$1000,9,FALSE)","v":{"$error":"#N/A"}},null,"Harry Zolnierczyk"]
[546," Derek Grant","BUF",6,null,0,null,0,null,0,null,-3,null,2,null,6,null,2,null,36,null,29,null,0.554,null,0,null,0,null,0,null,0,null,0,null,4,null,0,{"$nulls":3},{"$f":"VLOOKUP(B549,[1]PlayersList!$B$4:$J$1000,9,FALSE)","v":{"$error":"#N/A"}},null,"Derek Grant"]
[547," Matt Martin","TOR",7,null,0,null,0,null,0,null,-2,null,12,null,25,null,2,null,0,null,4,null,0,null,0,null,0,null,0,null,0,null,0,null,7,null,0,{"$nulls":3},{"$f":"VLOOKUP(B550,[1]PlayersList!$B$4:$J$1000,9,FALSE)","v":{"$error":"#N/A"}},null,"Matt Martin"]
[548," Anthony Bitetto","NAS",1,null,0,null,0,null,0,null,-1,null,5,null,1,null,0,null,0,null,0,null,"N/A",null,0,null,0,null,0,null,0,null,0,null,0,null,"N/A",{"$nulls":3},{"$f":"VLOOKUP(B551,[1]PlayersList!$B$4:$J$1000,9,FALSE)","v":{"$error":"#N/A"}},null,"Anthony Bitetto"]
[549," Kyle Clifford","LOS",6,null,0,null,0,null,0,null,1,null,7,null,17,null,1,null,0,null,0,null,"N/A",null,0,null,0,null,0,null,0,null,0,null,11,null,0,{"$nulls":3},{"$f":"VLOOKUP(B552,[1]PlayersList!$B$4:$J$1000,9,FALSE)","v":{"$error":"#N/A"}},null,"Kyle Clifford"]
[550," Dalton Prout","COB",4,null,0,null,0,null,0,null,0,null,2,null,8,null,5,null,0,null,0,null,"N/A",null,0,null,0,null,0,null,0,null,0,null,1,null,0,{"$nulls":3},{"$f":"VLOOKUP(B553,[1]PlayersList!$B$4:$J$1000,9,FALSE)","v":{"$error":"#N/A"}},null,"Dalton Prout"]
[551," Robert Bortuzzo","STL",4,null,0,null,0,null,0,null,1,null,2,null,13,null,6,null,0,null,0,null,"N/A",null,0,null,0,null,0,null,0,null,0,null,4,null,0,{"$nulls":3},{"$f":"VLOOKUP(B554,[1]PlayersList!$B$4:$J$1000,9,FALSE)","v":{"$error":"#N/A"}},null,"Robert Bortuzzo"]
[552," Brandon Davidson","EDM",1,null,0,null,0,null,0,null,-1,null,0,null,1,null,1,null,0,null,0,null,"N/A",null,0,null,0,null,0,null,0,null,0,null,0,null,"N/A",{"$nulls":3},{"$f":"VLOOKUP(B555,[1]PlayersList!$B$4:$J$1000,9,FALSE)","v":{"$error":"#N/A"}},null,"Brandon Davidson"]
[553," Mark Borowiecki","OTT",6,null,0,null,0,null,0,null,2,null,9,null,13,null,10,null,0,null,0,null,"N/A",null,0,null,0,null,0,null,0,null,0,null,1,null,0,{"$nulls":3},{"$f":"VLOOKUP(B556,[1]PlayersList!$B$4:$J$1000,9,FALSE)","v":{"$error":"#N/A"}},null,"Mark Borowiecki"]
[554," Ben Chiarot","WPG",6,null,0,null,0,null,0,null,-3,null,2,null,5,null,3,null,0,null,0,null,"N/A",null,0,null,0,null,0,null,0,null,0,null,2,null,0,{"$nulls":3},{"$f":"VLOOKUP(B557,[1]PlayersList!$B$4:$J$1000,9,FALSE)","v":{"$error":"#N/A"}},null,"Ben Chiarot"]
[555," Jamie McBain","ARI",3,null,0,null,0,null,0,null,-1,null,0,null,0,null,4,null,0,null,0,null,"N/A",null,0,null,0,null,0,null,0,null,0,null,3,null,0,{"$nulls":3},{"$f":"VLOOKUP(B558,[1]PlayersList!$B$4:$J$1000,9,FALSE)","v":{"$error":"#N/A"}},null,"Jamie McBain"]
[556," Jamie Oleksiak","DAL",2,null,0,null,0,null,0,null,1,null,5,null,1,null,0,null,0,null,0,null,"N/A",null,0,null,0,null,0,null,0,null,0,null,0,null,"N/A",{"$nulls":3},{"$f":"VLOOKUP(B559,[1]PlayersList!$B$4:$J$1000,9,FALSE)","v":{"$error":"#N/A"}},null,"Jamie Oleksiak"]
[557," Joe Morrow","BOS",2,null,0,null,0,null,0,null,-1,null,4,null,4,null,1,null,0,null,0,null,"N/A",null,0,null,0,null,0,null,0,null,0,null,1,null,0,{"$nulls":3},{"$f":"VLOOKUP(B560,[1]PlayersList!$B$4:$J$1000,9,FALSE)","v":{"$error":"#N/A"}},null,"Joe Morrow"]
[558," Matt Puempel","OTT",2,null,0,null,0,null,0,null,-1,null,0,null,1,null,0,null,0,null,0,null,"N/A",null,0,null,0,null,0,null,0,null,0,null,1,null,0,{"$nulls":3},{"$f":"VLOOKUP(B561,[1]PlayersList!$B$4:$J$1000,9,FALSE)","v":{"$error":"#N/A"}},null,"Matt Puempel"]
[559," Paul Postma","WPG",5,null,0,null,0,null,0,null,-2,null,0,null,1,null,4,null,0,null,0,null,"N/A",null,0,null,0,null,0,null,0,null,0,null,3,null,0,{"$nulls":3},{"$f":"VLOOKUP(B562,[1]PlayersList!$B$4:$J$1000,9,FALSE)","v":{"$error":"#N/A"}},null,"Paul Postma"]
[560," Carl Gunnarsson","STL",4,null,0,null,0,null,0,null,-2,null,0,null,1,null,4,null,0,null,0,null,"N/A",null,0,null,0,null,0,null,0,null,0,null,4,null,0,{"$nulls":3},{"$f":"VLOOKUP(B563,[1]PlayersList!$B$4:$J$1000,9,FALSE)","v":{"$error":"#N/A"}},null,"Carl Gunnarsson"]
[561," Dmitry Kulikov","BUF",5,null,0,null,0,null,0,null,-2,null,4,null,7,null,0,null,0,null,0,null,"N/A",null,0,null,0,null,0,null,0,null,0,null,2,null,0,{"$nulls":3},{"$f":"VLOOKUP(B564,[1]PlayersList!$B$4:$J$1000,9,FALSE)","v":{"$error":"#N/A"}},null,"Dmitry Kulikov"]
[562," Evander Kane","BUF",1,null,0,null,0,null,0,null,0,null,0,null,3,null,0,null,2,null,0,null,1,null,0,null,0,null,0,null,0,null,0,null,3,null,0,{"$nulls":3},{"$f":"VLOOKUP(B565,[1]PlayersList!$B$4:$J$1000,9,FALSE)","v":{"$error":"#N/A"}},null,"Evander Kane"]
[563," Nicolas Deslauriers","BUF",6,null,0,null,0,null,0,null,-3,null,4,null,15,null,1,null,0,null,0,null,"N/A",null,0,null,0,null,0,null,0,null,0,null,6,null,0,{"$nulls":3},{"$f":"VLOOKUP(B566,[1]PlayersList!$B$4:$J$1000,9,FALSE)","v":{"$error":"#N/A"}},null,"Nicolas Deslauriers"]
[564," Freddie Hamilton","CGY",2,null,0,null,0,null,0,null,1,null,0,null,8,null,0,null,7,null,4,null,0.636,null,0,null,0,null,0,null,0,null,0,null,1,null,0,{"$nulls":3},{"$f":"VLOOKUP(B567,[1]PlayersList!$B$4:$J$1000,9,FALSE)","v":{"$error":"#N/A"}},null,"Freddie Hamilton"]
[565," Bryan Rust","PIT",5,null,0,null,0,null,0,null,-4,null,0,null,8,null,2,null,0,null,0,null,"N/A",null,0,null,0,null,0,null,0,null,0,null,7,null,0,{"$nulls":3},{"$f":"VLOOKUP(B568,[1]PlayersList!$B$4:$J$1000,9,FALSE)","v":{"$error":"#N/A"}},null,"Bryan Rust"]
[566," Austin Watson","NAS",3,null,0,null,0,null,0,null,2,null,5,null,6,null,0,null,0,null,1,null,0,null,0,null,0,null,0,null,0,null,0,null,2,null,0,{"$nulls":3},{"$f":"VLOOKUP(B569,[1]PlayersList!$B$4:$J$1000,9,FALSE)","v":{"$error":"#N/A"}},null,"Austin Watson"]
[567," Beau Bennett","NJD",5,null,0,null,0,null,0,null,-2,null,0,null,4,null,0,null,0,null,1,null,0,null,0,null,0,null,0,null,0,null,0,null,7,null,0,{"$nulls":3},{"$f":"VLOOKUP(B570,[1]PlayersList!$B$4:$J$1000,9,FALSE)","v":{"$error":"#N/A"}},null,"Beau Bennett"]
[568," Jori Lehtera","STL",4,null,0,null,0,null,0,null,1,null,0,null,2,null,1,null,21,null,18,null,0.538,null,0,null,0,null,0,null,0,null,0,null,7,null,0,{"$nulls":3},{"$f":"VLOOKUP(B571,[1]PlayersList!$B$4:$J$1000,9,FALSE)","v":{"$error":"#N/A"}},null,"Jori Lehtera"]
[569," Emerson Etem","ANA",3,null,0,null,0,null,0,null,1,null,2,null,4,null,0,null,0,null,1,null,0,null,0,null,0,null,0,null,0,null,0,null,0,null,"N/A",{"$nulls":3},{"$f":"VLOOKUP(B572,[1]PlayersList!$B$4:$J$1000,9,FALSE)","v":{"$error":"#N/A"}},null,"Emerson Etem"]
[570," Derek Forbort","LOS",7,null,0,null,0,null,0,null,-3,null,9,null,11,null,10,null,0,null,0,null,"N/A",null,0,null,0,null,0,null,0,null,0,null,5,null,0,{"$nulls":3},{"$f":"VLOOKUP(B573,[1]PlayersList!$B$4:$J$1000,9,FALSE)","v":{"$error":"#N/A"}},null,"Derek Forbort"]
[571," Dylan McIlrath","NYR",1,null,0,null,0,null,0,null,0,null,4,null,2,null,0,null,0,null,0,null,"N/A",null,0,null,0,null,0,null,0,null,0,null,0,null,"N/A",{"$nulls":3},{"$f":"VLOOKUP(B574,[1]PlayersList!$B$4:$J$1000,9,FALSE)","v":{"$error":"#N/A"}},null,"Dylan McIlrath"]
[572," Brett Connolly","WAS",2,null,0,null,0,null,0,null,1,null,0,null,6,null,1,null,0,null,0,null,"N/A",null,0,null,0,null,0,null,0,null,0,null,6,null,0,{"$nulls":3},{"$f":"VLOOKUP(B575,[1]PlayersList!$B$4:$J$1000,9,FALSE)","v":{"$error":"#N/A"}},null,"Brett Connolly"]
[573," David Warsofsky","PIT",3,null,0,null,0,null,0,null,1,null,2,null,2,null,3,null,0,null,0,null,"N/A",null,0,null,0,null,0,null,0,null,0,null,6,null,0,{"$nulls":3},{"$f":"VLOOKUP(B576,[1]PlayersList!$B$4:$J$1000,9,FALSE)","v":{"$error":"#N/A"}},null,"David Warsofsky"]
[574," Jimmy Hayes","BOS",7,null,0,null,0,null,0,null,-7,null,0,null,16,null,1,null,1,null,1,null,0.5,null,0,null,0,null,0,null,0,null,0,null,13,null,0,{"$nulls":3},{"$f":"VLOOKUP(B577,[1]PlayersList!$B$4:$J$1000,9,FALSE)","v":{"$error":"#N/A"}},null,"Jimmy Hayes"]
[575," Alex Biega","VAN",1,null,0,null,0,null,0,null,0,null,0,null,0,null,1,null,0,null,0,null,"N/A",null,0,null,0,null,0,null,0,null,0,null,0,null,"N/A",{"$nulls":3},{"$f":"VLOOKUP(B578,[1]PlayersList!$B$4:$J$1000,9,FALSE)","v":{"$error":"#N/A"}},null,"Alex Biega"]
[576," Eric Gelinas","COL",1,null,0,null,0,null,0,null,0,null,2,null,0,null,0,null,0,null,0,null,"N/A",null,0,null,0,null,0,null,0,null,0,null,0,null,"N/A",{"$nulls":3},{"$f":"VLOOKUP(B579,[1]PlayersList!$B$4:$J$1000,9,FALSE)","v":{"$error":"#N/A"}},null,"Eric Gelinas"]
[577," Matt Irwin","NAS",1,null,0,null,0,null,0,null,0,null,0,null,3,null,0,null,0,null,0,null,"N/A",null,0,null,0,null,0,null,0,null,0,null,0,null,"N/A",{"$nulls":3},{"$f":"VLOOKUP(B580,[1]PlayersList!$B$4:$J$1000,9,FALSE)","v":{"$error":"#N/A"}},null,"Matt Irwin"]
[578," Oscar Lindberg","NYR",2,null,0,null,0,null,0,null,1,null,2,null,1,null,2,null,12,null,6,null,0.667,null,0,null,0,null,0,null,0,null,0,null,2,null,0,{"$nulls":3},{"$f":"VLOOKUP(B581,[1]PlayersList!$B$4:$J$1000,9,FALSE)","v":{"$error":"#N/A"}},null,"Oscar Lindberg"]
[579," Eric Gryba","EDM",5,null,0,null,0,null,0,null,1,null,8,null,19,null,5,null,0,null,0,null,"N/A",null,0,null,0,null,0,null,0,null,0,null,3,null,0,{"$nulls":3},{"$f":"VLOOKUP(B582,[1]PlayersList!$B$4:$J$1000,9,FALSE)","v":{"$error":"#N/A"}},null,{"$f":"SUBSTITUTE(B582,\" \",\"\")","v":"Eric Gryba"}]
[580," Radko Gudas","PHI",2,null,0,null,0,null,0,null,0,null,0,null,6,null,3,null,0,null,0,null,"N/A",null,0,null,0,null,0,null,0,null,0,null,2,null,0,{"$nulls":3},{"$f":"VLOOKUP(B583,[1]PlayersList!$B$4:$J$1000,9,FALSE)","v":{"$error":"#N/A"}},null,"Radko Gudas"]
[581," Gabriel Bourque","COL",5,null,0,null,0,null,0,null,0,null,0,null,14,null,6,null,0,null,1,null,0,null,0,null,0,null,0,null,0,null,0,null,3,null,0,{"$nulls":3},{"$f":"VLOOKUP(B584,[1]PlayersList!$B$4:$J$1000,9,FALSE)","v":{"$error":"#N/A"}},null,"Gabriel Bourque"]
[582," Patrik Nemeth","DAL",5,null,0,null,0,null,0,null,1,null,2,null,8,null,7,null,0,null,0,null,"N/A",null,0,null,0,null,0,null,0,null,0,null,3,null,0,{"$nulls":3},{"$f":"VLOOKUP(B585,[1]PlayersList!$B$4:$J$1000,9,FALSE)","v":{"$error":"#N/A"}},null,"Patrik Nemeth"]
[583," Kevin Connauton","ARI",1,null,0,null,0,null,0,null,-1,null,0,null,0,null,0,null,0,null,0,null,"N/A",null,0,null,0,null,0,null,0,null,0,null,1,null,0,{"$nulls":3},{"$f":"VLOOKUP(B586,[1]PlayersList!$B$4:$J$1000,9,FALSE)","v":{"$error":"#N/A"}},null,"Kevin Connauton"]
[584," Justin Braun","SAN",8,null,0,null,0,null,0,null,-5,null,2,null,9,null,19,null,0,null,0,null,"N/A",null,0,null,0,null,0,null,0,null,0,null,9,null,0,{"$nulls":3},{"$f":"VLOOKUP(B587,[1]PlayersList!$B$4:$J$1000,9,FALSE)","v":{"$error":"#N/A"}},null,"Justin Braun"]
[585," Ben Smith","TOR",6,null,0,null,0,null,0,null,-3,null,0,null,2,null,3,null,35,null,30,null,0.538,null,0,null,0,null,0,null,0,null,0,null,2,null,0,{"$nulls":3},{"$f":"VLOOKUP(B588,[1]PlayersList!$B$4:$J$1000,9,FALSE)","v":{"$error":"#N/A"}},null,"Ben Smith"]
[586," Ty Rattie","STL",1,null,0,null,0,null,0,null,0,null,0,null,0,null,0,null,0,null,0,null,"N/A",null,0,null,0,null,0,null,0,null,0,null,1,null,0,{"$nulls":3},{"$f":"VLOOKUP(B589,[1]PlayersList!$B$4:$J$1000,9,FALSE)","v":{"$error":"#N/A"}},null,"Ty Rattie"]
[587," Luke Schenn","ARI",7,null,0,null,0,null,0,null,0,null,0,null,22,null,9,null,0,null,0,null,"N/A",null,0,null,0,null,0,null,0,null,0,null,10,null,0,{"$nulls":3},{"$f":"VLOOKUP(B590,[1]PlayersList!$B$4:$J$1000,9,FALSE)","v":{"$error":"#N/A"}},null,"Luke Schenn"]
[588," Martin Frk","CAR",2,null,0,null,0,null,0,null,-3,null,0,null,3,null,1,null,0,null,0,null,"N/A",null,0,null,0,null,0,null,0,null,0,null,1,null,0,{"$nulls":3},{"$f":"VLOOKUP(B591,[1]PlayersList!$B$4:$J$1000,9,FALSE)","v":{"$error":"#N/A"}},null,"Martin Frk"]
[589," Colton Sissons","NAS",6,null,0,null,0,null,0,null,-1,null,0,null,12,null,2,null,28,null,37,null,0.431,null,0,null,0,null,0,null,0,null,0,null,4,null,0,{"$nulls":3},{"$f":"VLOOKUP(B592,[1]PlayersList!$B$4:$J$1000,9,FALSE)","v":{"$error":"#N/A"}},null,"Colton Sissons"]
[590," Andy Greene","NJD",6,null,0,null,0,null,0,null,-2,null,0,null,9,null,15,null,0,null,0,null,"N/A",null,0,null,0,null,0,null,0,null,0,null,8,null,0,{"$nulls":3},{"$f":"VLOOKUP(B593,[1]PlayersList!$B$4:$J$1000,9,FALSE)","v":{"$error":"#N/A"}},null,"Andy Greene"]
[591," Esa Lindell","DAL",4,null,0,null,0,null,0,null,0,null,0,null,3,null,4,null,0,null,0,null,"N/A",null,0,null,0,null,0,null,0,null,0,null,3,null,0,{"$nulls":3},{"$f":"VLOOKUP(B594,[1]PlayersList!$B$4:$J$1000,9,FALSE)","v":{"$error":"#N/A"}},null,"Esa Lindell"]
[592," Phillip Di Giuseppe","CAR",4,null,0,null,0,null,0,null,-3,null,0,null,4,null,1,null,0,null,0,null,"N/A",null,0,null,0,null,0,null,0,null,0,null,8,null,0,{"$nulls":3},{"$f":"VLOOKUP(B595,[1]PlayersList!$B$4:$J$1000,9,FALSE)","v":{"$error":"#N/A"}},null,"Phillip Di Giuseppe"]
[593," Cody Bass","NAS",2,null,0,null,0,null,0,null,0,null,0,null,4,null,0,null,0,null,2,null,0,null,0,null,0,null,0,null,0,null,0,null,0,null,"N/A",{"$nulls":3},{"$f":"VLOOKUP(B596,[1]PlayersList!$B$4:$J$1000,9,FALSE)","v":{"$error":"#N/A"}},null,"Cody Bass"]
[594," Derrick Pouliot","PIT",1,null,0,null,0,null,0,null,0,null,0,null,1,null,1,null,0,null,0,null,"N/A",null,0,null,0,null,0,null,0,null,0,null,1,null,0,{"$nulls":3},{"$f":"VLOOKUP(B597,[1]PlayersList!$B$4:$J$1000,9,FALSE)","v":{"$error":"#N/A"}},null,"Derrick Pouliot"]
[595," Tom Wilson","WAS",6,null,0,null,0,null,0,null,3,null,10,null,11,null,3,null,0,null,1,null,0,null,0,null,0,null,0,null,0,null,0,null,6,null,0,{"$nulls":3},{"$f":"VLOOKUP(B598,[1]PlayersList!$B$4:$J$1000,9,FALSE)","v":{"$error":"#N/A"}},null,"Tom Wilson"]
[596," Trevor Lewis","LOS",7,null,0,null,0,null,0,null,-6,null,0,null,13,null,2,null,1,null,2,null,0.333,null,0,null,0,null,0,null,0,null,0,null,15,null,0,{"$nulls":3},{"$f":"VLOOKUP(B599,[1]PlayersList!$B$4:$J$1000,9,FALSE)","v":{"$error":"#N/A"}},null,"Trevor Lewis"]
[597," Olli Maatta","PIT",8,null,0,null,0,null,0,null,-1,null,4,null,7,null,15,null,0,null,0,null,"N/A",null,0,null,0,null,0,null,0,null,0,null,11,null,0,{"$nulls":3},{"$f":"VLOOKUP(B600,[1]PlayersList!$B$4:$J$1000,9,FALSE)","v":{"$error":"#N/A"}},null,"Olli Maatta"]
[598," Kevin Bieksa","ANA",8,null,0,null,0,null,0,null,2,null,8,null,19,null,6,null,0,null,0,null,"N/A",null,0,null,0,null,0,null,0,null,0,null,21,null,0,{"$nulls":3},{"$f":"VLOOKUP(B601,[1]PlayersList!$B$4:$J$1000,9,FALSE)","v":{"$error":"#N/A"}},null,"Kevin Bieksa"]
[599," Alexandre Burrows","VAN",5,null,0,null,0,null,0,null,-1,null,4,null,4,null,0,null,0,null,1,null,0,null,0,null,0,null,0,null,0,null,0,null,3,null,0,{"$nulls":3},{"$f":"VLOOKUP(B602,[1]PlayersList!$B$4:$J$1000,9,FALSE)","v":{"$error":"#N/A"}},null,"Alexandre Burrows"]
[600," Bryan Bickell","CAR",5,null,0,null,0,null,0,null,-1,null,2,null,6,null,1,null,0,null,1,null,0,null,0,null,0,null,0,null,0,null,0,null,5,null,0,{"$nulls":3},{"$f":"VLOOKUP(B603,[1]PlayersList!$B$4:$J$1000,9,FALSE)","v":{"$error":"#N/A"}},null,"Bryan Bickell"]
[601," Jack Skille","VAN",4,null,0,null,0,null,0,null,-2,null,0,null,6,null,2,null,0,null,0,null,"N/A",null,0,null,0,null,0,null,0,null,0,null,8,null,0,{"$nulls":3},{"$f":"VLOOKUP(B604,[1]PlayersList!$B$4:$J$1000,9,FALSE)","v":{"$error":"#N/A"}},null,"Jack Skille"]
[602," Jack Johnson","COB",6,null,0,null,0,null,0,null,-1,null,2,null,14,null,13,null,0,null,0,null,"N/A",null,0,null,0,null,0,null,0,null,0,null,5,null,0,{"$nulls":3},{"$f":"VLOOKUP(B605,[1]PlayersList!$B$4:$J$1000,9,FALSE)","v":{"$error":"#N/A"}},null,"Jack Johnson"]
[603," Nicklas Grossmann","CGY",2,null,0,null,0,null,0,null,-1,null,0,null,6,null,1,null,0,null,0,null,"N/A",null,0,null,0,null,0,null,0,null,0,null,2,null,0,{"$nulls":3},{"$f":"VLOOKUP(B606,[1]PlayersList!$B$4:$J$1000,9,FALSE)","v":{"$error":"#N/A"}},null,"Nicklas Grossmann"]
[604," Adam McQuaid","BOS",2,null,0,null,0,null,0,null,-3,null,2,null,3,null,2,null,0,null,0,null,"N/A",null,0,null,0,null,0,null,0,null,0,null,2,null,0,{"$nulls":3},{"$f":"VLOOKUP(B607,[1]PlayersList!$B$4:$J$1000,9,FALSE)","v":{"$error":"#N/A"}},null,"Adam McQuaid"]
[605," Jayson Megna","VAN",1,null,0,null,0,null,0,null,-1,null,0,null,2,null,0,null,0,null,0,null,"N/A",null,0,null,0,null,0,null,0,null,0,null,0,null,"N/A",{"$nulls":3},{"$f":"VLOOKUP(B608,[1]PlayersList!$B$4:$J$1000,9,FALSE)","v":{"$error":"#N/A"}},null,"Jayson Megna"]
[606," Gemel Smith","DAL",3,null,0,null,0,null,0,null,-1,null,2,null,1,null,2,null,6,null,5,null,0.545,null,0,null,0,null,0,null,0,null,0,null,2,null,0,{"$nulls":3},{"$f":"VLOOKUP(B609,[1]PlayersList!$B$4:$J$1000,9,FALSE)","v":{"$error":"#N/A"}},null,"Gemel Smith"]
[607," Seth Griffith","TOR",1,null,0,null,0,null,0,null,0,null,0,null,2,null,0,null,0,null,0,null,"N/A",null,0,null,0,null,0,null,0,null,0,null,0,null,"N/A",{"$nulls":3},{"$f":"VLOOKUP(B610,[1]PlayersList!$B$4:$J$1000,9,FALSE)","v":{"$error":"#N/A"}},null,"Seth Griffith"]
[608," Vinnie Hinostroza","CHI",4,null,0,null,0,null,0,null,0,null,0,null,2,null,2,null,1,null,1,null,0.5,null,0,null,0,null,0,null,0,null,0,null,1,null,0,{"$nulls":3},{"$f":"VLOOKUP(B611,[1]PlayersList!$B$4:$J$1000,9,FALSE)","v":{"$error":"#N/A"}},null,"Vinnie Hinostroza"]
[609," Cody McLeod","COL",3,null,0,null,0,null,0,null,0,null,5,null,3,null,0,null,0,null,0,null,"N/A",null,0,null,0,null,0,null,0,null,0,null,1,null,0,{"$nulls":3},{"$f":"VLOOKUP(B612,[1]PlayersList!$B$4:$J$1000,9,FALSE)","v":{"$error":"#N/A"}},null,"Cody McLeod"]
[610," Ryan Murray","COB",2,null,0,null,0,null,0,null,-2,null,2,null,2,null,4,null,0,null,0,null,"N/A",null,0,null,0,null,0,null,0,null,0,null,2,null,0,{"$nulls":3},{"$f":"VLOOKUP(B613,[1]PlayersList!$B$4:$J$1000,9,FALSE)","v":{"$error":"#N/A"}},null,"Ryan Murray"]
[611," Andy Andreoff","LOS",7,null,0,null,0,null,0,null,-1,null,8,null,16,null,3,null,7,null,6,null,0.538,null,0,null,0,null,0,null,0,null,0,null,4,null,0,{"$nulls":3},{"$f":"VLOOKUP(B614,[1]PlayersList!$B$4:$J$1000,9,FALSE)","v":{"$error":"#N/A"}},null,"Andy Andreoff"]
[612," Kyle Rau","FLA",3,null,0,null,0,null,0,null,-2,null,0,null,3,null,1,null,1,null,1,null,0.5,null,0,null,0,null,0,null,0,null,0,null,1,null,0,{"$nulls":3},{"$f":"VLOOKUP(B615,[1]PlayersList!$B$4:$J$1000,9,FALSE)","v":{"$error":"#N/A"}},null,"Kyle Rau"]
[613," Brendan Smith","DET",8,null,0,null,0,null,0,null,-1,null,11,null,8,null,9,null,0,null,0,null,"N/A",null,0,null,0,null,0,null,0,null,0,null,10,null,0,{"$nulls":3},{"$f":"VLOOKUP(B616,[1]PlayersList!$B$4:$J$1000,9,FALSE)","v":{"$error":"#N/A"}},null,"Brendan Smith"]
[614," Mike Reilly","MIN",2,null,0,null,0,null,0,null,-1,null,0,null,0,null,0,null,0,null,0,null,"N/A",null,0,null,0,null,0,null,0,null,0,null,2,null,0,{"$nulls":3},{"$f":"VLOOKUP(B617,[1]PlayersList!$B$4:$J$1000,9,FALSE)","v":{"$error":"#N/A"}},null,"Mike Reilly"]
[615," Joseph Cramarossa","ANA",3,null,0,null,0,null,0,null,0,null,0,null,11,null,2,null,1,null,0,null,1,null,0,null,0,null,0,null,0,null,0,null,2,null,0,{"$nulls":3},{"$f":"VLOOKUP(B618,[1]PlayersList!$B$4:$J$1000,9,FALSE)","v":{"$error":"#N/A"}},null,"Joseph Cramarossa"]
[616," Miikka Salomaki","NAS",2,null,0,null,0,null,0,null,-1,null,0,null,6,null,5,null,0,null,0,null,"N/A",null,0,null,0,null,0,null,0,null,0,null,2,null,0,{"$nulls":3},{"$f":"VLOOKUP(B619,[1]PlayersList!$B$4:$J$1000,9,FALSE)","v":{"$error":"#N/A"}},null,"Miikka Salomaki"]
[617," Zach Bogosian","BUF",6,null,0,null,0,null,0,null,-1,null,4,null,4,null,12,null,0,null,0,null,"N/A",null,0,null,0,null,0,null,0,null,0,null,12,null,0,{"$nulls":3},{"$f":"VLOOKUP(B620,[1]PlayersList!$B$4:$J$1000,9,FALSE)","v":{"$error":"#N/A"}},null,"Zach Bogosian"]
[618," Matt Beleskey","BOS",7,null,0,null,0,null,0,null,-7,null,2,null,19,null,2,null,9,null,14,null,0.391,null,0,null,0,null,0,null,0,null,0,null,8,null,0,{"$nulls":3},{"$f":"VLOOKUP(B621,[1]PlayersList!$B$4:$J$1000,9,FALSE)","v":{"$error":"#N/A"}},null,"Matt Beleskey"]
[619," Matt Nieto","SAN",5,null,0,null,0,null,0,null,-2,null,0,null,3,null,3,null,0,null,2,null,0,null,0,null,0,null,0,null,0,null,0,null,7,null,0,{"$nulls":3},{"$f":"VLOOKUP(B622,[1]PlayersList!$B$4:$J$1000,9,FALSE)","v":{"$error":"#N/A"}},null,"Matt Nieto"]
[620," Riley Nash","BOS",7,null,0,null,0,null,0,null,-2,null,4,null,2,null,4,null,39,null,35,null,0.527,null,0,null,0,null,0,null,0,null,0,null,8,null,0,{"$nulls":3},{"$f":"VLOOKUP(B623,[1]PlayersList!$B$4:$J$1000,9,FALSE)","v":{"$error":"#N/A"}},null,"Riley Nash"]
[621," Nikita Nesterov","TAM",7,null,0,null,0,null,0,null,1,null,10,null,12,null,5,null,0,null,0,null,"N/A",null,0,null,0,null,0,null,0,null,0,null,11,null,0,{"$nulls":3},{"$f":"VLOOKUP(B624,[1]PlayersList!$B$4:$J$1000,9,FALSE)","v":{"$error":"#N/A"}},null,"Nikita Nesterov"]
[622," Trevor Smith","NAS",1,null,0,null,0,null,0,null,0,null,0,null,0,null,2,null,0,null,8,null,0,null,0,null,0,null,0,null,0,null,0,null,0,null,"N/A",{"$nulls":3},{"$f":"VLOOKUP(B625,[1]PlayersList!$B$4:$J$1000,9,FALSE)","v":{"$error":"#N/A"}},null,"Trevor Smith"]
[623," Tom Sestito","PIT",5,null,0,null,0,null,0,null,0,null,7,null,11,null,1,null,0,null,0,null,"N/A",null,0,null,0,null,0,null,0,null,0,null,2,null,0,{"$nulls":3},{"$f":"VLOOKUP(B626,[1]PlayersList!$B$4:$J$1000,9,FALSE)","v":{"$error":"#N/A"}},null,"Tom Sestito"]
[624," J.T. Brown","TAM",7,null,0,null,0,null,0,null,-2,null,6,null,8,null,1,null,0,null,0,null,"N/A",null,0,null,0,null,0,null,0,null,0,null,7,null,0,{"$nulls":3},{"$f":"VLOOKUP(B627,[1]PlayersList!$B$4:$J$1000,9,FALSE)","v":{"$error":"#N/A"}},null,"J.T. Brown"]
[625," Brian Dumoulin","PIT",8,null,0,null,0,null,0,null,-3,null,4,null,15,null,11,null,0,null,0,null,"N/A",null,0,null,0,null,0,null,0,null,0,null,12,null,0,{"$nulls":3},{"$f":"VLOOKUP(B628,[1]PlayersList!$B$4:$J$1000,9,FALSE)","v":{"$error":"#N/A"}},null,"Brian Dumoulin"]
[626," Torey Krug","BOS",7,null,0,null,0,null,0,null,-4,null,2,null,9,null,7,null,0,null,0,null,"N/A",null,0,null,0,null,0,null,0,null,0,null,21,null,0,{"$nulls":3},{"$f":"VLOOKUP(B629,[1]PlayersList!$B$4:$J$1000,9,FALSE)","v":{"$error":"#N/A"}},null,"Torey Krug"]
[627," Phil Varone","OTT",3,null,0,null,0,null,0,null,-1,null,2,null,1,null,0,null,7,null,8,null,0.467,null,0,null,0,null,0,null,0,null,0,null,0,null,"N/A",{"$nulls":3},{"$f":"VLOOKUP(B630,[1]PlayersList!$B$4:$J$1000,9,FALSE)","v":{"$error":"#N/A"}},null,"Phil Varone"]
[628," Rob O'Gara","BOS",3,null,0,null,0,null,0,null,1,null,0,null,3,null,7,null,0,null,0,null,"N/A",null,0,null,0,null,0,null,0,null,0,null,2,null,0,{"$nulls":3},{"$f":"VLOOKUP(B631,[1]PlayersList!$B$4:$J$1000,9,FALSE)","v":{"$error":"#N/A"}},null,"Rob O'Gara"]
[629," Ryan Reaves","STL",8,null,0,null,0,null,0,null,-3,null,0,null,16,null,0,null,0,null,0,null,"N/A",null,0,null,0,null,0,null,0,null,0,null,5,null,0,{"$nulls":3},{"$f":"VLOOKUP(B632,[1]PlayersList!$B$4:$J$1000,9,FALSE)","v":{"$error":"#N/A"}},null,"Ryan Reaves"]
[630," Teddy Purcell","LOS",2,null,0,null,0,null,0,null,-2,null,0,null,3,null,0,null,0,null,0,null,"N/A",null,0,null,0,null,0,null,0,null,0,null,0,null,"N/A",{"$nulls":3},{"$f":"VLOOKUP(B633,[1]PlayersList!$B$4:$J$1000,9,FALSE)","v":{"$error":"#N/A"}},null,"Teddy Purcell"]
[631," Kyle Quincey","NJD",6,null,0,null,0,null,0,null,0,null,6,null,13,null,4,null,0,null,0,null,"N/A",null,0,null,0,null,0,null,0,null,0,null,7,null,0,{"$nulls":3},{"$f":"VLOOKUP(B634,[1]PlayersList!$B$4:$J$1000,9,FALSE)","v":{"$error":"#N/A"}},null,"Kyle Quincey"]
[632," Cam Talbot","EDM",7,null,7,null,409,null,6,null,1,null,0,null,0,null,17,null,2.49,null,233,null,216,null,0.927,null,1,{"$nulls":13},{"$f":"VLOOKUP(B635,[1]PlayersList!$B$4:$J$1000,9,FALSE)","v":{"$error":"#N/A"}},null,"Cam Talbot"]
[633," Marc-Andre Fleury","PIT",8,null,8,null,464,null,5,null,2,null,1,null,0,null,23,null,2.97,null,256,null,233,null,0.91,null,0,{"$nulls":13},{"$f":"VLOOKUP(B636,[1]PlayersList!$B$4:$J$1000,9,FALSE)","v":{"$error":"#N/A"}},null,"Marc-Andre Fleury"]
[634," Martin Jones","SAN",7,null,7,null,414,null,4,null,3,null,0,null,2,null,16,null,2.32,null,174,null,158,null,0.908,null,0,{"$nulls":13},{"$f":"VLOOKUP(B637,[1]PlayersList!$B$4:$J$1000,9,FALSE)","v":{"$error":"#N/A"}},null,"Martin Jones"]
[635," Petr Mrazek","DET",6,null,6,null,363,null,4,null,2,null,0,null,2,null,15,null,2.48,null,200,null,185,null,0.925,null,0,{"$nulls":13},{"$f":"VLOOKUP(B638,[1]PlayersList!$B$4:$J$1000,9,FALSE)","v":{"$error":"#N/A"}},null,"Petr Mrazek"]
[636," Devan Dubnyk","MIN",6,null,6,null,359,null,4,null,1,null,1,null,0,null,10,null,1.67,null,178,null,168,null,0.944,null,2,{"$nulls":13},{"$f":"VLOOKUP(B639,[1]PlayersList!$B$4:$J$1000,9,FALSE)","v":{"$error":"#N/A"}},null,"Devan Dubnyk"]
[637," Peter Budaj","LOS",5,null,4,null,272,null,4,null,0,null,0,null,1,null,10,null,2.21,null,101,null,91,null,0.901,null,0,{"$nulls":13},{"$f":"VLOOKUP(B640,[1]PlayersList!$B$4:$J$1000,9,FALSE)","v":{"$error":"#N/A"}},null,"Peter Budaj"]
[638," Carey Price","MON",4,null,4,null,239,null,4,null,0,null,0,null,0,null,6,null,1.51,null,113,null,107,null,0.947,null,0,{"$nulls":13},{"$f":"VLOOKUP(B641,[1]PlayersList!$B$4:$J$1000,9,FALSE)","v":{"$error":"#N/A"}},null,"Carey Price"]
[639," Henrik Lundqvist","NYR",6,null,6,null,357,null,4,null,2,null,0,null,0,null,14,null,2.35,null,150,null,136,null,0.907,null,0,{"$nulls":13},{"$f":"VLOOKUP(B642,[1]PlayersList!$B$4:$J$1000,9,FALSE)","v":{"$error":"#N/A"}},null,"Henrik Lundqvist"]
[640," Craig Anderson","OTT",5,null,5,null,306,null,4,null,1,null,0,null,0,null,15,null,2.95,null,154,null,139,null,0.903,null,1,{"$nulls":13},{"$f":"VLOOKUP(B643,[1]PlayersList!$B$4:$J$1000,9,FALSE)","v":{"$error":"#N/A"}},null,"Craig Anderson"]
[641," Tuukka Rask","BOS",3,null,3,null,179,null,3,null,0,null,0,null,0,null,5,null,1.67,null,95,null,90,null,0.947,null,0,{"$nulls":13},{"$f":"VLOOKUP(B644,[1]PlayersList!$B$4:$J$1000,9,FALSE)","v":{"$error":"#N/A"}},null,"Tuukka Rask"]
[642," Ben Bishop","TAM",5,null,5,null,298,null,3,null,2,null,0,null,1,null,16,null,3.22,null,147,null,131,null,0.891,null,0,{"$nulls":13},{"$f":"VLOOKUP(B645,[1]PlayersList!$B$4:$J$1000,9,FALSE)","v":{"$error":"#N/A"}},null,"Ben Bishop"]
[643," Jacob Markstrom","VAN",4,null,4,null,247,null,3,null,0,null,1,null,0,null,8,null,1.95,null,104,null,96,null,0.923,null,0,{"$nulls":13},{"$f":"VLOOKUP(B646,[1]PlayersList!$B$4:$J$1000,9,FALSE)","v":{"$error":"#N/A"}},null,{"$f":"SUBSTITUTE(B646,\" \",\"\")","v":"Jacob Markstrom"}]
[644," John Gibson","ANA",7,null,6,null,397,null,3,null,2,null,2,null,0,null,15,null,2.27,null,173,null,158,null,0.913,null,0,{"$nulls":13},{"$f":"VLOOKUP(B647,[1]PlayersList!$B$4:$J$1000,9,FALSE)","v":{"$error":"#N/A"}},null,"John Gibson"]
[645," Al Montoya","MON",4,null,4,null,245,null,3,null,0,null,1,null,0,null,6,null,1.47,null,133,null,127,null,0.955,null,1,{"$nulls":13},{"$f":"VLOOKUP(B648,[1]PlayersList!$B$4:$J$1000,9,FALSE)","v":{"$error":"#N/A"}},null,"Al Montoya"]
[646," Jake Allen","STL",6,null,6,null,366,null,3,null,1,null,2,null,1,null,13,null,2.13,null,142,null,129,null,0.908,null,0,{"$nulls":13},{"$f":"VLOOKUP(B649,[1]PlayersList!$B$4:$J$1000,9,FALSE)","v":{"$error":"#N/A"}},null,"Jake Allen"]
[647," Cory Schneider","NJD",6,null,6,null,360,null,3,null,2,null,1,null,0,null,12,null,2,null,188,null,176,null,0.936,null,0,{"$nulls":13},{"$f":"VLOOKUP(B650,[1]PlayersList!$B$4:$J$1000,9,FALSE)","v":{"$error":"#N/A"}},null,"Cory Schneider"]
[648," Roberto Luongo","FLA",5,null,5,null,300,null,3,null,2,null,0,null,0,null,11,null,2.2,null,131,null,120,null,0.916,null,0,{"$nulls":13},{"$f":"VLOOKUP(B651,[1]PlayersList!$B$4:$J$1000,9,FALSE)","v":{"$error":"#N/A"}},null,"Roberto Luongo"]
[649," Connor Hellebuyck","WPG",4,null,4,null,236,null,2,null,2,null,0,null,1,null,11,null,2.79,null,122,null,111,null,0.91,null,0,{"$nulls":13},{"$f":"VLOOKUP(B652,[1]PlayersList!$B$4:$J$1000,9,FALSE)","v":{"$error":"#N/A"}},null,"Connor Hellebuyck"]
[650," Steve Mason","PHI",7,null,5,null,362,null,2,null,4,null,1,null,2,null,19,null,3.15,null,167,null,148,null,0.886,null,0,{"$nulls":13},{"$f":"VLOOKUP(B653,[1]PlayersList!$B$4:$J$1000,9,FALSE)","v":{"$error":"#N/A"}},null,"Steve Mason"]
[651," Sergei Bobrovsky","COB",6,null,6,null,356,null,2,null,3,null,1,null,3,null,14,null,2.36,null,197,null,183,null,0.929,null,1,{"$nulls":13},{"$f":"VLOOKUP(B654,[1]PlayersList!$B$4:$J$1000,9,FALSE)","v":{"$error":"#N/A"}},null,"Sergei Bobrovsky"]
[652," Antti Niemi","DAL",4,null,4,null,202,null,2,null,1,null,0,null,0,null,13,null,3.86,null,121,null,108,null,0.893,null,0,{"$nulls":13},{"$f":"VLOOKUP(B655,[1]PlayersList!$B$4:$J$1000,9,FALSE)","v":{"$error":"#N/A"}},null,"Antti Niemi"]
[653," Braden Holtby","WAS",5,null,5,null,303,null,2,null,2,null,1,null,1,null,12,null,2.38,null,134,null,122,null,0.91,null,0,{"$nulls":13},{"$f":"VLOOKUP(B656,[1]PlayersList!$B$4:$J$1000,9,FALSE)","v":{"$error":"#N/A"}},null,"Braden Holtby"]
[654," Scott Darling","CHI",2,null,2,null,124,null,2,null,0,null,0,null,0,null,7,null,3.38,null,70,null,63,null,0.9,null,0,{"$nulls":13},{"$f":"VLOOKUP(B657,[1]PlayersList!$B$4:$J$1000,9,FALSE)","v":{"$error":"#N/A"}},null,"Scott Darling"]
[655," Jaroslav Halak","NYI",5,null,5,null,296,null,2,null,3,null,0,null,1,null,15,null,3.04,null,151,null,136,null,0.901,null,0,{"$nulls":13},{"$f":"VLOOKUP(B658,[1]PlayersList!$B$4:$J$1000,9,FALSE)","v":{"$error":"#N/A"}},null,"Jaroslav Halak"]
[656," Frederik Andersen","TOR",6,null,6,null,368,null,2,null,1,null,3,null,0,null,24,null,3.92,null,179,null,155,null,0.866,null,0,{"$nulls":13},{"$f":"VLOOKUP(B659,[1]PlayersList!$B$4:$J$1000,9,FALSE)","v":{"$error":"#N/A"}},null,"Frederik Andersen"]
[657," Andrei Vasilevskiy","TAM",2,null,2,null,119,null,2,null,0,null,0,null,0,null,3,null,1.51,null,62,null,59,null,0.952,null,0,{"$nulls":13},{"$f":"VLOOKUP(B660,[1]PlayersList!$B$4:$J$1000,9,FALSE)","v":{"$error":"#N/A"}},null,"Andrei Vasilevskiy"]
[658," Brian Elliott","CGY",5,null,5,null,303,null,2,null,3,null,0,null,2,null,17,null,3.37,null,144,null,127,null,0.882,null,0,{"$nulls":13},{"$f":"VLOOKUP(B661,[1]PlayersList!$B$4:$J$1000,9,FALSE)","v":{"$error":"#N/A"}},null,"Brian Elliott"]
[659," Jimmy Howard","DET",2,null,2,null,120,null,2,null,0,null,0,null,0,null,1,null,0.5,null,63,null,62,null,0.984,null,1,{"$nulls":13},{"$f":"VLOOKUP(B662,[1]PlayersList!$B$4:$J$1000,9,FALSE)","v":{"$error":"#N/A"}},null,"Jimmy Howard"]
[660," Semyon Varlamov","COL",4,null,4,null,240,null,2,null,2,null,0,null,0,null,13,null,3.25,null,133,null,120,null,0.902,null,1,{"$nulls":13},{"$f":"VLOOKUP(B663,[1]PlayersList!$B$4:$J$1000,9,FALSE)","v":{"$error":"#N/A"}},null,"Semyon Varlamov"]
[661," Darcy Kuemper","MIN",2,null,2,null,120,null,1,null,1,null,0,null,1,null,8,null,4,null,62,null,54,null,0.871,null,0,{"$nulls":13},{"$f":"VLOOKUP(B664,[1]PlayersList!$B$4:$J$1000,9,FALSE)","v":{"$error":"#N/A"}},null,"Darcy Kuemper"]
[662," Carter Hutton","STL",2,null,2,null,119,null,1,null,1,null,0,null,1,null,5,null,2.52,null,64,null,59,null,0.922,null,0,{"$nulls":13},{"$f":"VLOOKUP(B665,[1]PlayersList!$B$4:$J$1000,9,FALSE)","v":{"$error":"#N/A"}},null,"Carter Hutton"]
[663," Calvin Pickard","COL",1,null,1,null,60,null,1,null,0,null,0,null,0,null,3,null,2.98,null,31,null,28,null,0.903,null,0,{"$nulls":13},{"$f":"VLOOKUP(B666,[1]PlayersList!$B$4:$J$1000,9,FALSE)","v":{"$error":"#N/A"}},null,"Calvin Pickard"]
[664," Louis Domingue","ARI",5,null,4,null,215,null,1,null,4,null,0,null,1,null,17,null,4.74,null,119,null,102,null,0.857,null,0,{"$nulls":13},{"$f":"VLOOKUP(B667,[1]PlayersList!$B$4:$J$1000,9,FALSE)","v":{"$error":"#N/A"}},null,"Louis Domingue"]
[665," Robin Lehner","BUF",4,null,4,null,239,null,1,null,2,null,1,null,0,null,12,null,3.01,null,111,null,99,null,0.892,null,0,{"$nulls":13},{"$f":"VLOOKUP(B668,[1]PlayersList!$B$4:$J$1000,9,FALSE)","v":{"$error":"#N/A"}},null,"Robin Lehner"]
[666," Philipp Grubauer","WAS",1,null,1,null,60,null,1,null,0,null,0,null,0,null,0,null,0,null,18,null,18,null,1,null,1,{"$nulls":13},{"$f":"VLOOKUP(B669,[1]PlayersList!$B$4:$J$1000,9,FALSE)","v":{"$error":"#N/A"}},null,"Philipp Grubauer"]
[667," Eddie Lack","CAR",3,null,3,null,180,null,1,null,1,null,1,null,0,null,12,null,3.99,null,84,null,72,null,0.857,null,0,{"$nulls":13},{"$f":"VLOOKUP(B670,[1]PlayersList!$B$4:$J$1000,9,FALSE)","v":{"$error":"#N/A"}},null,"Eddie Lack"]
[668," Michael Hutchinson","WPG",3,null,3,null,178,null,1,null,2,null,0,null,0,null,11,null,3.7,null,97,null,86,null,0.887,null,0,{"$nulls":13},{"$f":"VLOOKUP(B671,[1]PlayersList!$B$4:$J$1000,9,FALSE)","v":{"$error":"#N/A"}},null,"Michael Hutchinson"]
[669," Michal Neuvirth","PHI",3,null,3,null,121,null,1,null,0,null,0,null,0,null,9,null,4.47,null,58,null,49,null,0.845,null,0,{"$nulls":13},{"$f":"VLOOKUP(B672,[1]PlayersList!$B$4:$J$1000,9,FALSE)","v":{"$error":"#N/A"}},null,"Michal Neuvirth"]
[670," Mike Smith","ARI",2,null,2,null,110,null,1,null,0,null,0,null,0,null,6,null,3.27,null,60,null,54,null,0.9,null,0,{"$nulls":13},{"$f":"VLOOKUP(B673,[1]PlayersList!$B$4:$J$1000,9,FALSE)","v":{"$error":"#N/A"}},null,"Mike Smith"]
[671," Corey Crawford","CHI",5,null,5,null,298,null,1,null,3,null,1,null,2,null,15,null,3.02,null,145,null,130,null,0.897,null,0,{"$nulls":13},{"$f":"VLOOKUP(B674,[1]PlayersList!$B$4:$J$1000,9,FALSE)","v":{"$error":"#N/A"}},null,"Corey Crawford"]
[672," Aaron Dell","SAN",1,null,1,null,60,null,1,null,0,null,0,null,0,null,2,null,2,null,23,null,21,null,0.913,null,0,{"$nulls":13},{"$f":"VLOOKUP(B675,[1]PlayersList!$B$4:$J$1000,9,FALSE)","v":{"$error":"#N/A"}},null,"Aaron Dell"]
[673," Kari Lehtonen","DAL",4,null,3,null,212,null,1,null,2,null,1,null,1,null,8,null,2.26,null,105,null,97,null,0.924,null,0,{"$nulls":13},{"$f":"VLOOKUP(B676,[1]PlayersList!$B$4:$J$1000,9,FALSE)","v":{"$error":"#N/A"}},null,"Kari Lehtonen"]
[674," Ryan Miller","VAN",3,null,3,null,183,null,1,null,2,null,0,null,2,null,6,null,1.97,null,89,null,83,null,0.933,null,0,{"$nulls":13},{"$f":"VLOOKUP(B677,[1]PlayersList!$B$4:$J$1000,9,FALSE)","v":{"$error":"#N/A"}},null,"Ryan Miller"]
[675," Pekka Rinne","NAS",5,null,5,null,277,null,1,null,3,null,1,null,1,null,15,null,3.25,null,165,null,150,null,0.909,null,0,{"$nulls":13},{"$f":"VLOOKUP(B678,[1]PlayersList!$B$4:$J$1000,9,FALSE)","v":{"$error":"#N/A"}},null,"Pekka Rinne"]
[676," Thomas Greiss","NYI",3,null,3,null,177,null,1,null,2,null,0,null,0,null,8,null,2.71,null,86,null,78,null,0.907,null,0,{"$nulls":13},{"$f":"VLOOKUP(B679,[1]PlayersList!$B$4:$J$1000,9,FALSE)","v":{"$error":"#N/A"}},null,"Thomas Greiss"]
[677," Chad Johnson","CGY",3,null,3,null,187,null,1,null,1,null,1,null,1,null,9,null,2.89,null,91,null,82,null,0.901,null,0,{"$nulls":13},{"$f":"VLOOKUP(B680,[1]PlayersList!$B$4:$J$1000,9,FALSE)","v":{"$error":"#N/A"}},null,"Chad Johnson"]
[678," Antti Raanta","NYR",1,null,1,null,60,null,1,null,0,null,0,null,0,null,4,null,4,null,31,null,27,null,0.871,null,0,{"$nulls":13},{"$f":"VLOOKUP(B681,[1]PlayersList!$B$4:$J$1000,9,FALSE)","v":{"$error":"#N/A"}},null,"Antti Raanta"]
[679," Juuse Saros","NAS",1,null,1,null,59,null,1,null,0,null,0,null,0,null,1,null,1.01,null,35,null,34,null,0.971,null,0,{"$nulls":13},{"$f":"VLOOKUP(B682,[1]PlayersList!$B$4:$J$1000,9,FALSE)","v":{"$error":"#N/A"}},null,"Juuse Saros"]
[680," Marek Mazanec","NAS",2,null,1,null,83,null,0,null,1,null,0,null,0,null,7,null,5.04,null,36,null,29,null,0.806,null,0,{"$nulls":13},{"$f":"VLOOKUP(B683,[1]PlayersList!$B$4:$J$1000,9,FALSE)","v":{"$error":"#N/A"}},null,"Marek Mazanec"]
[681," Andrew Hammond","OTT",1,null,1,null,60,null,0,null,1,null,0,null,0,null,5,null,5,null,25,null,20,null,0.8,null,0,{"$nulls":13},{"$f":"VLOOKUP(B684,[1]PlayersList!$B$4:$J$1000,9,FALSE)","v":{"$error":"#N/A"}},null,"Andrew Hammond"]
[682," Malcolm Subban","BOS",1,null,1,null,31,null,0,null,1,null,0,null,0,null,3,null,5.88,null,16,null,13,null,0.813,null,0,{"$nulls":13},{"$f":"VLOOKUP(B685,[1]PlayersList!$B$4:$J$1000,9,FALSE)","v":{"$error":"#N/A"}},null,"Malcolm Subban"]
[683," Mike Condon","PIT",1,null,0,null,20,null,0,null,0,null,0,null,0,null,0,null,0,null,7,null,7,null,1,null,0,{"$nulls":13},{"$f":"VLOOKUP(B686,[1]PlayersList!$B$4:$J$1000,9,FALSE)","v":{"$error":"#N/A"}},null,"Mike Condon"]
[684," Jhonas Enroth","TOR",1,null,1,null,58,null,0,null,1,null,0,null,0,null,3,null,3.08,null,27,null,24,null,0.889,null,0,{"$nulls":13},{"$f":"VLOOKUP(B687,[1]PlayersList!$B$4:$J$1000,9,FALSE)","v":{"$error":"#N/A"}},null,"Jhonas Enroth"]
[685," Jonathan Quick","LOS",1,null,1,null,20,null,0,null,0,null,0,null,0,null,1,null,3.01,null,15,null,14,null,0.933,null,0,{"$nulls":13},{"$f":"VLOOKUP(B688,[1]PlayersList!$B$4:$J$1000,9,FALSE)","v":{"$error":"#N/A"}},null,"Jonathan Quick"]
[686," Jonathan Bernier","ANA",2,null,2,null,79,null,0,null,1,null,0,null,0,null,4,null,3.03,null,56,null,52,null,0.929,null,0,{"$nulls":13},{"$f":"VLOOKUP(B689,[1]PlayersList!$B$4:$J$1000,9,FALSE)","v":{"$error":"#N/A"}},null,"Jonathan Bernier"]
[687," Justin Peters","ARI",2,null,1,null,93,null,0,null,1,null,0,null,1,null,5,null,3.23,null,58,null,53,null,0.914,null,0,{"$nulls":13},{"$f":"VLOOKUP(B690,[1]PlayersList!$B$4:$J$1000,9,FALSE)","v":{"$error":"#N/A"}},null,"Justin Peters"]
[688," Cam Ward","CAR",3,null,3,null,179,null,0,null,2,null,1,null,0,null,12,null,4.03,null,79,null,67,null,0.848,null,0,{"$nulls":13},{"$f":"VLOOKUP(B691,[1]PlayersList!$B$4:$J$1000,9,FALSE)","v":{"$error":"#N/A"}},null,"Cam Ward"]
[689," Anton Khudobin","BOS",2,null,2,null,117,null,0,null,2,null,0,null,0,null,8,null,4.1,null,53,null,45,null,0.849,null,0,{"$nulls":13},{"$f":"VLOOKUP(B692,[1]PlayersList!$B$4:$J$1000,9,FALSE)","v":{"$error":"#N/A"}},null,"Anton Khudobin"]
[690," James Reimer","FLA",2,null,2,null,124,null,0,null,1,null,1,null,0,null,6,null,2.9,null,50,null,44,null,0.88,null,0,{"$nulls":13},{"$f":"VLOOKUP(B693,[1]PlayersList!$B$4:$J$1000,9,FALSE)","v":{"$error":"#N/A"}},null,"James Reimer"]
[691," Zane McIntyre","BOS",2,null,1,null,89,null,0,null,1,null,0,null,0,null,7,null,4.7,null,48,null,41,null,0.854,null,0,{"$nulls":13},{"$f":"VLOOKUP(B694,[1]PlayersList!$B$4:$J$1000,9,FALSE)","v":{"$error":"#N/A"}},null,"Zane McIntyre"]
[692," Jonas Gustavsson","EDM",1,null,0,null,10,null,0,null,0,null,0,null,0,null,0,null,0,null,1,null,1,null,1,null,0,{"$nulls":13},{"$f":"VLOOKUP(B695,[1]PlayersList!$B$4:$J$1000,9,FALSE)","v":{"$error":"#N/A"}},null,"Jonas Gustavsson"]
[693," Jeff Zatkoff","LOS",3,null,2,null,137,null,0,null,3,null,0,null,0,null,10,null,4.37,null,62,null,52,null,0.839,null,0,{"$nulls":13},{"$f":"VLOOKUP(B696,[1]PlayersList!$B$4:$J$1000,9,FALSE)","v":{"$error":"#N/A"}},null,"Jeff Zatkoff"]
[694," Anders Nilsson","BUF",2,null,2,null,124,null,0,null,1,null,1,null,1,null,6,null,2.9,null,62,null,56,null,0.903,null,0,{"$nulls":13},{"$f":"VLOOKUP(B697,[1]PlayersList!$B$4:$J$1000,9,FALSE)","v":{"$error":"#N/A"}},null,"Anders Nilsson"]
[695,{"$nulls":40},{"$f":"VLOOKUP(B698,[1]PlayersList!$B$4:$J$1000,9,FALSE)","v":{"$error":"#N/A"}},null,""]
[696,{"$nulls":40},{"$f":"VLOOKUP(B699,[1]PlayersList!$B$4:$J$1000,9,FALSE)","v":{"$error":"#N/A"}},null,""]
[697,{"$nulls":40},{"$f":"VLOOKUP(B700,[1]PlayersList!$B$4:$J$1000,9,FALSE)","v":{"$error":"#N/A"}},null,""]
[698,{"$nulls":40},{"$f":"VLOOKUP(B701,[1]PlayersList!$B$4:$J$1000,9,FALSE)","v":{"$error":"#N/A"}},null,""]
[699,{"$nulls":40},{"$f":"VLOOKUP(B702,[1]PlayersList!$B$4:$J$1000,9,FALSE)","v":{"$error":"#N/A"}},null,""]
[700,{"$nulls":40},{"$f":"VLOOKUP(B703,[1]PlayersList!$B$4:$J$1000,9,FALSE)","v":{"$error":"#N/A"}},null,""]
[701,{"$nulls":40},{"$f":"VLOOKUP(B704,[1]PlayersList!$B$4:$J$1000,9,FALSE)","v":{"$error":"#N/A"}},null,""]
[702,{"$nulls":40},{"$f":"VLOOKUP(B705,[1]PlayersList!$B$4:$J$1000,9,FALSE)","v":{"$error":"#N/A"}},null,""]
[703,{"$nulls":40},{"$f":"VLOOKUP(B706,[1]PlayersList!$B$4:$J$1000,9,FALSE)","v":{"$error":"#N/A"}},null,""]
[704,{"$nulls":40},{"$f":"VLOOKUP(B707,[1]PlayersList!$B$4:$J$1000,9,FALSE)","v":{"$error":"#N/A"}},null,""]
[705,{"$nulls":40},{"$f":"VLOOKUP(B708,[1]PlayersList!$B$4:$J$1000,9,FALSE)","v":{"$error":"#N/A"}},null,""]
[706,{"$nulls":40},{"$f":"VLOOKUP(B709,[1]PlayersList!$B$4:$J$1000,9,FALSE)","v":{"$error":"#N/A"}},null,""]
[707,{"$nulls":40},{"$f":"VLOOKUP(B710,[1]PlayersList!$B$4:$J$1000,9,FALSE)","v":{"$error":"#N/A"}},null,{"$f":"SUBSTITUTE(B710,\" \",\"\")","v":""}]
[708,{"$nulls":40},{"$f":"VLOOKUP(B711,[1]PlayersList!$B$4:$J$1000,9,FALSE)","v":{"$error":"#N/A"}},null,""]
[709,{"$nulls":40},{"$f":"VLOOKUP(B712,[1]PlayersList!$B$4:$J$1000,9,FALSE)","v":{"$error":"#N/A"}},null,""]
[710,{"$nulls":40},{"$f":"VLOOKUP(B713,[1]PlayersList!$B$4:$J$1000,9,FALSE)","v":{"$error":"#N/A"}},null,""]
[711,{"$nulls":40},{"$f":"VLOOKUP(B714,[1]PlayersList!$B$4:$J$1000,9,FALSE)","v":{"$error":"#N/A"}},null,""]
[712,{"$nulls":40},{"$f":"VLOOKUP(B715,[1]PlayersList!$B$4:$J$1000,9,FALSE)","v":{"$error":"#N/A"}},null,""]
[713,{"$nulls":40},{"$f":"VLOOKUP(B716,[1]PlayersList!$B$4:$J$1000,9,FALSE)","v":{"$error":"#N/A"}},null,""]
[714,{"$nulls":40},{"$f":"VLOOKUP(B717,[1]PlayersList!$B$4:$J$1000,9,FALSE)","v":{"$error":"#N/A"}},null,""]
[715,{"$nulls":40},{"$f":"VLOOKUP(B718,[1]PlayersList!$B$4:$J$1000,9,FALSE)","v":{"$error":"#N/A"}},null,""]
[716,{"$nulls":40},{"$f":"VLOOKUP(B719,[1]PlayersList!$B$4:$J$1000,9,FALSE)","v":{"$error":"#N/A"}},null,""]
[717,{"$nulls":40},{"$f":"VLOOKUP(B720,[1]PlayersList!$B$4:$J$1000,9,FALSE)","v":{"$error":"#N/A"}},null,""]
[718,{"$nulls":40},{"$f":"VLOOKUP(B721,[1]PlayersList!$B$4:$J$1000,9,FALSE)","v":{"$error":"#N/A"}},null,""]
[719,{"$nulls":40},{"$f":"VLOOKUP(B722,[1]PlayersList!$B$4:$J$1000,9,FALSE)","v":{"$error":"#N/A"}},null,""]
[720,{"$nulls":40},{"$f":"VLOOKUP(B723,[1]PlayersList!$B$4:$J$1000,9,FALSE)","v":{"$error":"#N/A"}},null,""]
[721,{"$nulls":40},{"$f":"VLOOKUP(B724,[1]PlayersList!$B$4:$J$1000,9,FALSE)","v":{"$error":"#N/A"}},null,""]
[722,{"$nulls":40},{"$f":"VLOOKUP(B725,[1]PlayersList!$B$4:$J$1000,9,FALSE)","v":{"$error":"#N/A"}},null,""]
[723,{"$nulls":40},{"$f":"VLOOKUP(B726,[1]PlayersList!$B$4:$J$1000,9,FALSE)","v":{"$error":"#N/A"}},null,""]
[724,{"$nulls":40},{"$f":"VLOOKUP(B727,[1]PlayersList!$B$4:$J$1000,9,FALSE)","v":{"$error":"#N/A"}},null,""]
[725,{"$nulls":40},{"$f":"VLOOKUP(B728,[1]PlayersList!$B$4:$J$1000,9,FALSE)","v":{"$error":"#N/A"}},null,""]
[726,{"$nulls":40},{"$f":"VLOOKUP(B729,[1]PlayersList!$B$4:$J$1000,9,FALSE)","v":{"$error":"#N/A"}},null,""]
[727,{"$nulls":40},{"$f":"VLOOKUP(B730,[1]PlayersList!$B$4:$J$1000,9,FALSE)","v":{"$error":"#N/A"}},null,""]
[728,{"$nulls":40},{"$f":"VLOOKUP(B731,[1]PlayersList!$B$4:$J$1000,9,FALSE)","v":{"$error":"#N/A"}},null,""]
[729,{"$nulls":40},{"$f":"VLOOKUP(B732,[1]PlayersList!$B$4:$J$1000,9,FALSE)","v":{"$error":"#N/A"}},null,""]
[730,{"$nulls":40},{"$f":"VLOOKUP(B733,[1]PlayersList!$B$4:$J$1000,9,FALSE)","v":{"$error":"#N/A"}},null,""]
[731,{"$nulls":40},{"$f":"VLOOKUP(B734,[1]PlayersList!$B$4:$J$1000,9,FALSE)","v":{"$error":"#N/A"}},null,""]
[732,{"$nulls":40},{"$f":"VLOOKUP(B735,[1]PlayersList!$B$4:$J$1000,9,FALSE)","v":{"$error":"#N/A"}},null,""]
[733,{"$nulls":40},{"$f":"VLOOKUP(B736,[1]PlayersList!$B$4:$J$1000,9,FALSE)","v":{"$error":"#N/A"}},null,""]
[734,{"$nulls":40},{"$f":"VLOOKUP(B737,[1]PlayersList!$B$4:$J$1000,9,FALSE)","v":{"$error":"#N/A"}},null,""]
[735,{"$nulls":40},{"$f":"VLOOKUP(B738,[1]PlayersList!$B$4:$J$1000,9,FALSE)","v":{"$error":"#N/A"}},null,""]
[736,{"$nulls":40},{"$f":"VLOOKUP(B739,[1]PlayersList!$B$4:$J$1000,9,FALSE)","v":{"$error":"#N/A"}},null,""]
[737,{"$nulls":40},{"$f":"VLOOKUP(B740,[1]PlayersList!$B$4:$J$1000,9,FALSE)","v":{"$error":"#N/A"}},null,""]
[738,{"$nulls":40},{"$f":"VLOOKUP(B741,[1]PlayersList!$B$4:$J$1000,9,FALSE)","v":{"$error":"#N/A"}},null,""]
[739,{"$nulls":40},{"$f":"VLOOKUP(B742,[1]PlayersList!$B$4:$J$1000,9,FALSE)","v":{"$error":"#N/A"}},null,""]
[740,{"$nulls":40},{"$f":"VLOOKUP(B743,[1]PlayersList!$B$4:$J$1000,9,FALSE)","v":{"$error":"#N/A"}},null,""]
[741,{"$nulls":40},{"$f":"VLOOKUP(B744,[1]PlayersList!$B$4:$J$1000,9,FALSE)","v":{"$error":"#N/A"}},null,""]
[742,{"$nulls":40},{"$f":"VLOOKUP(B745,[1]PlayersList!$B$4:$J$1000,9,FALSE)","v":{"$error":"#N/A"}},null,""]
[743,{"$nulls":40},{"$f":"VLOOKUP(B746,[1]PlayersList!$B$4:$J$1000,9,FALSE)","v":{"$error":"#N/A"}},null,""]
[744,{"$nulls":40},{"$f":"VLOOKUP(B747,[1]PlayersList!$B$4:$J$1000,9,FALSE)","v":{"$error":"#N/A"}},null,""]
[745,{"$nulls":40},{"$f":"VLOOKUP(B748,[1]PlayersList!$B$4:$J$1000,9,FALSE)","v":{"$error":"#N/A"}},null,""]
[746,{"$nulls":40},{"$f":"VLOOKUP(B749,[1]PlayersList!$B$4:$J$1000,9,FALSE)","v":{"$error":"#N/A"}},null,""]
[747,{"$nulls":40},{"$f":"VLOOKUP(B750,[1]PlayersList!$B$4:$J$1000,9,FALSE)","v":{"$error":"#N/A"}},null,""]
[748,{"$nulls":40},{"$f":"VLOOKUP(B751,[1]PlayersList!$B$4:$J$1000,9,FALSE)","v":{"$error":"#N/A"}},null,""]
[749,{"$nulls":40},{"$f":"VLOOKUP(B752,[1]PlayersList!$B$4:$J$1000,9,FALSE)","v":{"$error":"#N/A"}},null,""]
[{"$nulls":41},{"$f":"VLOOKUP(B753,[1]PlayersList!$B$4:$J$1000,9,FALSE)","v":{"$error":"#N/A"}},null,""]
[{"$nulls":41},{"$f":"VLOOKUP(B754,[1]PlayersList!$B$4:$J$1000,9,FALSE)","v":{"$error":"#N/A"}},null,""]
[{"$nulls":41},{"$f":"VLOOKUP(B755,[1]PlayersList!$B$4:$J$1000,9,FALSE)","v":{"$error":"#N/A"}},null,""]
[753,{"$nulls":40},{"$f":"VLOOKUP(B756,[1]PlayersList!$B$4:$J$1000,9,FALSE)","v":{"$error":"#N/A"}},null,""]
[754,{"$nulls":40},{"$f":"VLOOKUP(B757,[1]PlayersList!$B$4:$J$1000,9,FALSE)","v":{"$error":"#N/A"}},null,""]
[755,{"$nulls":40},{"$f":"VLOOKUP(B758,[1]PlayersList!$B$4:$J$1000,9,FALSE)","v":{"$error":"#N/A"}},null,""]
[756,{"$nulls":40},{"$f":"VLOOKUP(B759,[1]PlayersList!$B$4:$J$1000,9,FALSE)","v":{"$error":"#N/A"}},null,""]
[757,{"$nulls":40},{"$f":"VLOOKUP(B760,[1]PlayersList!$B$4:$J$1000,9,FALSE)","v":{"$error":"#N/A"}},null,""]
[758,{"$nulls":40},{"$f":"VLOOKUP(B761,[1]PlayersList!$B$4:$J$1000,9,FALSE)","v":{"$error":"#N/A"}},null,""]
[759,{"$nulls":40},{"$f":"VLOOKUP(B762,[1]PlayersList!$B$4:$J$1000,9,FALSE)","v":{"$error":"#N/A"}},null,""]
[760,{"$nulls":40},{"$f":"VLOOKUP(B763,[1]PlayersList!$B$4:$J$1000,9,FALSE)","v":{"$error":"#N/A"}},null,""]
[761,{"$nulls":40},{"$f":"VLOOKUP(B764,[1]PlayersList!$B$4:$J$1000,9,FALSE)","v":{"$error":"#N/A"}},null,""]
[762,{"$nulls":40},{"$f":"VLOOKUP(B765,[1]PlayersList!$B$4:$J$1000,9,FALSE)","v":{"$error":"#N/A"}},null,""]
[763,{"$nulls":40},{"$f":"VLOOKUP(B766,[1]PlayersList!$B$4:$J$1000,9,FALSE)","v":{"$error":"#N/A"}},null,""]
[764,{"$nulls":40},{"$f":"VLOOKUP(B767,[1]PlayersList!$B$4:$J$1000,9,FALSE)","v":{"$error":"#N/A"}},null,""]
[765,{"$nulls":40},{"$f":"VLOOKUP(B768,[1]PlayersList!$B$4:$J$1000,9,FALSE)","v":{"$error":"#N/A"}},null,""]
[766,{"$nulls":40},{"$f":"VLOOKUP(B769,[1]PlayersList!$B$4:$J$1000,9,FALSE)","v":{"$error":"#N/A"}},null,""]
[767,{"$nulls":40},{"$f":"VLOOKUP(B770,[1]PlayersList!$B$4:$J$1000,9,FALSE)","v":{"$error":"#N/A"}},null,""]
[768,{"$nulls":40},{"$f":"VLOOKUP(B771,[1]PlayersList!$B$4:$J$1000,9,FALSE)","v":{"$error":"#N/A"}},null,""]
[769,{"$nulls":40},{"$f":"VLOOKUP(B772,[1]PlayersList!$B$4:$J$1000,9,FALSE)","v":{"$error":"#N/A"}},null,""]
[770,{"$nulls":40},{"$f":"VLOOKUP(B773,[1]PlayersList!$B$4:$J$1000,9,FALSE)","v":{"$error":"#N/A"}},null,""]
[771,{"$nulls":40},{"$f":"VLOOKUP(B774,[1]PlayersList!$B$4:$J$1000,9,FALSE)","v":{"$error":"#N/A"}},null,{"$f":"SUBSTITUTE(B774,\" \",\"\")","v":""}]
[772,{"$nulls":40},{"$f":"VLOOKUP(B775,[1]PlayersList!$B$4:$J$1000,9,FALSE)","v":{"$error":"#N/A"}},null,""]
[773,{"$nulls":40},{"$f":"VLOOKUP(B776,[1]PlayersList!$B$4:$J$1000,9,FALSE)","v":{"$error":"#N/A"}},null,""]
[774,{"$nulls":40},{"$f":"VLOOKUP(B777,[1]PlayersList!$B$4:$J$1000,9,FALSE)","v":{"$error":"#N/A"}},null,""]
[775,{"$nulls":40},{"$f":"VLOOKUP(B778,[1]PlayersList!$B$4:$J$1000,9,FALSE)","v":{"$error":"#N/A"}},null,""]
[776,{"$nulls":40},{"$f":"VLOOKUP(B779,[1]PlayersList!$B$4:$J$1000,9,FALSE)","v":{"$error":"#N/A"}},null,""]
[777,{"$nulls":40},{"$f":"VLOOKUP(B780,[1]PlayersList!$B$4:$J$1000,9,FALSE)","v":{"$error":"#N/A"}},null,""]
[778,{"$nulls":40},{"$f":"VLOOKUP(B781,[1]PlayersList!$B$4:$J$1000,9,FALSE)","v":{"$error":"#N/A"}},null,""]
[779,{"$nulls":40},{"$f":"VLOOKUP(B782,[1]PlayersList!$B$4:$J$1000,9,FALSE)","v":{"$error":"#N/A"}},null,""]
[780,{"$nulls":40},{"$f":"VLOOKUP(B783,[1]PlayersList!$B$4:$J$1000,9,FALSE)","v":{"$error":"#N/A"}},null,""]
[781,{"$nulls":40},{"$f":"VLOOKUP(B784,[1]PlayersList!$B$4:$J$1000,9,FALSE)","v":{"$error":"#N/A"}},null,""]
[782,{"$nulls":40},{"$f":"VLOOKUP(B785,[1]PlayersList!$B$4:$J$1000,9,FALSE)","v":{"$error":"#N/A"}},null,""]
[783,{"$nulls":40},{"$f":"VLOOKUP(B786,[1]PlayersList!$B$4:$J$1000,9,FALSE)","v":{"$error":"#N/A"}},null,""]
[784,{"$nulls":40},{"$f":"VLOOKUP(B787,[1]PlayersList!$B$4:$J$1000,9,FALSE)","v":{"$error":"#N/A"}},null,""]
[785,{"$nulls":40},{"$f":"VLOOKUP(B788,[1]PlayersList!$B$4:$J$1000,9,FALSE)","v":{"$error":"#N/A"}},null,""]
[786,{"$nulls":40},{"$f":"VLOOKUP(B789,[1]PlayersList!$B$4:$J$1000,9,FALSE)","v":{"$error":"#N/A"}},null,""]
[787,{"$nulls":40},{"$f":"VLOOKUP(B790,[1]PlayersList!$B$4:$J$1000,9,FALSE)","v":{"$error":"#N/A"}},null,""]
[788,{"$nulls":40},{"$f":"VLOOKUP(B791,[1]PlayersList!$B$4:$J$1000,9,FALSE)","v":{"$error":"#N/A"}},null,""]
[789,{"$nulls":40},{"$f":"VLOOKUP(B792,[1]PlayersList!$B$4:$J$1000,9,FALSE)","v":{"$error":"#N/A"}},null,""]
[790,{"$nulls":40},{"$f":"VLOOKUP(B793,[1]PlayersList!$B$4:$J$1000,9,FALSE)","v":{"$error":"#N/A"}},null,""]
[791,{"$nulls":40},{"$f":"VLOOKUP(B794,[1]PlayersList!$B$4:$J$1000,9,FALSE)","v":{"$error":"#N/A"}},null,""]
[792,{"$nulls":40},{"$f":"VLOOKUP(B795,[1]PlayersList!$B$4:$J$1000,9,FALSE)","v":{"$error":"#N/A"}},null,""]
[793,{"$nulls":40},{"$f":"VLOOKUP(B796,[1]PlayersList!$B$4:$J$1000,9,FALSE)","v":{"$error":"#N/A"}},null,""]
[794,{"$nulls":40},{"$f":"VLOOKUP(B797,[1]PlayersList!$B$4:$J$1000,9,FALSE)","v":{"$error":"#N/A"}},null,""]
[795,{"$nulls":40},{"$f":"VLOOKUP(B798,[1]PlayersList!$B$4:$J$1000,9,FALSE)","v":{"$error":"#N/A"}},null,""]
[796,{"$nulls":40},{"$f":"VLOOKUP(B799,[1]PlayersList!$B$4:$J$1000,9,FALSE)","v":{"$error":"#N/A"}},null,""]
[797,{"$nulls":40},{"$f":"VLOOKUP(B800,[1]PlayersList!$B$4:$J$1000,9,FALSE)","v":{"$error":"#N/A"}},null,""]
[798,{"$nulls":40},{"$f":"VLOOKUP(B801,[1]PlayersList!$B$4:$J$1000,9,FALSE)","v":{"$error":"#N/A"}},null,""]
[799,{"$nulls":40},{"$f":"VLOOKUP(B802,[1]PlayersList!$B$4:$J$1000,9,FALSE)","v":{"$error":"#N/A"}},null,""]
[800,{"$nulls":40},{"$f":"VLOOKUP(B803,[1]PlayersList!$B$4:$J$1000,9,FALSE)","v":{"$error":"#N/A"}},null,""]
[801,{"$nulls":40},{"$f":"VLOOKUP(B804,[1]PlayersList!$B$4:$J$1000,9,FALSE)","v":{"$error":"#N/A"}},null,""]
[802,{"$nulls":40},{"$f":"VLOOKUP(B805,[1]PlayersList!$B$4:$J$1000,9,FALSE)","v":{"$error":"#N/A"}},null,""]
[803,{"$nulls":40},{"$f":"VLOOKUP(B806,[1]PlayersList!$B$4:$J$1000,9,FALSE)","v":{"$error":"#N/A"}},null,""]
[804,{"$nulls":40},{"$f":"VLOOKUP(B807,[1]PlayersList!$B$4:$J$1000,9,FALSE)","v":{"$error":"#N/A"}},null,""]
[805,{"$nulls":40},{"$f":"VLOOKUP(B808,[1]PlayersList!$B$4:$J$1000,9,FALSE)","v":{"$error":"#N/A"}},null,""]
[806,{"$nulls":40},{"$f":"VLOOKUP(B809,[1]PlayersList!$B$4:$J$1000,9,FALSE)","v":{"$error":"#N/A"}},null,""]
[807,{"$nulls":40},{"$f":"VLOOKUP(B810,[1]PlayersList!$B$4:$J$1000,9,FALSE)","v":{"$error":"#N/A"}},null,""]
[808,{"$nulls":40},{"$f":"VLOOKUP(B811,[1]PlayersList!$B$4:$J$1000,9,FALSE)","v":{"$error":"#N/A"}},null,""]
[809,{"$nulls":40},{"$f":"VLOOKUP(B812,[1]PlayersList!$B$4:$J$1000,9,FALSE)","v":{"$error":"#N/A"}},null,""]
[810,{"$nulls":40},{"$f":"VLOOKUP(B813,[1]PlayersList!$B$4:$J$1000,9,FALSE)","v":{"$error":"#N/A"}},null,""]
[811,{"$nulls":40},{"$f":"VLOOKUP(B814,[1]PlayersList!$B$4:$J$1000,9,FALSE)","v":{"$error":"#N/A"}},null,""]
[812,{"$nulls":40},{"$f":"VLOOKUP(B815,[1]PlayersList!$B$4:$J$1000,9,FALSE)","v":{"$error":"#N/A"}},null,""]
[813,{"$nulls":40},{"$f":"VLOOKUP(B816,[1]PlayersList!$B$4:$J$1000,9,FALSE)","v":{"$error":"#N/A"}},null,""]
[814,{"$nulls":40},{"$f":"VLOOKUP(B817,[1]PlayersList!$B$4:$J$1000,9,FALSE)","v":{"$error":"#N/A"}},null,""]
[815,{"$nulls":40},{"$f":"VLOOKUP(B818,[1]PlayersList!$B$4:$J$1000,9,FALSE)","v":{"$error":"#N/A"}},null,""]
[816,{"$nulls":40},{"$f":"VLOOKUP(B819,[1]PlayersList!$B$4:$J$1000,9,FALSE)","v":{"$error":"#N/A"}},null,""]
[817,{"$nulls":40},{"$f":"VLOOKUP(B820,[1]PlayersList!$B$4:$J$1000,9,FALSE)","v":{"$error":"#N/A"}},null,""]
[818,{"$nulls":40},{"$f":"VLOOKUP(B821,[1]PlayersList!$B$4:$J$1000,9,FALSE)","v":{"$error":"#N/A"}},null,""]
[819,{"$nulls":40},{"$f":"VLOOKUP(B822,[1]PlayersList!$B$4:$J$1000,9,FALSE)","v":{"$error":"#N/A"}},null,""]
[820,{"$nulls":40},{"$f":"VLOOKUP(B823,[1]PlayersList!$B$4:$J$1000,9,FALSE)","v":{"$error":"#N/A"}},null,""]
[821,{"$nulls":40},{"$f":"VLOOKUP(B824,[1]PlayersList!$B$4:$J$1000,9,FALSE)","v":{"$error":"#N/A"}},null,""]
[822,{"$nulls":40},{"$f":"VLOOKUP(B825,[1]PlayersList!$B$4:$J$1000,9,FALSE)","v":{"$error":"#N/A"}},null,""]
[823,{"$nulls":40},{"$f":"VLOOKUP(B826,[1]PlayersList!$B$4:$J$1000,9,FALSE)","v":{"$error":"#N/A"}},null,""]
[824,{"$nulls":40},{"$f":"VLOOKUP(B827,[1]PlayersList!$B$4:$J$1000,9,FALSE)","v":{"$error":"#N/A"}},null,""]
[825,{"$nulls":40},{"$f":"VLOOKUP(B828,[1]PlayersList!$B$4:$J$1000,9,FALSE)","v":{"$error":"#N/A"}},null,""]
[826,{"$nulls":40},{"$f":"VLOOKUP(B829,[1]PlayersList!$B$4:$J$1000,9,FALSE)","v":{"$error":"#N/A"}},null,""]
[827,{"$nulls":40},{"$f":"VLOOKUP(B830,[1]PlayersList!$B$4:$J$1000,9,FALSE)","v":{"$error":"#N/A"}},null,""]
[828,{"$nulls":40},{"$f":"VLOOKUP(B831,[1]PlayersList!$B$4:$J$1000,9,FALSE)","v":{"$error":"#N/A"}},null,""]
[829,{"$nulls":40},{"$f":"VLOOKUP(B832,[1]PlayersList!$B$4:$J$1000,9,FALSE)","v":{"$error":"#N/A"}},null,""]
[830,{"$nulls":40},{"$f":"VLOOKUP(B833,[1]PlayersList!$B$4:$J$1000,9,FALSE)","v":{"$error":"#N/A"}},null,""]
[831,{"$nulls":40},{"$f":"VLOOKUP(B834,[1]PlayersList!$B$4:$J$1000,9,FALSE)","v":{"$error":"#N/A"}},null,""]
[832,{"$nulls":40},{"$f":"VLOOKUP(B835,[1]PlayersList!$B$4:$J$1000,9,FALSE)","v":{"$error":"#N/A"}},null,""]
[833,{"$nulls":40},{"$f":"VLOOKUP(B836,[1]PlayersList!$B$4:$J$1000,9,FALSE)","v":{"$error":"#N/A"}},null,""]
[834,{"$nulls":40},{"$f":"VLOOKUP(B837,[1]PlayersList!$B$4:$J$1000,9,FALSE)","v":{"$error":"#N/A"}},null,""]
[835,{"$nulls":40},{"$f":"VLOOKUP(B838,[1]PlayersList!$B$4:$J$1000,9,FALSE)","v":{"$error":"#N/A"}},null,{"$f":"SUBSTITUTE(B838,\" \",\"\")","v":""}]
[836,{"$nulls":40},{"$f":"VLOOKUP(B839,[1]PlayersList!$B$4:$J$1000,9,FALSE)","v":{"$error":"#N/A"}},null,""]
[837,{"$nulls":40},{"$f":"VLOOKUP(B840,[1]PlayersList!$B$4:$J$1000,9,FALSE)","v":{"$error":"#N/A"}},null,""]
[838,{"$nulls":40},{"$f":"VLOOKUP(B841,[1]PlayersList!$B$4:$J$1000,9,FALSE)","v":{"$error":"#N/A"}},null,""]
[839,{"$nulls":40},{"$f":"VLOOKUP(B842,[1]PlayersList!$B$4:$J$1000,9,FALSE)","v":{"$error":"#N/A"}},null,""]
[840,{"$nulls":40},{"$f":"VLOOKUP(B843,[1]PlayersList!$B$4:$J$1000,9,FALSE)","v":{"$error":"#N/A"}},null,""]
[841,{"$nulls":40},{"$f":"VLOOKUP(B844,[1]PlayersList!$B$4:$J$1000,9,FALSE)","v":{"$error":"#N/A"}},null,""]
[842,{"$nulls":40},{"$f":"VLOOKUP(B845,[1]PlayersList!$B$4:$J$1000,9,FALSE)","v":{"$error":"#N/A"}},null,""]
[843,{"$nulls":40},{"$f":"VLOOKUP(B846,[1]PlayersList!$B$4:$J$1000,9,FALSE)","v":{"$error":"#N/A"}},null,""]
[844,{"$nulls":40},{"$f":"VLOOKUP(B847,[1]PlayersList!$B$4:$J$1000,9,FALSE)","v":{"$error":"#N/A"}},null,""]
[845,{"$nulls":40},{"$f":"VLOOKUP(B848,[1]PlayersList!$B$4:$J$1000,9,FALSE)","v":{"$error":"#N/A"}},null,""]
[846,{"$nulls":40},{"$f":"VLOOKUP(B849,[1]PlayersList!$B$4:$J$1000,9,FALSE)","v":{"$error":"#N/A"}},null,""]
[847,{"$nulls":40},{"$f":"VLOOKUP(B850,[1]PlayersList!$B$4:$J$1000,9,FALSE)","v":{"$error":"#N/A"}},null,""]
[848,{"$nulls":40},{"$f":"VLOOKUP(B851,[1]PlayersList!$B$4:$J$1000,9,FALSE)","v":{"$error":"#N/A"}},null,""]
[849,{"$nulls":40},{"$f":"VLOOKUP(B852,[1]PlayersList!$B$4:$J$1000,9,FALSE)","v":{"$error":"#N/A"}},null,""]
[850,{"$nulls":40},{"$f":"VLOOKUP(B853,[1]PlayersList!$B$4:$J$1000,9,FALSE)","v":{"$error":"#N/A"}},null,""]
[851,{"$nulls":40},{"$f":"VLOOKUP(B854,[1]PlayersList!$B$4:$J$1000,9,FALSE)","v":{"$error":"#N/A"}},null,""]
[852,{"$nulls":40},{"$f":"VLOOKUP(B855,[1]PlayersList!$B$4:$J$1000,9,FALSE)","v":{"$error":"#N/A"}},null,""]
[853,{"$nulls":40},{"$f":"VLOOKUP(B856,[1]PlayersList!$B$4:$J$1000,9,FALSE)","v":{"$error":"#N/A"}},null,""]
[854,{"$nulls":40},{"$f":"VLOOKUP(B857,[1]PlayersList!$B$4:$J$1000,9,FALSE)","v":{"$error":"#N/A"}},null,""]
[855,{"$nulls":40},{"$f":"VLOOKUP(B858,[1]PlayersList!$B$4:$J$1000,9,FALSE)","v":{"$error":"#N/A"}},null,""]
[856,{"$nulls":40},{"$f":"VLOOKUP(B859,[1]PlayersList!$B$4:$J$1000,9,FALSE)","v":{"$error":"#N/A"}},null,""]
[857,{"$nulls":40},{"$f":"VLOOKUP(B860,[1]PlayersList!$B$4:$J$1000,9,FALSE)","v":{"$error":"#N/A"}},null,""]
[858,{"$nulls":40},{"$f":"VLOOKUP(B861,[1]PlayersList!$B$4:$J$1000,9,FALSE)","v":{"$error":"#N/A"}},null,""]
[859,{"$nulls":40},{"$f":"VLOOKUP(B862,[1]PlayersList!$B$4:$J$1000,9,FALSE)","v":{"$error":"#N/A"}},null,""]
[860,{"$nulls":40},{"$f":"VLOOKUP(B863,[1]PlayersList!$B$4:$J$1000,9,FALSE)","v":{"$error":"#N/A"}},null,""]
[861,{"$nulls":40},{"$f":"VLOOKUP(B864,[1]PlayersList!$B$4:$J$1000,9,FALSE)","v":{"$error":"#N/A"}},null,""]
[862,{"$nulls":40},{"$f":"VLOOKUP(B865,[1]PlayersList!$B$4:$J$1000,9,FALSE)","v":{"$error":"#N/A"}},null,""]
[863,{"$nulls":40},{"$f":"VLOOKUP(B866,[1]PlayersList!$B$4:$J$1000,9,FALSE)","v":{"$error":"#N/A"}},null,""]
[864,{"$nulls":40},{"$f":"VLOOKUP(B867,[1]PlayersList!$B$4:$J$1000,9,FALSE)","v":{"$error":"#N/A"}},null,""]
[865,{"$nulls":40},{"$f":"VLOOKUP(B868,[1]PlayersList!$B$4:$J$1000,9,FALSE)","v":{"$error":"#N/A"}},null,""]
[866,{"$nulls":40},{"$f":"VLOOKUP(B869,[1]PlayersList!$B$4:$J$1000,9,FALSE)","v":{"$error":"#N/A"}},null,""]
[867,{"$nulls":40},{"$f":"VLOOKUP(B870,[1]PlayersList!$B$4:$J$1000,9,FALSE)","v":{"$error":"#N/A"}},null,""]
[868,{"$nulls":40},{"$f":"VLOOKUP(B871,[1]PlayersList!$B$4:$J$1000,9,FALSE)","v":{"$error":"#N/A"}},null,""]
[869,{"$nulls":40},{"$f":"VLOOKUP(B872,[1]PlayersList!$B$4:$J$1000,9,FALSE)","v":{"$error":"#N/A"}},null,""]
[870,{"$nulls":40},{"$f":"VLOOKUP(B873,[1]PlayersList!$B$4:$J$1000,9,FALSE)","v":{"$error":"#N/A"}},null,""]
[871,{"$nulls":40},{"$f":"VLOOKUP(B874,[1]PlayersList!$B$4:$J$1000,9,FALSE)","v":{"$error":"#N/A"}},null,""]
[872,{"$nulls":40},{"$f":"VLOOKUP(B875,[1]PlayersList!$B$4:$J$1000,9,FALSE)","v":{"$error":"#N/A"}},null,""]
[873,{"$nulls":40},{"$f":"VLOOKUP(B876,[1]PlayersList!$B$4:$J$1000,9,FALSE)","v":{"$error":"#N/A"}},null,""]
[874,{"$nulls":40},{"$f":"VLOOKUP(B877,[1]PlayersList!$B$4:$J$1000,9,FALSE)","v":{"$error":"#N/A"}},null,""]
[875,{"$nulls":40},{"$f":"VLOOKUP(B878,[1]PlayersList!$B$4:$J$1000,9,FALSE)","v":{"$error":"#N/A"}},null,""]
[876,{"$nulls":40},{"$f":"VLOOKUP(B879,[1]PlayersList!$B$4:$J$1000,9,FALSE)","v":{"$error":"#N/A"}},null,""]
[877,{"$nulls":40},{"$f":"VLOOKUP(B880,[1]PlayersList!$B$4:$J$1000,9,FALSE)","v":{"$error":"#N/A"}},null,""]
[878,{"$nulls":40},{"$f":"VLOOKUP(B881,[1]PlayersList!$B$4:$J$1000,9,FALSE)","v":{"$error":"#N/A"}},null,""]
[879,{"$nulls":40},{"$f":"VLOOKUP(B882,[1]PlayersList!$B$4:$J$1000,9,FALSE)","v":{"$error":"#N/A"}},null,""]
[880,{"$nulls":40},{"$f":"VLOOKUP(B883,[1]PlayersList!$B$4:$J$1000,9,FALSE)","v":{"$error":"#N/A"}},null,""]
[881,{"$nulls":40},{"$f":"VLOOKUP(B884,[1]PlayersList!$B$4:$J$1000,9,FALSE)","v":{"$error":"#N/A"}},null,""]
[882,{"$nulls":40},{"$f":"VLOOKUP(B885,[1]PlayersList!$B$4:$J$1000,9,FALSE)","v":{"$error":"#N/A"}},null,""]
[883,{"$nulls":40},{"$f":"VLOOKUP(B886,[1]PlayersList!$B$4:$J$1000,9,FALSE)","v":{"$error":"#N/A"}},null,""]
[884,{"$nulls":40},{"$f":"VLOOKUP(B887,[1]PlayersList!$B$4:$J$1000,9,FALSE)","v":{"$error":"#N/A"}},null,""]
[885,{"$nulls":40},{"$f":"VLOOKUP(B888,[1]PlayersList!$B$4:$J$1000,9,FALSE)","v":{"$error":"#N/A"}},null,""]
[886,{"$nulls":40},{"$f":"VLOOKUP(B889,[1]PlayersList!$B$4:$J$1000,9,FALSE)","v":{"$error":"#N/A"}},null,""]
[887,{"$nulls":40},{"$f":"VLOOKUP(B890,[1]PlayersList!$B$4:$J$1000,9,FALSE)","v":{"$error":"#N/A"}},null,""]
[888,{"$nulls":40},{"$f":"VLOOKUP(B891,[1]PlayersList!$B$4:$J$1000,9,FALSE)","v":{"$error":"#N/A"}},null,""]

{"sheet":"Trade17","index":1,"n_rows":906,"n_cols":21,"rows_kept":906}
["Choix","Choix","Joueur","Joueur",{"$nulls":13},"Ne dois jamais être égal à 2"]
["Clé1","Clé2","Clé3","Clé4","# échange","Date","Pooler",null,"Joueur donné","Choix offert","vs","Pooler",null,"Joueur donné","Choix offert","Commentaire","Condition1","Condition2"]
[{"$f":"(IF(ISERROR(VLOOKUP(G3,Choix17!$M$2:$N$14,2,FALSE)&LEFT(J3,4)&RIGHT(LEFT(J3,LEN(J3)-1),2)),0,VLOOKUP(G3,Choix17!$M$2:$N$14,2,FALSE)&LEFT(J3,4)&RIGHT(LEFT(J3,LEN(J3)-1),2)))*1","v":250201701},{"$f":"(IF(ISERROR(VLOOKUP(L3,Choix17!$M$2:$N$14,2,FALSE)&LEFT(O3,4)&RIGHT(LEFT(O3,LEN(O3)-1),2)),0,VLOOKUP(L3,Choix17!$M$2:$N$14,2,FALSE)&LEFT(O3,4)&RIGHT(LEFT(O3,LEN(O3)-1),2)))*1","v":0},{"$f":"IF(ISNA(VLOOKUP(I3,[1]PlayersList!$B$4:$D$957,3,FALSE)),\"Noplayer\",VLOOKUP(I3,[1]PlayersList!$B$4:$D$957,3,FALSE)*1)","v":"Noplayer"},{"$f":"IF(ISNA(VLOOKUP(N3,[1]PlayersList!$B$4:$D$957,3,FALSE)),\"Noplayer\",VLOOKUP(N3,[1]PlayersList!$B$4:$D$957,3,FALSE)*1)","v":"Noplayer"},1,"2016-10-23","Martin",null,"Jake Allen","2017 - 01e",null,"Michae",null,"Corey Crawford",null,null,{"$f":"IF(A3<1,0,COUNTIF($A:$B,A3))","v":1},0,null,{"$f":"IF(C3=\"Noplayer\",0,COUNTIF($C:$D,C3))","v":0},0]
[{"$f":"(IF(ISERROR(VLOOKUP(G4,Choix17!$M$2:$N$14,2,FALSE)&LEFT(J4,4)&RIGHT(LEFT(J4,LEN(J4)-1),2)),0,VLOOKUP(G4,Choix17!$M$2:$N$14,2,FALSE)&LEFT(J4,4)&RIGHT(LEFT(J4,LEN(J4)-1),2)))*1","v":0},{"$f":"(IF(ISERROR(VLOOKUP(L4,Choix17!$M$2:$N$14,2,FALSE)&LEFT(O4,4)&RIGHT(LEFT(O4,LEN(O4)-1),2)),0,VLOOKUP(L4,Choix17!$M$2:$N$14,2,FALSE)&LEFT(O4,4)&RIGHT(LEFT(O4,LEN(O4)-1),2)))*1","v":0},{"$f":"IF(ISNA(VLOOKUP(I4,[1]PlayersList!$B$4:$D$957,3,FALSE)),\"Noplayer\",VLOOKUP(I4,[1]PlayersList!$B$4:$D$957,3,FALSE)*1)","v":"Noplayer"},{"$f":"IF(ISNA(VLOOKUP(N4,[1]PlayersList!$B$4:$D$957,3,FALSE)),\"Noplayer\",VLOOKUP(N4,[1]PlayersList!$B$4:$D$957,3,FALSE)*1)","v":"Noplayer"},1,"2016-10-23","Martin",null,"Nikita Kucherov",null,null,"Michae",null,"Filip Forsberg",null,null,0,0,null,0,0]
[{"$f":"(IF(ISERROR(VLOOKUP(G5,Choix17!$M$2:$N$14,2,FALSE)&LEFT(J5,4)&RIGHT(LEFT(J5,LEN(J5)-1),2)),0,VLOOKUP(G5,Choix17!$M$2:$N$14,2,FALSE)&LEFT(J5,4)&RIGHT(LEFT(J5,LEN(J5)-1),2)))*1","v":150201701},{"$f":"(IF(ISERROR(VLOOKUP(L5,Choix17!$M$2:$N$14,2,FALSE)&LEFT(O5,4)&RIGHT(LEFT(O5,LEN(O5)-1),2)),0,VLOOKUP(L5,Choix17!$M$2:$N$14,2,FALSE)&LEFT(O5,4)&RIGHT(LEFT(O5,LEN(O5)-1),2)))*1","v":200201702},{"$f":"IF(ISNA(VLOOKUP(I5,[1]PlayersList!$B$4:$D$957,3,FALSE)),\"Noplayer\",VLOOKUP(I5,[1]PlayersList!$B$4:$D$957,3,FALSE)*1)","v":"Noplayer"},{"$f":"IF(ISNA(VLOOKUP(N5,[1]PlayersList!$B$4:$D$957,3,FALSE)),\"Noplayer\",VLOOKUP(N5,[1]PlayersList!$B$4:$D$957,3,FALSE)*1)","v":"Noplayer"},2,"2016-11-01","Frank2",null,"Rick Nash","2017 - 01e",null,"Frank1",null,"Jason Spezza","2017 - 02e",null,1,1,null,0,0]
[{"$f":"(IF(ISERROR(VLOOKUP(G6,Choix17!$M$2:$N$14,2,FALSE)&LEFT(J6,4)&RIGHT(LEFT(J6,LEN(J6)-1),2)),0,VLOOKUP(G6,Choix17!$M$2:$N$14,2,FALSE)&LEFT(J6,4)&RIGHT(LEFT(J6,LEN(J6)-1),2)))*1","v":0},{"$f":"(IF(ISERROR(VLOOKUP(L6,Choix17!$M$2:$N$14,2,FALSE)&LEFT(O6,4)&RIGHT(LEFT(O6,LEN(O6)-1),2)),0,VLOOKUP(L6,Choix17!$M$2:$N$14,2,FALSE)&LEFT(O6,4)&RIGHT(LEFT(O6,LEN(O6)-1),2)))*1","v":0},{"$f":"IF(ISNA(VLOOKUP(I6,[1]PlayersList!$B$4:$D$957,3,FALSE)),\"Noplayer\",VLOOKUP(I6,[1]PlayersList!$B$4:$D$957,3,FALSE)*1)","v":"Noplayer"},{"$f":"IF(ISNA(VLOOKUP(N6,[1]PlayersList!$B$4:$D$957,3,FALSE)),\"Noplayer\",VLOOKUP(N6,[1]PlayersList!$B$4:$D$957,3,FALSE)*1)","v":"Noplayer"},2,"2016-11-01","Frank2",null,"Brad Richardson",null,null,"Frank1",{"$nulls":4},0,0,null,0,0]
[{"$f":"(IF(ISERROR(VLOOKUP(G7,Choix17!$M$2:$N$14,2,FALSE)&LEFT(J7,4)&RIGHT(LEFT(J7,LEN(J7)-1),2)),0,VLOOKUP(G7,Choix17!$M$2:$N$14,2,FALSE)&LEFT(J7,4)&RIGHT(LEFT(J7,LEN(J7)-1),2)))*1","v":0},{"$f":"(IF(ISERROR(VLOOKUP(L7,Choix17!$M$2:$N$14,2,FALSE)&LEFT(O7,4)&RIGHT(LEFT(O7,LEN(O7)-1),2)),0,VLOOKUP(L7,Choix17!$M$2:$N$14,2,FALSE)&LEFT(O7,4)&RIGHT(LEFT(O7,LEN(O7)-1),2)))*1","v":0},{"$f":"IF(ISNA(VLOOKUP(I7,[1]PlayersList!$B$4:$D$957,3,FALSE)),\"Noplayer\",VLOOKUP(I7,[1]PlayersList!$B$4:$D$957,3,FALSE)*1)","v":"Noplayer"},{"$f":"IF(ISNA(VLOOKUP(N7,[1]PlayersList!$B$4:$D$957,3,FALSE)),\"Noplayer\",VLOOKUP(N7,[1]PlayersList!$B$4:$D$957,3,FALSE)*1)","v":"Noplayer"},{"$nulls":4},"",{"$nulls":4},"",null,null,0,0,null,0,0]
[{"$f":"(IF(ISERROR(VLOOKUP(G8,Choix17!$M$2:$N$14,2,FALSE)&LEFT(J8,4)&RIGHT(LEFT(J8,LEN(J8)-1),2)),0,VLOOKUP(G8,Choix17!$M$2:$N$14,2,FALSE)&LEFT(J8,4)&RIGHT(LEFT(J8,LEN(J8)-1),2)))*1","v":0},{"$f":"(IF(ISERROR(VLOOKUP(L8,Choix17!$M$2:$N$14,2,FALSE)&LEFT(O8,4)&RIGHT(LEFT(O8,LEN(O8)-1),2)),0,VLOOKUP(L8,Choix17!$M$2:$N$14,2,FALSE)&LEFT(O8,4)&RIGHT(LEFT(O8,LEN(O8)-1),2)))*1","v":0},{"$f":"IF(ISNA(VLOOKUP(I8,[1]PlayersList!$B$4:$D$957,3,FALSE)),\"Noplayer\",VLOOKUP(I8,[1]PlayersList!$B$4:$D$957,3,FALSE)*1)","v":"Noplayer"},{"$f":"IF(ISNA(VLOOKUP(N8,[1]PlayersList!$B$4:$D$957,3,FALSE)),\"Noplayer\",VLOOKUP(N8,[1]PlayersList!$B$4:$D$957,3,FALSE)*1)","v":"Noplayer"},{"$nulls":12},0,0,null,0,0]
[{"$f":"(IF(ISERROR(VLOOKUP(G9,Choix17!$M$2:$N$14,2,FALSE)&LEFT(J9,4)&RIGHT(LEFT(J9,LEN(J9)-1),2)),0,VLOOKUP(G9,Choix17!$M$2:$N$14,2,FALSE)&LEFT(J9,4)&RIGHT(LEFT(J9,LEN(J9)-1),2)))*1","v":0},{"$f":"(IF(ISERROR(VLOOKUP(L9,Choix17!$M$2:$N$14,2,FALSE)&LEFT(O9,4)&RIGHT(LEFT(O9,LEN(O9)-1),2)),0,VLOOKUP(L9,Choix17!$M$2:$N$14,2,FALSE)&LEFT(O9,4)&RIGHT(LEFT(O9,LEN(O9)-1),2)))*1","v":0},{"$f":"IF(ISNA(VLOOKUP(I9,[1]PlayersList!$B$4:$D$957,3,FALSE)),\"Noplayer\",VLOOKUP(I9,[1]PlayersList!$B$4:$D$957,3,FALSE)*1)","v":"Noplayer"},{"$f":"IF(ISNA(VLOOKUP(N9,[1]PlayersList!$B$4:$D$957,3,FALSE)),\"Noplayer\",VLOOKUP(N9,[1]PlayersList!$B$4:$D$957,3,FALSE)*1)","v":"Noplayer"},{"$nulls":12},0,0,null,0,0]
[{"$f":"(IF(ISERROR(VLOOKUP(G10,Choix17!$M$2:$N$14,2,FALSE)&LEFT(J10,4)&RIGHT(LEFT(J10,LEN(J10)-1),2)),0,VLOOKUP(G10,Choix17!$M$2:$N$14,2,FALSE)&LEFT(J10,4)&RIGHT(LEFT(J10,LEN(J10)-1),2)))*1","v":0},{"$f":"(IF(ISERROR(VLOOKUP(L10,Choix17!$M$2:$N$14,2,FALSE)&LEFT(O10,4)&RIGHT(LEFT(O10,LEN(O10)-1),2)),0,VLOOKUP(L10,Choix17!$M$2:$N$14,2,FALSE)&LEFT(O10,4)&RIGHT(LEFT(O10,LEN(O10)-1),2)))*1","v":0},{"$f":"IF(ISNA(VLOOKUP(I10,[1]PlayersList!$B$4:$D$957,3,FALSE)),\"Noplayer\",VLOOKUP(I10,[1]PlayersList!$B$4:$D$957,3,FALSE)*1)","v":"Noplayer"},{"$f":"IF(ISNA(VLOOKUP(N10,[1]PlayersList!$B$4:$D$957,3,FALSE)),\"Noplayer\",VLOOKUP(N10,[1]PlayersList!$B$4:$D$957,3,FALSE)*1)","v":"Noplayer"},{"$nulls":12},0,0,null,0,0]
[{"$f":"(IF(ISERROR(VLOOKUP(G11,Choix17!$M$2:$N$14,2,FALSE)&LEFT(J11,4)&RIGHT(LEFT(J11,LEN(J11)-1),2)),0,VLOOKUP(G11,Choix17!$M$2:$N$14,2,FALSE)&LEFT(J11,4)&RIGHT(LEFT(J11,LEN(J11)-1),2)))*1","v":0},{"$f":"(IF(ISERROR(VLOOKUP(L11,Choix17!$M$2:$N$14,2,FALSE)&LEFT(O11,4)&RIGHT(LEFT(O11,LEN(O11)-1),2)),0,VLOOKUP(L11,Choix17!$M$2:$N$14,2,FALSE)&LEFT(O11,4)&RIGHT(LEFT(O11,LEN(O11)-1),2)))*1","v":0},{"$f":"IF(ISNA(VLOOKUP(I11,[1]PlayersList!$B$4:$D$957,3,FALSE)),\"Noplayer\",VLOOKUP(I11,[1]PlayersList!$B$4:$D$957,3,FALSE)*1)","v":"Noplayer"},{"$f":"IF(ISNA(VLOOKUP(N11,[1]PlayersList!$B$4:$D$957,3,FALSE)),\"Noplayer\",VLOOKUP(N11,[1]PlayersList!$B$4:$D$957,3,FALSE)*1)","v":"Noplayer"},{"$nulls":12},0,0,null,0,0]
[{"$f":"(IF(ISERROR(VLOOKUP(G12,Choix17!$M$2:$N$14,2,FALSE)&LEFT(J12,4)&RIGHT(LEFT(J12,LEN(J12)-1),2)),0,VLOOKUP(G12,Choix17!$M$2:$N$14,2,FALSE)&LEFT(J12,4)&RIGHT(LEFT(J12,LEN(J12)-1),2)))*1","v":0},{"$f":"(IF(ISERROR(VLOOKUP(L12,Choix17!$M$2:$N$14,2,FALSE)&LEFT(O12,4)&RIGHT(LEFT(O12,LEN(O12)-1),2)),0,VLOOKUP(L12,Choix17!$M$2:$N$14,2,FALSE)&LEFT(O12,4)&RIGHT(LEFT(O12,LEN(O12)-1),2)))*1","v":0},{"$f":"IF(ISNA(VLOOKUP(I12,[1]PlayersList!$B$4:$D$957,3,FALSE)),\"Noplayer\",VLOOKUP(I12,[1]PlayersList!$B$4:$D$957,3,FALSE)*1)","v":"Noplayer"},{"$f":"IF(ISNA(VLOOKUP(N12,[1]PlayersList!$B$4:$D$957,3,FALSE)),\"Noplayer\",VLOOKUP(N12,[1]PlayersList!$B$4:$D$957,3,FALSE)*1)","v":"Noplayer"},{"$nulls":12},0,0,null,0,0]
[{"$f":"(IF(ISERROR(VLOOKUP(G13,Choix17!$M$2:$N$14,2,FALSE)&LEFT(J13,4)&RIGHT(LEFT(J13,LEN(J13)-1),2)),0,VLOOKUP(G13,Choix17!$M$2:$N$14,2,FALSE)&LEFT(J13,4)&RIGHT(LEFT(J13,LEN(J13)-1),2)))*1","v":0},{"$f":"(IF(ISERROR(VLOOKUP(L13,Choix17!$M$2:$N$14,2,FALSE)&LEFT(O13,4)&RIGHT(LEFT(O13,LEN(O13)-1),2)),0,VLOOKUP(L13,Choix17!$M$2:$N$14,2,FALSE)&LEFT(O13,4)&RIGHT(LEFT(O13,LEN(O13)-1),2)))*1","v":0},{"$f":"IF(ISNA(VLOOKUP(I13,[1]PlayersList!$B$4:$D$957,3,FALSE)),\"Noplayer\",VLOOKUP(I13,[1]PlayersList!$B$4:$D$957,3,FALSE)*1)","v":"Noplayer"},{"$f":"IF(ISNA(VLOOKUP(N13,[1]PlayersList!$B$4:$D$957,3,FALSE)),\"Noplayer\",VLOOKUP(N13,[1]PlayersList!$B$4:$D$957,3,FALSE)*1)","v":"Noplayer"},{"$nulls":12},0,0,null,0,0]
[{"$f":"(IF(ISERROR(VLOOKUP(G14,Choix17!$M$2:$N$14,2,FALSE)&LEFT(J14,4)&RIGHT(LEFT(J14,LEN(J14)-1),2)),0,VLOOKUP(G14,Choix17!$M$2:$N$14,2,FALSE)&LEFT(J14,4)&RIGHT(LEFT(J14,LEN(J14)-1),2)))*1","v":0},{"$f":"(IF(ISERROR(VLOOKUP(L14,Choix17!$M$2:$N$14,2,FALSE)&LEFT(O14,4)&RIGHT(LEFT(O14,LEN(O14)-1),2)),0,VLOOKUP(L14,Choix17!$M$2:$N$14,2,FALSE)&LEFT(O14,4)&RIGHT(LEFT(O14,LEN(O14)-1),2)))*1","v":0},{"$f":"IF(ISNA(VLOOKUP(I14,[1]PlayersList!$B$4:$D$957,3,FALSE)),\"Noplayer\",VLOOKUP(I14,[1]PlayersList!$B$4:$D$957,3,FALSE)*1)","v":"Noplayer"},{"$f":"IF(ISNA(VLOOKUP(N14,[1]PlayersList!$B$4:$D$957,3,FALSE)),\"Noplayer\",VLOOKUP(N14,[1]PlayersList!$B$4:$D$957,3,FALSE)*1)","v":"Noplayer"},{"$nulls":12},0,0,null,0,0]
[{"$f":"(IF(ISERROR(VLOOKUP(G15,Choix17!$M$2:$N$14,2,FALSE)&LEFT(J15,4)&RIGHT(LEFT(J15,LEN(J15)-1),2)),0,VLOOKUP(G15,Choix17!$M$2:$N$14,2,FALSE)&LEFT(J15,4)&RIGHT(LEFT(J15,LEN(J15)-1),2)))*1","v":0},{"$f":"(IF(ISERROR(VLOOKUP(L15,Choix17!$M$2:$N$14,2,FALSE)&LEFT(O15,4)&RIGHT(LEFT(O15,LEN(O15)-1),2)),0,VLOOKUP(L15,Choix17!$M$2:$N$14,2,FALSE)&LEFT(O15,4)&RIGHT(LEFT(O15,LEN(O15)-1),2)))*1","v":0},{"$f":"IF(ISNA(VLOOKUP(I15,[1]PlayersList!$B$4:$D$957,3,FALSE)),\"Noplayer\",VLOOKUP(I15,[1]PlayersList!$B$4:$D$957,3,FALSE)*1)","v":"Noplayer"},{"$f":"IF(ISNA(VLOOKUP(N15,[1]PlayersList!$B$4:$D$957,3,FALSE)),\"Noplayer\",VLOOKUP(N15,[1]PlayersList!$B$4:$D$957,3,FALSE)*1)","v":"Noplayer"},{"$nulls":12},0,0,null,0,0]
[{"$f":"(IF(ISERROR(VLOOKUP(G16,Choix17!$M$2:$N$14,2,FALSE)&LEFT(J16,4)&RIGHT(LEFT(J16,LEN(J16)-1),2)),0,VLOOKUP(G16,Choix17!$M$2:$N$14,2,FALSE)&LEFT(J16,4)&RIGHT(LEFT(J16,LEN(J16)-1),2)))*1","v":0},{"$f":"(IF(ISERROR(VLOOKUP(L16,Choix17!$M$2:$N$14,2,FALSE)&LEFT(O16,4)&RIGHT(LEFT(O16,LEN(O16)-1),2)),0,VLOOKUP(L16,Choix17!$M$2:$N$14,2,FALSE)&LEFT(O16,4)&RIGHT(LEFT(O16,LEN(O16)-1),2)))*1","v":0},{"$f":"IF(ISNA(VLOOKUP(I16,[1]PlayersList!$B$4:$D$957,3,FALSE)),\"Noplayer\",VLOOKUP(I16,[1]PlayersList!$B$4:$D$957,3,FALSE)*1)","v":"Noplayer"},{"$f":"IF(ISNA(VLOOKUP(N16,[1]PlayersList!$B$4:$D$957,3,FALSE)),\"Noplayer\",VLOOKUP(N16,[1]PlayersList!$B$4:$D$957,3,FALSE)*1)","v":"Noplayer"},{"$nulls":12},0,0,null,0,0]
[{"$f":"(IF(ISERROR(VLOOKUP(G17,Choix17!$M$2:$N$14,2,FALSE)&LEFT(J17,4)&RIGHT(LEFT(J17,LEN(J17)-1),2)),0,VLOOKUP(G17,Choix17!$M$2:$N$14,2,FALSE)&LEFT(J17,4)&RIGHT(LEFT(J17,LEN(J17)-1),2)))*1","v":0},{"$f":"(IF(ISERROR(VLOOKUP(L17,Choix17!$M$2:$N$14,2,FALSE)&LEFT(O17,4)&RIGHT(LEFT(O17,LEN(O17)-1),2)),0,VLOOKUP(L17,Choix17!$M$2:$N$14,2,FALSE)&LEFT(O17,4)&RIGHT(LEFT(O17,LEN(O17)-1),2)))*1","v":0},{"$f":"IF(ISNA(VLOOKUP(I17,[1]PlayersList!$B$4:$D$957,3,FALSE)),\"Noplayer\",VLOOKUP(I17,[1]PlayersList!$B$4:$D$957,3,FALSE)*1)","v":"Noplayer"},{"$f":"IF(ISNA(VLOOKUP(N17,[1]PlayersList!$B$4:$D$957,3,FALSE)),\"Noplayer\",VLOOKUP(N17,[1]PlayersList!$B$4:$D$957,3,FALSE)*1)","v":"Noplayer"},{"$nulls":12},0,0,null,0,0]
[{"$f":"(IF(ISERROR(VLOOKUP(G18,Choix17!$M$2:$N$14,2,FALSE)&LEFT(J18,4)&RIGHT(LEFT(J18,LEN(J18)-1),2)),0,VLOOKUP(G18,Choix17!$M$2:$N$14,2,FALSE)&LEFT(J18,4)&RIGHT(LEFT(J18,LEN(J18)-1),2)))*1","v":0},{"$f":"(IF(ISERROR(VLOOKUP(L18,Choix17!$M$2:$N$14,2,FALSE)&LEFT(O18,4)&RIGHT(LEFT(O18,LEN(O18)-1),2)),0,VLOOKUP(L18,Choix17!$M$2:$N$14,2,FALSE)&LEFT(O18,4)&RIGHT(LEFT(O18,LEN(O18)-1),2)))*1","v":0},{"$f":"IF(ISNA(VLOOKUP(I18,[1]PlayersList!$B$4:$D$957,3,FALSE)),\"Noplayer\",VLOOKUP(I18,[1]PlayersList!$B$4:$D$957,3,FALSE)*1)","v":"Noplayer"},{"$f":"IF(ISNA(VLOOKUP(N18,[1]PlayersList!$B$4:$D$957,3,FALSE)),\"Noplayer\",VLOOKUP(N18,[1]PlayersList!$B$4:$D$957,3,FALSE)*1)","v":"Noplayer"},{"$nulls":12},0,0,null,0,0]
[{"$f":"(IF(ISERROR(VLOOKUP(G19,Choix17!$M$2:$N$14,2,FALSE)&LEFT(J19,4)&RIGHT(LEFT(J19,LEN(J19)-1),2)),0,VLOOKUP(G19,Choix17!$M$2:$N$14,2,FALSE)&LEFT(J19,4)&RIGHT(LEFT(J19,LEN(J19)-1),2)))*1","v":0},{"$f":"(IF(ISERROR(VLOOKUP(L19,Choix17!$M$2:$N$14,2,FALSE)&LEFT(O19,4)&RIGHT(LEFT(O19,LEN(O19)-1),2)),0,VLOOKUP(L19,Choix17!$M$2:$N$14,2,FALSE)&LEFT(O19,4)&RIGHT(LEFT(O19,LEN(O19)-1),2)))*1","v":0},{"$f":"IF(ISNA(VLOOKUP(I19,[1]PlayersList!$B$4:$D$957,3,FALSE)),\"Noplayer\",VLOOKUP(I19,[1]PlayersList!$B$4:$D$957,3,FALSE)*1)","v":"Noplayer"},{"$f":"IF(ISNA(VLOOKUP(N19,[1]PlayersList!$B$4:$D$957,3,FALSE)),\"Noplayer\",VLOOKUP(N19,[1]PlayersList!$B$4:$D$957,3,FALSE)*1)","v":"Noplayer"},{"$nulls":12},0,0,null,0,0]
[{"$f":"(IF(ISERROR(VLOOKUP(G20,Choix17!$M$2:$N$14,2,FALSE)&LEFT(J20,4)&RIGHT(LEFT(J20,LEN(J20)-1),2)),0,VLOOKUP(G20,Choix17!$M$2:$N$14,2,FALSE)&LEFT(J20,4)&RIGHT(LEFT(J20,LEN(J20)-1),2)))*1","v":0},{"$f":"(IF(ISERROR(VLOOKUP(L20,Choix17!$M$2:$N$14,2,FALSE)&LEFT(O20,4)&RIGHT(LEFT(O20,LEN(O20)-1),2)),0,VLOOKUP(L20,Choix17!$M$2:$N$14,2,FALSE)&LEFT(O20,4)&RIGHT(LEFT(O20,LEN(O20)-1),2)))*1","v":0},{"$f":"IF(ISNA(VLOOKUP(I20,[1]PlayersList!$B$4:$D$957,3,FALSE)),\"Noplayer\",VLOOKUP(I20,[1]PlayersList!$B$4:$D$957,3,FALSE)*1)","v":"Noplayer"},{"$f":"IF(ISNA(VLOOKUP(N20,[1]PlayersList!$B$4:$D$957,3,FALSE)),\"Noplayer\",VLOOKUP(N20,[1]PlayersList!$B$4:$D$957,3,FALSE)*1)","v":"Noplayer"},{"$nulls":12},0,0,null,0,0]
[{"$f":"(IF(ISERROR(VLOOKUP(G21,Choix17!$M$2:$N$14,2,FALSE)&LEFT(J21,4)&RIGHT(LEFT(J21,LEN(J21)-1),2)),0,VLOOKUP(G21,Choix17!$M$2:$N$14,2,FALSE)&LEFT(J21,4)&RIGHT(LEFT(J21,LEN(J21)-1),2)))*1","v":0},{"$f":"(IF(ISERROR(VLOOKUP(L21,Choix17!$M$2:$N$14,2,FALSE)&LEFT(O21,4)&RIGHT(LEFT(O21,LEN(O21)-1),2)),0,VLOOKUP(L21,Choix17!$M$2:$N$14,2,FALSE)&LEFT(O21,4)&RIGHT(LEFT(O21,LEN(O21)-1),2)))*1","v":0},{"$f":"IF(ISNA(VLOOKUP(I21,[1]PlayersList!$B$4:$D$957,3,FALSE)),\"Noplayer\",VLOOKUP(I21,[1]PlayersList!$B$4:$D$957,3,FALSE)*1)","v":"Noplayer"},{"$f":"IF(ISNA(VLOOKUP(N21,[1]PlayersList!$B$4:$D$957,3,FALSE)),\"Noplayer\",VLOOKUP(N21,[1]PlayersList!$B$4:$D$957,3,FALSE)*1)","v":"Noplayer"},{"$nulls":12},0,0,null,0,0]
[{"$f":"(IF(ISERROR(VLOOKUP(G22,Choix17!$M$2:$N$14,2,FALSE)&LEFT(J22,4)&RIGHT(LEFT(J22,LEN(J22)-1),2)),0,VLOOKUP(G22,Choix17!$M$2:$N$14,2,FALSE)&LEFT(J22,4)&RIGHT(LEFT(J22,LEN(J22)-1),2)))*1","v":0},{"$f":"(IF(ISERROR(VLOOKUP(L22,Choix17!$M$2:$N$14,2,FALSE)&LEFT(O22,4)&RIGHT(LEFT(O22,LEN(O22)-1),2)),0,VLOOKUP(L22,Choix17!$M$2:$N$14,2,FALSE)&LEFT(O22,4)&RIGHT(LEFT(O22,LEN(O22)-1),2)))*1","v":0},{"$f":"IF(ISNA(VLOOKUP(I22,[1]PlayersList!$B$4:$D$957,3,FALSE)),\"Noplayer\",VLOOKUP(I22,[1]PlayersList!$B$4:$D$957,3,FALSE)*1)","v":"Noplayer"},{"$f":"IF(ISNA(VLOOKUP(N22,[1]PlayersList!$B$4:$D$957,3,FALSE)),\"Noplayer\",VLOOKUP(N22,[1]PlayersList!$B$4:$D$957,3,FALSE)*1)","v":"Noplayer"},{"$nulls":12},0,0,null,0,0]
[{"$f":"(IF(ISERROR(VLOOKUP(G23,Choix17!$M$2:$N$14,2,FALSE)&LEFT(J23,4)&RIGHT(LEFT(J23,LEN(J23)-1),2)),0,VLOOKUP(G23,Choix17!$M$2:$N$14,2,FALSE)&LEFT(J23,4)&RIGHT(LEFT(J23,LEN(J23)-1),2)))*1","v":0},{"$f":"(IF(ISERROR(VLOOKUP(L23,Choix17!$M$2:$N$14,2,FALSE)&LEFT(O23,4)&RIGHT(LEFT(O23,LEN(O23)-1),2)),0,VLOOKUP(L23,Choix17!$M$2:$N$14,2,FALSE)&LEFT(O23,4)&RIGHT(LEFT(O23,LEN(O23)-1),2)))*1","v":0},{"$f":"IF(ISNA(VLOOKUP(I23,[1]PlayersList!$B$4:$D$957,3,FALSE)),\"Noplayer\",VLOOKUP(I23,[1]PlayersList!$B$4:$D$957,3,FALSE)*1)","v":"Noplayer"},{"$f":"IF(ISNA(VLOOKUP(N23,[1]PlayersList!$B$4:$D$957,3,FALSE)),\"Noplayer\",VLOOKUP(N23,[1]PlayersList!$B$4:$D$957,3,FALSE)*1)","v":"Noplayer"},{"$nulls":12},0,0,null,0,0]
[{"$f":"(IF(ISERROR(VLOOKUP(G24,Choix17!$M$2:$N$14,2,FALSE)&LEFT(J24,4)&RIGHT(LEFT(J24,LEN(J24)-1),2)),0,VLOOKUP(G24,Choix17!$M$2:$N$14,2,FALSE)&LEFT(J24,4)&RIGHT(LEFT(J24,LEN(J24)-1),2)))*1","v":0},{"$f":"(IF(ISERROR(VLOOKUP(L24,Choix17!$M$2:$N$14,2,FALSE)&LEFT(O24,4)&RIGHT(LEFT(O24,LEN(O24)-1),2)),0,VLOOKUP(L24,Choix17!$M$2:$N$14,2,FALSE)&LEFT(O24,4)&RIGHT(LEFT(O24,LEN(O24)-1),2)))*1","v":0},{"$f":"IF(ISNA(VLOOKUP(I24,[1]PlayersList!$B$4:$D$957,3,FALSE)),\"Noplayer\",VLOOKUP(I24,[1]PlayersList!$B$4:$D$957,3,FALSE)*1)","v":"Noplayer"},{"$f":"IF(ISNA(VLOOKUP(N24,[1]PlayersList!$B$4:$D$957,3,FALSE)),\"Noplayer\",VLOOKUP(N24,[1]PlayersList!$B$4:$D$957,3,FALSE)*1)","v":"Noplayer"},{"$nulls":12},0,0,null,0,0]
[{"$f":"(IF(ISERROR(VLOOKUP(G25,Choix17!$M$2:$N$14,2,FALSE)&LEFT(J25,4)&RIGHT(LEFT(J25,LEN(J25)-1),2)),0,VLOOKUP(G25,Choix17!$M$2:$N$14,2,FALSE)&LEFT(J25,4)&RIGHT(LEFT(J25,LEN(J25)-1),2)))*1","v":0},{"$f":"(IF(ISERROR(VLOOKUP(L25,Choix17!$M$2:$N$14,2,FALSE)&LEFT(O25,4)&RIGHT(LEFT(O25,LEN(O25)-1),2)),0,VLOOKUP(L25,Choix17!$M$2:$N$14,2,FALSE)&LEFT(O25,4)&RIGHT(LEFT(O25,LEN(O25)-1),2)))*1","v":0},{"$f":"IF(ISNA(VLOOKUP(I25,[1]PlayersList!$B$4:$D$957,3,FALSE)),\"Noplayer\",VLOOKUP(I25,[1]PlayersList!$B$4:$D$957,3,FALSE)*1)","v":"Noplayer"},{"$f":"IF(ISNA(VLOOKUP(N25,[1]PlayersList!$B$4:$D$957,3,FALSE)),\"Noplayer\",VLOOKUP(N25,[1]PlayersList!$B$4:$D$957,3,FALSE)*1)","v":"Noplayer"},{"$nulls":12},0,0,null,0,0]
[{"$f":"(IF(ISERROR(VLOOKUP(G26,Choix17!$M$2:$N$14,2,FALSE)&LEFT(J26,4)&RIGHT(LEFT(J26,LEN(J26)-1),2)),0,VLOOKUP(G26,Choix17!$M$2:$N$14,2,FALSE)&LEFT(J26,4)&RIGHT(LEFT(J26,LEN(J26)-1),2)))*1","v":0},{"$f":"(IF(ISERROR(VLOOKUP(L26,Choix17!$M$2:$N$14,2,FALSE)&LEFT(O26,4)&RIGHT(LEFT(O26,LEN(O26)-1),2)),0,VLOOKUP(L26,Choix17!$M$2:$N$14,2,FALSE)&LEFT(O26,4)&RIGHT(LEFT(O26,LEN(O26)-1),2)))*1","v":0},{"$f":"IF(ISNA(VLOOKUP(I26,[1]PlayersList!$B$4:$D$957,3,FALSE)),\"Noplayer\",VLOOKUP(I26,[1]PlayersList!$B$4:$D$957,3,FALSE)*1)","v":"Noplayer"},{"$f":"IF(ISNA(VLOOKUP(N26,[1]PlayersList!$B$4:$D$957,3,FALSE)),\"Noplayer\",VLOOKUP(N26,[1]PlayersList!$B$4:$D$957,3,FALSE)*1)","v":"Noplayer"},{"$nulls":12},0,0,null,0,0]
[{"$f":"(IF(ISERROR(VLOOKUP(G27,Choix17!$M$2:$N$14,2,FALSE)&LEFT(J27,4)&RIGHT(LEFT(J27,LEN(J27)-1),2)),0,VLOOKUP(G27,Choix17!$M$2:$N$14,2,FALSE)&LEFT(J27,4)&RIGHT(LEFT(J27,LEN(J27)-1),2)))*1","v":0},{"$f":"(IF(ISERROR(VLOOKUP(L27,Choix17!$M$2:$N$14,2,FALSE)&LEFT(O27,4)&RIGHT(LEFT(O27,LEN(O27)-1),2)),0,VLOOKUP(L27,Choix17!$M$2:$N$14,2,FALSE)&LEFT(O27,4)&RIGHT(LEFT(O27,LEN(O27)-1),2)))*1","v":0},{"$f":"IF(ISNA(VLOOKUP(I27,[1]PlayersList!$B$4:$D$957,3,FALSE)),\"Noplayer\",VLOOKUP(I27,[1]PlayersList!$B$4:$D$957,3,FALSE)*1)","v":"Noplayer"},{"$f":"IF(ISNA(VLOOKUP(N27,[1]PlayersList!$B$4:$D$957,3,FALSE)),\"Noplayer\",VLOOKUP(N27,[1]PlayersList!$B$4:$D$957,3,FALSE)*1)","v":"Noplayer"},{"$nulls":12},0,0,null,0,0]
[{"$f":"(IF(ISERROR(VLOOKUP(G28,Choix17!$M$2:$N$14,2,FALSE)&LEFT(J28,4)&RIGHT(LEFT(J28,LEN(J28)-1),2)),0,VLOOKUP(G28,Choix17!$M$2:$N$14,2,FALSE)&LEFT(J28,4)&RIGHT(LEFT(J28,LEN(J28)-1),2)))*1","v":0},{"$f":"(IF(ISERROR(VLOOKUP(L28,Choix17!$M$2:$N$14,2,FALSE)&LEFT(O28,4)&RIGHT(LEFT(O28,LEN(O28)-1),2)),0,VLOOKUP(L28,Choix17!$M$2:$N$14,2,FALSE)&LEFT(O28,4)&RIGHT(LEFT(O28,LEN(O28)-1),2)))*1","v":0},{"$f":"IF(ISNA(VLOOKUP(I28,[1]PlayersList!$B$4:$D$957,3,FALSE)),\"Noplayer\",VLOOKUP(I28,[1]PlayersList!$B$4:$D$957,3,FALSE)*1)","v":"Noplayer"},{"$f":"IF(ISNA(VLOOKUP(N28,[1]PlayersList!$B$4:$D$957,3,FALSE)),\"Noplayer\",VLOOKUP(N28,[1]PlayersList!$B$4:$D$957,3,FALSE)*1)","v":"Noplayer"},{"$nulls":12},0,0]
[{"$f":"(IF(ISERROR(VLOOKUP(G29,Choix17!$M$2:$N$14,2,FALSE)&LEFT(J29,4)&RIGHT(LEFT(J29,LEN(J29)-1),2)),0,VLOOKUP(G29,Choix17!$M$2:$N$14,2,FALSE)&LEFT(J29,4)&RIGHT(LEFT(J29,LEN(J29)-1),2)))*1","v":0},{"$f":"(IF(ISERROR(VLOOKUP(L29,Choix17!$M$2:$N$14,2,FALSE)&LEFT(O29,4)&RIGHT(LEFT(O29,LEN(O29)-1),2)),0,VLOOKUP(L29,Choix17!$M$2:$N$14,2,FALSE)&LEFT(O29,4)&RIGHT(LEFT(O29,LEN(O29)-1),2)))*1","v":0},{"$f":"IF(ISNA(VLOOKUP(I29,[1]PlayersList!$B$4:$D$957,3,FALSE)),\"Noplayer\",VLOOKUP(I29,[1]PlayersList!$B$4:$D$957,3,FALSE)*1)","v":"Noplayer"},{"$f":"IF(ISNA(VLOOKUP(N29,[1]PlayersList!$B$4:$D$957,3,FALSE)),\"Noplayer\",VLOOKUP(N29,[1]PlayersList!$B$4:$D$957,3,FALSE)*1)","v":"Noplayer"},{"$nulls":12},0,0]
[{"$f":"(IF(ISERROR(VLOOKUP(G30,Choix17!$M$2:$N$14,2,FALSE)&LEFT(J30,4)&RIGHT(LEFT(J30,LEN(J30)-1),2)),0,VLOOKUP(G30,Choix17!$M$2:$N$14,2,FALSE)&LEFT(J30,4)&RIGHT(LEFT(J30,LEN(J30)-1),2)))*1","v":0},{"$f":"(IF(ISERROR(VLOOKUP(L30,Choix17!$M$2:$N$14,2,FALSE)&LEFT(O30,4)&RIGHT(LEFT(O30,LEN(O30)-1),2)),0,VLOOKUP(L30,Choix17!$M$2:$N$14,2,FALSE)&LEFT(O30,4)&RIGHT(LEFT(O30,LEN(O30)-1),2)))*1","v":0},{"$f":"IF(ISNA(VLOOKUP(I30,[1]PlayersList!$B$4:$D$957,3,FALSE)),\"Noplayer\",VLOOKUP(I30,[1]PlayersList!$B$4:$D$957,3,FALSE)*1)","v":"Noplayer"},{"$f":"IF(ISNA(VLOOKUP(N30,[1]PlayersList!$B$4:$D$957,3,FALSE)),\"Noplayer\",VLOOKUP(N30,[1]PlayersList!$B$4:$D$957,3,FALSE)*1)","v":"Noplayer"},{"$nulls":12},0,0,null,{"$f":"IF(C30=\"Noplayer\",0,COUNTIF($C:$D,C30))","v":0},0]
[{"$f":"(IF(ISERROR(VLOOKUP(G31,Choix17!$M$2:$N$14,2,FALSE)&LEFT(J31,4)&RIGHT(LEFT(J31,LEN(J31)-1),2)),0,VLOOKUP(G31,Choix17!$M$2:$N$14,2,FALSE)&LEFT(J31,4)&RIGHT(LEFT(J31,LEN(J31)-1),2)))*1","v":0},{"$f":"(IF(ISERROR(VLOOKUP(L31,Choix17!$M$2:$N$14,2,FALSE)&LEFT(O31,4)&RIGHT(LEFT(O31,LEN(O31)-1),2)),0,VLOOKUP(L31,Choix17!$M$2:$N$14,2,FALSE)&LEFT(O31,4)&RIGHT(LEFT(O31,LEN(O31)-1),2)))*1","v":0},{"$f":"IF(ISNA(VLOOKUP(I31,[1]PlayersList!$B$4:$D$957,3,FALSE)),\"Noplayer\",VLOOKUP(I31,[1]PlayersList!$B$4:$D$957,3,FALSE)*1)","v":"Noplayer"},{"$f":"IF(ISNA(VLOOKUP(N31,[1]PlayersList!$B$4:$D$957,3,FALSE)),\"Noplayer\",VLOOKUP(N31,[1]PlayersList!$B$4:$D$957,3,FALSE)*1)","v":"Noplayer"},{"$nulls":12},0,0,null,0,0]
[{"$f":"(IF(ISERROR(VLOOKUP(G32,Choix17!$M$2:$N$14,2,FALSE)&LEFT(J32,4)&RIGHT(LEFT(J32,LEN(J32)-1),2)),0,VLOOKUP(G32,Choix17!$M$2:$N$14,2,FALSE)&LEFT(J32,4)&RIGHT(LEFT(J32,LEN(J32)-1),2)))*1","v":0},{"$f":"(IF(ISERROR(VLOOKUP(L32,Choix17!$M$2:$N$14,2,FALSE)&LEFT(O32,4)&RIGHT(LEFT(O32,LEN(O32)-1),2)),0,VLOOKUP(L32,Choix17!$M$2:$N$14,2,FALSE)&LEFT(O32,4)&RIGHT(LEFT(O32,LEN(O32)-1),2)))*1","v":0},{"$f":"IF(ISNA(VLOOKUP(I32,[1]PlayersList!$B$4:$D$957,3,FALSE)),\"Noplayer\",VLOOKUP(I32,[1]PlayersList!$B$4:$D$957,3,FALSE)*1)","v":"Noplayer"},{"$f":"IF(ISNA(VLOOKUP(N32,[1]PlayersList!$B$4:$D$957,3,FALSE)),\"Noplayer\",VLOOKUP(N32,[1]PlayersList!$B$4:$D$957,3,FALSE)*1)","v":"Noplayer"},{"$nulls":12},0,0,null,0,0]
[{"$f":"(IF(ISERROR(VLOOKUP(G33,Choix17!$M$2:$N$14,2,FALSE)&LEFT(J33,4)&RIGHT(LEFT(J33,LEN(J33)-1),2)),0,VLOOKUP(G33,Choix17!$M$2:$N$14,2,FALSE)&LEFT(J33,4)&RIGHT(LEFT(J33,LEN(J33)-1),2)))*1","v":0},{"$f":"(IF(ISERROR(VLOOKUP(L33,Choix17!$M$2:$N$14,2,FALSE)&LEFT(O33,4)&RIGHT(LEFT(O33,LEN(O33)-1),2)),0,VLOOKUP(L33,Choix17!$M$2:$N$14,2,FALSE)&LEFT(O33,4)&RIGHT(LEFT(O33,LEN(O33)-1),2)))*1","v":0},{"$f":"IF(ISNA(VLOOKUP(I33,[1]PlayersList!$B$4:$D$957,3,FALSE)),\"Noplayer\",VLOOKUP(I33,[1]PlayersList!$B$4:$D$957,3,FALSE)*1)","v":"Noplayer"},{"$f":"IF(ISNA(VLOOKUP(N33,[1]PlayersList!$B$4:$D$957,3,FALSE)),\"Noplayer\",VLOOKUP(N33,[1]PlayersList!$B$4:$D$957,3,FALSE)*1)","v":"Noplayer"},{"$nulls":12},0,0,null,0,0]
[{"$f":"(IF(ISERROR(VLOOKUP(G34,Choix17!$M$2:$N$14,2,FALSE)&LEFT(J34,4)&RIGHT(LEFT(J34,LEN(J34)-1),2)),0,VLOOKUP(G34,Choix17!$M$2:$N$14,2,FALSE)&LEFT(J34,4)&RIGHT(LEFT(J34,LEN(J34)-1),2)))*1","v":0},{"$f":"(IF(ISERROR(VLOOKUP(L34,Choix17!$M$2:$N$14,2,FALSE)&LEFT(O34,4)&RIGHT(LEFT(O34,LEN(O34)-1),2)),0,VLOOKUP(L34,Choix17!$M$2:$N$14,2,FALSE)&LEFT(O34,4)&RIGHT(LEFT(O34,LEN(O34)-1),2)))*1","v":0},{"$f":"IF(ISNA(VLOOKUP(I34,[1]PlayersList!$B$4:$D$957,3,FALSE)),\"Noplayer\",VLOOKUP(I34,[1]PlayersList!$B$4:$D$957,3,FALSE)*1)","v":"Noplayer"},{"$f":"IF(ISNA(VLOOKUP(N34,[1]PlayersList!$B$4:$D$957,3,FALSE)),\"Noplayer\",VLOOKUP(N34,[1]PlayersList!$B$4:$D$957,3,FALSE)*1)","v":"Noplayer"},{"$nulls":12},0,0,null,0,0]
[{"$f":"(IF(ISERROR(VLOOKUP(G35,Choix17!$M$2:$N$14,2,FALSE)&LEFT(J35,4)&RIGHT(LEFT(J35,LEN(J35)-1),2)),0,VLOOKUP(G35,Choix17!$M$2:$N$14,2,FALSE)&LEFT(J35,4)&RIGHT(LEFT(J35,LEN(J35)-1),2)))*1","v":0},{"$f":"(IF(ISERROR(VLOOKUP(L35,Choix17!$M$2:$N$14,2,FALSE)&LEFT(O35,4)&RIGHT(LEFT(O35,LEN(O35)-1),2)),0,VLOOKUP(L35,Choix17!$M$2:$N$14,2,FALSE)&LEFT(O35,4)&RIGHT(LEFT(O35,LEN(O35)-1),2)))*1","v":0},{"$f":"IF(ISNA(VLOOKUP(I35,[1]PlayersList!$B$4:$D$957,3,FALSE)),\"Noplayer\",VLOOKUP(I35,[1]PlayersList!$B$4:$D$957,3,FALSE)*1)","v":"Noplayer"},{"$f":"IF(ISNA(VLOOKUP(N35,[1]PlayersList!$B$4:$D$957,3,FALSE)),\"Noplayer\",VLOOKUP(N35,[1]PlayersList!$B$4:$D$957,3,FALSE)*1)","v":"Noplayer"},{"$nulls":12},0,0,null,0,0]
[{"$f":"(IF(ISERROR(VLOOKUP(G36,Choix17!$M$2:$N$14,2,FALSE)&LEFT(J36,4)&RIGHT(LEFT(J36,LEN(J36)-1),2)),0,VLOOKUP(G36,Choix17!$M$2:$N$14,2,FALSE)&LEFT(J36,4)&RIGHT(LEFT(J36,LEN(J36)-1),2)))*1","v":0},{"$f":"(IF(ISERROR(VLOOKUP(L36,Choix17!$M$2:$N$14,2,FALSE)&LEFT(O36,4)&RIGHT(LEFT(O36,LEN(O36)-1),2)),0,VLOOKUP(L36,Choix17!$M$2:$N$14,2,FALSE)&LEFT(O36,4)&RIGHT(LEFT(O36,LEN(O36)-1),2)))*1","v":0},{"$f":"IF(ISNA(VLOOKUP(I36,[1]PlayersList!$B$4:$D$957,3,FALSE)),\"Noplayer\",VLOOKUP(I36,[1]PlayersList!$B$4:$D$957,3,FALSE)*1)","v":"Noplayer"},{"$f":"IF(ISNA(VLOOKUP(N36,[1]PlayersList!$B$4:$D$957,3,FALSE)),\"Noplayer\",VLOOKUP(N36,[1]PlayersList!$B$4:$D$957,3,FALSE)*1)","v":"Noplayer"},{"$nulls":12},0,0]
[{"$f":"(IF(ISERROR(VLOOKUP(G37,Choix17!$M$2:$N$14,2,FALSE)&LEFT(J37,4)&RIGHT(LEFT(J37,LEN(J37)-1),2)),0,VLOOKUP(G37,Choix17!$M$2:$N$14,2,FALSE)&LEFT(J37,4)&RIGHT(LEFT(J37,LEN(J37)-1),2)))*1","v":0},{"$f":"(IF(ISERROR(VLOOKUP(L37,Choix17!$M$2:$N$14,2,FALSE)&LEFT(O37,4)&RIGHT(LEFT(O37,LEN(O37)-1),2)),0,VLOOKUP(L37,Choix17!$M$2:$N$14,2,FALSE)&LEFT(O37,4)&RIGHT(LEFT(O37,LEN(O37)-1),2)))*1","v":0},{"$f":"IF(ISNA(VLOOKUP(I37,[1]PlayersList!$B$4:$D$957,3,FALSE)),\"Noplayer\",VLOOKUP(I37,[1]PlayersList!$B$4:$D$957,3,FALSE)*1)","v":"Noplayer"},{"$f":"IF(ISNA(VLOOKUP(N37,[1]PlayersList!$B$4:$D$957,3,FALSE)),\"Noplayer\",VLOOKUP(N37,[1]PlayersList!$B$4:$D$957,3,FALSE)*1)","v":"Noplayer"},{"$nulls":12},0,0,null,{"$f":"IF(C37=\"Noplayer\",0,COUNTIF($C:$D,C37))","v":0},{"$f":"IF(D37=\"Noplayer\",0,COUNTIF($C:$D,D37))","v":0}]
[{"$f":"(IF(ISERROR(VLOOKUP(G38,Choix17!$M$2:$N$14,2,FALSE)&LEFT(J38,4)&RIGHT(LEFT(J38,LEN(J38)-1),2)),0,VLOOKUP(G38,Choix17!$M$2:$N$14,2,FALSE)&LEFT(J38,4)&RIGHT(LEFT(J38,LEN(J38)-1),2)))*1","v":0},{"$f":"(IF(ISERROR(VLOOKUP(L38,Choix17!$M$2:$N$14,2,FALSE)&LEFT(O38,4)&RIGHT(LEFT(O38,LEN(O38)-1),2)),0,VLOOKUP(L38,Choix17!$M$2:$N$14,2,FALSE)&LEFT(O38,4)&RIGHT(LEFT(O38,LEN(O38)-1),2)))*1","v":0},{"$f":"IF(ISNA(VLOOKUP(I38,[1]PlayersList!$B$4:$D$957,3,FALSE)),\"Noplayer\",VLOOKUP(I38,[1]PlayersList!$B$4:$D$957,3,FALSE)*1)","v":"Noplayer"},{"$f":"IF(ISNA(VLOOKUP(N38,[1]PlayersList!$B$4:$D$957,3,FALSE)),\"Noplayer\",VLOOKUP(N38,[1]PlayersList!$B$4:$D$957,3,FALSE)*1)","v":"Noplayer"},{"$nulls":12},0,0]
[{"$f":"(IF(ISERROR(VLOOKUP(G39,Choix17!$M$2:$N$14,2,FALSE)&LEFT(J39,4)&RIGHT(LEFT(J39,LEN(J39)-1),2)),0,VLOOKUP(G39,Choix17!$M$2:$N$14,2,FALSE)&LEFT(J39,4)&RIGHT(LEFT(J39,LEN(J39)-1),2)))*1","v":0},{"$f":"(IF(ISERROR(VLOOKUP(L39,Choix17!$M$2:$N$14,2,FALSE)&LEFT(O39,4)&RIGHT(LEFT(O39,LEN(O39)-1),2)),0,VLOOKUP(L39,Choix17!$M$2:$N$14,2,FALSE)&LEFT(O39,4)&RIGHT(LEFT(O39,LEN(O39)-1),2)))*1","v":0},{"$f":"IF(ISNA(VLOOKUP(I39,[1]PlayersList!$B$4:$D$957,3,FALSE)),\"Noplayer\",VLOOKUP(I39,[1]PlayersList!$B$4:$D$957,3,FALSE)*1)","v":"Noplayer"},{"$f":"IF(ISNA(VLOOKUP(N39,[1]PlayersList!$B$4:$D$957,3,FALSE)),\"Noplayer\",VLOOKUP(N39,[1]PlayersList!$B$4:$D$957,3,FALSE)*1)","v":"Noplayer"},{"$nulls":12},0,0]
[{"$f":"(IF(ISERROR(VLOOKUP(G40,Choix17!$M$2:$N$14,2,FALSE)&LEFT(J40,4)&RIGHT(LEFT(J40,LEN(J40)-1),2)),0,VLOOKUP(G40,Choix17!$M$2:$N$14,2,FALSE)&LEFT(J40,4)&RIGHT(LEFT(J40,LEN(J40)-1),2)))*1","v":0},{"$f":"(IF(ISERROR(VLOOKUP(L40,Choix17!$M$2:$N$14,2,FALSE)&LEFT(O40,4)&RIGHT(LEFT(O40,LEN(O40)-1),2)),0,VLOOKUP(L40,Choix17!$M$2:$N$14,2,FALSE)&LEFT(O40,4)&RIGHT(LEFT(O40,LEN(O40)-1),2)))*1","v":0},{"$f":"IF(ISNA(VLOOKUP(I40,[1]PlayersList!$B$4:$D$957,3,FALSE)),\"Noplayer\",VLOOKUP(I40,[1]PlayersList!$B$4:$D$957,3,FALSE)*1)","v":"Noplayer"},{"$f":"IF(ISNA(VLOOKUP(N40,[1]PlayersList!$B$4:$D$957,3,FALSE)),\"Noplayer\",VLOOKUP(N40,[1]PlayersList!$B$4:$D$957,3,FALSE)*1)","v":"Noplayer"},{"$nulls":12},0,0]
[{"$f":"(IF(ISERROR(VLOOKUP(G41,Choix17!$M$2:$N$14,2,FALSE)&LEFT(J41,4)&RIGHT(LEFT(J41,LEN(J41)-1),2)),0,VLOOKUP(G41,Choix17!$M$2:$N$14,2,FALSE)&LEFT(J41,4)&RIGHT(LEFT(J41,LEN(J41)-1),2)))*1","v":0},{"$f":"(IF(ISERROR(VLOOKUP(L41,Choix17!$M$2:$N$14,2,FALSE)&LEFT(O41,4)&RIGHT(LEFT(O41,LEN(O41)-1),2)),0,VLOOKUP(L41,Choix17!$M$2:$N$14,2,FALSE)&LEFT(O41,4)&RIGHT(LEFT(O41,LEN(O41)-1),2)))*1","v":0},{"$f":"IF(ISNA(VLOOKUP(I41,[1]PlayersList!$B$4:$D$957,3,FALSE)),\"Noplayer\",VLOOKUP(I41,[1]PlayersList!$B$4:$D$957,3,FALSE)*1)","v":"Noplayer"},{"$f":"IF(ISNA(VLOOKUP(N41,[1]PlayersList!$B$4:$D$957,3,FALSE)),\"Noplayer\",VLOOKUP(N41,[1]PlayersList!$B$4:$D$957,3,FALSE)*1)","v":"Noplayer"},{"$nulls":12},0,0]
[{"$f":"(IF(ISERROR(VLOOKUP(G42,Choix17!$M$2:$N$14,2,FALSE)&LEFT(J42,4)&RIGHT(LEFT(J42,LEN(J42)-1),2)),0,VLOOKUP(G42,Choix17!$M$2:$N$14,2,FALSE)&LEFT(J42,4)&RIGHT(LEFT(J42,LEN(J42)-1),2)))*1","v":0},{"$f":"(IF(ISERROR(VLOOKUP(L42,Choix17!$M$2:$N$14,2,FALSE)&LEFT(O42,4)&RIGHT(LEFT(O42,LEN(O42)-1),2)),0,VLOOKUP(L42,Choix17!$M$2:$N$14,2,FALSE)&LEFT(O42,4)&RIGHT(LEFT(O42,LEN(O42)-1),2)))*1","v":0},{"$f":"IF(ISNA(VLOOKUP(I42,[1]PlayersList!$B$4:$D$957,3,FALSE)),\"Noplayer\",VLOOKUP(I42,[1]PlayersList!$B$4:$D$957,3,FALSE)*1)","v":"Noplayer"},{"$f":"IF(ISNA(VLOOKUP(N42,[1]PlayersList!$B$4:$D$957,3,FALSE)),\"Noplayer\",VLOOKUP(N42,[1]PlayersList!$B$4:$D$957,3,FALSE)*1)","v":"Noplayer"},{"$nulls":12},0,0]
[{"$f":"(IF(ISERROR(VLOOKUP(G43,Choix17!$M$2:$N$14,2,FALSE)&LEFT(J43,4)&RIGHT(LEFT(J43,LEN(J43)-1),2)),0,VLOOKUP(G43,Choix17!$M$2:$N$14,2,FALSE)&LEFT(J43,4)&RIGHT(LEFT(J43,LEN(J43)-1),2)))*1","v":0},{"$f":"(IF(ISERROR(VLOOKUP(L43,Choix17!$M$2:$N$14,2,FALSE)&LEFT(O43,4)&RIGHT(LEFT(O43,LEN(O43)-1),2)),0,VLOOKUP(L43,Choix17!$M$2:$N$14,2,FALSE)&LEFT(O43,4)&RIGHT(LEFT(O43,LEN(O43)-1),2)))*1","v":0},{"$f":"IF(ISNA(VLOOKUP(I43,[1]PlayersList!$B$4:$D$957,3,FALSE)),\"Noplayer\",VLOOKUP(I43,[1]PlayersList!$B$4:$D$957,3,FALSE)*1)","v":"Noplayer"},{"$f":"IF(ISNA(VLOOKUP(N43,[1]PlayersList!$B$4:$D$957,3,FALSE)),\"Noplayer\",VLOOKUP(N43,[1]PlayersList!$B$4:$D$957,3,FALSE)*1)","v":"Noplayer"},{"$nulls":12},0,0]
[{"$f":"(IF(ISERROR(VLOOKUP(G44,Choix17!$M$2:$N$14,2,FALSE)&LEFT(J44,4)&RIGHT(LEFT(J44,LEN(J44)-1),2)),0,VLOOKUP(G44,Choix17!$M$2:$N$14,2,FALSE)&LEFT(J44,4)&RIGHT(LEFT(J44,LEN(J44)-1),2)))*1","v":0},{"$f":"(IF(ISERROR(VLOOKUP(L44,Choix17!$M$2:$N$14,2,FALSE)&LEFT(O44,4)&RIGHT(LEFT(O44,LEN(O44)-1),2)),0,VLOOKUP(L44,Choix17!$M$2:$N$14,2,FALSE)&LEFT(O44,4)&RIGHT(LEFT(O44,LEN(O44)-1),2)))*1","v":0},{"$f":"IF(ISNA(VLOOKUP(I44,[1]PlayersList!$B$4:$D$957,3,FALSE)),\"Noplayer\",VLOOKUP(I44,[1]PlayersList!$B$4:$D$957,3,FALSE)*1)","v":"Noplayer"},{"$f":"IF(ISNA(VLOOKUP(N44,[1]PlayersList!$B$4:$D$957,3,FALSE)),\"Noplayer\",VLOOKUP(N44,[1]PlayersList!$B$4:$D$957,3,FALSE)*1)","v":"Noplayer"},{"$nulls":12},0,0]
[{"$f":"(IF(ISERROR(VLOOKUP(G45,Choix17!$M$2:$N$14,2,FALSE)&LEFT(J45,4)&RIGHT(LEFT(J45,LEN(J45)-1),2)),0,VLOOKUP(G45,Choix17!$M$2:$N$14,2,FALSE)&LEFT(J45,4)&RIGHT(LEFT(J45,LEN(J45)-1),2)))*1","v":0},{"$f":"(IF(ISERROR(VLOOKUP(L45,Choix17!$M$2:$N$14,2,FALSE)&LEFT(O45,4)&RIGHT(LEFT(O45,LEN(O45)-1),2)),0,VLOOKUP(L45,Choix17!$M$2:$N$14,2,FALSE)&LEFT(O45,4)&RIGHT(LEFT(O45,LEN(O45)-1),2)))*1","v":0},{"$f":"IF(ISNA(VLOOKUP(I45,[1]PlayersList!$B$4:$D$957,3,FALSE)),\"Noplayer\",VLOOKUP(I45,[1]PlayersList!$B$4:$D$957,3,FALSE)*1)","v":"Noplayer"},{"$f":"IF(ISNA(VLOOKUP(N45,[1]PlayersList!$B$4:$D$957,3,FALSE)),\"Noplayer\",VLOOKUP(N45,[1]PlayersList!$B$4:$D$957,3,FALSE)*1)","v":"Noplayer"},{"$nulls":12},0,0]
[{"$f":"(IF(ISERROR(VLOOKUP(G46,Choix17!$M$2:$N$14,2,FALSE)&LEFT(J46,4)&RIGHT(LEFT(J46,LEN(J46)-1),2)),0,VLOOKUP(G46,Choix17!$M$2:$N$14,2,FALSE)&LEFT(J46,4)&RIGHT(LEFT(J46,LEN(J46)-1),2)))*1","v":0},{"$f":"(IF(ISERROR(VLOOKUP(L46,Choix17!$M$2:$N$14,2,FALSE)&LEFT(O46,4)&RIGHT(LEFT(O46,LEN(O46)-1),2)),0,VLOOKUP(L46,Choix17!$M$2:$N$14,2,FALSE)&LEFT(O46,4)&RIGHT(LEFT(O46,LEN(O46)-1),2)))*1","v":0},{"$f":"IF(ISNA(VLOOKUP(I46,[1]PlayersList!$B$4:$D$957,3,FALSE)),\"Noplayer\",VLOOKUP(I46,[1]PlayersList!$B$4:$D$957,3,FALSE)*1)","v":"Noplayer"},{"$f":"IF(ISNA(VLOOKUP(N46,[1]PlayersList!$B$4:$D$957,3,FALSE)),\"Noplayer\",VLOOKUP(N46,[1]PlayersList!$B$4:$D$957,3,FALSE)*1)","v":"Noplayer"},{"$nulls":12},0,0]
[{"$f":"(IF(ISERROR(VLOOKUP(G47,Choix17!$M$2:$N$14,2,FALSE)&LEFT(J47,4)&RIGHT(LEFT(J47,LEN(J47)-1),2)),0,VLOOKUP(G47,Choix17!$M$2:$N$14,2,FALSE)&LEFT(J47,4)&RIGHT(LEFT(J47,LEN(J47)-1),2)))*1","v":0},{"$f":"(IF(ISERROR(VLOOKUP(L47,Choix17!$M$2:$N$14,2,FALSE)&LEFT(O47,4)&RIGHT(LEFT(O47,LEN(O47)-1),2)),0,VLOOKUP(L47,Choix17!$M$2:$N$14,2,FALSE)&LEFT(O47,4)&RIGHT(LEFT(O47,LEN(O47)-1),2)))*1","v":0},{"$f":"IF(ISNA(VLOOKUP(I47,[1]PlayersList!$B$4:$D$957,3,FALSE)),\"Noplayer\",VLOOKUP(I47,[1]PlayersList!$B$4:$D$957,3,FALSE)*1)","v":"Noplayer"},{"$f":"IF(ISNA(VLOOKUP(N47,[1]PlayersList!$B$4:$D$957,3,FALSE)),\"Noplayer\",VLOOKUP(N47,[1]PlayersList!$B$4:$D$957,3,FALSE)*1)","v":"Noplayer"},{"$nulls":12},0,0]
[{"$f":"(IF(ISERROR(VLOOKUP(G48,Choix17!$M$2:$N$14,2,FALSE)&LEFT(J48,4)&RIGHT(LEFT(J48,LEN(J48)-1),2)),0,VLOOKUP(G48,Choix17!$M$2:$N$14,2,FALSE)&LEFT(J48,4)&RIGHT(LEFT(J48,LEN(J48)-1),2)))*1","v":0},{"$f":"(IF(ISERROR(VLOOKUP(L48,Choix17!$M$2:$N$14,2,FALSE)&LEFT(O48,4)&RIGHT(LEFT(O48,LEN(O48)-1),2)),0,VLOOKUP(L48,Choix17!$M$2:$N$14,2,FALSE)&LEFT(O48,4)&RIGHT(LEFT(O48,LEN(O48)-1),2)))*1","v":0},{"$f":"IF(ISNA(VLOOKUP(I48,[1]PlayersList!$B$4:$D$957,3,FALSE)),\"Noplayer\",VLOOKUP(I48,[1]PlayersList!$B$4:$D$957,3,FALSE)*1)","v":"Noplayer"},{"$f":"IF(ISNA(VLOOKUP(N48,[1]PlayersList!$B$4:$D$957,3,FALSE)),\"Noplayer\",VLOOKUP(N48,[1]PlayersList!$B$4:$D$957,3,FALSE)*1)","v":"Noplayer"},{"$nulls":12},0,0]
[{"$f":"(IF(ISERROR(VLOOKUP(G49,Choix17!$M$2:$N$14,2,FALSE)&LEFT(J49,4)&RIGHT(LEFT(J49,LEN(J49)-1),2)),0,VLOOKUP(G49,Choix17!$M$2:$N$14,2,FALSE)&LEFT(J49,4)&RIGHT(LEFT(J49,LEN(J49)-1),2)))*1","v":0},{"$f":"(IF(ISERROR(VLOOKUP(L49,Choix17!$M$2:$N$14,2,FALSE)&LEFT(O49,4)&RIGHT(LEFT(O49,LEN(O49)-1),2)),0,VLOOKUP(L49,Choix17!$M$2:$N$14,2,FALSE)&LEFT(O49,4)&RIGHT(LEFT(O49,LEN(O49)-1),2)))*1","v":0},{"$f":"IF(ISNA(VLOOKUP(I49,[1]PlayersList!$B$4:$D$957,3,FALSE)),\"Noplayer\",VLOOKUP(I49,[1]PlayersList!$B$4:$D$957,3,FALSE)*1)","v":"Noplayer"},{"$f":"IF(ISNA(VLOOKUP(N49,[1]PlayersList!$B$4:$D$957,3,FALSE)),\"Noplayer\",VLOOKUP(N49,[1]PlayersList!$B$4:$D$957,3,FALSE)*1)","v":"Noplayer"},{"$nulls":12},0,0]
[{"$f":"(IF(ISERROR(VLOOKUP(G50,Choix17!$M$2:$N$14,2,FALSE)&LEFT(J50,4)&RIGHT(LEFT(J50,LEN(J50)-1),2)),0,VLOOKUP(G50,Choix17!$M$2:$N$14,2,FALSE)&LEFT(J50,4)&RIGHT(LEFT(J50,LEN(J50)-1),2)))*1","v":0},{"$f":"(IF(ISERROR(VLOOKUP(L50,Choix17!$M$2:$N$14,2,FALSE)&LEFT(O50,4)&RIGHT(LEFT(O50,LEN(O50)-1),2)),0,VLOOKUP(L50,Choix17!$M$2:$N$14,2,FALSE)&LEFT(O50,4)&RIGHT(LEFT(O50,LEN(O50)-1),2)))*1","v":0},{"$f":"IF(ISNA(VLOOKUP(I50,[1]PlayersList!$B$4:$D$957,3,FALSE)),\"Noplayer\",VLOOKUP(I50,[1]PlayersList!$B$4:$D$957,3,FALSE)*1)","v":"Noplayer"},{"$f":"IF(ISNA(VLOOKUP(N50,[1]PlayersList!$B$4:$D$957,3,FALSE)),\"Noplayer\",VLOOKUP(N50,[1]PlayersList!$B$4:$D$957,3,FALSE)*1)","v":"Noplayer"},{"$nulls":12},0,0]
[{"$f":"(IF(ISERROR(VLOOKUP(G51,Choix17!$M$2:$N$14,2,FALSE)&LEFT(J51,4)&RIGHT(LEFT(J51,LEN(J51)-1),2)),0,VLOOKUP(G51,Choix17!$M$2:$N$14,2,FALSE)&LEFT(J51,4)&RIGHT(LEFT(J51,LEN(J51)-1),2)))*1","v":0},{"$f":"(IF(ISERROR(VLOOKUP(L51,Choix17!$M$2:$N$14,2,FALSE)&LEFT(O51,4)&RIGHT(LEFT(O51,LEN(O51)-1),2)),0,VLOOKUP(L51,Choix17!$M$2:$N$14,2,FALSE)&LEFT(O51,4)&RIGHT(LEFT(O51,LEN(O51)-1),2)))*1","v":0},{"$f":"IF(ISNA(VLOOKUP(I51,[1]PlayersList!$B$4:$D$957,3,FALSE)),\"Noplayer\",VLOOKUP(I51,[1]PlayersList!$B$4:$D$957,3,FALSE)*1)","v":"Noplayer"},{"$f":"IF(ISNA(VLOOKUP(N51,[1]PlayersList!$B$4:$D$957,3,FALSE)),\"Noplayer\",VLOOKUP(N51,[1]PlayersList!$B$4:$D$957,3,FALSE)*1)","v":"Noplayer"},{"$nulls":12},0,0]
[{"$f":"(IF(ISERROR(VLOOKUP(G52,Choix17!$M$2:$N$14,2,FALSE)&LEFT(J52,4)&RIGHT(LEFT(J52,LEN(J52)-1),2)),0,VLOOKUP(G52,Choix17!$M$2:$N$14,2,FALSE)&LEFT(J52,4)&RIGHT(LEFT(J52,LEN(J52)-1),2)))*1","v":0},{"$f":"(IF(ISERROR(VLOOKUP(L52,Choix17!$M$2:$N$14,2,FALSE)&LEFT(O52,4)&RIGHT(LEFT(O52,LEN(O52)-1),2)),0,VLOOKUP(L52,Choix17!$M$2:$N$14,2,FALSE)&LEFT(O52,4)&RIGHT(LEFT(O52,LEN(O52)-1),2)))*1","v":0},{"$f":"IF(ISNA(VLOOKUP(I52,[1]PlayersList!$B$4:$D$957,3,FALSE)),\"Noplayer\",VLOOKUP(I52,[1]PlayersList!$B$4:$D$957,3,FALSE)*1)","v":"Noplayer"},{"$f":"IF(ISNA(VLOOKUP(N52,[1]PlayersList!$B$4:$D$957,3,FALSE)),\"Noplayer\",VLOOKUP(N52,[1]PlayersList!$B$4:$D$957,3,FALSE)*1)","v":"Noplayer"},{"$nulls":12},0,0]
[{"$f":"(IF(ISERROR(VLOOKUP(G53,Choix17!$M$2:$N$14,2,FALSE)&LEFT(J53,4)&RIGHT(LEFT(J53,LEN(J53)-1),2)),0,VLOOKUP(G53,Choix17!$M$2:$N$14,2,FALSE)&LEFT(J53,4)&RIGHT(LEFT(J53,LEN(J53)-1),2)))*1","v":0},{"$f":"(IF(ISERROR(VLOOKUP(L53,Choix17!$M$2:$N$14,2,FALSE)&LEFT(O53,4)&RIGHT(LEFT(O53,LEN(O53)-1),2)),0,VLOOKUP(L53,Choix17!$M$2:$N$14,2,FALSE)&LEFT(O53,4)&RIGHT(LEFT(O53,LEN(O53)-1),2)))*1","v":0},{"$f":"IF(ISNA(VLOOKUP(I53,[1]PlayersList!$B$4:$D$957,3,FALSE)),\"Noplayer\",VLOOKUP(I53,[1]PlayersList!$B$4:$D$957,3,FALSE)*1)","v":"Noplayer"},{"$f":"IF(ISNA(VLOOKUP(N53,[1]PlayersList!$B$4:$D$957,3,FALSE)),\"Noplayer\",VLOOKUP(N53,[1]PlayersList!$B$4:$D$957,3,FALSE)*1)","v":"Noplayer"},{"$nulls":12},0,0]
[{"$f":"(IF(ISERROR(VLOOKUP(G54,Choix17!$M$2:$N$14,2,FALSE)&LEFT(J54,4)&RIGHT(LEFT(J54,LEN(J54)-1),2)),0,VLOOKUP(G54,Choix17!$M$2:$N$14,2,FALSE)&LEFT(J54,4)&RIGHT(LEFT(J54,LEN(J54)-1),2)))*1","v":0},{"$f":"(IF(ISERROR(VLOOKUP(L54,Choix17!$M$2:$N$14,2,FALSE)&LEFT(O54,4)&RIGHT(LEFT(O54,LEN(O54)-1),2)),0,VLOOKUP(L54,Choix17!$M$2:$N$14,2,FALSE)&LEFT(O54,4)&RIGHT(LEFT(O54,LEN(O54)-1),2)))*1","v":0},{"$f":"IF(ISNA(VLOOKUP(I54,[1]PlayersList!$B$4:$D$957,3,FALSE)),\"Noplayer\",VLOOKUP(I54,[1]PlayersList!$B$4:$D$957,3,FALSE)*1)","v":"Noplayer"},{"$f":"IF(ISNA(VLOOKUP(N54,[1]PlayersList!$B$4:$D$957,3,FALSE)),\"Noplayer\",VLOOKUP(N54,[1]PlayersList!$B$4:$D$957,3,FALSE)*1)","v":"Noplayer"},{"$nulls":12},0,0]
[{"$f":"(IF(ISERROR(VLOOKUP(G55,Choix17!$M$2:$N$14,2,FALSE)&LEFT(J55,4)&RIGHT(LEFT(J55,LEN(J55)-1),2)),0,VLOOKUP(G55,Choix17!$M$2:$N$14,2,FALSE)&LEFT(J55,4)&RIGHT(LEFT(J55,LEN(J55)-1),2)))*1","v":0},{"$f":"(IF(ISERROR(VLOOKUP(L55,Choix17!$M$2:$N$14,2,FALSE)&LEFT(O55,4)&RIGHT(LEFT(O55,LEN(O55)-1),2)),0,VLOOKUP(L55,Choix17!$M$2:$N$14,2,FALSE)&LEFT(O55,4)&RIGHT(LEFT(O55,LEN(O55)-1),2)))*1","v":0},{"$f":"IF(ISNA(VLOOKUP(I55,[1]PlayersList!$B$4:$D$957,3,FALSE)),\"Noplayer\",VLOOKUP(I55,[1]PlayersList!$B$4:$D$957,3,FALSE)*1)","v":"Noplayer"},{"$f":"IF(ISNA(VLOOKUP(N55,[1]PlayersList!$B$4:$D$957,3,FALSE)),\"Noplayer\",VLOOKUP(N55,[1]PlayersList!$B$4:$D$957,3,FALSE)*1)","v":"Noplayer"},{"$nulls":12},0,0]
[{"$f":"(IF(ISERROR(VLOOKUP(G56,Choix17!$M$2:$N$14,2,FALSE)&LEFT(J56,4)&RIGHT(LEFT(J56,LEN(J56)-1),2)),0,VLOOKUP(G56,Choix17!$M$2:$N$14,2,FALSE)&LEFT(J56,4)&RIGHT(LEFT(J56,LEN(J56)-1),2)))*1","v":0},{"$f":"(IF(ISERROR(VLOOKUP(L56,Choix17!$M$2:$N$14,2,FALSE)&LEFT(O56,4)&RIGHT(LEFT(O56,LEN(O56)-1),2)),0,VLOOKUP(L56,Choix17!$M$2:$N$14,2,FALSE)&LEFT(O56,4)&RIGHT(LEFT(O56,LEN(O56)-1),2)))*1","v":0},{"$f":"IF(ISNA(VLOOKUP(I56,[1]PlayersList!$B$4:$D$957,3,FALSE)),\"Noplayer\",VLOOKUP(I56,[1]PlayersList!$B$4:$D$957,3,FALSE)*1)","v":"Noplayer"},{"$f":"IF(ISNA(VLOOKUP(N56,[1]PlayersList!$B$4:$D$957,3,FALSE)),\"Noplayer\",VLOOKUP(N56,[1]PlayersList!$B$4:$D$957,3,FALSE)*1)","v":"Noplayer"},{"$nulls":12},0,0]
[{"$f":"(IF(ISERROR(VLOOKUP(G57,Choix17!$M$2:$N$14,2,FALSE)&LEFT(J57,4)&RIGHT(LEFT(J57,LEN(J57)-1),2)),0,VLOOKUP(G57,Choix17!$M$2:$N$14,2,FALSE)&LEFT(J57,4)&RIGHT(LEFT(J57,LEN(J57)-1),2)))*1","v":0},{"$f":"(IF(ISERROR(VLOOKUP(L57,Choix17!$M$2:$N$14,2,FALSE)&LEFT(O57,4)&RIGHT(LEFT(O57,LEN(O57)-1),2)),0,VLOOKUP(L57,Choix17!$M$2:$N$14,2,FALSE)&LEFT(O57,4)&RIGHT(LEFT(O57,LEN(O57)-1),2)))*1","v":0},{"$f":"IF(ISNA(VLOOKUP(I57,[1]PlayersList!$B$4:$D$957,3,FALSE)),\"Noplayer\",VLOOKUP(I57,[1]PlayersList!$B$4:$D$957,3,FALSE)*1)","v":"Noplayer"},{"$f":"IF(ISNA(VLOOKUP(N57,[1]PlayersList!$B$4:$D$957,3,FALSE)),\"Noplayer\",VLOOKUP(N57,[1]PlayersList!$B$4:$D$957,3,FALSE)*1)","v":"Noplayer"},{"$nulls":12},0,0]
[{"$f":"(IF(ISERROR(VLOOKUP(G58,Choix17!$M$2:$N$14,2,FALSE)&LEFT(J58,4)&RIGHT(LEFT(J58,LEN(J58)-1),2)),0,VLOOKUP(G58,Choix17!$M$2:$N$14,2,FALSE)&LEFT(J58,4)&RIGHT(LEFT(J58,LEN(J58)-1),2)))*1","v":0},{"$f":"(IF(ISERROR(VLOOKUP(L58,Choix17!$M$2:$N$14,2,FALSE)&LEFT(O58,4)&RIGHT(LEFT(O58,LEN(O58)-1),2)),0,VLOOKUP(L58,Choix17!$M$2:$N$14,2,FALSE)&LEFT(O58,4)&RIGHT(LEFT(O58,LEN(O58)-1),2)))*1","v":0},{"$f":"IF(ISNA(VLOOKUP(I58,[1]PlayersList!$B$4:$D$957,3,FALSE)),\"Noplayer\",VLOOKUP(I58,[1]PlayersList!$B$4:$D$957,3,FALSE)*1)","v":"Noplayer"},{"$f":"IF(ISNA(VLOOKUP(N58,[1]PlayersList!$B$4:$D$957,3,FALSE)),\"Noplayer\",VLOOKUP(N58,[1]PlayersList!$B$4:$D$957,3,FALSE)*1)","v":"Noplayer"},{"$nulls":12},0,0]
[{"$f":"(IF(ISERROR(VLOOKUP(G59,Choix17!$M$2:$N$14,2,FALSE)&LEFT(J59,4)&RIGHT(LEFT(J59,LEN(J59)-1),2)),0,VLOOKUP(G59,Choix17!$M$2:$N$14,2,FALSE)&LEFT(J59,4)&RIGHT(LEFT(J59,LEN(J59)-1),2)))*1","v":0},{"$f":"(IF(ISERROR(VLOOKUP(L59,Choix17!$M$2:$N$14,2,FALSE)&LEFT(O59,4)&RIGHT(LEFT(O59,LEN(O59)-1),2)),0,VLOOKUP(L59,Choix17!$M$2:$N$14,2,FALSE)&LEFT(O59,4)&RIGHT(LEFT(O59,LEN(O59)-1),2)))*1","v":0},{"$f":"IF(ISNA(VLOOKUP(I59,[1]PlayersList!$B$4:$D$957,3,FALSE)),\"Noplayer\",VLOOKUP(I59,[1]PlayersList!$B$4:$D$957,3,FALSE)*1)","v":"Noplayer"},{"$f":"IF(ISNA(VLOOKUP(N59,[1]PlayersList!$B$4:$D$957,3,FALSE)),\"Noplayer\",VLOOKUP(N59,[1]PlayersList!$B$4:$D$957,3,FALSE)*1)","v":"Noplayer"},{"$nulls":12},0,0]
[{"$f":"(IF(ISERROR(VLOOKUP(G60,Choix17!$M$2:$N$14,2,FALSE)&LEFT(J60,4)&RIGHT(LEFT(J60,LEN(J60)-1),2)),0,VLOOKUP(G60,Choix17!$M$2:$N$14,2,FALSE)&LEFT(J60,4)&RIGHT(LEFT(J60,LEN(J60)-1),2)))*1","v":0},{"$f":"(IF(ISERROR(VLOOKUP(L60,Choix17!$M$2:$N$14,2,FALSE)&LEFT(O60,4)&RIGHT(LEFT(O60,LEN(O60)-1),2)),0,VLOOKUP(L60,Choix17!$M$2:$N$14,2,FALSE)&LEFT(O60,4)&RIGHT(LEFT(O60,LEN(O60)-1),2)))*1","v":0},{"$f":"IF(ISNA(VLOOKUP(I60,[1]PlayersList!$B$4:$D$957,3,FALSE)),\"Noplayer\",VLOOKUP(I60,[1]PlayersList!$B$4:$D$957,3,FALSE)*1)","v":"Noplayer"},{"$f":"IF(ISNA(VLOOKUP(N60,[1]PlayersList!$B$4:$D$957,3,FALSE)),\"Noplayer\",VLOOKUP(N60,[1]PlayersList!$B$4:$D$957,3,FALSE)*1)","v":"Noplayer"},{"$nulls":12},0,0]
[{"$f":"(IF(ISERROR(VLOOKUP(G61,Choix17!$M$2:$N$14,2,FALSE)&LEFT(J61,4)&RIGHT(LEFT(J61,LEN(J61)-1),2)),0,VLOOKUP(G61,Choix17!$M$2:$N$14,2,FALSE)&LEFT(J61,4)&RIGHT(LEFT(J61,LEN(J61)-1),2)))*1","v":0},{"$f":"(IF(ISERROR(VLOOKUP(L61,Choix17!$M$2:$N$14,2,FALSE)&LEFT(O61,4)&RIGHT(LEFT(O61,LEN(O61)-1),2)),0,VLOOKUP(L61,Choix17!$M$2:$N$14,2,FALSE)&LEFT(O61,4)&RIGHT(LEFT(O61,LEN(O61)-1),2)))*1","v":0},{"$f":"IF(ISNA(VLOOKUP(I61,[1]PlayersList!$B$4:$D$957,3,FALSE)),\"Noplayer\",VLOOKUP(I61,[1]PlayersList!$B$4:$D$957,3,FALSE)*1)","v":"Noplayer"},{"$f":"IF(ISNA(VLOOKUP(N61,[1]PlayersList!$B$4:$D$957,3,FALSE)),\"Noplayer\",VLOOKUP(N61,[1]PlayersList!$B$4:$D$957,3,FALSE)*1)","v":"Noplayer"},{"$nulls":12},0,0]
[{"$f":"(IF(ISERROR(VLOOKUP(G62,Choix17!$M$2:$N$14,2,FALSE)&LEFT(J62,4)&RIGHT(LEFT(J62,LEN(J62)-1),2)),0,VLOOKUP(G62,Choix17!$M$2:$N$14,2,FALSE)&LEFT(J62,4)&RIGHT(LEFT(J62,LEN(J62)-1),2)))*1","v":0},{"$f":"(IF(ISERROR(VLOOKUP(L62,Choix17!$M$2:$N$14,2,FALSE)&LEFT(O62,4)&RIGHT(LEFT(O62,LEN(O62)-1),2)),0,VLOOKUP(L62,Choix17!$M$2:$N$14,2,FALSE)&LEFT(O62,4)&RIGHT(LEFT(O62,LEN(O62)-1),2)))*1","v":0},{"$f":"IF(ISNA(VLOOKUP(I62,[1]PlayersList!$B$4:$D$957,3,FALSE)),\"Noplayer\",VLOOKUP(I62,[1]PlayersList!$B$4:$D$957,3,FALSE)*1)","v":"Noplayer"},{"$f":"IF(ISNA(VLOOKUP(N62,[1]PlayersList!$B$4:$D$957,3,FALSE)),\"Noplayer\",VLOOKUP(N62,[1]PlayersList!$B$4:$D$957,3,FALSE)*1)","v":"Noplayer"},{"$nulls":12},0,0]
[{"$f":"(IF(ISERROR(VLOOKUP(G63,Choix17!$M$2:$N$14,2,FALSE)&LEFT(J63,4)&RIGHT(LEFT(J63,LEN(J63)-1),2)),0,VLOOKUP(G63,Choix17!$M$2:$N$14,2,FALSE)&LEFT(J63,4)&RIGHT(LEFT(J63,LEN(J63)-1),2)))*1","v":0},{"$f":"(IF(ISERROR(VLOOKUP(L63,Choix17!$M$2:$N$14,2,FALSE)&LEFT(O63,4)&RIGHT(LEFT(O63,LEN(O63)-1),2)),0,VLOOKUP(L63,Choix17!$M$2:$N$14,2,FALSE)&LEFT(O63,4)&RIGHT(LEFT(O63,LEN(O63)-1),2)))*1","v":0},{"$f":"IF(ISNA(VLOOKUP(I63,[1]PlayersList!$B$4:$D$957,3,FALSE)),\"Noplayer\",VLOOKUP(I63,[1]PlayersList!$B$4:$D$957,3,FALSE)*1)","v":"Noplayer"},{"$f":"IF(ISNA(VLOOKUP(N63,[1]PlayersList!$B$4:$D$957,3,FALSE)),\"Noplayer\",VLOOKUP(N63,[1]PlayersList!$B$4:$D$957,3,FALSE)*1)","v":"Noplayer"},{"$nulls":12},0,0]
[{"$f":"(IF(ISERROR(VLOOKUP(G64,Choix17!$M$2:$N$14,2,FALSE)&LEFT(J64,4)&RIGHT(LEFT(J64,LEN(J64)-1),2)),0,VLOOKUP(G64,Choix17!$M$2:$N$14,2,FALSE)&LEFT(J64,4)&RIGHT(LEFT(J64,LEN(J64)-1),2)))*1","v":0},{"$f":"(IF(ISERROR(VLOOKUP(L64,Choix17!$M$2:$N$14,2,FALSE)&LEFT(O64,4)&RIGHT(LEFT(O64,LEN(O64)-1),2)),0,VLOOKUP(L64,Choix17!$M$2:$N$14,2,FALSE)&LEFT(O64,4)&RIGHT(LEFT(O64,LEN(O64)-1),2)))*1","v":0},{"$f":"IF(ISNA(VLOOKUP(I64,[1]PlayersList!$B$4:$D$957,3,FALSE)),\"Noplayer\",VLOOKUP(I64,[1]PlayersList!$B$4:$D$957,3,FALSE)*1)","v":"Noplayer"},{"$f":"IF(ISNA(VLOOKUP(N64,[1]PlayersList!$B$4:$D$957,3,FALSE)),\"Noplayer\",VLOOKUP(N64,[1]PlayersList!$B$4:$D$957,3,FALSE)*1)","v":"Noplayer"},{"$nulls":12},0,0]
[{"$f":"(IF(ISERROR(VLOOKUP(G65,Choix17!$M$2:$N$14,2,FALSE)&LEFT(J65,4)&RIGHT(LEFT(J65,LEN(J65)-1),2)),0,VLOOKUP(G65,Choix17!$M$2:$N$14,2,FALSE)&LEFT(J65,4)&RIGHT(LEFT(J65,LEN(J65)-1),2)))*1","v":0},{"$f":"(IF(ISERROR(VLOOKUP(L65,Choix17!$M$2:$N$14,2,FALSE)&LEFT(O65,4)&RIGHT(LEFT(O65,LEN(O65)-1),2)),0,VLOOKUP(L65,Choix17!$M$2:$N$14,2,FALSE)&LEFT(O65,4)&RIGHT(LEFT(O65,LEN(O65)-1),2)))*1","v":0},{"$f":"IF(ISNA(VLOOKUP(I65,[1]PlayersList!$B$4:$D$957,3,FALSE)),\"Noplayer\",VLOOKUP(I65,[1]PlayersList!$B$4:$D$957,3,FALSE)*1)","v":"Noplayer"},{"$f":"IF(ISNA(VLOOKUP(N65,[1]PlayersList!$B$4:$D$957,3,FALSE)),\"Noplayer\",VLOOKUP(N65,[1]PlayersList!$B$4:$D$957,3,FALSE)*1)","v":"Noplayer"},{"$nulls":12},0,0]
[{"$f":"(IF(ISERROR(VLOOKUP(G66,Choix17!$M$2:$N$14,2,FALSE)&LEFT(J66,4)&RIGHT(LEFT(J66,LEN(J66)-1),2)),0,VLOOKUP(G66,Choix17!$M$2:$N$14,2,FALSE)&LEFT(J66,4)&RIGHT(LEFT(J66,LEN(J66)-1),2)))*1","v":0},{"$f":"(IF(ISERROR(VLOOKUP(L66,Choix17!$M$2:$N$14,2,FALSE)&LEFT(O66,4)&RIGHT(LEFT(O66,LEN(O66)-1),2)),0,VLOOKUP(L66,Choix17!$M$2:$N$14,2,FALSE)&LEFT(O66,4)&RIGHT(LEFT(O66,LEN(O66)-1),2)))*1","v":0},{"$f":"IF(ISNA(VLOOKUP(I66,[1]PlayersList!$B$4:$D$957,3,FALSE)),\"Noplayer\",VLOOKUP(I66,[1]PlayersList!$B$4:$D$957,3,FALSE)*1)","v":"Noplayer"},{"$f":"IF(ISNA(VLOOKUP(N66,[1]PlayersList!$B$4:$D$957,3,FALSE)),\"Noplayer\",VLOOKUP(N66,[1]PlayersList!$B$4:$D$957,3,FALSE)*1)","v":"Noplayer"},{"$nulls":12},0,0]
[{"$f":"(IF(ISERROR(VLOOKUP(G67,Choix17!$M$2:$N$14,2,FALSE)&LEFT(J67,4)&RIGHT(LEFT(J67,LEN(J67)-1),2)),0,VLOOKUP(G67,Choix17!$M$2:$N$14,2,FALSE)&LEFT(J67,4)&RIGHT(LEFT(J67,LEN(J67)-1),2)))*1","v":0},{"$f":"(IF(ISERROR(VLOOKUP(L67,Choix17!$M$2:$N$14,2,FALSE)&LEFT(O67,4)&RIGHT(LEFT(O67,LEN(O67)-1),2)),0,VLOOKUP(L67,Choix17!$M$2:$N$14,2,FALSE)&LEFT(O67,4)&RIGHT(LEFT(O67,LEN(O67)-1),2)))*1","v":0},{"$f":"IF(ISNA(VLOOKUP(I67,[1]PlayersList!$B$4:$D$957,3,FALSE)),\"Noplayer\",VLOOKUP(I67,[1]PlayersList!$B$4:$D$957,3,FALSE)*1)","v":"Noplayer"},{"$f":"IF(ISNA(VLOOKUP(N67,[1]PlayersList!$B$4:$D$957,3,FALSE)),\"Noplayer\",VLOOKUP(N67,[1]PlayersList!$B$4:$D$957,3,FALSE)*1)","v":"Noplayer"},{"$nulls":12},{"$f":"IF(A67<1,0,COUNTIF($A:$B,A67))","v":0},0]
[{"$f":"(IF(ISERROR(VLOOKUP(G68,Choix17!$M$2:$N$14,2,FALSE)&LEFT(J68,4)&RIGHT(LEFT(J68,LEN(J68)-1),2)),0,VLOOKUP(G68,Choix17!$M$2:$N$14,2,FALSE)&LEFT(J68,4)&RIGHT(LEFT(J68,LEN(J68)-1),2)))*1","v":0},{"$f":"(IF(ISERROR(VLOOKUP(L68,Choix17!$M$2:$N$14,2,FALSE)&LEFT(O68,4)&RIGHT(LEFT(O68,LEN(O68)-1),2)),0,VLOOKUP(L68,Choix17!$M$2:$N$14,2,FALSE)&LEFT(O68,4)&RIGHT(LEFT(O68,LEN(O68)-1),2)))*1","v":0},{"$f":"IF(ISNA(VLOOKUP(I68,[1]PlayersList!$B$4:$D$957,3,FALSE)),\"Noplayer\",VLOOKUP(I68,[1]PlayersList!$B$4:$D$957,3,FALSE)*1)","v":"Noplayer"},{"$f":"IF(ISNA(VLOOKUP(N68,[1]PlayersList!$B$4:$D$957,3,FALSE)),\"Noplayer\",VLOOKUP(N68,[1]PlayersList!$B$4:$D$957,3,FALSE)*1)","v":"Noplayer"},{"$nulls":12},0,0]
[{"$f":"(IF(ISERROR(VLOOKUP(G69,Choix17!$M$2:$N$14,2,FALSE)&LEFT(J69,4)&RIGHT(LEFT(J69,LEN(J69)-1),2)),0,VLOOKUP(G69,Choix17!$M$2:$N$14,2,FALSE)&LEFT(J69,4)&RIGHT(LEFT(J69,LEN(J69)-1),2)))*1","v":0},{"$f":"(IF(ISERROR(VLOOKUP(L69,Choix17!$M$2:$N$14,2,FALSE)&LEFT(O69,4)&RIGHT(LEFT(O69,LEN(O69)-1),2)),0,VLOOKUP(L69,Choix17!$M$2:$N$14,2,FALSE)&LEFT(O69,4)&RIGHT(LEFT(O69,LEN(O69)-1),2)))*1","v":0},{"$f":"IF(ISNA(VLOOKUP(I69,[1]PlayersList!$B$4:$D$957,3,FALSE)),\"Noplayer\",VLOOKUP(I69,[1]PlayersList!$B$4:$D$957,3,FALSE)*1)","v":"Noplayer"},{"$f":"IF(ISNA(VLOOKUP(N69,[1]PlayersList!$B$4:$D$957,3,FALSE)),\"Noplayer\",VLOOKUP(N69,[1]PlayersList!$B$4:$D$957,3,FALSE)*1)","v":"Noplayer"},{"$nulls":12},0,0]
[{"$f":"(IF(ISERROR(VLOOKUP(G70,Choix17!$M$2:$N$14,2,FALSE)&LEFT(J70,4)&RIGHT(LEFT(J70,LEN(J70)-1),2)),0,VLOOKUP(G70,Choix17!$M$2:$N$14,2,FALSE)&LEFT(J70,4)&RIGHT(LEFT(J70,LEN(J70)-1),2)))*1","v":0},{"$f":"(IF(ISERROR(VLOOKUP(L70,Choix17!$M$2:$N$14,2,FALSE)&LEFT(O70,4)&RIGHT(LEFT(O70,LEN(O70)-1),2)),0,VLOOKUP(L70,Choix17!$M$2:$N$14,2,FALSE)&LEFT(O70,4)&RIGHT(LEFT(O70,LEN(O70)-1),2)))*1","v":0},{"$f":"IF(ISNA(VLOOKUP(I70,[1]PlayersList!$B$4:$D$957,3,FALSE)),\"Noplayer\",VLOOKUP(I70,[1]PlayersList!$B$4:$D$957,3,FALSE)*1)","v":"Noplayer"},{"$f":"IF(ISNA(VLOOKUP(N70,[1]PlayersList!$B$4:$D$957,3,FALSE)),\"Noplayer\",VLOOKUP(N70,[1]PlayersList!$B$4:$D$957,3,FALSE)*1)","v":"Noplayer"},{"$nulls":12},0,0]
[{"$f":"(IF(ISERROR(VLOOKUP(G71,Choix17!$M$2:$N$14,2,FALSE)&LEFT(J71,4)&RIGHT(LEFT(J71,LEN(J71)-1),2)),0,VLOOKUP(G71,Choix17!$M$2:$N$14,2,FALSE)&LEFT(J71,4)&RIGHT(LEFT(J71,LEN(J71)-1),2)))*1","v":0},{"$f":"(IF(ISERROR(VLOOKUP(L71,Choix17!$M$2:$N$14,2,FALSE)&LEFT(O71,4)&RIGHT(LEFT(O71,LEN(O71)-1),2)),0,VLOOKUP(L71,Choix17!$M$2:$N$14,2,FALSE)&LEFT(O71,4)&RIGHT(LEFT(O71,LEN(O71)-1),2)))*1","v":0},{"$f":"IF(ISNA(VLOOKUP(I71,[1]PlayersList!$B$4:$D$957,3,FALSE)),\"Noplayer\",VLOOKUP(I71,[1]PlayersList!$B$4:$D$957,3,FALSE)*1)","v":"Noplayer"},{"$f":"IF(ISNA(VLOOKUP(N71,[1]PlayersList!$B$4:$D$957,3,FALSE)),\"Noplayer\",VLOOKUP(N71,[1]PlayersList!$B$4:$D$957,3,FALSE)*1)","v":"Noplayer"},{"$nulls":12},0,0]
[{"$f":"(IF(ISERROR(VLOOKUP(G72,Choix17!$M$2:$N$14,2,FALSE)&LEFT(J72,4)&RIGHT(LEFT(J72,LEN(J72)-1),2)),0,VLOOKUP(G72,Choix17!$M$2:$N$14,2,FALSE)&LEFT(J72,4)&RIGHT(LEFT(J72,LEN(J72)-1),2)))*1","v":0},{"$f":"(IF(ISERROR(VLOOKUP(L72,Choix17!$M$2:$N$14,2,FALSE)&LEFT(O72,4)&RIGHT(LEFT(O72,LEN(O72)-1),2)),0,VLOOKUP(L72,Choix17!$M$2:$N$14,2,FALSE)&LEFT(O72,4)&RIGHT(LEFT(O72,LEN(O72)-1),2)))*1","v":0},{"$f":"IF(ISNA(VLOOKUP(I72,[1]PlayersList!$B$4:$D$957,3,FALSE)),\"Noplayer\",VLOOKUP(I72,[1]PlayersList!$B$4:$D$957,3,FALSE)*1)","v":"Noplayer"},{"$f":"IF(ISNA(VLOOKUP(N72,[1]PlayersList!$B$4:$D$957,3,FALSE)),\"Noplayer\",VLOOKUP(N72,[1]PlayersList!$B$4:$D$957,3,FALSE)*1)","v":"Noplayer"},{"$nulls":12},0,0]
[{"$f":"(IF(ISERROR(VLOOKUP(G73,Choix17!$M$2:$N$14,2,FALSE)&LEFT(J73,4)&RIGHT(LEFT(J73,LEN(J73)-1),2)),0,VLOOKUP(G73,Choix17!$M$2:$N$14,2,FALSE)&LEFT(J73,4)&RIGHT(LEFT(J73,LEN(J73)-1),2)))*1","v":0},{"$f":"(IF(ISERROR(VLOOKUP(L73,Choix17!$M$2:$N$14,2,FALSE)&LEFT(O73,4)&RIGHT(LEFT(O73,LEN(O73)-1),2)),0,VLOOKUP(L73,Choix17!$M$2:$N$14,2,FALSE)&LEFT(O73,4)&RIGHT(LEFT(O73,LEN(O73)-1),2)))*1","v":0},{"$f":"IF(ISNA(VLOOKUP(I73,[1]PlayersList!$B$4:$D$957,3,FALSE)),\"Noplayer\",VLOOKUP(I73,[1]PlayersList!$B$4:$D$957,3,FALSE)*1)","v":"Noplayer"},{"$f":"IF(ISNA(VLOOKUP(N73,[1]PlayersList!$B$4:$D$957,3,FALSE)),\"Noplayer\",VLOOKUP(N73,[1]PlayersList!$B$4:$D$957,3,FALSE)*1)","v":"Noplayer"},{"$nulls":12},0,0]
[{"$f":"(IF(ISERROR(VLOOKUP(G74,Choix17!$M$2:$N$14,2,FALSE)&LEFT(J74,4)&RIGHT(LEFT(J74,LEN(J74)-1),2)),0,VLOOKUP(G74,Choix17!$M$2:$N$14,2,FALSE)&LEFT(J74,4)&RIGHT(LEFT(J74,LEN(J74)-1),2)))*1","v":0},{"$f":"(IF(ISERROR(VLOOKUP(L74,Choix17!$M$2:$N$14,2,FALSE)&LEFT(O74,4)&RIGHT(LEFT(O74,LEN(O74)-1),2)),0,VLOOKUP(L74,Choix17!$M$2:$N$14,2,FALSE)&LEFT(O74,4)&RIGHT(LEFT(O74,LEN(O74)-1),2)))*1","v":0},{"$f":"IF(ISNA(VLOOKUP(I74,[1]PlayersList!$B$4:$D$957,3,FALSE)),\"Noplayer\",VLOOKUP(I74,[1]PlayersList!$B$4:$D$957,3,FALSE)*1)","v":"Noplayer"},{"$f":"IF(ISNA(VLOOKUP(N74,[1]PlayersList!$B$4:$D$957,3,FALSE)),\"Noplayer\",VLOOKUP(N74,[1]PlayersList!$B$4:$D$957,3,FALSE)*1)","v":"Noplayer"},{"$nulls":12},0,0]
[{"$f":"(IF(ISERROR(VLOOKUP(G75,Choix17!$M$2:$N$14,2,FALSE)&LEFT(J75,4)&RIGHT(LEFT(J75,LEN(J75)-1),2)),0,VLOOKUP(G75,Choix17!$M$2:$N$14,2,FALSE)&LEFT(J75,4)&RIGHT(LEFT(J75,LEN(J75)-1),2)))*1","v":0},{"$f":"(IF(ISERROR(VLOOKUP(L75,Choix17!$M$2:$N$14,2,FALSE)&LEFT(O75,4)&RIGHT(LEFT(O75,LEN(O75)-1),2)),0,VLOOKUP(L75,Choix17!$M$2:$N$14,2,FALSE)&LEFT(O75,4)&RIGHT(LEFT(O75,LEN(O75)-1),2)))*1","v":0},{"$f":"IF(ISNA(VLOOKUP(I75,[1]PlayersList!$B$4:$D$957,3,FALSE)),\"Noplayer\",VLOOKUP(I75,[1]PlayersList!$B$4:$D$957,3,FALSE)*1)","v":"Noplayer"},{"$f":"IF(ISNA(VLOOKUP(N75,[1]PlayersList!$B$4:$D$957,3,FALSE)),\"Noplayer\",VLOOKUP(N75,[1]PlayersList!$B$4:$D$957,3,FALSE)*1)","v":"Noplayer"},{"$nulls":12},0,0]
[{"$f":"(IF(ISERROR(VLOOKUP(G76,Choix17!$M$2:$N$14,2,FALSE)&LEFT(J76,4)&RIGHT(LEFT(J76,LEN(J76)-1),2)),0,VLOOKUP(G76,Choix17!$M$2:$N$14,2,FALSE)&LEFT(J76,4)&RIGHT(LEFT(J76,LEN(J76)-1),2)))*1","v":0},{"$f":"(IF(ISERROR(VLOOKUP(L76,Choix17!$M$2:$N$14,2,FALSE)&LEFT(O76,4)&RIGHT(LEFT(O76,LEN(O76)-1),2)),0,VLOOKUP(L76,Choix17!$M$2:$N$14,2,FALSE)&LEFT(O76,4)&RIGHT(LEFT(O76,LEN(O76)-1),2)))*1","v":0},{"$f":"IF(ISNA(VLOOKUP(I76,[1]PlayersList!$B$4:$D$957,3,FALSE)),\"Noplayer\",VLOOKUP(I76,[1]PlayersList!$B$4:$D$957,3,FALSE)*1)","v":"Noplayer"},{"$f":"IF(ISNA(VLOOKUP(N76,[1]PlayersList!$B$4:$D$957,3,FALSE)),\"Noplayer\",VLOOKUP(N76,[1]PlayersList!$B$4:$D$957,3,FALSE)*1)","v":"Noplayer"},{"$nulls":12},0,0]
[{"$f":"(IF(ISERROR(VLOOKUP(G77,Choix17!$M$2:$N$14,2,FALSE)&LEFT(J77,4)&RIGHT(LEFT(J77,LEN(J77)-1),2)),0,VLOOKUP(G77,Choix17!$M$2:$N$14,2,FALSE)&LEFT(J77,4)&RIGHT(LEFT(J77,LEN(J77)-1),2)))*1","v":0},{"$f":"(IF(ISERROR(VLOOKUP(L77,Choix17!$M$2:$N$14,2,FALSE)&LEFT(O77,4)&RIGHT(LEFT(O77,LEN(O77)-1),2)),0,VLOOKUP(L77,Choix17!$M$2:$N$14,2,FALSE)&LEFT(O77,4)&RIGHT(LEFT(O77,LEN(O77)-1),2)))*1","v":0},{"$f":"IF(ISNA(VLOOKUP(I77,[1]PlayersList!$B$4:$D$957,3,FALSE)),\"Noplayer\",VLOOKUP(I77,[1]PlayersList!$B$4:$D$957,3,FALSE)*1)","v":"Noplayer"},{"$f":"IF(ISNA(VLOOKUP(N77,[1]PlayersList!$B$4:$D$957,3,FALSE)),\"Noplayer\",VLOOKUP(N77,[1]PlayersList!$B$4:$D$957,3,FALSE)*1)","v":"Noplayer"},{"$nulls":12},0,0]
[{"$f":"(IF(ISERROR(VLOOKUP(G78,Choix17!$M$2:$N$14,2,FALSE)&LEFT(J78,4)&RIGHT(LEFT(J78,LEN(J78)-1),2)),0,VLOOKUP(G78,Choix17!$M$2:$N$14,2,FALSE)&LEFT(J78,4)&RIGHT(LEFT(J78,LEN(J78)-1),2)))*1","v":0},{"$f":"(IF(ISERROR(VLOOKUP(L78,Choix17!$M$2:$N$14,2,FALSE)&LEFT(O78,4)&RIGHT(LEFT(O78,LEN(O78)-1),2)),0,VLOOKUP(L78,Choix17!$M$2:$N$14,2,FALSE)&LEFT(O78,4)&RIGHT(LEFT(O78,LEN(O78)-1),2)))*1","v":0},{"$f":"IF(ISNA(VLOOKUP(I78,[1]PlayersList!$B$4:$D$957,3,FALSE)),\"Noplayer\",VLOOKUP(I78,[1]PlayersList!$B$4:$D$957,3,FALSE)*1)","v":"Noplayer"},{"$f":"IF(ISNA(VLOOKUP(N78,[1]PlayersList!$B$4:$D$957,3,FALSE)),\"Noplayer\",VLOOKUP(N78,[1]PlayersList!$B$4:$D$957,3,FALSE)*1)","v":"Noplayer"},{"$nulls":12},0,0]
[{"$f":"(IF(ISERROR(VLOOKUP(G79,Choix17!$M$2:$N$14,2,FALSE)&LEFT(J79,4)&RIGHT(LEFT(J79,LEN(J79)-1),2)),0,VLOOKUP(G79,Choix17!$M$2:$N$14,2,FALSE)&LEFT(J79,4)&RIGHT(LEFT(J79,LEN(J79)-1),2)))*1","v":0},{"$f":"(IF(ISERROR(VLOOKUP(L79,Choix17!$M$2:$N$14,2,FALSE)&LEFT(O79,4)&RIGHT(LEFT(O79,LEN(O79)-1),2)),0,VLOOKUP(L79,Choix17!$M$2:$N$14,2,FALSE)&LEFT(O79,4)&RIGHT(LEFT(O79,LEN(O79)-1),2)))*1","v":0},{"$f":"IF(ISNA(VLOOKUP(I79,[1]PlayersList!$B$4:$D$957,3,FALSE)),\"Noplayer\",VLOOKUP(I79,[1]PlayersList!$B$4:$D$957,3,FALSE)*1)","v":"Noplayer"},{"$f":"IF(ISNA(VLOOKUP(N79,[1]PlayersList!$B$4:$D$957,3,FALSE)),\"Noplayer\",VLOOKUP(N79,[1]PlayersList!$B$4:$D$957,3,FALSE)*1)","v":"Noplayer"},{"$nulls":12},0,0]
[{"$f":"(IF(ISERROR(VLOOKUP(G80,Choix17!$M$2:$N$14,2,FALSE)&LEFT(J80,4)&RIGHT(LEFT(J80,LEN(J80)-1),2)),0,VLOOKUP(G80,Choix17!$M$2:$N$14,2,FALSE)&LEFT(J80,4)&RIGHT(LEFT(J80,LEN(J80)-1),2)))*1","v":0},{"$f":"(IF(ISERROR(VLOOKUP(L80,Choix17!$M$2:$N$14,2,FALSE)&LEFT(O80,4)&RIGHT(LEFT(O80,LEN(O80)-1),2)),0,VLOOKUP(L80,Choix17!$M$2:$N$14,2,FALSE)&LEFT(O80,4)&RIGHT(LEFT(O80,LEN(O80)-1),2)))*1","v":0},{"$f":"IF(ISNA(VLOOKUP(I80,[1]PlayersList!$B$4:$D$957,3,FALSE)),\"Noplayer\",VLOOKUP(I80,[1]PlayersList!$B$4:$D$957,3,FALSE)*1)","v":"Noplayer"},{"$f":"IF(ISNA(VLOOKUP(N80,[1]PlayersList!$B$4:$D$957,3,FALSE)),\"Noplayer\",VLOOKUP(N80,[1]PlayersList!$B$4:$D$957,3,FALSE)*1)","v":"Noplayer"},{"$nulls":12},0,0]
[{"$f":"(IF(ISERROR(VLOOKUP(G81,Choix17!$M$2:$N$14,2,FALSE)&LEFT(J81,4)&RIGHT(LEFT(J81,LEN(J81)-1),2)),0,VLOOKUP(G81,Choix17!$M$2:$N$14,2,FALSE)&LEFT(J81,4)&RIGHT(LEFT(J81,LEN(J81)-1),2)))*1","v":0},{"$f":"(IF(ISERROR(VLOOKUP(L81,Choix17!$M$2:$N$14,2,FALSE)&LEFT(O81,4)&RIGHT(LEFT(O81,LEN(O81)-1),2)),0,VLOOKUP(L81,Choix17!$M$2:$N$14,2,FALSE)&LEFT(O81,4)&RIGHT(LEFT(O81,LEN(O81)-1),2)))*1","v":0},{"$f":"IF(ISNA(VLOOKUP(I81,[1]PlayersList!$B$4:$D$957,3,FALSE)),\"Noplayer\",VLOOKUP(I81,[1]PlayersList!$B$4:$D$957,3,FALSE)*1)","v":"Noplayer"},{"$f":"IF(ISNA(VLOOKUP(N81,[1]PlayersList!$B$4:$D$957,3,FALSE)),\"Noplayer\",VLOOKUP(N81,[1]PlayersList!$B$4:$D$957,3,FALSE)*1)","v":"Noplayer"},{"$nulls":12},0,0]
[{"$f":"(IF(ISERROR(VLOOKUP(G82,Choix17!$M$2:$N$14,2,FALSE)&LEFT(J82,4)&RIGHT(LEFT(J82,LEN(J82)-1),2)),0,VLOOKUP(G82,Choix17!$M$2:$N$14,2,FALSE)&LEFT(J82,4)&RIGHT(LEFT(J82,LEN(J82)-1),2)))*1","v":0},{"$f":"(IF(ISERROR(VLOOKUP(L82,Choix17!$M$2:$N$14,2,FALSE)&LEFT(O82,4)&RIGHT(LEFT(O82,LEN(O82)-1),2)),0,VLOOKUP(L82,Choix17!$M$2:$N$14,2,FALSE)&LEFT(O82,4)&RIGHT(LEFT(O82,LEN(O82)-1),2)))*1","v":0},{"$f":"IF(ISNA(VLOOKUP(I82,[1]PlayersList!$B$4:$D$957,3,FALSE)),\"Noplayer\",VLOOKUP(I82,[1]PlayersList!$B$4:$D$957,3,FALSE)*1)","v":"Noplayer"},{"$f":"IF(ISNA(VLOOKUP(N82,[1]PlayersList!$B$4:$D$957,3,FALSE)),\"Noplayer\",VLOOKUP(N82,[1]PlayersList!$B$4:$D$957,3,FALSE)*1)","v":"Noplayer"},{"$nulls":12},0,0]
[{"$f":"(IF(ISERROR(VLOOKUP(G83,Choix17!$M$2:$N$14,2,FALSE)&LEFT(J83,4)&RIGHT(LEFT(J83,LEN(J83)-1),2)),0,VLOOKUP(G83,Choix17!$M$2:$N$14,2,FALSE)&LEFT(J83,4)&RIGHT(LEFT(J83,LEN(J83)-1),2)))*1","v":0},{"$f":"(IF(ISERROR(VLOOKUP(L83,Choix17!$M$2:$N$14,2,FALSE)&LEFT(O83,4)&RIGHT(LEFT(O83,LEN(O83)-1),2)),0,VLOOKUP(L83,Choix17!$M$2:$N$14,2,FALSE)&LEFT(O83,4)&RIGHT(LEFT(O83,LEN(O83)-1),2)))*1","v":0},{"$nulls":14},0,0]
[{"$f":"(IF(ISERROR(VLOOKUP(G84,Choix17!$M$2:$N$14,2,FALSE)&LEFT(J84,4)&RIGHT(LEFT(J84,LEN(J84)-1),2)),0,VLOOKUP(G84,Choix17!$M$2:$N$14,2,FALSE)&LEFT(J84,4)&RIGHT(LEFT(J84,LEN(J84)-1),2)))*1","v":0},{"$f":"(IF(ISERROR(VLOOKUP(L84,Choix17!$M$2:$N$14,2,FALSE)&LEFT(O84,4)&RIGHT(LEFT(O84,LEN(O84)-1),2)),0,VLOOKUP(L84,Choix17!$M$2:$N$14,2,FALSE)&LEFT(O84,4)&RIGHT(LEFT(O84,LEN(O84)-1),2)))*1","v":0},{"$nulls":14},0,0]
[{"$f":"(IF(ISERROR(VLOOKUP(G85,Choix17!$M$2:$N$14,2,FALSE)&LEFT(J85,4)&RIGHT(LEFT(J85,LEN(J85)-1),2)),0,VLOOKUP(G85,Choix17!$M$2:$N$14,2,FALSE)&LEFT(J85,4)&RIGHT(LEFT(J85,LEN(J85)-1),2)))*1","v":0},{"$f":"(IF(ISERROR(VLOOKUP(L85,Choix17!$M$2:$N$14,2,FALSE)&LEFT(O85,4)&RIGHT(LEFT(O85,LEN(O85)-1),2)),0,VLOOKUP(L85,Choix17!$M$2:$N$14,2,FALSE)&LEFT(O85,4)&RIGHT(LEFT(O85,LEN(O85)-1),2)))*1","v":0},{"$nulls":14},0,0]
[{"$f":"(IF(ISERROR(VLOOKUP(G86,Choix17!$M$2:$N$14,2,FALSE)&LEFT(J86,4)&RIGHT(LEFT(J86,LEN(J86)-1),2)),0,VLOOKUP(G86,Choix17!$M$2:$N$14,2,FALSE)&LEFT(J86,4)&RIGHT(LEFT(J86,LEN(J86)-1),2)))*1","v":0},{"$f":"(IF(ISERROR(VLOOKUP(L86,Choix17!$M$2:$N$14,2,FALSE)&LEFT(O86,4)&RIGHT(LEFT(O86,LEN(O86)-1),2)),0,VLOOKUP(L86,Choix17!$M$2:$N$14,2,FALSE)&LEFT(O86,4)&RIGHT(LEFT(O86,LEN(O86)-1),2)))*1","v":0},{"$nulls":14},0,0]
[{"$f":"(IF(ISERROR(VLOOKUP(G87,Choix17!$M$2:$N$14,2,FALSE)&LEFT(J87,4)&RIGHT(LEFT(J87,LEN(J87)-1),2)),0,VLOOKUP(G87,Choix17!$M$2:$N$14,2,FALSE)&LEFT(J87,4)&RIGHT(LEFT(J87,LEN(J87)-1),2)))*1","v":0},{"$f":"(IF(ISERROR(VLOOKUP(L87,Choix17!$M$2:$N$14,2,FALSE)&LEFT(O87,4)&RIGHT(LEFT(O87,LEN(O87)-1),2)),0,VLOOKUP(L87,Choix17!$M$2:$N$14,2,FALSE)&LEFT(O87,4)&RIGHT(LEFT(O87,LEN(O87)-1),2)))*1","v":0},{"$nulls":14},0,0]
[{"$f":"(IF(ISERROR(VLOOKUP(G88,Choix17!$M$2:$N$14,2,FALSE)&LEFT(J88,4)&RIGHT(LEFT(J88,LEN(J88)-1),2)),0,VLOOKUP(G88,Choix17!$M$2:$N$14,2,FALSE)&LEFT(J88,4)&RIGHT(LEFT(J88,LEN(J88)-1),2)))*1","v":0},{"$f":"(IF(ISERROR(VLOOKUP(L88,Choix17!$M$2:$N$14,2,FALSE)&LEFT(O88,4)&RIGHT(LEFT(O88,LEN(O88)-1),2)),0,VLOOKUP(L88,Choix17!$M$2:$N$14,2,FALSE)&LEFT(O88,4)&RIGHT(LEFT(O88,LEN(O88)-1),2)))*1","v":0},{"$nulls":14},0,0]
[{"$f":"(IF(ISERROR(VLOOKUP(G89,Choix17!$M$2:$N$14,2,FALSE)&LEFT(J89,4)&RIGHT(LEFT(J89,LEN(J89)-1),2)),0,VLOOKUP(G89,Choix17!$M$2:$N$14,2,FALSE)&LEFT(J89,4)&RIGHT(LEFT(J89,LEN(J89)-1),2)))*1","v":0},{"$f":"(IF(ISERROR(VLOOKUP(L89,Choix17!$M$2:$N$14,2,FALSE)&LEFT(O89,4)&RIGHT(LEFT(O89,LEN(O89)-1),2)),0,VLOOKUP(L89,Choix17!$M$2:$N$14,2,FALSE)&LEFT(O89,4)&RIGHT(LEFT(O89,LEN(O89)-1),2)))*1","v":0},{"$nulls":14},0,0]
[{"$f":"(IF(ISERROR(VLOOKUP(G90,Choix17!$M$2:$N$14,2,FALSE)&LEFT(J90,4)&RIGHT(LEFT(J90,LEN(J90)-1),2)),0,VLOOKUP(G90,Choix17!$M$2:$N$14,2,FALSE)&LEFT(J90,4)&RIGHT(LEFT(J90,LEN(J90)-1),2)))*1","v":0},{"$f":"(IF(ISERROR(VLOOKUP(L90,Choix17!$M$2:$N$14,2,FALSE)&LEFT(O90,4)&RIGHT(LEFT(O90,LEN(O90)-1),2)),0,VLOOKUP(L90,Choix17!$M$2:$N$14,2,FALSE)&LEFT(O90,4)&RIGHT(LEFT(O90,LEN(O90)-1),2)))*1","v":0},{"$nulls":14},0,0]
[{"$f":"(IF(ISERROR(VLOOKUP(G91,Choix17!$M$2:$N$14,2,FALSE)&LEFT(J91,4)&RIGHT(LEFT(J91,LEN(J91)-1),2)),0,VLOOKUP(G91,Choix17!$M$2:$N$14,2,FALSE)&LEFT(J91,4)&RIGHT(LEFT(J91,LEN(J91)-1),2)))*1","v":0},{"$f":"(IF(ISERROR(VLOOKUP(L91,Choix17!$M$2:$N$14,2,FALSE)&LEFT(O91,4)&RIGHT(LEFT(O91,LEN(O91)-1),2)),0,VLOOKUP(L91,Choix17!$M$2:$N$14,2,FALSE)&LEFT(O91,4)&RIGHT(LEFT(O91,LEN(O91)-1),2)))*1","v":0},{"$nulls":14},0,0]
[{"$f":"(IF(ISERROR(VLOOKUP(G92,Choix17!$M$2:$N$14,2,FALSE)&LEFT(J92,4)&RIGHT(LEFT(J92,LEN(J92)-1),2)),0,VLOOKUP(G92,Choix17!$M$2:$N$14,2,FALSE)&LEFT(J92,4)&RIGHT(LEFT(J92,LEN(J92)-1),2)))*1","v":0},{"$f":"(IF(ISERROR(VLOOKUP(L92,Choix17!$M$2:$N$14,2,FALSE)&LEFT(O92,4)&RIGHT(LEFT(O92,LEN(O92)-1),2)),0,VLOOKUP(L92,Choix17!$M$2:$N$14,2,FALSE)&LEFT(O92,4)&RIGHT(LEFT(O92,LEN(O92)-1),2)))*1","v":0},{"$nulls":14},0,0]
[{"$f":"(IF(ISERROR(VLOOKUP(G93,Choix17!$M$2:$N$14,2,FALSE)&LEFT(J93,4)&RIGHT(LEFT(J93,LEN(J93)-1),2)),0,VLOOKUP(G93,Choix17!$M$2:$N$14,2,FALSE)&LEFT(J93,4)&RIGHT(LEFT(J93,LEN(J93)-1),2)))*1","v":0},{"$f":"(IF(ISERROR(VLOOKUP(L93,Choix17!$M$2:$N$14,2,FALSE)&LEFT(O93,4)&RIGHT(LEFT(O93,LEN(O93)-1),2)),0,VLOOKUP(L93,Choix17!$M$2:$N$14,2,FALSE)&LEFT(O93,4)&RIGHT(LEFT(O93,LEN(O93)-1),2)))*1","v":0},{"$nulls":14},0,0]
[{"$f":"(IF(ISERROR(VLOOKUP(G94,Choix17!$M$2:$N$14,2,FALSE)&LEFT(J94,4)&RIGHT(LEFT(J94,LEN(J94)-1),2)),0,VLOOKUP(G94,Choix17!$M$2:$N$14,2,FALSE)&LEFT(J94,4)&RIGHT(LEFT(J94,LEN(J94)-1),2)))*1","v":0},{"$f":"(IF(ISERROR(VLOOKUP(L94,Choix17!$M$2:$N$14,2,FALSE)&LEFT(O94,4)&RIGHT(LEFT(O94,LEN(O94)-1),2)),0,VLOOKUP(L94,Choix17!$M$2:$N$14,2,FALSE)&LEFT(O94,4)&RIGHT(LEFT(O94,LEN(O94)-1),2)))*1","v":0},{"$nulls":14},0,0]
[{"$f":"(IF(ISERROR(VLOOKUP(G95,Choix17!$M$2:$N$14,2,FALSE)&LEFT(J95,4)&RIGHT(LEFT(J95,LEN(J95)-1),2)),0,VLOOKUP(G95,Choix17!$M$2:$N$14,2,FALSE)&LEFT(J95,4)&RIGHT(LEFT(J95,LEN(J95)-1),2)))*1","v":0},{"$f":"(IF(ISERROR(VLOOKUP(L95,Choix17!$M$2:$N$14,2,FALSE)&LEFT(O95,4)&RIGHT(LEFT(O95,LEN(O95)-1),2)),0,VLOOKUP(L95,Choix17!$M$2:$N$14,2,FALSE)&LEFT(O95,4)&RIGHT(LEFT(O95,LEN(O95)-1),2)))*1","v":0},{"$nulls":14},0,0]
[{"$f":"(IF(ISERROR(VLOOKUP(G96,Choix17!$M$2:$N$14,2,FALSE)&LEFT(J96,4)&RIGHT(LEFT(J96,LEN(J96)-1),2)),0,VLOOKUP(G96,Choix17!$M$2:$N$14,2,FALSE)&LEFT(J96,4)&RIGHT(LEFT(J96,LEN(J96)-1),2)))*1","v":0},{"$f":"(IF(ISERROR(VLOOKUP(L96,Choix17!$M$2:$N$14,2,FALSE)&LEFT(O96,4)&RIGHT(LEFT(O96,LEN(O96)-1),2)),0,VLOOKUP(L96,Choix17!$M$2:$N$14,2,FALSE)&LEFT(O96,4)&RIGHT(LEFT(O96,LEN(O96)-1),2)))*1","v":0},{"$nulls":14},0,0]
[{"$f":"(IF(ISERROR(VLOOKUP(G97,Choix17!$M$2:$N$14,2,FALSE)&LEFT(J97,4)&RIGHT(LEFT(J97,LEN(J97)-1),2)),0,VLOOKUP(G97,Choix17!$M$2:$N$14,2,FALSE)&LEFT(J97,4)&RIGHT(LEFT(J97,LEN(J97)-1),2)))*1","v":0},{"$f":"(IF(ISERROR(VLOOKUP(L97,Choix17!$M$2:$N$14,2,FALSE)&LEFT(O97,4)&RIGHT(LEFT(O97,LEN(O97)-1),2)),0,VLOOKUP(L97,Choix17!$M$2:$N$14,2,FALSE)&LEFT(O97,4)&RIGHT(LEFT(O97,LEN(O97)-1),2)))*1","v":0},{"$nulls":14},0,0]
[{"$f":"(IF(ISERROR(VLOOKUP(G98,Choix17!$M$2:$N$14,2,FALSE)&LEFT(J98,4)&RIGHT(LEFT(J98,LEN(J98)-1),2)),0,VLOOKUP(G98,Choix17!$M$2:$N$14,2,FALSE)&LEFT(J98,4)&RIGHT(LEFT(J98,LEN(J98)-1),2)))*1","v":0},{"$f":"(IF(ISERROR(VLOOKUP(L98,Choix17!$M$2:$N$14,2,FALSE)&LEFT(O98,4)&RIGHT(LEFT(O98,LEN(O98)-1),2)),0,VLOOKUP(L98,Choix17!$M$2:$N$14,2,FALSE)&LEFT(O98,4)&RIGHT(LEFT(O98,LEN(O98)-1),2)))*1","v":0},{"$nulls":14},0,0]
[{"$f":"(IF(ISERROR(VLOOKUP(G99,Choix17!$M$2:$N$14,2,FALSE)&LEFT(J99,4)&RIGHT(LEFT(J99,LEN(J99)-1),2)),0,VLOOKUP(G99,Choix17!$M$2:$N$14,2,FALSE)&LEFT(J99,4)&RIGHT(LEFT(J99,LEN(J99)-1),2)))*1","v":0},{"$f":"(IF(ISERROR(VLOOKUP(L99,Choix17!$M$2:$N$14,2,FALSE)&LEFT(O99,4)&RIGHT(LEFT(O99,LEN(O99)-1),2)),0,VLOOKUP(L99,Choix17!$M$2:$N$14,2,FALSE)&LEFT(O99,4)&RIGHT(LEFT(O99,LEN(O99)-1),2)))*1","v":0},{"$nulls":14},0,0]
[{"$f":"(IF(ISERROR(VLOOKUP(G100,Choix17!$M$2:$N$14,2,FALSE)&LEFT(J100,4)&RIGHT(LEFT(J100,LEN(J100)-1),2)),0,VLOOKUP(G100,Choix17!$M$2:$N$14,2,FALSE)&LEFT(J100,4)&RIGHT(LEFT(J100,LEN(J100)-1),2)))*1","v":0},{"$f":"(IF(ISERROR(VLOOKUP(L100,Choix17!$M$2:$N$14,2,FALSE)&LEFT(O100,4)&RIGHT(LEFT(O100,LEN(O100)-1),2)),0,VLOOKUP(L100,Choix17!$M$2:$N$14,2,FALSE)&LEFT(O100,4)&RIGHT(LEFT(O100,LEN(O100)-1),2)))*1","v":0},{"$nulls":14},0,0]
[{"$f":"(IF(ISERROR(VLOOKUP(G101,Choix17!$M$2:$N$14,2,FALSE)&LEFT(J101,4)&RIGHT(LEFT(J101,LEN(J101)-1),2)),0,VLOOKUP(G101,Choix17!$M$2:$N$14,2,FALSE)&LEFT(J101,4)&RIGHT(LEFT(J101,LEN(J101)-1),2)))*1","v":0},{"$f":"(IF(ISERROR(VLOOKUP(L101,Choix17!$M$2:$N$14,2,FALSE)&LEFT(O101,4)&RIGHT(LEFT(O101,LEN(O101)-1),2)),0,VLOOKUP(L101,Choix17!$M$2:$N$14,2,FALSE)&LEFT(O101,4)&RIGHT(LEFT(O101,LEN(O101)-1),2)))*1","v":0},{"$nulls":14},0,0]
[{"$f":"(IF(ISERROR(VLOOKUP(G102,Choix17!$M$2:$N$14,2,FALSE)&LEFT(J102,4)&RIGHT(LEFT(J102,LEN(J102)-1),2)),0,VLOOKUP(G102,Choix17!$M$2:$N$14,2,FALSE)&LEFT(J102,4)&RIGHT(LEFT(J102,LEN(J102)-1),2)))*1","v":0},{"$f":"(IF(ISERROR(VLOOKUP(L102,Choix17!$M$2:$N$14,2,FALSE)&LEFT(O102,4)&RIGHT(LEFT(O102,LEN(O102)-1),2)),0,VLOOKUP(L102,Choix17!$M$2:$N$14,2,FALSE)&LEFT(O102,4)&RIGHT(LEFT(O102,LEN(O102)-1),2)))*1","v":0},{"$nulls":14},0,0]
[{"$f":"(IF(ISERROR(VLOOKUP(G103,Choix17!$M$2:$N$14,2,FALSE)&LEFT(J103,4)&RIGHT(LEFT(J103,LEN(J103)-1),2)),0,VLOOKUP(G103,Choix17!$M$2:$N$14,2,FALSE)&LEFT(J103,4)&RIGHT(LEFT(J103,LEN(J103)-1),2)))*1","v":0},{"$f":"(IF(ISERROR(VLOOKUP(L103,Choix17!$M$2:$N$14,2,FALSE)&LEFT(O103,4)&RIGHT(LEFT(O103,LEN(O103)-1),2)),0,VLOOKUP(L103,Choix17!$M$2:$N$14,2,FALSE)&LEFT(O103,4)&RIGHT(LEFT(O103,LEN(O103)-1),2)))*1","v":0},{"$nulls":14},0,0]
[{"$f":"(IF(ISERROR(VLOOKUP(G104,Choix17!$M$2:$N$14,2,FALSE)&LEFT(J104,4)&RIGHT(LEFT(J104,LEN(J104)-1),2)),0,VLOOKUP(G104,Choix17!$M$2:$N$14,2,FALSE)&LEFT(J104,4)&RIGHT(LEFT(J104,LEN(J104)-1),2)))*1","v":0},{"$f":"(IF(ISERROR(VLOOKUP(L104,Choix17!$M$2:$N$14,2,FALSE)&LEFT(O104,4)&RIGHT(LEFT(O104,LEN(O104)-1),2)),0,VLOOKUP(L104,Choix17!$M$2:$N$14,2,FALSE)&LEFT(O104,4)&RIGHT(LEFT(O104,LEN(O104)-1),2)))*1","v":0},{"$nulls":14},0,0]
[{"$f":"(IF(ISERROR(VLOOKUP(G105,Choix17!$M$2:$N$14,2,FALSE)&LEFT(J105,4)&RIGHT(LEFT(J105,LEN(J105)-1),2)),0,VLOOKUP(G105,Choix17!$M$2:$N$14,2,FALSE)&LEFT(J105,4)&RIGHT(LEFT(J105,LEN(J105)-1),2)))*1","v":0},{"$f":"(IF(ISERROR(VLOOKUP(L105,Choix17!$M$2:$N$14,2,FALSE)&LEFT(O105,4)&RIGHT(LEFT(O105,LEN(O105)-1),2)),0,VLOOKUP(L105,Choix17!$M$2:$N$14,2,FALSE)&LEFT(O105,4)&RIGHT(LEFT(O105,LEN(O105)-1),2)))*1","v":0},{"$nulls":14},0,0]
[{"$f":"(IF(ISERROR(VLOOKUP(G106,Choix17!$M$2:$N$14,2,FALSE)&LEFT(J106,4)&RIGHT(LEFT(J106,LEN(J106)-1),2)),0,VLOOKUP(G106,Choix17!$M$2:$N$14,2,FALSE)&LEFT(J106,4)&RIGHT(LEFT(J106,LEN(J106)-1),2)))*1","v":0},{"$f":"(IF(ISERROR(VLOOKUP(L106,Choix17!$M$2:$N$14,2,FALSE)&LEFT(O106,4)&RIGHT(LEFT(O106,LEN(O106)-1),2)),0,VLOOKUP(L106,Choix17!$M$2:$N$14,2,FALSE)&LEFT(O106,4)&RIGHT(LEFT(O106,LEN(O106)-1),2)))*1","v":0},{"$nulls":14},0,0]
[{"$f":"(IF(ISERROR(VLOOKUP(G107,Choix17!$M$2:$N$14,2,FALSE)&LEFT(J107,4)&RIGHT(LEFT(J107,LEN(J107)-1),2)),0,VLOOKUP(G107,Choix17!$M$2:$N$14,2,FALSE)&LEFT(J107,4)&RIGHT(LEFT(J107,LEN(J107)-1),2)))*1","v":0},{"$f":"(IF(ISERROR(VLOOKUP(L107,Choix17!$M$2:$N$14,2,FALSE)&LEFT(O107,4)&RIGHT(LEFT(O107,LEN(O107)-1),2)),0,VLOOKUP(L107,Choix17!$M$2:$N$14,2,FALSE)&LEFT(O107,4)&RIGHT(LEFT(O107,LEN(O107)-1),2)))*1","v":0},{"$nulls":14},0,0]
[{"$f":"(IF(ISERROR(VLOOKUP(G108,Choix17!$M$2:$N$14,2,FALSE)&LEFT(J108,4)&RIGHT(LEFT(J108,LEN(J108)-1),2)),0,VLOOKUP(G108,Choix17!$M$2:$N$14,2,FALSE)&LEFT(J108,4)&RIGHT(LEFT(J108,LEN(J108)-1),2)))*1","v":0},{"$f":"(IF(ISERROR(VLOOKUP(L108,Choix17!$M$2:$N$14,2,FALSE)&LEFT(O108,4)&RIGHT(LEFT(O108,LEN(O108)-1),2)),0,VLOOKUP(L108,Choix17!$M$2:$N$14,2,FALSE)&LEFT(O108,4)&RIGHT(LEFT(O108,LEN(O108)-1),2)))*1","v":0},{"$nulls":14},0,0]
[{"$f":"(IF(ISERROR(VLOOKUP(G109,Choix17!$M$2:$N$14,2,FALSE)&LEFT(J109,4)&RIGHT(LEFT(J109,LEN(J109)-1),2)),0,VLOOKUP(G109,Choix17!$M$2:$N$14,2,FALSE)&LEFT(J109,4)&RIGHT(LEFT(J109,LEN(J109)-1),2)))*1","v":0},{"$f":"(IF(ISERROR(VLOOKUP(L109,Choix17!$M$2:$N$14,2,FALSE)&LEFT(O109,4)&RIGHT(LEFT(O109,LEN(O109)-1),2)),0,VLOOKUP(L109,Choix17!$M$2:$N$14,2,FALSE)&LEFT(O109,4)&RIGHT(LEFT(O109,LEN(O109)-1),2)))*1","v":0},{"$nulls":14},0,0]
[{"$f":"(IF(ISERROR(VLOOKUP(G110,Choix17!$M$2:$N$14,2,FALSE)&LEFT(J110,4)&RIGHT(LEFT(J110,LEN(J110)-1),2)),0,VLOOKUP(G110,Choix17!$M$2:$N$14,2,FALSE)&LEFT(J110,4)&RIGHT(LEFT(J110,LEN(J110)-1),2)))*1","v":0},{"$f":"(IF(ISERROR(VLOOKUP(L110,Choix17!$M$2:$N$14,2,FALSE)&LEFT(O110,4)&RIGHT(LEFT(O110,LEN(O110)-1),2)),0,VLOOKUP(L110,Choix17!$M$2:$N$14,2,FALSE)&LEFT(O110,4)&RIGHT(LEFT(O110,LEN(O110)-1),2)))*1","v":0},{"$nulls":14},0,0]
[{"$f":"(IF(ISERROR(VLOOKUP(G111,Choix17!$M$2:$N$14,2,FALSE)&LEFT(J111,4)&RIGHT(LEFT(J111,LEN(J111)-1),2)),0,VLOOKUP(G111,Choix17!$M$2:$N$14,2,FALSE)&LEFT(J111,4)&RIGHT(LEFT(J111,LEN(J111)-1),2)))*1","v":0},{"$f":"(IF(ISERROR(VLOOKUP(L111,Choix17!$M$2:$N$14,2,FALSE)&LEFT(O111,4)&RIGHT(LEFT(O111,LEN(O111)-1),2)),0,VLOOKUP(L111,Choix17!$M$2:$N$14,2,FALSE)&LEFT(O111,4)&RIGHT(LEFT(O111,LEN(O111)-1),2)))*1","v":0},{"$nulls":14},0,0]
[{"$f":"(IF(ISERROR(VLOOKUP(G112,Choix17!$M$2:$N$14,2,FALSE)&LEFT(J112,4)&RIGHT(LEFT(J112,LEN(J112)-1),2)),0,VLOOKUP(G112,Choix17!$M$2:$N$14,2,FALSE)&LEFT(J112,4)&RIGHT(LEFT(J112,LEN(J112)-1),2)))*1","v":0},{"$f":"(IF(ISERROR(VLOOKUP(L112,Choix17!$M$2:$N$14,2,FALSE)&LEFT(O112,4)&RIGHT(LEFT(O112,LEN(O112)-1),2)),0,VLOOKUP(L112,Choix17!$M$2:$N$14,2,FALSE)&LEFT(O112,4)&RIGHT(LEFT(O112,LEN(O112)-1),2)))*1","v":0},{"$nulls":14},0,0]
[{"$f":"(IF(ISERROR(VLOOKUP(G113,Choix17!$M$2:$N$14,2,FALSE)&LEFT(J113,4)&RIGHT(LEFT(J113,LEN(J113)-1),2)),0,VLOOKUP(G113,Choix17!$M$2:$N$14,2,FALSE)&LEFT(J113,4)&RIGHT(LEFT(J113,LEN(J113)-1),2)))*1","v":0},{"$f":"(IF(ISERROR(VLOOKUP(L113,Choix17!$M$2:$N$14,2,FALSE)&LEFT(O113,4)&RIGHT(LEFT(O113,LEN(O113)-1),2)),0,VLOOKUP(L113,Choix17!$M$2:$N$14,2,FALSE)&LEFT(O113,4)&RIGHT(LEFT(O113,LEN(O113)-1),2)))*1","v":0},{"$nulls":14},0,0]
[{"$f":"(IF(ISERROR(VLOOKUP(G114,Choix17!$M$2:$N$14,2,FALSE)&LEFT(J114,4)&RIGHT(LEFT(J114,LEN(J114)-1),2)),0,VLOOKUP(G114,Choix17!$M$2:$N$14,2,FALSE)&LEFT(J114,4)&RIGHT(LEFT(J114,LEN(J114)-1),2)))*1","v":0},{"$f":"(IF(ISERROR(VLOOKUP(L114,Choix17!$M$2:$N$14,2,FALSE)&LEFT(O114,4)&RIGHT(LEFT(O114,LEN(O114)-1),2)),0,VLOOKUP(L114,Choix17!$M$2:$N$14,2,FALSE)&LEFT(O114,4)&RIGHT(LEFT(O114,LEN(O114)-1),2)))*1","v":0},{"$nulls":14},0,0]
[{"$f":"(IF(ISERROR(VLOOKUP(G115,Choix17!$M$2:$N$14,2,FALSE)&LEFT(J115,4)&RIGHT(LEFT(J115,LEN(J115)-1),2)),0,VLOOKUP(G115,Choix17!$M$2:$N$14,2,FALSE)&LEFT(J115,4)&RIGHT(LEFT(J115,LEN(J115)-1),2)))*1","v":0},{"$f":"(IF(ISERROR(VLOOKUP(L115,Choix17!$M$2:$N$14,2,FALSE)&LEFT(O115,4)&RIGHT(LEFT(O115,LEN(O115)-1),2)),0,VLOOKUP(L115,Choix17!$M$2:$N$14,2,FALSE)&LEFT(O115,4)&RIGHT(LEFT(O115,LEN(O115)-1),2)))*1","v":0},{"$nulls":14},0,0]
[{"$f":"(IF(ISERROR(VLOOKUP(G116,Choix17!$M$2:$N$14,2,FALSE)&LEFT(J116,4)&RIGHT(LEFT(J116,LEN(J116)-1),2)),0,VLOOKUP(G116,Choix17!$M$2:$N$14,2,FALSE)&LEFT(J116,4)&RIGHT(LEFT(J116,LEN(J116)-1),2)))*1","v":0},{"$f":"(IF(ISERROR(VLOOKUP(L116,Choix17!$M$2:$N$14,2,FALSE)&LEFT(O116,4)&RIGHT(LEFT(O116,LEN(O116)-1),2)),0,VLOOKUP(L116,Choix17!$M$2:$N$14,2,FALSE)&LEFT(O116,4)&RIGHT(LEFT(O116,LEN(O116)-1),2)))*1","v":0},{"$nulls":14},0,0]
[{"$f":"(IF(ISERROR(VLOOKUP(G117,Choix17!$M$2:$N$14,2,FALSE)&LEFT(J117,4)&RIGHT(LEFT(J117,LEN(J117)-1),2)),0,VLOOKUP(G117,Choix17!$M$2:$N$14,2,FALSE)&LEFT(J117,4)&RIGHT(LEFT(J117,LEN(J117)-1),2)))*1","v":0},{"$f":"(IF(ISERROR(VLOOKUP(L117,Choix17!$M$2:$N$14,2,FALSE)&LEFT(O117,4)&RIGHT(LEFT(O117,LEN(O117)-1),2)),0,VLOOKUP(L117,Choix17!$M$2:$N$14,2,FALSE)&LEFT(O117,4)&RIGHT(LEFT(O117,LEN(O117)-1),2)))*1","v":0},{"$nulls":14},0,0]
[{"$f":"(IF(ISERROR(VLOOKUP(G118,Choix17!$M$2:$N$14,2,FALSE)&LEFT(J118,4)&RIGHT(LEFT(J118,LEN(J118)-1),2)),0,VLOOKUP(G118,Choix17!$M$2:$N$14,2,FALSE)&LEFT(J118,4)&RIGHT(LEFT(J118,LEN(J118)-1),2)))*1","v":0},{"$f":"(IF(ISERROR(VLOOKUP(L118,Choix17!$M$2:$N$14,2,FALSE)&LEFT(O118,4)&RIGHT(LEFT(O118,LEN(O118)-1),2)),0,VLOOKUP(L118,Choix17!$M$2:$N$14,2,FALSE)&LEFT(O118,4)&RIGHT(LEFT(O118,LEN(O118)-1),2)))*1","v":0},{"$nulls":14},0,0]
[{"$f":"(IF(ISERROR(VLOOKUP(G119,Choix17!$M$2:$N$14,2,FALSE)&LEFT(J119,4)&RIGHT(LEFT(J119,LEN(J119)-1),2)),0,VLOOKUP(G119,Choix17!$M$2:$N$14,2,FALSE)&LEFT(J119,4)&RIGHT(LEFT(J119,LEN(J119)-1),2)))*1","v":0},{"$f":"(IF(ISERROR(VLOOKUP(L119,Choix17!$M$2:$N$14,2,FALSE)&LEFT(O119,4)&RIGHT(LEFT(O119,LEN(O119)-1),2)),0,VLOOKUP(L119,Choix17!$M$2:$N$14,2,FALSE)&LEFT(O119,4)&RIGHT(LEFT(O119,LEN(O119)-1),2)))*1","v":0},{"$nulls":14},0,0]
[{"$f":"(IF(ISERROR(VLOOKUP(G120,Choix17!$M$2:$N$14,2,FALSE)&LEFT(J120,4)&RIGHT(LEFT(J120,LEN(J120)-1),2)),0,VLOOKUP(G120,Choix17!$M$2:$N$14,2,FALSE)&LEFT(J120,4)&RIGHT(LEFT(J120,LEN(J120)-1),2)))*1","v":0},{"$f":"(IF(ISERROR(VLOOKUP(L120,Choix17!$M$2:$N$14,2,FALSE)&LEFT(O120,4)&RIGHT(LEFT(O120,LEN(O120)-1),2)),0,VLOOKUP(L120,Choix17!$M$2:$N$14,2,FALSE)&LEFT(O120,4)&RIGHT(LEFT(O120,LEN(O120)-1),2)))*1","v":0},{"$nulls":14},0,0]
[{"$f":"(IF(ISERROR(VLOOKUP(G121,Choix17!$M$2:$N$14,2,FALSE)&LEFT(J121,4)&RIGHT(LEFT(J121,LEN(J121)-1),2)),0,VLOOKUP(G121,Choix17!$M$2:$N$14,2,FALSE)&LEFT(J121,4)&RIGHT(LEFT(J121,LEN(J121)-1),2)))*1","v":0},{"$f":"(IF(ISERROR(VLOOKUP(L121,Choix17!$M$2:$N$14,2,FALSE)&LEFT(O121,4)&RIGHT(LEFT(O121,LEN(O121)-1),2)),0,VLOOKUP(L121,Choix17!$M$2:$N$14,2,FALSE)&LEFT(O121,4)&RIGHT(LEFT(O121,LEN(O121)-1),2)))*1","v":0},{"$nulls":14},0,0]
[{"$f":"(IF(ISERROR(VLOOKUP(G122,Choix17!$M$2:$N$14,2,FALSE)&LEFT(J122,4)&RIGHT(LEFT(J122,LEN(J122)-1),2)),0,VLOOKUP(G122,Choix17!$M$2:$N$14,2,FALSE)&LEFT(J122,4)&RIGHT(LEFT(J122,LEN(J122)-1),2)))*1","v":0},{"$f":"(IF(ISERROR(VLOOKUP(L122,Choix17!$M$2:$N$14,2,FALSE)&LEFT(O122,4)&RIGHT(LEFT(O122,LEN(O122)-1),2)),0,VLOOKUP(L122,Choix17!$M$2:$N$14,2,FALSE)&LEFT(O122,4)&RIGHT(LEFT(O122,LEN(O122)-1),2)))*1","v":0},{"$nulls":14},0,0]
[{"$f":"(IF(ISERROR(VLOOKUP(G123,Choix17!$M$2:$N$14,2,FALSE)&LEFT(J123,4)&RIGHT(LEFT(J123,LEN(J123)-1),2)),0,VLOOKUP(G123,Choix17!$M$2:$N$14,2,FALSE)&LEFT(J123,4)&RIGHT(LEFT(J123,LEN(J123)-1),2)))*1","v":0},{"$f":"(IF(ISERROR(VLOOKUP(L123,Choix17!$M$2:$N$14,2,FALSE)&LEFT(O123,4)&RIGHT(LEFT(O123,LEN(O123)-1),2)),0,VLOOKUP(L123,Choix17!$M$2:$N$14,2,FALSE)&LEFT(O123,4)&RIGHT(LEFT(O123,LEN(O123)-1),2)))*1","v":0},{"$nulls":14},0,0]
[{"$f":"(IF(ISERROR(VLOOKUP(G124,Choix17!$M$2:$N$14,2,FALSE)&LEFT(J124,4)&RIGHT(LEFT(J124,LEN(J124)-1),2)),0,VLOOKUP(G124,Choix17!$M$2:$N$14,2,FALSE)&LEFT(J124,4)&RIGHT(LEFT(J124,LEN(J124)-1),2)))*1","v":0},{"$f":"(IF(ISERROR(VLOOKUP(L124,Choix17!$M$2:$N$14,2,FALSE)&LEFT(O124,4)&RIGHT(LEFT(O124,LEN(O124)-1),2)),0,VLOOKUP(L124,Choix17!$M$2:$N$14,2,FALSE)&LEFT(O124,4)&RIGHT(LEFT(O124,LEN(O124)-1),2)))*1","v":0},{"$nulls":14},0,0]
[{"$f":"(IF(ISERROR(VLOOKUP(G125,Choix17!$M$2:$N$14,2,FALSE)&LEFT(J125,4)&RIGHT(LEFT(J125,LEN(J125)-1),2)),0,VLOOKUP(G125,Choix17!$M$2:$N$14,2,FALSE)&LEFT(J125,4)&RIGHT(LEFT(J125,LEN(J125)-1),2)))*1","v":0},{"$f":"(IF(ISERROR(VLOOKUP(L125,Choix17!$M$2:$N$14,2,FALSE)&LEFT(O125,4)&RIGHT(LEFT(O125,LEN(O125)-1),2)),0,VLOOKUP(L125,Choix17!$M$2:$N$14,2,FALSE)&LEFT(O125,4)&RIGHT(LEFT(O125,LEN(O125)-1),2)))*1","v":0},{"$nulls":14},0,0]
[{"$f":"(IF(ISERROR(VLOOKUP(G126,Choix17!$M$2:$N$14,2,FALSE)&LEFT(J126,4)&RIGHT(LEFT(J126,LEN(J126)-1),2)),0,VLOOKUP(G126,Choix17!$M$2:$N$14,2,FALSE)&LEFT(J126,4)&RIGHT(LEFT(J126,LEN(J126)-1),2)))*1","v":0},{"$f":"(IF(ISERROR(VLOOKUP(L126,Choix17!$M$2:$N$14,2,FALSE)&LEFT(O126,4)&RIGHT(LEFT(O126,LEN(O126)-1),2)),0,VLOOKUP(L126,Choix17!$M$2:$N$14,2,FALSE)&LEFT(O126,4)&RIGHT(LEFT(O126,LEN(O126)-1),2)))*1","v":0},{"$nulls":14},0,0]
[{"$f":"(IF(ISERROR(VLOOKUP(G127,Choix17!$M$2:$N$14,2,FALSE)&LEFT(J127,4)&RIGHT(LEFT(J127,LEN(J127)-1),2)),0,VLOOKUP(G127,Choix17!$M$2:$N$14,2,FALSE)&LEFT(J127,4)&RIGHT(LEFT(J127,LEN(J127)-1),2)))*1","v":0},{"$f":"(IF(ISERROR(VLOOKUP(L127,Choix17!$M$2:$N$14,2,FALSE)&LEFT(O127,4)&RIGHT(LEFT(O127,LEN(O127)-1),2)),0,VLOOKUP(L127,Choix17!$M$2:$N$14,2,FALSE)&LEFT(O127,4)&RIGHT(LEFT(O127,LEN(O127)-1),2)))*1","v":0},{"$nulls":14},0,0]
[{"$f":"(IF(ISERROR(VLOOKUP(G128,Choix17!$M$2:$N$14,2,FALSE)&LEFT(J128,4)&RIGHT(LEFT(J128,LEN(J128)-1),2)),0,VLOOKUP(G128,Choix17!$M$2:$N$14,2,FALSE)&LEFT(J128,4)&RIGHT(LEFT(J128,LEN(J128)-1),2)))*1","v":0},{"$f":"(IF(ISERROR(VLOOKUP(L128,Choix17!$M$2:$N$14,2,FALSE)&LEFT(O128,4)&RIGHT(LEFT(O128,LEN(O128)-1),2)),0,VLOOKUP(L128,Choix17!$M$2:$N$14,2,FALSE)&LEFT(O128,4)&RIGHT(LEFT(O128,LEN(O128)-1),2)))*1","v":0},{"$nulls":14},0,0]
[{"$f":"(IF(ISERROR(VLOOKUP(G129,Choix17!$M$2:$N$14,2,FALSE)&LEFT(J129,4)&RIGHT(LEFT(J129,LEN(J129)-1),2)),0,VLOOKUP(G129,Choix17!$M$2:$N$14,2,FALSE)&LEFT(J129,4)&RIGHT(LEFT(J129,LEN(J129)-1),2)))*1","v":0},{"$f":"(IF(ISERROR(VLOOKUP(L129,Choix17!$M$2:$N$14,2,FALSE)&LEFT(O129,4)&RIGHT(LEFT(O129,LEN(O129)-1),2)),0,VLOOKUP(L129,Choix17!$M$2:$N$14,2,FALSE)&LEFT(O129,4)&RIGHT(LEFT(O129,LEN(O129)-1),2)))*1","v":0},{"$nulls":14},0,0]
[{"$f":"(IF(ISERROR(VLOOKUP(G130,Choix17!$M$2:$N$14,2,FALSE)&LEFT(J130,4)&RIGHT(LEFT(J130,LEN(J130)-1),2)),0,VLOOKUP(G130,Choix17!$M$2:$N$14,2,FALSE)&LEFT(J130,4)&RIGHT(LEFT(J130,LEN(J130)-1),2)))*1","v":0},{"$f":"(IF(ISERROR(VLOOKUP(L130,Choix17!$M$2:$N$14,2,FALSE)&LEFT(O130,4)&RIGHT(LEFT(O130,LEN(O130)-1),2)),0,VLOOKUP(L130,Choix17!$M$2:$N$14,2,FALSE)&LEFT(O130,4)&RIGHT(LEFT(O130,LEN(O130)-1),2)))*1","v":0},{"$nulls":14},0,0]
[{"$f":"(IF(ISERROR(VLOOKUP(G131,Choix17!$M$2:$N$14,2,FALSE)&LEFT(J131,4)&RIGHT(LEFT(J131,LEN(J131)-1),2)),0,VLOOKUP(G131,Choix17!$M$2:$N$14,2,FALSE)&LEFT(J131,4)&RIGHT(LEFT(J131,LEN(J131)-1),2)))*1","v":0},{"$f":"(IF(ISERROR(VLOOKUP(L131,Choix17!$M$2:$N$14,2,FALSE)&LEFT(O131,4)&RIGHT(LEFT(O131,LEN(O131)-1),2)),0,VLOOKUP(L131,Choix17!$M$2:$N$14,2,FALSE)&LEFT(O131,4)&RIGHT(LEFT(O131,LEN(O131)-1),2)))*1","v":0},{"$nulls":14},{"$f":"IF(A131<1,0,COUNTIF($A:$B,A131))","v":0},0]
[{"$f":"(IF(ISERROR(VLOOKUP(G132,Choix17!$M$2:$N$14,2,FALSE)&LEFT(J132,4)&RIGHT(LEFT(J132,LEN(J132)-1),2)),0,VLOOKUP(G132,Choix17!$M$2:$N$14,2,FALSE)&LEFT(J132,4)&RIGHT(LEFT(J132,LEN(J132)-1),2)))*1","v":0},{"$f":"(IF(ISERROR(VLOOKUP(L132,Choix17!$M$2:$N$14,2,FALSE)&LEFT(O132,4)&RIGHT(LEFT(O132,LEN(O132)-1),2)),0,VLOOKUP(L132,Choix17!$M$2:$N$14,2,FALSE)&LEFT(O132,4)&RIGHT(LEFT(O132,LEN(O132)-1),2)))*1","v":0},{"$nulls":14},0,0]
[{"$f":"(IF(ISERROR(VLOOKUP(G133,Choix17!$M$2:$N$14,2,FALSE)&LEFT(J133,4)&RIGHT(LEFT(J133,LEN(J133)-1),2)),0,VLOOKUP(G133,Choix17!$M$2:$N$14,2,FALSE)&LEFT(J133,4)&RIGHT(LEFT(J133,LEN(J133)-1),2)))*1","v":0},{"$f":"(IF(ISERROR(VLOOKUP(L133,Choix17!$M$2:$N$14,2,FALSE)&LEFT(O133,4)&RIGHT(LEFT(O133,LEN(O133)-1),2)),0,VLOOKUP(L133,Choix17!$M$2:$N$14,2,FALSE)&LEFT(O133,4)&RIGHT(LEFT(O133,LEN(O133)-1),2)))*1","v":0},{"$nulls":14},0,0]
[{"$f":"(IF(ISERROR(VLOOKUP(G134,Choix17!$M$2:$N$14,2,FALSE)&LEFT(J134,4)&RIGHT(LEFT(J134,LEN(J134)-1),2)),0,VLOOKUP(G134,Choix17!$M$2:$N$14,2,FALSE)&LEFT(J134,4)&RIGHT(LEFT(J134,LEN(J134)-1),2)))*1","v":0},{"$f":"(IF(ISERROR(VLOOKUP(L134,Choix17!$M$2:$N$14,2,FALSE)&LEFT(O134,4)&RIGHT(LEFT(O134,LEN(O134)-1),2)),0,VLOOKUP(L134,Choix17!$M$2:$N$14,2,FALSE)&LEFT(O134,4)&RIGHT(LEFT(O134,LEN(O134)-1),2)))*1","v":0},{"$nulls":14},0,0]
[{"$f":"(IF(ISERROR(VLOOKUP(G135,Choix17!$M$2:$N$14,2,FALSE)&LEFT(J135,4)&RIGHT(LEFT(J135,LEN(J135)-1),2)),0,VLOOKUP(G135,Choix17!$M$2:$N$14,2,FALSE)&LEFT(J135,4)&RIGHT(LEFT(J135,LEN(J135)-1),2)))*1","v":0},{"$f":"(IF(ISERROR(VLOOKUP(L135,Choix17!$M$2:$N$14,2,FALSE)&LEFT(O135,4)&RIGHT(LEFT(O135,LEN(O135)-1),2)),0,VLOOKUP(L135,Choix17!$M$2:$N$14,2,FALSE)&LEFT(O135,4)&RIGHT(LEFT(O135,LEN(O135)-1),2)))*1","v":0},{"$nulls":14},0,0]
[{"$f":"(IF(ISERROR(VLOOKUP(G136,Choix17!$M$2:$N$14,2,FALSE)&LEFT(J136,4)&RIGHT(LEFT(J136,LEN(J136)-1),2)),0,VLOOKUP(G136,Choix17!$M$2:$N$14,2,FALSE)&LEFT(J136,4)&RIGHT(LEFT(J136,LEN(J136)-1),2)))*1","v":0},{"$f":"(IF(ISERROR(VLOOKUP(L136,Choix17!$M$2:$N$14,2,FALSE)&LEFT(O136,4)&RIGHT(LEFT(O136,LEN(O136)-1),2)),0,VLOOKUP(L136,Choix17!$M$2:$N$14,2,FALSE)&LEFT(O136,4)&RIGHT(LEFT(O136,LEN(O136)-1),2)))*1","v":0},{"$nulls":14},0,0]
[{"$f":"(IF(ISERROR(VLOOKUP(G137,Choix17!$M$2:$N$14,2,FALSE)&LEFT(J137,4)&RIGHT(LEFT(J137,LEN(J137)-1),2)),0,VLOOKUP(G137,Choix17!$M$2:$N$14,2,FALSE)&LEFT(J137,4)&RIGHT(LEFT(J137,LEN(J137)-1),2)))*1","v":0},{"$f":"(IF(ISERROR(VLOOKUP(L137,Choix17!$M$2:$N$14,2,FALSE)&LEFT(O137,4)&RIGHT(LEFT(O137,LEN(O137)-1),2)),0,VLOOKUP(L137,Choix17!$M$2:$N$14,2,FALSE)&LEFT(O137,4)&RIGHT(LEFT(O137,LEN(O137)-1),2)))*1","v":0},{"$nulls":14},0,0]
[{"$f":"(IF(ISERROR(VLOOKUP(G138,Choix17!$M$2:$N$14,2,FALSE)&LEFT(J138,4)&RIGHT(LEFT(J138,LEN(J138)-1),2)),0,VLOOKUP(G138,Choix17!$M$2:$N$14,2,FALSE)&LEFT(J138,4)&RIGHT(LEFT(J138,LEN(J138)-1),2)))*1","v":0},{"$f":"(IF(ISERROR(VLOOKUP(L138,Choix17!$M$2:$N$14,2,FALSE)&LEFT(O138,4)&RIGHT(LEFT(O138,LEN(O138)-1),2)),0,VLOOKUP(L138,Choix17!$M$2:$N$14,2,FALSE)&LEFT(O138,4)&RIGHT(LEFT(O138,LEN(O138)-1),2)))*1","v":0},{"$nulls":14},0,0]
[{"$f":"(IF(ISERROR(VLOOKUP(G139,Choix17!$M$2:$N$14,2,FALSE)&LEFT(J139,4)&RIGHT(LEFT(J139,LEN(J139)-1),2)),0,VLOOKUP(G139,Choix17!$M$2:$N$14,2,FALSE)&LEFT(J139,4)&RIGHT(LEFT(J139,LEN(J139)-1),2)))*1","v":0},{"$f":"(IF(ISERROR(VLOOKUP(L139,Choix17!$M$2:$N$14,2,FALSE)&LEFT(O139,4)&RIGHT(LEFT(O139,LEN(O139)-1),2)),0,VLOOKUP(L139,Choix17!$M$2:$N$14,2,FALSE)&LEFT(O139,4)&RIGHT(LEFT(O139,LEN(O139)-1),2)))*1","v":0},{"$nulls":14},0,0]
[{"$f":"(IF(ISERROR(VLOOKUP(G140,Choix17!$M$2:$N$14,2,FALSE)&LEFT(J140,4)&RIGHT(LEFT(J140,LEN(J140)-1),2)),0,VLOOKUP(G140,Choix17!$M$2:$N$14,2,FALSE)&LEFT(J140,4)&RIGHT(LEFT(J140,LEN(J140)-1),2)))*1","v":0},{"$f":"(IF(ISERROR(VLOOKUP(L140,Choix17!$M$2:$N$14,2,FALSE)&LEFT(O140,4)&RIGHT(LEFT(O140,LEN(O140)-1),2)),0,VLOOKUP(L140,Choix17!$M$2:$N$14,2,FALSE)&LEFT(O140,4)&RIGHT(LEFT(O140,LEN(O140)-1),2)))*1","v":0},{"$nulls":14},0,0]
[{"$f":"(IF(ISERROR(VLOOKUP(G141,Choix17!$M$2:$N$14,2,FALSE)&LEFT(J141,4)&RIGHT(LEFT(J141,LEN(J141)-1),2)),0,VLOOKUP(G141,Choix17!$M$2:$N$14,2,FALSE)&LEFT(J141,4)&RIGHT(LEFT(J141,LEN(J141)-1),2)))*1","v":0},{"$f":"(IF(ISERROR(VLOOKUP(L141,Choix17!$M$2:$N$14,2,FALSE)&LEFT(O141,4)&RIGHT(LEFT(O141,LEN(O141)-1),2)),0,VLOOKUP(L141,Choix17!$M$2:$N$14,2,FALSE)&LEFT(O141,4)&RIGHT(LEFT(O141,LEN(O141)-1),2)))*1","v":0},{"$nulls":14},0,0]
[{"$f":"(IF(ISERROR(VLOOKUP(G142,Choix17!$M$2:$N$14,2,FALSE)&LEFT(J142,4)&RIGHT(LEFT(J142,LEN(J142)-1),2)),0,VLOOKUP(G142,Choix17!$M$2:$N$14,2,FALSE)&LEFT(J142,4)&RIGHT(LEFT(J142,LEN(J142)-1),2)))*1","v":0},{"$f":"(IF(ISERROR(VLOOKUP(L142,Choix17!$M$2:$N$14,2,FALSE)&LEFT(O142,4)&RIGHT(LEFT(O142,LEN(O142)-1),2)),0,VLOOKUP(L142,Choix17!$M$2:$N$14,2,FALSE)&LEFT(O142,4)&RIGHT(LEFT(O142,LEN(O142)-1),2)))*1","v":0},{"$nulls":14},0,0]
[{"$f":"(IF(ISERROR(VLOOKUP(G143,Choix17!$M$2:$N$14,2,FALSE)&LEFT(J143,4)&RIGHT(LEFT(J143,LEN(J143)-1),2)),0,VLOOKUP(G143,Choix17!$M$2:$N$14,2,FALSE)&LEFT(J143,4)&RIGHT(LEFT(J143,LEN(J143)-1),2)))*1","v":0},{"$f":"(IF(ISERROR(VLOOKUP(L143,Choix17!$M$2:$N$14,2,FALSE)&LEFT(O143,4)&RIGHT(LEFT(O143,LEN(O143)-1),2)),0,VLOOKUP(L143,Choix17!$M$2:$N$14,2,FALSE)&LEFT(O143,4)&RIGHT(LEFT(O143,LEN(O143)-1),2)))*1","v":0},{"$nulls":14},0,0]
[{"$f":"(IF(ISERROR(VLOOKUP(G144,Choix17!$M$2:$N$14,2,FALSE)&LEFT(J144,4)&RIGHT(LEFT(J144,LEN(J144)-1),2)),0,VLOOKUP(G144,Choix17!$M$2:$N$14,2,FALSE)&LEFT(J144,4)&RIGHT(LEFT(J144,LEN(J144)-1),2)))*1","v":0},{"$f":"(IF(ISERROR(VLOOKUP(L144,Choix17!$M$2:$N$14,2,FALSE)&LEFT(O144,4)&RIGHT(LEFT(O144,LEN(O144)-1),2)),0,VLOOKUP(L144,Choix17!$M$2:$N$14,2,FALSE)&LEFT(O144,4)&RIGHT(LEFT(O144,LEN(O144)-1),2)))*1","v":0},{"$nulls":14},0,0]
[{"$f":"(IF(ISERROR(VLOOKUP(G145,Choix17!$M$2:$N$14,2,FALSE)&LEFT(J145,4)&RIGHT(LEFT(J145,LEN(J145)-1),2)),0,VLOOKUP(G145,Choix17!$M$2:$N$14,2,FALSE)&LEFT(J145,4)&RIGHT(LEFT(J145,LEN(J145)-1),2)))*1","v":0},{"$f":"(IF(ISERROR(VLOOKUP(L145,Choix17!$M$2:$N$14,2,FALSE)&LEFT(O145,4)&RIGHT(LEFT(O145,LEN(O145)-1),2)),0,VLOOKUP(L145,Choix17!$M$2:$N$14,2,FALSE)&LEFT(O145,4)&RIGHT(LEFT(O145,LEN(O145)-1),2)))*1","v":0},{"$nulls":14},0,0]
[{"$f":"(IF(ISERROR(VLOOKUP(G146,Choix17!$M$2:$N$14,2,FALSE)&LEFT(J146,4)&RIGHT(LEFT(J146,LEN(J146)-1),2)),0,VLOOKUP(G146,Choix17!$M$2:$N$14,2,FALSE)&LEFT(J146,4)&RIGHT(LEFT(J146,LEN(J146)-1),2)))*1","v":0},{"$f":"(IF(ISERROR(VLOOKUP(L146,Choix17!$M$2:$N$14,2,FALSE)&LEFT(O146,4)&RIGHT(LEFT(O146,LEN(O146)-1),2)),0,VLOOKUP(L146,Choix17!$M$2:$N$14,2,FALSE)&LEFT(O146,4)&RIGHT(LEFT(O146,LEN(O146)-1),2)))*1","v":0},{"$nulls":14},0,0]
[{"$f":"(IF(ISERROR(VLOOKUP(G147,Choix17!$M$2:$N$14,2,FALSE)&LEFT(J147,4)&RIGHT(LEFT(J147,LEN(J147)-1),2)),0,VLOOKUP(G147,Choix17!$M$2:$N$14,2,FALSE)&LEFT(J147,4)&RIGHT(LEFT(J147,LEN(J147)-1),2)))*1","v":0},{"$f":"(IF(ISERROR(VLOOKUP(L147,Choix17!$M$2:$N$14,2,FALSE)&LEFT(O147,4)&RIGHT(LEFT(O147,LEN(O147)-1),2)),0,VLOOKUP(L147,Choix17!$M$2:$N$14,2,FALSE)&LEFT(O147,4)&RIGHT(LEFT(O147,LEN(O147)-1),2)))*1","v":0},{"$nulls":14},0,0]
[{"$f":"(IF(ISERROR(VLOOKUP(G148,Choix17!$M$2:$N$14,2,FALSE)&LEFT(J148,4)&RIGHT(LEFT(J148,LEN(J148)-1),2)),0,VLOOKUP(G148,Choix17!$M$2:$N$14,2,FALSE)&LEFT(J148,4)&RIGHT(LEFT(J148,LEN(J148)-1),2)))*1","v":0},{"$f":"(IF(ISERROR(VLOOKUP(L148,Choix17!$M$2:$N$14,2,FALSE)&LEFT(O148,4)&RIGHT(LEFT(O148,LEN(O148)-1),2)),0,VLOOKUP(L148,Choix17!$M$2:$N$14,2,FALSE)&LEFT(O148,4)&RIGHT(LEFT(O148,LEN(O148)-1),2)))*1","v":0},{"$nulls":14},0,0]
[{"$f":"(IF(ISERROR(VLOOKUP(G149,Choix17!$M$2:$N$14,2,FALSE)&LEFT(J149,4)&RIGHT(LEFT(J149,LEN(J149)-1),2)),0,VLOOKUP(G149,Choix17!$M$2:$N$14,2,FALSE)&LEFT(J149,4)&RIGHT(LEFT(J149,LEN(J149)-1),2)))*1","v":0},{"$f":"(IF(ISERROR(VLOOKUP(L149,Choix17!$M$2:$N$14,2,FALSE)&LEFT(O149,4)&RIGHT(LEFT(O149,LEN(O149)-1),2)),0,VLOOKUP(L149,Choix17!$M$2:$N$14,2,FALSE)&LEFT(O149,4)&RIGHT(LEFT(O149,LEN(O149)-1),2)))*1","v":0},{"$nulls":14},0,0]
[{"$f":"(IF(ISERROR(VLOOKUP(G150,Choix17!$M$2:$N$14,2,FALSE)&LEFT(J150,4)&RIGHT(LEFT(J150,LEN(J150)-1),2)),0,VLOOKUP(G150,Choix17!$M$2:$N$14,2,FALSE)&LEFT(J150,4)&RIGHT(LEFT(J150,LEN(J150)-1),2)))*1","v":0},{"$f":"(IF(ISERROR(VLOOKUP(L150,Choix17!$M$2:$N$14,2,FALSE)&LEFT(O150,4)&RIGHT(LEFT(O150,LEN(O150)-1),2)),0,VLOOKUP(L150,Choix17!$M$2:$N$14,2,FALSE)&LEFT(O150,4)&RIGHT(LEFT(O150,LEN(O150)-1),2)))*1","v":0},{"$nulls":14},0,0]
[{"$f":"(IF(ISERROR(VLOOKUP(G151,Choix17!$M$2:$N$14,2,FALSE)&LEFT(J151,4)&RIGHT(LEFT(J151,LEN(J151)-1),2)),0,VLOOKUP(G151,Choix17!$M$2:$N$14,2,FALSE)&LEFT(J151,4)&RIGHT(LEFT(J151,LEN(J151)-1),2)))*1","v":0},{"$f":"(IF(ISERROR(VLOOKUP(L151,Choix17!$M$2:$N$14,2,FALSE)&LEFT(O151,4)&RIGHT(LEFT(O151,LEN(O151)-1),2)),0,VLOOKUP(L151,Choix17!$M$2:$N$14,2,FALSE)&LEFT(O151,4)&RIGHT(LEFT(O151,LEN(O151)-1),2)))*1","v":0},{"$nulls":14},0,0]
[{"$f":"(IF(ISERROR(VLOOKUP(G152,Choix17!$M$2:$N$14,2,FALSE)&LEFT(J152,4)&RIGHT(LEFT(J152,LEN(J152)-1),2)),0,VLOOKUP(G152,Choix17!$M$2:$N$14,2,FALSE)&LEFT(J152,4)&RIGHT(LEFT(J152,LEN(J152)-1),2)))*1","v":0},{"$f":"(IF(ISERROR(VLOOKUP(L152,Choix17!$M$2:$N$14,2,FALSE)&LEFT(O152,4)&RIGHT(LEFT(O152,LEN(O152)-1),2)),0,VLOOKUP(L152,Choix17!$M$2:$N$14,2,FALSE)&LEFT(O152,4)&RIGHT(LEFT(O152,LEN(O152)-1),2)))*1","v":0},{"$nulls":14},0,0]
[{"$f":"(IF(ISERROR(VLOOKUP(G153,Choix17!$M$2:$N$14,2,FALSE)&LEFT(J153,4)&RIGHT(LEFT(J153,LEN(J153)-1),2)),0,VLOOKUP(G153,Choix17!$M$2:$N$14,2,FALSE)&LEFT(J153,4)&RIGHT(LEFT(J153,LEN(J153)-1),2)))*1","v":0},{"$f":"(IF(ISERROR(VLOOKUP(L153,Choix17!$M$2:$N$14,2,FALSE)&LEFT(O153,4)&RIGHT(LEFT(O153,LEN(O153)-1),2)),0,VLOOKUP(L153,Choix17!$M$2:$N$14,2,FALSE)&LEFT(O153,4)&RIGHT(LEFT(O153,LEN(O153)-1),2)))*1","v":0},{"$nulls":14},0,0]
[{"$f":"(IF(ISERROR(VLOOKUP(G154,Choix17!$M$2:$N$14,2,FALSE)&LEFT(J154,4)&RIGHT(LEFT(J154,LEN(J154)-1),2)),0,VLOOKUP(G154,Choix17!$M$2:$N$14,2,FALSE)&LEFT(J154,4)&RIGHT(LEFT(J154,LEN(J154)-1),2)))*1","v":0},{"$f":"(IF(ISERROR(VLOOKUP(L154,Choix17!$M$2:$N$14,2,FALSE)&LEFT(O154,4)&RIGHT(LEFT(O154,LEN(O154)-1),2)),0,VLOOKUP(L154,Choix17!$M$2:$N$14,2,FALSE)&LEFT(O154,4)&RIGHT(LEFT(O154,LEN(O154)-1),2)))*1","v":0},{"$nulls":14},0,0]
[{"$f":"(IF(ISERROR(VLOOKUP(G155,Choix17!$M$2:$N$14,2,FALSE)&LEFT(J155,4)&RIGHT(LEFT(J155,LEN(J155)-1),2)),0,VLOOKUP(G155,Choix17!$M$2:$N$14,2,FALSE)&LEFT(J155,4)&RIGHT(LEFT(J155,LEN(J155)-1),2)))*1","v":0},{"$f":"(IF(ISERROR(VLOOKUP(L155,Choix17!$M$2:$N$14,2,FALSE)&LEFT(O155,4)&RIGHT(LEFT(O155,LEN(O155)-1),2)),0,VLOOKUP(L155,Choix17!$M$2:$N$14,2,FALSE)&LEFT(O155,4)&RIGHT(LEFT(O155,LEN(O155)-1),2)))*1","v":0},{"$nulls":14},0,0]
[{"$f":"(IF(ISERROR(VLOOKUP(G156,Choix17!$M$2:$N$14,2,FALSE)&LEFT(J156,4)&RIGHT(LEFT(J156,LEN(J156)-1),2)),0,VLOOKUP(G156,Choix17!$M$2:$N$14,2,FALSE)&LEFT(J156,4)&RIGHT(LEFT(J156,LEN(J156)-1),2)))*1","v":0},{"$f":"(IF(ISERROR(VLOOKUP(L156,Choix17!$M$2:$N$14,2,FALSE)&LEFT(O156,4)&RIGHT(LEFT(O156,LEN(O156)-1),2)),0,VLOOKUP(L156,Choix17!$M$2:$N$14,2,FALSE)&LEFT(O156,4)&RIGHT(LEFT(O156,LEN(O156)-1),2)))*1","v":0},{"$nulls":14},0,0]
[{"$f":"(IF(ISERROR(VLOOKUP(G157,Choix17!$M$2:$N$14,2,FALSE)&LEFT(J157,4)&RIGHT(LEFT(J157,LEN(J157)-1),2)),0,VLOOKUP(G157,Choix17!$M$2:$N$14,2,FALSE)&LEFT(J157,4)&RIGHT(LEFT(J157,LEN(J157)-1),2)))*1","v":0},{"$f":"(IF(ISERROR(VLOOKUP(L157,Choix17!$M$2:$N$14,2,FALSE)&LEFT(O157,4)&RIGHT(LEFT(O157,LEN(O157)-1),2)),0,VLOOKUP(L157,Choix17!$M$2:$N$14,2,FALSE)&LEFT(O157,4)&RIGHT(LEFT(O157,LEN(O157)-1),2)))*1","v":0},{"$nulls":14},0,0]
[{"$f":"(IF(ISERROR(VLOOKUP(G158,Choix17!$M$2:$N$14,2,FALSE)&LEFT(J158,4)&RIGHT(LEFT(J158,LEN(J158)-1),2)),0,VLOOKUP(G158,Choix17!$M$2:$N$14,2,FALSE)&LEFT(J158,4)&RIGHT(LEFT(J158,LEN(J158)-1),2)))*1","v":0},{"$f":"(IF(ISERROR(VLOOKUP(L158,Choix17!$M$2:$N$14,2,FALSE)&LEFT(O158,4)&RIGHT(LEFT(O158,LEN(O158)-1),2)),0,VLOOKUP(L158,Choix17!$M$2:$N$14,2,FALSE)&LEFT(O158,4)&RIGHT(LEFT(O158,LEN(O158)-1),2)))*1","v":0},{"$nulls":6}," Brent Burns",{"$nulls":7},0,0]
[{"$f":"(IF(ISERROR(VLOOKUP(G159,Choix17!$M$2:$N$14,2,FALSE)&LEFT(J159,4)&RIGHT(LEFT(J159,LEN(J159)-1),2)),0,VLOOKUP(G159,Choix17!$M$2:$N$14,2,FALSE)&LEFT(J159,4)&RIGHT(LEFT(J159,LEN(J159)-1),2)))*1","v":0},{"$f":"(IF(ISERROR(VLOOKUP(L159,Choix17!$M$2:$N$14,2,FALSE)&LEFT(O159,4)&RIGHT(LEFT(O159,LEN(O159)-1),2)),0,VLOOKUP(L159,Choix17!$M$2:$N$14,2,FALSE)&LEFT(O159,4)&RIGHT(LEFT(O159,LEN(O159)-1),2)))*1","v":0},{"$nulls":6}," Connor McDavid",{"$nulls":7},0,0]
[{"$f":"(IF(ISERROR(VLOOKUP(G160,Choix17!$M$2:$N$14,2,FALSE)&LEFT(J160,4)&RIGHT(LEFT(J160,LEN(J160)-1),2)),0,VLOOKUP(G160,Choix17!$M$2:$N$14,2,FALSE)&LEFT(J160,4)&RIGHT(LEFT(J160,LEN(J160)-1),2)))*1","v":0},{"$f":"(IF(ISERROR(VLOOKUP(L160,Choix17!$M$2:$N$14,2,FALSE)&LEFT(O160,4)&RIGHT(LEFT(O160,LEN(O160)-1),2)),0,VLOOKUP(L160,Choix17!$M$2:$N$14,2,FALSE)&LEFT(O160,4)&RIGHT(LEFT(O160,LEN(O160)-1),2)))*1","v":0},{"$nulls":6}," Brad Marchand",{"$nulls":7},0,0]
[{"$f":"(IF(ISERROR(VLOOKUP(G161,Choix17!$M$2:$N$14,2,FALSE)&LEFT(J161,4)&RIGHT(LEFT(J161,LEN(J161)-1),2)),0,VLOOKUP(G161,Choix17!$M$2:$N$14,2,FALSE)&LEFT(J161,4)&RIGHT(LEFT(J161,LEN(J161)-1),2)))*1","v":0},{"$f":"(IF(ISERROR(VLOOKUP(L161,Choix17!$M$2:$N$14,2,FALSE)&LEFT(O161,4)&RIGHT(LEFT(O161,LEN(O161)-1),2)),0,VLOOKUP(L161,Choix17!$M$2:$N$14,2,FALSE)&LEFT(O161,4)&RIGHT(LEFT(O161,LEN(O161)-1),2)))*1","v":0},{"$nulls":6}," Artem Anisimov",{"$nulls":7},0,0]
[{"$f":"(IF(ISERROR(VLOOKUP(G162,Choix17!$M$2:$N$14,2,FALSE)&LEFT(J162,4)&RIGHT(LEFT(J162,LEN(J162)-1),2)),0,VLOOKUP(G162,Choix17!$M$2:$N$14,2,FALSE)&LEFT(J162,4)&RIGHT(LEFT(J162,LEN(J162)-1),2)))*1","v":0},{"$f":"(IF(ISERROR(VLOOKUP(L162,Choix17!$M$2:$N$14,2,FALSE)&LEFT(O162,4)&RIGHT(LEFT(O162,LEN(O162)-1),2)),0,VLOOKUP(L162,Choix17!$M$2:$N$14,2,FALSE)&LEFT(O162,4)&RIGHT(LEFT(O162,LEN(O162)-1),2)))*1","v":0},{"$nulls":6}," Richard Panik",{"$nulls":7},0,0]
[{"$f":"(IF(ISERROR(VLOOKUP(G163,Choix17!$M$2:$N$14,2,FALSE)&LEFT(J163,4)&RIGHT(LEFT(J163,LEN(J163)-1),2)),0,VLOOKUP(G163,Choix17!$M$2:$N$14,2,FALSE)&LEFT(J163,4)&RIGHT(LEFT(J163,LEN(J163)-1),2)))*1","v":0},{"$f":"(IF(ISERROR(VLOOKUP(L163,Choix17!$M$2:$N$14,2,FALSE)&LEFT(O163,4)&RIGHT(LEFT(O163,LEN(O163)-1),2)),0,VLOOKUP(L163,Choix17!$M$2:$N$14,2,FALSE)&LEFT(O163,4)&RIGHT(LEFT(O163,LEN(O163)-1),2)))*1","v":0},{"$nulls":6}," Jakub Voracek",{"$nulls":7},0,0]
[{"$f":"(IF(ISERROR(VLOOKUP(G164,Choix17!$M$2:$N$14,2,FALSE)&LEFT(J164,4)&RIGHT(LEFT(J164,LEN(J164)-1),2)),0,VLOOKUP(G164,Choix17!$M$2:$N$14,2,FALSE)&LEFT(J164,4)&RIGHT(LEFT(J164,LEN(J164)-1),2)))*1","v":0},{"$f":"(IF(ISERROR(VLOOKUP(L164,Choix17!$M$2:$N$14,2,FALSE)&LEFT(O164,4)&RIGHT(LEFT(O164,LEN(O164)-1),2)),0,VLOOKUP(L164,Choix17!$M$2:$N$14,2,FALSE)&LEFT(O164,4)&RIGHT(LEFT(O164,LEN(O164)-1),2)))*1","v":0},{"$nulls":6}," Patrick Kane",{"$nulls":7},0,0]
[{"$f":"(IF(ISERROR(VLOOKUP(G165,Choix17!$M$2:$N$14,2,FALSE)&LEFT(J165,4)&RIGHT(LEFT(J165,LEN(J165)-1),2)),0,VLOOKUP(G165,Choix17!$M$2:$N$14,2,FALSE)&LEFT(J165,4)&RIGHT(LEFT(J165,LEN(J165)-1),2)))*1","v":0},{"$f":"(IF(ISERROR(VLOOKUP(L165,Choix17!$M$2:$N$14,2,FALSE)&LEFT(O165,4)&RIGHT(LEFT(O165,LEN(O165)-1),2)),0,VLOOKUP(L165,Choix17!$M$2:$N$14,2,FALSE)&LEFT(O165,4)&RIGHT(LEFT(O165,LEN(O165)-1),2)))*1","v":0},{"$nulls":6}," Ryan Getzlaf",{"$nulls":7},0,0]
[{"$f":"(IF(ISERROR(VLOOKUP(G166,Choix17!$M$2:$N$14,2,FALSE)&LEFT(J166,4)&RIGHT(LEFT(J166,LEN(J166)-1),2)),0,VLOOKUP(G166,Choix17!$M$2:$N$14,2,FALSE)&LEFT(J166,4)&RIGHT(LEFT(J166,LEN(J166)-1),2)))*1","v":0},{"$f":"(IF(ISERROR(VLOOKUP(L166,Choix17!$M$2:$N$14,2,FALSE)&LEFT(O166,4)&RIGHT(LEFT(O166,LEN(O166)-1),2)),0,VLOOKUP(L166,Choix17!$M$2:$N$14,2,FALSE)&LEFT(O166,4)&RIGHT(LEFT(O166,LEN(O166)-1),2)))*1","v":0},{"$nulls":6}," Auston Matthews",{"$nulls":7},0,0]
[{"$f":"(IF(ISERROR(VLOOKUP(G167,Choix17!$M$2:$N$14,2,FALSE)&LEFT(J167,4)&RIGHT(LEFT(J167,LEN(J167)-1),2)),0,VLOOKUP(G167,Choix17!$M$2:$N$14,2,FALSE)&LEFT(J167,4)&RIGHT(LEFT(J167,LEN(J167)-1),2)))*1","v":0},{"$f":"(IF(ISERROR(VLOOKUP(L167,Choix17!$M$2:$N$14,2,FALSE)&LEFT(O167,4)&RIGHT(LEFT(O167,LEN(O167)-1),2)),0,VLOOKUP(L167,Choix17!$M$2:$N$14,2,FALSE)&LEFT(O167,4)&RIGHT(LEFT(O167,LEN(O167)-1),2)))*1","v":0},{"$nulls":6}," Chris Kreider",{"$nulls":7},0,0]
[{"$f":"(IF(ISERROR(VLOOKUP(G168,Choix17!$M$2:$N$14,2,FALSE)&LEFT(J168,4)&RIGHT(LEFT(J168,LEN(J168)-1),2)),0,VLOOKUP(G168,Choix17!$M$2:$N$14,2,FALSE)&LEFT(J168,4)&RIGHT(LEFT(J168,LEN(J168)-1),2)))*1","v":0},{"$f":"(IF(ISERROR(VLOOKUP(L168,Choix17!$M$2:$N$14,2,FALSE)&LEFT(O168,4)&RIGHT(LEFT(O168,LEN(O168)-1),2)),0,VLOOKUP(L168,Choix17!$M$2:$N$14,2,FALSE)&LEFT(O168,4)&RIGHT(LEFT(O168,LEN(O168)-1),2)))*1","v":0},{"$nulls":6}," Joe Pavelski",{"$nulls":7},0,0]
[{"$f":"(IF(ISERROR(VLOOKUP(G169,Choix17!$M$2:$N$14,2,FALSE)&LEFT(J169,4)&RIGHT(LEFT(J169,LEN(J169)-1),2)),0,VLOOKUP(G169,Choix17!$M$2:$N$14,2,FALSE)&LEFT(J169,4)&RIGHT(LEFT(J169,LEN(J169)-1),2)))*1","v":0},{"$f":"(IF(ISERROR(VLOOKUP(L169,Choix17!$M$2:$N$14,2,FALSE)&LEFT(O169,4)&RIGHT(LEFT(O169,LEN(O169)-1),2)),0,VLOOKUP(L169,Choix17!$M$2:$N$14,2,FALSE)&LEFT(O169,4)&RIGHT(LEFT(O169,LEN(O169)-1),2)))*1","v":0},{"$nulls":6}," Erik Karlsson",{"$nulls":7},0,0]
[{"$f":"(IF(ISERROR(VLOOKUP(G170,Choix17!$M$2:$N$14,2,FALSE)&LEFT(J170,4)&RIGHT(LEFT(J170,LEN(J170)-1),2)),0,VLOOKUP(G170,Choix17!$M$2:$N$14,2,FALSE)&LEFT(J170,4)&RIGHT(LEFT(J170,LEN(J170)-1),2)))*1","v":0},{"$f":"(IF(ISERROR(VLOOKUP(L170,Choix17!$M$2:$N$14,2,FALSE)&LEFT(O170,4)&RIGHT(LEFT(O170,LEN(O170)-1),2)),0,VLOOKUP(L170,Choix17!$M$2:$N$14,2,FALSE)&LEFT(O170,4)&RIGHT(LEFT(O170,LEN(O170)-1),2)))*1","v":0},{"$nulls":6}," William Nylander",{"$nulls":7},0,0]
[{"$f":"(IF(ISERROR(VLOOKUP(G171,Choix17!$M$2:$N$14,2,FALSE)&LEFT(J171,4)&RIGHT(LEFT(J171,LEN(J171)-1),2)),0,VLOOKUP(G171,Choix17!$M$2:$N$14,2,FALSE)&LEFT(J171,4)&RIGHT(LEFT(J171,LEN(J171)-1),2)))*1","v":0},{"$f":"(IF(ISERROR(VLOOKUP(L171,Choix17!$M$2:$N$14,2,FALSE)&LEFT(O171,4)&RIGHT(LEFT(O171,LEN(O171)-1),2)),0,VLOOKUP(L171,Choix17!$M$2:$N$14,2,FALSE)&LEFT(O171,4)&RIGHT(LEFT(O171,LEN(O171)-1),2)))*1","v":0},{"$nulls":6}," Vladimir Tarasenko",{"$nulls":7},0,0]
[{"$f":"(IF(ISERROR(VLOOKUP(G172,Choix17!$M$2:$N$14,2,FALSE)&LEFT(J172,4)&RIGHT(LEFT(J172,LEN(J172)-1),2)),0,VLOOKUP(G172,Choix17!$M$2:$N$14,2,FALSE)&LEFT(J172,4)&RIGHT(LEFT(J172,LEN(J172)-1),2)))*1","v":0},{"$f":"(IF(ISERROR(VLOOKUP(L172,Choix17!$M$2:$N$14,2,FALSE)&LEFT(O172,4)&RIGHT(LEFT(O172,LEN(O172)-1),2)),0,VLOOKUP(L172,Choix17!$M$2:$N$14,2,FALSE)&LEFT(O172,4)&RIGHT(LEFT(O172,LEN(O172)-1),2)))*1","v":0},{"$nulls":6}," Mike Green",{"$nulls":7},0,0]
[{"$f":"(IF(ISERROR(VLOOKUP(G173,Choix17!$M$2:$N$14,2,FALSE)&LEFT(J173,4)&RIGHT(LEFT(J173,LEN(J173)-1),2)),0,VLOOKUP(G173,Choix17!$M$2:$N$14,2,FALSE)&LEFT(J173,4)&RIGHT(LEFT(J173,LEN(J173)-1),2)))*1","v":0},{"$f":"(IF(ISERROR(VLOOKUP(L173,Choix17!$M$2:$N$14,2,FALSE)&LEFT(O173,4)&RIGHT(LEFT(O173,LEN(O173)-1),2)),0,VLOOKUP(L173,Choix17!$M$2:$N$14,2,FALSE)&LEFT(O173,4)&RIGHT(LEFT(O173,LEN(O173)-1),2)))*1","v":0},{"$nulls":6}," Jonathan Marchessault",{"$nulls":7},0,0]
[{"$f":"(IF(ISERROR(VLOOKUP(G174,Choix17!$M$2:$N$14,2,FALSE)&LEFT(J174,4)&RIGHT(LEFT(J174,LEN(J174)-1),2)),0,VLOOKUP(G174,Choix17!$M$2:$N$14,2,FALSE)&LEFT(J174,4)&RIGHT(LEFT(J174,LEN(J174)-1),2)))*1","v":0},{"$f":"(IF(ISERROR(VLOOKUP(L174,Choix17!$M$2:$N$14,2,FALSE)&LEFT(O174,4)&RIGHT(LEFT(O174,LEN(O174)-1),2)),0,VLOOKUP(L174,Choix17!$M$2:$N$14,2,FALSE)&LEFT(O174,4)&RIGHT(LEFT(O174,LEN(O174)-1),2)))*1","v":0},{"$nulls":6}," David Pastrnak",{"$nulls":7},0,0]
[{"$f":"(IF(ISERROR(VLOOKUP(G175,Choix17!$M$2:$N$14,2,FALSE)&LEFT(J175,4)&RIGHT(LEFT(J175,LEN(J175)-1),2)),0,VLOOKUP(G175,Choix17!$M$2:$N$14,2,FALSE)&LEFT(J175,4)&RIGHT(LEFT(J175,LEN(J175)-1),2)))*1","v":0},{"$f":"(IF(ISERROR(VLOOKUP(L175,Choix17!$M$2:$N$14,2,FALSE)&LEFT(O175,4)&RIGHT(LEFT(O175,LEN(O175)-1),2)),0,VLOOKUP(L175,Choix17!$M$2:$N$14,2,FALSE)&LEFT(O175,4)&RIGHT(LEFT(O175,LEN(O175)-1),2)))*1","v":0},{"$nulls":6}," Alexander Steen",{"$nulls":7},0,0]
[{"$f":"(IF(ISERROR(VLOOKUP(G176,Choix17!$M$2:$N$14,2,FALSE)&LEFT(J176,4)&RIGHT(LEFT(J176,LEN(J176)-1),2)),0,VLOOKUP(G176,Choix17!$M$2:$N$14,2,FALSE)&LEFT(J176,4)&RIGHT(LEFT(J176,LEN(J176)-1),2)))*1","v":0},{"$f":"(IF(ISERROR(VLOOKUP(L176,Choix17!$M$2:$N$14,2,FALSE)&LEFT(O176,4)&RIGHT(LEFT(O176,LEN(O176)-1),2)),0,VLOOKUP(L176,Choix17!$M$2:$N$14,2,FALSE)&LEFT(O176,4)&RIGHT(LEFT(O176,LEN(O176)-1),2)))*1","v":0},{"$nulls":6}," Paul Stastny",{"$nulls":7},0,0]
[{"$f":"(IF(ISERROR(VLOOKUP(G177,Choix17!$M$2:$N$14,2,FALSE)&LEFT(J177,4)&RIGHT(LEFT(J177,LEN(J177)-1),2)),0,VLOOKUP(G177,Choix17!$M$2:$N$14,2,FALSE)&LEFT(J177,4)&RIGHT(LEFT(J177,LEN(J177)-1),2)))*1","v":0},{"$f":"(IF(ISERROR(VLOOKUP(L177,Choix17!$M$2:$N$14,2,FALSE)&LEFT(O177,4)&RIGHT(LEFT(O177,LEN(O177)-1),2)),0,VLOOKUP(L177,Choix17!$M$2:$N$14,2,FALSE)&LEFT(O177,4)&RIGHT(LEFT(O177,LEN(O177)-1),2)))*1","v":0},{"$nulls":6}," Shea Weber",{"$nulls":7},0,0]
[{"$f":"(IF(ISERROR(VLOOKUP(G178,Choix17!$M$2:$N$14,2,FALSE)&LEFT(J178,4)&RIGHT(LEFT(J178,LEN(J178)-1),2)),0,VLOOKUP(G178,Choix17!$M$2:$N$14,2,FALSE)&LEFT(J178,4)&RIGHT(LEFT(J178,LEN(J178)-1),2)))*1","v":0},{"$f":"(IF(ISERROR(VLOOKUP(L178,Choix17!$M$2:$N$14,2,FALSE)&LEFT(O178,4)&RIGHT(LEFT(O178,LEN(O178)-1),2)),0,VLOOKUP(L178,Choix17!$M$2:$N$14,2,FALSE)&LEFT(O178,4)&RIGHT(LEFT(O178,LEN(O178)-1),2)))*1","v":0},{"$nulls":6}," Thomas Vanek",{"$nulls":7},0,0]
[{"$f":"(IF(ISERROR(VLOOKUP(G179,Choix17!$M$2:$N$14,2,FALSE)&LEFT(J179,4)&RIGHT(LEFT(J179,LEN(J179)-1),2)),0,VLOOKUP(G179,Choix17!$M$2:$N$14,2,FALSE)&LEFT(J179,4)&RIGHT(LEFT(J179,LEN(J179)-1),2)))*1","v":0},{"$f":"(IF(ISERROR(VLOOKUP(L179,Choix17!$M$2:$N$14,2,FALSE)&LEFT(O179,4)&RIGHT(LEFT(O179,LEN(O179)-1),2)),0,VLOOKUP(L179,Choix17!$M$2:$N$14,2,FALSE)&LEFT(O179,4)&RIGHT(LEFT(O179,LEN(O179)-1),2)))*1","v":0},{"$nulls":6}," Gustav Nyquist",{"$nulls":7},0,0]
[{"$f":"(IF(ISERROR(VLOOKUP(G180,Choix17!$M$2:$N$14,2,FALSE)&LEFT(J180,4)&RIGHT(LEFT(J180,LEN(J180)-1),2)),0,VLOOKUP(G180,Choix17!$M$2:$N$14,2,FALSE)&LEFT(J180,4)&RIGHT(LEFT(J180,LEN(J180)-1),2)))*1","v":0},{"$f":"(IF(ISERROR(VLOOKUP(L180,Choix17!$M$2:$N$14,2,FALSE)&LEFT(O180,4)&RIGHT(LEFT(O180,LEN(O180)-1),2)),0,VLOOKUP(L180,Choix17!$M$2:$N$14,2,FALSE)&LEFT(O180,4)&RIGHT(LEFT(O180,LEN(O180)-1),2)))*1","v":0},{"$nulls":6}," Claude Giroux",{"$nulls":7},0,0]
[{"$f":"(IF(ISERROR(VLOOKUP(G181,Choix17!$M$2:$N$14,2,FALSE)&LEFT(J181,4)&RIGHT(LEFT(J181,LEN(J181)-1),2)),0,VLOOKUP(G181,Choix17!$M$2:$N$14,2,FALSE)&LEFT(J181,4)&RIGHT(LEFT(J181,LEN(J181)-1),2)))*1","v":0},{"$f":"(IF(ISERROR(VLOOKUP(L181,Choix17!$M$2:$N$14,2,FALSE)&LEFT(O181,4)&RIGHT(LEFT(O181,LEN(O181)-1),2)),0,VLOOKUP(L181,Choix17!$M$2:$N$14,2,FALSE)&LEFT(O181,4)&RIGHT(LEFT(O181,LEN(O181)-1),2)))*1","v":0},{"$nulls":6}," Lee Stempniak",{"$nulls":7},0,0]
[{"$f":"(IF(ISERROR(VLOOKUP(G182,Choix17!$M$2:$N$14,2,FALSE)&LEFT(J182,4)&RIGHT(LEFT(J182,LEN(J182)-1),2)),0,VLOOKUP(G182,Choix17!$M$2:$N$14,2,FALSE)&LEFT(J182,4)&RIGHT(LEFT(J182,LEN(J182)-1),2)))*1","v":0},{"$f":"(IF(ISERROR(VLOOKUP(L182,Choix17!$M$2:$N$14,2,FALSE)&LEFT(O182,4)&RIGHT(LEFT(O182,LEN(O182)-1),2)),0,VLOOKUP(L182,Choix17!$M$2:$N$14,2,FALSE)&LEFT(O182,4)&RIGHT(LEFT(O182,LEN(O182)-1),2)))*1","v":0},{"$nulls":6}," Brendan Gallagher",{"$nulls":7},0,0]
[{"$f":"(IF(ISERROR(VLOOKUP(G183,Choix17!$M$2:$N$14,2,FALSE)&LEFT(J183,4)&RIGHT(LEFT(J183,LEN(J183)-1),2)),0,VLOOKUP(G183,Choix17!$M$2:$N$14,2,FALSE)&LEFT(J183,4)&RIGHT(LEFT(J183,LEN(J183)-1),2)))*1","v":0},{"$f":"(IF(ISERROR(VLOOKUP(L183,Choix17!$M$2:$N$14,2,FALSE)&LEFT(O183,4)&RIGHT(LEFT(O183,LEN(O183)-1),2)),0,VLOOKUP(L183,Choix17!$M$2:$N$14,2,FALSE)&LEFT(O183,4)&RIGHT(LEFT(O183,LEN(O183)-1),2)))*1","v":0},{"$nulls":6}," Victor Rask",{"$nulls":7},0,0]
[{"$f":"(IF(ISERROR(VLOOKUP(G184,Choix17!$M$2:$N$14,2,FALSE)&LEFT(J184,4)&RIGHT(LEFT(J184,LEN(J184)-1),2)),0,VLOOKUP(G184,Choix17!$M$2:$N$14,2,FALSE)&LEFT(J184,4)&RIGHT(LEFT(J184,LEN(J184)-1),2)))*1","v":0},{"$f":"(IF(ISERROR(VLOOKUP(L184,Choix17!$M$2:$N$14,2,FALSE)&LEFT(O184,4)&RIGHT(LEFT(O184,LEN(O184)-1),2)),0,VLOOKUP(L184,Choix17!$M$2:$N$14,2,FALSE)&LEFT(O184,4)&RIGHT(LEFT(O184,LEN(O184)-1),2)))*1","v":0},{"$nulls":6}," Mark Scheifele",{"$nulls":7},0,0]
[{"$f":"(IF(ISERROR(VLOOKUP(G185,Choix17!$M$2:$N$14,2,FALSE)&LEFT(J185,4)&RIGHT(LEFT(J185,LEN(J185)-1),2)),0,VLOOKUP(G185,Choix17!$M$2:$N$14,2,FALSE)&LEFT(J185,4)&RIGHT(LEFT(J185,LEN(J185)-1),2)))*1","v":0},{"$f":"(IF(ISERROR(VLOOKUP(L185,Choix17!$M$2:$N$14,2,FALSE)&LEFT(O185,4)&RIGHT(LEFT(O185,LEN(O185)-1),2)),0,VLOOKUP(L185,Choix17!$M$2:$N$14,2,FALSE)&LEFT(O185,4)&RIGHT(LEFT(O185,LEN(O185)-1),2)))*1","v":0},{"$nulls":6}," Leon Draisaitl",{"$nulls":7},0,0]
[{"$f":"(IF(ISERROR(VLOOKUP(G186,Choix17!$M$2:$N$14,2,FALSE)&LEFT(J186,4)&RIGHT(LEFT(J186,LEN(J186)-1),2)),0,VLOOKUP(G186,Choix17!$M$2:$N$14,2,FALSE)&LEFT(J186,4)&RIGHT(LEFT(J186,LEN(J186)-1),2)))*1","v":0},{"$f":"(IF(ISERROR(VLOOKUP(L186,Choix17!$M$2:$N$14,2,FALSE)&LEFT(O186,4)&RIGHT(LEFT(O186,LEN(O186)-1),2)),0,VLOOKUP(L186,Choix17!$M$2:$N$14,2,FALSE)&LEFT(O186,4)&RIGHT(LEFT(O186,LEN(O186)-1),2)))*1","v":0},{"$nulls":6}," Mika Zibanejad",{"$nulls":7},0,0]
[{"$f":"(IF(ISERROR(VLOOKUP(G187,Choix17!$M$2:$N$14,2,FALSE)&LEFT(J187,4)&RIGHT(LEFT(J187,LEN(J187)-1),2)),0,VLOOKUP(G187,Choix17!$M$2:$N$14,2,FALSE)&LEFT(J187,4)&RIGHT(LEFT(J187,LEN(J187)-1),2)))*1","v":0},{"$f":"(IF(ISERROR(VLOOKUP(L187,Choix17!$M$2:$N$14,2,FALSE)&LEFT(O187,4)&RIGHT(LEFT(O187,LEN(O187)-1),2)),0,VLOOKUP(L187,Choix17!$M$2:$N$14,2,FALSE)&LEFT(O187,4)&RIGHT(LEFT(O187,LEN(O187)-1),2)))*1","v":0},{"$nulls":6}," Duncan Keith",{"$nulls":7},0,0]
[{"$f":"(IF(ISERROR(VLOOKUP(G188,Choix17!$M$2:$N$14,2,FALSE)&LEFT(J188,4)&RIGHT(LEFT(J188,LEN(J188)-1),2)),0,VLOOKUP(G188,Choix17!$M$2:$N$14,2,FALSE)&LEFT(J188,4)&RIGHT(LEFT(J188,LEN(J188)-1),2)))*1","v":0},{"$f":"(IF(ISERROR(VLOOKUP(L188,Choix17!$M$2:$N$14,2,FALSE)&LEFT(O188,4)&RIGHT(LEFT(O188,LEN(O188)-1),2)),0,VLOOKUP(L188,Choix17!$M$2:$N$14,2,FALSE)&LEFT(O188,4)&RIGHT(LEFT(O188,LEN(O188)-1),2)))*1","v":0},{"$nulls":6}," Jordan Eberle",{"$nulls":7},0,0]
[{"$f":"(IF(ISERROR(VLOOKUP(G189,Choix17!$M$2:$N$14,2,FALSE)&LEFT(J189,4)&RIGHT(LEFT(J189,LEN(J189)-1),2)),0,VLOOKUP(G189,Choix17!$M$2:$N$14,2,FALSE)&LEFT(J189,4)&RIGHT(LEFT(J189,LEN(J189)-1),2)))*1","v":0},{"$f":"(IF(ISERROR(VLOOKUP(L189,Choix17!$M$2:$N$14,2,FALSE)&LEFT(O189,4)&RIGHT(LEFT(O189,LEN(O189)-1),2)),0,VLOOKUP(L189,Choix17!$M$2:$N$14,2,FALSE)&LEFT(O189,4)&RIGHT(LEFT(O189,LEN(O189)-1),2)))*1","v":0},{"$nulls":6}," Jeff Skinner",{"$nulls":7},0,0]
[{"$f":"(IF(ISERROR(VLOOKUP(G190,Choix17!$M$2:$N$14,2,FALSE)&LEFT(J190,4)&RIGHT(LEFT(J190,LEN(J190)-1),2)),0,VLOOKUP(G190,Choix17!$M$2:$N$14,2,FALSE)&LEFT(J190,4)&RIGHT(LEFT(J190,LEN(J190)-1),2)))*1","v":0},{"$f":"(IF(ISERROR(VLOOKUP(L190,Choix17!$M$2:$N$14,2,FALSE)&LEFT(O190,4)&RIGHT(LEFT(O190,LEN(O190)-1),2)),0,VLOOKUP(L190,Choix17!$M$2:$N$14,2,FALSE)&LEFT(O190,4)&RIGHT(LEFT(O190,LEN(O190)-1),2)))*1","v":0},{"$nulls":6}," Zach Parise",{"$nulls":7},0,0]
[{"$f":"(IF(ISERROR(VLOOKUP(G191,Choix17!$M$2:$N$14,2,FALSE)&LEFT(J191,4)&RIGHT(LEFT(J191,LEN(J191)-1),2)),0,VLOOKUP(G191,Choix17!$M$2:$N$14,2,FALSE)&LEFT(J191,4)&RIGHT(LEFT(J191,LEN(J191)-1),2)))*1","v":0},{"$f":"(IF(ISERROR(VLOOKUP(L191,Choix17!$M$2:$N$14,2,FALSE)&LEFT(O191,4)&RIGHT(LEFT(O191,LEN(O191)-1),2)),0,VLOOKUP(L191,Choix17!$M$2:$N$14,2,FALSE)&LEFT(O191,4)&RIGHT(LEFT(O191,LEN(O191)-1),2)))*1","v":0},{"$nulls":6}," Artemi Panarin",{"$nulls":7},0,0]
[{"$f":"(IF(ISERROR(VLOOKUP(G192,Choix17!$M$2:$N$14,2,FALSE)&LEFT(J192,4)&RIGHT(LEFT(J192,LEN(J192)-1),2)),0,VLOOKUP(G192,Choix17!$M$2:$N$14,2,FALSE)&LEFT(J192,4)&RIGHT(LEFT(J192,LEN(J192)-1),2)))*1","v":0},{"$f":"(IF(ISERROR(VLOOKUP(L192,Choix17!$M$2:$N$14,2,FALSE)&LEFT(O192,4)&RIGHT(LEFT(O192,LEN(O192)-1),2)),0,VLOOKUP(L192,Choix17!$M$2:$N$14,2,FALSE)&LEFT(O192,4)&RIGHT(LEFT(O192,LEN(O192)-1),2)))*1","v":0},{"$nulls":6}," Corey Perry",{"$nulls":7},0,0]
[{"$f":"(IF(ISERROR(VLOOKUP(G193,Choix17!$M$2:$N$14,2,FALSE)&LEFT(J193,4)&RIGHT(LEFT(J193,LEN(J193)-1),2)),0,VLOOKUP(G193,Choix17!$M$2:$N$14,2,FALSE)&LEFT(J193,4)&RIGHT(LEFT(J193,LEN(J193)-1),2)))*1","v":0},{"$f":"(IF(ISERROR(VLOOKUP(L193,Choix17!$M$2:$N$14,2,FALSE)&LEFT(O193,4)&RIGHT(LEFT(O193,LEN(O193)-1),2)),0,VLOOKUP(L193,Choix17!$M$2:$N$14,2,FALSE)&LEFT(O193,4)&RIGHT(LEFT(O193,LEN(O193)-1),2)))*1","v":0},{"$nulls":6}," Matt Read",{"$nulls":7},0,0]
[{"$f":"(IF(ISERROR(VLOOKUP(G194,Choix17!$M$2:$N$14,2,FALSE)&LEFT(J194,4)&RIGHT(LEFT(J194,LEN(J194)-1),2)),0,VLOOKUP(G194,Choix17!$M$2:$N$14,2,FALSE)&LEFT(J194,4)&RIGHT(LEFT(J194,LEN(J194)-1),2)))*1","v":0},{"$f":"(IF(ISERROR(VLOOKUP(L194,Choix17!$M$2:$N$14,2,FALSE)&LEFT(O194,4)&RIGHT(LEFT(O194,LEN(O194)-1),2)),0,VLOOKUP(L194,Choix17!$M$2:$N$14,2,FALSE)&LEFT(O194,4)&RIGHT(LEFT(O194,LEN(O194)-1),2)))*1","v":0},{"$nulls":6}," Mark Giordano",{"$nulls":7},0,0]
[{"$f":"(IF(ISERROR(VLOOKUP(G195,Choix17!$M$2:$N$14,2,FALSE)&LEFT(J195,4)&RIGHT(LEFT(J195,LEN(J195)-1),2)),0,VLOOKUP(G195,Choix17!$M$2:$N$14,2,FALSE)&LEFT(J195,4)&RIGHT(LEFT(J195,LEN(J195)-1),2)))*1","v":0},{"$f":"(IF(ISERROR(VLOOKUP(L195,Choix17!$M$2:$N$14,2,FALSE)&LEFT(O195,4)&RIGHT(LEFT(O195,LEN(O195)-1),2)),0,VLOOKUP(L195,Choix17!$M$2:$N$14,2,FALSE)&LEFT(O195,4)&RIGHT(LEFT(O195,LEN(O195)-1),2)))*1","v":0},{"$nulls":6}," Evgeni Malkin",{"$nulls":7},{"$f":"IF(A195<1,0,COUNTIF($A:$B,A195))","v":0},0]
[{"$f":"(IF(ISERROR(VLOOKUP(G196,Choix17!$M$2:$N$14,2,FALSE)&LEFT(J196,4)&RIGHT(LEFT(J196,LEN(J196)-1),2)),0,VLOOKUP(G196,Choix17!$M$2:$N$14,2,FALSE)&LEFT(J196,4)&RIGHT(LEFT(J196,LEN(J196)-1),2)))*1","v":0},{"$f":"(IF(ISERROR(VLOOKUP(L196,Choix17!$M$2:$N$14,2,FALSE)&LEFT(O196,4)&RIGHT(LEFT(O196,LEN(O196)-1),2)),0,VLOOKUP(L196,Choix17!$M$2:$N$14,2,FALSE)&LEFT(O196,4)&RIGHT(LEFT(O196,LEN(O196)-1),2)))*1","v":0},{"$nulls":6}," Valtteri Filppula",{"$nulls":7},0,0]
[{"$f":"(IF(ISERROR(VLOOKUP(G197,Choix17!$M$2:$N$14,2,FALSE)&LEFT(J197,4)&RIGHT(LEFT(J197,LEN(J197)-1),2)),0,VLOOKUP(G197,Choix17!$M$2:$N$14,2,FALSE)&LEFT(J197,4)&RIGHT(LEFT(J197,LEN(J197)-1),2)))*1","v":0},{"$f":"(IF(ISERROR(VLOOKUP(L197,Choix17!$M$2:$N$14,2,FALSE)&LEFT(O197,4)&RIGHT(LEFT(O197,LEN(O197)-1),2)),0,VLOOKUP(L197,Choix17!$M$2:$N$14,2,FALSE)&LEFT(O197,4)&RIGHT(LEFT(O197,LEN(O197)-1),2)))*1","v":0},{"$nulls":6}," Alexander Radulov",{"$nulls":7},0,0]
[{"$f":"(IF(ISERROR(VLOOKUP(G198,Choix17!$M$2:$N$14,2,FALSE)&LEFT(J198,4)&RIGHT(LEFT(J198,LEN(J198)-1),2)),0,VLOOKUP(G198,Choix17!$M$2:$N$14,2,FALSE)&LEFT(J198,4)&RIGHT(LEFT(J198,LEN(J198)-1),2)))*1","v":0},{"$f":"(IF(ISERROR(VLOOKUP(L198,Choix17!$M$2:$N$14,2,FALSE)&LEFT(O198,4)&RIGHT(LEFT(O198,LEN(O198)-1),2)),0,VLOOKUP(L198,Choix17!$M$2:$N$14,2,FALSE)&LEFT(O198,4)&RIGHT(LEFT(O198,LEN(O198)-1),2)))*1","v":0},{"$nulls":6}," Darren Helm",{"$nulls":7},0,0]
[{"$f":"(IF(ISERROR(VLOOKUP(G199,Choix17!$M$2:$N$14,2,FALSE)&LEFT(J199,4)&RIGHT(LEFT(J199,LEN(J199)-1),2)),0,VLOOKUP(G199,Choix17!$M$2:$N$14,2,FALSE)&LEFT(J199,4)&RIGHT(LEFT(J199,LEN(J199)-1),2)))*1","v":0},{"$f":"(IF(ISERROR(VLOOKUP(L199,Choix17!$M$2:$N$14,2,FALSE)&LEFT(O199,4)&RIGHT(LEFT(O199,LEN(O199)-1),2)),0,VLOOKUP(L199,Choix17!$M$2:$N$14,2,FALSE)&LEFT(O199,4)&RIGHT(LEFT(O199,LEN(O199)-1),2)))*1","v":0},{"$nulls":6}," Blake Wheeler",{"$nulls":7},0,0]
[{"$f":"(IF(ISERROR(VLOOKUP(G200,Choix17!$M$2:$N$14,2,FALSE)&LEFT(J200,4)&RIGHT(LEFT(J200,LEN(J200)-1),2)),0,VLOOKUP(G200,Choix17!$M$2:$N$14,2,FALSE)&LEFT(J200,4)&RIGHT(LEFT(J200,LEN(J200)-1),2)))*1","v":0},{"$f":"(IF(ISERROR(VLOOKUP(L200,Choix17!$M$2:$N$14,2,FALSE)&LEFT(O200,4)&RIGHT(LEFT(O200,LEN(O200)-1),2)),0,VLOOKUP(L200,Choix17!$M$2:$N$14,2,FALSE)&LEFT(O200,4)&RIGHT(LEFT(O200,LEN(O200)-1),2)))*1","v":0},{"$nulls":6}," Troy Brouwer",{"$nulls":7},0,0]
[{"$f":"(IF(ISERROR(VLOOKUP(G201,Choix17!$M$2:$N$14,2,FALSE)&LEFT(J201,4)&RIGHT(LEFT(J201,LEN(J201)-1),2)),0,VLOOKUP(G201,Choix17!$M$2:$N$14,2,FALSE)&LEFT(J201,4)&RIGHT(LEFT(J201,LEN(J201)-1),2)))*1","v":0},{"$f":"(IF(ISERROR(VLOOKUP(L201,Choix17!$M$2:$N$14,2,FALSE)&LEFT(O201,4)&RIGHT(LEFT(O201,LEN(O201)-1),2)),0,VLOOKUP(L201,Choix17!$M$2:$N$14,2,FALSE)&LEFT(O201,4)&RIGHT(LEFT(O201,LEN(O201)-1),2)))*1","v":0},{"$nulls":6}," Ryan McDonagh",{"$nulls":7},0,0]
[{"$f":"(IF(ISERROR(VLOOKUP(G202,Choix17!$M$2:$N$14,2,FALSE)&LEFT(J202,4)&RIGHT(LEFT(J202,LEN(J202)-1),2)),0,VLOOKUP(G202,Choix17!$M$2:$N$14,2,FALSE)&LEFT(J202,4)&RIGHT(LEFT(J202,LEN(J202)-1),2)))*1","v":0},{"$f":"(IF(ISERROR(VLOOKUP(L202,Choix17!$M$2:$N$14,2,FALSE)&LEFT(O202,4)&RIGHT(LEFT(O202,LEN(O202)-1),2)),0,VLOOKUP(L202,Choix17!$M$2:$N$14,2,FALSE)&LEFT(O202,4)&RIGHT(LEFT(O202,LEN(O202)-1),2)))*1","v":0},{"$nulls":6}," Alex Killorn",{"$nulls":7},0,0]
[{"$f":"(IF(ISERROR(VLOOKUP(G203,Choix17!$M$2:$N$14,2,FALSE)&LEFT(J203,4)&RIGHT(LEFT(J203,LEN(J203)-1),2)),0,VLOOKUP(G203,Choix17!$M$2:$N$14,2,FALSE)&LEFT(J203,4)&RIGHT(LEFT(J203,LEN(J203)-1),2)))*1","v":0},{"$f":"(IF(ISERROR(VLOOKUP(L203,Choix17!$M$2:$N$14,2,FALSE)&LEFT(O203,4)&RIGHT(LEFT(O203,LEN(O203)-1),2)),0,VLOOKUP(L203,Choix17!$M$2:$N$14,2,FALSE)&LEFT(O203,4)&RIGHT(LEFT(O203,LEN(O203)-1),2)))*1","v":0},{"$nulls":6}," Brandon Manning",{"$nulls":7},0,0]
[{"$f":"(IF(ISERROR(VLOOKUP(G204,Choix17!$M$2:$N$14,2,FALSE)&LEFT(J204,4)&RIGHT(LEFT(J204,LEN(J204)-1),2)),0,VLOOKUP(G204,Choix17!$M$2:$N$14,2,FALSE)&LEFT(J204,4)&RIGHT(LEFT(J204,LEN(J204)-1),2)))*1","v":0},{"$f":"(IF(ISERROR(VLOOKUP(L204,Choix17!$M$2:$N$14,2,FALSE)&LEFT(O204,4)&RIGHT(LEFT(O204,LEN(O204)-1),2)),0,VLOOKUP(L204,Choix17!$M$2:$N$14,2,FALSE)&LEFT(O204,4)&RIGHT(LEFT(O204,LEN(O204)-1),2)))*1","v":0},{"$nulls":6}," Ryan O'Reilly",{"$nulls":7},0,0]
[{"$f":"(IF(ISERROR(VLOOKUP(G205,Choix17!$M$2:$N$14,2,FALSE)&LEFT(J205,4)&RIGHT(LEFT(J205,LEN(J205)-1),2)),0,VLOOKUP(G205,Choix17!$M$2:$N$14,2,FALSE)&LEFT(J205,4)&RIGHT(LEFT(J205,LEN(J205)-1),2)))*1","v":0},{"$f":"(IF(ISERROR(VLOOKUP(L205,Choix17!$M$2:$N$14,2,FALSE)&LEFT(O205,4)&RIGHT(LEFT(O205,LEN(O205)-1),2)),0,VLOOKUP(L205,Choix17!$M$2:$N$14,2,FALSE)&LEFT(O205,4)&RIGHT(LEFT(O205,LEN(O205)-1),2)))*1","v":0},{"$nulls":6}," Alex Galchenyuk",{"$nulls":7},0,0]
[{"$f":"(IF(ISERROR(VLOOKUP(G206,Choix17!$M$2:$N$14,2,FALSE)&LEFT(J206,4)&RIGHT(LEFT(J206,LEN(J206)-1),2)),0,VLOOKUP(G206,Choix17!$M$2:$N$14,2,FALSE)&LEFT(J206,4)&RIGHT(LEFT(J206,LEN(J206)-1),2)))*1","v":0},{"$f":"(IF(ISERROR(VLOOKUP(L206,Choix17!$M$2:$N$14,2,FALSE)&LEFT(O206,4)&RIGHT(LEFT(O206,LEN(O206)-1),2)),0,VLOOKUP(L206,Choix17!$M$2:$N$14,2,FALSE)&LEFT(O206,4)&RIGHT(LEFT(O206,LEN(O206)-1),2)))*1","v":0},{"$nulls":6}," Filip Forsberg",{"$nulls":7},0,0]
[{"$f":"(IF(ISERROR(VLOOKUP(G207,Choix17!$M$2:$N$14,2,FALSE)&LEFT(J207,4)&RIGHT(LEFT(J207,LEN(J207)-1),2)),0,VLOOKUP(G207,Choix17!$M$2:$N$14,2,FALSE)&LEFT(J207,4)&RIGHT(LEFT(J207,LEN(J207)-1),2)))*1","v":0},{"$f":"(IF(ISERROR(VLOOKUP(L207,Choix17!$M$2:$N$14,2,FALSE)&LEFT(O207,4)&RIGHT(LEFT(O207,LEN(O207)-1),2)),0,VLOOKUP(L207,Choix17!$M$2:$N$14,2,FALSE)&LEFT(O207,4)&RIGHT(LEFT(O207,LEN(O207)-1),2)))*1","v":0},{"$nulls":6}," Patrick Wiercioch",{"$nulls":7},0,0]
[{"$f":"(IF(ISERROR(VLOOKUP(G208,Choix17!$M$2:$N$14,2,FALSE)&LEFT(J208,4)&RIGHT(LEFT(J208,LEN(J208)-1),2)),0,VLOOKUP(G208,Choix17!$M$2:$N$14,2,FALSE)&LEFT(J208,4)&RIGHT(LEFT(J208,LEN(J208)-1),2)))*1","v":0},{"$f":"(IF(ISERROR(VLOOKUP(L208,Choix17!$M$2:$N$14,2,FALSE)&LEFT(O208,4)&RIGHT(LEFT(O208,LEN(O208)-1),2)),0,VLOOKUP(L208,Choix17!$M$2:$N$14,2,FALSE)&LEFT(O208,4)&RIGHT(LEFT(O208,LEN(O208)-1),2)))*1","v":0},{"$nulls":6}," Mats Zuccarello",{"$nulls":7},0,0]
[{"$f":"(IF(ISERROR(VLOOKUP(G209,Choix17!$M$2:$N$14,2,FALSE)&LEFT(J209,4)&RIGHT(LEFT(J209,LEN(J209)-1),2)),0,VLOOKUP(G209,Choix17!$M$2:$N$14,2,FALSE)&LEFT(J209,4)&RIGHT(LEFT(J209,LEN(J209)-1),2)))*1","v":0},{"$f":"(IF(ISERROR(VLOOKUP(L209,Choix17!$M$2:$N$14,2,FALSE)&LEFT(O209,4)&RIGHT(LEFT(O209,LEN(O209)-1),2)),0,VLOOKUP(L209,Choix17!$M$2:$N$14,2,FALSE)&LEFT(O209,4)&RIGHT(LEFT(O209,LEN(O209)-1),2)))*1","v":0},{"$nulls":6}," Justin Faulk",{"$nulls":7},0,0]
[{"$f":"(IF(ISERROR(VLOOKUP(G210,Choix17!$M$2:$N$14,2,FALSE)&LEFT(J210,4)&RIGHT(LEFT(J210,LEN(J210)-1),2)),0,VLOOKUP(G210,Choix17!$M$2:$N$14,2,FALSE)&LEFT(J210,4)&RIGHT(LEFT(J210,LEN(J210)-1),2)))*1","v":0},{"$f":"(IF(ISERROR(VLOOKUP(L210,Choix17!$M$2:$N$14,2,FALSE)&LEFT(O210,4)&RIGHT(LEFT(O210,LEN(O210)-1),2)),0,VLOOKUP(L210,Choix17!$M$2:$N$14,2,FALSE)&LEFT(O210,4)&RIGHT(LEFT(O210,LEN(O210)-1),2)))*1","v":0},{"$nulls":6}," Brock Nelson",{"$nulls":7},0,0]
[{"$f":"(IF(ISERROR(VLOOKUP(G211,Choix17!$M$2:$N$14,2,FALSE)&LEFT(J211,4)&RIGHT(LEFT(J211,LEN(J211)-1),2)),0,VLOOKUP(G211,Choix17!$M$2:$N$14,2,FALSE)&LEFT(J211,4)&RIGHT(LEFT(J211,LEN(J211)-1),2)))*1","v":0},{"$f":"(IF(ISERROR(VLOOKUP(L211,Choix17!$M$2:$N$14,2,FALSE)&LEFT(O211,4)&RIGHT(LEFT(O211,LEN(O211)-1),2)),0,VLOOKUP(L211,Choix17!$M$2:$N$14,2,FALSE)&LEFT(O211,4)&RIGHT(LEFT(O211,LEN(O211)-1),2)))*1","v":0},{"$nulls":6}," Cam Fowler",{"$nulls":7},0,0]
[{"$f":"(IF(ISERROR(VLOOKUP(G212,Choix17!$M$2:$N$14,2,FALSE)&LEFT(J212,4)&RIGHT(LEFT(J212,LEN(J212)-1),2)),0,VLOOKUP(G212,Choix17!$M$2:$N$14,2,FALSE)&LEFT(J212,4)&RIGHT(LEFT(J212,LEN(J212)-1),2)))*1","v":0},{"$f":"(IF(ISERROR(VLOOKUP(L212,Choix17!$M$2:$N$14,2,FALSE)&LEFT(O212,4)&RIGHT(LEFT(O212,LEN(O212)-1),2)),0,VLOOKUP(L212,Choix17!$M$2:$N$14,2,FALSE)&LEFT(O212,4)&RIGHT(LEFT(O212,LEN(O212)-1),2)))*1","v":0},{"$nulls":6}," Tyler Seguin",{"$nulls":7},0,0]
[{"$f":"(IF(ISERROR(VLOOKUP(G213,Choix17!$M$2:$N$14,2,FALSE)&LEFT(J213,4)&RIGHT(LEFT(J213,LEN(J213)-1),2)),0,VLOOKUP(G213,Choix17!$M$2:$N$14,2,FALSE)&LEFT(J213,4)&RIGHT(LEFT(J213,LEN(J213)-1),2)))*1","v":0},{"$f":"(IF(ISERROR(VLOOKUP(L213,Choix17!$M$2:$N$14,2,FALSE)&LEFT(O213,4)&RIGHT(LEFT(O213,LEN(O213)-1),2)),0,VLOOKUP(L213,Choix17!$M$2:$N$14,2,FALSE)&LEFT(O213,4)&RIGHT(LEFT(O213,LEN(O213)-1),2)))*1","v":0},{"$nulls":6}," Matt Duchene",{"$nulls":7},0,0]
[{"$f":"(IF(ISERROR(VLOOKUP(G214,Choix17!$M$2:$N$14,2,FALSE)&LEFT(J214,4)&RIGHT(LEFT(J214,LEN(J214)-1),2)),0,VLOOKUP(G214,Choix17!$M$2:$N$14,2,FALSE)&LEFT(J214,4)&RIGHT(LEFT(J214,LEN(J214)-1),2)))*1","v":0},{"$f":"(IF(ISERROR(VLOOKUP(L214,Choix17!$M$2:$N$14,2,FALSE)&LEFT(O214,4)&RIGHT(LEFT(O214,LEN(O214)-1),2)),0,VLOOKUP(L214,Choix17!$M$2:$N$14,2,FALSE)&LEFT(O214,4)&RIGHT(LEFT(O214,LEN(O214)-1),2)))*1","v":0},{"$nulls":6}," John Tavares",{"$nulls":7},0,0]
[{"$f":"(IF(ISERROR(VLOOKUP(G215,Choix17!$M$2:$N$14,2,FALSE)&LEFT(J215,4)&RIGHT(LEFT(J215,LEN(J215)-1),2)),0,VLOOKUP(G215,Choix17!$M$2:$N$14,2,FALSE)&LEFT(J215,4)&RIGHT(LEFT(J215,LEN(J215)-1),2)))*1","v":0},{"$f":"(IF(ISERROR(VLOOKUP(L215,Choix17!$M$2:$N$14,2,FALSE)&LEFT(O215,4)&RIGHT(LEFT(O215,LEN(O215)-1),2)),0,VLOOKUP(L215,Choix17!$M$2:$N$14,2,FALSE)&LEFT(O215,4)&RIGHT(LEFT(O215,LEN(O215)-1),2)))*1","v":0},{"$nulls":6}," Brandon Sutter",{"$nulls":7},0,0]
[{"$f":"(IF(ISERROR(VLOOKUP(G216,Choix17!$M$2:$N$14,2,FALSE)&LEFT(J216,4)&RIGHT(LEFT(J216,LEN(J216)-1),2)),0,VLOOKUP(G216,Choix17!$M$2:$N$14,2,FALSE)&LEFT(J216,4)&RIGHT(LEFT(J216,LEN(J216)-1),2)))*1","v":0},{"$f":"(IF(ISERROR(VLOOKUP(L216,Choix17!$M$2:$N$14,2,FALSE)&LEFT(O216,4)&RIGHT(LEFT(O216,LEN(O216)-1),2)),0,VLOOKUP(L216,Choix17!$M$2:$N$14,2,FALSE)&LEFT(O216,4)&RIGHT(LEFT(O216,LEN(O216)-1),2)))*1","v":0},{"$nulls":6}," Max Pacioretty",{"$nulls":7},0,0]
[{"$f":"(IF(ISERROR(VLOOKUP(G217,Choix17!$M$2:$N$14,2,FALSE)&LEFT(J217,4)&RIGHT(LEFT(J217,LEN(J217)-1),2)),0,VLOOKUP(G217,Choix17!$M$2:$N$14,2,FALSE)&LEFT(J217,4)&RIGHT(LEFT(J217,LEN(J217)-1),2)))*1","v":0},{"$f":"(IF(ISERROR(VLOOKUP(L217,Choix17!$M$2:$N$14,2,FALSE)&LEFT(O217,4)&RIGHT(LEFT(O217,LEN(O217)-1),2)),0,VLOOKUP(L217,Choix17!$M$2:$N$14,2,FALSE)&LEFT(O217,4)&RIGHT(LEFT(O217,LEN(O217)-1),2)))*1","v":0},{"$nulls":6}," Logan Couture",{"$nulls":7},0,0]
[{"$f":"(IF(ISERROR(VLOOKUP(G218,Choix17!$M$2:$N$14,2,FALSE)&LEFT(J218,4)&RIGHT(LEFT(J218,LEN(J218)-1),2)),0,VLOOKUP(G218,Choix17!$M$2:$N$14,2,FALSE)&LEFT(J218,4)&RIGHT(LEFT(J218,LEN(J218)-1),2)))*1","v":0},{"$f":"(IF(ISERROR(VLOOKUP(L218,Choix17!$M$2:$N$14,2,FALSE)&LEFT(O218,4)&RIGHT(LEFT(O218,LEN(O218)-1),2)),0,VLOOKUP(L218,Choix17!$M$2:$N$14,2,FALSE)&LEFT(O218,4)&RIGHT(LEFT(O218,LEN(O218)-1),2)))*1","v":0},{"$nulls":6}," Patric Hornqvist",{"$nulls":7},0,0]
[{"$f":"(IF(ISERROR(VLOOKUP(G219,Choix17!$M$2:$N$14,2,FALSE)&LEFT(J219,4)&RIGHT(LEFT(J219,LEN(J219)-1),2)),0,VLOOKUP(G219,Choix17!$M$2:$N$14,2,FALSE)&LEFT(J219,4)&RIGHT(LEFT(J219,LEN(J219)-1),2)))*1","v":0},{"$f":"(IF(ISERROR(VLOOKUP(L219,Choix17!$M$2:$N$14,2,FALSE)&LEFT(O219,4)&RIGHT(LEFT(O219,LEN(O219)-1),2)),0,VLOOKUP(L219,Choix17!$M$2:$N$14,2,FALSE)&LEFT(O219,4)&RIGHT(LEFT(O219,LEN(O219)-1),2)))*1","v":0},{"$nulls":6}," Aleksander Barkov",{"$nulls":7},0,0]
[{"$f":"(IF(ISERROR(VLOOKUP(G220,Choix17!$M$2:$N$14,2,FALSE)&LEFT(J220,4)&RIGHT(LEFT(J220,LEN(J220)-1),2)),0,VLOOKUP(G220,Choix17!$M$2:$N$14,2,FALSE)&LEFT(J220,4)&RIGHT(LEFT(J220,LEN(J220)-1),2)))*1","v":0},{"$f":"(IF(ISERROR(VLOOKUP(L220,Choix17!$M$2:$N$14,2,FALSE)&LEFT(O220,4)&RIGHT(LEFT(O220,LEN(O220)-1),2)),0,VLOOKUP(L220,Choix17!$M$2:$N$14,2,FALSE)&LEFT(O220,4)&RIGHT(LEFT(O220,LEN(O220)-1),2)))*1","v":0},{"$nulls":6}," Brent Seabrook",{"$nulls":7},0,0]
[{"$f":"(IF(ISERROR(VLOOKUP(G221,Choix17!$M$2:$N$14,2,FALSE)&LEFT(J221,4)&RIGHT(LEFT(J221,LEN(J221)-1),2)),0,VLOOKUP(G221,Choix17!$M$2:$N$14,2,FALSE)&LEFT(J221,4)&RIGHT(LEFT(J221,LEN(J221)-1),2)))*1","v":0},{"$f":"(IF(ISERROR(VLOOKUP(L221,Choix17!$M$2:$N$14,2,FALSE)&LEFT(O221,4)&RIGHT(LEFT(O221,LEN(O221)-1),2)),0,VLOOKUP(L221,Choix17!$M$2:$N$14,2,FALSE)&LEFT(O221,4)&RIGHT(LEFT(O221,LEN(O221)-1),2)))*1","v":0},{"$nulls":6}," Wayne Simmonds",{"$nulls":7},0,0]
[{"$f":"(IF(ISERROR(VLOOKUP(G222,Choix17!$M$2:$N$14,2,FALSE)&LEFT(J222,4)&RIGHT(LEFT(J222,LEN(J222)-1),2)),0,VLOOKUP(G222,Choix17!$M$2:$N$14,2,FALSE)&LEFT(J222,4)&RIGHT(LEFT(J222,LEN(J222)-1),2)))*1","v":0},{"$f":"(IF(ISERROR(VLOOKUP(L222,Choix17!$M$2:$N$14,2,FALSE)&LEFT(O222,4)&RIGHT(LEFT(O222,LEN(O222)-1),2)),0,VLOOKUP(L222,Choix17!$M$2:$N$14,2,FALSE)&LEFT(O222,4)&RIGHT(LEFT(O222,LEN(O222)-1),2)))*1","v":0},{"$nulls":6}," Tanner Pearson",{"$nulls":7},0,0]
[{"$f":"(IF(ISERROR(VLOOKUP(G223,Choix17!$M$2:$N$14,2,FALSE)&LEFT(J223,4)&RIGHT(LEFT(J223,LEN(J223)-1),2)),0,VLOOKUP(G223,Choix17!$M$2:$N$14,2,FALSE)&LEFT(J223,4)&RIGHT(LEFT(J223,LEN(J223)-1),2)))*1","v":0},{"$f":"(IF(ISERROR(VLOOKUP(L223,Choix17!$M$2:$N$14,2,FALSE)&LEFT(O223,4)&RIGHT(LEFT(O223,LEN(O223)-1),2)),0,VLOOKUP(L223,Choix17!$M$2:$N$14,2,FALSE)&LEFT(O223,4)&RIGHT(LEFT(O223,LEN(O223)-1),2)))*1","v":0},{"$nulls":6}," P.K. Subban",{"$nulls":7},0,0]
[{"$f":"(IF(ISERROR(VLOOKUP(G224,Choix17!$M$2:$N$14,2,FALSE)&LEFT(J224,4)&RIGHT(LEFT(J224,LEN(J224)-1),2)),0,VLOOKUP(G224,Choix17!$M$2:$N$14,2,FALSE)&LEFT(J224,4)&RIGHT(LEFT(J224,LEN(J224)-1),2)))*1","v":0},{"$f":"(IF(ISERROR(VLOOKUP(L224,Choix17!$M$2:$N$14,2,FALSE)&LEFT(O224,4)&RIGHT(LEFT(O224,LEN(O224)-1),2)),0,VLOOKUP(L224,Choix17!$M$2:$N$14,2,FALSE)&LEFT(O224,4)&RIGHT(LEFT(O224,LEN(O224)-1),2)))*1","v":0},{"$nulls":6}," Josh Bailey",{"$nulls":7},0,0]
[{"$f":"(IF(ISERROR(VLOOKUP(G225,Choix17!$M$2:$N$14,2,FALSE)&LEFT(J225,4)&RIGHT(LEFT(J225,LEN(J225)-1),2)),0,VLOOKUP(G225,Choix17!$M$2:$N$14,2,FALSE)&LEFT(J225,4)&RIGHT(LEFT(J225,LEN(J225)-1),2)))*1","v":0},{"$f":"(IF(ISERROR(VLOOKUP(L225,Choix17!$M$2:$N$14,2,FALSE)&LEFT(O225,4)&RIGHT(LEFT(O225,LEN(O225)-1),2)),0,VLOOKUP(L225,Choix17!$M$2:$N$14,2,FALSE)&LEFT(O225,4)&RIGHT(LEFT(O225,LEN(O225)-1),2)))*1","v":0},{"$nulls":6}," Steven Stamkos",{"$nulls":7},0,0]
[{"$f":"(IF(ISERROR(VLOOKUP(G226,Choix17!$M$2:$N$14,2,FALSE)&LEFT(J226,4)&RIGHT(LEFT(J226,LEN(J226)-1),2)),0,VLOOKUP(G226,Choix17!$M$2:$N$14,2,FALSE)&LEFT(J226,4)&RIGHT(LEFT(J226,LEN(J226)-1),2)))*1","v":0},{"$f":"(IF(ISERROR(VLOOKUP(L226,Choix17!$M$2:$N$14,2,FALSE)&LEFT(O226,4)&RIGHT(LEFT(O226,LEN(O226)-1),2)),0,VLOOKUP(L226,Choix17!$M$2:$N$14,2,FALSE)&LEFT(O226,4)&RIGHT(LEFT(O226,LEN(O226)-1),2)))*1","v":0},{"$nulls":6}," Rasmus Ristolainen",{"$nulls":7},0,0]
[{"$f":"(IF(ISERROR(VLOOKUP(G227,Choix17!$M$2:$N$14,2,FALSE)&LEFT(J227,4)&RIGHT(LEFT(J227,LEN(J227)-1),2)),0,VLOOKUP(G227,Choix17!$M$2:$N$14,2,FALSE)&LEFT(J227,4)&RIGHT(LEFT(J227,LEN(J227)-1),2)))*1","v":0},{"$f":"(IF(ISERROR(VLOOKUP(L227,Choix17!$M$2:$N$14,2,FALSE)&LEFT(O227,4)&RIGHT(LEFT(O227,LEN(O227)-1),2)),0,VLOOKUP(L227,Choix17!$M$2:$N$14,2,FALSE)&LEFT(O227,4)&RIGHT(LEFT(O227,LEN(O227)-1),2)))*1","v":0},{"$nulls":6}," Nathan MacKinnon",{"$nulls":7},0,0]
[{"$f":"(IF(ISERROR(VLOOKUP(G228,Choix17!$M$2:$N$14,2,FALSE)&LEFT(J228,4)&RIGHT(LEFT(J228,LEN(J228)-1),2)),0,VLOOKUP(G228,Choix17!$M$2:$N$14,2,FALSE)&LEFT(J228,4)&RIGHT(LEFT(J228,LEN(J228)-1),2)))*1","v":0},{"$f":"(IF(ISERROR(VLOOKUP(L228,Choix17!$M$2:$N$14,2,FALSE)&LEFT(O228,4)&RIGHT(LEFT(O228,LEN(O228)-1),2)),0,VLOOKUP(L228,Choix17!$M$2:$N$14,2,FALSE)&LEFT(O228,4)&RIGHT(LEFT(O228,LEN(O228)-1),2)))*1","v":0},{"$nulls":6}," Zach Werenski",{"$nulls":7},0,0]
[{"$f":"(IF(ISERROR(VLOOKUP(G229,Choix17!$M$2:$N$14,2,FALSE)&LEFT(J229,4)&RIGHT(LEFT(J229,LEN(J229)-1),2)),0,VLOOKUP(G229,Choix17!$M$2:$N$14,2,FALSE)&LEFT(J229,4)&RIGHT(LEFT(J229,LEN(J229)-1),2)))*1","v":0},{"$f":"(IF(ISERROR(VLOOKUP(L229,Choix17!$M$2:$N$14,2,FALSE)&LEFT(O229,4)&RIGHT(LEFT(O229,LEN(O229)-1),2)),0,VLOOKUP(L229,Choix17!$M$2:$N$14,2,FALSE)&LEFT(O229,4)&RIGHT(LEFT(O229,LEN(O229)-1),2)))*1","v":0},{"$nulls":6}," Patrik Laine",{"$nulls":7},0,0]
[{"$f":"(IF(ISERROR(VLOOKUP(G230,Choix17!$M$2:$N$14,2,FALSE)&LEFT(J230,4)&RIGHT(LEFT(J230,LEN(J230)-1),2)),0,VLOOKUP(G230,Choix17!$M$2:$N$14,2,FALSE)&LEFT(J230,4)&RIGHT(LEFT(J230,LEN(J230)-1),2)))*1","v":0},{"$f":"(IF(ISERROR(VLOOKUP(L230,Choix17!$M$2:$N$14,2,FALSE)&LEFT(O230,4)&RIGHT(LEFT(O230,LEN(O230)-1),2)),0,VLOOKUP(L230,Choix17!$M$2:$N$14,2,FALSE)&LEFT(O230,4)&RIGHT(LEFT(O230,LEN(O230)-1),2)))*1","v":0},{"$nulls":6}," Sebastian Aho",{"$nulls":7},0,0]
[{"$f":"(IF(ISERROR(VLOOKUP(G231,Choix17!$M$2:$N$14,2,FALSE)&LEFT(J231,4)&RIGHT(LEFT(J231,LEN(J231)-1),2)),0,VLOOKUP(G231,Choix17!$M$2:$N$14,2,FALSE)&LEFT(J231,4)&RIGHT(LEFT(J231,LEN(J231)-1),2)))*1","v":0},{"$f":"(IF(ISERROR(VLOOKUP(L231,Choix17!$M$2:$N$14,2,FALSE)&LEFT(O231,4)&RIGHT(LEFT(O231,LEN(O231)-1),2)),0,VLOOKUP(L231,Choix17!$M$2:$N$14,2,FALSE)&LEFT(O231,4)&RIGHT(LEFT(O231,LEN(O231)-1),2)))*1","v":0},{"$nulls":6}," Henrik Sedin",{"$nulls":7},0,0]
[{"$f":"(IF(ISERROR(VLOOKUP(G232,Choix17!$M$2:$N$14,2,FALSE)&LEFT(J232,4)&RIGHT(LEFT(J232,LEN(J232)-1),2)),0,VLOOKUP(G232,Choix17!$M$2:$N$14,2,FALSE)&LEFT(J232,4)&RIGHT(LEFT(J232,LEN(J232)-1),2)))*1","v":0},{"$f":"(IF(ISERROR(VLOOKUP(L232,Choix17!$M$2:$N$14,2,FALSE)&LEFT(O232,4)&RIGHT(LEFT(O232,LEN(O232)-1),2)),0,VLOOKUP(L232,Choix17!$M$2:$N$14,2,FALSE)&LEFT(O232,4)&RIGHT(LEFT(O232,LEN(O232)-1),2)))*1","v":0},{"$nulls":6}," Brian Campbell",{"$nulls":7},0,0]
[{"$f":"(IF(ISERROR(VLOOKUP(G233,Choix17!$M$2:$N$14,2,FALSE)&LEFT(J233,4)&RIGHT(LEFT(J233,LEN(J233)-1),2)),0,VLOOKUP(G233,Choix17!$M$2:$N$14,2,FALSE)&LEFT(J233,4)&RIGHT(LEFT(J233,LEN(J233)-1),2)))*1","v":0},{"$f":"(IF(ISERROR(VLOOKUP(L233,Choix17!$M$2:$N$14,2,FALSE)&LEFT(O233,4)&RIGHT(LEFT(O233,LEN(O233)-1),2)),0,VLOOKUP(L233,Choix17!$M$2:$N$14,2,FALSE)&LEFT(O233,4)&RIGHT(LEFT(O233,LEN(O233)-1),2)))*1","v":0},{"$nulls":6}," Matt Cullen",{"$nulls":7},0,0]
[{"$f":"(IF(ISERROR(VLOOKUP(G234,Choix17!$M$2:$N$14,2,FALSE)&LEFT(J234,4)&RIGHT(LEFT(J234,LEN(J234)-1),2)),0,VLOOKUP(G234,Choix17!$M$2:$N$14,2,FALSE)&LEFT(J234,4)&RIGHT(LEFT(J234,LEN(J234)-1),2)))*1","v":0},{"$f":"(IF(ISERROR(VLOOKUP(L234,Choix17!$M$2:$N$14,2,FALSE)&LEFT(O234,4)&RIGHT(LEFT(O234,LEN(O234)-1),2)),0,VLOOKUP(L234,Choix17!$M$2:$N$14,2,FALSE)&LEFT(O234,4)&RIGHT(LEFT(O234,LEN(O234)-1),2)))*1","v":0},{"$nulls":6}," Joe Thornton",{"$nulls":7},0,0]
[{"$f":"(IF(ISERROR(VLOOKUP(G235,Choix17!$M$2:$N$14,2,FALSE)&LEFT(J235,4)&RIGHT(LEFT(J235,LEN(J235)-1),2)),0,VLOOKUP(G235,Choix17!$M$2:$N$14,2,FALSE)&LEFT(J235,4)&RIGHT(LEFT(J235,LEN(J235)-1),2)))*1","v":0},{"$f":"(IF(ISERROR(VLOOKUP(L235,Choix17!$M$2:$N$14,2,FALSE)&LEFT(O235,4)&RIGHT(LEFT(O235,LEN(O235)-1),2)),0,VLOOKUP(L235,Choix17!$M$2:$N$14,2,FALSE)&LEFT(O235,4)&RIGHT(LEFT(O235,LEN(O235)-1),2)))*1","v":0},{"$nulls":6}," Anthony Beauvillier",{"$nulls":7},0,0]
[{"$f":"(IF(ISERROR(VLOOKUP(G236,Choix17!$M$2:$N$14,2,FALSE)&LEFT(J236,4)&RIGHT(LEFT(J236,LEN(J236)-1),2)),0,VLOOKUP(G236,Choix17!$M$2:$N$14,2,FALSE)&LEFT(J236,4)&RIGHT(LEFT(J236,LEN(J236)-1),2)))*1","v":0},{"$f":"(IF(ISERROR(VLOOKUP(L236,Choix17!$M$2:$N$14,2,FALSE)&LEFT(O236,4)&RIGHT(LEFT(O236,LEN(O236)-1),2)),0,VLOOKUP(L236,Choix17!$M$2:$N$14,2,FALSE)&LEFT(O236,4)&RIGHT(LEFT(O236,LEN(O236)-1),2)))*1","v":0},{"$nulls":6}," Radim Vrbata",{"$nulls":7},0,0]
[{"$f":"(IF(ISERROR(VLOOKUP(G237,Choix17!$M$2:$N$14,2,FALSE)&LEFT(J237,4)&RIGHT(LEFT(J237,LEN(J237)-1),2)),0,VLOOKUP(G237,Choix17!$M$2:$N$14,2,FALSE)&LEFT(J237,4)&RIGHT(LEFT(J237,LEN(J237)-1),2)))*1","v":0},{"$f":"(IF(ISERROR(VLOOKUP(L237,Choix17!$M$2:$N$14,2,FALSE)&LEFT(O237,4)&RIGHT(LEFT(O237,LEN(O237)-1),2)),0,VLOOKUP(L237,Choix17!$M$2:$N$14,2,FALSE)&LEFT(O237,4)&RIGHT(LEFT(O237,LEN(O237)-1),2)))*1","v":0},{"$nulls":6}," Travis Konecny",{"$nulls":7},0,0]
[{"$f":"(IF(ISERROR(VLOOKUP(G238,[1]Choix14!$M$2:$N$14,2,FALSE)&LEFT(J238,4)&RIGHT(LEFT(J238,LEN(J238)-1),2)),0,VLOOKUP(G238,[1]Choix14!$M$2:$N$14,2,FALSE)&LEFT(J238,4)&RIGHT(LEFT(J238,LEN(J238)-1),2)))*1","v":0},{"$f":"(IF(ISERROR(VLOOKUP(L238,[1]Choix14!$M$2:$N$14,2,FALSE)&LEFT(O238,4)&RIGHT(LEFT(O238,LEN(O238)-1),2)),0,VLOOKUP(L238,[1]Choix14!$M$2:$N$14,2,FALSE)&LEFT(O238,4)&RIGHT(LEFT(O238,LEN(O238)-1),2)))*1","v":0},{"$nulls":6}," Ryan Suter",{"$nulls":7},0,0]
[{"$f":"(IF(ISERROR(VLOOKUP(G239,[1]Choix14!$M$2:$N$14,2,FALSE)&LEFT(J239,4)&RIGHT(LEFT(J239,LEN(J239)-1),2)),0,VLOOKUP(G239,[1]Choix14!$M$2:$N$14,2,FALSE)&LEFT(J239,4)&RIGHT(LEFT(J239,LEN(J239)-1),2)))*1","v":0},{"$f":"(IF(ISERROR(VLOOKUP(L239,[1]Choix14!$M$2:$N$14,2,FALSE)&LEFT(O239,4)&RIGHT(LEFT(O239,LEN(O239)-1),2)),0,VLOOKUP(L239,[1]Choix14!$M$2:$N$14,2,FALSE)&LEFT(O239,4)&RIGHT(LEFT(O239,LEN(O239)-1),2)))*1","v":0},{"$nulls":6}," Roman Josi",{"$nulls":7},0,0]
[{"$f":"(IF(ISERROR(VLOOKUP(G240,[1]Choix14!$M$2:$N$14,2,FALSE)&LEFT(J240,4)&RIGHT(LEFT(J240,LEN(J240)-1),2)),0,VLOOKUP(G240,[1]Choix14!$M$2:$N$14,2,FALSE)&LEFT(J240,4)&RIGHT(LEFT(J240,LEN(J240)-1),2)))*1","v":0},{"$f":"(IF(ISERROR(VLOOKUP(L240,[1]Choix14!$M$2:$N$14,2,FALSE)&LEFT(O240,4)&RIGHT(LEFT(O240,LEN(O240)-1),2)),0,VLOOKUP(L240,[1]Choix14!$M$2:$N$14,2,FALSE)&LEFT(O240,4)&RIGHT(LEFT(O240,LEN(O240)-1),2)))*1","v":0},{"$nulls":6}," Jake Gardiner",{"$nulls":7},0,0]
[{"$f":"(IF(ISERROR(VLOOKUP(G241,[1]Choix14!$M$2:$N$14,2,FALSE)&LEFT(J241,4)&RIGHT(LEFT(J241,LEN(J241)-1),2)),0,VLOOKUP(G241,[1]Choix14!$M$2:$N$14,2,FALSE)&LEFT(J241,4)&RIGHT(LEFT(J241,LEN(J241)-1),2)))*1","v":0},{"$f":"(IF(ISERROR(VLOOKUP(L241,[1]Choix14!$M$2:$N$14,2,FALSE)&LEFT(O241,4)&RIGHT(LEFT(O241,LEN(O241)-1),2)),0,VLOOKUP(L241,[1]Choix14!$M$2:$N$14,2,FALSE)&LEFT(O241,4)&RIGHT(LEFT(O241,LEN(O241)-1),2)))*1","v":0},{"$nulls":6}," Zack Kassian",{"$nulls":7},0,0]
[{"$f":"(IF(ISERROR(VLOOKUP(G242,[1]Choix14!$M$2:$N$14,2,FALSE)&LEFT(J242,4)&RIGHT(LEFT(J242,LEN(J242)-1),2)),0,VLOOKUP(G242,[1]Choix14!$M$2:$N$14,2,FALSE)&LEFT(J242,4)&RIGHT(LEFT(J242,LEN(J242)-1),2)))*1","v":0},{"$f":"(IF(ISERROR(VLOOKUP(L242,[1]Choix14!$M$2:$N$14,2,FALSE)&LEFT(O242,4)&RIGHT(LEFT(O242,LEN(O242)-1),2)),0,VLOOKUP(L242,[1]Choix14!$M$2:$N$14,2,FALSE)&LEFT(O242,4)&RIGHT(LEFT(O242,LEN(O242)-1),2)))*1","v":0},{"$nulls":6}," Ryan Dzingel",{"$nulls":7},0,0]
[{"$f":"(IF(ISERROR(VLOOKUP(G243,[1]Choix14!$M$2:$N$14,2,FALSE)&LEFT(J243,4)&RIGHT(LEFT(J243,LEN(J243)-1),2)),0,VLOOKUP(G243,[1]Choix14!$M$2:$N$14,2,FALSE)&LEFT(J243,4)&RIGHT(LEFT(J243,LEN(J243)-1),2)))*1","v":0},{"$f":"(IF(ISERROR(VLOOKUP(L243,[1]Choix14!$M$2:$N$14,2,FALSE)&LEFT(O243,4)&RIGHT(LEFT(O243,LEN(O243)-1),2)),0,VLOOKUP(L243,[1]Choix14!$M$2:$N$14,2,FALSE)&LEFT(O243,4)&RIGHT(LEFT(O243,LEN(O243)-1),2)))*1","v":0},{"$nulls":6}," Paul Byron",{"$nulls":7},0,0]
[{"$f":"(IF(ISERROR(VLOOKUP(G244,[1]Choix14!$M$2:$N$14,2,FALSE)&LEFT(J244,4)&RIGHT(LEFT(J244,LEN(J244)-1),2)),0,VLOOKUP(G244,[1]Choix14!$M$2:$N$14,2,FALSE)&LEFT(J244,4)&RIGHT(LEFT(J244,LEN(J244)-1),2)))*1","v":0},{"$f":"(IF(ISERROR(VLOOKUP(L244,[1]Choix14!$M$2:$N$14,2,FALSE)&LEFT(O244,4)&RIGHT(LEFT(O244,LEN(O244)-1),2)),0,VLOOKUP(L244,[1]Choix14!$M$2:$N$14,2,FALSE)&LEFT(O244,4)&RIGHT(LEFT(O244,LEN(O244)-1),2)))*1","v":0},{"$nulls":6}," Dustin Brown",{"$nulls":7},0,0]
[{"$f":"(IF(ISERROR(VLOOKUP(G245,[1]Choix14!$M$2:$N$14,2,FALSE)&LEFT(J245,4)&RIGHT(LEFT(J245,LEN(J245)-1),2)),0,VLOOKUP(G245,[1]Choix14!$M$2:$N$14,2,FALSE)&LEFT(J245,4)&RIGHT(LEFT(J245,LEN(J245)-1),2)))*1","v":0},{"$f":"(IF(ISERROR(VLOOKUP(L245,[1]Choix14!$M$2:$N$14,2,FALSE)&LEFT(O245,4)&RIGHT(LEFT(O245,LEN(O245)-1),2)),0,VLOOKUP(L245,[1]Choix14!$M$2:$N$14,2,FALSE)&LEFT(O245,4)&RIGHT(LEFT(O245,LEN(O245)-1),2)))*1","v":0},{"$nulls":6}," Ryan Johansen",{"$nulls":7},0,0]
[{"$f":"(IF(ISERROR(VLOOKUP(G246,[1]Choix14!$M$2:$N$14,2,FALSE)&LEFT(J246,4)&RIGHT(LEFT(J246,LEN(J246)-1),2)),0,VLOOKUP(G246,[1]Choix14!$M$2:$N$14,2,FALSE)&LEFT(J246,4)&RIGHT(LEFT(J246,LEN(J246)-1),2)))*1","v":0},{"$f":"(IF(ISERROR(VLOOKUP(L246,[1]Choix14!$M$2:$N$14,2,FALSE)&LEFT(O246,4)&RIGHT(LEFT(O246,LEN(O246)-1),2)),0,VLOOKUP(L246,[1]Choix14!$M$2:$N$14,2,FALSE)&LEFT(O246,4)&RIGHT(LEFT(O246,LEN(O246)-1),2)))*1","v":0},{"$nulls":6}," Alec Martinez",{"$nulls":7},0,0]
[{"$f":"(IF(ISERROR(VLOOKUP(G247,[1]Choix14!$M$2:$N$14,2,FALSE)&LEFT(J247,4)&RIGHT(LEFT(J247,LEN(J247)-1),2)),0,VLOOKUP(G247,[1]Choix14!$M$2:$N$14,2,FALSE)&LEFT(J247,4)&RIGHT(LEFT(J247,LEN(J247)-1),2)))*1","v":0},{"$f":"(IF(ISERROR(VLOOKUP(L247,[1]Choix14!$M$2:$N$14,2,FALSE)&LEFT(O247,4)&RIGHT(LEFT(O247,LEN(O247)-1),2)),0,VLOOKUP(L247,[1]Choix14!$M$2:$N$14,2,FALSE)&LEFT(O247,4)&RIGHT(LEFT(O247,LEN(O247)-1),2)))*1","v":0},{"$nulls":6}," Anze Kopitar",{"$nulls":7},0,0]
[{"$f":"(IF(ISERROR(VLOOKUP(G248,[1]Choix14!$M$2:$N$14,2,FALSE)&LEFT(J248,4)&RIGHT(LEFT(J248,LEN(J248)-1),2)),0,VLOOKUP(G248,[1]Choix14!$M$2:$N$14,2,FALSE)&LEFT(J248,4)&RIGHT(LEFT(J248,LEN(J248)-1),2)))*1","v":0},{"$f":"(IF(ISERROR(VLOOKUP(L248,[1]Choix14!$M$2:$N$14,2,FALSE)&LEFT(O248,4)&RIGHT(LEFT(O248,LEN(O248)-1),2)),0,VLOOKUP(L248,[1]Choix14!$M$2:$N$14,2,FALSE)&LEFT(O248,4)&RIGHT(LEFT(O248,LEN(O248)-1),2)))*1","v":0},{"$nulls":6}," Daniel Sedin",{"$nulls":7},0,0]
[{"$f":"(IF(ISERROR(VLOOKUP(G249,[1]Choix14!$M$2:$N$14,2,FALSE)&LEFT(J249,4)&RIGHT(LEFT(J249,LEN(J249)-1),2)),0,VLOOKUP(G249,[1]Choix14!$M$2:$N$14,2,FALSE)&LEFT(J249,4)&RIGHT(LEFT(J249,LEN(J249)-1),2)))*1","v":0},{"$f":"(IF(ISERROR(VLOOKUP(L249,[1]Choix14!$M$2:$N$14,2,FALSE)&LEFT(O249,4)&RIGHT(LEFT(O249,LEN(O249)-1),2)),0,VLOOKUP(L249,[1]Choix14!$M$2:$N$14,2,FALSE)&LEFT(O249,4)&RIGHT(LEFT(O249,LEN(O249)-1),2)))*1","v":0},{"$nulls":6}," Ondrej Palat",{"$nulls":7},0,0]
[{"$f":"(IF(ISERROR(VLOOKUP(G250,[1]Choix14!$M$2:$N$14,2,FALSE)&LEFT(J250,4)&RIGHT(LEFT(J250,LEN(J250)-1),2)),0,VLOOKUP(G250,[1]Choix14!$M$2:$N$14,2,FALSE)&LEFT(J250,4)&RIGHT(LEFT(J250,LEN(J250)-1),2)))*1","v":0},{"$f":"(IF(ISERROR(VLOOKUP(L250,[1]Choix14!$M$2:$N$14,2,FALSE)&LEFT(O250,4)&RIGHT(LEFT(O250,LEN(O250)-1),2)),0,VLOOKUP(L250,[1]Choix14!$M$2:$N$14,2,FALSE)&LEFT(O250,4)&RIGHT(LEFT(O250,LEN(O250)-1),2)))*1","v":0},{"$nulls":6}," Alex Pietrangelo",{"$nulls":7},0,0]
[{"$f":"(IF(ISERROR(VLOOKUP(G251,[1]Choix14!$M$2:$N$14,2,FALSE)&LEFT(J251,4)&RIGHT(LEFT(J251,LEN(J251)-1),2)),0,VLOOKUP(G251,[1]Choix14!$M$2:$N$14,2,FALSE)&LEFT(J251,4)&RIGHT(LEFT(J251,LEN(J251)-1),2)))*1","v":0},{"$f":"(IF(ISERROR(VLOOKUP(L251,[1]Choix14!$M$2:$N$14,2,FALSE)&LEFT(O251,4)&RIGHT(LEFT(O251,LEN(O251)-1),2)),0,VLOOKUP(L251,[1]Choix14!$M$2:$N$14,2,FALSE)&LEFT(O251,4)&RIGHT(LEFT(O251,LEN(O251)-1),2)))*1","v":0},{"$nulls":6}," Joe Colborne",{"$nulls":7},0,0]
[{"$f":"(IF(ISERROR(VLOOKUP(G252,[1]Choix14!$M$2:$N$14,2,FALSE)&LEFT(J252,4)&RIGHT(LEFT(J252,LEN(J252)-1),2)),0,VLOOKUP(G252,[1]Choix14!$M$2:$N$14,2,FALSE)&LEFT(J252,4)&RIGHT(LEFT(J252,LEN(J252)-1),2)))*1","v":0},{"$f":"(IF(ISERROR(VLOOKUP(L252,[1]Choix14!$M$2:$N$14,2,FALSE)&LEFT(O252,4)&RIGHT(LEFT(O252,LEN(O252)-1),2)),0,VLOOKUP(L252,[1]Choix14!$M$2:$N$14,2,FALSE)&LEFT(O252,4)&RIGHT(LEFT(O252,LEN(O252)-1),2)))*1","v":0},{"$nulls":6}," Shayne Gostisbehere",{"$nulls":7},0,0]
[{"$f":"(IF(ISERROR(VLOOKUP(G253,[1]Choix14!$M$2:$N$14,2,FALSE)&LEFT(J253,4)&RIGHT(LEFT(J253,LEN(J253)-1),2)),0,VLOOKUP(G253,[1]Choix14!$M$2:$N$14,2,FALSE)&LEFT(J253,4)&RIGHT(LEFT(J253,LEN(J253)-1),2)))*1","v":0},{"$f":"(IF(ISERROR(VLOOKUP(L253,[1]Choix14!$M$2:$N$14,2,FALSE)&LEFT(O253,4)&RIGHT(LEFT(O253,LEN(O253)-1),2)),0,VLOOKUP(L253,[1]Choix14!$M$2:$N$14,2,FALSE)&LEFT(O253,4)&RIGHT(LEFT(O253,LEN(O253)-1),2)))*1","v":0},{"$nulls":6}," Michael Frolik",{"$nulls":7},0,0]
[{"$f":"(IF(ISERROR(VLOOKUP(G254,[1]Choix14!$M$2:$N$14,2,FALSE)&LEFT(J254,4)&RIGHT(LEFT(J254,LEN(J254)-1),2)),0,VLOOKUP(G254,[1]Choix14!$M$2:$N$14,2,FALSE)&LEFT(J254,4)&RIGHT(LEFT(J254,LEN(J254)-1),2)))*1","v":0},{"$f":"(IF(ISERROR(VLOOKUP(L254,[1]Choix14!$M$2:$N$14,2,FALSE)&LEFT(O254,4)&RIGHT(LEFT(O254,LEN(O254)-1),2)),0,VLOOKUP(L254,[1]Choix14!$M$2:$N$14,2,FALSE)&LEFT(O254,4)&RIGHT(LEFT(O254,LEN(O254)-1),2)))*1","v":0},{"$nulls":6}," Nail Yakupov",{"$nulls":7},0,0]
[{"$f":"(IF(ISERROR(VLOOKUP(G255,[1]Choix14!$M$2:$N$14,2,FALSE)&LEFT(J255,4)&RIGHT(LEFT(J255,LEN(J255)-1),2)),0,VLOOKUP(G255,[1]Choix14!$M$2:$N$14,2,FALSE)&LEFT(J255,4)&RIGHT(LEFT(J255,LEN(J255)-1),2)))*1","v":0},{"$f":"(IF(ISERROR(VLOOKUP(L255,[1]Choix14!$M$2:$N$14,2,FALSE)&LEFT(O255,4)&RIGHT(LEFT(O255,LEN(O255)-1),2)),0,VLOOKUP(L255,[1]Choix14!$M$2:$N$14,2,FALSE)&LEFT(O255,4)&RIGHT(LEFT(O255,LEN(O255)-1),2)))*1","v":0},{"$nulls":6}," Devin Shore",{"$nulls":7},0,0]
[{"$f":"(IF(ISERROR(VLOOKUP(G256,[1]Choix14!$M$2:$N$14,2,FALSE)&LEFT(J256,4)&RIGHT(LEFT(J256,LEN(J256)-1),2)),0,VLOOKUP(G256,[1]Choix14!$M$2:$N$14,2,FALSE)&LEFT(J256,4)&RIGHT(LEFT(J256,LEN(J256)-1),2)))*1","v":0},{"$f":"(IF(ISERROR(VLOOKUP(L256,[1]Choix14!$M$2:$N$14,2,FALSE)&LEFT(O256,4)&RIGHT(LEFT(O256,LEN(O256)-1),2)),0,VLOOKUP(L256,[1]Choix14!$M$2:$N$14,2,FALSE)&LEFT(O256,4)&RIGHT(LEFT(O256,LEN(O256)-1),2)))*1","v":0},{"$nulls":6}," David Desharnais",{"$nulls":7},0,0]
[{"$f":"(IF(ISERROR(VLOOKUP(G257,[1]Choix14!$M$2:$N$14,2,FALSE)&LEFT(J257,4)&RIGHT(LEFT(J257,LEN(J257)-1),2)),0,VLOOKUP(G257,[1]Choix14!$M$2:$N$14,2,FALSE)&LEFT(J257,4)&RIGHT(LEFT(J257,LEN(J257)-1),2)))*1","v":0},{"$f":"(IF(ISERROR(VLOOKUP(L257,[1]Choix14!$M$2:$N$14,2,FALSE)&LEFT(O257,4)&RIGHT(LEFT(O257,LEN(O257)-1),2)),0,VLOOKUP(L257,[1]Choix14!$M$2:$N$14,2,FALSE)&LEFT(O257,4)&RIGHT(LEFT(O257,LEN(O257)-1),2)))*1","v":0},{"$nulls":6}," Marcus Johansson",{"$nulls":7},0,0]
[{"$f":"(IF(ISERROR(VLOOKUP(G258,[1]Choix14!$M$2:$N$14,2,FALSE)&LEFT(J258,4)&RIGHT(LEFT(J258,LEN(J258)-1),2)),0,VLOOKUP(G258,[1]Choix14!$M$2:$N$14,2,FALSE)&LEFT(J258,4)&RIGHT(LEFT(J258,LEN(J258)-1),2)))*1","v":0},{"$f":"(IF(ISERROR(VLOOKUP(L258,[1]Choix14!$M$2:$N$14,2,FALSE)&LEFT(O258,4)&RIGHT(LEFT(O258,LEN(O258)-1),2)),0,VLOOKUP(L258,[1]Choix14!$M$2:$N$14,2,FALSE)&LEFT(O258,4)&RIGHT(LEFT(O258,LEN(O258)-1),2)))*1","v":0},{"$nulls":6}," Johnny Boychuk",{"$nulls":7},0,0]
[{"$f":"(IF(ISERROR(VLOOKUP(G259,[1]Choix14!$M$2:$N$14,2,FALSE)&LEFT(J259,4)&RIGHT(LEFT(J259,LEN(J259)-1),2)),0,VLOOKUP(G259,[1]Choix14!$M$2:$N$14,2,FALSE)&LEFT(J259,4)&RIGHT(LEFT(J259,LEN(J259)-1),2)))*1","v":0},{"$f":"(IF(ISERROR(VLOOKUP(L259,[1]Choix14!$M$2:$N$14,2,FALSE)&LEFT(O259,4)&RIGHT(LEFT(O259,LEN(O259)-1),2)),0,VLOOKUP(L259,[1]Choix14!$M$2:$N$14,2,FALSE)&LEFT(O259,4)&RIGHT(LEFT(O259,LEN(O259)-1),2)))*1","v":0},{"$nulls":6}," Tyler Motte",{"$nulls":7},{"$f":"IF(A259<1,0,COUNTIF($A:$B,A259))","v":0},0]
[{"$f":"(IF(ISERROR(VLOOKUP(G260,[1]Choix14!$M$2:$N$14,2,FALSE)&LEFT(J260,4)&RIGHT(LEFT(J260,LEN(J260)-1),2)),0,VLOOKUP(G260,[1]Choix14!$M$2:$N$14,2,FALSE)&LEFT(J260,4)&RIGHT(LEFT(J260,LEN(J260)-1),2)))*1","v":0},{"$f":"(IF(ISERROR(VLOOKUP(L260,[1]Choix14!$M$2:$N$14,2,FALSE)&LEFT(O260,4)&RIGHT(LEFT(O260,LEN(O260)-1),2)),0,VLOOKUP(L260,[1]Choix14!$M$2:$N$14,2,FALSE)&LEFT(O260,4)&RIGHT(LEFT(O260,LEN(O260)-1),2)))*1","v":0},{"$nulls":6}," Jamie Benn",{"$nulls":7},0,0]
[{"$f":"(IF(ISERROR(VLOOKUP(G261,[1]Choix14!$M$2:$N$14,2,FALSE)&LEFT(J261,4)&RIGHT(LEFT(J261,LEN(J261)-1),2)),0,VLOOKUP(G261,[1]Choix14!$M$2:$N$14,2,FALSE)&LEFT(J261,4)&RIGHT(LEFT(J261,LEN(J261)-1),2)))*1","v":0},{"$f":"(IF(ISERROR(VLOOKUP(L261,[1]Choix14!$M$2:$N$14,2,FALSE)&LEFT(O261,4)&RIGHT(LEFT(O261,LEN(O261)-1),2)),0,VLOOKUP(L261,[1]Choix14!$M$2:$N$14,2,FALSE)&LEFT(O261,4)&RIGHT(LEFT(O261,LEN(O261)-1),2)))*1","v":0},{"$nulls":6}," Jeff Petry",{"$nulls":7},0,0]
[{"$f":"(IF(ISERROR(VLOOKUP(G262,[1]Choix14!$M$2:$N$14,2,FALSE)&LEFT(J262,4)&RIGHT(LEFT(J262,LEN(J262)-1),2)),0,VLOOKUP(G262,[1]Choix14!$M$2:$N$14,2,FALSE)&LEFT(J262,4)&RIGHT(LEFT(J262,LEN(J262)-1),2)))*1","v":0},{"$f":"(IF(ISERROR(VLOOKUP(L262,[1]Choix14!$M$2:$N$14,2,FALSE)&LEFT(O262,4)&RIGHT(LEFT(O262,LEN(O262)-1),2)),0,VLOOKUP(L262,[1]Choix14!$M$2:$N$14,2,FALSE)&LEFT(O262,4)&RIGHT(LEFT(O262,LEN(O262)-1),2)))*1","v":0},{"$nulls":6}," David Backes",{"$nulls":7},0,0]
[{"$f":"(IF(ISERROR(VLOOKUP(G263,[1]Choix14!$M$2:$N$14,2,FALSE)&LEFT(J263,4)&RIGHT(LEFT(J263,LEN(J263)-1),2)),0,VLOOKUP(G263,[1]Choix14!$M$2:$N$14,2,FALSE)&LEFT(J263,4)&RIGHT(LEFT(J263,LEN(J263)-1),2)))*1","v":0},{"$f":"(IF(ISERROR(VLOOKUP(L263,[1]Choix14!$M$2:$N$14,2,FALSE)&LEFT(O263,4)&RIGHT(LEFT(O263,LEN(O263)-1),2)),0,VLOOKUP(L263,[1]Choix14!$M$2:$N$14,2,FALSE)&LEFT(O263,4)&RIGHT(LEFT(O263,LEN(O263)-1),2)))*1","v":0},{"$nulls":6}," Mike Fisher",{"$nulls":7},0,0]
[{"$f":"(IF(ISERROR(VLOOKUP(G264,[1]Choix14!$M$2:$N$14,2,FALSE)&LEFT(J264,4)&RIGHT(LEFT(J264,LEN(J264)-1),2)),0,VLOOKUP(G264,[1]Choix14!$M$2:$N$14,2,FALSE)&LEFT(J264,4)&RIGHT(LEFT(J264,LEN(J264)-1),2)))*1","v":0},{"$f":"(IF(ISERROR(VLOOKUP(L264,[1]Choix14!$M$2:$N$14,2,FALSE)&LEFT(O264,4)&RIGHT(LEFT(O264,LEN(O264)-1),2)),0,VLOOKUP(L264,[1]Choix14!$M$2:$N$14,2,FALSE)&LEFT(O264,4)&RIGHT(LEFT(O264,LEN(O264)-1),2)))*1","v":0},{"$nulls":6}," Nick Foligno",{"$nulls":7},0,0]
[{"$f":"(IF(ISERROR(VLOOKUP(G265,[1]Choix14!$M$2:$N$14,2,FALSE)&LEFT(J265,4)&RIGHT(LEFT(J265,LEN(J265)-1),2)),0,VLOOKUP(G265,[1]Choix14!$M$2:$N$14,2,FALSE)&LEFT(J265,4)&RIGHT(LEFT(J265,LEN(J265)-1),2)))*1","v":0},{"$f":"(IF(ISERROR(VLOOKUP(L265,[1]Choix14!$M$2:$N$14,2,FALSE)&LEFT(O265,4)&RIGHT(LEFT(O265,LEN(O265)-1),2)),0,VLOOKUP(L265,[1]Choix14!$M$2:$N$14,2,FALSE)&LEFT(O265,4)&RIGHT(LEFT(O265,LEN(O265)-1),2)))*1","v":0},{"$nulls":6}," Jordan Martinook",{"$nulls":7},0,0]
[{"$f":"(IF(ISERROR(VLOOKUP(G266,[1]Choix14!$M$2:$N$14,2,FALSE)&LEFT(J266,4)&RIGHT(LEFT(J266,LEN(J266)-1),2)),0,VLOOKUP(G266,[1]Choix14!$M$2:$N$14,2,FALSE)&LEFT(J266,4)&RIGHT(LEFT(J266,LEN(J266)-1),2)))*1","v":0},{"$f":"(IF(ISERROR(VLOOKUP(L266,[1]Choix14!$M$2:$N$14,2,FALSE)&LEFT(O266,4)&RIGHT(LEFT(O266,LEN(O266)-1),2)),0,VLOOKUP(L266,[1]Choix14!$M$2:$N$14,2,FALSE)&LEFT(O266,4)&RIGHT(LEFT(O266,LEN(O266)-1),2)))*1","v":0},{"$nulls":6}," Alexander Wennberg",{"$nulls":7},0,0]
[{"$f":"(IF(ISERROR(VLOOKUP(G267,[1]Choix14!$M$2:$N$14,2,FALSE)&LEFT(J267,4)&RIGHT(LEFT(J267,LEN(J267)-1),2)),0,VLOOKUP(G267,[1]Choix14!$M$2:$N$14,2,FALSE)&LEFT(J267,4)&RIGHT(LEFT(J267,LEN(J267)-1),2)))*1","v":0},{"$f":"(IF(ISERROR(VLOOKUP(L267,[1]Choix14!$M$2:$N$14,2,FALSE)&LEFT(O267,4)&RIGHT(LEFT(O267,LEN(O267)-1),2)),0,VLOOKUP(L267,[1]Choix14!$M$2:$N$14,2,FALSE)&LEFT(O267,4)&RIGHT(LEFT(O267,LEN(O267)-1),2)))*1","v":0},{"$nulls":6}," Brandon Pirri",{"$nulls":7},0,0]
[{"$f":"(IF(ISERROR(VLOOKUP(G268,[1]Choix14!$M$2:$N$14,2,FALSE)&LEFT(J268,4)&RIGHT(LEFT(J268,LEN(J268)-1),2)),0,VLOOKUP(G268,[1]Choix14!$M$2:$N$14,2,FALSE)&LEFT(J268,4)&RIGHT(LEFT(J268,LEN(J268)-1),2)))*1","v":0},{"$f":"(IF(ISERROR(VLOOKUP(L268,[1]Choix14!$M$2:$N$14,2,FALSE)&LEFT(O268,4)&RIGHT(LEFT(O268,LEN(O268)-1),2)),0,VLOOKUP(L268,[1]Choix14!$M$2:$N$14,2,FALSE)&LEFT(O268,4)&RIGHT(LEFT(O268,LEN(O268)-1),2)))*1","v":0},{"$nulls":6}," Viktor Arvidsson",{"$nulls":7},0,0]
[{"$f":"(IF(ISERROR(VLOOKUP(G269,[1]Choix14!$M$2:$N$14,2,FALSE)&LEFT(J269,4)&RIGHT(LEFT(J269,LEN(J269)-1),2)),0,VLOOKUP(G269,[1]Choix14!$M$2:$N$14,2,FALSE)&LEFT(J269,4)&RIGHT(LEFT(J269,LEN(J269)-1),2)))*1","v":0},{"$f":"(IF(ISERROR(VLOOKUP(L269,[1]Choix14!$M$2:$N$14,2,FALSE)&LEFT(O269,4)&RIGHT(LEFT(O269,LEN(O269)-1),2)),0,VLOOKUP(L269,[1]Choix14!$M$2:$N$14,2,FALSE)&LEFT(O269,4)&RIGHT(LEFT(O269,LEN(O269)-1),2)))*1","v":0},{"$nulls":6}," Marian Hossa",{"$nulls":7},0,0]
[{"$f":"(IF(ISERROR(VLOOKUP(G270,[1]Choix14!$M$2:$N$14,2,FALSE)&LEFT(J270,4)&RIGHT(LEFT(J270,LEN(J270)-1),2)),0,VLOOKUP(G270,[1]Choix14!$M$2:$N$14,2,FALSE)&LEFT(J270,4)&RIGHT(LEFT(J270,LEN(J270)-1),2)))*1","v":0},{"$f":"(IF(ISERROR(VLOOKUP(L270,[1]Choix14!$M$2:$N$14,2,FALSE)&LEFT(O270,4)&RIGHT(LEFT(O270,LEN(O270)-1),2)),0,VLOOKUP(L270,[1]Choix14!$M$2:$N$14,2,FALSE)&LEFT(O270,4)&RIGHT(LEFT(O270,LEN(O270)-1),2)))*1","v":0},{"$nulls":6}," Mark Stone",{"$nulls":7},0,0]
[{"$f":"(IF(ISERROR(VLOOKUP(G271,[1]Choix14!$M$2:$N$14,2,FALSE)&LEFT(J271,4)&RIGHT(LEFT(J271,LEN(J271)-1),2)),0,VLOOKUP(G271,[1]Choix14!$M$2:$N$14,2,FALSE)&LEFT(J271,4)&RIGHT(LEFT(J271,LEN(J271)-1),2)))*1","v":0},{"$f":"(IF(ISERROR(VLOOKUP(L271,[1]Choix14!$M$2:$N$14,2,FALSE)&LEFT(O271,4)&RIGHT(LEFT(O271,LEN(O271)-1),2)),0,VLOOKUP(L271,[1]Choix14!$M$2:$N$14,2,FALSE)&LEFT(O271,4)&RIGHT(LEFT(O271,LEN(O271)-1),2)))*1","v":0},{"$nulls":6}," Jonas Brodin",{"$nulls":7},0,0]
[{"$f":"(IF(ISERROR(VLOOKUP(G272,[1]Choix14!$M$2:$N$14,2,FALSE)&LEFT(J272,4)&RIGHT(LEFT(J272,LEN(J272)-1),2)),0,VLOOKUP(G272,[1]Choix14!$M$2:$N$14,2,FALSE)&LEFT(J272,4)&RIGHT(LEFT(J272,LEN(J272)-1),2)))*1","v":0},{"$f":"(IF(ISERROR(VLOOKUP(L272,[1]Choix14!$M$2:$N$14,2,FALSE)&LEFT(O272,4)&RIGHT(LEFT(O272,LEN(O272)-1),2)),0,VLOOKUP(L272,[1]Choix14!$M$2:$N$14,2,FALSE)&LEFT(O272,4)&RIGHT(LEFT(O272,LEN(O272)-1),2)))*1","v":0},{"$nulls":6}," Sean Couturier",{"$nulls":7},0,0]
[{"$f":"(IF(ISERROR(VLOOKUP(G273,[1]Choix14!$M$2:$N$14,2,FALSE)&LEFT(J273,4)&RIGHT(LEFT(J273,LEN(J273)-1),2)),0,VLOOKUP(G273,[1]Choix14!$M$2:$N$14,2,FALSE)&LEFT(J273,4)&RIGHT(LEFT(J273,LEN(J273)-1),2)))*1","v":0},{"$f":"(IF(ISERROR(VLOOKUP(L273,[1]Choix14!$M$2:$N$14,2,FALSE)&LEFT(O273,4)&RIGHT(LEFT(O273,LEN(O273)-1),2)),0,VLOOKUP(L273,[1]Choix14!$M$2:$N$14,2,FALSE)&LEFT(O273,4)&RIGHT(LEFT(O273,LEN(O273)-1),2)))*1","v":0},{"$nulls":6}," Ryan Strome",{"$nulls":7},0,0]
[{"$f":"(IF(ISERROR(VLOOKUP(G274,[1]Choix14!$M$2:$N$14,2,FALSE)&LEFT(J274,4)&RIGHT(LEFT(J274,LEN(J274)-1),2)),0,VLOOKUP(G274,[1]Choix14!$M$2:$N$14,2,FALSE)&LEFT(J274,4)&RIGHT(LEFT(J274,LEN(J274)-1),2)))*1","v":0},{"$f":"(IF(ISERROR(VLOOKUP(L274,[1]Choix14!$M$2:$N$14,2,FALSE)&LEFT(O274,4)&RIGHT(LEFT(O274,LEN(O274)-1),2)),0,VLOOKUP(L274,[1]Choix14!$M$2:$N$14,2,FALSE)&LEFT(O274,4)&RIGHT(LEFT(O274,LEN(O274)-1),2)))*1","v":0},{"$nulls":6}," Eric Staal",{"$nulls":7},0,0]
[{"$f":"(IF(ISERROR(VLOOKUP(G275,[1]Choix14!$M$2:$N$14,2,FALSE)&LEFT(J275,4)&RIGHT(LEFT(J275,LEN(J275)-1),2)),0,VLOOKUP(G275,[1]Choix14!$M$2:$N$14,2,FALSE)&LEFT(J275,4)&RIGHT(LEFT(J275,LEN(J275)-1),2)))*1","v":0},{"$f":"(IF(ISERROR(VLOOKUP(L275,[1]Choix14!$M$2:$N$14,2,FALSE)&LEFT(O275,4)&RIGHT(LEFT(O275,LEN(O275)-1),2)),0,VLOOKUP(L275,[1]Choix14!$M$2:$N$14,2,FALSE)&LEFT(O275,4)&RIGHT(LEFT(O275,LEN(O275)-1),2)))*1","v":0},{"$nulls":6}," Cal Clutterbuck",{"$nulls":7},0,0]
[{"$f":"(IF(ISERROR(VLOOKUP(G276,[1]Choix14!$M$2:$N$14,2,FALSE)&LEFT(J276,4)&RIGHT(LEFT(J276,LEN(J276)-1),2)),0,VLOOKUP(G276,[1]Choix14!$M$2:$N$14,2,FALSE)&LEFT(J276,4)&RIGHT(LEFT(J276,LEN(J276)-1),2)))*1","v":0},{"$f":"(IF(ISERROR(VLOOKUP(L276,[1]Choix14!$M$2:$N$14,2,FALSE)&LEFT(O276,4)&RIGHT(LEFT(O276,LEN(O276)-1),2)),0,VLOOKUP(L276,[1]Choix14!$M$2:$N$14,2,FALSE)&LEFT(O276,4)&RIGHT(LEFT(O276,LEN(O276)-1),2)))*1","v":0},{"$nulls":6}," Jeff Carter",{"$nulls":7},0,0]
[{"$f":"(IF(ISERROR(VLOOKUP(G277,[1]Choix14!$M$2:$N$14,2,FALSE)&LEFT(J277,4)&RIGHT(LEFT(J277,LEN(J277)-1),2)),0,VLOOKUP(G277,[1]Choix14!$M$2:$N$14,2,FALSE)&LEFT(J277,4)&RIGHT(LEFT(J277,LEN(J277)-1),2)))*1","v":0},{"$f":"(IF(ISERROR(VLOOKUP(L277,[1]Choix14!$M$2:$N$14,2,FALSE)&LEFT(O277,4)&RIGHT(LEFT(O277,LEN(O277)-1),2)),0,VLOOKUP(L277,[1]Choix14!$M$2:$N$14,2,FALSE)&LEFT(O277,4)&RIGHT(LEFT(O277,LEN(O277)-1),2)))*1","v":0},{"$nulls":6}," Tyson Barrie",{"$nulls":7},0,0]
[{"$f":"(IF(ISERROR(VLOOKUP(G278,[1]Choix14!$M$2:$N$14,2,FALSE)&LEFT(J278,4)&RIGHT(LEFT(J278,LEN(J278)-1),2)),0,VLOOKUP(G278,[1]Choix14!$M$2:$N$14,2,FALSE)&LEFT(J278,4)&RIGHT(LEFT(J278,LEN(J278)-1),2)))*1","v":0},{"$f":"(IF(ISERROR(VLOOKUP(L278,[1]Choix14!$M$2:$N$14,2,FALSE)&LEFT(O278,4)&RIGHT(LEFT(O278,LEN(O278)-1),2)),0,VLOOKUP(L278,[1]Choix14!$M$2:$N$14,2,FALSE)&LEFT(O278,4)&RIGHT(LEFT(O278,LEN(O278)-1),2)))*1","v":0},{"$nulls":6}," Jonathan Drouin",{"$nulls":7},0,0]
[{"$f":"(IF(ISERROR(VLOOKUP(G279,[1]Choix14!$M$2:$N$14,2,FALSE)&LEFT(J279,4)&RIGHT(LEFT(J279,LEN(J279)-1),2)),0,VLOOKUP(G279,[1]Choix14!$M$2:$N$14,2,FALSE)&LEFT(J279,4)&RIGHT(LEFT(J279,LEN(J279)-1),2)))*1","v":0},{"$f":"(IF(ISERROR(VLOOKUP(L279,[1]Choix14!$M$2:$N$14,2,FALSE)&LEFT(O279,4)&RIGHT(LEFT(O279,LEN(O279)-1),2)),0,VLOOKUP(L279,[1]Choix14!$M$2:$N$14,2,FALSE)&LEFT(O279,4)&RIGHT(LEFT(O279,LEN(O279)-1),2)))*1","v":0},{"$nulls":6}," Loui Eriksson",{"$nulls":7},0,0]
[{"$f":"(IF(ISERROR(VLOOKUP(G280,[1]Choix14!$M$2:$N$14,2,FALSE)&LEFT(J280,4)&RIGHT(LEFT(J280,LEN(J280)-1),2)),0,VLOOKUP(G280,[1]Choix14!$M$2:$N$14,2,FALSE)&LEFT(J280,4)&RIGHT(LEFT(J280,LEN(J280)-1),2)))*1","v":0},{"$f":"(IF(ISERROR(VLOOKUP(L280,[1]Choix14!$M$2:$N$14,2,FALSE)&LEFT(O280,4)&RIGHT(LEFT(O280,LEN(O280)-1),2)),0,VLOOKUP(L280,[1]Choix14!$M$2:$N$14,2,FALSE)&LEFT(O280,4)&RIGHT(LEFT(O280,LEN(O280)-1),2)))*1","v":0},{"$nulls":6}," Sami Vatanen",{"$nulls":7},0,0]
[{"$f":"(IF(ISERROR(VLOOKUP(G281,[1]Choix14!$M$2:$N$14,2,FALSE)&LEFT(J281,4)&RIGHT(LEFT(J281,LEN(J281)-1),2)),0,VLOOKUP(G281,[1]Choix14!$M$2:$N$14,2,FALSE)&LEFT(J281,4)&RIGHT(LEFT(J281,LEN(J281)-1),2)))*1","v":0},{"$f":"(IF(ISERROR(VLOOKUP(L281,[1]Choix14!$M$2:$N$14,2,FALSE)&LEFT(O281,4)&RIGHT(LEFT(O281,LEN(O281)-1),2)),0,VLOOKUP(L281,[1]Choix14!$M$2:$N$14,2,FALSE)&LEFT(O281,4)&RIGHT(LEFT(O281,LEN(O281)-1),2)))*1","v":0},{"$nulls":6}," J.T. Miller",{"$nulls":7},0,0]
[{"$f":"(IF(ISERROR(VLOOKUP(G282,[1]Choix14!$M$2:$N$14,2,FALSE)&LEFT(J282,4)&RIGHT(LEFT(J282,LEN(J282)-1),2)),0,VLOOKUP(G282,[1]Choix14!$M$2:$N$14,2,FALSE)&LEFT(J282,4)&RIGHT(LEFT(J282,LEN(J282)-1),2)))*1","v":0},{"$f":"(IF(ISERROR(VLOOKUP(L282,[1]Choix14!$M$2:$N$14,2,FALSE)&LEFT(O282,4)&RIGHT(LEFT(O282,LEN(O282)-1),2)),0,VLOOKUP(L282,[1]Choix14!$M$2:$N$14,2,FALSE)&LEFT(O282,4)&RIGHT(LEFT(O282,LEN(O282)-1),2)))*1","v":0},{"$nulls":6}," Kyle Turris",{"$nulls":7},0,0]
[{"$f":"(IF(ISERROR(VLOOKUP(G283,[1]Choix14!$M$2:$N$14,2,FALSE)&LEFT(J283,4)&RIGHT(LEFT(J283,LEN(J283)-1),2)),0,VLOOKUP(G283,[1]Choix14!$M$2:$N$14,2,FALSE)&LEFT(J283,4)&RIGHT(LEFT(J283,LEN(J283)-1),2)))*1","v":0},{"$f":"(IF(ISERROR(VLOOKUP(L283,[1]Choix14!$M$2:$N$14,2,FALSE)&LEFT(O283,4)&RIGHT(LEFT(O283,LEN(O283)-1),2)),0,VLOOKUP(L283,[1]Choix14!$M$2:$N$14,2,FALSE)&LEFT(O283,4)&RIGHT(LEFT(O283,LEN(O283)-1),2)))*1","v":0},{"$nulls":6}," Mikael Backlund",{"$nulls":7},0,0]
[{"$f":"(IF(ISERROR(VLOOKUP(G284,[1]Choix14!$M$2:$N$14,2,FALSE)&LEFT(J284,4)&RIGHT(LEFT(J284,LEN(J284)-1),2)),0,VLOOKUP(G284,[1]Choix14!$M$2:$N$14,2,FALSE)&LEFT(J284,4)&RIGHT(LEFT(J284,LEN(J284)-1),2)))*1","v":0},{"$f":"(IF(ISERROR(VLOOKUP(L284,[1]Choix14!$M$2:$N$14,2,FALSE)&LEFT(O284,4)&RIGHT(LEFT(O284,LEN(O284)-1),2)),0,VLOOKUP(L284,[1]Choix14!$M$2:$N$14,2,FALSE)&LEFT(O284,4)&RIGHT(LEFT(O284,LEN(O284)-1),2)))*1","v":0},{"$nulls":6}," Mark Letestu",{"$nulls":7},0,0]
[{"$f":"(IF(ISERROR(VLOOKUP(G285,[1]Choix14!$M$2:$N$14,2,FALSE)&LEFT(J285,4)&RIGHT(LEFT(J285,LEN(J285)-1),2)),0,VLOOKUP(G285,[1]Choix14!$M$2:$N$14,2,FALSE)&LEFT(J285,4)&RIGHT(LEFT(J285,LEN(J285)-1),2)))*1","v":0},{"$f":"(IF(ISERROR(VLOOKUP(L285,[1]Choix14!$M$2:$N$14,2,FALSE)&LEFT(O285,4)&RIGHT(LEFT(O285,LEN(O285)-1),2)),0,VLOOKUP(L285,[1]Choix14!$M$2:$N$14,2,FALSE)&LEFT(O285,4)&RIGHT(LEFT(O285,LEN(O285)-1),2)))*1","v":0},{"$nulls":6}," Brad Richardson",{"$nulls":7},0,0]
[{"$f":"(IF(ISERROR(VLOOKUP(G286,[1]Choix14!$M$2:$N$14,2,FALSE)&LEFT(J286,4)&RIGHT(LEFT(J286,LEN(J286)-1),2)),0,VLOOKUP(G286,[1]Choix14!$M$2:$N$14,2,FALSE)&LEFT(J286,4)&RIGHT(LEFT(J286,LEN(J286)-1),2)))*1","v":0},{"$f":"(IF(ISERROR(VLOOKUP(L286,[1]Choix14!$M$2:$N$14,2,FALSE)&LEFT(O286,4)&RIGHT(LEFT(O286,LEN(O286)-1),2)),0,VLOOKUP(L286,[1]Choix14!$M$2:$N$14,2,FALSE)&LEFT(O286,4)&RIGHT(LEFT(O286,LEN(O286)-1),2)))*1","v":0},{"$nulls":6}," Dustin Byfuglien",{"$nulls":7},0,0]
[{"$f":"(IF(ISERROR(VLOOKUP(G287,[1]Choix14!$M$2:$N$14,2,FALSE)&LEFT(J287,4)&RIGHT(LEFT(J287,LEN(J287)-1),2)),0,VLOOKUP(G287,[1]Choix14!$M$2:$N$14,2,FALSE)&LEFT(J287,4)&RIGHT(LEFT(J287,LEN(J287)-1),2)))*1","v":0},{"$f":"(IF(ISERROR(VLOOKUP(L287,[1]Choix14!$M$2:$N$14,2,FALSE)&LEFT(O287,4)&RIGHT(LEFT(O287,LEN(O287)-1),2)),0,VLOOKUP(L287,[1]Choix14!$M$2:$N$14,2,FALSE)&LEFT(O287,4)&RIGHT(LEFT(O287,LEN(O287)-1),2)))*1","v":0},{"$nulls":6}," Charlie Coyle",{"$nulls":7},0,0]
[{"$f":"(IF(ISERROR(VLOOKUP(G288,[1]Choix14!$M$2:$N$14,2,FALSE)&LEFT(J288,4)&RIGHT(LEFT(J288,LEN(J288)-1),2)),0,VLOOKUP(G288,[1]Choix14!$M$2:$N$14,2,FALSE)&LEFT(J288,4)&RIGHT(LEFT(J288,LEN(J288)-1),2)))*1","v":0},{"$f":"(IF(ISERROR(VLOOKUP(L288,[1]Choix14!$M$2:$N$14,2,FALSE)&LEFT(O288,4)&RIGHT(LEFT(O288,LEN(O288)-1),2)),0,VLOOKUP(L288,[1]Choix14!$M$2:$N$14,2,FALSE)&LEFT(O288,4)&RIGHT(LEFT(O288,LEN(O288)-1),2)))*1","v":0},{"$nulls":6}," David Perron",{"$nulls":7},0,0]
[{"$f":"(IF(ISERROR(VLOOKUP(G289,[1]Choix14!$M$2:$N$14,2,FALSE)&LEFT(J289,4)&RIGHT(LEFT(J289,LEN(J289)-1),2)),0,VLOOKUP(G289,[1]Choix14!$M$2:$N$14,2,FALSE)&LEFT(J289,4)&RIGHT(LEFT(J289,LEN(J289)-1),2)))*1","v":0},{"$f":"(IF(ISERROR(VLOOKUP(L289,[1]Choix14!$M$2:$N$14,2,FALSE)&LEFT(O289,4)&RIGHT(LEFT(O289,LEN(O289)-1),2)),0,VLOOKUP(L289,[1]Choix14!$M$2:$N$14,2,FALSE)&LEFT(O289,4)&RIGHT(LEFT(O289,LEN(O289)-1),2)))*1","v":0},{"$nulls":6}," Kevin Shattenkirk",{"$nulls":7},0,0]
[{"$f":"(IF(ISERROR(VLOOKUP(G290,[1]Choix14!$M$2:$N$14,2,FALSE)&LEFT(J290,4)&RIGHT(LEFT(J290,LEN(J290)-1),2)),0,VLOOKUP(G290,[1]Choix14!$M$2:$N$14,2,FALSE)&LEFT(J290,4)&RIGHT(LEFT(J290,LEN(J290)-1),2)))*1","v":0},{"$f":"(IF(ISERROR(VLOOKUP(L290,[1]Choix14!$M$2:$N$14,2,FALSE)&LEFT(O290,4)&RIGHT(LEFT(O290,LEN(O290)-1),2)),0,VLOOKUP(L290,[1]Choix14!$M$2:$N$14,2,FALSE)&LEFT(O290,4)&RIGHT(LEFT(O290,LEN(O290)-1),2)))*1","v":0},{"$nulls":6}," Alex Ovechkin",{"$nulls":7},0,0]
[{"$f":"(IF(ISERROR(VLOOKUP(G291,[1]Choix14!$M$2:$N$14,2,FALSE)&LEFT(J291,4)&RIGHT(LEFT(J291,LEN(J291)-1),2)),0,VLOOKUP(G291,[1]Choix14!$M$2:$N$14,2,FALSE)&LEFT(J291,4)&RIGHT(LEFT(J291,LEN(J291)-1),2)))*1","v":0},{"$f":"(IF(ISERROR(VLOOKUP(L291,[1]Choix14!$M$2:$N$14,2,FALSE)&LEFT(O291,4)&RIGHT(LEFT(O291,LEN(O291)-1),2)),0,VLOOKUP(L291,[1]Choix14!$M$2:$N$14,2,FALSE)&LEFT(O291,4)&RIGHT(LEFT(O291,LEN(O291)-1),2)))*1","v":0},{"$nulls":6}," Noah Hanifin",{"$nulls":7},0,0]
[{"$f":"(IF(ISERROR(VLOOKUP(G292,[1]Choix14!$M$2:$N$14,2,FALSE)&LEFT(J292,4)&RIGHT(LEFT(J292,LEN(J292)-1),2)),0,VLOOKUP(G292,[1]Choix14!$M$2:$N$14,2,FALSE)&LEFT(J292,4)&RIGHT(LEFT(J292,LEN(J292)-1),2)))*1","v":0},{"$f":"(IF(ISERROR(VLOOKUP(L292,[1]Choix14!$M$2:$N$14,2,FALSE)&LEFT(O292,4)&RIGHT(LEFT(O292,LEN(O292)-1),2)),0,VLOOKUP(L292,[1]Choix14!$M$2:$N$14,2,FALSE)&LEFT(O292,4)&RIGHT(LEFT(O292,LEN(O292)-1),2)))*1","v":0},{"$nulls":6}," Milan Lucic",{"$nulls":7},0,0]
[{"$f":"(IF(ISERROR(VLOOKUP(G293,[1]Choix14!$M$2:$N$14,2,FALSE)&LEFT(J293,4)&RIGHT(LEFT(J293,LEN(J293)-1),2)),0,VLOOKUP(G293,[1]Choix14!$M$2:$N$14,2,FALSE)&LEFT(J293,4)&RIGHT(LEFT(J293,LEN(J293)-1),2)))*1","v":0},{"$f":"(IF(ISERROR(VLOOKUP(L293,[1]Choix14!$M$2:$N$14,2,FALSE)&LEFT(O293,4)&RIGHT(LEFT(O293,LEN(O293)-1),2)),0,VLOOKUP(L293,[1]Choix14!$M$2:$N$14,2,FALSE)&LEFT(O293,4)&RIGHT(LEFT(O293,LEN(O293)-1),2)))*1","v":0},{"$nulls":6}," Tyler Bozak",{"$nulls":7},0,0]
[{"$f":"(IF(ISERROR(VLOOKUP(G294,[1]Choix14!$M$2:$N$14,2,FALSE)&LEFT(J294,4)&RIGHT(LEFT(J294,LEN(J294)-1),2)),0,VLOOKUP(G294,[1]Choix14!$M$2:$N$14,2,FALSE)&LEFT(J294,4)&RIGHT(LEFT(J294,LEN(J294)-1),2)))*1","v":0},{"$f":"(IF(ISERROR(VLOOKUP(L294,[1]Choix14!$M$2:$N$14,2,FALSE)&LEFT(O294,4)&RIGHT(LEFT(O294,LEN(O294)-1),2)),0,VLOOKUP(L294,[1]Choix14!$M$2:$N$14,2,FALSE)&LEFT(O294,4)&RIGHT(LEFT(O294,LEN(O294)-1),2)))*1","v":0},{"$nulls":6}," Michael Matheson",{"$nulls":7},0,0]
[{"$f":"(IF(ISERROR(VLOOKUP(G295,[1]Choix14!$M$2:$N$14,2,FALSE)&LEFT(J295,4)&RIGHT(LEFT(J295,LEN(J295)-1),2)),0,VLOOKUP(G295,[1]Choix14!$M$2:$N$14,2,FALSE)&LEFT(J295,4)&RIGHT(LEFT(J295,LEN(J295)-1),2)))*1","v":0},{"$f":"(IF(ISERROR(VLOOKUP(L295,[1]Choix14!$M$2:$N$14,2,FALSE)&LEFT(O295,4)&RIGHT(LEFT(O295,LEN(O295)-1),2)),0,VLOOKUP(L295,[1]Choix14!$M$2:$N$14,2,FALSE)&LEFT(O295,4)&RIGHT(LEFT(O295,LEN(O295)-1),2)))*1","v":0},{"$nulls":6}," Alex Goligoski",{"$nulls":7},0,0]
[{"$f":"(IF(ISERROR(VLOOKUP(G296,[1]Choix14!$M$2:$N$14,2,FALSE)&LEFT(J296,4)&RIGHT(LEFT(J296,LEN(J296)-1),2)),0,VLOOKUP(G296,[1]Choix14!$M$2:$N$14,2,FALSE)&LEFT(J296,4)&RIGHT(LEFT(J296,LEN(J296)-1),2)))*1","v":0},{"$f":"(IF(ISERROR(VLOOKUP(L296,[1]Choix14!$M$2:$N$14,2,FALSE)&LEFT(O296,4)&RIGHT(LEFT(O296,LEN(O296)-1),2)),0,VLOOKUP(L296,[1]Choix14!$M$2:$N$14,2,FALSE)&LEFT(O296,4)&RIGHT(LEFT(O296,LEN(O296)-1),2)))*1","v":0},{"$nulls":6}," Jason Spezza",{"$nulls":7},0,0]
[{"$f":"(IF(ISERROR(VLOOKUP(G297,[1]Choix14!$M$2:$N$14,2,FALSE)&LEFT(J297,4)&RIGHT(LEFT(J297,LEN(J297)-1),2)),0,VLOOKUP(G297,[1]Choix14!$M$2:$N$14,2,FALSE)&LEFT(J297,4)&RIGHT(LEFT(J297,LEN(J297)-1),2)))*1","v":0},{"$f":"(IF(ISERROR(VLOOKUP(L297,[1]Choix14!$M$2:$N$14,2,FALSE)&LEFT(O297,4)&RIGHT(LEFT(O297,LEN(O297)-1),2)),0,VLOOKUP(L297,[1]Choix14!$M$2:$N$14,2,FALSE)&LEFT(O297,4)&RIGHT(LEFT(O297,LEN(O297)-1),2)))*1","v":0},{"$nulls":6}," Philip Larsen",{"$nulls":7},0,0]
[{"$f":"(IF(ISERROR(VLOOKUP(G298,[1]Choix14!$M$2:$N$14,2,FALSE)&LEFT(J298,4)&RIGHT(LEFT(J298,LEN(J298)-1),2)),0,VLOOKUP(G298,[1]Choix14!$M$2:$N$14,2,FALSE)&LEFT(J298,4)&RIGHT(LEFT(J298,LEN(J298)-1),2)))*1","v":0},{"$f":"(IF(ISERROR(VLOOKUP(L298,[1]Choix14!$M$2:$N$14,2,FALSE)&LEFT(O298,4)&RIGHT(LEFT(O298,LEN(O298)-1),2)),0,VLOOKUP(L298,[1]Choix14!$M$2:$N$14,2,FALSE)&LEFT(O298,4)&RIGHT(LEFT(O298,LEN(O298)-1),2)))*1","v":0},{"$nulls":6}," James van Riemsdyk",{"$nulls":7},0,0]
[{"$f":"(IF(ISERROR(VLOOKUP(G299,[1]Choix14!$M$2:$N$14,2,FALSE)&LEFT(J299,4)&RIGHT(LEFT(J299,LEN(J299)-1),2)),0,VLOOKUP(G299,[1]Choix14!$M$2:$N$14,2,FALSE)&LEFT(J299,4)&RIGHT(LEFT(J299,LEN(J299)-1),2)))*1","v":0},{"$f":"(IF(ISERROR(VLOOKUP(L299,[1]Choix14!$M$2:$N$14,2,FALSE)&LEFT(O299,4)&RIGHT(LEFT(O299,LEN(O299)-1),2)),0,VLOOKUP(L299,[1]Choix14!$M$2:$N$14,2,FALSE)&LEFT(O299,4)&RIGHT(LEFT(O299,LEN(O299)-1),2)))*1","v":0},{"$nulls":6}," Victor Hedman",{"$nulls":7},0,0]
[{"$f":"(IF(ISERROR(VLOOKUP(G300,[1]Choix14!$M$2:$N$14,2,FALSE)&LEFT(J300,4)&RIGHT(LEFT(J300,LEN(J300)-1),2)),0,VLOOKUP(G300,[1]Choix14!$M$2:$N$14,2,FALSE)&LEFT(J300,4)&RIGHT(LEFT(J300,LEN(J300)-1),2)))*1","v":0},{"$f":"(IF(ISERROR(VLOOKUP(L300,[1]Choix14!$M$2:$N$14,2,FALSE)&LEFT(O300,4)&RIGHT(LEFT(O300,LEN(O300)-1),2)),0,VLOOKUP(L300,[1]Choix14!$M$2:$N$14,2,FALSE)&LEFT(O300,4)&RIGHT(LEFT(O300,LEN(O300)-1),2)))*1","v":0},{"$nulls":6}," Jimmy Vesey",{"$nulls":7},0,0]
[{"$f":"(IF(ISERROR(VLOOKUP(G301,[1]Choix14!$M$2:$N$14,2,FALSE)&LEFT(J301,4)&RIGHT(LEFT(J301,LEN(J301)-1),2)),0,VLOOKUP(G301,[1]Choix14!$M$2:$N$14,2,FALSE)&LEFT(J301,4)&RIGHT(LEFT(J301,LEN(J301)-1),2)))*1","v":0},{"$f":"(IF(ISERROR(VLOOKUP(L301,[1]Choix14!$M$2:$N$14,2,FALSE)&LEFT(O301,4)&RIGHT(LEFT(O301,LEN(O301)-1),2)),0,VLOOKUP(L301,[1]Choix14!$M$2:$N$14,2,FALSE)&LEFT(O301,4)&RIGHT(LEFT(O301,LEN(O301)-1),2)))*1","v":0},{"$nulls":6}," Luke Glendening",{"$nulls":7},0,0]
[{"$f":"(IF(ISERROR(VLOOKUP(G302,[1]Choix14!$M$2:$N$14,2,FALSE)&LEFT(J302,4)&RIGHT(LEFT(J302,LEN(J302)-1),2)),0,VLOOKUP(G302,[1]Choix14!$M$2:$N$14,2,FALSE)&LEFT(J302,4)&RIGHT(LEFT(J302,LEN(J302)-1),2)))*1","v":0},{"$f":"(IF(ISERROR(VLOOKUP(L302,[1]Choix14!$M$2:$N$14,2,FALSE)&LEFT(O302,4)&RIGHT(LEFT(O302,LEN(O302)-1),2)),0,VLOOKUP(L302,[1]Choix14!$M$2:$N$14,2,FALSE)&LEFT(O302,4)&RIGHT(LEFT(O302,LEN(O302)-1),2)))*1","v":0},{"$nulls":6}," Zack Smith",{"$nulls":7},0,0]
[{"$f":"(IF(ISERROR(VLOOKUP(G303,[1]Choix14!$M$2:$N$14,2,FALSE)&LEFT(J303,4)&RIGHT(LEFT(J303,LEN(J303)-1),2)),0,VLOOKUP(G303,[1]Choix14!$M$2:$N$14,2,FALSE)&LEFT(J303,4)&RIGHT(LEFT(J303,LEN(J303)-1),2)))*1","v":0},{"$f":"(IF(ISERROR(VLOOKUP(L303,[1]Choix14!$M$2:$N$14,2,FALSE)&LEFT(O303,4)&RIGHT(LEFT(O303,LEN(O303)-1),2)),0,VLOOKUP(L303,[1]Choix14!$M$2:$N$14,2,FALSE)&LEFT(O303,4)&RIGHT(LEFT(O303,LEN(O303)-1),2)))*1","v":0},{"$nulls":6}," Tomas Plekanec",{"$nulls":7},0,0]
[{"$f":"(IF(ISERROR(VLOOKUP(G304,[1]Choix14!$M$2:$N$14,2,FALSE)&LEFT(J304,4)&RIGHT(LEFT(J304,LEN(J304)-1),2)),0,VLOOKUP(G304,[1]Choix14!$M$2:$N$14,2,FALSE)&LEFT(J304,4)&RIGHT(LEFT(J304,LEN(J304)-1),2)))*1","v":0},{"$f":"(IF(ISERROR(VLOOKUP(L304,[1]Choix14!$M$2:$N$14,2,FALSE)&LEFT(O304,4)&RIGHT(LEFT(O304,LEN(O304)-1),2)),0,VLOOKUP(L304,[1]Choix14!$M$2:$N$14,2,FALSE)&LEFT(O304,4)&RIGHT(LEFT(O304,LEN(O304)-1),2)))*1","v":0},{"$nulls":6}," Nikita Zaitsev",{"$nulls":7},0,0]
[{"$f":"(IF(ISERROR(VLOOKUP(G305,[1]Choix14!$M$2:$N$14,2,FALSE)&LEFT(J305,4)&RIGHT(LEFT(J305,LEN(J305)-1),2)),0,VLOOKUP(G305,[1]Choix14!$M$2:$N$14,2,FALSE)&LEFT(J305,4)&RIGHT(LEFT(J305,LEN(J305)-1),2)))*1","v":0},{"$f":"(IF(ISERROR(VLOOKUP(L305,[1]Choix14!$M$2:$N$14,2,FALSE)&LEFT(O305,4)&RIGHT(LEFT(O305,LEN(O305)-1),2)),0,VLOOKUP(L305,[1]Choix14!$M$2:$N$14,2,FALSE)&LEFT(O305,4)&RIGHT(LEFT(O305,LEN(O305)-1),2)))*1","v":0},{"$nulls":6}," Zac Dalpe",{"$nulls":7},0,0]
[{"$f":"(IF(ISERROR(VLOOKUP(G306,[1]Choix14!$M$2:$N$14,2,FALSE)&LEFT(J306,4)&RIGHT(LEFT(J306,LEN(J306)-1),2)),0,VLOOKUP(G306,[1]Choix14!$M$2:$N$14,2,FALSE)&LEFT(J306,4)&RIGHT(LEFT(J306,LEN(J306)-1),2)))*1","v":0},{"$f":"(IF(ISERROR(VLOOKUP(L306,[1]Choix14!$M$2:$N$14,2,FALSE)&LEFT(O306,4)&RIGHT(LEFT(O306,LEN(O306)-1),2)),0,VLOOKUP(L306,[1]Choix14!$M$2:$N$14,2,FALSE)&LEFT(O306,4)&RIGHT(LEFT(O306,LEN(O306)-1),2)))*1","v":0},{"$nulls":6}," Evgeny Kuznetsov",{"$nulls":7},0,0]
[{"$f":"(IF(ISERROR(VLOOKUP(G307,[1]Choix14!$M$2:$N$14,2,FALSE)&LEFT(J307,4)&RIGHT(LEFT(J307,LEN(J307)-1),2)),0,VLOOKUP(G307,[1]Choix14!$M$2:$N$14,2,FALSE)&LEFT(J307,4)&RIGHT(LEFT(J307,LEN(J307)-1),2)))*1","v":0},{"$f":"(IF(ISERROR(VLOOKUP(L307,[1]Choix14!$M$2:$N$14,2,FALSE)&LEFT(O307,4)&RIGHT(LEFT(O307,LEN(O307)-1),2)),0,VLOOKUP(L307,[1]Choix14!$M$2:$N$14,2,FALSE)&LEFT(O307,4)&RIGHT(LEFT(O307,LEN(O307)-1),2)))*1","v":0},{"$nulls":6}," Derek Stepan",{"$nulls":7},0,0]
[{"$f":"(IF(ISERROR(VLOOKUP(G308,[1]Choix14!$M$2:$N$14,2,FALSE)&LEFT(J308,4)&RIGHT(LEFT(J308,LEN(J308)-1),2)),0,VLOOKUP(G308,[1]Choix14!$M$2:$N$14,2,FALSE)&LEFT(J308,4)&RIGHT(LEFT(J308,LEN(J308)-1),2)))*1","v":0},{"$f":"(IF(ISERROR(VLOOKUP(L308,[1]Choix14!$M$2:$N$14,2,FALSE)&LEFT(O308,4)&RIGHT(LEFT(O308,LEN(O308)-1),2)),0,VLOOKUP(L308,[1]Choix14!$M$2:$N$14,2,FALSE)&LEFT(O308,4)&RIGHT(LEFT(O308,LEN(O308)-1),2)))*1","v":0},{"$nulls":6}," Tyler Pitlick",{"$nulls":7},0,0]
[{"$f":"(IF(ISERROR(VLOOKUP(G309,[1]Choix14!$M$2:$N$14,2,FALSE)&LEFT(J309,4)&RIGHT(LEFT(J309,LEN(J309)-1),2)),0,VLOOKUP(G309,[1]Choix14!$M$2:$N$14,2,FALSE)&LEFT(J309,4)&RIGHT(LEFT(J309,LEN(J309)-1),2)))*1","v":0},{"$f":"(IF(ISERROR(VLOOKUP(L309,[1]Choix14!$M$2:$N$14,2,FALSE)&LEFT(O309,4)&RIGHT(LEFT(O309,LEN(O309)-1),2)),0,VLOOKUP(L309,[1]Choix14!$M$2:$N$14,2,FALSE)&LEFT(O309,4)&RIGHT(LEFT(O309,LEN(O309)-1),2)))*1","v":0},{"$nulls":6}," Markus Granlund",{"$nulls":7},0,0]
[{"$f":"(IF(ISERROR(VLOOKUP(G310,[1]Choix14!$M$2:$N$14,2,FALSE)&LEFT(J310,4)&RIGHT(LEFT(J310,LEN(J310)-1),2)),0,VLOOKUP(G310,[1]Choix14!$M$2:$N$14,2,FALSE)&LEFT(J310,4)&RIGHT(LEFT(J310,LEN(J310)-1),2)))*1","v":0},{"$f":"(IF(ISERROR(VLOOKUP(L310,[1]Choix14!$M$2:$N$14,2,FALSE)&LEFT(O310,4)&RIGHT(LEFT(O310,LEN(O310)-1),2)),0,VLOOKUP(L310,[1]Choix14!$M$2:$N$14,2,FALSE)&LEFT(O310,4)&RIGHT(LEFT(O310,LEN(O310)-1),2)))*1","v":0},{"$nulls":6}," Nikita Kucherov",{"$nulls":7},0,0]
[{"$f":"(IF(ISERROR(VLOOKUP(G311,[1]Choix14!$M$2:$N$14,2,FALSE)&LEFT(J311,4)&RIGHT(LEFT(J311,LEN(J311)-1),2)),0,VLOOKUP(G311,[1]Choix14!$M$2:$N$14,2,FALSE)&LEFT(J311,4)&RIGHT(LEFT(J311,LEN(J311)-1),2)))*1","v":0},{"$f":"(IF(ISERROR(VLOOKUP(L311,[1]Choix14!$M$2:$N$14,2,FALSE)&LEFT(O311,4)&RIGHT(LEFT(O311,LEN(O311)-1),2)),0,VLOOKUP(L311,[1]Choix14!$M$2:$N$14,2,FALSE)&LEFT(O311,4)&RIGHT(LEFT(O311,LEN(O311)-1),2)))*1","v":0},{"$nulls":6}," Nino Niederreiter",{"$nulls":7},0,0]
[{"$f":"(IF(ISERROR(VLOOKUP(G312,[1]Choix14!$M$2:$N$14,2,FALSE)&LEFT(J312,4)&RIGHT(LEFT(J312,LEN(J312)-1),2)),0,VLOOKUP(G312,[1]Choix14!$M$2:$N$14,2,FALSE)&LEFT(J312,4)&RIGHT(LEFT(J312,LEN(J312)-1),2)))*1","v":0},{"$f":"(IF(ISERROR(VLOOKUP(L312,[1]Choix14!$M$2:$N$14,2,FALSE)&LEFT(O312,4)&RIGHT(LEFT(O312,LEN(O312)-1),2)),0,VLOOKUP(L312,[1]Choix14!$M$2:$N$14,2,FALSE)&LEFT(O312,4)&RIGHT(LEFT(O312,LEN(O312)-1),2)))*1","v":0},{"$nulls":6}," Vincent Trocheck",{"$nulls":7},0,0]
[{"$f":"(IF(ISERROR(VLOOKUP(G313,[1]Choix14!$M$2:$N$14,2,FALSE)&LEFT(J313,4)&RIGHT(LEFT(J313,LEN(J313)-1),2)),0,VLOOKUP(G313,[1]Choix14!$M$2:$N$14,2,FALSE)&LEFT(J313,4)&RIGHT(LEFT(J313,LEN(J313)-1),2)))*1","v":0},{"$f":"(IF(ISERROR(VLOOKUP(L313,[1]Choix14!$M$2:$N$14,2,FALSE)&LEFT(O313,4)&RIGHT(LEFT(O313,LEN(O313)-1),2)),0,VLOOKUP(L313,[1]Choix14!$M$2:$N$14,2,FALSE)&LEFT(O313,4)&RIGHT(LEFT(O313,LEN(O313)-1),2)))*1","v":0},{"$nulls":6}," Mike Ribeiro",{"$nulls":7},0,0]
[{"$f":"(IF(ISERROR(VLOOKUP(G314,[1]Choix14!$M$2:$N$14,2,FALSE)&LEFT(J314,4)&RIGHT(LEFT(J314,LEN(J314)-1),2)),0,VLOOKUP(G314,[1]Choix14!$M$2:$N$14,2,FALSE)&LEFT(J314,4)&RIGHT(LEFT(J314,LEN(J314)-1),2)))*1","v":0},{"$f":"(IF(ISERROR(VLOOKUP(L314,[1]Choix14!$M$2:$N$14,2,FALSE)&LEFT(O314,4)&RIGHT(LEFT(O314,LEN(O314)-1),2)),0,VLOOKUP(L314,[1]Choix14!$M$2:$N$14,2,FALSE)&LEFT(O314,4)&RIGHT(LEFT(O314,LEN(O314)-1),2)))*1","v":0},{"$nulls":6}," Tyler Toffoli",{"$nulls":7},0,0]
[{"$f":"(IF(ISERROR(VLOOKUP(G315,[1]Choix14!$M$2:$N$14,2,FALSE)&LEFT(J315,4)&RIGHT(LEFT(J315,LEN(J315)-1),2)),0,VLOOKUP(G315,[1]Choix14!$M$2:$N$14,2,FALSE)&LEFT(J315,4)&RIGHT(LEFT(J315,LEN(J315)-1),2)))*1","v":0},{"$f":"(IF(ISERROR(VLOOKUP(L315,[1]Choix14!$M$2:$N$14,2,FALSE)&LEFT(O315,4)&RIGHT(LEFT(O315,LEN(O315)-1),2)),0,VLOOKUP(L315,[1]Choix14!$M$2:$N$14,2,FALSE)&LEFT(O315,4)&RIGHT(LEFT(O315,LEN(O315)-1),2)))*1","v":0},{"$nulls":6}," Phillip Danault",{"$nulls":7},0,0]
[{"$f":"(IF(ISERROR(VLOOKUP(G316,[1]Choix14!$M$2:$N$14,2,FALSE)&LEFT(J316,4)&RIGHT(LEFT(J316,LEN(J316)-1),2)),0,VLOOKUP(G316,[1]Choix14!$M$2:$N$14,2,FALSE)&LEFT(J316,4)&RIGHT(LEFT(J316,LEN(J316)-1),2)))*1","v":0},{"$f":"(IF(ISERROR(VLOOKUP(L316,[1]Choix14!$M$2:$N$14,2,FALSE)&LEFT(O316,4)&RIGHT(LEFT(O316,LEN(O316)-1),2)),0,VLOOKUP(L316,[1]Choix14!$M$2:$N$14,2,FALSE)&LEFT(O316,4)&RIGHT(LEFT(O316,LEN(O316)-1),2)))*1","v":0},{"$nulls":6}," Jakob Chychrun",{"$nulls":7},0,0]
[{"$f":"(IF(ISERROR(VLOOKUP(G317,[1]Choix14!$M$2:$N$14,2,FALSE)&LEFT(J317,4)&RIGHT(LEFT(J317,LEN(J317)-1),2)),0,VLOOKUP(G317,[1]Choix14!$M$2:$N$14,2,FALSE)&LEFT(J317,4)&RIGHT(LEFT(J317,LEN(J317)-1),2)))*1","v":0},{"$f":"(IF(ISERROR(VLOOKUP(L317,[1]Choix14!$M$2:$N$14,2,FALSE)&LEFT(O317,4)&RIGHT(LEFT(O317,LEN(O317)-1),2)),0,VLOOKUP(L317,[1]Choix14!$M$2:$N$14,2,FALSE)&LEFT(O317,4)&RIGHT(LEFT(O317,LEN(O317)-1),2)))*1","v":0},{"$nulls":6}," Shane Doan",{"$nulls":7},0,0]
[{"$f":"(IF(ISERROR(VLOOKUP(G318,[1]Choix14!$M$2:$N$14,2,FALSE)&LEFT(J318,4)&RIGHT(LEFT(J318,LEN(J318)-1),2)),0,VLOOKUP(G318,[1]Choix14!$M$2:$N$14,2,FALSE)&LEFT(J318,4)&RIGHT(LEFT(J318,LEN(J318)-1),2)))*1","v":0},{"$f":"(IF(ISERROR(VLOOKUP(L318,[1]Choix14!$M$2:$N$14,2,FALSE)&LEFT(O318,4)&RIGHT(LEFT(O318,LEN(O318)-1),2)),0,VLOOKUP(L318,[1]Choix14!$M$2:$N$14,2,FALSE)&LEFT(O318,4)&RIGHT(LEFT(O318,LEN(O318)-1),2)))*1","v":0},{"$nulls":6}," Cam Atkinson",{"$nulls":7},0,0]
[{"$f":"(IF(ISERROR(VLOOKUP(G319,[1]Choix14!$M$2:$N$14,2,FALSE)&LEFT(J319,4)&RIGHT(LEFT(J319,LEN(J319)-1),2)),0,VLOOKUP(G319,[1]Choix14!$M$2:$N$14,2,FALSE)&LEFT(J319,4)&RIGHT(LEFT(J319,LEN(J319)-1),2)))*1","v":0},{"$f":"(IF(ISERROR(VLOOKUP(L319,[1]Choix14!$M$2:$N$14,2,FALSE)&LEFT(O319,4)&RIGHT(LEFT(O319,LEN(O319)-1),2)),0,VLOOKUP(L319,[1]Choix14!$M$2:$N$14,2,FALSE)&LEFT(O319,4)&RIGHT(LEFT(O319,LEN(O319)-1),2)))*1","v":0},{"$nulls":6}," Gabriel Landeskog",{"$nulls":7},0,0]
[{"$f":"(IF(ISERROR(VLOOKUP(G320,[1]Choix14!$M$2:$N$14,2,FALSE)&LEFT(J320,4)&RIGHT(LEFT(J320,LEN(J320)-1),2)),0,VLOOKUP(G320,[1]Choix14!$M$2:$N$14,2,FALSE)&LEFT(J320,4)&RIGHT(LEFT(J320,LEN(J320)-1),2)))*1","v":0},{"$f":"(IF(ISERROR(VLOOKUP(L320,[1]Choix14!$M$2:$N$14,2,FALSE)&LEFT(O320,4)&RIGHT(LEFT(O320,LEN(O320)-1),2)),0,VLOOKUP(L320,[1]Choix14!$M$2:$N$14,2,FALSE)&LEFT(O320,4)&RIGHT(LEFT(O320,LEN(O320)-1),2)))*1","v":0},{"$nulls":6}," Jesper Fast",{"$nulls":7},0,0]
[{"$f":"(IF(ISERROR(VLOOKUP(G321,[1]Choix14!$M$2:$N$14,2,FALSE)&LEFT(J321,4)&RIGHT(LEFT(J321,LEN(J321)-1),2)),0,VLOOKUP(G321,[1]Choix14!$M$2:$N$14,2,FALSE)&LEFT(J321,4)&RIGHT(LEFT(J321,LEN(J321)-1),2)))*1","v":0},{"$f":"(IF(ISERROR(VLOOKUP(L321,[1]Choix14!$M$2:$N$14,2,FALSE)&LEFT(O321,4)&RIGHT(LEFT(O321,LEN(O321)-1),2)),0,VLOOKUP(L321,[1]Choix14!$M$2:$N$14,2,FALSE)&LEFT(O321,4)&RIGHT(LEFT(O321,LEN(O321)-1),2)))*1","v":0},{"$nulls":6}," Connor Murphy",{"$nulls":7},0,0]
[{"$f":"(IF(ISERROR(VLOOKUP(G322,[1]Choix14!$M$2:$N$14,2,FALSE)&LEFT(J322,4)&RIGHT(LEFT(J322,LEN(J322)-1),2)),0,VLOOKUP(G322,[1]Choix14!$M$2:$N$14,2,FALSE)&LEFT(J322,4)&RIGHT(LEFT(J322,LEN(J322)-1),2)))*1","v":0},{"$f":"(IF(ISERROR(VLOOKUP(L322,[1]Choix14!$M$2:$N$14,2,FALSE)&LEFT(O322,4)&RIGHT(LEFT(O322,LEN(O322)-1),2)),0,VLOOKUP(L322,[1]Choix14!$M$2:$N$14,2,FALSE)&LEFT(O322,4)&RIGHT(LEFT(O322,LEN(O322)-1),2)))*1","v":0},{"$nulls":6}," Micheal Ferland",{"$nulls":7},0,0]
[{"$f":"(IF(ISERROR(VLOOKUP(G323,[1]Choix14!$M$2:$N$14,2,FALSE)&LEFT(J323,4)&RIGHT(LEFT(J323,LEN(J323)-1),2)),0,VLOOKUP(G323,[1]Choix14!$M$2:$N$14,2,FALSE)&LEFT(J323,4)&RIGHT(LEFT(J323,LEN(J323)-1),2)))*1","v":0},{"$f":"(IF(ISERROR(VLOOKUP(L323,[1]Choix14!$M$2:$N$14,2,FALSE)&LEFT(O323,4)&RIGHT(LEFT(O323,LEN(O323)-1),2)),0,VLOOKUP(L323,[1]Choix14!$M$2:$N$14,2,FALSE)&LEFT(O323,4)&RIGHT(LEFT(O323,LEN(O323)-1),2)))*1","v":0},{"$nulls":6}," Taylor Hall",{"$nulls":7},{"$f":"IF(A323<1,0,COUNTIF($A:$B,A323))","v":0},0]
[{"$f":"(IF(ISERROR(VLOOKUP(G324,[1]Choix14!$M$2:$N$14,2,FALSE)&LEFT(J324,4)&RIGHT(LEFT(J324,LEN(J324)-1),2)),0,VLOOKUP(G324,[1]Choix14!$M$2:$N$14,2,FALSE)&LEFT(J324,4)&RIGHT(LEFT(J324,LEN(J324)-1),2)))*1","v":0},{"$f":"(IF(ISERROR(VLOOKUP(L324,[1]Choix14!$M$2:$N$14,2,FALSE)&LEFT(O324,4)&RIGHT(LEFT(O324,LEN(O324)-1),2)),0,VLOOKUP(L324,[1]Choix14!$M$2:$N$14,2,FALSE)&LEFT(O324,4)&RIGHT(LEFT(O324,LEN(O324)-1),2)))*1","v":0},{"$nulls":6}," Johnny Gaudreau",{"$nulls":7},0,0]
[{"$f":"(IF(ISERROR(VLOOKUP(G325,[1]Choix14!$M$2:$N$14,2,FALSE)&LEFT(J325,4)&RIGHT(LEFT(J325,LEN(J325)-1),2)),0,VLOOKUP(G325,[1]Choix14!$M$2:$N$14,2,FALSE)&LEFT(J325,4)&RIGHT(LEFT(J325,LEN(J325)-1),2)))*1","v":0},{"$f":"(IF(ISERROR(VLOOKUP(L325,[1]Choix14!$M$2:$N$14,2,FALSE)&LEFT(O325,4)&RIGHT(LEFT(O325,LEN(O325)-1),2)),0,VLOOKUP(L325,[1]Choix14!$M$2:$N$14,2,FALSE)&LEFT(O325,4)&RIGHT(LEFT(O325,LEN(O325)-1),2)))*1","v":0},{"$nulls":6}," Henrik Zetterberg",{"$nulls":7},0,0]
[{"$f":"(IF(ISERROR(VLOOKUP(G326,[1]Choix14!$M$2:$N$14,2,FALSE)&LEFT(J326,4)&RIGHT(LEFT(J326,LEN(J326)-1),2)),0,VLOOKUP(G326,[1]Choix14!$M$2:$N$14,2,FALSE)&LEFT(J326,4)&RIGHT(LEFT(J326,LEN(J326)-1),2)))*1","v":0},{"$f":"(IF(ISERROR(VLOOKUP(L326,[1]Choix14!$M$2:$N$14,2,FALSE)&LEFT(O326,4)&RIGHT(LEFT(O326,LEN(O326)-1),2)),0,VLOOKUP(L326,[1]Choix14!$M$2:$N$14,2,FALSE)&LEFT(O326,4)&RIGHT(LEFT(O326,LEN(O326)-1),2)))*1","v":0},{"$nulls":6}," Matt Dumba",{"$nulls":7},0,0]
[{"$f":"(IF(ISERROR(VLOOKUP(G327,[1]Choix14!$M$2:$N$14,2,FALSE)&LEFT(J327,4)&RIGHT(LEFT(J327,LEN(J327)-1),2)),0,VLOOKUP(G327,[1]Choix14!$M$2:$N$14,2,FALSE)&LEFT(J327,4)&RIGHT(LEFT(J327,LEN(J327)-1),2)))*1","v":0},{"$f":"(IF(ISERROR(VLOOKUP(L327,[1]Choix14!$M$2:$N$14,2,FALSE)&LEFT(O327,4)&RIGHT(LEFT(O327,LEN(O327)-1),2)),0,VLOOKUP(L327,[1]Choix14!$M$2:$N$14,2,FALSE)&LEFT(O327,4)&RIGHT(LEFT(O327,LEN(O327)-1),2)))*1","v":0},{"$nulls":6}," Kyle Palmieri",{"$nulls":7},0,0]
[{"$f":"(IF(ISERROR(VLOOKUP(G328,[1]Choix14!$M$2:$N$14,2,FALSE)&LEFT(J328,4)&RIGHT(LEFT(J328,LEN(J328)-1),2)),0,VLOOKUP(G328,[1]Choix14!$M$2:$N$14,2,FALSE)&LEFT(J328,4)&RIGHT(LEFT(J328,LEN(J328)-1),2)))*1","v":0},{"$f":"(IF(ISERROR(VLOOKUP(L328,[1]Choix14!$M$2:$N$14,2,FALSE)&LEFT(O328,4)&RIGHT(LEFT(O328,LEN(O328)-1),2)),0,VLOOKUP(L328,[1]Choix14!$M$2:$N$14,2,FALSE)&LEFT(O328,4)&RIGHT(LEFT(O328,LEN(O328)-1),2)))*1","v":0},{"$nulls":6}," Nick Schultz",{"$nulls":7},0,0]
[{"$f":"(IF(ISERROR(VLOOKUP(G329,[1]Choix14!$M$2:$N$14,2,FALSE)&LEFT(J329,4)&RIGHT(LEFT(J329,LEN(J329)-1),2)),0,VLOOKUP(G329,[1]Choix14!$M$2:$N$14,2,FALSE)&LEFT(J329,4)&RIGHT(LEFT(J329,LEN(J329)-1),2)))*1","v":0},{"$f":"(IF(ISERROR(VLOOKUP(L329,[1]Choix14!$M$2:$N$14,2,FALSE)&LEFT(O329,4)&RIGHT(LEFT(O329,LEN(O329)-1),2)),0,VLOOKUP(L329,[1]Choix14!$M$2:$N$14,2,FALSE)&LEFT(O329,4)&RIGHT(LEFT(O329,LEN(O329)-1),2)))*1","v":0},{"$nulls":6}," Mikhail Grigorenko",{"$nulls":7},0,0]
[{"$f":"(IF(ISERROR(VLOOKUP(G330,[1]Choix14!$M$2:$N$14,2,FALSE)&LEFT(J330,4)&RIGHT(LEFT(J330,LEN(J330)-1),2)),0,VLOOKUP(G330,[1]Choix14!$M$2:$N$14,2,FALSE)&LEFT(J330,4)&RIGHT(LEFT(J330,LEN(J330)-1),2)))*1","v":0},{"$f":"(IF(ISERROR(VLOOKUP(L330,[1]Choix14!$M$2:$N$14,2,FALSE)&LEFT(O330,4)&RIGHT(LEFT(O330,LEN(O330)-1),2)),0,VLOOKUP(L330,[1]Choix14!$M$2:$N$14,2,FALSE)&LEFT(O330,4)&RIGHT(LEFT(O330,LEN(O330)-1),2)))*1","v":0},{"$nulls":6}," Teuvo Teravainen",{"$nulls":7},0,0]
[{"$f":"(IF(ISERROR(VLOOKUP(G331,[1]Choix14!$M$2:$N$14,2,FALSE)&LEFT(J331,4)&RIGHT(LEFT(J331,LEN(J331)-1),2)),0,VLOOKUP(G331,[1]Choix14!$M$2:$N$14,2,FALSE)&LEFT(J331,4)&RIGHT(LEFT(J331,LEN(J331)-1),2)))*1","v":0},{"$f":"(IF(ISERROR(VLOOKUP(L331,[1]Choix14!$M$2:$N$14,2,FALSE)&LEFT(O331,4)&RIGHT(LEFT(O331,LEN(O331)-1),2)),0,VLOOKUP(L331,[1]Choix14!$M$2:$N$14,2,FALSE)&LEFT(O331,4)&RIGHT(LEFT(O331,LEN(O331)-1),2)))*1","v":0},{"$nulls":6}," Tomas Hertl",{"$nulls":7},0,0]
[{"$f":"(IF(ISERROR(VLOOKUP(G332,[1]Choix14!$M$2:$N$14,2,FALSE)&LEFT(J332,4)&RIGHT(LEFT(J332,LEN(J332)-1),2)),0,VLOOKUP(G332,[1]Choix14!$M$2:$N$14,2,FALSE)&LEFT(J332,4)&RIGHT(LEFT(J332,LEN(J332)-1),2)))*1","v":0},{"$f":"(IF(ISERROR(VLOOKUP(L332,[1]Choix14!$M$2:$N$14,2,FALSE)&LEFT(O332,4)&RIGHT(LEFT(O332,LEN(O332)-1),2)),0,VLOOKUP(L332,[1]Choix14!$M$2:$N$14,2,FALSE)&LEFT(O332,4)&RIGHT(LEFT(O332,LEN(O332)-1),2)))*1","v":0},{"$nulls":6}," Nazem Kadri",{"$nulls":7},0,0]
[{"$f":"(IF(ISERROR(VLOOKUP(G333,[1]Choix14!$M$2:$N$14,2,FALSE)&LEFT(J333,4)&RIGHT(LEFT(J333,LEN(J333)-1),2)),0,VLOOKUP(G333,[1]Choix14!$M$2:$N$14,2,FALSE)&LEFT(J333,4)&RIGHT(LEFT(J333,LEN(J333)-1),2)))*1","v":0},{"$f":"(IF(ISERROR(VLOOKUP(L333,[1]Choix14!$M$2:$N$14,2,FALSE)&LEFT(O333,4)&RIGHT(LEFT(O333,LEN(O333)-1),2)),0,VLOOKUP(L333,[1]Choix14!$M$2:$N$14,2,FALSE)&LEFT(O333,4)&RIGHT(LEFT(O333,LEN(O333)-1),2)))*1","v":0},{"$nulls":6}," Morgan Rielly",{"$nulls":7},0,0]
[{"$f":"(IF(ISERROR(VLOOKUP(G334,[1]Choix14!$M$2:$N$14,2,FALSE)&LEFT(J334,4)&RIGHT(LEFT(J334,LEN(J334)-1),2)),0,VLOOKUP(G334,[1]Choix14!$M$2:$N$14,2,FALSE)&LEFT(J334,4)&RIGHT(LEFT(J334,LEN(J334)-1),2)))*1","v":0},{"$f":"(IF(ISERROR(VLOOKUP(L334,[1]Choix14!$M$2:$N$14,2,FALSE)&LEFT(O334,4)&RIGHT(LEFT(O334,LEN(O334)-1),2)),0,VLOOKUP(L334,[1]Choix14!$M$2:$N$14,2,FALSE)&LEFT(O334,4)&RIGHT(LEFT(O334,LEN(O334)-1),2)))*1","v":0},{"$nulls":6}," Casey Cizikas",{"$nulls":7},0,0]
[{"$f":"(IF(ISERROR(VLOOKUP(G335,[1]Choix14!$M$2:$N$14,2,FALSE)&LEFT(J335,4)&RIGHT(LEFT(J335,LEN(J335)-1),2)),0,VLOOKUP(G335,[1]Choix14!$M$2:$N$14,2,FALSE)&LEFT(J335,4)&RIGHT(LEFT(J335,LEN(J335)-1),2)))*1","v":0},{"$f":"(IF(ISERROR(VLOOKUP(L335,[1]Choix14!$M$2:$N$14,2,FALSE)&LEFT(O335,4)&RIGHT(LEFT(O335,LEN(O335)-1),2)),0,VLOOKUP(L335,[1]Choix14!$M$2:$N$14,2,FALSE)&LEFT(O335,4)&RIGHT(LEFT(O335,LEN(O335)-1),2)))*1","v":0},{"$nulls":6}," Antoine Roussel",{"$nulls":7},0,0]
[{"$f":"(IF(ISERROR(VLOOKUP(G336,[1]Choix14!$M$2:$N$14,2,FALSE)&LEFT(J336,4)&RIGHT(LEFT(J336,LEN(J336)-1),2)),0,VLOOKUP(G336,[1]Choix14!$M$2:$N$14,2,FALSE)&LEFT(J336,4)&RIGHT(LEFT(J336,LEN(J336)-1),2)))*1","v":0},{"$f":"(IF(ISERROR(VLOOKUP(L336,[1]Choix14!$M$2:$N$14,2,FALSE)&LEFT(O336,4)&RIGHT(LEFT(O336,LEN(O336)-1),2)),0,VLOOKUP(L336,[1]Choix14!$M$2:$N$14,2,FALSE)&LEFT(O336,4)&RIGHT(LEFT(O336,LEN(O336)-1),2)))*1","v":0},{"$nulls":6}," Jyrki Jokipakka",{"$nulls":7},0,0]
[{"$f":"(IF(ISERROR(VLOOKUP(G337,[1]Choix14!$M$2:$N$14,2,FALSE)&LEFT(J337,4)&RIGHT(LEFT(J337,LEN(J337)-1),2)),0,VLOOKUP(G337,[1]Choix14!$M$2:$N$14,2,FALSE)&LEFT(J337,4)&RIGHT(LEFT(J337,LEN(J337)-1),2)))*1","v":0},{"$f":"(IF(ISERROR(VLOOKUP(L337,[1]Choix14!$M$2:$N$14,2,FALSE)&LEFT(O337,4)&RIGHT(LEFT(O337,LEN(O337)-1),2)),0,VLOOKUP(L337,[1]Choix14!$M$2:$N$14,2,FALSE)&LEFT(O337,4)&RIGHT(LEFT(O337,LEN(O337)-1),2)))*1","v":0},{"$nulls":6}," Jaromir Jagr",{"$nulls":7},0,0]
[{"$f":"(IF(ISERROR(VLOOKUP(G338,[1]Choix14!$M$2:$N$14,2,FALSE)&LEFT(J338,4)&RIGHT(LEFT(J338,LEN(J338)-1),2)),0,VLOOKUP(G338,[1]Choix14!$M$2:$N$14,2,FALSE)&LEFT(J338,4)&RIGHT(LEFT(J338,LEN(J338)-1),2)))*1","v":0},{"$f":"(IF(ISERROR(VLOOKUP(L338,[1]Choix14!$M$2:$N$14,2,FALSE)&LEFT(O338,4)&RIGHT(LEFT(O338,LEN(O338)-1),2)),0,VLOOKUP(L338,[1]Choix14!$M$2:$N$14,2,FALSE)&LEFT(O338,4)&RIGHT(LEFT(O338,LEN(O338)-1),2)))*1","v":0},{"$nulls":6}," Brian Gionta",{"$nulls":7},0,0]
[{"$f":"(IF(ISERROR(VLOOKUP(G339,[1]Choix14!$M$2:$N$14,2,FALSE)&LEFT(J339,4)&RIGHT(LEFT(J339,LEN(J339)-1),2)),0,VLOOKUP(G339,[1]Choix14!$M$2:$N$14,2,FALSE)&LEFT(J339,4)&RIGHT(LEFT(J339,LEN(J339)-1),2)))*1","v":0},{"$f":"(IF(ISERROR(VLOOKUP(L339,[1]Choix14!$M$2:$N$14,2,FALSE)&LEFT(O339,4)&RIGHT(LEFT(O339,LEN(O339)-1),2)),0,VLOOKUP(L339,[1]Choix14!$M$2:$N$14,2,FALSE)&LEFT(O339,4)&RIGHT(LEFT(O339,LEN(O339)-1),2)))*1","v":0},{"$nulls":6}," Andrei Markov",{"$nulls":7},0,0]
[{"$f":"(IF(ISERROR(VLOOKUP(G340,[1]Choix14!$M$2:$N$14,2,FALSE)&LEFT(J340,4)&RIGHT(LEFT(J340,LEN(J340)-1),2)),0,VLOOKUP(G340,[1]Choix14!$M$2:$N$14,2,FALSE)&LEFT(J340,4)&RIGHT(LEFT(J340,LEN(J340)-1),2)))*1","v":0},{"$f":"(IF(ISERROR(VLOOKUP(L340,[1]Choix14!$M$2:$N$14,2,FALSE)&LEFT(O340,4)&RIGHT(LEFT(O340,LEN(O340)-1),2)),0,VLOOKUP(L340,[1]Choix14!$M$2:$N$14,2,FALSE)&LEFT(O340,4)&RIGHT(LEFT(O340,LEN(O340)-1),2)))*1","v":0},{"$nulls":6}," Scott Hartnell",{"$nulls":7},0,0]
[{"$f":"(IF(ISERROR(VLOOKUP(G341,[1]Choix14!$M$2:$N$14,2,FALSE)&LEFT(J341,4)&RIGHT(LEFT(J341,LEN(J341)-1),2)),0,VLOOKUP(G341,[1]Choix14!$M$2:$N$14,2,FALSE)&LEFT(J341,4)&RIGHT(LEFT(J341,LEN(J341)-1),2)))*1","v":0},{"$f":"(IF(ISERROR(VLOOKUP(L341,[1]Choix14!$M$2:$N$14,2,FALSE)&LEFT(O341,4)&RIGHT(LEFT(O341,LEN(O341)-1),2)),0,VLOOKUP(L341,[1]Choix14!$M$2:$N$14,2,FALSE)&LEFT(O341,4)&RIGHT(LEFT(O341,LEN(O341)-1),2)))*1","v":0},{"$nulls":6}," Mike Hoffman",{"$nulls":7},0,0]
[{"$f":"(IF(ISERROR(VLOOKUP(G342,[1]Choix14!$M$2:$N$14,2,FALSE)&LEFT(J342,4)&RIGHT(LEFT(J342,LEN(J342)-1),2)),0,VLOOKUP(G342,[1]Choix14!$M$2:$N$14,2,FALSE)&LEFT(J342,4)&RIGHT(LEFT(J342,LEN(J342)-1),2)))*1","v":0},{"$f":"(IF(ISERROR(VLOOKUP(L342,[1]Choix14!$M$2:$N$14,2,FALSE)&LEFT(O342,4)&RIGHT(LEFT(O342,LEN(O342)-1),2)),0,VLOOKUP(L342,[1]Choix14!$M$2:$N$14,2,FALSE)&LEFT(O342,4)&RIGHT(LEFT(O342,LEN(O342)-1),2)))*1","v":0},{"$nulls":6}," Jason Chimera",{"$nulls":7},0,0]
[{"$f":"(IF(ISERROR(VLOOKUP(G343,[1]Choix14!$M$2:$N$14,2,FALSE)&LEFT(J343,4)&RIGHT(LEFT(J343,LEN(J343)-1),2)),0,VLOOKUP(G343,[1]Choix14!$M$2:$N$14,2,FALSE)&LEFT(J343,4)&RIGHT(LEFT(J343,LEN(J343)-1),2)))*1","v":0},{"$f":"(IF(ISERROR(VLOOKUP(L343,[1]Choix14!$M$2:$N$14,2,FALSE)&LEFT(O343,4)&RIGHT(LEFT(O343,LEN(O343)-1),2)),0,VLOOKUP(L343,[1]Choix14!$M$2:$N$14,2,FALSE)&LEFT(O343,4)&RIGHT(LEFT(O343,LEN(O343)-1),2)))*1","v":0},{"$nulls":6}," Mikko Koivu",{"$nulls":7},0,0]
[{"$f":"(IF(ISERROR(VLOOKUP(G344,[1]Choix14!$M$2:$N$14,2,FALSE)&LEFT(J344,4)&RIGHT(LEFT(J344,LEN(J344)-1),2)),0,VLOOKUP(G344,[1]Choix14!$M$2:$N$14,2,FALSE)&LEFT(J344,4)&RIGHT(LEFT(J344,LEN(J344)-1),2)))*1","v":0},{"$f":"(IF(ISERROR(VLOOKUP(L344,[1]Choix14!$M$2:$N$14,2,FALSE)&LEFT(O344,4)&RIGHT(LEFT(O344,LEN(O344)-1),2)),0,VLOOKUP(L344,[1]Choix14!$M$2:$N$14,2,FALSE)&LEFT(O344,4)&RIGHT(LEFT(O344,LEN(O344)-1),2)))*1","v":0},{"$nulls":6}," Bobby Ryan",{"$nulls":7},0,0]
[{"$f":"(IF(ISERROR(VLOOKUP(G345,[1]Choix14!$M$2:$N$14,2,FALSE)&LEFT(J345,4)&RIGHT(LEFT(J345,LEN(J345)-1),2)),0,VLOOKUP(G345,[1]Choix14!$M$2:$N$14,2,FALSE)&LEFT(J345,4)&RIGHT(LEFT(J345,LEN(J345)-1),2)))*1","v":0},{"$f":"(IF(ISERROR(VLOOKUP(L345,[1]Choix14!$M$2:$N$14,2,FALSE)&LEFT(O345,4)&RIGHT(LEFT(O345,LEN(O345)-1),2)),0,VLOOKUP(L345,[1]Choix14!$M$2:$N$14,2,FALSE)&LEFT(O345,4)&RIGHT(LEFT(O345,LEN(O345)-1),2)))*1","v":0},{"$nulls":6}," Ivan Provorov",{"$nulls":7},0,0]
[{"$f":"(IF(ISERROR(VLOOKUP(G346,[1]Choix14!$M$2:$N$14,2,FALSE)&LEFT(J346,4)&RIGHT(LEFT(J346,LEN(J346)-1),2)),0,VLOOKUP(G346,[1]Choix14!$M$2:$N$14,2,FALSE)&LEFT(J346,4)&RIGHT(LEFT(J346,LEN(J346)-1),2)))*1","v":0},{"$f":"(IF(ISERROR(VLOOKUP(L346,[1]Choix14!$M$2:$N$14,2,FALSE)&LEFT(O346,4)&RIGHT(LEFT(O346,LEN(O346)-1),2)),0,VLOOKUP(L346,[1]Choix14!$M$2:$N$14,2,FALSE)&LEFT(O346,4)&RIGHT(LEFT(O346,LEN(O346)-1),2)))*1","v":0},{"$nulls":6}," Matt Stajan",{"$nulls":7},0,0]
[{"$f":"(IF(ISERROR(VLOOKUP(G347,[1]Choix14!$M$2:$N$14,2,FALSE)&LEFT(J347,4)&RIGHT(LEFT(J347,LEN(J347)-1),2)),0,VLOOKUP(G347,[1]Choix14!$M$2:$N$14,2,FALSE)&LEFT(J347,4)&RIGHT(LEFT(J347,LEN(J347)-1),2)))*1","v":0},{"$f":"(IF(ISERROR(VLOOKUP(L347,[1]Choix14!$M$2:$N$14,2,FALSE)&LEFT(O347,4)&RIGHT(LEFT(O347,LEN(O347)-1),2)),0,VLOOKUP(L347,[1]Choix14!$M$2:$N$14,2,FALSE)&LEFT(O347,4)&RIGHT(LEFT(O347,LEN(O347)-1),2)))*1","v":0},{"$nulls":6}," Robby Fabbri",{"$nulls":7},0,0]
[{"$f":"(IF(ISERROR(VLOOKUP(G348,[1]Choix14!$M$2:$N$14,2,FALSE)&LEFT(J348,4)&RIGHT(LEFT(J348,LEN(J348)-1),2)),0,VLOOKUP(G348,[1]Choix14!$M$2:$N$14,2,FALSE)&LEFT(J348,4)&RIGHT(LEFT(J348,LEN(J348)-1),2)))*1","v":0},{"$f":"(IF(ISERROR(VLOOKUP(L348,[1]Choix14!$M$2:$N$14,2,FALSE)&LEFT(O348,4)&RIGHT(LEFT(O348,LEN(O348)-1),2)),0,VLOOKUP(L348,[1]Choix14!$M$2:$N$14,2,FALSE)&LEFT(O348,4)&RIGHT(LEFT(O348,LEN(O348)-1),2)))*1","v":0},{"$nulls":6}," Ryan Kesler",{"$nulls":7},0,0]
[{"$f":"(IF(ISERROR(VLOOKUP(G349,[1]Choix14!$M$2:$N$14,2,FALSE)&LEFT(J349,4)&RIGHT(LEFT(J349,LEN(J349)-1),2)),0,VLOOKUP(G349,[1]Choix14!$M$2:$N$14,2,FALSE)&LEFT(J349,4)&RIGHT(LEFT(J349,LEN(J349)-1),2)))*1","v":0},{"$f":"(IF(ISERROR(VLOOKUP(L349,[1]Choix14!$M$2:$N$14,2,FALSE)&LEFT(O349,4)&RIGHT(LEFT(O349,LEN(O349)-1),2)),0,VLOOKUP(L349,[1]Choix14!$M$2:$N$14,2,FALSE)&LEFT(O349,4)&RIGHT(LEFT(O349,LEN(O349)-1),2)))*1","v":0},{"$nulls":6}," P.A. Parenteau",{"$nulls":7},0,0]
[{"$f":"(IF(ISERROR(VLOOKUP(G350,[1]Choix14!$M$2:$N$14,2,FALSE)&LEFT(J350,4)&RIGHT(LEFT(J350,LEN(J350)-1),2)),0,VLOOKUP(G350,[1]Choix14!$M$2:$N$14,2,FALSE)&LEFT(J350,4)&RIGHT(LEFT(J350,LEN(J350)-1),2)))*1","v":0},{"$f":"(IF(ISERROR(VLOOKUP(L350,[1]Choix14!$M$2:$N$14,2,FALSE)&LEFT(O350,4)&RIGHT(LEFT(O350,LEN(O350)-1),2)),0,VLOOKUP(L350,[1]Choix14!$M$2:$N$14,2,FALSE)&LEFT(O350,4)&RIGHT(LEFT(O350,LEN(O350)-1),2)))*1","v":0},{"$nulls":6}," Tom Pyatt",{"$nulls":7},0,0]
[{"$f":"(IF(ISERROR(VLOOKUP(G351,[1]Choix14!$M$2:$N$14,2,FALSE)&LEFT(J351,4)&RIGHT(LEFT(J351,LEN(J351)-1),2)),0,VLOOKUP(G351,[1]Choix14!$M$2:$N$14,2,FALSE)&LEFT(J351,4)&RIGHT(LEFT(J351,LEN(J351)-1),2)))*1","v":0},{"$f":"(IF(ISERROR(VLOOKUP(L351,[1]Choix14!$M$2:$N$14,2,FALSE)&LEFT(O351,4)&RIGHT(LEFT(O351,LEN(O351)-1),2)),0,VLOOKUP(L351,[1]Choix14!$M$2:$N$14,2,FALSE)&LEFT(O351,4)&RIGHT(LEFT(O351,LEN(O351)-1),2)))*1","v":0},{"$nulls":6}," Jannik Hansen",{"$nulls":7},0,0]
[{"$f":"(IF(ISERROR(VLOOKUP(G352,[1]Choix14!$M$2:$N$14,2,FALSE)&LEFT(J352,4)&RIGHT(LEFT(J352,LEN(J352)-1),2)),0,VLOOKUP(G352,[1]Choix14!$M$2:$N$14,2,FALSE)&LEFT(J352,4)&RIGHT(LEFT(J352,LEN(J352)-1),2)))*1","v":0},{"$f":"(IF(ISERROR(VLOOKUP(L352,[1]Choix14!$M$2:$N$14,2,FALSE)&LEFT(O352,4)&RIGHT(LEFT(O352,LEN(O352)-1),2)),0,VLOOKUP(L352,[1]Choix14!$M$2:$N$14,2,FALSE)&LEFT(O352,4)&RIGHT(LEFT(O352,LEN(O352)-1),2)))*1","v":0},{"$nulls":6}," Erik Johnson",{"$nulls":7},0,0]
[{"$f":"(IF(ISERROR(VLOOKUP(G353,[1]Choix14!$M$2:$N$14,2,FALSE)&LEFT(J353,4)&RIGHT(LEFT(J353,LEN(J353)-1),2)),0,VLOOKUP(G353,[1]Choix14!$M$2:$N$14,2,FALSE)&LEFT(J353,4)&RIGHT(LEFT(J353,LEN(J353)-1),2)))*1","v":0},{"$f":"(IF(ISERROR(VLOOKUP(L353,[1]Choix14!$M$2:$N$14,2,FALSE)&LEFT(O353,4)&RIGHT(LEFT(O353,LEN(O353)-1),2)),0,VLOOKUP(L353,[1]Choix14!$M$2:$N$14,2,FALSE)&LEFT(O353,4)&RIGHT(LEFT(O353,LEN(O353)-1),2)))*1","v":0},{"$nulls":6}," Nicklas Backstrom",{"$nulls":7},0,0]
[{"$f":"(IF(ISERROR(VLOOKUP(G354,[1]Choix14!$M$2:$N$14,2,FALSE)&LEFT(J354,4)&RIGHT(LEFT(J354,LEN(J354)-1),2)),0,VLOOKUP(G354,[1]Choix14!$M$2:$N$14,2,FALSE)&LEFT(J354,4)&RIGHT(LEFT(J354,LEN(J354)-1),2)))*1","v":0},{"$f":"(IF(ISERROR(VLOOKUP(L354,[1]Choix14!$M$2:$N$14,2,FALSE)&LEFT(O354,4)&RIGHT(LEFT(O354,LEN(O354)-1),2)),0,VLOOKUP(L354,[1]Choix14!$M$2:$N$14,2,FALSE)&LEFT(O354,4)&RIGHT(LEFT(O354,LEN(O354)-1),2)))*1","v":0},{"$nulls":6}," Kyle Okposo",{"$nulls":7},0,0]
[{"$f":"(IF(ISERROR(VLOOKUP(G355,[1]Choix14!$M$2:$N$14,2,FALSE)&LEFT(J355,4)&RIGHT(LEFT(J355,LEN(J355)-1),2)),0,VLOOKUP(G355,[1]Choix14!$M$2:$N$14,2,FALSE)&LEFT(J355,4)&RIGHT(LEFT(J355,LEN(J355)-1),2)))*1","v":0},{"$f":"(IF(ISERROR(VLOOKUP(L355,[1]Choix14!$M$2:$N$14,2,FALSE)&LEFT(O355,4)&RIGHT(LEFT(O355,LEN(O355)-1),2)),0,VLOOKUP(L355,[1]Choix14!$M$2:$N$14,2,FALSE)&LEFT(O355,4)&RIGHT(LEFT(O355,LEN(O355)-1),2)))*1","v":0},{"$nulls":6}," Derick Brassard",{"$nulls":7},0,0]
[{"$f":"(IF(ISERROR(VLOOKUP(G356,[1]Choix14!$M$2:$N$14,2,FALSE)&LEFT(J356,4)&RIGHT(LEFT(J356,LEN(J356)-1),2)),0,VLOOKUP(G356,[1]Choix14!$M$2:$N$14,2,FALSE)&LEFT(J356,4)&RIGHT(LEFT(J356,LEN(J356)-1),2)))*1","v":0},{"$f":"(IF(ISERROR(VLOOKUP(L356,[1]Choix14!$M$2:$N$14,2,FALSE)&LEFT(O356,4)&RIGHT(LEFT(O356,LEN(O356)-1),2)),0,VLOOKUP(L356,[1]Choix14!$M$2:$N$14,2,FALSE)&LEFT(O356,4)&RIGHT(LEFT(O356,LEN(O356)-1),2)))*1","v":0},{"$nulls":6}," Travis Zajac",{"$nulls":7},0,0]
[{"$f":"(IF(ISERROR(VLOOKUP(G357,[1]Choix14!$M$2:$N$14,2,FALSE)&LEFT(J357,4)&RIGHT(LEFT(J357,LEN(J357)-1),2)),0,VLOOKUP(G357,[1]Choix14!$M$2:$N$14,2,FALSE)&LEFT(J357,4)&RIGHT(LEFT(J357,LEN(J357)-1),2)))*1","v":0},{"$f":"(IF(ISERROR(VLOOKUP(L357,[1]Choix14!$M$2:$N$14,2,FALSE)&LEFT(O357,4)&RIGHT(LEFT(O357,LEN(O357)-1),2)),0,VLOOKUP(L357,[1]Choix14!$M$2:$N$14,2,FALSE)&LEFT(O357,4)&RIGHT(LEFT(O357,LEN(O357)-1),2)))*1","v":0},{"$nulls":6}," Andrew Cogliano",{"$nulls":7},0,0]
[{"$f":"(IF(ISERROR(VLOOKUP(G358,[1]Choix14!$M$2:$N$14,2,FALSE)&LEFT(J358,4)&RIGHT(LEFT(J358,LEN(J358)-1),2)),0,VLOOKUP(G358,[1]Choix14!$M$2:$N$14,2,FALSE)&LEFT(J358,4)&RIGHT(LEFT(J358,LEN(J358)-1),2)))*1","v":0},{"$f":"(IF(ISERROR(VLOOKUP(L358,[1]Choix14!$M$2:$N$14,2,FALSE)&LEFT(O358,4)&RIGHT(LEFT(O358,LEN(O358)-1),2)),0,VLOOKUP(L358,[1]Choix14!$M$2:$N$14,2,FALSE)&LEFT(O358,4)&RIGHT(LEFT(O358,LEN(O358)-1),2)))*1","v":0},{"$nulls":6}," Matt Niskanen",{"$nulls":7},0,0]
[{"$f":"(IF(ISERROR(VLOOKUP(G359,[1]Choix14!$M$2:$N$14,2,FALSE)&LEFT(J359,4)&RIGHT(LEFT(J359,LEN(J359)-1),2)),0,VLOOKUP(G359,[1]Choix14!$M$2:$N$14,2,FALSE)&LEFT(J359,4)&RIGHT(LEFT(J359,LEN(J359)-1),2)))*1","v":0},{"$f":"(IF(ISERROR(VLOOKUP(L359,[1]Choix14!$M$2:$N$14,2,FALSE)&LEFT(O359,4)&RIGHT(LEFT(O359,LEN(O359)-1),2)),0,VLOOKUP(L359,[1]Choix14!$M$2:$N$14,2,FALSE)&LEFT(O359,4)&RIGHT(LEFT(O359,LEN(O359)-1),2)))*1","v":0},{"$nulls":6}," Phil Kessel",{"$nulls":7},0,0]
[{"$f":"(IF(ISERROR(VLOOKUP(G360,[1]Choix14!$M$2:$N$14,2,FALSE)&LEFT(J360,4)&RIGHT(LEFT(J360,LEN(J360)-1),2)),0,VLOOKUP(G360,[1]Choix14!$M$2:$N$14,2,FALSE)&LEFT(J360,4)&RIGHT(LEFT(J360,LEN(J360)-1),2)))*1","v":0},{"$f":"(IF(ISERROR(VLOOKUP(L360,[1]Choix14!$M$2:$N$14,2,FALSE)&LEFT(O360,4)&RIGHT(LEFT(O360,LEN(O360)-1),2)),0,VLOOKUP(L360,[1]Choix14!$M$2:$N$14,2,FALSE)&LEFT(O360,4)&RIGHT(LEFT(O360,LEN(O360)-1),2)))*1","v":0},{"$nulls":6}," Rick Nash",{"$nulls":7},0,0]
[{"$f":"(IF(ISERROR(VLOOKUP(G361,[1]Choix14!$M$2:$N$14,2,FALSE)&LEFT(J361,4)&RIGHT(LEFT(J361,LEN(J361)-1),2)),0,VLOOKUP(G361,[1]Choix14!$M$2:$N$14,2,FALSE)&LEFT(J361,4)&RIGHT(LEFT(J361,LEN(J361)-1),2)))*1","v":0},{"$f":"(IF(ISERROR(VLOOKUP(L361,[1]Choix14!$M$2:$N$14,2,FALSE)&LEFT(O361,4)&RIGHT(LEFT(O361,LEN(O361)-1),2)),0,VLOOKUP(L361,[1]Choix14!$M$2:$N$14,2,FALSE)&LEFT(O361,4)&RIGHT(LEFT(O361,LEN(O361)-1),2)))*1","v":0},{"$nulls":6}," Artturi Lehkonen",{"$nulls":7},0,0]
[{"$f":"(IF(ISERROR(VLOOKUP(G362,[1]Choix14!$M$2:$N$14,2,FALSE)&LEFT(J362,4)&RIGHT(LEFT(J362,LEN(J362)-1),2)),0,VLOOKUP(G362,[1]Choix14!$M$2:$N$14,2,FALSE)&LEFT(J362,4)&RIGHT(LEFT(J362,LEN(J362)-1),2)))*1","v":0},{"$f":"(IF(ISERROR(VLOOKUP(L362,[1]Choix14!$M$2:$N$14,2,FALSE)&LEFT(O362,4)&RIGHT(LEFT(O362,LEN(O362)-1),2)),0,VLOOKUP(L362,[1]Choix14!$M$2:$N$14,2,FALSE)&LEFT(O362,4)&RIGHT(LEFT(O362,LEN(O362)-1),2)))*1","v":0},{"$nulls":6}," Dennis Wideman",{"$nulls":7},0,0]
[{"$f":"(IF(ISERROR(VLOOKUP(G363,[1]Choix14!$M$2:$N$14,2,FALSE)&LEFT(J363,4)&RIGHT(LEFT(J363,LEN(J363)-1),2)),0,VLOOKUP(G363,[1]Choix14!$M$2:$N$14,2,FALSE)&LEFT(J363,4)&RIGHT(LEFT(J363,LEN(J363)-1),2)))*1","v":0},{"$f":"(IF(ISERROR(VLOOKUP(L363,[1]Choix14!$M$2:$N$14,2,FALSE)&LEFT(O363,4)&RIGHT(LEFT(O363,LEN(O363)-1),2)),0,VLOOKUP(L363,[1]Choix14!$M$2:$N$14,2,FALSE)&LEFT(O363,4)&RIGHT(LEFT(O363,LEN(O363)-1),2)))*1","v":0},{"$nulls":6}," Frans Nielsen",{"$nulls":7},0,0]
[{"$f":"(IF(ISERROR(VLOOKUP(G364,[1]Choix14!$M$2:$N$14,2,FALSE)&LEFT(J364,4)&RIGHT(LEFT(J364,LEN(J364)-1),2)),0,VLOOKUP(G364,[1]Choix14!$M$2:$N$14,2,FALSE)&LEFT(J364,4)&RIGHT(LEFT(J364,LEN(J364)-1),2)))*1","v":0},{"$f":"(IF(ISERROR(VLOOKUP(L364,[1]Choix14!$M$2:$N$14,2,FALSE)&LEFT(O364,4)&RIGHT(LEFT(O364,LEN(O364)-1),2)),0,VLOOKUP(L364,[1]Choix14!$M$2:$N$14,2,FALSE)&LEFT(O364,4)&RIGHT(LEFT(O364,LEN(O364)-1),2)))*1","v":0},{"$nulls":6}," Sean Monahan",{"$nulls":7},0,0]
[{"$f":"(IF(ISERROR(VLOOKUP(G365,[1]Choix14!$M$2:$N$14,2,FALSE)&LEFT(J365,4)&RIGHT(LEFT(J365,LEN(J365)-1),2)),0,VLOOKUP(G365,[1]Choix14!$M$2:$N$14,2,FALSE)&LEFT(J365,4)&RIGHT(LEFT(J365,LEN(J365)-1),2)))*1","v":0},{"$f":"(IF(ISERROR(VLOOKUP(L365,[1]Choix14!$M$2:$N$14,2,FALSE)&LEFT(O365,4)&RIGHT(LEFT(O365,LEN(O365)-1),2)),0,VLOOKUP(L365,[1]Choix14!$M$2:$N$14,2,FALSE)&LEFT(O365,4)&RIGHT(LEFT(O365,LEN(O365)-1),2)))*1","v":0},{"$nulls":6}," Sam Bennett",{"$nulls":7},0,0]
[{"$f":"(IF(ISERROR(VLOOKUP(G366,[1]Choix14!$M$2:$N$14,2,FALSE)&LEFT(J366,4)&RIGHT(LEFT(J366,LEN(J366)-1),2)),0,VLOOKUP(G366,[1]Choix14!$M$2:$N$14,2,FALSE)&LEFT(J366,4)&RIGHT(LEFT(J366,LEN(J366)-1),2)))*1","v":0},{"$f":"(IF(ISERROR(VLOOKUP(L366,[1]Choix14!$M$2:$N$14,2,FALSE)&LEFT(O366,4)&RIGHT(LEFT(O366,LEN(O366)-1),2)),0,VLOOKUP(L366,[1]Choix14!$M$2:$N$14,2,FALSE)&LEFT(O366,4)&RIGHT(LEFT(O366,LEN(O366)-1),2)))*1","v":0},{"$nulls":6}," Adam Cracknell",{"$nulls":7},0,0]
[{"$f":"(IF(ISERROR(VLOOKUP(G367,[1]Choix14!$M$2:$N$14,2,FALSE)&LEFT(J367,4)&RIGHT(LEFT(J367,LEN(J367)-1),2)),0,VLOOKUP(G367,[1]Choix14!$M$2:$N$14,2,FALSE)&LEFT(J367,4)&RIGHT(LEFT(J367,LEN(J367)-1),2)))*1","v":0},{"$f":"(IF(ISERROR(VLOOKUP(L367,[1]Choix14!$M$2:$N$14,2,FALSE)&LEFT(O367,4)&RIGHT(LEFT(O367,LEN(O367)-1),2)),0,VLOOKUP(L367,[1]Choix14!$M$2:$N$14,2,FALSE)&LEFT(O367,4)&RIGHT(LEFT(O367,LEN(O367)-1),2)))*1","v":0},{"$nulls":6}," Patrick Eaves",{"$nulls":7},0,0]
[{"$f":"(IF(ISERROR(VLOOKUP(G368,[1]Choix14!$M$2:$N$14,2,FALSE)&LEFT(J368,4)&RIGHT(LEFT(J368,LEN(J368)-1),2)),0,VLOOKUP(G368,[1]Choix14!$M$2:$N$14,2,FALSE)&LEFT(J368,4)&RIGHT(LEFT(J368,LEN(J368)-1),2)))*1","v":0},{"$f":"(IF(ISERROR(VLOOKUP(L368,[1]Choix14!$M$2:$N$14,2,FALSE)&LEFT(O368,4)&RIGHT(LEFT(O368,LEN(O368)-1),2)),0,VLOOKUP(L368,[1]Choix14!$M$2:$N$14,2,FALSE)&LEFT(O368,4)&RIGHT(LEFT(O368,LEN(O368)-1),2)))*1","v":0},{"$nulls":6}," Mitchell Marner",{"$nulls":7},0,0]
[{"$f":"(IF(ISERROR(VLOOKUP(G369,[1]Choix14!$M$2:$N$14,2,FALSE)&LEFT(J369,4)&RIGHT(LEFT(J369,LEN(J369)-1),2)),0,VLOOKUP(G369,[1]Choix14!$M$2:$N$14,2,FALSE)&LEFT(J369,4)&RIGHT(LEFT(J369,LEN(J369)-1),2)))*1","v":0},{"$f":"(IF(ISERROR(VLOOKUP(L369,[1]Choix14!$M$2:$N$14,2,FALSE)&LEFT(O369,4)&RIGHT(LEFT(O369,LEN(O369)-1),2)),0,VLOOKUP(L369,[1]Choix14!$M$2:$N$14,2,FALSE)&LEFT(O369,4)&RIGHT(LEFT(O369,LEN(O369)-1),2)))*1","v":0},{"$nulls":6}," Michael Grabner",{"$nulls":7},0,0]
[{"$f":"(IF(ISERROR(VLOOKUP(G370,[1]Choix14!$M$2:$N$14,2,FALSE)&LEFT(J370,4)&RIGHT(LEFT(J370,LEN(J370)-1),2)),0,VLOOKUP(G370,[1]Choix14!$M$2:$N$14,2,FALSE)&LEFT(J370,4)&RIGHT(LEFT(J370,LEN(J370)-1),2)))*1","v":0},{"$f":"(IF(ISERROR(VLOOKUP(L370,[1]Choix14!$M$2:$N$14,2,FALSE)&LEFT(O370,4)&RIGHT(LEFT(O370,LEN(O370)-1),2)),0,VLOOKUP(L370,[1]Choix14!$M$2:$N$14,2,FALSE)&LEFT(O370,4)&RIGHT(LEFT(O370,LEN(O370)-1),2)))*1","v":0},{"$nulls":6}," Seth Jones",{"$nulls":7},0,0]
[{"$f":"(IF(ISERROR(VLOOKUP(G371,[1]Choix14!$M$2:$N$14,2,FALSE)&LEFT(J371,4)&RIGHT(LEFT(J371,LEN(J371)-1),2)),0,VLOOKUP(G371,[1]Choix14!$M$2:$N$14,2,FALSE)&LEFT(J371,4)&RIGHT(LEFT(J371,LEN(J371)-1),2)))*1","v":0},{"$f":"(IF(ISERROR(VLOOKUP(L371,[1]Choix14!$M$2:$N$14,2,FALSE)&LEFT(O371,4)&RIGHT(LEFT(O371,LEN(O371)-1),2)),0,VLOOKUP(L371,[1]Choix14!$M$2:$N$14,2,FALSE)&LEFT(O371,4)&RIGHT(LEFT(O371,LEN(O371)-1),2)))*1","v":0},{"$nulls":6}," Darnell Nurse",{"$nulls":7},0,0]
[{"$f":"(IF(ISERROR(VLOOKUP(G372,[1]Choix14!$M$2:$N$14,2,FALSE)&LEFT(J372,4)&RIGHT(LEFT(J372,LEN(J372)-1),2)),0,VLOOKUP(G372,[1]Choix14!$M$2:$N$14,2,FALSE)&LEFT(J372,4)&RIGHT(LEFT(J372,LEN(J372)-1),2)))*1","v":0},{"$f":"(IF(ISERROR(VLOOKUP(L372,[1]Choix14!$M$2:$N$14,2,FALSE)&LEFT(O372,4)&RIGHT(LEFT(O372,LEN(O372)-1),2)),0,VLOOKUP(L372,[1]Choix14!$M$2:$N$14,2,FALSE)&LEFT(O372,4)&RIGHT(LEFT(O372,LEN(O372)-1),2)))*1","v":0},{"$nulls":6}," Carl Soderberg",{"$nulls":7},0,0]
[{"$f":"(IF(ISERROR(VLOOKUP(G373,[1]Choix14!$M$2:$N$14,2,FALSE)&LEFT(J373,4)&RIGHT(LEFT(J373,LEN(J373)-1),2)),0,VLOOKUP(G373,[1]Choix14!$M$2:$N$14,2,FALSE)&LEFT(J373,4)&RIGHT(LEFT(J373,LEN(J373)-1),2)))*1","v":0},{"$f":"(IF(ISERROR(VLOOKUP(L373,[1]Choix14!$M$2:$N$14,2,FALSE)&LEFT(O373,4)&RIGHT(LEFT(O373,LEN(O373)-1),2)),0,VLOOKUP(L373,[1]Choix14!$M$2:$N$14,2,FALSE)&LEFT(O373,4)&RIGHT(LEFT(O373,LEN(O373)-1),2)))*1","v":0},{"$nulls":6}," Chris Stewart",{"$nulls":7},0,0]
[{"$f":"(IF(ISERROR(VLOOKUP(G374,[1]Choix14!$M$2:$N$14,2,FALSE)&LEFT(J374,4)&RIGHT(LEFT(J374,LEN(J374)-1),2)),0,VLOOKUP(G374,[1]Choix14!$M$2:$N$14,2,FALSE)&LEFT(J374,4)&RIGHT(LEFT(J374,LEN(J374)-1),2)))*1","v":0},{"$f":"(IF(ISERROR(VLOOKUP(L374,[1]Choix14!$M$2:$N$14,2,FALSE)&LEFT(O374,4)&RIGHT(LEFT(O374,LEN(O374)-1),2)),0,VLOOKUP(L374,[1]Choix14!$M$2:$N$14,2,FALSE)&LEFT(O374,4)&RIGHT(LEFT(O374,LEN(O374)-1),2)))*1","v":0},{"$nulls":6}," Bo Horvat",{"$nulls":7},0,0]
[{"$f":"(IF(ISERROR(VLOOKUP(G375,[1]Choix14!$M$2:$N$14,2,FALSE)&LEFT(J375,4)&RIGHT(LEFT(J375,LEN(J375)-1),2)),0,VLOOKUP(G375,[1]Choix14!$M$2:$N$14,2,FALSE)&LEFT(J375,4)&RIGHT(LEFT(J375,LEN(J375)-1),2)))*1","v":0},{"$f":"(IF(ISERROR(VLOOKUP(L375,[1]Choix14!$M$2:$N$14,2,FALSE)&LEFT(O375,4)&RIGHT(LEFT(O375,LEN(O375)-1),2)),0,VLOOKUP(L375,[1]Choix14!$M$2:$N$14,2,FALSE)&LEFT(O375,4)&RIGHT(LEFT(O375,LEN(O375)-1),2)))*1","v":0},{"$nulls":6}," Conor Sheary",{"$nulls":7},0,0]
[{"$f":"(IF(ISERROR(VLOOKUP(G376,[1]Choix14!$M$2:$N$14,2,FALSE)&LEFT(J376,4)&RIGHT(LEFT(J376,LEN(J376)-1),2)),0,VLOOKUP(G376,[1]Choix14!$M$2:$N$14,2,FALSE)&LEFT(J376,4)&RIGHT(LEFT(J376,LEN(J376)-1),2)))*1","v":0},{"$f":"(IF(ISERROR(VLOOKUP(L376,[1]Choix14!$M$2:$N$14,2,FALSE)&LEFT(O376,4)&RIGHT(LEFT(O376,LEN(O376)-1),2)),0,VLOOKUP(L376,[1]Choix14!$M$2:$N$14,2,FALSE)&LEFT(O376,4)&RIGHT(LEFT(O376,LEN(O376)-1),2)))*1","v":0},{"$nulls":6}," Patrik Berglund",{"$nulls":7},0,0]
[{"$f":"(IF(ISERROR(VLOOKUP(G377,[1]Choix14!$M$2:$N$14,2,FALSE)&LEFT(J377,4)&RIGHT(LEFT(J377,LEN(J377)-1),2)),0,VLOOKUP(G377,[1]Choix14!$M$2:$N$14,2,FALSE)&LEFT(J377,4)&RIGHT(LEFT(J377,LEN(J377)-1),2)))*1","v":0},{"$f":"(IF(ISERROR(VLOOKUP(L377,[1]Choix14!$M$2:$N$14,2,FALSE)&LEFT(O377,4)&RIGHT(LEFT(O377,LEN(O377)-1),2)),0,VLOOKUP(L377,[1]Choix14!$M$2:$N$14,2,FALSE)&LEFT(O377,4)&RIGHT(LEFT(O377,LEN(O377)-1),2)))*1","v":0},{"$nulls":6}," Torrey Mitchell",{"$nulls":7},0,0]
[{"$f":"(IF(ISERROR(VLOOKUP(G378,[1]Choix14!$M$2:$N$14,2,FALSE)&LEFT(J378,4)&RIGHT(LEFT(J378,LEN(J378)-1),2)),0,VLOOKUP(G378,[1]Choix14!$M$2:$N$14,2,FALSE)&LEFT(J378,4)&RIGHT(LEFT(J378,LEN(J378)-1),2)))*1","v":0},{"$f":"(IF(ISERROR(VLOOKUP(L378,[1]Choix14!$M$2:$N$14,2,FALSE)&LEFT(O378,4)&RIGHT(LEFT(O378,LEN(O378)-1),2)),0,VLOOKUP(L378,[1]Choix14!$M$2:$N$14,2,FALSE)&LEFT(O378,4)&RIGHT(LEFT(O378,LEN(O378)-1),2)))*1","v":0},{"$nulls":6}," Kris Russell",{"$nulls":7},0,0]
[{"$f":"(IF(ISERROR(VLOOKUP(G379,[1]Choix14!$M$2:$N$14,2,FALSE)&LEFT(J379,4)&RIGHT(LEFT(J379,LEN(J379)-1),2)),0,VLOOKUP(G379,[1]Choix14!$M$2:$N$14,2,FALSE)&LEFT(J379,4)&RIGHT(LEFT(J379,LEN(J379)-1),2)))*1","v":0},{"$f":"(IF(ISERROR(VLOOKUP(L379,[1]Choix14!$M$2:$N$14,2,FALSE)&LEFT(O379,4)&RIGHT(LEFT(O379,LEN(O379)-1),2)),0,VLOOKUP(L379,[1]Choix14!$M$2:$N$14,2,FALSE)&LEFT(O379,4)&RIGHT(LEFT(O379,LEN(O379)-1),2)))*1","v":0},{"$nulls":6}," Kris Versteeg",{"$nulls":7},0,0]
[{"$f":"(IF(ISERROR(VLOOKUP(G380,[1]Choix14!$M$2:$N$14,2,FALSE)&LEFT(J380,4)&RIGHT(LEFT(J380,LEN(J380)-1),2)),0,VLOOKUP(G380,[1]Choix14!$M$2:$N$14,2,FALSE)&LEFT(J380,4)&RIGHT(LEFT(J380,LEN(J380)-1),2)))*1","v":0},{"$f":"(IF(ISERROR(VLOOKUP(L380,[1]Choix14!$M$2:$N$14,2,FALSE)&LEFT(O380,4)&RIGHT(LEFT(O380,LEN(O380)-1),2)),0,VLOOKUP(L380,[1]Choix14!$M$2:$N$14,2,FALSE)&LEFT(O380,4)&RIGHT(LEFT(O380,LEN(O380)-1),2)))*1","v":0},{"$nulls":6}," Benoit Pouliot",{"$nulls":7},0,0]
[{"$f":"(IF(ISERROR(VLOOKUP(G381,[1]Choix14!$M$2:$N$14,2,FALSE)&LEFT(J381,4)&RIGHT(LEFT(J381,LEN(J381)-1),2)),0,VLOOKUP(G381,[1]Choix14!$M$2:$N$14,2,FALSE)&LEFT(J381,4)&RIGHT(LEFT(J381,LEN(J381)-1),2)))*1","v":0},{"$f":"(IF(ISERROR(VLOOKUP(L381,[1]Choix14!$M$2:$N$14,2,FALSE)&LEFT(O381,4)&RIGHT(LEFT(O381,LEN(O381)-1),2)),0,VLOOKUP(L381,[1]Choix14!$M$2:$N$14,2,FALSE)&LEFT(O381,4)&RIGHT(LEFT(O381,LEN(O381)-1),2)))*1","v":0},{"$nulls":6}," Devin Setoguchi",{"$nulls":7},0,0]
[{"$f":"(IF(ISERROR(VLOOKUP(G382,[1]Choix14!$M$2:$N$14,2,FALSE)&LEFT(J382,4)&RIGHT(LEFT(J382,LEN(J382)-1),2)),0,VLOOKUP(G382,[1]Choix14!$M$2:$N$14,2,FALSE)&LEFT(J382,4)&RIGHT(LEFT(J382,LEN(J382)-1),2)))*1","v":0},{"$f":"(IF(ISERROR(VLOOKUP(L382,[1]Choix14!$M$2:$N$14,2,FALSE)&LEFT(O382,4)&RIGHT(LEFT(O382,LEN(O382)-1),2)),0,VLOOKUP(L382,[1]Choix14!$M$2:$N$14,2,FALSE)&LEFT(O382,4)&RIGHT(LEFT(O382,LEN(O382)-1),2)))*1","v":0},{"$nulls":6}," Martin Hanzal",{"$nulls":7},0,0]
[{"$f":"(IF(ISERROR(VLOOKUP(G383,[1]Choix14!$M$2:$N$14,2,FALSE)&LEFT(J383,4)&RIGHT(LEFT(J383,LEN(J383)-1),2)),0,VLOOKUP(G383,[1]Choix14!$M$2:$N$14,2,FALSE)&LEFT(J383,4)&RIGHT(LEFT(J383,LEN(J383)-1),2)))*1","v":0},{"$f":"(IF(ISERROR(VLOOKUP(L383,[1]Choix14!$M$2:$N$14,2,FALSE)&LEFT(O383,4)&RIGHT(LEFT(O383,LEN(O383)-1),2)),0,VLOOKUP(L383,[1]Choix14!$M$2:$N$14,2,FALSE)&LEFT(O383,4)&RIGHT(LEFT(O383,LEN(O383)-1),2)))*1","v":0},{"$nulls":6}," T.J. Oshie",{"$nulls":7},0,0]
[{"$f":"(IF(ISERROR(VLOOKUP(G384,[1]Choix14!$M$2:$N$14,2,FALSE)&LEFT(J384,4)&RIGHT(LEFT(J384,LEN(J384)-1),2)),0,VLOOKUP(G384,[1]Choix14!$M$2:$N$14,2,FALSE)&LEFT(J384,4)&RIGHT(LEFT(J384,LEN(J384)-1),2)))*1","v":0},{"$f":"(IF(ISERROR(VLOOKUP(L384,[1]Choix14!$M$2:$N$14,2,FALSE)&LEFT(O384,4)&RIGHT(LEFT(O384,LEN(O384)-1),2)),0,VLOOKUP(L384,[1]Choix14!$M$2:$N$14,2,FALSE)&LEFT(O384,4)&RIGHT(LEFT(O384,LEN(O384)-1),2)))*1","v":0},{"$nulls":6}," Marcus Kruger",{"$nulls":7},0,0]
[{"$f":"(IF(ISERROR(VLOOKUP(G385,[1]Choix14!$M$2:$N$14,2,FALSE)&LEFT(J385,4)&RIGHT(LEFT(J385,LEN(J385)-1),2)),0,VLOOKUP(G385,[1]Choix14!$M$2:$N$14,2,FALSE)&LEFT(J385,4)&RIGHT(LEFT(J385,LEN(J385)-1),2)))*1","v":0},{"$f":"(IF(ISERROR(VLOOKUP(L385,[1]Choix14!$M$2:$N$14,2,FALSE)&LEFT(O385,4)&RIGHT(LEFT(O385,LEN(O385)-1),2)),0,VLOOKUP(L385,[1]Choix14!$M$2:$N$14,2,FALSE)&LEFT(O385,4)&RIGHT(LEFT(O385,LEN(O385)-1),2)))*1","v":0},{"$nulls":6}," Sam Reinhart",{"$nulls":7},0,0]
[{"$f":"(IF(ISERROR(VLOOKUP(G386,[1]Choix14!$M$2:$N$14,2,FALSE)&LEFT(J386,4)&RIGHT(LEFT(J386,LEN(J386)-1),2)),0,VLOOKUP(G386,[1]Choix14!$M$2:$N$14,2,FALSE)&LEFT(J386,4)&RIGHT(LEFT(J386,LEN(J386)-1),2)))*1","v":0},{"$f":"(IF(ISERROR(VLOOKUP(L386,[1]Choix14!$M$2:$N$14,2,FALSE)&LEFT(O386,4)&RIGHT(LEFT(O386,LEN(O386)-1),2)),0,VLOOKUP(L386,[1]Choix14!$M$2:$N$14,2,FALSE)&LEFT(O386,4)&RIGHT(LEFT(O386,LEN(O386)-1),2)))*1","v":0},{"$nulls":6}," Blake Comeau",{"$nulls":7},0,0]
[{"$f":"(IF(ISERROR(VLOOKUP(G387,[1]Choix14!$M$2:$N$14,2,FALSE)&LEFT(J387,4)&RIGHT(LEFT(J387,LEN(J387)-1),2)),0,VLOOKUP(G387,[1]Choix14!$M$2:$N$14,2,FALSE)&LEFT(J387,4)&RIGHT(LEFT(J387,LEN(J387)-1),2)))*1","v":0},{"$f":"(IF(ISERROR(VLOOKUP(L387,[1]Choix14!$M$2:$N$14,2,FALSE)&LEFT(O387,4)&RIGHT(LEFT(O387,LEN(O387)-1),2)),0,VLOOKUP(L387,[1]Choix14!$M$2:$N$14,2,FALSE)&LEFT(O387,4)&RIGHT(LEFT(O387,LEN(O387)-1),2)))*1","v":0},{"$nulls":6}," Tomas Tatar",{"$nulls":7},{"$f":"IF(A387<1,0,COUNTIF($A:$B,A387))","v":0},0]
[{"$f":"(IF(ISERROR(VLOOKUP(G388,[1]Choix14!$M$2:$N$14,2,FALSE)&LEFT(J388,4)&RIGHT(LEFT(J388,LEN(J388)-1),2)),0,VLOOKUP(G388,[1]Choix14!$M$2:$N$14,2,FALSE)&LEFT(J388,4)&RIGHT(LEFT(J388,LEN(J388)-1),2)))*1","v":0},{"$f":"(IF(ISERROR(VLOOKUP(L388,[1]Choix14!$M$2:$N$14,2,FALSE)&LEFT(O388,4)&RIGHT(LEFT(O388,LEN(O388)-1),2)),0,VLOOKUP(L388,[1]Choix14!$M$2:$N$14,2,FALSE)&LEFT(O388,4)&RIGHT(LEFT(O388,LEN(O388)-1),2)))*1","v":0},{"$nulls":6}," Chris Wideman",{"$nulls":7},0,0]
[{"$f":"(IF(ISERROR(VLOOKUP(G389,[1]Choix14!$M$2:$N$14,2,FALSE)&LEFT(J389,4)&RIGHT(LEFT(J389,LEN(J389)-1),2)),0,VLOOKUP(G389,[1]Choix14!$M$2:$N$14,2,FALSE)&LEFT(J389,4)&RIGHT(LEFT(J389,LEN(J389)-1),2)))*1","v":0},{"$f":"(IF(ISERROR(VLOOKUP(L389,[1]Choix14!$M$2:$N$14,2,FALSE)&LEFT(O389,4)&RIGHT(LEFT(O389,LEN(O389)-1),2)),0,VLOOKUP(L389,[1]Choix14!$M$2:$N$14,2,FALSE)&LEFT(O389,4)&RIGHT(LEFT(O389,LEN(O389)-1),2)))*1","v":0},{"$nulls":6}," Niklas Hjalmarsson",{"$nulls":7},0,0]
[{"$f":"(IF(ISERROR(VLOOKUP(G390,[1]Choix14!$M$2:$N$14,2,FALSE)&LEFT(J390,4)&RIGHT(LEFT(J390,LEN(J390)-1),2)),0,VLOOKUP(G390,[1]Choix14!$M$2:$N$14,2,FALSE)&LEFT(J390,4)&RIGHT(LEFT(J390,LEN(J390)-1),2)))*1","v":0},{"$f":"(IF(ISERROR(VLOOKUP(L390,[1]Choix14!$M$2:$N$14,2,FALSE)&LEFT(O390,4)&RIGHT(LEFT(O390,LEN(O390)-1),2)),0,VLOOKUP(L390,[1]Choix14!$M$2:$N$14,2,FALSE)&LEFT(O390,4)&RIGHT(LEFT(O390,LEN(O390)-1),2)))*1","v":0},{"$nulls":6}," Marcus Foligno",{"$nulls":7},0,0]
[{"$f":"(IF(ISERROR(VLOOKUP(G391,[1]Choix14!$M$2:$N$14,2,FALSE)&LEFT(J391,4)&RIGHT(LEFT(J391,LEN(J391)-1),2)),0,VLOOKUP(G391,[1]Choix14!$M$2:$N$14,2,FALSE)&LEFT(J391,4)&RIGHT(LEFT(J391,LEN(J391)-1),2)))*1","v":0},{"$f":"(IF(ISERROR(VLOOKUP(L391,[1]Choix14!$M$2:$N$14,2,FALSE)&LEFT(O391,4)&RIGHT(LEFT(O391,LEN(O391)-1),2)),0,VLOOKUP(L391,[1]Choix14!$M$2:$N$14,2,FALSE)&LEFT(O391,4)&RIGHT(LEFT(O391,LEN(O391)-1),2)))*1","v":0},{"$nulls":6}," Leo Komarov",{"$nulls":7},0,0]
[{"$f":"(IF(ISERROR(VLOOKUP(G392,[1]Choix14!$M$2:$N$14,2,FALSE)&LEFT(J392,4)&RIGHT(LEFT(J392,LEN(J392)-1),2)),0,VLOOKUP(G392,[1]Choix14!$M$2:$N$14,2,FALSE)&LEFT(J392,4)&RIGHT(LEFT(J392,LEN(J392)-1),2)))*1","v":0},{"$f":"(IF(ISERROR(VLOOKUP(L392,[1]Choix14!$M$2:$N$14,2,FALSE)&LEFT(O392,4)&RIGHT(LEFT(O392,LEN(O392)-1),2)),0,VLOOKUP(L392,[1]Choix14!$M$2:$N$14,2,FALSE)&LEFT(O392,4)&RIGHT(LEFT(O392,LEN(O392)-1),2)))*1","v":0},{"$nulls":6}," Travis Hamonic",{"$nulls":7},0,0]
[{"$f":"(IF(ISERROR(VLOOKUP(G393,[1]Choix14!$M$2:$N$14,2,FALSE)&LEFT(J393,4)&RIGHT(LEFT(J393,LEN(J393)-1),2)),0,VLOOKUP(G393,[1]Choix14!$M$2:$N$14,2,FALSE)&LEFT(J393,4)&RIGHT(LEFT(J393,LEN(J393)-1),2)))*1","v":0},{"$f":"(IF(ISERROR(VLOOKUP(L393,[1]Choix14!$M$2:$N$14,2,FALSE)&LEFT(O393,4)&RIGHT(LEFT(O393,LEN(O393)-1),2)),0,VLOOKUP(L393,[1]Choix14!$M$2:$N$14,2,FALSE)&LEFT(O393,4)&RIGHT(LEFT(O393,LEN(O393)-1),2)))*1","v":0},{"$nulls":6}," Shane Harper",{"$nulls":7},0,0]
[{"$f":"(IF(ISERROR(VLOOKUP(G394,[1]Choix14!$M$2:$N$14,2,FALSE)&LEFT(J394,4)&RIGHT(LEFT(J394,LEN(J394)-1),2)),0,VLOOKUP(G394,[1]Choix14!$M$2:$N$14,2,FALSE)&LEFT(J394,4)&RIGHT(LEFT(J394,LEN(J394)-1),2)))*1","v":0},{"$f":"(IF(ISERROR(VLOOKUP(L394,[1]Choix14!$M$2:$N$14,2,FALSE)&LEFT(O394,4)&RIGHT(LEFT(O394,LEN(O394)-1),2)),0,VLOOKUP(L394,[1]Choix14!$M$2:$N$14,2,FALSE)&LEFT(O394,4)&RIGHT(LEFT(O394,LEN(O394)-1),2)))*1","v":0},{"$nulls":6}," Daniel Winnik",{"$nulls":7},0,0]
[{"$f":"(IF(ISERROR(VLOOKUP(G395,[1]Choix14!$M$2:$N$14,2,FALSE)&LEFT(J395,4)&RIGHT(LEFT(J395,LEN(J395)-1),2)),0,VLOOKUP(G395,[1]Choix14!$M$2:$N$14,2,FALSE)&LEFT(J395,4)&RIGHT(LEFT(J395,LEN(J395)-1),2)))*1","v":0},{"$f":"(IF(ISERROR(VLOOKUP(L395,[1]Choix14!$M$2:$N$14,2,FALSE)&LEFT(O395,4)&RIGHT(LEFT(O395,LEN(O395)-1),2)),0,VLOOKUP(L395,[1]Choix14!$M$2:$N$14,2,FALSE)&LEFT(O395,4)&RIGHT(LEFT(O395,LEN(O395)-1),2)))*1","v":0},{"$nulls":6}," Mark Streit",{"$nulls":7},0,0]
[{"$f":"(IF(ISERROR(VLOOKUP(G396,[1]Choix14!$M$2:$N$14,2,FALSE)&LEFT(J396,4)&RIGHT(LEFT(J396,LEN(J396)-1),2)),0,VLOOKUP(G396,[1]Choix14!$M$2:$N$14,2,FALSE)&LEFT(J396,4)&RIGHT(LEFT(J396,LEN(J396)-1),2)))*1","v":0},{"$f":"(IF(ISERROR(VLOOKUP(L396,[1]Choix14!$M$2:$N$14,2,FALSE)&LEFT(O396,4)&RIGHT(LEFT(O396,LEN(O396)-1),2)),0,VLOOKUP(L396,[1]Choix14!$M$2:$N$14,2,FALSE)&LEFT(O396,4)&RIGHT(LEFT(O396,LEN(O396)-1),2)))*1","v":0},{"$nulls":6}," Scott Wilson",{"$nulls":7},0,0]
[{"$f":"(IF(ISERROR(VLOOKUP(G397,[1]Choix14!$M$2:$N$14,2,FALSE)&LEFT(J397,4)&RIGHT(LEFT(J397,LEN(J397)-1),2)),0,VLOOKUP(G397,[1]Choix14!$M$2:$N$14,2,FALSE)&LEFT(J397,4)&RIGHT(LEFT(J397,LEN(J397)-1),2)))*1","v":0},{"$f":"(IF(ISERROR(VLOOKUP(L397,[1]Choix14!$M$2:$N$14,2,FALSE)&LEFT(O397,4)&RIGHT(LEFT(O397,LEN(O397)-1),2)),0,VLOOKUP(L397,[1]Choix14!$M$2:$N$14,2,FALSE)&LEFT(O397,4)&RIGHT(LEFT(O397,LEN(O397)-1),2)))*1","v":0},{"$nulls":6}," Jordie Benn",{"$nulls":7},0,0]
[{"$f":"(IF(ISERROR(VLOOKUP(G398,[1]Choix14!$M$2:$N$14,2,FALSE)&LEFT(J398,4)&RIGHT(LEFT(J398,LEN(J398)-1),2)),0,VLOOKUP(G398,[1]Choix14!$M$2:$N$14,2,FALSE)&LEFT(J398,4)&RIGHT(LEFT(J398,LEN(J398)-1),2)))*1","v":0},{"$f":"(IF(ISERROR(VLOOKUP(L398,[1]Choix14!$M$2:$N$14,2,FALSE)&LEFT(O398,4)&RIGHT(LEFT(O398,LEN(O398)-1),2)),0,VLOOKUP(L398,[1]Choix14!$M$2:$N$14,2,FALSE)&LEFT(O398,4)&RIGHT(LEFT(O398,LEN(O398)-1),2)))*1","v":0},{"$nulls":6}," Nick Cousins",{"$nulls":7},0,0]
[{"$f":"(IF(ISERROR(VLOOKUP(G399,[1]Choix14!$M$2:$N$14,2,FALSE)&LEFT(J399,4)&RIGHT(LEFT(J399,LEN(J399)-1),2)),0,VLOOKUP(G399,[1]Choix14!$M$2:$N$14,2,FALSE)&LEFT(J399,4)&RIGHT(LEFT(J399,LEN(J399)-1),2)))*1","v":0},{"$f":"(IF(ISERROR(VLOOKUP(L399,[1]Choix14!$M$2:$N$14,2,FALSE)&LEFT(O399,4)&RIGHT(LEFT(O399,LEN(O399)-1),2)),0,VLOOKUP(L399,[1]Choix14!$M$2:$N$14,2,FALSE)&LEFT(O399,4)&RIGHT(LEFT(O399,LEN(O399)-1),2)))*1","v":0},{"$nulls":6}," Nic Dowd",{"$nulls":7},0,0]
[{"$f":"(IF(ISERROR(VLOOKUP(G400,[1]Choix14!$M$2:$N$14,2,FALSE)&LEFT(J400,4)&RIGHT(LEFT(J400,LEN(J400)-1),2)),0,VLOOKUP(G400,[1]Choix14!$M$2:$N$14,2,FALSE)&LEFT(J400,4)&RIGHT(LEFT(J400,LEN(J400)-1),2)))*1","v":0},{"$f":"(IF(ISERROR(VLOOKUP(L400,[1]Choix14!$M$2:$N$14,2,FALSE)&LEFT(O400,4)&RIGHT(LEFT(O400,LEN(O400)-1),2)),0,VLOOKUP(L400,[1]Choix14!$M$2:$N$14,2,FALSE)&LEFT(O400,4)&RIGHT(LEFT(O400,LEN(O400)-1),2)))*1","v":0},{"$nulls":6}," Tobias Rieder",{"$nulls":7},0,0]
[{"$f":"(IF(ISERROR(VLOOKUP(G401,[1]Choix14!$M$2:$N$14,2,FALSE)&LEFT(J401,4)&RIGHT(LEFT(J401,LEN(J401)-1),2)),0,VLOOKUP(G401,[1]Choix14!$M$2:$N$14,2,FALSE)&LEFT(J401,4)&RIGHT(LEFT(J401,LEN(J401)-1),2)))*1","v":0},{"$f":"(IF(ISERROR(VLOOKUP(L401,[1]Choix14!$M$2:$N$14,2,FALSE)&LEFT(O401,4)&RIGHT(LEFT(O401,LEN(O401)-1),2)),0,VLOOKUP(L401,[1]Choix14!$M$2:$N$14,2,FALSE)&LEFT(O401,4)&RIGHT(LEFT(O401,LEN(O401)-1),2)))*1","v":0},{"$nulls":6}," Kevin Hayes",{"$nulls":7},0,0]
[{"$f":"(IF(ISERROR(VLOOKUP(G402,[1]Choix14!$M$2:$N$14,2,FALSE)&LEFT(J402,4)&RIGHT(LEFT(J402,LEN(J402)-1),2)),0,VLOOKUP(G402,[1]Choix14!$M$2:$N$14,2,FALSE)&LEFT(J402,4)&RIGHT(LEFT(J402,LEN(J402)-1),2)))*1","v":0},{"$f":"(IF(ISERROR(VLOOKUP(L402,[1]Choix14!$M$2:$N$14,2,FALSE)&LEFT(O402,4)&RIGHT(LEFT(O402,LEN(O402)-1),2)),0,VLOOKUP(L402,[1]Choix14!$M$2:$N$14,2,FALSE)&LEFT(O402,4)&RIGHT(LEFT(O402,LEN(O402)-1),2)))*1","v":0},{"$nulls":6}," Dougie Hamilton",{"$nulls":7},0,0]
[{"$f":"(IF(ISERROR(VLOOKUP(G403,[1]Choix14!$M$2:$N$14,2,FALSE)&LEFT(J403,4)&RIGHT(LEFT(J403,LEN(J403)-1),2)),0,VLOOKUP(G403,[1]Choix14!$M$2:$N$14,2,FALSE)&LEFT(J403,4)&RIGHT(LEFT(J403,LEN(J403)-1),2)))*1","v":0},{"$f":"(IF(ISERROR(VLOOKUP(L403,[1]Choix14!$M$2:$N$14,2,FALSE)&LEFT(O403,4)&RIGHT(LEFT(O403,LEN(O403)-1),2)),0,VLOOKUP(L403,[1]Choix14!$M$2:$N$14,2,FALSE)&LEFT(O403,4)&RIGHT(LEFT(O403,LEN(O403)-1),2)))*1","v":0},{"$nulls":6}," Christian Dvorak",{"$nulls":7},0,0]
[{"$f":"(IF(ISERROR(VLOOKUP(G404,[1]Choix14!$M$2:$N$14,2,FALSE)&LEFT(J404,4)&RIGHT(LEFT(J404,LEN(J404)-1),2)),0,VLOOKUP(G404,[1]Choix14!$M$2:$N$14,2,FALSE)&LEFT(J404,4)&RIGHT(LEFT(J404,LEN(J404)-1),2)))*1","v":0},{"$f":"(IF(ISERROR(VLOOKUP(L404,[1]Choix14!$M$2:$N$14,2,FALSE)&LEFT(O404,4)&RIGHT(LEFT(O404,LEN(O404)-1),2)),0,VLOOKUP(L404,[1]Choix14!$M$2:$N$14,2,FALSE)&LEFT(O404,4)&RIGHT(LEFT(O404,LEN(O404)-1),2)))*1","v":0},{"$nulls":6}," Brayden Point",{"$nulls":7},0,0]
[{"$f":"(IF(ISERROR(VLOOKUP(G405,[1]Choix14!$M$2:$N$14,2,FALSE)&LEFT(J405,4)&RIGHT(LEFT(J405,LEN(J405)-1),2)),0,VLOOKUP(G405,[1]Choix14!$M$2:$N$14,2,FALSE)&LEFT(J405,4)&RIGHT(LEFT(J405,LEN(J405)-1),2)))*1","v":0},{"$f":"(IF(ISERROR(VLOOKUP(L405,[1]Choix14!$M$2:$N$14,2,FALSE)&LEFT(O405,4)&RIGHT(LEFT(O405,LEN(O405)-1),2)),0,VLOOKUP(L405,[1]Choix14!$M$2:$N$14,2,FALSE)&LEFT(O405,4)&RIGHT(LEFT(O405,LEN(O405)-1),2)))*1","v":0},{"$nulls":6}," Patrick Marleau",{"$nulls":7},0,0]
[{"$f":"(IF(ISERROR(VLOOKUP(G406,[1]Choix14!$M$2:$N$14,2,FALSE)&LEFT(J406,4)&RIGHT(LEFT(J406,LEN(J406)-1),2)),0,VLOOKUP(G406,[1]Choix14!$M$2:$N$14,2,FALSE)&LEFT(J406,4)&RIGHT(LEFT(J406,LEN(J406)-1),2)))*1","v":0},{"$f":"(IF(ISERROR(VLOOKUP(L406,[1]Choix14!$M$2:$N$14,2,FALSE)&LEFT(O406,4)&RIGHT(LEFT(O406,LEN(O406)-1),2)),0,VLOOKUP(L406,[1]Choix14!$M$2:$N$14,2,FALSE)&LEFT(O406,4)&RIGHT(LEFT(O406,LEN(O406)-1),2)))*1","v":0},{"$nulls":6}," Milan Michalek",{"$nulls":7},0,0]
[{"$f":"(IF(ISERROR(VLOOKUP(G407,[1]Choix14!$M$2:$N$14,2,FALSE)&LEFT(J407,4)&RIGHT(LEFT(J407,LEN(J407)-1),2)),0,VLOOKUP(G407,[1]Choix14!$M$2:$N$14,2,FALSE)&LEFT(J407,4)&RIGHT(LEFT(J407,LEN(J407)-1),2)))*1","v":0},{"$f":"(IF(ISERROR(VLOOKUP(L407,[1]Choix14!$M$2:$N$14,2,FALSE)&LEFT(O407,4)&RIGHT(LEFT(O407,LEN(O407)-1),2)),0,VLOOKUP(L407,[1]Choix14!$M$2:$N$14,2,FALSE)&LEFT(O407,4)&RIGHT(LEFT(O407,LEN(O407)-1),2)))*1","v":0},{"$nulls":6}," Nathan Beaulieu",{"$nulls":7},0,0]
[{"$f":"(IF(ISERROR(VLOOKUP(G408,[1]Choix14!$M$2:$N$14,2,FALSE)&LEFT(J408,4)&RIGHT(LEFT(J408,LEN(J408)-1),2)),0,VLOOKUP(G408,[1]Choix14!$M$2:$N$14,2,FALSE)&LEFT(J408,4)&RIGHT(LEFT(J408,LEN(J408)-1),2)))*1","v":0},{"$f":"(IF(ISERROR(VLOOKUP(L408,[1]Choix14!$M$2:$N$14,2,FALSE)&LEFT(O408,4)&RIGHT(LEFT(O408,LEN(O408)-1),2)),0,VLOOKUP(L408,[1]Choix14!$M$2:$N$14,2,FALSE)&LEFT(O408,4)&RIGHT(LEFT(O408,LEN(O408)-1),2)))*1","v":0},{"$nulls":6}," John Klingberg",{"$nulls":7},0,0]
[{"$f":"(IF(ISERROR(VLOOKUP(G409,[1]Choix14!$M$2:$N$14,2,FALSE)&LEFT(J409,4)&RIGHT(LEFT(J409,LEN(J409)-1),2)),0,VLOOKUP(G409,[1]Choix14!$M$2:$N$14,2,FALSE)&LEFT(J409,4)&RIGHT(LEFT(J409,LEN(J409)-1),2)))*1","v":0},{"$f":"(IF(ISERROR(VLOOKUP(L409,[1]Choix14!$M$2:$N$14,2,FALSE)&LEFT(O409,4)&RIGHT(LEFT(O409,LEN(O409)-1),2)),0,VLOOKUP(L409,[1]Choix14!$M$2:$N$14,2,FALSE)&LEFT(O409,4)&RIGHT(LEFT(O409,LEN(O409)-1),2)))*1","v":0},{"$nulls":6}," John-Michael Liles",{"$nulls":7},0,0]
[{"$f":"(IF(ISERROR(VLOOKUP(G410,[1]Choix14!$M$2:$N$14,2,FALSE)&LEFT(J410,4)&RIGHT(LEFT(J410,LEN(J410)-1),2)),0,VLOOKUP(G410,[1]Choix14!$M$2:$N$14,2,FALSE)&LEFT(J410,4)&RIGHT(LEFT(J410,LEN(J410)-1),2)))*1","v":0},{"$f":"(IF(ISERROR(VLOOKUP(L410,[1]Choix14!$M$2:$N$14,2,FALSE)&LEFT(O410,4)&RIGHT(LEFT(O410,LEN(O410)-1),2)),0,VLOOKUP(L410,[1]Choix14!$M$2:$N$14,2,FALSE)&LEFT(O410,4)&RIGHT(LEFT(O410,LEN(O410)-1),2)))*1","v":0},{"$nulls":6}," Chris Kunitz",{"$nulls":7},0,0]
[{"$f":"(IF(ISERROR(VLOOKUP(G411,[1]Choix14!$M$2:$N$14,2,FALSE)&LEFT(J411,4)&RIGHT(LEFT(J411,LEN(J411)-1),2)),0,VLOOKUP(G411,[1]Choix14!$M$2:$N$14,2,FALSE)&LEFT(J411,4)&RIGHT(LEFT(J411,LEN(J411)-1),2)))*1","v":0},{"$f":"(IF(ISERROR(VLOOKUP(L411,[1]Choix14!$M$2:$N$14,2,FALSE)&LEFT(O411,4)&RIGHT(LEFT(O411,LEN(O411)-1),2)),0,VLOOKUP(L411,[1]Choix14!$M$2:$N$14,2,FALSE)&LEFT(O411,4)&RIGHT(LEFT(O411,LEN(O411)-1),2)))*1","v":0},{"$nulls":6}," Tyler Johnson",{"$nulls":7},0,0]
[{"$f":"(IF(ISERROR(VLOOKUP(G412,[1]Choix14!$M$2:$N$14,2,FALSE)&LEFT(J412,4)&RIGHT(LEFT(J412,LEN(J412)-1),2)),0,VLOOKUP(G412,[1]Choix14!$M$2:$N$14,2,FALSE)&LEFT(J412,4)&RIGHT(LEFT(J412,LEN(J412)-1),2)))*1","v":0},{"$f":"(IF(ISERROR(VLOOKUP(L412,[1]Choix14!$M$2:$N$14,2,FALSE)&LEFT(O412,4)&RIGHT(LEFT(O412,LEN(O412)-1),2)),0,VLOOKUP(L412,[1]Choix14!$M$2:$N$14,2,FALSE)&LEFT(O412,4)&RIGHT(LEFT(O412,LEN(O412)-1),2)))*1","v":0},{"$nulls":6}," Alexei Emelin",{"$nulls":7},0,0]
[{"$f":"(IF(ISERROR(VLOOKUP(G413,[1]Choix14!$M$2:$N$14,2,FALSE)&LEFT(J413,4)&RIGHT(LEFT(J413,LEN(J413)-1),2)),0,VLOOKUP(G413,[1]Choix14!$M$2:$N$14,2,FALSE)&LEFT(J413,4)&RIGHT(LEFT(J413,LEN(J413)-1),2)))*1","v":0},{"$f":"(IF(ISERROR(VLOOKUP(L413,[1]Choix14!$M$2:$N$14,2,FALSE)&LEFT(O413,4)&RIGHT(LEFT(O413,LEN(O413)-1),2)),0,VLOOKUP(L413,[1]Choix14!$M$2:$N$14,2,FALSE)&LEFT(O413,4)&RIGHT(LEFT(O413,LEN(O413)-1),2)))*1","v":0},{"$nulls":6}," Noel Acciari",{"$nulls":7},0,0]
[{"$f":"(IF(ISERROR(VLOOKUP(G414,[1]Choix14!$M$2:$N$14,2,FALSE)&LEFT(J414,4)&RIGHT(LEFT(J414,LEN(J414)-1),2)),0,VLOOKUP(G414,[1]Choix14!$M$2:$N$14,2,FALSE)&LEFT(J414,4)&RIGHT(LEFT(J414,LEN(J414)-1),2)))*1","v":0},{"$f":"(IF(ISERROR(VLOOKUP(L414,[1]Choix14!$M$2:$N$14,2,FALSE)&LEFT(O414,4)&RIGHT(LEFT(O414,LEN(O414)-1),2)),0,VLOOKUP(L414,[1]Choix14!$M$2:$N$14,2,FALSE)&LEFT(O414,4)&RIGHT(LEFT(O414,LEN(O414)-1),2)))*1","v":0},{"$nulls":6}," Dmitry Orlov",{"$nulls":7},0,0]
[{"$f":"(IF(ISERROR(VLOOKUP(G415,[1]Choix14!$M$2:$N$14,2,FALSE)&LEFT(J415,4)&RIGHT(LEFT(J415,LEN(J415)-1),2)),0,VLOOKUP(G415,[1]Choix14!$M$2:$N$14,2,FALSE)&LEFT(J415,4)&RIGHT(LEFT(J415,LEN(J415)-1),2)))*1","v":0},{"$f":"(IF(ISERROR(VLOOKUP(L415,[1]Choix14!$M$2:$N$14,2,FALSE)&LEFT(O415,4)&RIGHT(LEFT(O415,LEN(O415)-1),2)),0,VLOOKUP(L415,[1]Choix14!$M$2:$N$14,2,FALSE)&LEFT(O415,4)&RIGHT(LEFT(O415,LEN(O415)-1),2)))*1","v":0},{"$nulls":6}," Ryan Nugent-Hopkins",{"$nulls":7},0,0]
[{"$f":"(IF(ISERROR(VLOOKUP(G416,[1]Choix14!$M$2:$N$14,2,FALSE)&LEFT(J416,4)&RIGHT(LEFT(J416,LEN(J416)-1),2)),0,VLOOKUP(G416,[1]Choix14!$M$2:$N$14,2,FALSE)&LEFT(J416,4)&RIGHT(LEFT(J416,LEN(J416)-1),2)))*1","v":0},{"$f":"(IF(ISERROR(VLOOKUP(L416,[1]Choix14!$M$2:$N$14,2,FALSE)&LEFT(O416,4)&RIGHT(LEFT(O416,LEN(O416)-1),2)),0,VLOOKUP(L416,[1]Choix14!$M$2:$N$14,2,FALSE)&LEFT(O416,4)&RIGHT(LEFT(O416,LEN(O416)-1),2)))*1","v":0},{"$nulls":6}," Brayden McNabb",{"$nulls":7},0,0]
[{"$f":"(IF(ISERROR(VLOOKUP(G417,[1]Choix14!$M$2:$N$14,2,FALSE)&LEFT(J417,4)&RIGHT(LEFT(J417,LEN(J417)-1),2)),0,VLOOKUP(G417,[1]Choix14!$M$2:$N$14,2,FALSE)&LEFT(J417,4)&RIGHT(LEFT(J417,LEN(J417)-1),2)))*1","v":0},{"$f":"(IF(ISERROR(VLOOKUP(L417,[1]Choix14!$M$2:$N$14,2,FALSE)&LEFT(O417,4)&RIGHT(LEFT(O417,LEN(O417)-1),2)),0,VLOOKUP(L417,[1]Choix14!$M$2:$N$14,2,FALSE)&LEFT(O417,4)&RIGHT(LEFT(O417,LEN(O417)-1),2)))*1","v":0},{"$nulls":6}," Jared Spurgeon",{"$nulls":7},0,0]
[{"$f":"(IF(ISERROR(VLOOKUP(G418,[1]Choix14!$M$2:$N$14,2,FALSE)&LEFT(J418,4)&RIGHT(LEFT(J418,LEN(J418)-1),2)),0,VLOOKUP(G418,[1]Choix14!$M$2:$N$14,2,FALSE)&LEFT(J418,4)&RIGHT(LEFT(J418,LEN(J418)-1),2)))*1","v":0},{"$f":"(IF(ISERROR(VLOOKUP(L418,[1]Choix14!$M$2:$N$14,2,FALSE)&LEFT(O418,4)&RIGHT(LEFT(O418,LEN(O418)-1),2)),0,VLOOKUP(L418,[1]Choix14!$M$2:$N$14,2,FALSE)&LEFT(O418,4)&RIGHT(LEFT(O418,LEN(O418)-1),2)))*1","v":0},{"$nulls":6}," Joakim Nordstrom",{"$nulls":7},0,0]
[{"$f":"(IF(ISERROR(VLOOKUP(G419,[1]Choix14!$M$2:$N$14,2,FALSE)&LEFT(J419,4)&RIGHT(LEFT(J419,LEN(J419)-1),2)),0,VLOOKUP(G419,[1]Choix14!$M$2:$N$14,2,FALSE)&LEFT(J419,4)&RIGHT(LEFT(J419,LEN(J419)-1),2)))*1","v":0},{"$f":"(IF(ISERROR(VLOOKUP(L419,[1]Choix14!$M$2:$N$14,2,FALSE)&LEFT(O419,4)&RIGHT(LEFT(O419,LEN(O419)-1),2)),0,VLOOKUP(L419,[1]Choix14!$M$2:$N$14,2,FALSE)&LEFT(O419,4)&RIGHT(LEFT(O419,LEN(O419)-1),2)))*1","v":0},{"$nulls":6}," Vladislav Namestnikov",{"$nulls":7},0,0]
[{"$f":"(IF(ISERROR(VLOOKUP(G420,[1]Choix14!$M$2:$N$14,2,FALSE)&LEFT(J420,4)&RIGHT(LEFT(J420,LEN(J420)-1),2)),0,VLOOKUP(G420,[1]Choix14!$M$2:$N$14,2,FALSE)&LEFT(J420,4)&RIGHT(LEFT(J420,LEN(J420)-1),2)))*1","v":0},{"$f":"(IF(ISERROR(VLOOKUP(L420,[1]Choix14!$M$2:$N$14,2,FALSE)&LEFT(O420,4)&RIGHT(LEFT(O420,LEN(O420)-1),2)),0,VLOOKUP(L420,[1]Choix14!$M$2:$N$14,2,FALSE)&LEFT(O420,4)&RIGHT(LEFT(O420,LEN(O420)-1),2)))*1","v":0},{"$nulls":6}," Nikolaj Ehlers",{"$nulls":7},0,0]
[{"$f":"(IF(ISERROR(VLOOKUP(G421,[1]Choix14!$M$2:$N$14,2,FALSE)&LEFT(J421,4)&RIGHT(LEFT(J421,LEN(J421)-1),2)),0,VLOOKUP(G421,[1]Choix14!$M$2:$N$14,2,FALSE)&LEFT(J421,4)&RIGHT(LEFT(J421,LEN(J421)-1),2)))*1","v":0},{"$f":"(IF(ISERROR(VLOOKUP(L421,[1]Choix14!$M$2:$N$14,2,FALSE)&LEFT(O421,4)&RIGHT(LEFT(O421,LEN(O421)-1),2)),0,VLOOKUP(L421,[1]Choix14!$M$2:$N$14,2,FALSE)&LEFT(O421,4)&RIGHT(LEFT(O421,LEN(O421)-1),2)))*1","v":0},{"$nulls":6}," Francois Beauchemin",{"$nulls":7},0,0]
[{"$f":"(IF(ISERROR(VLOOKUP(G422,[1]Choix14!$M$2:$N$14,2,FALSE)&LEFT(J422,4)&RIGHT(LEFT(J422,LEN(J422)-1),2)),0,VLOOKUP(G422,[1]Choix14!$M$2:$N$14,2,FALSE)&LEFT(J422,4)&RIGHT(LEFT(J422,LEN(J422)-1),2)))*1","v":0},{"$f":"(IF(ISERROR(VLOOKUP(L422,[1]Choix14!$M$2:$N$14,2,FALSE)&LEFT(O422,4)&RIGHT(LEFT(O422,LEN(O422)-1),2)),0,VLOOKUP(L422,[1]Choix14!$M$2:$N$14,2,FALSE)&LEFT(O422,4)&RIGHT(LEFT(O422,LEN(O422)-1),2)))*1","v":0},{"$nulls":6}," Brett Ritchie",{"$nulls":7},0,0]
[{"$f":"(IF(ISERROR(VLOOKUP(G423,[1]Choix14!$M$2:$N$14,2,FALSE)&LEFT(J423,4)&RIGHT(LEFT(J423,LEN(J423)-1),2)),0,VLOOKUP(G423,[1]Choix14!$M$2:$N$14,2,FALSE)&LEFT(J423,4)&RIGHT(LEFT(J423,LEN(J423)-1),2)))*1","v":0},{"$f":"(IF(ISERROR(VLOOKUP(L423,[1]Choix14!$M$2:$N$14,2,FALSE)&LEFT(O423,4)&RIGHT(LEFT(O423,LEN(O423)-1),2)),0,VLOOKUP(L423,[1]Choix14!$M$2:$N$14,2,FALSE)&LEFT(O423,4)&RIGHT(LEFT(O423,LEN(O423)-1),2)))*1","v":0},{"$nulls":6}," David Krejci",{"$nulls":7},0,0]
[{"$f":"(IF(ISERROR(VLOOKUP(G424,[1]Choix14!$M$2:$N$14,2,FALSE)&LEFT(J424,4)&RIGHT(LEFT(J424,LEN(J424)-1),2)),0,VLOOKUP(G424,[1]Choix14!$M$2:$N$14,2,FALSE)&LEFT(J424,4)&RIGHT(LEFT(J424,LEN(J424)-1),2)))*1","v":0},{"$f":"(IF(ISERROR(VLOOKUP(L424,[1]Choix14!$M$2:$N$14,2,FALSE)&LEFT(O424,4)&RIGHT(LEFT(O424,LEN(O424)-1),2)),0,VLOOKUP(L424,[1]Choix14!$M$2:$N$14,2,FALSE)&LEFT(O424,4)&RIGHT(LEFT(O424,LEN(O424)-1),2)))*1","v":0},{"$nulls":6}," Trevor Daley",{"$nulls":7},0,0]
[{"$f":"(IF(ISERROR(VLOOKUP(G425,[1]Choix14!$M$2:$N$14,2,FALSE)&LEFT(J425,4)&RIGHT(LEFT(J425,LEN(J425)-1),2)),0,VLOOKUP(G425,[1]Choix14!$M$2:$N$14,2,FALSE)&LEFT(J425,4)&RIGHT(LEFT(J425,LEN(J425)-1),2)))*1","v":0},{"$f":"(IF(ISERROR(VLOOKUP(L425,[1]Choix14!$M$2:$N$14,2,FALSE)&LEFT(O425,4)&RIGHT(LEFT(O425,LEN(O425)-1),2)),0,VLOOKUP(L425,[1]Choix14!$M$2:$N$14,2,FALSE)&LEFT(O425,4)&RIGHT(LEFT(O425,LEN(O425)-1),2)))*1","v":0},{"$nulls":6}," Ryan Sproul",{"$nulls":7},0,0]
[{"$f":"(IF(ISERROR(VLOOKUP(G426,[1]Choix14!$M$2:$N$14,2,FALSE)&LEFT(J426,4)&RIGHT(LEFT(J426,LEN(J426)-1),2)),0,VLOOKUP(G426,[1]Choix14!$M$2:$N$14,2,FALSE)&LEFT(J426,4)&RIGHT(LEFT(J426,LEN(J426)-1),2)))*1","v":0},{"$f":"(IF(ISERROR(VLOOKUP(L426,[1]Choix14!$M$2:$N$14,2,FALSE)&LEFT(O426,4)&RIGHT(LEFT(O426,LEN(O426)-1),2)),0,VLOOKUP(L426,[1]Choix14!$M$2:$N$14,2,FALSE)&LEFT(O426,4)&RIGHT(LEFT(O426,LEN(O426)-1),2)))*1","v":0},{"$nulls":6}," William Karlsson",{"$nulls":7},0,0]
[{"$f":"(IF(ISERROR(VLOOKUP(G427,[1]Choix14!$M$2:$N$14,2,FALSE)&LEFT(J427,4)&RIGHT(LEFT(J427,LEN(J427)-1),2)),0,VLOOKUP(G427,[1]Choix14!$M$2:$N$14,2,FALSE)&LEFT(J427,4)&RIGHT(LEFT(J427,LEN(J427)-1),2)))*1","v":0},{"$f":"(IF(ISERROR(VLOOKUP(L427,[1]Choix14!$M$2:$N$14,2,FALSE)&LEFT(O427,4)&RIGHT(LEFT(O427,LEN(O427)-1),2)),0,VLOOKUP(L427,[1]Choix14!$M$2:$N$14,2,FALSE)&LEFT(O427,4)&RIGHT(LEFT(O427,LEN(O427)-1),2)))*1","v":0},{"$nulls":6}," Nick Ritchie",{"$nulls":7},0,0]
[{"$f":"(IF(ISERROR(VLOOKUP(G428,[1]Choix14!$M$2:$N$14,2,FALSE)&LEFT(J428,4)&RIGHT(LEFT(J428,LEN(J428)-1),2)),0,VLOOKUP(G428,[1]Choix14!$M$2:$N$14,2,FALSE)&LEFT(J428,4)&RIGHT(LEFT(J428,LEN(J428)-1),2)))*1","v":0},{"$f":"(IF(ISERROR(VLOOKUP(L428,[1]Choix14!$M$2:$N$14,2,FALSE)&LEFT(O428,4)&RIGHT(LEFT(O428,LEN(O428)-1),2)),0,VLOOKUP(L428,[1]Choix14!$M$2:$N$14,2,FALSE)&LEFT(O428,4)&RIGHT(LEFT(O428,LEN(O428)-1),2)))*1","v":0},{"$nulls":6}," Alex Petrovic",{"$nulls":7},0,0]
[{"$f":"(IF(ISERROR(VLOOKUP(G429,[1]Choix14!$M$2:$N$14,2,FALSE)&LEFT(J429,4)&RIGHT(LEFT(J429,LEN(J429)-1),2)),0,VLOOKUP(G429,[1]Choix14!$M$2:$N$14,2,FALSE)&LEFT(J429,4)&RIGHT(LEFT(J429,LEN(J429)-1),2)))*1","v":0},{"$f":"(IF(ISERROR(VLOOKUP(L429,[1]Choix14!$M$2:$N$14,2,FALSE)&LEFT(O429,4)&RIGHT(LEFT(O429,LEN(O429)-1),2)),0,VLOOKUP(L429,[1]Choix14!$M$2:$N$14,2,FALSE)&LEFT(O429,4)&RIGHT(LEFT(O429,LEN(O429)-1),2)))*1","v":0},{"$nulls":6}," Johan Larsson",{"$nulls":7},0,0]
[{"$f":"(IF(ISERROR(VLOOKUP(G430,[1]Choix14!$M$2:$N$14,2,FALSE)&LEFT(J430,4)&RIGHT(LEFT(J430,LEN(J430)-1),2)),0,VLOOKUP(G430,[1]Choix14!$M$2:$N$14,2,FALSE)&LEFT(J430,4)&RIGHT(LEFT(J430,LEN(J430)-1),2)))*1","v":0},{"$f":"(IF(ISERROR(VLOOKUP(L430,[1]Choix14!$M$2:$N$14,2,FALSE)&LEFT(O430,4)&RIGHT(LEFT(O430,LEN(O430)-1),2)),0,VLOOKUP(L430,[1]Choix14!$M$2:$N$14,2,FALSE)&LEFT(O430,4)&RIGHT(LEFT(O430,LEN(O430)-1),2)))*1","v":0},{"$nulls":6}," Jason Zucker",{"$nulls":7},0,0]
[{"$f":"(IF(ISERROR(VLOOKUP(G431,[1]Choix14!$M$2:$N$14,2,FALSE)&LEFT(J431,4)&RIGHT(LEFT(J431,LEN(J431)-1),2)),0,VLOOKUP(G431,[1]Choix14!$M$2:$N$14,2,FALSE)&LEFT(J431,4)&RIGHT(LEFT(J431,LEN(J431)-1),2)))*1","v":0},{"$f":"(IF(ISERROR(VLOOKUP(L431,[1]Choix14!$M$2:$N$14,2,FALSE)&LEFT(O431,4)&RIGHT(LEFT(O431,LEN(O431)-1),2)),0,VLOOKUP(L431,[1]Choix14!$M$2:$N$14,2,FALSE)&LEFT(O431,4)&RIGHT(LEFT(O431,LEN(O431)-1),2)))*1","v":0},{"$nulls":6}," Greg McKegg",{"$nulls":7},0,0]
[{"$f":"(IF(ISERROR(VLOOKUP(G432,[1]Choix14!$M$2:$N$14,2,FALSE)&LEFT(J432,4)&RIGHT(LEFT(J432,LEN(J432)-1),2)),0,VLOOKUP(G432,[1]Choix14!$M$2:$N$14,2,FALSE)&LEFT(J432,4)&RIGHT(LEFT(J432,LEN(J432)-1),2)))*1","v":0},{"$f":"(IF(ISERROR(VLOOKUP(L432,[1]Choix14!$M$2:$N$14,2,FALSE)&LEFT(O432,4)&RIGHT(LEFT(O432,LEN(O432)-1),2)),0,VLOOKUP(L432,[1]Choix14!$M$2:$N$14,2,FALSE)&LEFT(O432,4)&RIGHT(LEFT(O432,LEN(O432)-1),2)))*1","v":0},{"$nulls":6}," Kevin Fiala",{"$nulls":7},0,0]
[{"$f":"(IF(ISERROR(VLOOKUP(G433,[1]Choix14!$M$2:$N$14,2,FALSE)&LEFT(J433,4)&RIGHT(LEFT(J433,LEN(J433)-1),2)),0,VLOOKUP(G433,[1]Choix14!$M$2:$N$14,2,FALSE)&LEFT(J433,4)&RIGHT(LEFT(J433,LEN(J433)-1),2)))*1","v":0},{"$f":"(IF(ISERROR(VLOOKUP(L433,[1]Choix14!$M$2:$N$14,2,FALSE)&LEFT(O433,4)&RIGHT(LEFT(O433,LEN(O433)-1),2)),0,VLOOKUP(L433,[1]Choix14!$M$2:$N$14,2,FALSE)&LEFT(O433,4)&RIGHT(LEFT(O433,LEN(O433)-1),2)))*1","v":0},{"$nulls":6}," Ryan Spooner",{"$nulls":7},0,0]
[{"$f":"(IF(ISERROR(VLOOKUP(G434,[1]Choix14!$M$2:$N$14,2,FALSE)&LEFT(J434,4)&RIGHT(LEFT(J434,LEN(J434)-1),2)),0,VLOOKUP(G434,[1]Choix14!$M$2:$N$14,2,FALSE)&LEFT(J434,4)&RIGHT(LEFT(J434,LEN(J434)-1),2)))*1","v":0},{"$f":"(IF(ISERROR(VLOOKUP(L434,[1]Choix14!$M$2:$N$14,2,FALSE)&LEFT(O434,4)&RIGHT(LEFT(O434,LEN(O434)-1),2)),0,VLOOKUP(L434,[1]Choix14!$M$2:$N$14,2,FALSE)&LEFT(O434,4)&RIGHT(LEFT(O434,LEN(O434)-1),2)))*1","v":0},{"$nulls":6}," Zdeno Chara",{"$nulls":7},0,0]
[{"$f":"(IF(ISERROR(VLOOKUP(G435,[1]Choix14!$M$2:$N$14,2,FALSE)&LEFT(J435,4)&RIGHT(LEFT(J435,LEN(J435)-1),2)),0,VLOOKUP(G435,[1]Choix14!$M$2:$N$14,2,FALSE)&LEFT(J435,4)&RIGHT(LEFT(J435,LEN(J435)-1),2)))*1","v":0},{"$f":"(IF(ISERROR(VLOOKUP(L435,[1]Choix14!$M$2:$N$14,2,FALSE)&LEFT(O435,4)&RIGHT(LEFT(O435,LEN(O435)-1),2)),0,VLOOKUP(L435,[1]Choix14!$M$2:$N$14,2,FALSE)&LEFT(O435,4)&RIGHT(LEFT(O435,LEN(O435)-1),2)))*1","v":0},{"$nulls":6}," Tom Gilbert",{"$nulls":7},0,0]
[{"$f":"(IF(ISERROR(VLOOKUP(G436,[1]Choix14!$M$2:$N$14,2,FALSE)&LEFT(J436,4)&RIGHT(LEFT(J436,LEN(J436)-1),2)),0,VLOOKUP(G436,[1]Choix14!$M$2:$N$14,2,FALSE)&LEFT(J436,4)&RIGHT(LEFT(J436,LEN(J436)-1),2)))*1","v":0},{"$f":"(IF(ISERROR(VLOOKUP(L436,[1]Choix14!$M$2:$N$14,2,FALSE)&LEFT(O436,4)&RIGHT(LEFT(O436,LEN(O436)-1),2)),0,VLOOKUP(L436,[1]Choix14!$M$2:$N$14,2,FALSE)&LEFT(O436,4)&RIGHT(LEFT(O436,LEN(O436)-1),2)))*1","v":0},{"$nulls":6}," Mikael Granlund",{"$nulls":7},0,0]
[{"$f":"(IF(ISERROR(VLOOKUP(G437,[1]Choix14!$M$2:$N$14,2,FALSE)&LEFT(J437,4)&RIGHT(LEFT(J437,LEN(J437)-1),2)),0,VLOOKUP(G437,[1]Choix14!$M$2:$N$14,2,FALSE)&LEFT(J437,4)&RIGHT(LEFT(J437,LEN(J437)-1),2)))*1","v":0},{"$f":"(IF(ISERROR(VLOOKUP(L437,[1]Choix14!$M$2:$N$14,2,FALSE)&LEFT(O437,4)&RIGHT(LEFT(O437,LEN(O437)-1),2)),0,VLOOKUP(L437,[1]Choix14!$M$2:$N$14,2,FALSE)&LEFT(O437,4)&RIGHT(LEFT(O437,LEN(O437)-1),2)))*1","v":0},{"$nulls":6}," Drew Miller",{"$nulls":7},0,0]
[{"$f":"(IF(ISERROR(VLOOKUP(G438,[1]Choix14!$M$2:$N$14,2,FALSE)&LEFT(J438,4)&RIGHT(LEFT(J438,LEN(J438)-1),2)),0,VLOOKUP(G438,[1]Choix14!$M$2:$N$14,2,FALSE)&LEFT(J438,4)&RIGHT(LEFT(J438,LEN(J438)-1),2)))*1","v":0},{"$f":"(IF(ISERROR(VLOOKUP(L438,[1]Choix14!$M$2:$N$14,2,FALSE)&LEFT(O438,4)&RIGHT(LEFT(O438,LEN(O438)-1),2)),0,VLOOKUP(L438,[1]Choix14!$M$2:$N$14,2,FALSE)&LEFT(O438,4)&RIGHT(LEFT(O438,LEN(O438)-1),2)))*1","v":0},{"$nulls":6}," Matt Moulson",{"$nulls":7},0,0]
[{"$f":"(IF(ISERROR(VLOOKUP(G439,[1]Choix14!$M$2:$N$14,2,FALSE)&LEFT(J439,4)&RIGHT(LEFT(J439,LEN(J439)-1),2)),0,VLOOKUP(G439,[1]Choix14!$M$2:$N$14,2,FALSE)&LEFT(J439,4)&RIGHT(LEFT(J439,LEN(J439)-1),2)))*1","v":0},{"$f":"(IF(ISERROR(VLOOKUP(L439,[1]Choix14!$M$2:$N$14,2,FALSE)&LEFT(O439,4)&RIGHT(LEFT(O439,LEN(O439)-1),2)),0,VLOOKUP(L439,[1]Choix14!$M$2:$N$14,2,FALSE)&LEFT(O439,4)&RIGHT(LEFT(O439,LEN(O439)-1),2)))*1","v":0},{"$nulls":6}," Brooks Orpik",{"$nulls":7},0,0]
[{"$f":"(IF(ISERROR(VLOOKUP(G440,[1]Choix14!$M$2:$N$14,2,FALSE)&LEFT(J440,4)&RIGHT(LEFT(J440,LEN(J440)-1),2)),0,VLOOKUP(G440,[1]Choix14!$M$2:$N$14,2,FALSE)&LEFT(J440,4)&RIGHT(LEFT(J440,LEN(J440)-1),2)))*1","v":0},{"$f":"(IF(ISERROR(VLOOKUP(L440,[1]Choix14!$M$2:$N$14,2,FALSE)&LEFT(O440,4)&RIGHT(LEFT(O440,LEN(O440)-1),2)),0,VLOOKUP(L440,[1]Choix14!$M$2:$N$14,2,FALSE)&LEFT(O440,4)&RIGHT(LEFT(O440,LEN(O440)-1),2)))*1","v":0},{"$nulls":6}," Josh Anderson",{"$nulls":7},0,0]
[{"$f":"(IF(ISERROR(VLOOKUP(G441,[1]Choix14!$M$2:$N$14,2,FALSE)&LEFT(J441,4)&RIGHT(LEFT(J441,LEN(J441)-1),2)),0,VLOOKUP(G441,[1]Choix14!$M$2:$N$14,2,FALSE)&LEFT(J441,4)&RIGHT(LEFT(J441,LEN(J441)-1),2)))*1","v":0},{"$f":"(IF(ISERROR(VLOOKUP(L441,[1]Choix14!$M$2:$N$14,2,FALSE)&LEFT(O441,4)&RIGHT(LEFT(O441,LEN(O441)-1),2)),0,VLOOKUP(L441,[1]Choix14!$M$2:$N$14,2,FALSE)&LEFT(O441,4)&RIGHT(LEFT(O441,LEN(O441)-1),2)))*1","v":0},{"$nulls":6}," Chris Kelly",{"$nulls":7},0,0]
[{"$f":"(IF(ISERROR(VLOOKUP(G442,[1]Choix14!$M$2:$N$14,2,FALSE)&LEFT(J442,4)&RIGHT(LEFT(J442,LEN(J442)-1),2)),0,VLOOKUP(G442,[1]Choix14!$M$2:$N$14,2,FALSE)&LEFT(J442,4)&RIGHT(LEFT(J442,LEN(J442)-1),2)))*1","v":0},{"$f":"(IF(ISERROR(VLOOKUP(L442,[1]Choix14!$M$2:$N$14,2,FALSE)&LEFT(O442,4)&RIGHT(LEFT(O442,LEN(O442)-1),2)),0,VLOOKUP(L442,[1]Choix14!$M$2:$N$14,2,FALSE)&LEFT(O442,4)&RIGHT(LEFT(O442,LEN(O442)-1),2)))*1","v":0},{"$nulls":6}," Cedric Paquette",{"$nulls":7},0,0]
[{"$f":"(IF(ISERROR(VLOOKUP(G443,[1]Choix14!$M$2:$N$14,2,FALSE)&LEFT(J443,4)&RIGHT(LEFT(J443,LEN(J443)-1),2)),0,VLOOKUP(G443,[1]Choix14!$M$2:$N$14,2,FALSE)&LEFT(J443,4)&RIGHT(LEFT(J443,LEN(J443)-1),2)))*1","v":0},{"$f":"(IF(ISERROR(VLOOKUP(L443,[1]Choix14!$M$2:$N$14,2,FALSE)&LEFT(O443,4)&RIGHT(LEFT(O443,LEN(O443)-1),2)),0,VLOOKUP(L443,[1]Choix14!$M$2:$N$14,2,FALSE)&LEFT(O443,4)&RIGHT(LEFT(O443,LEN(O443)-1),2)))*1","v":0},{"$nulls":6}," Drew Doughty",{"$nulls":7},0,0]
[{"$f":"(IF(ISERROR(VLOOKUP(G444,[1]Choix14!$M$2:$N$14,2,FALSE)&LEFT(J444,4)&RIGHT(LEFT(J444,LEN(J444)-1),2)),0,VLOOKUP(G444,[1]Choix14!$M$2:$N$14,2,FALSE)&LEFT(J444,4)&RIGHT(LEFT(J444,LEN(J444)-1),2)))*1","v":0},{"$f":"(IF(ISERROR(VLOOKUP(L444,[1]Choix14!$M$2:$N$14,2,FALSE)&LEFT(O444,4)&RIGHT(LEFT(O444,LEN(O444)-1),2)),0,VLOOKUP(L444,[1]Choix14!$M$2:$N$14,2,FALSE)&LEFT(O444,4)&RIGHT(LEFT(O444,LEN(O444)-1),2)))*1","v":0},{"$nulls":6}," Kris Letang",{"$nulls":7},0,0]
[{"$f":"(IF(ISERROR(VLOOKUP(G445,[1]Choix14!$M$2:$N$14,2,FALSE)&LEFT(J445,4)&RIGHT(LEFT(J445,LEN(J445)-1),2)),0,VLOOKUP(G445,[1]Choix14!$M$2:$N$14,2,FALSE)&LEFT(J445,4)&RIGHT(LEFT(J445,LEN(J445)-1),2)))*1","v":0},{"$f":"(IF(ISERROR(VLOOKUP(L445,[1]Choix14!$M$2:$N$14,2,FALSE)&LEFT(O445,4)&RIGHT(LEFT(O445,LEN(O445)-1),2)),0,VLOOKUP(L445,[1]Choix14!$M$2:$N$14,2,FALSE)&LEFT(O445,4)&RIGHT(LEFT(O445,LEN(O445)-1),2)))*1","v":0},{"$nulls":6}," Derek MacKenzie",{"$nulls":7},0,0]
[{"$f":"(IF(ISERROR(VLOOKUP(G446,[1]Choix14!$M$2:$N$14,2,FALSE)&LEFT(J446,4)&RIGHT(LEFT(J446,LEN(J446)-1),2)),0,VLOOKUP(G446,[1]Choix14!$M$2:$N$14,2,FALSE)&LEFT(J446,4)&RIGHT(LEFT(J446,LEN(J446)-1),2)))*1","v":0},{"$f":"(IF(ISERROR(VLOOKUP(L446,[1]Choix14!$M$2:$N$14,2,FALSE)&LEFT(O446,4)&RIGHT(LEFT(O446,LEN(O446)-1),2)),0,VLOOKUP(L446,[1]Choix14!$M$2:$N$14,2,FALSE)&LEFT(O446,4)&RIGHT(LEFT(O446,LEN(O446)-1),2)))*1","v":0},{"$nulls":6}," Colton Parayko",{"$nulls":7},0,0]
[{"$f":"(IF(ISERROR(VLOOKUP(G447,[1]Choix14!$M$2:$N$14,2,FALSE)&LEFT(J447,4)&RIGHT(LEFT(J447,LEN(J447)-1),2)),0,VLOOKUP(G447,[1]Choix14!$M$2:$N$14,2,FALSE)&LEFT(J447,4)&RIGHT(LEFT(J447,LEN(J447)-1),2)))*1","v":0},{"$f":"(IF(ISERROR(VLOOKUP(L447,[1]Choix14!$M$2:$N$14,2,FALSE)&LEFT(O447,4)&RIGHT(LEFT(O447,LEN(O447)-1),2)),0,VLOOKUP(L447,[1]Choix14!$M$2:$N$14,2,FALSE)&LEFT(O447,4)&RIGHT(LEFT(O447,LEN(O447)-1),2)))*1","v":0},{"$nulls":6}," Laurent Dauphin",{"$nulls":7},0,0]
[{"$f":"(IF(ISERROR(VLOOKUP(G448,[1]Choix14!$M$2:$N$14,2,FALSE)&LEFT(J448,4)&RIGHT(LEFT(J448,LEN(J448)-1),2)),0,VLOOKUP(G448,[1]Choix14!$M$2:$N$14,2,FALSE)&LEFT(J448,4)&RIGHT(LEFT(J448,LEN(J448)-1),2)))*1","v":0},{"$f":"(IF(ISERROR(VLOOKUP(L448,[1]Choix14!$M$2:$N$14,2,FALSE)&LEFT(O448,4)&RIGHT(LEFT(O448,LEN(O448)-1),2)),0,VLOOKUP(L448,[1]Choix14!$M$2:$N$14,2,FALSE)&LEFT(O448,4)&RIGHT(LEFT(O448,LEN(O448)-1),2)))*1","v":0},{"$nulls":6}," Jason Garrison",{"$nulls":7},0,0]
[{"$f":"(IF(ISERROR(VLOOKUP(G449,[1]Choix14!$M$2:$N$14,2,FALSE)&LEFT(J449,4)&RIGHT(LEFT(J449,LEN(J449)-1),2)),0,VLOOKUP(G449,[1]Choix14!$M$2:$N$14,2,FALSE)&LEFT(J449,4)&RIGHT(LEFT(J449,LEN(J449)-1),2)))*1","v":0},{"$f":"(IF(ISERROR(VLOOKUP(L449,[1]Choix14!$M$2:$N$14,2,FALSE)&LEFT(O449,4)&RIGHT(LEFT(O449,LEN(O449)-1),2)),0,VLOOKUP(L449,[1]Choix14!$M$2:$N$14,2,FALSE)&LEFT(O449,4)&RIGHT(LEFT(O449,LEN(O449)-1),2)))*1","v":0},{"$nulls":6}," Dominic Moore",{"$nulls":7},0,0]
[{"$f":"(IF(ISERROR(VLOOKUP(G450,[1]Choix14!$M$2:$N$14,2,FALSE)&LEFT(J450,4)&RIGHT(LEFT(J450,LEN(J450)-1),2)),0,VLOOKUP(G450,[1]Choix14!$M$2:$N$14,2,FALSE)&LEFT(J450,4)&RIGHT(LEFT(J450,LEN(J450)-1),2)))*1","v":0},{"$f":"(IF(ISERROR(VLOOKUP(L450,[1]Choix14!$M$2:$N$14,2,FALSE)&LEFT(O450,4)&RIGHT(LEFT(O450,LEN(O450)-1),2)),0,VLOOKUP(L450,[1]Choix14!$M$2:$N$14,2,FALSE)&LEFT(O450,4)&RIGHT(LEFT(O450,LEN(O450)-1),2)))*1","v":0},{"$nulls":6}," Damon Severson",{"$nulls":7},0,0]
[{"$f":"(IF(ISERROR(VLOOKUP(G451,[1]Choix14!$M$2:$N$14,2,FALSE)&LEFT(J451,4)&RIGHT(LEFT(J451,LEN(J451)-1),2)),0,VLOOKUP(G451,[1]Choix14!$M$2:$N$14,2,FALSE)&LEFT(J451,4)&RIGHT(LEFT(J451,LEN(J451)-1),2)))*1","v":0},{"$f":"(IF(ISERROR(VLOOKUP(L451,[1]Choix14!$M$2:$N$14,2,FALSE)&LEFT(O451,4)&RIGHT(LEFT(O451,LEN(O451)-1),2)),0,VLOOKUP(L451,[1]Choix14!$M$2:$N$14,2,FALSE)&LEFT(O451,4)&RIGHT(LEFT(O451,LEN(O451)-1),2)))*1","v":0},{"$nulls":6}," Scottie Upshall",{"$nulls":7},{"$f":"IF(A451<1,0,COUNTIF($A:$B,A451))","v":0},0]
[{"$f":"(IF(ISERROR(VLOOKUP(G452,[1]Choix14!$M$2:$N$14,2,FALSE)&LEFT(J452,4)&RIGHT(LEFT(J452,LEN(J452)-1),2)),0,VLOOKUP(G452,[1]Choix14!$M$2:$N$14,2,FALSE)&LEFT(J452,4)&RIGHT(LEFT(J452,LEN(J452)-1),2)))*1","v":0},{"$f":"(IF(ISERROR(VLOOKUP(L452,[1]Choix14!$M$2:$N$14,2,FALSE)&LEFT(O452,4)&RIGHT(LEFT(O452,LEN(O452)-1),2)),0,VLOOKUP(L452,[1]Choix14!$M$2:$N$14,2,FALSE)&LEFT(O452,4)&RIGHT(LEFT(O452,LEN(O452)-1),2)))*1","v":0},{"$nulls":6}," Ryan Hartman",{"$nulls":7},0,0]
[{"$f":"(IF(ISERROR(VLOOKUP(G453,[1]Choix14!$M$2:$N$14,2,FALSE)&LEFT(J453,4)&RIGHT(LEFT(J453,LEN(J453)-1),2)),0,VLOOKUP(G453,[1]Choix14!$M$2:$N$14,2,FALSE)&LEFT(J453,4)&RIGHT(LEFT(J453,LEN(J453)-1),2)))*1","v":0},{"$f":"(IF(ISERROR(VLOOKUP(L453,[1]Choix14!$M$2:$N$14,2,FALSE)&LEFT(O453,4)&RIGHT(LEFT(O453,LEN(O453)-1),2)),0,VLOOKUP(L453,[1]Choix14!$M$2:$N$14,2,FALSE)&LEFT(O453,4)&RIGHT(LEFT(O453,LEN(O453)-1),2)))*1","v":0},{"$nulls":6}," Dan Hamhuis",{"$nulls":7},0,0]
[{"$f":"(IF(ISERROR(VLOOKUP(G454,[1]Choix14!$M$2:$N$14,2,FALSE)&LEFT(J454,4)&RIGHT(LEFT(J454,LEN(J454)-1),2)),0,VLOOKUP(G454,[1]Choix14!$M$2:$N$14,2,FALSE)&LEFT(J454,4)&RIGHT(LEFT(J454,LEN(J454)-1),2)))*1","v":0},{"$f":"(IF(ISERROR(VLOOKUP(L454,[1]Choix14!$M$2:$N$14,2,FALSE)&LEFT(O454,4)&RIGHT(LEFT(O454,LEN(O454)-1),2)),0,VLOOKUP(L454,[1]Choix14!$M$2:$N$14,2,FALSE)&LEFT(O454,4)&RIGHT(LEFT(O454,LEN(O454)-1),2)))*1","v":0},{"$nulls":6}," Nikita Zadorov",{"$nulls":7},0,0]
[{"$f":"(IF(ISERROR(VLOOKUP(G455,[1]Choix14!$M$2:$N$14,2,FALSE)&LEFT(J455,4)&RIGHT(LEFT(J455,LEN(J455)-1),2)),0,VLOOKUP(G455,[1]Choix14!$M$2:$N$14,2,FALSE)&LEFT(J455,4)&RIGHT(LEFT(J455,LEN(J455)-1),2)))*1","v":0},{"$f":"(IF(ISERROR(VLOOKUP(L455,[1]Choix14!$M$2:$N$14,2,FALSE)&LEFT(O455,4)&RIGHT(LEFT(O455,LEN(O455)-1),2)),0,VLOOKUP(L455,[1]Choix14!$M$2:$N$14,2,FALSE)&LEFT(O455,4)&RIGHT(LEFT(O455,LEN(O455)-1),2)))*1","v":0},{"$nulls":6}," Jason Pominville",{"$nulls":7},0,0]
[{"$f":"(IF(ISERROR(VLOOKUP(G456,[1]Choix14!$M$2:$N$14,2,FALSE)&LEFT(J456,4)&RIGHT(LEFT(J456,LEN(J456)-1),2)),0,VLOOKUP(G456,[1]Choix14!$M$2:$N$14,2,FALSE)&LEFT(J456,4)&RIGHT(LEFT(J456,LEN(J456)-1),2)))*1","v":0},{"$f":"(IF(ISERROR(VLOOKUP(L456,[1]Choix14!$M$2:$N$14,2,FALSE)&LEFT(O456,4)&RIGHT(LEFT(O456,LEN(O456)-1),2)),0,VLOOKUP(L456,[1]Choix14!$M$2:$N$14,2,FALSE)&LEFT(O456,4)&RIGHT(LEFT(O456,LEN(O456)-1),2)))*1","v":0},{"$nulls":6}," Michael Cammalleri",{"$nulls":7},0,0]
[{"$f":"(IF(ISERROR(VLOOKUP(G457,[1]Choix14!$M$2:$N$14,2,FALSE)&LEFT(J457,4)&RIGHT(LEFT(J457,LEN(J457)-1),2)),0,VLOOKUP(G457,[1]Choix14!$M$2:$N$14,2,FALSE)&LEFT(J457,4)&RIGHT(LEFT(J457,LEN(J457)-1),2)))*1","v":0},{"$f":"(IF(ISERROR(VLOOKUP(L457,[1]Choix14!$M$2:$N$14,2,FALSE)&LEFT(O457,4)&RIGHT(LEFT(O457,LEN(O457)-1),2)),0,VLOOKUP(L457,[1]Choix14!$M$2:$N$14,2,FALSE)&LEFT(O457,4)&RIGHT(LEFT(O457,LEN(O457)-1),2)))*1","v":0},{"$nulls":6}," Karl Alzner",{"$nulls":7},0,0]
[{"$f":"(IF(ISERROR(VLOOKUP(G458,[1]Choix14!$M$2:$N$14,2,FALSE)&LEFT(J458,4)&RIGHT(LEFT(J458,LEN(J458)-1),2)),0,VLOOKUP(G458,[1]Choix14!$M$2:$N$14,2,FALSE)&LEFT(J458,4)&RIGHT(LEFT(J458,LEN(J458)-1),2)))*1","v":0},{"$f":"(IF(ISERROR(VLOOKUP(L458,[1]Choix14!$M$2:$N$14,2,FALSE)&LEFT(O458,4)&RIGHT(LEFT(O458,LEN(O458)-1),2)),0,VLOOKUP(L458,[1]Choix14!$M$2:$N$14,2,FALSE)&LEFT(O458,4)&RIGHT(LEFT(O458,LEN(O458)-1),2)))*1","v":0},{"$nulls":6}," Thomas Hickey",{"$nulls":7},0,0]
[{"$f":"(IF(ISERROR(VLOOKUP(G459,[1]Choix14!$M$2:$N$14,2,FALSE)&LEFT(J459,4)&RIGHT(LEFT(J459,LEN(J459)-1),2)),0,VLOOKUP(G459,[1]Choix14!$M$2:$N$14,2,FALSE)&LEFT(J459,4)&RIGHT(LEFT(J459,LEN(J459)-1),2)))*1","v":0},{"$f":"(IF(ISERROR(VLOOKUP(L459,[1]Choix14!$M$2:$N$14,2,FALSE)&LEFT(O459,4)&RIGHT(LEFT(O459,LEN(O459)-1),2)),0,VLOOKUP(L459,[1]Choix14!$M$2:$N$14,2,FALSE)&LEFT(O459,4)&RIGHT(LEFT(O459,LEN(O459)-1),2)))*1","v":0},{"$nulls":6}," Toby Enstrom",{"$nulls":7},0,0]
[{"$f":"(IF(ISERROR(VLOOKUP(G460,[1]Choix14!$M$2:$N$14,2,FALSE)&LEFT(J460,4)&RIGHT(LEFT(J460,LEN(J460)-1),2)),0,VLOOKUP(G460,[1]Choix14!$M$2:$N$14,2,FALSE)&LEFT(J460,4)&RIGHT(LEFT(J460,LEN(J460)-1),2)))*1","v":0},{"$f":"(IF(ISERROR(VLOOKUP(L460,[1]Choix14!$M$2:$N$14,2,FALSE)&LEFT(O460,4)&RIGHT(LEFT(O460,LEN(O460)-1),2)),0,VLOOKUP(L460,[1]Choix14!$M$2:$N$14,2,FALSE)&LEFT(O460,4)&RIGHT(LEFT(O460,LEN(O460)-1),2)))*1","v":0},{"$nulls":6}," Jussi Jokinen",{"$nulls":7},0,0]
[{"$f":"(IF(ISERROR(VLOOKUP(G461,[1]Choix14!$M$2:$N$14,2,FALSE)&LEFT(J461,4)&RIGHT(LEFT(J461,LEN(J461)-1),2)),0,VLOOKUP(G461,[1]Choix14!$M$2:$N$14,2,FALSE)&LEFT(J461,4)&RIGHT(LEFT(J461,LEN(J461)-1),2)))*1","v":0},{"$f":"(IF(ISERROR(VLOOKUP(L461,[1]Choix14!$M$2:$N$14,2,FALSE)&LEFT(O461,4)&RIGHT(LEFT(O461,LEN(O461)-1),2)),0,VLOOKUP(L461,[1]Choix14!$M$2:$N$14,2,FALSE)&LEFT(O461,4)&RIGHT(LEFT(O461,LEN(O461)-1),2)))*1","v":0},{"$nulls":6}," Brandon Carlo",{"$nulls":7},0,0]
[{"$f":"(IF(ISERROR(VLOOKUP(G462,[1]Choix14!$M$2:$N$14,2,FALSE)&LEFT(J462,4)&RIGHT(LEFT(J462,LEN(J462)-1),2)),0,VLOOKUP(G462,[1]Choix14!$M$2:$N$14,2,FALSE)&LEFT(J462,4)&RIGHT(LEFT(J462,LEN(J462)-1),2)))*1","v":0},{"$f":"(IF(ISERROR(VLOOKUP(L462,[1]Choix14!$M$2:$N$14,2,FALSE)&LEFT(O462,4)&RIGHT(LEFT(O462,LEN(O462)-1),2)),0,VLOOKUP(L462,[1]Choix14!$M$2:$N$14,2,FALSE)&LEFT(O462,4)&RIGHT(LEFT(O462,LEN(O462)-1),2)))*1","v":0},{"$nulls":6}," Max Domi",{"$nulls":7},0,0]
[{"$f":"(IF(ISERROR(VLOOKUP(G463,[1]Choix14!$M$2:$N$14,2,FALSE)&LEFT(J463,4)&RIGHT(LEFT(J463,LEN(J463)-1),2)),0,VLOOKUP(G463,[1]Choix14!$M$2:$N$14,2,FALSE)&LEFT(J463,4)&RIGHT(LEFT(J463,LEN(J463)-1),2)))*1","v":0},{"$f":"(IF(ISERROR(VLOOKUP(L463,[1]Choix14!$M$2:$N$14,2,FALSE)&LEFT(O463,4)&RIGHT(LEFT(O463,LEN(O463)-1),2)),0,VLOOKUP(L463,[1]Choix14!$M$2:$N$14,2,FALSE)&LEFT(O463,4)&RIGHT(LEFT(O463,LEN(O463)-1),2)))*1","v":0},{"$nulls":6}," Mathieu Perreault",{"$nulls":7},0,0]
[{"$f":"(IF(ISERROR(VLOOKUP(G464,[1]Choix14!$M$2:$N$14,2,FALSE)&LEFT(J464,4)&RIGHT(LEFT(J464,LEN(J464)-1),2)),0,VLOOKUP(G464,[1]Choix14!$M$2:$N$14,2,FALSE)&LEFT(J464,4)&RIGHT(LEFT(J464,LEN(J464)-1),2)))*1","v":0},{"$f":"(IF(ISERROR(VLOOKUP(L464,[1]Choix14!$M$2:$N$14,2,FALSE)&LEFT(O464,4)&RIGHT(LEFT(O464,LEN(O464)-1),2)),0,VLOOKUP(L464,[1]Choix14!$M$2:$N$14,2,FALSE)&LEFT(O464,4)&RIGHT(LEFT(O464,LEN(O464)-1),2)))*1","v":0},{"$nulls":6}," Nick Holden",{"$nulls":7},0,0]
[{"$f":"(IF(ISERROR(VLOOKUP(G465,[1]Choix14!$M$2:$N$14,2,FALSE)&LEFT(J465,4)&RIGHT(LEFT(J465,LEN(J465)-1),2)),0,VLOOKUP(G465,[1]Choix14!$M$2:$N$14,2,FALSE)&LEFT(J465,4)&RIGHT(LEFT(J465,LEN(J465)-1),2)))*1","v":0},{"$f":"(IF(ISERROR(VLOOKUP(L465,[1]Choix14!$M$2:$N$14,2,FALSE)&LEFT(O465,4)&RIGHT(LEFT(O465,LEN(O465)-1),2)),0,VLOOKUP(L465,[1]Choix14!$M$2:$N$14,2,FALSE)&LEFT(O465,4)&RIGHT(LEFT(O465,LEN(O465)-1),2)))*1","v":0},{"$nulls":6}," Fedor Tyutin",{"$nulls":7},0,0]
[{"$f":"(IF(ISERROR(VLOOKUP(G466,[1]Choix14!$M$2:$N$14,2,FALSE)&LEFT(J466,4)&RIGHT(LEFT(J466,LEN(J466)-1),2)),0,VLOOKUP(G466,[1]Choix14!$M$2:$N$14,2,FALSE)&LEFT(J466,4)&RIGHT(LEFT(J466,LEN(J466)-1),2)))*1","v":0},{"$f":"(IF(ISERROR(VLOOKUP(L466,[1]Choix14!$M$2:$N$14,2,FALSE)&LEFT(O466,4)&RIGHT(LEFT(O466,LEN(O466)-1),2)),0,VLOOKUP(L466,[1]Choix14!$M$2:$N$14,2,FALSE)&LEFT(O466,4)&RIGHT(LEFT(O466,LEN(O466)-1),2)))*1","v":0},{"$nulls":6}," Tim Schaller",{"$nulls":7},0,0]
[{"$f":"(IF(ISERROR(VLOOKUP(G467,[1]Choix14!$M$2:$N$14,2,FALSE)&LEFT(J467,4)&RIGHT(LEFT(J467,LEN(J467)-1),2)),0,VLOOKUP(G467,[1]Choix14!$M$2:$N$14,2,FALSE)&LEFT(J467,4)&RIGHT(LEFT(J467,LEN(J467)-1),2)))*1","v":0},{"$f":"(IF(ISERROR(VLOOKUP(L467,[1]Choix14!$M$2:$N$14,2,FALSE)&LEFT(O467,4)&RIGHT(LEFT(O467,LEN(O467)-1),2)),0,VLOOKUP(L467,[1]Choix14!$M$2:$N$14,2,FALSE)&LEFT(O467,4)&RIGHT(LEFT(O467,LEN(O467)-1),2)))*1","v":0},{"$nulls":6}," Erik Haula",{"$nulls":7},0,0]
[{"$f":"(IF(ISERROR(VLOOKUP(G468,[1]Choix14!$M$2:$N$14,2,FALSE)&LEFT(J468,4)&RIGHT(LEFT(J468,LEN(J468)-1),2)),0,VLOOKUP(G468,[1]Choix14!$M$2:$N$14,2,FALSE)&LEFT(J468,4)&RIGHT(LEFT(J468,LEN(J468)-1),2)))*1","v":0},{"$f":"(IF(ISERROR(VLOOKUP(L468,[1]Choix14!$M$2:$N$14,2,FALSE)&LEFT(O468,4)&RIGHT(LEFT(O468,LEN(O468)-1),2)),0,VLOOKUP(L468,[1]Choix14!$M$2:$N$14,2,FALSE)&LEFT(O468,4)&RIGHT(LEFT(O468,LEN(O468)-1),2)))*1","v":0},{"$nulls":6}," Shawn Matthias",{"$nulls":7},0,0]
[{"$f":"(IF(ISERROR(VLOOKUP(G469,[1]Choix14!$M$2:$N$14,2,FALSE)&LEFT(J469,4)&RIGHT(LEFT(J469,LEN(J469)-1),2)),0,VLOOKUP(G469,[1]Choix14!$M$2:$N$14,2,FALSE)&LEFT(J469,4)&RIGHT(LEFT(J469,LEN(J469)-1),2)))*1","v":0},{"$f":"(IF(ISERROR(VLOOKUP(L469,[1]Choix14!$M$2:$N$14,2,FALSE)&LEFT(O469,4)&RIGHT(LEFT(O469,LEN(O469)-1),2)),0,VLOOKUP(L469,[1]Choix14!$M$2:$N$14,2,FALSE)&LEFT(O469,4)&RIGHT(LEFT(O469,LEN(O469)-1),2)))*1","v":0},{"$nulls":6}," Colton Sceviour",{"$nulls":7},0,0]
[{"$f":"(IF(ISERROR(VLOOKUP(G470,[1]Choix14!$M$2:$N$14,2,FALSE)&LEFT(J470,4)&RIGHT(LEFT(J470,LEN(J470)-1),2)),0,VLOOKUP(G470,[1]Choix14!$M$2:$N$14,2,FALSE)&LEFT(J470,4)&RIGHT(LEFT(J470,LEN(J470)-1),2)))*1","v":0},{"$f":"(IF(ISERROR(VLOOKUP(L470,[1]Choix14!$M$2:$N$14,2,FALSE)&LEFT(O470,4)&RIGHT(LEFT(O470,LEN(O470)-1),2)),0,VLOOKUP(L470,[1]Choix14!$M$2:$N$14,2,FALSE)&LEFT(O470,4)&RIGHT(LEFT(O470,LEN(O470)-1),2)))*1","v":0},{"$nulls":6}," Andre Burakovsky",{"$nulls":7},0,0]
[{"$f":"(IF(ISERROR(VLOOKUP(G471,[1]Choix14!$M$2:$N$14,2,FALSE)&LEFT(J471,4)&RIGHT(LEFT(J471,LEN(J471)-1),2)),0,VLOOKUP(G471,[1]Choix14!$M$2:$N$14,2,FALSE)&LEFT(J471,4)&RIGHT(LEFT(J471,LEN(J471)-1),2)))*1","v":0},{"$f":"(IF(ISERROR(VLOOKUP(L471,[1]Choix14!$M$2:$N$14,2,FALSE)&LEFT(O471,4)&RIGHT(LEFT(O471,LEN(O471)-1),2)),0,VLOOKUP(L471,[1]Choix14!$M$2:$N$14,2,FALSE)&LEFT(O471,4)&RIGHT(LEFT(O471,LEN(O471)-1),2)))*1","v":0},{"$nulls":6}," Nick Leddy",{"$nulls":7},0,0]
[{"$f":"(IF(ISERROR(VLOOKUP(G472,[1]Choix14!$M$2:$N$14,2,FALSE)&LEFT(J472,4)&RIGHT(LEFT(J472,LEN(J472)-1),2)),0,VLOOKUP(G472,[1]Choix14!$M$2:$N$14,2,FALSE)&LEFT(J472,4)&RIGHT(LEFT(J472,LEN(J472)-1),2)))*1","v":0},{"$f":"(IF(ISERROR(VLOOKUP(L472,[1]Choix14!$M$2:$N$14,2,FALSE)&LEFT(O472,4)&RIGHT(LEFT(O472,LEN(O472)-1),2)),0,VLOOKUP(L472,[1]Choix14!$M$2:$N$14,2,FALSE)&LEFT(O472,4)&RIGHT(LEFT(O472,LEN(O472)-1),2)))*1","v":0},{"$nulls":6}," Jordan Staal",{"$nulls":7},0,0]
[{"$f":"(IF(ISERROR(VLOOKUP(G473,[1]Choix14!$M$2:$N$14,2,FALSE)&LEFT(J473,4)&RIGHT(LEFT(J473,LEN(J473)-1),2)),0,VLOOKUP(G473,[1]Choix14!$M$2:$N$14,2,FALSE)&LEFT(J473,4)&RIGHT(LEFT(J473,LEN(J473)-1),2)))*1","v":0},{"$f":"(IF(ISERROR(VLOOKUP(L473,[1]Choix14!$M$2:$N$14,2,FALSE)&LEFT(O473,4)&RIGHT(LEFT(O473,LEN(O473)-1),2)),0,VLOOKUP(L473,[1]Choix14!$M$2:$N$14,2,FALSE)&LEFT(O473,4)&RIGHT(LEFT(O473,LEN(O473)-1),2)))*1","v":0},{"$nulls":6}," Ryan Ellis",{"$nulls":7},0,0]
[{"$f":"(IF(ISERROR(VLOOKUP(G474,[1]Choix14!$M$2:$N$14,2,FALSE)&LEFT(J474,4)&RIGHT(LEFT(J474,LEN(J474)-1),2)),0,VLOOKUP(G474,[1]Choix14!$M$2:$N$14,2,FALSE)&LEFT(J474,4)&RIGHT(LEFT(J474,LEN(J474)-1),2)))*1","v":0},{"$f":"(IF(ISERROR(VLOOKUP(L474,[1]Choix14!$M$2:$N$14,2,FALSE)&LEFT(O474,4)&RIGHT(LEFT(O474,LEN(O474)-1),2)),0,VLOOKUP(L474,[1]Choix14!$M$2:$N$14,2,FALSE)&LEFT(O474,4)&RIGHT(LEFT(O474,LEN(O474)-1),2)))*1","v":0},{"$nulls":6}," Dan Girardi",{"$nulls":7},0,0]
[{"$f":"(IF(ISERROR(VLOOKUP(G475,[1]Choix14!$M$2:$N$14,2,FALSE)&LEFT(J475,4)&RIGHT(LEFT(J475,LEN(J475)-1),2)),0,VLOOKUP(G475,[1]Choix14!$M$2:$N$14,2,FALSE)&LEFT(J475,4)&RIGHT(LEFT(J475,LEN(J475)-1),2)))*1","v":0},{"$f":"(IF(ISERROR(VLOOKUP(L475,[1]Choix14!$M$2:$N$14,2,FALSE)&LEFT(O475,4)&RIGHT(LEFT(O475,LEN(O475)-1),2)),0,VLOOKUP(L475,[1]Choix14!$M$2:$N$14,2,FALSE)&LEFT(O475,4)&RIGHT(LEFT(O475,LEN(O475)-1),2)))*1","v":0},{"$nulls":6}," Jonathan Toews",{"$nulls":7},0,0]
[{"$f":"(IF(ISERROR(VLOOKUP(G476,[1]Choix14!$M$2:$N$14,2,FALSE)&LEFT(J476,4)&RIGHT(LEFT(J476,LEN(J476)-1),2)),0,VLOOKUP(G476,[1]Choix14!$M$2:$N$14,2,FALSE)&LEFT(J476,4)&RIGHT(LEFT(J476,LEN(J476)-1),2)))*1","v":0},{"$f":"(IF(ISERROR(VLOOKUP(L476,[1]Choix14!$M$2:$N$14,2,FALSE)&LEFT(O476,4)&RIGHT(LEFT(O476,LEN(O476)-1),2)),0,VLOOKUP(L476,[1]Choix14!$M$2:$N$14,2,FALSE)&LEFT(O476,4)&RIGHT(LEFT(O476,LEN(O476)-1),2)))*1","v":0},{"$nulls":6}," Radek Faksa",{"$nulls":7},0,0]
[{"$f":"(IF(ISERROR(VLOOKUP(G477,[1]Choix14!$M$2:$N$14,2,FALSE)&LEFT(J477,4)&RIGHT(LEFT(J477,LEN(J477)-1),2)),0,VLOOKUP(G477,[1]Choix14!$M$2:$N$14,2,FALSE)&LEFT(J477,4)&RIGHT(LEFT(J477,LEN(J477)-1),2)))*1","v":0},{"$f":"(IF(ISERROR(VLOOKUP(L477,[1]Choix14!$M$2:$N$14,2,FALSE)&LEFT(O477,4)&RIGHT(LEFT(O477,LEN(O477)-1),2)),0,VLOOKUP(L477,[1]Choix14!$M$2:$N$14,2,FALSE)&LEFT(O477,4)&RIGHT(LEFT(O477,LEN(O477)-1),2)))*1","v":0},{"$nulls":6}," Oliver Ekman-Larsson",{"$nulls":7},0,0]
[{"$f":"(IF(ISERROR(VLOOKUP(G478,[1]Choix14!$M$2:$N$14,2,FALSE)&LEFT(J478,4)&RIGHT(LEFT(J478,LEN(J478)-1),2)),0,VLOOKUP(G478,[1]Choix14!$M$2:$N$14,2,FALSE)&LEFT(J478,4)&RIGHT(LEFT(J478,LEN(J478)-1),2)))*1","v":0},{"$f":"(IF(ISERROR(VLOOKUP(L478,[1]Choix14!$M$2:$N$14,2,FALSE)&LEFT(O478,4)&RIGHT(LEFT(O478,LEN(O478)-1),2)),0,VLOOKUP(L478,[1]Choix14!$M$2:$N$14,2,FALSE)&LEFT(O478,4)&RIGHT(LEFT(O478,LEN(O478)-1),2)))*1","v":0},{"$nulls":6}," Andrej Sekera",{"$nulls":7},0,0]
[{"$f":"(IF(ISERROR(VLOOKUP(G479,[1]Choix14!$M$2:$N$14,2,FALSE)&LEFT(J479,4)&RIGHT(LEFT(J479,LEN(J479)-1),2)),0,VLOOKUP(G479,[1]Choix14!$M$2:$N$14,2,FALSE)&LEFT(J479,4)&RIGHT(LEFT(J479,LEN(J479)-1),2)))*1","v":0},{"$f":"(IF(ISERROR(VLOOKUP(L479,[1]Choix14!$M$2:$N$14,2,FALSE)&LEFT(O479,4)&RIGHT(LEFT(O479,LEN(O479)-1),2)),0,VLOOKUP(L479,[1]Choix14!$M$2:$N$14,2,FALSE)&LEFT(O479,4)&RIGHT(LEFT(O479,LEN(O479)-1),2)))*1","v":0},{"$nulls":6}," Brady Skjei",{"$nulls":7},0,0]
[{"$f":"(IF(ISERROR(VLOOKUP(G480,[1]Choix14!$M$2:$N$14,2,FALSE)&LEFT(J480,4)&RIGHT(LEFT(J480,LEN(J480)-1),2)),0,VLOOKUP(G480,[1]Choix14!$M$2:$N$14,2,FALSE)&LEFT(J480,4)&RIGHT(LEFT(J480,LEN(J480)-1),2)))*1","v":0},{"$f":"(IF(ISERROR(VLOOKUP(L480,[1]Choix14!$M$2:$N$14,2,FALSE)&LEFT(O480,4)&RIGHT(LEFT(O480,LEN(O480)-1),2)),0,VLOOKUP(L480,[1]Choix14!$M$2:$N$14,2,FALSE)&LEFT(O480,4)&RIGHT(LEFT(O480,LEN(O480)-1),2)))*1","v":0},{"$nulls":6}," Jonathan Ericsson",{"$nulls":7},0,0]
[{"$f":"(IF(ISERROR(VLOOKUP(G481,[1]Choix14!$M$2:$N$14,2,FALSE)&LEFT(J481,4)&RIGHT(LEFT(J481,LEN(J481)-1),2)),0,VLOOKUP(G481,[1]Choix14!$M$2:$N$14,2,FALSE)&LEFT(J481,4)&RIGHT(LEFT(J481,LEN(J481)-1),2)))*1","v":0},{"$f":"(IF(ISERROR(VLOOKUP(L481,[1]Choix14!$M$2:$N$14,2,FALSE)&LEFT(O481,4)&RIGHT(LEFT(O481,LEN(O481)-1),2)),0,VLOOKUP(L481,[1]Choix14!$M$2:$N$14,2,FALSE)&LEFT(O481,4)&RIGHT(LEFT(O481,LEN(O481)-1),2)))*1","v":0},{"$nulls":6}," Zemgus Girgensons",{"$nulls":7},0,0]
[{"$f":"(IF(ISERROR(VLOOKUP(G482,[1]Choix14!$M$2:$N$14,2,FALSE)&LEFT(J482,4)&RIGHT(LEFT(J482,LEN(J482)-1),2)),0,VLOOKUP(G482,[1]Choix14!$M$2:$N$14,2,FALSE)&LEFT(J482,4)&RIGHT(LEFT(J482,LEN(J482)-1),2)))*1","v":0},{"$f":"(IF(ISERROR(VLOOKUP(L482,[1]Choix14!$M$2:$N$14,2,FALSE)&LEFT(O482,4)&RIGHT(LEFT(O482,LEN(O482)-1),2)),0,VLOOKUP(L482,[1]Choix14!$M$2:$N$14,2,FALSE)&LEFT(O482,4)&RIGHT(LEFT(O482,LEN(O482)-1),2)))*1","v":0},{"$nulls":6}," Dylan Larkin",{"$nulls":7},0,0]
[{"$f":"(IF(ISERROR(VLOOKUP(G483,[1]Choix14!$M$2:$N$14,2,FALSE)&LEFT(J483,4)&RIGHT(LEFT(J483,LEN(J483)-1),2)),0,VLOOKUP(G483,[1]Choix14!$M$2:$N$14,2,FALSE)&LEFT(J483,4)&RIGHT(LEFT(J483,LEN(J483)-1),2)))*1","v":0},{"$f":"(IF(ISERROR(VLOOKUP(L483,[1]Choix14!$M$2:$N$14,2,FALSE)&LEFT(O483,4)&RIGHT(LEFT(O483,LEN(O483)-1),2)),0,VLOOKUP(L483,[1]Choix14!$M$2:$N$14,2,FALSE)&LEFT(O483,4)&RIGHT(LEFT(O483,LEN(O483)-1),2)))*1","v":0},{"$nulls":6}," Cody Ceci",{"$nulls":7},0,0]
[{"$f":"(IF(ISERROR(VLOOKUP(G484,[1]Choix14!$M$2:$N$14,2,FALSE)&LEFT(J484,4)&RIGHT(LEFT(J484,LEN(J484)-1),2)),0,VLOOKUP(G484,[1]Choix14!$M$2:$N$14,2,FALSE)&LEFT(J484,4)&RIGHT(LEFT(J484,LEN(J484)-1),2)))*1","v":0},{"$f":"(IF(ISERROR(VLOOKUP(L484,[1]Choix14!$M$2:$N$14,2,FALSE)&LEFT(O484,4)&RIGHT(LEFT(O484,LEN(O484)-1),2)),0,VLOOKUP(L484,[1]Choix14!$M$2:$N$14,2,FALSE)&LEFT(O484,4)&RIGHT(LEFT(O484,LEN(O484)-1),2)))*1","v":0},{"$nulls":6}," Nate Schmidt",{"$nulls":7},0,0]
[{"$f":"(IF(ISERROR(VLOOKUP(G485,[1]Choix14!$M$2:$N$14,2,FALSE)&LEFT(J485,4)&RIGHT(LEFT(J485,LEN(J485)-1),2)),0,VLOOKUP(G485,[1]Choix14!$M$2:$N$14,2,FALSE)&LEFT(J485,4)&RIGHT(LEFT(J485,LEN(J485)-1),2)))*1","v":0},{"$f":"(IF(ISERROR(VLOOKUP(L485,[1]Choix14!$M$2:$N$14,2,FALSE)&LEFT(O485,4)&RIGHT(LEFT(O485,LEN(O485)-1),2)),0,VLOOKUP(L485,[1]Choix14!$M$2:$N$14,2,FALSE)&LEFT(O485,4)&RIGHT(LEFT(O485,LEN(O485)-1),2)))*1","v":0},{"$nulls":6}," Josh Morrissey",{"$nulls":7},0,0]
[{"$f":"(IF(ISERROR(VLOOKUP(G486,[1]Choix14!$M$2:$N$14,2,FALSE)&LEFT(J486,4)&RIGHT(LEFT(J486,LEN(J486)-1),2)),0,VLOOKUP(G486,[1]Choix14!$M$2:$N$14,2,FALSE)&LEFT(J486,4)&RIGHT(LEFT(J486,LEN(J486)-1),2)))*1","v":0},{"$f":"(IF(ISERROR(VLOOKUP(L486,[1]Choix14!$M$2:$N$14,2,FALSE)&LEFT(O486,4)&RIGHT(LEFT(O486,LEN(O486)-1),2)),0,VLOOKUP(L486,[1]Choix14!$M$2:$N$14,2,FALSE)&LEFT(O486,4)&RIGHT(LEFT(O486,LEN(O486)-1),2)))*1","v":0},{"$nulls":6}," Anders Lee",{"$nulls":7},0,0]
[{"$f":"(IF(ISERROR(VLOOKUP(G487,[1]Choix14!$M$2:$N$14,2,FALSE)&LEFT(J487,4)&RIGHT(LEFT(J487,LEN(J487)-1),2)),0,VLOOKUP(G487,[1]Choix14!$M$2:$N$14,2,FALSE)&LEFT(J487,4)&RIGHT(LEFT(J487,LEN(J487)-1),2)))*1","v":0},{"$f":"(IF(ISERROR(VLOOKUP(L487,[1]Choix14!$M$2:$N$14,2,FALSE)&LEFT(O487,4)&RIGHT(LEFT(O487,LEN(O487)-1),2)),0,VLOOKUP(L487,[1]Choix14!$M$2:$N$14,2,FALSE)&LEFT(O487,4)&RIGHT(LEFT(O487,LEN(O487)-1),2)))*1","v":0},{"$nulls":6}," Sven Baertschi",{"$nulls":7},0,0]
[{"$f":"(IF(ISERROR(VLOOKUP(G488,[1]Choix14!$M$2:$N$14,2,FALSE)&LEFT(J488,4)&RIGHT(LEFT(J488,LEN(J488)-1),2)),0,VLOOKUP(G488,[1]Choix14!$M$2:$N$14,2,FALSE)&LEFT(J488,4)&RIGHT(LEFT(J488,LEN(J488)-1),2)))*1","v":0},{"$f":"(IF(ISERROR(VLOOKUP(L488,[1]Choix14!$M$2:$N$14,2,FALSE)&LEFT(O488,4)&RIGHT(LEFT(O488,LEN(O488)-1),2)),0,VLOOKUP(L488,[1]Choix14!$M$2:$N$14,2,FALSE)&LEFT(O488,4)&RIGHT(LEFT(O488,LEN(O488)-1),2)))*1","v":0},{"$nulls":6}," Danny DeKeyser",{"$nulls":7},0,0]
[{"$f":"(IF(ISERROR(VLOOKUP(G489,[1]Choix14!$M$2:$N$14,2,FALSE)&LEFT(J489,4)&RIGHT(LEFT(J489,LEN(J489)-1),2)),0,VLOOKUP(G489,[1]Choix14!$M$2:$N$14,2,FALSE)&LEFT(J489,4)&RIGHT(LEFT(J489,LEN(J489)-1),2)))*1","v":0},{"$f":"(IF(ISERROR(VLOOKUP(L489,[1]Choix14!$M$2:$N$14,2,FALSE)&LEFT(O489,4)&RIGHT(LEFT(O489,LEN(O489)-1),2)),0,VLOOKUP(L489,[1]Choix14!$M$2:$N$14,2,FALSE)&LEFT(O489,4)&RIGHT(LEFT(O489,LEN(O489)-1),2)))*1","v":0},{"$nulls":6}," Oscar Klefbom",{"$nulls":7},0,0]
[{"$f":"(IF(ISERROR(VLOOKUP(G490,[1]Choix14!$M$2:$N$14,2,FALSE)&LEFT(J490,4)&RIGHT(LEFT(J490,LEN(J490)-1),2)),0,VLOOKUP(G490,[1]Choix14!$M$2:$N$14,2,FALSE)&LEFT(J490,4)&RIGHT(LEFT(J490,LEN(J490)-1),2)))*1","v":0},{"$f":"(IF(ISERROR(VLOOKUP(L490,[1]Choix14!$M$2:$N$14,2,FALSE)&LEFT(O490,4)&RIGHT(LEFT(O490,LEN(O490)-1),2)),0,VLOOKUP(L490,[1]Choix14!$M$2:$N$14,2,FALSE)&LEFT(O490,4)&RIGHT(LEFT(O490,LEN(O490)-1),2)))*1","v":0},{"$nulls":6}," Denis Malgin",{"$nulls":7},0,0]
[{"$f":"(IF(ISERROR(VLOOKUP(G491,[1]Choix14!$M$2:$N$14,2,FALSE)&LEFT(J491,4)&RIGHT(LEFT(J491,LEN(J491)-1),2)),0,VLOOKUP(G491,[1]Choix14!$M$2:$N$14,2,FALSE)&LEFT(J491,4)&RIGHT(LEFT(J491,LEN(J491)-1),2)))*1","v":0},{"$f":"(IF(ISERROR(VLOOKUP(L491,[1]Choix14!$M$2:$N$14,2,FALSE)&LEFT(O491,4)&RIGHT(LEFT(O491,LEN(O491)-1),2)),0,VLOOKUP(L491,[1]Choix14!$M$2:$N$14,2,FALSE)&LEFT(O491,4)&RIGHT(LEFT(O491,LEN(O491)-1),2)))*1","v":0},{"$nulls":6}," Connor Brown",{"$nulls":7},0,0]
[{"$f":"(IF(ISERROR(VLOOKUP(G492,[1]Choix14!$M$2:$N$14,2,FALSE)&LEFT(J492,4)&RIGHT(LEFT(J492,LEN(J492)-1),2)),0,VLOOKUP(G492,[1]Choix14!$M$2:$N$14,2,FALSE)&LEFT(J492,4)&RIGHT(LEFT(J492,LEN(J492)-1),2)))*1","v":0},{"$f":"(IF(ISERROR(VLOOKUP(L492,[1]Choix14!$M$2:$N$14,2,FALSE)&LEFT(O492,4)&RIGHT(LEFT(O492,LEN(O492)-1),2)),0,VLOOKUP(L492,[1]Choix14!$M$2:$N$14,2,FALSE)&LEFT(O492,4)&RIGHT(LEFT(O492,LEN(O492)-1),2)))*1","v":0},{"$nulls":6}," Greg Pateryn",{"$nulls":7},0,0]
[{"$f":"(IF(ISERROR(VLOOKUP(G493,[1]Choix14!$M$2:$N$14,2,FALSE)&LEFT(J493,4)&RIGHT(LEFT(J493,LEN(J493)-1),2)),0,VLOOKUP(G493,[1]Choix14!$M$2:$N$14,2,FALSE)&LEFT(J493,4)&RIGHT(LEFT(J493,LEN(J493)-1),2)))*1","v":0},{"$f":"(IF(ISERROR(VLOOKUP(L493,[1]Choix14!$M$2:$N$14,2,FALSE)&LEFT(O493,4)&RIGHT(LEFT(O493,LEN(O493)-1),2)),0,VLOOKUP(L493,[1]Choix14!$M$2:$N$14,2,FALSE)&LEFT(O493,4)&RIGHT(LEFT(O493,LEN(O493)-1),2)))*1","v":0},{"$nulls":6}," Nick Schmaltz",{"$nulls":7},0,0]
[{"$f":"(IF(ISERROR(VLOOKUP(G494,[1]Choix14!$M$2:$N$14,2,FALSE)&LEFT(J494,4)&RIGHT(LEFT(J494,LEN(J494)-1),2)),0,VLOOKUP(G494,[1]Choix14!$M$2:$N$14,2,FALSE)&LEFT(J494,4)&RIGHT(LEFT(J494,LEN(J494)-1),2)))*1","v":0},{"$f":"(IF(ISERROR(VLOOKUP(L494,[1]Choix14!$M$2:$N$14,2,FALSE)&LEFT(O494,4)&RIGHT(LEFT(O494,LEN(O494)-1),2)),0,VLOOKUP(L494,[1]Choix14!$M$2:$N$14,2,FALSE)&LEFT(O494,4)&RIGHT(LEFT(O494,LEN(O494)-1),2)))*1","v":0},{"$nulls":6}," Curtis McKenzie",{"$nulls":7},0,0]
[{"$f":"(IF(ISERROR(VLOOKUP(G495,[1]Choix14!$M$2:$N$14,2,FALSE)&LEFT(J495,4)&RIGHT(LEFT(J495,LEN(J495)-1),2)),0,VLOOKUP(G495,[1]Choix14!$M$2:$N$14,2,FALSE)&LEFT(J495,4)&RIGHT(LEFT(J495,LEN(J495)-1),2)))*1","v":0},{"$f":"(IF(ISERROR(VLOOKUP(L495,[1]Choix14!$M$2:$N$14,2,FALSE)&LEFT(O495,4)&RIGHT(LEFT(O495,LEN(O495)-1),2)),0,VLOOKUP(L495,[1]Choix14!$M$2:$N$14,2,FALSE)&LEFT(O495,4)&RIGHT(LEFT(O495,LEN(O495)-1),2)))*1","v":0},{"$nulls":6}," Jakob Silfverberg",{"$nulls":7},0,0]
[{"$f":"(IF(ISERROR(VLOOKUP(G496,[1]Choix14!$M$2:$N$14,2,FALSE)&LEFT(J496,4)&RIGHT(LEFT(J496,LEN(J496)-1),2)),0,VLOOKUP(G496,[1]Choix14!$M$2:$N$14,2,FALSE)&LEFT(J496,4)&RIGHT(LEFT(J496,LEN(J496)-1),2)))*1","v":0},{"$f":"(IF(ISERROR(VLOOKUP(L496,[1]Choix14!$M$2:$N$14,2,FALSE)&LEFT(O496,4)&RIGHT(LEFT(O496,LEN(O496)-1),2)),0,VLOOKUP(L496,[1]Choix14!$M$2:$N$14,2,FALSE)&LEFT(O496,4)&RIGHT(LEFT(O496,LEN(O496)-1),2)))*1","v":0},{"$nulls":6}," Elias Lindholm",{"$nulls":7},0,0]
[{"$f":"(IF(ISERROR(VLOOKUP(G497,[1]Choix14!$M$2:$N$14,2,FALSE)&LEFT(J497,4)&RIGHT(LEFT(J497,LEN(J497)-1),2)),0,VLOOKUP(G497,[1]Choix14!$M$2:$N$14,2,FALSE)&LEFT(J497,4)&RIGHT(LEFT(J497,LEN(J497)-1),2)))*1","v":0},{"$f":"(IF(ISERROR(VLOOKUP(L497,[1]Choix14!$M$2:$N$14,2,FALSE)&LEFT(O497,4)&RIGHT(LEFT(O497,LEN(O497)-1),2)),0,VLOOKUP(L497,[1]Choix14!$M$2:$N$14,2,FALSE)&LEFT(O497,4)&RIGHT(LEFT(O497,LEN(O497)-1),2)))*1","v":0},{"$nulls":6}," Pavel Buchnevich",{"$nulls":7},0,0]
[{"$f":"(IF(ISERROR(VLOOKUP(G498,[1]Choix14!$M$2:$N$14,2,FALSE)&LEFT(J498,4)&RIGHT(LEFT(J498,LEN(J498)-1),2)),0,VLOOKUP(G498,[1]Choix14!$M$2:$N$14,2,FALSE)&LEFT(J498,4)&RIGHT(LEFT(J498,LEN(J498)-1),2)))*1","v":0},{"$f":"(IF(ISERROR(VLOOKUP(L498,[1]Choix14!$M$2:$N$14,2,FALSE)&LEFT(O498,4)&RIGHT(LEFT(O498,LEN(O498)-1),2)),0,VLOOKUP(L498,[1]Choix14!$M$2:$N$14,2,FALSE)&LEFT(O498,4)&RIGHT(LEFT(O498,LEN(O498)-1),2)))*1","v":0},{"$nulls":6}," Mattias Ekholm",{"$nulls":7},0,0]
[{"$f":"(IF(ISERROR(VLOOKUP(G499,[1]Choix14!$M$2:$N$14,2,FALSE)&LEFT(J499,4)&RIGHT(LEFT(J499,LEN(J499)-1),2)),0,VLOOKUP(G499,[1]Choix14!$M$2:$N$14,2,FALSE)&LEFT(J499,4)&RIGHT(LEFT(J499,LEN(J499)-1),2)))*1","v":0},{"$f":"(IF(ISERROR(VLOOKUP(L499,[1]Choix14!$M$2:$N$14,2,FALSE)&LEFT(O499,4)&RIGHT(LEFT(O499,LEN(O499)-1),2)),0,VLOOKUP(L499,[1]Choix14!$M$2:$N$14,2,FALSE)&LEFT(O499,4)&RIGHT(LEFT(O499,LEN(O499)-1),2)))*1","v":0},{"$nulls":6}," Andreas Martinsen",{"$nulls":7},0,0]
[{"$f":"(IF(ISERROR(VLOOKUP(G500,[1]Choix14!$M$2:$N$14,2,FALSE)&LEFT(J500,4)&RIGHT(LEFT(J500,LEN(J500)-1),2)),0,VLOOKUP(G500,[1]Choix14!$M$2:$N$14,2,FALSE)&LEFT(J500,4)&RIGHT(LEFT(J500,LEN(J500)-1),2)))*1","v":0},{"$f":"(IF(ISERROR(VLOOKUP(L500,[1]Choix14!$M$2:$N$14,2,FALSE)&LEFT(O500,4)&RIGHT(LEFT(O500,LEN(O500)-1),2)),0,VLOOKUP(L500,[1]Choix14!$M$2:$N$14,2,FALSE)&LEFT(O500,4)&RIGHT(LEFT(O500,LEN(O500)-1),2)))*1","v":0},{"$nulls":6}," Dylan Strome",{"$nulls":7},0,0]
[{"$f":"(IF(ISERROR(VLOOKUP(G501,[1]Choix14!$M$2:$N$14,2,FALSE)&LEFT(J501,4)&RIGHT(LEFT(J501,LEN(J501)-1),2)),0,VLOOKUP(G501,[1]Choix14!$M$2:$N$14,2,FALSE)&LEFT(J501,4)&RIGHT(LEFT(J501,LEN(J501)-1),2)))*1","v":0},{"$f":"(IF(ISERROR(VLOOKUP(L501,[1]Choix14!$M$2:$N$14,2,FALSE)&LEFT(O501,4)&RIGHT(LEFT(O501,LEN(O501)-1),2)),0,VLOOKUP(L501,[1]Choix14!$M$2:$N$14,2,FALSE)&LEFT(O501,4)&RIGHT(LEFT(O501,LEN(O501)-1),2)))*1","v":0},{"$nulls":6}," Alex Chiasson",{"$nulls":7},0,0]
[{"$f":"(IF(ISERROR(VLOOKUP(G502,[1]Choix14!$M$2:$N$14,2,FALSE)&LEFT(J502,4)&RIGHT(LEFT(J502,LEN(J502)-1),2)),0,VLOOKUP(G502,[1]Choix14!$M$2:$N$14,2,FALSE)&LEFT(J502,4)&RIGHT(LEFT(J502,LEN(J502)-1),2)))*1","v":0},{"$f":"(IF(ISERROR(VLOOKUP(L502,[1]Choix14!$M$2:$N$14,2,FALSE)&LEFT(O502,4)&RIGHT(LEFT(O502,LEN(O502)-1),2)),0,VLOOKUP(L502,[1]Choix14!$M$2:$N$14,2,FALSE)&LEFT(O502,4)&RIGHT(LEFT(O502,LEN(O502)-1),2)))*1","v":0},{"$nulls":6}," Anton Slepyshev",{"$nulls":7},0,0]
[{"$f":"(IF(ISERROR(VLOOKUP(G503,[1]Choix14!$M$2:$N$14,2,FALSE)&LEFT(J503,4)&RIGHT(LEFT(J503,LEN(J503)-1),2)),0,VLOOKUP(G503,[1]Choix14!$M$2:$N$14,2,FALSE)&LEFT(J503,4)&RIGHT(LEFT(J503,LEN(J503)-1),2)))*1","v":0},{"$f":"(IF(ISERROR(VLOOKUP(L503,[1]Choix14!$M$2:$N$14,2,FALSE)&LEFT(O503,4)&RIGHT(LEFT(O503,LEN(O503)-1),2)),0,VLOOKUP(L503,[1]Choix14!$M$2:$N$14,2,FALSE)&LEFT(O503,4)&RIGHT(LEFT(O503,LEN(O503)-1),2)))*1","v":0},{"$nulls":6}," Anton Lander",{"$nulls":7},0,0]
[{"$f":"(IF(ISERROR(VLOOKUP(G504,[1]Choix14!$M$2:$N$14,2,FALSE)&LEFT(J504,4)&RIGHT(LEFT(J504,LEN(J504)-1),2)),0,VLOOKUP(G504,[1]Choix14!$M$2:$N$14,2,FALSE)&LEFT(J504,4)&RIGHT(LEFT(J504,LEN(J504)-1),2)))*1","v":0},{"$f":"(IF(ISERROR(VLOOKUP(L504,[1]Choix14!$M$2:$N$14,2,FALSE)&LEFT(O504,4)&RIGHT(LEFT(O504,LEN(O504)-1),2)),0,VLOOKUP(L504,[1]Choix14!$M$2:$N$14,2,FALSE)&LEFT(O504,4)&RIGHT(LEFT(O504,LEN(O504)-1),2)))*1","v":0},{"$nulls":6}," Gustav Forsling",{"$nulls":7},0,0]
[{"$f":"(IF(ISERROR(VLOOKUP(G505,[1]Choix14!$M$2:$N$14,2,FALSE)&LEFT(J505,4)&RIGHT(LEFT(J505,LEN(J505)-1),2)),0,VLOOKUP(G505,[1]Choix14!$M$2:$N$14,2,FALSE)&LEFT(J505,4)&RIGHT(LEFT(J505,LEN(J505)-1),2)))*1","v":0},{"$f":"(IF(ISERROR(VLOOKUP(L505,[1]Choix14!$M$2:$N$14,2,FALSE)&LEFT(O505,4)&RIGHT(LEFT(O505,LEN(O505)-1),2)),0,VLOOKUP(L505,[1]Choix14!$M$2:$N$14,2,FALSE)&LEFT(O505,4)&RIGHT(LEFT(O505,LEN(O505)-1),2)))*1","v":0},{"$nulls":6}," Reilly Smith",{"$nulls":7},0,0]
[{"$f":"(IF(ISERROR(VLOOKUP(G506,[1]Choix14!$M$2:$N$14,2,FALSE)&LEFT(J506,4)&RIGHT(LEFT(J506,LEN(J506)-1),2)),0,VLOOKUP(G506,[1]Choix14!$M$2:$N$14,2,FALSE)&LEFT(J506,4)&RIGHT(LEFT(J506,LEN(J506)-1),2)))*1","v":0},{"$f":"(IF(ISERROR(VLOOKUP(L506,[1]Choix14!$M$2:$N$14,2,FALSE)&LEFT(O506,4)&RIGHT(LEFT(O506,LEN(O506)-1),2)),0,VLOOKUP(L506,[1]Choix14!$M$2:$N$14,2,FALSE)&LEFT(O506,4)&RIGHT(LEFT(O506,LEN(O506)-1),2)))*1","v":0},{"$nulls":6}," Adam Larsson",{"$nulls":7},0,0]
[{"$f":"(IF(ISERROR(VLOOKUP(G507,[1]Choix14!$M$2:$N$14,2,FALSE)&LEFT(J507,4)&RIGHT(LEFT(J507,LEN(J507)-1),2)),0,VLOOKUP(G507,[1]Choix14!$M$2:$N$14,2,FALSE)&LEFT(J507,4)&RIGHT(LEFT(J507,LEN(J507)-1),2)))*1","v":0},{"$f":"(IF(ISERROR(VLOOKUP(L507,[1]Choix14!$M$2:$N$14,2,FALSE)&LEFT(O507,4)&RIGHT(LEFT(O507,LEN(O507)-1),2)),0,VLOOKUP(L507,[1]Choix14!$M$2:$N$14,2,FALSE)&LEFT(O507,4)&RIGHT(LEFT(O507,LEN(O507)-1),2)))*1","v":0},{"$nulls":6}," Michael Raffl",{"$nulls":7},0,0]
[{"$f":"(IF(ISERROR(VLOOKUP(G508,[1]Choix14!$M$2:$N$14,2,FALSE)&LEFT(J508,4)&RIGHT(LEFT(J508,LEN(J508)-1),2)),0,VLOOKUP(G508,[1]Choix14!$M$2:$N$14,2,FALSE)&LEFT(J508,4)&RIGHT(LEFT(J508,LEN(J508)-1),2)))*1","v":0},{"$f":"(IF(ISERROR(VLOOKUP(L508,[1]Choix14!$M$2:$N$14,2,FALSE)&LEFT(O508,4)&RIGHT(LEFT(O508,LEN(O508)-1),2)),0,VLOOKUP(L508,[1]Choix14!$M$2:$N$14,2,FALSE)&LEFT(O508,4)&RIGHT(LEFT(O508,LEN(O508)-1),2)))*1","v":0},{"$nulls":6}," Nicholas Baptiste",{"$nulls":7},0,0]
[{"$f":"(IF(ISERROR(VLOOKUP(G509,[1]Choix14!$M$2:$N$14,2,FALSE)&LEFT(J509,4)&RIGHT(LEFT(J509,LEN(J509)-1),2)),0,VLOOKUP(G509,[1]Choix14!$M$2:$N$14,2,FALSE)&LEFT(J509,4)&RIGHT(LEFT(J509,LEN(J509)-1),2)))*1","v":0},{"$f":"(IF(ISERROR(VLOOKUP(L509,[1]Choix14!$M$2:$N$14,2,FALSE)&LEFT(O509,4)&RIGHT(LEFT(O509,LEN(O509)-1),2)),0,VLOOKUP(L509,[1]Choix14!$M$2:$N$14,2,FALSE)&LEFT(O509,4)&RIGHT(LEFT(O509,LEN(O509)-1),2)))*1","v":0},{"$nulls":6}," Joel Eriksson Ek",{"$nulls":7},0,0]
[{"$f":"(IF(ISERROR(VLOOKUP(G510,[1]Choix14!$M$2:$N$14,2,FALSE)&LEFT(J510,4)&RIGHT(LEFT(J510,LEN(J510)-1),2)),0,VLOOKUP(G510,[1]Choix14!$M$2:$N$14,2,FALSE)&LEFT(J510,4)&RIGHT(LEFT(J510,LEN(J510)-1),2)))*1","v":0},{"$f":"(IF(ISERROR(VLOOKUP(L510,[1]Choix14!$M$2:$N$14,2,FALSE)&LEFT(O510,4)&RIGHT(LEFT(O510,LEN(O510)-1),2)),0,VLOOKUP(L510,[1]Choix14!$M$2:$N$14,2,FALSE)&LEFT(O510,4)&RIGHT(LEFT(O510,LEN(O510)-1),2)))*1","v":0},{"$nulls":6}," Josh Jooris",{"$nulls":7},0,0]
[{"$f":"(IF(ISERROR(VLOOKUP(G511,[1]Choix14!$M$2:$N$14,2,FALSE)&LEFT(J511,4)&RIGHT(LEFT(J511,LEN(J511)-1),2)),0,VLOOKUP(G511,[1]Choix14!$M$2:$N$14,2,FALSE)&LEFT(J511,4)&RIGHT(LEFT(J511,LEN(J511)-1),2)))*1","v":0},{"$f":"(IF(ISERROR(VLOOKUP(L511,[1]Choix14!$M$2:$N$14,2,FALSE)&LEFT(O511,4)&RIGHT(LEFT(O511,LEN(O511)-1),2)),0,VLOOKUP(L511,[1]Choix14!$M$2:$N$14,2,FALSE)&LEFT(O511,4)&RIGHT(LEFT(O511,LEN(O511)-1),2)))*1","v":0},{"$nulls":6}," Daniel Carr",{"$nulls":7},0,0]
[{"$f":"(IF(ISERROR(VLOOKUP(G512,[1]Choix14!$M$2:$N$14,2,FALSE)&LEFT(J512,4)&RIGHT(LEFT(J512,LEN(J512)-1),2)),0,VLOOKUP(G512,[1]Choix14!$M$2:$N$14,2,FALSE)&LEFT(J512,4)&RIGHT(LEFT(J512,LEN(J512)-1),2)))*1","v":0},{"$f":"(IF(ISERROR(VLOOKUP(L512,[1]Choix14!$M$2:$N$14,2,FALSE)&LEFT(O512,4)&RIGHT(LEFT(O512,LEN(O512)-1),2)),0,VLOOKUP(L512,[1]Choix14!$M$2:$N$14,2,FALSE)&LEFT(O512,4)&RIGHT(LEFT(O512,LEN(O512)-1),2)))*1","v":0},{"$nulls":6}," Pierre-Edouard Bellemare",{"$nulls":7},0,0]
[{"$f":"(IF(ISERROR(VLOOKUP(G513,[1]Choix14!$M$2:$N$14,2,FALSE)&LEFT(J513,4)&RIGHT(LEFT(J513,LEN(J513)-1),2)),0,VLOOKUP(G513,[1]Choix14!$M$2:$N$14,2,FALSE)&LEFT(J513,4)&RIGHT(LEFT(J513,LEN(J513)-1),2)))*1","v":0},{"$f":"(IF(ISERROR(VLOOKUP(L513,[1]Choix14!$M$2:$N$14,2,FALSE)&LEFT(O513,4)&RIGHT(LEFT(O513,LEN(O513)-1),2)),0,VLOOKUP(L513,[1]Choix14!$M$2:$N$14,2,FALSE)&LEFT(O513,4)&RIGHT(LEFT(O513,LEN(O513)-1),2)))*1","v":0},{"$nulls":6}," Pavel Zacha",{"$nulls":7},0,0]
[{"$f":"(IF(ISERROR(VLOOKUP(G514,[1]Choix14!$M$2:$N$14,2,FALSE)&LEFT(J514,4)&RIGHT(LEFT(J514,LEN(J514)-1),2)),0,VLOOKUP(G514,[1]Choix14!$M$2:$N$14,2,FALSE)&LEFT(J514,4)&RIGHT(LEFT(J514,LEN(J514)-1),2)))*1","v":0},{"$f":"(IF(ISERROR(VLOOKUP(L514,[1]Choix14!$M$2:$N$14,2,FALSE)&LEFT(O514,4)&RIGHT(LEFT(O514,LEN(O514)-1),2)),0,VLOOKUP(L514,[1]Choix14!$M$2:$N$14,2,FALSE)&LEFT(O514,4)&RIGHT(LEFT(O514,LEN(O514)-1),2)))*1","v":0},{"$nulls":6}," Aaron Ekblad",{"$nulls":7},0,0]
[{"$f":"(IF(ISERROR(VLOOKUP(G515,[1]Choix14!$M$2:$N$14,2,FALSE)&LEFT(J515,4)&RIGHT(LEFT(J515,LEN(J515)-1),2)),0,VLOOKUP(G515,[1]Choix14!$M$2:$N$14,2,FALSE)&LEFT(J515,4)&RIGHT(LEFT(J515,LEN(J515)-1),2)))*1","v":0},{"$f":"(IF(ISERROR(VLOOKUP(L515,[1]Choix14!$M$2:$N$14,2,FALSE)&LEFT(O515,4)&RIGHT(LEFT(O515,LEN(O515)-1),2)),0,VLOOKUP(L515,[1]Choix14!$M$2:$N$14,2,FALSE)&LEFT(O515,4)&RIGHT(LEFT(O515,LEN(O515)-1),2)))*1","v":0},{"$nulls":6}," Matthew Tkachuk",{"$nulls":7},{"$f":"IF(A515<1,0,COUNTIF($A:$B,A515))","v":0},0]
[{"$f":"(IF(ISERROR(VLOOKUP(G516,[1]Choix14!$M$2:$N$14,2,FALSE)&LEFT(J516,4)&RIGHT(LEFT(J516,LEN(J516)-1),2)),0,VLOOKUP(G516,[1]Choix14!$M$2:$N$14,2,FALSE)&LEFT(J516,4)&RIGHT(LEFT(J516,LEN(J516)-1),2)))*1","v":0},{"$f":"(IF(ISERROR(VLOOKUP(L516,[1]Choix14!$M$2:$N$14,2,FALSE)&LEFT(O516,4)&RIGHT(LEFT(O516,LEN(O516)-1),2)),0,VLOOKUP(L516,[1]Choix14!$M$2:$N$14,2,FALSE)&LEFT(O516,4)&RIGHT(LEFT(O516,LEN(O516)-1),2)))*1","v":0},{"$nulls":6}," Dennis Rasmussen",{"$nulls":7},0,0]
[{"$f":"(IF(ISERROR(VLOOKUP(G517,[1]Choix14!$M$2:$N$14,2,FALSE)&LEFT(J517,4)&RIGHT(LEFT(J517,LEN(J517)-1),2)),0,VLOOKUP(G517,[1]Choix14!$M$2:$N$14,2,FALSE)&LEFT(J517,4)&RIGHT(LEFT(J517,LEN(J517)-1),2)))*1","v":0},{"$f":"(IF(ISERROR(VLOOKUP(L517,[1]Choix14!$M$2:$N$14,2,FALSE)&LEFT(O517,4)&RIGHT(LEFT(O517,LEN(O517)-1),2)),0,VLOOKUP(L517,[1]Choix14!$M$2:$N$14,2,FALSE)&LEFT(O517,4)&RIGHT(LEFT(O517,LEN(O517)-1),2)))*1","v":0},{"$nulls":6}," Joel Edmundson",{"$nulls":7},0,0]
[{"$f":"(IF(ISERROR(VLOOKUP(G518,[1]Choix14!$M$2:$N$14,2,FALSE)&LEFT(J518,4)&RIGHT(LEFT(J518,LEN(J518)-1),2)),0,VLOOKUP(G518,[1]Choix14!$M$2:$N$14,2,FALSE)&LEFT(J518,4)&RIGHT(LEFT(J518,LEN(J518)-1),2)))*1","v":0},{"$f":"(IF(ISERROR(VLOOKUP(L518,[1]Choix14!$M$2:$N$14,2,FALSE)&LEFT(O518,4)&RIGHT(LEFT(O518,LEN(O518)-1),2)),0,VLOOKUP(L518,[1]Choix14!$M$2:$N$14,2,FALSE)&LEFT(O518,4)&RIGHT(LEFT(O518,LEN(O518)-1),2)))*1","v":0},{"$nulls":6}," Xavier Ouellet",{"$nulls":7},0,0]
[{"$f":"(IF(ISERROR(VLOOKUP(G519,[1]Choix14!$M$2:$N$14,2,FALSE)&LEFT(J519,4)&RIGHT(LEFT(J519,LEN(J519)-1),2)),0,VLOOKUP(G519,[1]Choix14!$M$2:$N$14,2,FALSE)&LEFT(J519,4)&RIGHT(LEFT(J519,LEN(J519)-1),2)))*1","v":0},{"$f":"(IF(ISERROR(VLOOKUP(L519,[1]Choix14!$M$2:$N$14,2,FALSE)&LEFT(O519,4)&RIGHT(LEFT(O519,LEN(O519)-1),2)),0,VLOOKUP(L519,[1]Choix14!$M$2:$N$14,2,FALSE)&LEFT(O519,4)&RIGHT(LEFT(O519,LEN(O519)-1),2)))*1","v":0},{"$nulls":6}," Josh Manson",{"$nulls":7},0,0]
[{"$f":"(IF(ISERROR(VLOOKUP(G520,[1]Choix14!$M$2:$N$14,2,FALSE)&LEFT(J520,4)&RIGHT(LEFT(J520,LEN(J520)-1),2)),0,VLOOKUP(G520,[1]Choix14!$M$2:$N$14,2,FALSE)&LEFT(J520,4)&RIGHT(LEFT(J520,LEN(J520)-1),2)))*1","v":0},{"$f":"(IF(ISERROR(VLOOKUP(L520,[1]Choix14!$M$2:$N$14,2,FALSE)&LEFT(O520,4)&RIGHT(LEFT(O520,LEN(O520)-1),2)),0,VLOOKUP(L520,[1]Choix14!$M$2:$N$14,2,FALSE)&LEFT(O520,4)&RIGHT(LEFT(O520,LEN(O520)-1),2)))*1","v":0},{"$nulls":6}," Andrew Shaw",{"$nulls":7},0,0]
[{"$f":"(IF(ISERROR(VLOOKUP(G521,[1]Choix14!$M$2:$N$14,2,FALSE)&LEFT(J521,4)&RIGHT(LEFT(J521,LEN(J521)-1),2)),0,VLOOKUP(G521,[1]Choix14!$M$2:$N$14,2,FALSE)&LEFT(J521,4)&RIGHT(LEFT(J521,LEN(J521)-1),2)))*1","v":0},{"$f":"(IF(ISERROR(VLOOKUP(L521,[1]Choix14!$M$2:$N$14,2,FALSE)&LEFT(O521,4)&RIGHT(LEFT(O521,LEN(O521)-1),2)),0,VLOOKUP(L521,[1]Choix14!$M$2:$N$14,2,FALSE)&LEFT(O521,4)&RIGHT(LEFT(O521,LEN(O521)-1),2)))*1","v":0},{"$nulls":6}," Alan Quine",{"$nulls":7},0,0]
[{"$f":"(IF(ISERROR(VLOOKUP(G522,[1]Choix14!$M$2:$N$14,2,FALSE)&LEFT(J522,4)&RIGHT(LEFT(J522,LEN(J522)-1),2)),0,VLOOKUP(G522,[1]Choix14!$M$2:$N$14,2,FALSE)&LEFT(J522,4)&RIGHT(LEFT(J522,LEN(J522)-1),2)))*1","v":0},{"$f":"(IF(ISERROR(VLOOKUP(L522,[1]Choix14!$M$2:$N$14,2,FALSE)&LEFT(O522,4)&RIGHT(LEFT(O522,LEN(O522)-1),2)),0,VLOOKUP(L522,[1]Choix14!$M$2:$N$14,2,FALSE)&LEFT(O522,4)&RIGHT(LEFT(O522,LEN(O522)-1),2)))*1","v":0},{"$nulls":6}," Justin Schultz",{"$nulls":7},0,0]
[{"$f":"(IF(ISERROR(VLOOKUP(G523,[1]Choix14!$M$2:$N$14,2,FALSE)&LEFT(J523,4)&RIGHT(LEFT(J523,LEN(J523)-1),2)),0,VLOOKUP(G523,[1]Choix14!$M$2:$N$14,2,FALSE)&LEFT(J523,4)&RIGHT(LEFT(J523,LEN(J523)-1),2)))*1","v":0},{"$f":"(IF(ISERROR(VLOOKUP(L523,[1]Choix14!$M$2:$N$14,2,FALSE)&LEFT(O523,4)&RIGHT(LEFT(O523,LEN(O523)-1),2)),0,VLOOKUP(L523,[1]Choix14!$M$2:$N$14,2,FALSE)&LEFT(O523,4)&RIGHT(LEFT(O523,LEN(O523)-1),2)))*1","v":0},{"$nulls":6}," Jean-Gabriel Pageau",{"$nulls":7},0,0]
[{"$f":"(IF(ISERROR(VLOOKUP(G524,[1]Choix14!$M$2:$N$14,2,FALSE)&LEFT(J524,4)&RIGHT(LEFT(J524,LEN(J524)-1),2)),0,VLOOKUP(G524,[1]Choix14!$M$2:$N$14,2,FALSE)&LEFT(J524,4)&RIGHT(LEFT(J524,LEN(J524)-1),2)))*1","v":0},{"$f":"(IF(ISERROR(VLOOKUP(L524,[1]Choix14!$M$2:$N$14,2,FALSE)&LEFT(O524,4)&RIGHT(LEFT(O524,LEN(O524)-1),2)),0,VLOOKUP(L524,[1]Choix14!$M$2:$N$14,2,FALSE)&LEFT(O524,4)&RIGHT(LEFT(O524,LEN(O524)-1),2)))*1","v":0},{"$nulls":6}," Jake McCabe",{"$nulls":7},0,0]
[{"$f":"(IF(ISERROR(VLOOKUP(G525,[1]Choix14!$M$2:$N$14,2,FALSE)&LEFT(J525,4)&RIGHT(LEFT(J525,LEN(J525)-1),2)),0,VLOOKUP(G525,[1]Choix14!$M$2:$N$14,2,FALSE)&LEFT(J525,4)&RIGHT(LEFT(J525,LEN(J525)-1),2)))*1","v":0},{"$f":"(IF(ISERROR(VLOOKUP(L525,[1]Choix14!$M$2:$N$14,2,FALSE)&LEFT(O525,4)&RIGHT(LEFT(O525,LEN(O525)-1),2)),0,VLOOKUP(L525,[1]Choix14!$M$2:$N$14,2,FALSE)&LEFT(O525,4)&RIGHT(LEFT(O525,LEN(O525)-1),2)))*1","v":0},{"$nulls":6}," Chris Tierney",{"$nulls":7},0,0]
[{"$f":"(IF(ISERROR(VLOOKUP(G526,[1]Choix14!$M$2:$N$14,2,FALSE)&LEFT(J526,4)&RIGHT(LEFT(J526,LEN(J526)-1),2)),0,VLOOKUP(G526,[1]Choix14!$M$2:$N$14,2,FALSE)&LEFT(J526,4)&RIGHT(LEFT(J526,LEN(J526)-1),2)))*1","v":0},{"$f":"(IF(ISERROR(VLOOKUP(L526,[1]Choix14!$M$2:$N$14,2,FALSE)&LEFT(O526,4)&RIGHT(LEFT(O526,LEN(O526)-1),2)),0,VLOOKUP(L526,[1]Choix14!$M$2:$N$14,2,FALSE)&LEFT(O526,4)&RIGHT(LEFT(O526,LEN(O526)-1),2)))*1","v":0},{"$nulls":6}," Brendan Gaunce",{"$nulls":7},0,0]
[{"$f":"(IF(ISERROR(VLOOKUP(G527,[1]Choix14!$M$2:$N$14,2,FALSE)&LEFT(J527,4)&RIGHT(LEFT(J527,LEN(J527)-1),2)),0,VLOOKUP(G527,[1]Choix14!$M$2:$N$14,2,FALSE)&LEFT(J527,4)&RIGHT(LEFT(J527,LEN(J527)-1),2)))*1","v":0},{"$f":"(IF(ISERROR(VLOOKUP(L527,[1]Choix14!$M$2:$N$14,2,FALSE)&LEFT(O527,4)&RIGHT(LEFT(O527,LEN(O527)-1),2)),0,VLOOKUP(L527,[1]Choix14!$M$2:$N$14,2,FALSE)&LEFT(O527,4)&RIGHT(LEFT(O527,LEN(O527)-1),2)))*1","v":0},{"$nulls":6}," Klas Dahlbeck",{"$nulls":7},0,0]
[{"$f":"(IF(ISERROR(VLOOKUP(G528,[1]Choix14!$M$2:$N$14,2,FALSE)&LEFT(J528,4)&RIGHT(LEFT(J528,LEN(J528)-1),2)),0,VLOOKUP(G528,[1]Choix14!$M$2:$N$14,2,FALSE)&LEFT(J528,4)&RIGHT(LEFT(J528,LEN(J528)-1),2)))*1","v":0},{"$f":"(IF(ISERROR(VLOOKUP(L528,[1]Choix14!$M$2:$N$14,2,FALSE)&LEFT(O528,4)&RIGHT(LEFT(O528,LEN(O528)-1),2)),0,VLOOKUP(L528,[1]Choix14!$M$2:$N$14,2,FALSE)&LEFT(O528,4)&RIGHT(LEFT(O528,LEN(O528)-1),2)))*1","v":0},{"$nulls":6}," Alexey Marchenko",{"$nulls":7},0,0]
[{"$f":"(IF(ISERROR(VLOOKUP(G529,[1]Choix14!$M$2:$N$14,2,FALSE)&LEFT(J529,4)&RIGHT(LEFT(J529,LEN(J529)-1),2)),0,VLOOKUP(G529,[1]Choix14!$M$2:$N$14,2,FALSE)&LEFT(J529,4)&RIGHT(LEFT(J529,LEN(J529)-1),2)))*1","v":0},{"$f":"(IF(ISERROR(VLOOKUP(L529,[1]Choix14!$M$2:$N$14,2,FALSE)&LEFT(O529,4)&RIGHT(LEFT(O529,LEN(O529)-1),2)),0,VLOOKUP(L529,[1]Choix14!$M$2:$N$14,2,FALSE)&LEFT(O529,4)&RIGHT(LEFT(O529,LEN(O529)-1),2)))*1","v":0},{"$nulls":6}," Melker Karlsson",{"$nulls":7},0,0]
[{"$f":"(IF(ISERROR(VLOOKUP(G530,[1]Choix14!$M$2:$N$14,2,FALSE)&LEFT(J530,4)&RIGHT(LEFT(J530,LEN(J530)-1),2)),0,VLOOKUP(G530,[1]Choix14!$M$2:$N$14,2,FALSE)&LEFT(J530,4)&RIGHT(LEFT(J530,LEN(J530)-1),2)))*1","v":0},{"$f":"(IF(ISERROR(VLOOKUP(L530,[1]Choix14!$M$2:$N$14,2,FALSE)&LEFT(O530,4)&RIGHT(LEFT(O530,LEN(O530)-1),2)),0,VLOOKUP(L530,[1]Choix14!$M$2:$N$14,2,FALSE)&LEFT(O530,4)&RIGHT(LEFT(O530,LEN(O530)-1),2)))*1","v":0},{"$nulls":6}," Boone Jenner",{"$nulls":7},0,0]
[{"$f":"(IF(ISERROR(VLOOKUP(G531,[1]Choix14!$M$2:$N$14,2,FALSE)&LEFT(J531,4)&RIGHT(LEFT(J531,LEN(J531)-1),2)),0,VLOOKUP(G531,[1]Choix14!$M$2:$N$14,2,FALSE)&LEFT(J531,4)&RIGHT(LEFT(J531,LEN(J531)-1),2)))*1","v":0},{"$f":"(IF(ISERROR(VLOOKUP(L531,[1]Choix14!$M$2:$N$14,2,FALSE)&LEFT(O531,4)&RIGHT(LEFT(O531,LEN(O531)-1),2)),0,VLOOKUP(L531,[1]Choix14!$M$2:$N$14,2,FALSE)&LEFT(O531,4)&RIGHT(LEFT(O531,LEN(O531)-1),2)))*1","v":0},{"$nulls":6}," Dmitrij Jaskin",{"$nulls":7},0,0]
[{"$f":"(IF(ISERROR(VLOOKUP(G532,[1]Choix14!$M$2:$N$14,2,FALSE)&LEFT(J532,4)&RIGHT(LEFT(J532,LEN(J532)-1),2)),0,VLOOKUP(G532,[1]Choix14!$M$2:$N$14,2,FALSE)&LEFT(J532,4)&RIGHT(LEFT(J532,LEN(J532)-1),2)))*1","v":0},{"$f":"(IF(ISERROR(VLOOKUP(L532,[1]Choix14!$M$2:$N$14,2,FALSE)&LEFT(O532,4)&RIGHT(LEFT(O532,LEN(O532)-1),2)),0,VLOOKUP(L532,[1]Choix14!$M$2:$N$14,2,FALSE)&LEFT(O532,4)&RIGHT(LEFT(O532,LEN(O532)-1),2)))*1","v":0},{"$nulls":6}," Jesse Puljujarvi",{"$nulls":7},0,0]
[{"$f":"(IF(ISERROR(VLOOKUP(G533,[1]Choix14!$M$2:$N$14,2,FALSE)&LEFT(J533,4)&RIGHT(LEFT(J533,LEN(J533)-1),2)),0,VLOOKUP(G533,[1]Choix14!$M$2:$N$14,2,FALSE)&LEFT(J533,4)&RIGHT(LEFT(J533,LEN(J533)-1),2)))*1","v":0},{"$f":"(IF(ISERROR(VLOOKUP(L533,[1]Choix14!$M$2:$N$14,2,FALSE)&LEFT(O533,4)&RIGHT(LEFT(O533,LEN(O533)-1),2)),0,VLOOKUP(L533,[1]Choix14!$M$2:$N$14,2,FALSE)&LEFT(O533,4)&RIGHT(LEFT(O533,LEN(O533)-1),2)))*1","v":0},{"$nulls":6}," Ben Hutton",{"$nulls":7},0,0]
[{"$f":"(IF(ISERROR(VLOOKUP(G534,[1]Choix14!$M$2:$N$14,2,FALSE)&LEFT(J534,4)&RIGHT(LEFT(J534,LEN(J534)-1),2)),0,VLOOKUP(G534,[1]Choix14!$M$2:$N$14,2,FALSE)&LEFT(J534,4)&RIGHT(LEFT(J534,LEN(J534)-1),2)))*1","v":0},{"$f":"(IF(ISERROR(VLOOKUP(L534,[1]Choix14!$M$2:$N$14,2,FALSE)&LEFT(O534,4)&RIGHT(LEFT(O534,LEN(O534)-1),2)),0,VLOOKUP(L534,[1]Choix14!$M$2:$N$14,2,FALSE)&LEFT(O534,4)&RIGHT(LEFT(O534,LEN(O534)-1),2)))*1","v":0},{"$nulls":6}," Adam Clendening",{"$nulls":7},0,0]
[{"$f":"(IF(ISERROR(VLOOKUP(G535,[1]Choix14!$M$2:$N$14,2,FALSE)&LEFT(J535,4)&RIGHT(LEFT(J535,LEN(J535)-1),2)),0,VLOOKUP(G535,[1]Choix14!$M$2:$N$14,2,FALSE)&LEFT(J535,4)&RIGHT(LEFT(J535,LEN(J535)-1),2)))*1","v":0},{"$f":"(IF(ISERROR(VLOOKUP(L535,[1]Choix14!$M$2:$N$14,2,FALSE)&LEFT(O535,4)&RIGHT(LEFT(O535,LEN(O535)-1),2)),0,VLOOKUP(L535,[1]Choix14!$M$2:$N$14,2,FALSE)&LEFT(O535,4)&RIGHT(LEFT(O535,LEN(O535)-1),2)))*1","v":0},{"$nulls":6}," Craig Smith",{"$nulls":7},0,0]
[{"$f":"(IF(ISERROR(VLOOKUP(G536,[1]Choix14!$M$2:$N$14,2,FALSE)&LEFT(J536,4)&RIGHT(LEFT(J536,LEN(J536)-1),2)),0,VLOOKUP(G536,[1]Choix14!$M$2:$N$14,2,FALSE)&LEFT(J536,4)&RIGHT(LEFT(J536,LEN(J536)-1),2)))*1","v":0},{"$f":"(IF(ISERROR(VLOOKUP(L536,[1]Choix14!$M$2:$N$14,2,FALSE)&LEFT(O536,4)&RIGHT(LEFT(O536,LEN(O536)-1),2)),0,VLOOKUP(L536,[1]Choix14!$M$2:$N$14,2,FALSE)&LEFT(O536,4)&RIGHT(LEFT(O536,LEN(O536)-1),2)))*1","v":0},{"$nulls":6}," Nick Sorensen",{"$nulls":7},0,0]
[{"$f":"(IF(ISERROR(VLOOKUP(G537,[1]Choix14!$M$2:$N$14,2,FALSE)&LEFT(J537,4)&RIGHT(LEFT(J537,LEN(J537)-1),2)),0,VLOOKUP(G537,[1]Choix14!$M$2:$N$14,2,FALSE)&LEFT(J537,4)&RIGHT(LEFT(J537,LEN(J537)-1),2)))*1","v":0},{"$f":"(IF(ISERROR(VLOOKUP(L537,[1]Choix14!$M$2:$N$14,2,FALSE)&LEFT(O537,4)&RIGHT(LEFT(O537,LEN(O537)-1),2)),0,VLOOKUP(L537,[1]Choix14!$M$2:$N$14,2,FALSE)&LEFT(O537,4)&RIGHT(LEFT(O537,LEN(O537)-1),2)))*1","v":0},{"$nulls":6}," Connor Carrick",{"$nulls":7},0,0]
[{"$f":"(IF(ISERROR(VLOOKUP(G538,[1]Choix14!$M$2:$N$14,2,FALSE)&LEFT(J538,4)&RIGHT(LEFT(J538,LEN(J538)-1),2)),0,VLOOKUP(G538,[1]Choix14!$M$2:$N$14,2,FALSE)&LEFT(J538,4)&RIGHT(LEFT(J538,LEN(J538)-1),2)))*1","v":0},{"$f":"(IF(ISERROR(VLOOKUP(L538,[1]Choix14!$M$2:$N$14,2,FALSE)&LEFT(O538,4)&RIGHT(LEFT(O538,LEN(O538)-1),2)),0,VLOOKUP(L538,[1]Choix14!$M$2:$N$14,2,FALSE)&LEFT(O538,4)&RIGHT(LEFT(O538,LEN(O538)-1),2)))*1","v":0},{"$nulls":6}," Brandon Saad",{"$nulls":7},0,0]
[{"$f":"(IF(ISERROR(VLOOKUP(G539,[1]Choix14!$M$2:$N$14,2,FALSE)&LEFT(J539,4)&RIGHT(LEFT(J539,LEN(J539)-1),2)),0,VLOOKUP(G539,[1]Choix14!$M$2:$N$14,2,FALSE)&LEFT(J539,4)&RIGHT(LEFT(J539,LEN(J539)-1),2)))*1","v":0},{"$f":"(IF(ISERROR(VLOOKUP(L539,[1]Choix14!$M$2:$N$14,2,FALSE)&LEFT(O539,4)&RIGHT(LEFT(O539,LEN(O539)-1),2)),0,VLOOKUP(L539,[1]Choix14!$M$2:$N$14,2,FALSE)&LEFT(O539,4)&RIGHT(LEFT(O539,LEN(O539)-1),2)))*1","v":0},{"$nulls":6}," Ryan Garbutt",{"$nulls":7},0,0]
[{"$f":"(IF(ISERROR(VLOOKUP(G540,[1]Choix14!$M$2:$N$14,2,FALSE)&LEFT(J540,4)&RIGHT(LEFT(J540,LEN(J540)-1),2)),0,VLOOKUP(G540,[1]Choix14!$M$2:$N$14,2,FALSE)&LEFT(J540,4)&RIGHT(LEFT(J540,LEN(J540)-1),2)))*1","v":0},{"$f":"(IF(ISERROR(VLOOKUP(L540,[1]Choix14!$M$2:$N$14,2,FALSE)&LEFT(O540,4)&RIGHT(LEFT(O540,LEN(O540)-1),2)),0,VLOOKUP(L540,[1]Choix14!$M$2:$N$14,2,FALSE)&LEFT(O540,4)&RIGHT(LEFT(O540,LEN(O540)-1),2)))*1","v":0},{"$nulls":6}," Yohann Auvitu",{"$nulls":7},0,0]
[{"$f":"(IF(ISERROR(VLOOKUP(G541,[1]Choix14!$M$2:$N$14,2,FALSE)&LEFT(J541,4)&RIGHT(LEFT(J541,LEN(J541)-1),2)),0,VLOOKUP(G541,[1]Choix14!$M$2:$N$14,2,FALSE)&LEFT(J541,4)&RIGHT(LEFT(J541,LEN(J541)-1),2)))*1","v":0},{"$f":"(IF(ISERROR(VLOOKUP(L541,[1]Choix14!$M$2:$N$14,2,FALSE)&LEFT(O541,4)&RIGHT(LEFT(O541,LEN(O541)-1),2)),0,VLOOKUP(L541,[1]Choix14!$M$2:$N$14,2,FALSE)&LEFT(O541,4)&RIGHT(LEFT(O541,LEN(O541)-1),2)))*1","v":0},{"$nulls":6}," Brett Kulak",{"$nulls":7},0,0]
[{"$f":"(IF(ISERROR(VLOOKUP(G542,[1]Choix14!$M$2:$N$14,2,FALSE)&LEFT(J542,4)&RIGHT(LEFT(J542,LEN(J542)-1),2)),0,VLOOKUP(G542,[1]Choix14!$M$2:$N$14,2,FALSE)&LEFT(J542,4)&RIGHT(LEFT(J542,LEN(J542)-1),2)))*1","v":0},{"$f":"(IF(ISERROR(VLOOKUP(L542,[1]Choix14!$M$2:$N$14,2,FALSE)&LEFT(O542,4)&RIGHT(LEFT(O542,LEN(O542)-1),2)),0,VLOOKUP(L542,[1]Choix14!$M$2:$N$14,2,FALSE)&LEFT(O542,4)&RIGHT(LEFT(O542,LEN(O542)-1),2)))*1","v":0},{"$nulls":6}," Andreas Athanasiou",{"$nulls":7},0,0]
[{"$f":"(IF(ISERROR(VLOOKUP(G543,[1]Choix14!$M$2:$N$14,2,FALSE)&LEFT(J543,4)&RIGHT(LEFT(J543,LEN(J543)-1),2)),0,VLOOKUP(G543,[1]Choix14!$M$2:$N$14,2,FALSE)&LEFT(J543,4)&RIGHT(LEFT(J543,LEN(J543)-1),2)))*1","v":0},{"$f":"(IF(ISERROR(VLOOKUP(L543,[1]Choix14!$M$2:$N$14,2,FALSE)&LEFT(O543,4)&RIGHT(LEFT(O543,LEN(O543)-1),2)),0,VLOOKUP(L543,[1]Choix14!$M$2:$N$14,2,FALSE)&LEFT(O543,4)&RIGHT(LEFT(O543,LEN(O543)-1),2)))*1","v":0},{"$nulls":6}," Kyle Connor",{"$nulls":7},0,0]
[{"$f":"(IF(ISERROR(VLOOKUP(G544,[1]Choix14!$M$2:$N$14,2,FALSE)&LEFT(J544,4)&RIGHT(LEFT(J544,LEN(J544)-1),2)),0,VLOOKUP(G544,[1]Choix14!$M$2:$N$14,2,FALSE)&LEFT(J544,4)&RIGHT(LEFT(J544,LEN(J544)-1),2)))*1","v":0},{"$f":"(IF(ISERROR(VLOOKUP(L544,[1]Choix14!$M$2:$N$14,2,FALSE)&LEFT(O544,4)&RIGHT(LEFT(O544,LEN(O544)-1),2)),0,VLOOKUP(L544,[1]Choix14!$M$2:$N$14,2,FALSE)&LEFT(O544,4)&RIGHT(LEFT(O544,LEN(O544)-1),2)))*1","v":0},{"$nulls":6}," Jaccob Slavin",{"$nulls":7},0,0]
[{"$f":"(IF(ISERROR(VLOOKUP(G545,[1]Choix14!$M$2:$N$14,2,FALSE)&LEFT(J545,4)&RIGHT(LEFT(J545,LEN(J545)-1),2)),0,VLOOKUP(G545,[1]Choix14!$M$2:$N$14,2,FALSE)&LEFT(J545,4)&RIGHT(LEFT(J545,LEN(J545)-1),2)))*1","v":0},{"$f":"(IF(ISERROR(VLOOKUP(L545,[1]Choix14!$M$2:$N$14,2,FALSE)&LEFT(O545,4)&RIGHT(LEFT(O545,LEN(O545)-1),2)),0,VLOOKUP(L545,[1]Choix14!$M$2:$N$14,2,FALSE)&LEFT(O545,4)&RIGHT(LEFT(O545,LEN(O545)-1),2)))*1","v":0},{"$nulls":6}," Colin Miller",{"$nulls":7},0,0]
[{"$f":"(IF(ISERROR(VLOOKUP(G546,[1]Choix14!$M$2:$N$14,2,FALSE)&LEFT(J546,4)&RIGHT(LEFT(J546,LEN(J546)-1),2)),0,VLOOKUP(G546,[1]Choix14!$M$2:$N$14,2,FALSE)&LEFT(J546,4)&RIGHT(LEFT(J546,LEN(J546)-1),2)))*1","v":0},{"$f":"(IF(ISERROR(VLOOKUP(L546,[1]Choix14!$M$2:$N$14,2,FALSE)&LEFT(O546,4)&RIGHT(LEFT(O546,LEN(O546)-1),2)),0,VLOOKUP(L546,[1]Choix14!$M$2:$N$14,2,FALSE)&LEFT(O546,4)&RIGHT(LEFT(O546,LEN(O546)-1),2)))*1","v":0},{"$nulls":6}," Tommy Wingels",{"$nulls":7},0,0]
[{"$f":"(IF(ISERROR(VLOOKUP(G547,[1]Choix14!$M$2:$N$14,2,FALSE)&LEFT(J547,4)&RIGHT(LEFT(J547,LEN(J547)-1),2)),0,VLOOKUP(G547,[1]Choix14!$M$2:$N$14,2,FALSE)&LEFT(J547,4)&RIGHT(LEFT(J547,LEN(J547)-1),2)))*1","v":0},{"$f":"(IF(ISERROR(VLOOKUP(L547,[1]Choix14!$M$2:$N$14,2,FALSE)&LEFT(O547,4)&RIGHT(LEFT(O547,LEN(O547)-1),2)),0,VLOOKUP(L547,[1]Choix14!$M$2:$N$14,2,FALSE)&LEFT(O547,4)&RIGHT(LEFT(O547,LEN(O547)-1),2)))*1","v":0},{"$nulls":6}," Justin Abdelkader",{"$nulls":7},0,0]
[{"$f":"(IF(ISERROR(VLOOKUP(G548,[1]Choix14!$M$2:$N$14,2,FALSE)&LEFT(J548,4)&RIGHT(LEFT(J548,LEN(J548)-1),2)),0,VLOOKUP(G548,[1]Choix14!$M$2:$N$14,2,FALSE)&LEFT(J548,4)&RIGHT(LEFT(J548,LEN(J548)-1),2)))*1","v":0},{"$f":"(IF(ISERROR(VLOOKUP(L548,[1]Choix14!$M$2:$N$14,2,FALSE)&LEFT(O548,4)&RIGHT(LEFT(O548,LEN(O548)-1),2)),0,VLOOKUP(L548,[1]Choix14!$M$2:$N$14,2,FALSE)&LEFT(O548,4)&RIGHT(LEFT(O548,LEN(O548)-1),2)))*1","v":0},{"$nulls":6}," Jay Beagle",{"$nulls":7},0,0]
[{"$f":"(IF(ISERROR(VLOOKUP(G549,[1]Choix14!$M$2:$N$14,2,FALSE)&LEFT(J549,4)&RIGHT(LEFT(J549,LEN(J549)-1),2)),0,VLOOKUP(G549,[1]Choix14!$M$2:$N$14,2,FALSE)&LEFT(J549,4)&RIGHT(LEFT(J549,LEN(J549)-1),2)))*1","v":0},{"$f":"(IF(ISERROR(VLOOKUP(L549,[1]Choix14!$M$2:$N$14,2,FALSE)&LEFT(O549,4)&RIGHT(LEFT(O549,LEN(O549)-1),2)),0,VLOOKUP(L549,[1]Choix14!$M$2:$N$14,2,FALSE)&LEFT(O549,4)&RIGHT(LEFT(O549,LEN(O549)-1),2)))*1","v":0},{"$nulls":6}," Colin Wilson",{"$nulls":7},0,0]
[{"$f":"(IF(ISERROR(VLOOKUP(G550,[1]Choix14!$M$2:$N$14,2,FALSE)&LEFT(J550,4)&RIGHT(LEFT(J550,LEN(J550)-1),2)),0,VLOOKUP(G550,[1]Choix14!$M$2:$N$14,2,FALSE)&LEFT(J550,4)&RIGHT(LEFT(J550,LEN(J550)-1),2)))*1","v":0},{"$f":"(IF(ISERROR(VLOOKUP(L550,[1]Choix14!$M$2:$N$14,2,FALSE)&LEFT(O550,4)&RIGHT(LEFT(O550,LEN(O550)-1),2)),0,VLOOKUP(L550,[1]Choix14!$M$2:$N$14,2,FALSE)&LEFT(O550,4)&RIGHT(LEFT(O550,LEN(O550)-1),2)))*1","v":0},{"$nulls":6}," Mikkel Boedker",{"$nulls":7},0,0]
[{"$f":"(IF(ISERROR(VLOOKUP(G551,[1]Choix14!$M$2:$N$14,2,FALSE)&LEFT(J551,4)&RIGHT(LEFT(J551,LEN(J551)-1),2)),0,VLOOKUP(G551,[1]Choix14!$M$2:$N$14,2,FALSE)&LEFT(J551,4)&RIGHT(LEFT(J551,LEN(J551)-1),2)))*1","v":0},{"$f":"(IF(ISERROR(VLOOKUP(L551,[1]Choix14!$M$2:$N$14,2,FALSE)&LEFT(O551,4)&RIGHT(LEFT(O551,LEN(O551)-1),2)),0,VLOOKUP(L551,[1]Choix14!$M$2:$N$14,2,FALSE)&LEFT(O551,4)&RIGHT(LEFT(O551,LEN(O551)-1),2)))*1","v":0},{"$nulls":6}," Tyler Ennis",{"$nulls":7},0,0]
[{"$f":"(IF(ISERROR(VLOOKUP(G552,[1]Choix14!$M$2:$N$14,2,FALSE)&LEFT(J552,4)&RIGHT(LEFT(J552,LEN(J552)-1),2)),0,VLOOKUP(G552,[1]Choix14!$M$2:$N$14,2,FALSE)&LEFT(J552,4)&RIGHT(LEFT(J552,LEN(J552)-1),2)))*1","v":0},{"$f":"(IF(ISERROR(VLOOKUP(L552,[1]Choix14!$M$2:$N$14,2,FALSE)&LEFT(O552,4)&RIGHT(LEFT(O552,LEN(O552)-1),2)),0,VLOOKUP(L552,[1]Choix14!$M$2:$N$14,2,FALSE)&LEFT(O552,4)&RIGHT(LEFT(O552,LEN(O552)-1),2)))*1","v":0},{"$nulls":6}," Tyler Myers",{"$nulls":7},0,0]
[{"$f":"(IF(ISERROR(VLOOKUP(G553,[1]Choix14!$M$2:$N$14,2,FALSE)&LEFT(J553,4)&RIGHT(LEFT(J553,LEN(J553)-1),2)),0,VLOOKUP(G553,[1]Choix14!$M$2:$N$14,2,FALSE)&LEFT(J553,4)&RIGHT(LEFT(J553,LEN(J553)-1),2)))*1","v":0},{"$f":"(IF(ISERROR(VLOOKUP(L553,[1]Choix14!$M$2:$N$14,2,FALSE)&LEFT(O553,4)&RIGHT(LEFT(O553,LEN(O553)-1),2)),0,VLOOKUP(L553,[1]Choix14!$M$2:$N$14,2,FALSE)&LEFT(O553,4)&RIGHT(LEFT(O553,LEN(O553)-1),2)))*1","v":0},{"$nulls":6}," Patrick Maroon",{"$nulls":7},0,0]
[{"$f":"(IF(ISERROR(VLOOKUP(G554,[1]Choix14!$M$2:$N$14,2,FALSE)&LEFT(J554,4)&RIGHT(LEFT(J554,LEN(J554)-1),2)),0,VLOOKUP(G554,[1]Choix14!$M$2:$N$14,2,FALSE)&LEFT(J554,4)&RIGHT(LEFT(J554,LEN(J554)-1),2)))*1","v":0},{"$f":"(IF(ISERROR(VLOOKUP(L554,[1]Choix14!$M$2:$N$14,2,FALSE)&LEFT(O554,4)&RIGHT(LEFT(O554,LEN(O554)-1),2)),0,VLOOKUP(L554,[1]Choix14!$M$2:$N$14,2,FALSE)&LEFT(O554,4)&RIGHT(LEFT(O554,LEN(O554)-1),2)))*1","v":0},{"$nulls":6}," Matt Hunwick",{"$nulls":7},0,0]
[{"$f":"(IF(ISERROR(VLOOKUP(G555,[1]Choix14!$M$2:$N$14,2,FALSE)&LEFT(J555,4)&RIGHT(LEFT(J555,LEN(J555)-1),2)),0,VLOOKUP(G555,[1]Choix14!$M$2:$N$14,2,FALSE)&LEFT(J555,4)&RIGHT(LEFT(J555,LEN(J555)-1),2)))*1","v":0},{"$f":"(IF(ISERROR(VLOOKUP(L555,[1]Choix14!$M$2:$N$14,2,FALSE)&LEFT(O555,4)&RIGHT(LEFT(O555,LEN(O555)-1),2)),0,VLOOKUP(L555,[1]Choix14!$M$2:$N$14,2,FALSE)&LEFT(O555,4)&RIGHT(LEFT(O555,LEN(O555)-1),2)))*1","v":0},{"$nulls":6}," Derek Dorsett",{"$nulls":7},0,0]
[{"$f":"(IF(ISERROR(VLOOKUP(G556,[1]Choix14!$M$2:$N$14,2,FALSE)&LEFT(J556,4)&RIGHT(LEFT(J556,LEN(J556)-1),2)),0,VLOOKUP(G556,[1]Choix14!$M$2:$N$14,2,FALSE)&LEFT(J556,4)&RIGHT(LEFT(J556,LEN(J556)-1),2)))*1","v":0},{"$f":"(IF(ISERROR(VLOOKUP(L556,[1]Choix14!$M$2:$N$14,2,FALSE)&LEFT(O556,4)&RIGHT(LEFT(O556,LEN(O556)-1),2)),0,VLOOKUP(L556,[1]Choix14!$M$2:$N$14,2,FALSE)&LEFT(O556,4)&RIGHT(LEFT(O556,LEN(O556)-1),2)))*1","v":0},{"$nulls":6}," Jared Boll",{"$nulls":7},0,0]
[{"$f":"(IF(ISERROR(VLOOKUP(G557,[1]Choix14!$M$2:$N$14,2,FALSE)&LEFT(J557,4)&RIGHT(LEFT(J557,LEN(J557)-1),2)),0,VLOOKUP(G557,[1]Choix14!$M$2:$N$14,2,FALSE)&LEFT(J557,4)&RIGHT(LEFT(J557,LEN(J557)-1),2)))*1","v":0},{"$f":"(IF(ISERROR(VLOOKUP(L557,[1]Choix14!$M$2:$N$14,2,FALSE)&LEFT(O557,4)&RIGHT(LEFT(O557,LEN(O557)-1),2)),0,VLOOKUP(L557,[1]Choix14!$M$2:$N$14,2,FALSE)&LEFT(O557,4)&RIGHT(LEFT(O557,LEN(O557)-1),2)))*1","v":0},{"$nulls":6}," Anton Stralman",{"$nulls":7},0,0]
[{"$f":"(IF(ISERROR(VLOOKUP(G558,[1]Choix14!$M$2:$N$14,2,FALSE)&LEFT(J558,4)&RIGHT(LEFT(J558,LEN(J558)-1),2)),0,VLOOKUP(G558,[1]Choix14!$M$2:$N$14,2,FALSE)&LEFT(J558,4)&RIGHT(LEFT(J558,LEN(J558)-1),2)))*1","v":0},{"$f":"(IF(ISERROR(VLOOKUP(L558,[1]Choix14!$M$2:$N$14,2,FALSE)&LEFT(O558,4)&RIGHT(LEFT(O558,LEN(O558)-1),2)),0,VLOOKUP(L558,[1]Choix14!$M$2:$N$14,2,FALSE)&LEFT(O558,4)&RIGHT(LEFT(O558,LEN(O558)-1),2)))*1","v":0},{"$nulls":6}," Nikolay Kulemin",{"$nulls":7},0,0]
[{"$f":"(IF(ISERROR(VLOOKUP(G559,[1]Choix14!$M$2:$N$14,2,FALSE)&LEFT(J559,4)&RIGHT(LEFT(J559,LEN(J559)-1),2)),0,VLOOKUP(G559,[1]Choix14!$M$2:$N$14,2,FALSE)&LEFT(J559,4)&RIGHT(LEFT(J559,LEN(J559)-1),2)))*1","v":0},{"$f":"(IF(ISERROR(VLOOKUP(L559,[1]Choix14!$M$2:$N$14,2,FALSE)&LEFT(O559,4)&RIGHT(LEFT(O559,LEN(O559)-1),2)),0,VLOOKUP(L559,[1]Choix14!$M$2:$N$14,2,FALSE)&LEFT(O559,4)&RIGHT(LEFT(O559,LEN(O559)-1),2)))*1","v":0},{"$nulls":6}," Ian Cole",{"$nulls":7},0,0]
[{"$f":"(IF(ISERROR(VLOOKUP(G560,[1]Choix14!$M$2:$N$14,2,FALSE)&LEFT(J560,4)&RIGHT(LEFT(J560,LEN(J560)-1),2)),0,VLOOKUP(G560,[1]Choix14!$M$2:$N$14,2,FALSE)&LEFT(J560,4)&RIGHT(LEFT(J560,LEN(J560)-1),2)))*1","v":0},{"$f":"(IF(ISERROR(VLOOKUP(L560,[1]Choix14!$M$2:$N$14,2,FALSE)&LEFT(O560,4)&RIGHT(LEFT(O560,LEN(O560)-1),2)),0,VLOOKUP(L560,[1]Choix14!$M$2:$N$14,2,FALSE)&LEFT(O560,4)&RIGHT(LEFT(O560,LEN(O560)-1),2)))*1","v":0},{"$nulls":6}," Lars Eller",{"$nulls":7},0,0]
[{"$f":"(IF(ISERROR(VLOOKUP(G561,[1]Choix14!$M$2:$N$14,2,FALSE)&LEFT(J561,4)&RIGHT(LEFT(J561,LEN(J561)-1),2)),0,VLOOKUP(G561,[1]Choix14!$M$2:$N$14,2,FALSE)&LEFT(J561,4)&RIGHT(LEFT(J561,LEN(J561)-1),2)))*1","v":0},{"$f":"(IF(ISERROR(VLOOKUP(L561,[1]Choix14!$M$2:$N$14,2,FALSE)&LEFT(O561,4)&RIGHT(LEFT(O561,LEN(O561)-1),2)),0,VLOOKUP(L561,[1]Choix14!$M$2:$N$14,2,FALSE)&LEFT(O561,4)&RIGHT(LEFT(O561,LEN(O561)-1),2)))*1","v":0},{"$nulls":6}," John Carlson",{"$nulls":7},0,0]
[{"$f":"(IF(ISERROR(VLOOKUP(G562,[1]Choix14!$M$2:$N$14,2,FALSE)&LEFT(J562,4)&RIGHT(LEFT(J562,LEN(J562)-1),2)),0,VLOOKUP(G562,[1]Choix14!$M$2:$N$14,2,FALSE)&LEFT(J562,4)&RIGHT(LEFT(J562,LEN(J562)-1),2)))*1","v":0},{"$f":"(IF(ISERROR(VLOOKUP(L562,[1]Choix14!$M$2:$N$14,2,FALSE)&LEFT(O562,4)&RIGHT(LEFT(O562,LEN(O562)-1),2)),0,VLOOKUP(L562,[1]Choix14!$M$2:$N$14,2,FALSE)&LEFT(O562,4)&RIGHT(LEFT(O562,LEN(O562)-1),2)))*1","v":0},{"$nulls":6}," Yannick Weber",{"$nulls":7},0,0]
[{"$f":"(IF(ISERROR(VLOOKUP(G563,[1]Choix14!$M$2:$N$14,2,FALSE)&LEFT(J563,4)&RIGHT(LEFT(J563,LEN(J563)-1),2)),0,VLOOKUP(G563,[1]Choix14!$M$2:$N$14,2,FALSE)&LEFT(J563,4)&RIGHT(LEFT(J563,LEN(J563)-1),2)))*1","v":0},{"$f":"(IF(ISERROR(VLOOKUP(L563,[1]Choix14!$M$2:$N$14,2,FALSE)&LEFT(O563,4)&RIGHT(LEFT(O563,LEN(O563)-1),2)),0,VLOOKUP(L563,[1]Choix14!$M$2:$N$14,2,FALSE)&LEFT(O563,4)&RIGHT(LEFT(O563,LEN(O563)-1),2)))*1","v":0},{"$nulls":6}," John Moore",{"$nulls":7},0,0]
[{"$f":"(IF(ISERROR(VLOOKUP(G564,[1]Choix14!$M$2:$N$14,2,FALSE)&LEFT(J564,4)&RIGHT(LEFT(J564,LEN(J564)-1),2)),0,VLOOKUP(G564,[1]Choix14!$M$2:$N$14,2,FALSE)&LEFT(J564,4)&RIGHT(LEFT(J564,LEN(J564)-1),2)))*1","v":0},{"$f":"(IF(ISERROR(VLOOKUP(L564,[1]Choix14!$M$2:$N$14,2,FALSE)&LEFT(O564,4)&RIGHT(LEFT(O564,LEN(O564)-1),2)),0,VLOOKUP(L564,[1]Choix14!$M$2:$N$14,2,FALSE)&LEFT(O564,4)&RIGHT(LEFT(O564,LEN(O564)-1),2)))*1","v":0},{"$nulls":6}," Jacob Josefson",{"$nulls":7},0,0]
[{"$f":"(IF(ISERROR(VLOOKUP(G565,[1]Choix14!$M$2:$N$14,2,FALSE)&LEFT(J565,4)&RIGHT(LEFT(J565,LEN(J565)-1),2)),0,VLOOKUP(G565,[1]Choix14!$M$2:$N$14,2,FALSE)&LEFT(J565,4)&RIGHT(LEFT(J565,LEN(J565)-1),2)))*1","v":0},{"$f":"(IF(ISERROR(VLOOKUP(L565,[1]Choix14!$M$2:$N$14,2,FALSE)&LEFT(O565,4)&RIGHT(LEFT(O565,LEN(O565)-1),2)),0,VLOOKUP(L565,[1]Choix14!$M$2:$N$14,2,FALSE)&LEFT(O565,4)&RIGHT(LEFT(O565,LEN(O565)-1),2)))*1","v":0},{"$nulls":6}," T.J. Brodie",{"$nulls":7},0,0]
[{"$f":"(IF(ISERROR(VLOOKUP(G566,[1]Choix14!$M$2:$N$14,2,FALSE)&LEFT(J566,4)&RIGHT(LEFT(J566,LEN(J566)-1),2)),0,VLOOKUP(G566,[1]Choix14!$M$2:$N$14,2,FALSE)&LEFT(J566,4)&RIGHT(LEFT(J566,LEN(J566)-1),2)))*1","v":0},{"$f":"(IF(ISERROR(VLOOKUP(L566,[1]Choix14!$M$2:$N$14,2,FALSE)&LEFT(O566,4)&RIGHT(LEFT(O566,LEN(O566)-1),2)),0,VLOOKUP(L566,[1]Choix14!$M$2:$N$14,2,FALSE)&LEFT(O566,4)&RIGHT(LEFT(O566,LEN(O566)-1),2)))*1","v":0},{"$nulls":6}," Matt Calvert",{"$nulls":7},0,0]
[{"$f":"(IF(ISERROR(VLOOKUP(G567,[1]Choix14!$M$2:$N$14,2,FALSE)&LEFT(J567,4)&RIGHT(LEFT(J567,LEN(J567)-1),2)),0,VLOOKUP(G567,[1]Choix14!$M$2:$N$14,2,FALSE)&LEFT(J567,4)&RIGHT(LEFT(J567,LEN(J567)-1),2)))*1","v":0},{"$f":"(IF(ISERROR(VLOOKUP(L567,[1]Choix14!$M$2:$N$14,2,FALSE)&LEFT(O567,4)&RIGHT(LEFT(O567,LEN(O567)-1),2)),0,VLOOKUP(L567,[1]Choix14!$M$2:$N$14,2,FALSE)&LEFT(O567,4)&RIGHT(LEFT(O567,LEN(O567)-1),2)))*1","v":0},{"$nulls":6}," Chris VandeVelde",{"$nulls":7},0,0]
[{"$f":"(IF(ISERROR(VLOOKUP(G568,[1]Choix14!$M$2:$N$14,2,FALSE)&LEFT(J568,4)&RIGHT(LEFT(J568,LEN(J568)-1),2)),0,VLOOKUP(G568,[1]Choix14!$M$2:$N$14,2,FALSE)&LEFT(J568,4)&RIGHT(LEFT(J568,LEN(J568)-1),2)))*1","v":0},{"$f":"(IF(ISERROR(VLOOKUP(L568,[1]Choix14!$M$2:$N$14,2,FALSE)&LEFT(O568,4)&RIGHT(LEFT(O568,LEN(O568)-1),2)),0,VLOOKUP(L568,[1]Choix14!$M$2:$N$14,2,FALSE)&LEFT(O568,4)&RIGHT(LEFT(O568,LEN(O568)-1),2)))*1","v":0},{"$nulls":6}," Nick Bonino",{"$nulls":7},0,0]
[{"$f":"(IF(ISERROR(VLOOKUP(G569,[1]Choix14!$M$2:$N$14,2,FALSE)&LEFT(J569,4)&RIGHT(LEFT(J569,LEN(J569)-1),2)),0,VLOOKUP(G569,[1]Choix14!$M$2:$N$14,2,FALSE)&LEFT(J569,4)&RIGHT(LEFT(J569,LEN(J569)-1),2)))*1","v":0},{"$f":"(IF(ISERROR(VLOOKUP(L569,[1]Choix14!$M$2:$N$14,2,FALSE)&LEFT(O569,4)&RIGHT(LEFT(O569,LEN(O569)-1),2)),0,VLOOKUP(L569,[1]Choix14!$M$2:$N$14,2,FALSE)&LEFT(O569,4)&RIGHT(LEFT(O569,LEN(O569)-1),2)))*1","v":0},{"$nulls":6}," Peter Holland",{"$nulls":7},0,0]
[{"$f":"(IF(ISERROR(VLOOKUP(G570,[1]Choix14!$M$2:$N$14,2,FALSE)&LEFT(J570,4)&RIGHT(LEFT(J570,LEN(J570)-1),2)),0,VLOOKUP(G570,[1]Choix14!$M$2:$N$14,2,FALSE)&LEFT(J570,4)&RIGHT(LEFT(J570,LEN(J570)-1),2)))*1","v":0},{"$f":"(IF(ISERROR(VLOOKUP(L570,[1]Choix14!$M$2:$N$14,2,FALSE)&LEFT(O570,4)&RIGHT(LEFT(O570,LEN(O570)-1),2)),0,VLOOKUP(L570,[1]Choix14!$M$2:$N$14,2,FALSE)&LEFT(O570,4)&RIGHT(LEFT(O570,LEN(O570)-1),2)))*1","v":0},{"$nulls":6}," Calvin de Haan",{"$nulls":7},0,0]
[{"$f":"(IF(ISERROR(VLOOKUP(G571,[1]Choix14!$M$2:$N$14,2,FALSE)&LEFT(J571,4)&RIGHT(LEFT(J571,LEN(J571)-1),2)),0,VLOOKUP(G571,[1]Choix14!$M$2:$N$14,2,FALSE)&LEFT(J571,4)&RIGHT(LEFT(J571,LEN(J571)-1),2)))*1","v":0},{"$f":"(IF(ISERROR(VLOOKUP(L571,[1]Choix14!$M$2:$N$14,2,FALSE)&LEFT(O571,4)&RIGHT(LEFT(O571,LEN(O571)-1),2)),0,VLOOKUP(L571,[1]Choix14!$M$2:$N$14,2,FALSE)&LEFT(O571,4)&RIGHT(LEFT(O571,LEN(O571)-1),2)))*1","v":0},{"$nulls":6}," Micheal Haley",{"$nulls":7},0,0]
[{"$f":"(IF(ISERROR(VLOOKUP(G572,[1]Choix14!$M$2:$N$14,2,FALSE)&LEFT(J572,4)&RIGHT(LEFT(J572,LEN(J572)-1),2)),0,VLOOKUP(G572,[1]Choix14!$M$2:$N$14,2,FALSE)&LEFT(J572,4)&RIGHT(LEFT(J572,LEN(J572)-1),2)))*1","v":0},{"$f":"(IF(ISERROR(VLOOKUP(L572,[1]Choix14!$M$2:$N$14,2,FALSE)&LEFT(O572,4)&RIGHT(LEFT(O572,LEN(O572)-1),2)),0,VLOOKUP(L572,[1]Choix14!$M$2:$N$14,2,FALSE)&LEFT(O572,4)&RIGHT(LEFT(O572,LEN(O572)-1),2)))*1","v":0},{"$nulls":6}," Dwight King",{"$nulls":7},0,0]
[{"$f":"(IF(ISERROR(VLOOKUP(G573,[1]Choix14!$M$2:$N$14,2,FALSE)&LEFT(J573,4)&RIGHT(LEFT(J573,LEN(J573)-1),2)),0,VLOOKUP(G573,[1]Choix14!$M$2:$N$14,2,FALSE)&LEFT(J573,4)&RIGHT(LEFT(J573,LEN(J573)-1),2)))*1","v":0},{"$f":"(IF(ISERROR(VLOOKUP(L573,[1]Choix14!$M$2:$N$14,2,FALSE)&LEFT(O573,4)&RIGHT(LEFT(O573,LEN(O573)-1),2)),0,VLOOKUP(L573,[1]Choix14!$M$2:$N$14,2,FALSE)&LEFT(O573,4)&RIGHT(LEFT(O573,LEN(O573)-1),2)))*1","v":0},{"$nulls":6}," Jason Demers",{"$nulls":7},0,0]
[{"$f":"(IF(ISERROR(VLOOKUP(G574,[1]Choix14!$M$2:$N$14,2,FALSE)&LEFT(J574,4)&RIGHT(LEFT(J574,LEN(J574)-1),2)),0,VLOOKUP(G574,[1]Choix14!$M$2:$N$14,2,FALSE)&LEFT(J574,4)&RIGHT(LEFT(J574,LEN(J574)-1),2)))*1","v":0},{"$f":"(IF(ISERROR(VLOOKUP(L574,[1]Choix14!$M$2:$N$14,2,FALSE)&LEFT(O574,4)&RIGHT(LEFT(O574,LEN(O574)-1),2)),0,VLOOKUP(L574,[1]Choix14!$M$2:$N$14,2,FALSE)&LEFT(O574,4)&RIGHT(LEFT(O574,LEN(O574)-1),2)))*1","v":0},{"$nulls":6}," Viktor Stalberg",{"$nulls":7},0,0]
[{"$f":"(IF(ISERROR(VLOOKUP(G575,[1]Choix14!$M$2:$N$14,2,FALSE)&LEFT(J575,4)&RIGHT(LEFT(J575,LEN(J575)-1),2)),0,VLOOKUP(G575,[1]Choix14!$M$2:$N$14,2,FALSE)&LEFT(J575,4)&RIGHT(LEFT(J575,LEN(J575)-1),2)))*1","v":0},{"$f":"(IF(ISERROR(VLOOKUP(L575,[1]Choix14!$M$2:$N$14,2,FALSE)&LEFT(O575,4)&RIGHT(LEFT(O575,LEN(O575)-1),2)),0,VLOOKUP(L575,[1]Choix14!$M$2:$N$14,2,FALSE)&LEFT(O575,4)&RIGHT(LEFT(O575,LEN(O575)-1),2)))*1","v":0},{"$nulls":6}," Magnus Paajarvi",{"$nulls":7},0,0]
[{"$f":"(IF(ISERROR(VLOOKUP(G576,[1]Choix14!$M$2:$N$14,2,FALSE)&LEFT(J576,4)&RIGHT(LEFT(J576,LEN(J576)-1),2)),0,VLOOKUP(G576,[1]Choix14!$M$2:$N$14,2,FALSE)&LEFT(J576,4)&RIGHT(LEFT(J576,LEN(J576)-1),2)))*1","v":0},{"$f":"(IF(ISERROR(VLOOKUP(L576,[1]Choix14!$M$2:$N$14,2,FALSE)&LEFT(O576,4)&RIGHT(LEFT(O576,LEN(O576)-1),2)),0,VLOOKUP(L576,[1]Choix14!$M$2:$N$14,2,FALSE)&LEFT(O576,4)&RIGHT(LEFT(O576,LEN(O576)-1),2)))*1","v":0},{"$nulls":6}," Andrew MacDonald",{"$nulls":7},0,0]
[{"$f":"(IF(ISERROR(VLOOKUP(G577,[1]Choix14!$M$2:$N$14,2,FALSE)&LEFT(J577,4)&RIGHT(LEFT(J577,LEN(J577)-1),2)),0,VLOOKUP(G577,[1]Choix14!$M$2:$N$14,2,FALSE)&LEFT(J577,4)&RIGHT(LEFT(J577,LEN(J577)-1),2)))*1","v":0},{"$f":"(IF(ISERROR(VLOOKUP(L577,[1]Choix14!$M$2:$N$14,2,FALSE)&LEFT(O577,4)&RIGHT(LEFT(O577,LEN(O577)-1),2)),0,VLOOKUP(L577,[1]Choix14!$M$2:$N$14,2,FALSE)&LEFT(O577,4)&RIGHT(LEFT(O577,LEN(O577)-1),2)))*1","v":0},{"$nulls":6}," Joel Ward",{"$nulls":7},0,0]
[{"$f":"(IF(ISERROR(VLOOKUP(G578,[1]Choix14!$M$2:$N$14,2,FALSE)&LEFT(J578,4)&RIGHT(LEFT(J578,LEN(J578)-1),2)),0,VLOOKUP(G578,[1]Choix14!$M$2:$N$14,2,FALSE)&LEFT(J578,4)&RIGHT(LEFT(J578,LEN(J578)-1),2)))*1","v":0},{"$f":"(IF(ISERROR(VLOOKUP(L578,[1]Choix14!$M$2:$N$14,2,FALSE)&LEFT(O578,4)&RIGHT(LEFT(O578,LEN(O578)-1),2)),0,VLOOKUP(L578,[1]Choix14!$M$2:$N$14,2,FALSE)&LEFT(O578,4)&RIGHT(LEFT(O578,LEN(O578)-1),2)))*1","v":0},{"$nulls":6}," Brian Boyle",{"$nulls":7},0,0]
[{"$f":"(IF(ISERROR(VLOOKUP(G579,[1]Choix14!$M$2:$N$14,2,FALSE)&LEFT(J579,4)&RIGHT(LEFT(J579,LEN(J579)-1),2)),0,VLOOKUP(G579,[1]Choix14!$M$2:$N$14,2,FALSE)&LEFT(J579,4)&RIGHT(LEFT(J579,LEN(J579)-1),2)))*1","v":0},{"$f":"(IF(ISERROR(VLOOKUP(L579,[1]Choix14!$M$2:$N$14,2,FALSE)&LEFT(O579,4)&RIGHT(LEFT(O579,LEN(O579)-1),2)),0,VLOOKUP(L579,[1]Choix14!$M$2:$N$14,2,FALSE)&LEFT(O579,4)&RIGHT(LEFT(O579,LEN(O579)-1),2)))*1","v":0},{"$nulls":6}," Boyd Gordon",{"$nulls":7},{"$f":"IF(A579<1,0,COUNTIF($A:$B,A579))","v":0},0]
[{"$f":"(IF(ISERROR(VLOOKUP(G580,[1]Choix14!$M$2:$N$14,2,FALSE)&LEFT(J580,4)&RIGHT(LEFT(J580,LEN(J580)-1),2)),0,VLOOKUP(G580,[1]Choix14!$M$2:$N$14,2,FALSE)&LEFT(J580,4)&RIGHT(LEFT(J580,LEN(J580)-1),2)))*1","v":0},{"$f":"(IF(ISERROR(VLOOKUP(L580,[1]Choix14!$M$2:$N$14,2,FALSE)&LEFT(O580,4)&RIGHT(LEFT(O580,LEN(O580)-1),2)),0,VLOOKUP(L580,[1]Choix14!$M$2:$N$14,2,FALSE)&LEFT(O580,4)&RIGHT(LEFT(O580,LEN(O580)-1),2)))*1","v":0},{"$nulls":6}," Patrice Bergeron",{"$nulls":7},0,0]
[{"$f":"(IF(ISERROR(VLOOKUP(G581,[1]Choix14!$M$2:$N$14,2,FALSE)&LEFT(J581,4)&RIGHT(LEFT(J581,LEN(J581)-1),2)),0,VLOOKUP(G581,[1]Choix14!$M$2:$N$14,2,FALSE)&LEFT(J581,4)&RIGHT(LEFT(J581,LEN(J581)-1),2)))*1","v":0},{"$f":"(IF(ISERROR(VLOOKUP(L581,[1]Choix14!$M$2:$N$14,2,FALSE)&LEFT(O581,4)&RIGHT(LEFT(O581,LEN(O581)-1),2)),0,VLOOKUP(L581,[1]Choix14!$M$2:$N$14,2,FALSE)&LEFT(O581,4)&RIGHT(LEFT(O581,LEN(O581)-1),2)))*1","v":0},{"$nulls":6}," Matt Carle",{"$nulls":7},0,0]
[{"$f":"(IF(ISERROR(VLOOKUP(G582,[1]Choix14!$M$2:$N$14,2,FALSE)&LEFT(J582,4)&RIGHT(LEFT(J582,LEN(J582)-1),2)),0,VLOOKUP(G582,[1]Choix14!$M$2:$N$14,2,FALSE)&LEFT(J582,4)&RIGHT(LEFT(J582,LEN(J582)-1),2)))*1","v":0},{"$f":"(IF(ISERROR(VLOOKUP(L582,[1]Choix14!$M$2:$N$14,2,FALSE)&LEFT(O582,4)&RIGHT(LEFT(O582,LEN(O582)-1),2)),0,VLOOKUP(L582,[1]Choix14!$M$2:$N$14,2,FALSE)&LEFT(O582,4)&RIGHT(LEFT(O582,LEN(O582)-1),2)))*1","v":0},{"$nulls":6}," Marc Methot",{"$nulls":7},0,0]
[{"$f":"(IF(ISERROR(VLOOKUP(G583,[1]Choix14!$M$2:$N$14,2,FALSE)&LEFT(J583,4)&RIGHT(LEFT(J583,LEN(J583)-1),2)),0,VLOOKUP(G583,[1]Choix14!$M$2:$N$14,2,FALSE)&LEFT(J583,4)&RIGHT(LEFT(J583,LEN(J583)-1),2)))*1","v":0},{"$f":"(IF(ISERROR(VLOOKUP(L583,[1]Choix14!$M$2:$N$14,2,FALSE)&LEFT(O583,4)&RIGHT(LEFT(O583,LEN(O583)-1),2)),0,VLOOKUP(L583,[1]Choix14!$M$2:$N$14,2,FALSE)&LEFT(O583,4)&RIGHT(LEFT(O583,LEN(O583)-1),2)))*1","v":0},{"$nulls":6}," Deryk Engelland",{"$nulls":7},0,0]
[{"$f":"(IF(ISERROR(VLOOKUP(G584,[1]Choix14!$M$2:$N$14,2,FALSE)&LEFT(J584,4)&RIGHT(LEFT(J584,LEN(J584)-1),2)),0,VLOOKUP(G584,[1]Choix14!$M$2:$N$14,2,FALSE)&LEFT(J584,4)&RIGHT(LEFT(J584,LEN(J584)-1),2)))*1","v":0},{"$f":"(IF(ISERROR(VLOOKUP(L584,[1]Choix14!$M$2:$N$14,2,FALSE)&LEFT(O584,4)&RIGHT(LEFT(O584,LEN(O584)-1),2)),0,VLOOKUP(L584,[1]Choix14!$M$2:$N$14,2,FALSE)&LEFT(O584,4)&RIGHT(LEFT(O584,LEN(O584)-1),2)))*1","v":0},{"$nulls":6}," Dennis Seidenberg",{"$nulls":7},0,0]
[{"$f":"(IF(ISERROR(VLOOKUP(G585,[1]Choix14!$M$2:$N$14,2,FALSE)&LEFT(J585,4)&RIGHT(LEFT(J585,LEN(J585)-1),2)),0,VLOOKUP(G585,[1]Choix14!$M$2:$N$14,2,FALSE)&LEFT(J585,4)&RIGHT(LEFT(J585,LEN(J585)-1),2)))*1","v":0},{"$f":"(IF(ISERROR(VLOOKUP(L585,[1]Choix14!$M$2:$N$14,2,FALSE)&LEFT(O585,4)&RIGHT(LEFT(O585,LEN(O585)-1),2)),0,VLOOKUP(L585,[1]Choix14!$M$2:$N$14,2,FALSE)&LEFT(O585,4)&RIGHT(LEFT(O585,LEN(O585)-1),2)))*1","v":0},{"$nulls":6}," Jay Bouwmeester",{"$nulls":7},0,0]
[{"$f":"(IF(ISERROR(VLOOKUP(G586,[1]Choix14!$M$2:$N$14,2,FALSE)&LEFT(J586,4)&RIGHT(LEFT(J586,LEN(J586)-1),2)),0,VLOOKUP(G586,[1]Choix14!$M$2:$N$14,2,FALSE)&LEFT(J586,4)&RIGHT(LEFT(J586,LEN(J586)-1),2)))*1","v":0},{"$f":"(IF(ISERROR(VLOOKUP(L586,[1]Choix14!$M$2:$N$14,2,FALSE)&LEFT(O586,4)&RIGHT(LEFT(O586,LEN(O586)-1),2)),0,VLOOKUP(L586,[1]Choix14!$M$2:$N$14,2,FALSE)&LEFT(O586,4)&RIGHT(LEFT(O586,LEN(O586)-1),2)))*1","v":0},{"$nulls":6}," Chris Neil",{"$nulls":7},0,0]
[{"$f":"(IF(ISERROR(VLOOKUP(G587,[1]Choix14!$M$2:$N$14,2,FALSE)&LEFT(J587,4)&RIGHT(LEFT(J587,LEN(J587)-1),2)),0,VLOOKUP(G587,[1]Choix14!$M$2:$N$14,2,FALSE)&LEFT(J587,4)&RIGHT(LEFT(J587,LEN(J587)-1),2)))*1","v":0},{"$f":"(IF(ISERROR(VLOOKUP(L587,[1]Choix14!$M$2:$N$14,2,FALSE)&LEFT(O587,4)&RIGHT(LEFT(O587,LEN(O587)-1),2)),0,VLOOKUP(L587,[1]Choix14!$M$2:$N$14,2,FALSE)&LEFT(O587,4)&RIGHT(LEFT(O587,LEN(O587)-1),2)))*1","v":0},{"$nulls":6}," Jarome Iginla",{"$nulls":7},0,0]
[{"$f":"(IF(ISERROR(VLOOKUP(G588,[1]Choix14!$M$2:$N$14,2,FALSE)&LEFT(J588,4)&RIGHT(LEFT(J588,LEN(J588)-1),2)),0,VLOOKUP(G588,[1]Choix14!$M$2:$N$14,2,FALSE)&LEFT(J588,4)&RIGHT(LEFT(J588,LEN(J588)-1),2)))*1","v":0},{"$f":"(IF(ISERROR(VLOOKUP(L588,[1]Choix14!$M$2:$N$14,2,FALSE)&LEFT(O588,4)&RIGHT(LEFT(O588,LEN(O588)-1),2)),0,VLOOKUP(L588,[1]Choix14!$M$2:$N$14,2,FALSE)&LEFT(O588,4)&RIGHT(LEFT(O588,LEN(O588)-1),2)))*1","v":0},{"$nulls":6}," Justin Williams",{"$nulls":7},0,0]
[{"$f":"(IF(ISERROR(VLOOKUP(G589,[1]Choix14!$M$2:$N$14,2,FALSE)&LEFT(J589,4)&RIGHT(LEFT(J589,LEN(J589)-1),2)),0,VLOOKUP(G589,[1]Choix14!$M$2:$N$14,2,FALSE)&LEFT(J589,4)&RIGHT(LEFT(J589,LEN(J589)-1),2)))*1","v":0},{"$f":"(IF(ISERROR(VLOOKUP(L589,[1]Choix14!$M$2:$N$14,2,FALSE)&LEFT(O589,4)&RIGHT(LEFT(O589,LEN(O589)-1),2)),0,VLOOKUP(L589,[1]Choix14!$M$2:$N$14,2,FALSE)&LEFT(O589,4)&RIGHT(LEFT(O589,LEN(O589)-1),2)))*1","v":0},{"$nulls":6}," Antoine Vermette",{"$nulls":7},0,0]
[{"$f":"(IF(ISERROR(VLOOKUP(G590,[1]Choix14!$M$2:$N$14,2,FALSE)&LEFT(J590,4)&RIGHT(LEFT(J590,LEN(J590)-1),2)),0,VLOOKUP(G590,[1]Choix14!$M$2:$N$14,2,FALSE)&LEFT(J590,4)&RIGHT(LEFT(J590,LEN(J590)-1),2)))*1","v":0},{"$f":"(IF(ISERROR(VLOOKUP(L590,[1]Choix14!$M$2:$N$14,2,FALSE)&LEFT(O590,4)&RIGHT(LEFT(O590,LEN(O590)-1),2)),0,VLOOKUP(L590,[1]Choix14!$M$2:$N$14,2,FALSE)&LEFT(O590,4)&RIGHT(LEFT(O590,LEN(O590)-1),2)))*1","v":0},{"$nulls":6}," Patrick Sharp",{"$nulls":7},0,0]
[{"$f":"(IF(ISERROR(VLOOKUP(G591,[1]Choix14!$M$2:$N$14,2,FALSE)&LEFT(J591,4)&RIGHT(LEFT(J591,LEN(J591)-1),2)),0,VLOOKUP(G591,[1]Choix14!$M$2:$N$14,2,FALSE)&LEFT(J591,4)&RIGHT(LEFT(J591,LEN(J591)-1),2)))*1","v":0},{"$f":"(IF(ISERROR(VLOOKUP(L591,[1]Choix14!$M$2:$N$14,2,FALSE)&LEFT(O591,4)&RIGHT(LEFT(O591,LEN(O591)-1),2)),0,VLOOKUP(L591,[1]Choix14!$M$2:$N$14,2,FALSE)&LEFT(O591,4)&RIGHT(LEFT(O591,LEN(O591)-1),2)))*1","v":0},{"$nulls":6}," Paul Martin",{"$nulls":7},0,0]
[{"$f":"(IF(ISERROR(VLOOKUP(G592,[1]Choix14!$M$2:$N$14,2,FALSE)&LEFT(J592,4)&RIGHT(LEFT(J592,LEN(J592)-1),2)),0,VLOOKUP(G592,[1]Choix14!$M$2:$N$14,2,FALSE)&LEFT(J592,4)&RIGHT(LEFT(J592,LEN(J592)-1),2)))*1","v":0},{"$f":"(IF(ISERROR(VLOOKUP(L592,[1]Choix14!$M$2:$N$14,2,FALSE)&LEFT(O592,4)&RIGHT(LEFT(O592,LEN(O592)-1),2)),0,VLOOKUP(L592,[1]Choix14!$M$2:$N$14,2,FALSE)&LEFT(O592,4)&RIGHT(LEFT(O592,LEN(O592)-1),2)))*1","v":0},{"$nulls":6}," Rene Bourque",{"$nulls":7},0,0]
[{"$f":"(IF(ISERROR(VLOOKUP(G593,[1]Choix14!$M$2:$N$14,2,FALSE)&LEFT(J593,4)&RIGHT(LEFT(J593,LEN(J593)-1),2)),0,VLOOKUP(G593,[1]Choix14!$M$2:$N$14,2,FALSE)&LEFT(J593,4)&RIGHT(LEFT(J593,LEN(J593)-1),2)))*1","v":0},{"$f":"(IF(ISERROR(VLOOKUP(L593,[1]Choix14!$M$2:$N$14,2,FALSE)&LEFT(O593,4)&RIGHT(LEFT(O593,LEN(O593)-1),2)),0,VLOOKUP(L593,[1]Choix14!$M$2:$N$14,2,FALSE)&LEFT(O593,4)&RIGHT(LEFT(O593,LEN(O593)-1),2)))*1","v":0},{"$nulls":6}," Andrew Ladd",{"$nulls":7},0,0]
[{"$f":"(IF(ISERROR(VLOOKUP(G594,[1]Choix14!$M$2:$N$14,2,FALSE)&LEFT(J594,4)&RIGHT(LEFT(J594,LEN(J594)-1),2)),0,VLOOKUP(G594,[1]Choix14!$M$2:$N$14,2,FALSE)&LEFT(J594,4)&RIGHT(LEFT(J594,LEN(J594)-1),2)))*1","v":0},{"$f":"(IF(ISERROR(VLOOKUP(L594,[1]Choix14!$M$2:$N$14,2,FALSE)&LEFT(O594,4)&RIGHT(LEFT(O594,LEN(O594)-1),2)),0,VLOOKUP(L594,[1]Choix14!$M$2:$N$14,2,FALSE)&LEFT(O594,4)&RIGHT(LEFT(O594,LEN(O594)-1),2)))*1","v":0},{"$nulls":6}," Roman Polak",{"$nulls":7},0,0]
[{"$f":"(IF(ISERROR(VLOOKUP(G595,[1]Choix14!$M$2:$N$14,2,FALSE)&LEFT(J595,4)&RIGHT(LEFT(J595,LEN(J595)-1),2)),0,VLOOKUP(G595,[1]Choix14!$M$2:$N$14,2,FALSE)&LEFT(J595,4)&RIGHT(LEFT(J595,LEN(J595)-1),2)))*1","v":0},{"$f":"(IF(ISERROR(VLOOKUP(L595,[1]Choix14!$M$2:$N$14,2,FALSE)&LEFT(O595,4)&RIGHT(LEFT(O595,LEN(O595)-1),2)),0,VLOOKUP(L595,[1]Choix14!$M$2:$N$14,2,FALSE)&LEFT(O595,4)&RIGHT(LEFT(O595,LEN(O595)-1),2)))*1","v":0},{"$nulls":6}," Keith Yandle",{"$nulls":7},0,0]
[{"$f":"(IF(ISERROR(VLOOKUP(G596,[1]Choix14!$M$2:$N$14,2,FALSE)&LEFT(J596,4)&RIGHT(LEFT(J596,LEN(J596)-1),2)),0,VLOOKUP(G596,[1]Choix14!$M$2:$N$14,2,FALSE)&LEFT(J596,4)&RIGHT(LEFT(J596,LEN(J596)-1),2)))*1","v":0},{"$f":"(IF(ISERROR(VLOOKUP(L596,[1]Choix14!$M$2:$N$14,2,FALSE)&LEFT(O596,4)&RIGHT(LEFT(O596,LEN(O596)-1),2)),0,VLOOKUP(L596,[1]Choix14!$M$2:$N$14,2,FALSE)&LEFT(O596,4)&RIGHT(LEFT(O596,LEN(O596)-1),2)))*1","v":0},{"$nulls":6}," Cody Franson",{"$nulls":7},0,0]
[{"$f":"(IF(ISERROR(VLOOKUP(G597,[1]Choix14!$M$2:$N$14,2,FALSE)&LEFT(J597,4)&RIGHT(LEFT(J597,LEN(J597)-1),2)),0,VLOOKUP(G597,[1]Choix14!$M$2:$N$14,2,FALSE)&LEFT(J597,4)&RIGHT(LEFT(J597,LEN(J597)-1),2)))*1","v":0},{"$f":"(IF(ISERROR(VLOOKUP(L597,[1]Choix14!$M$2:$N$14,2,FALSE)&LEFT(O597,4)&RIGHT(LEFT(O597,LEN(O597)-1),2)),0,VLOOKUP(L597,[1]Choix14!$M$2:$N$14,2,FALSE)&LEFT(O597,4)&RIGHT(LEFT(O597,LEN(O597)-1),2)))*1","v":0},{"$nulls":6}," Bryan Little",{"$nulls":7},0,0]
[{"$f":"(IF(ISERROR(VLOOKUP(G598,[1]Choix14!$M$2:$N$14,2,FALSE)&LEFT(J598,4)&RIGHT(LEFT(J598,LEN(J598)-1),2)),0,VLOOKUP(G598,[1]Choix14!$M$2:$N$14,2,FALSE)&LEFT(J598,4)&RIGHT(LEFT(J598,LEN(J598)-1),2)))*1","v":0},{"$f":"(IF(ISERROR(VLOOKUP(L598,[1]Choix14!$M$2:$N$14,2,FALSE)&LEFT(O598,4)&RIGHT(LEFT(O598,LEN(O598)-1),2)),0,VLOOKUP(L598,[1]Choix14!$M$2:$N$14,2,FALSE)&LEFT(O598,4)&RIGHT(LEFT(O598,LEN(O598)-1),2)))*1","v":0},{"$nulls":6}," Johnny Oduya",{"$nulls":7},0,0]
[{"$f":"(IF(ISERROR(VLOOKUP(G599,[1]Choix14!$M$2:$N$14,2,FALSE)&LEFT(J599,4)&RIGHT(LEFT(J599,LEN(J599)-1),2)),0,VLOOKUP(G599,[1]Choix14!$M$2:$N$14,2,FALSE)&LEFT(J599,4)&RIGHT(LEFT(J599,LEN(J599)-1),2)))*1","v":0},{"$f":"(IF(ISERROR(VLOOKUP(L599,[1]Choix14!$M$2:$N$14,2,FALSE)&LEFT(O599,4)&RIGHT(LEFT(O599,LEN(O599)-1),2)),0,VLOOKUP(L599,[1]Choix14!$M$2:$N$14,2,FALSE)&LEFT(O599,4)&RIGHT(LEFT(O599,LEN(O599)-1),2)))*1","v":0},{"$nulls":6}," Alexander Edler",{"$nulls":7},0,0]
[{"$f":"(IF(ISERROR(VLOOKUP(G600,[1]Choix14!$M$2:$N$14,2,FALSE)&LEFT(J600,4)&RIGHT(LEFT(J600,LEN(J600)-1),2)),0,VLOOKUP(G600,[1]Choix14!$M$2:$N$14,2,FALSE)&LEFT(J600,4)&RIGHT(LEFT(J600,LEN(J600)-1),2)))*1","v":0},{"$f":"(IF(ISERROR(VLOOKUP(L600,[1]Choix14!$M$2:$N$14,2,FALSE)&LEFT(O600,4)&RIGHT(LEFT(O600,LEN(O600)-1),2)),0,VLOOKUP(L600,[1]Choix14!$M$2:$N$14,2,FALSE)&LEFT(O600,4)&RIGHT(LEFT(O600,LEN(O600)-1),2)))*1","v":0},{"$nulls":6}," Brandon Dubinsky",{"$nulls":7},0,0]
[{"$f":"(IF(ISERROR(VLOOKUP(G601,[1]Choix14!$M$2:$N$14,2,FALSE)&LEFT(J601,4)&RIGHT(LEFT(J601,LEN(J601)-1),2)),0,VLOOKUP(G601,[1]Choix14!$M$2:$N$14,2,FALSE)&LEFT(J601,4)&RIGHT(LEFT(J601,LEN(J601)-1),2)))*1","v":0},{"$f":"(IF(ISERROR(VLOOKUP(L601,[1]Choix14!$M$2:$N$14,2,FALSE)&LEFT(O601,4)&RIGHT(LEFT(O601,LEN(O601)-1),2)),0,VLOOKUP(L601,[1]Choix14!$M$2:$N$14,2,FALSE)&LEFT(O601,4)&RIGHT(LEFT(O601,LEN(O601)-1),2)))*1","v":0},{"$nulls":6}," Marc-Edouard Vlasic",{"$nulls":7},0,0]
[{"$f":"(IF(ISERROR(VLOOKUP(G602,[1]Choix14!$M$2:$N$14,2,FALSE)&LEFT(J602,4)&RIGHT(LEFT(J602,LEN(J602)-1),2)),0,VLOOKUP(G602,[1]Choix14!$M$2:$N$14,2,FALSE)&LEFT(J602,4)&RIGHT(LEFT(J602,LEN(J602)-1),2)))*1","v":0},{"$f":"(IF(ISERROR(VLOOKUP(L602,[1]Choix14!$M$2:$N$14,2,FALSE)&LEFT(O602,4)&RIGHT(LEFT(O602,LEN(O602)-1),2)),0,VLOOKUP(L602,[1]Choix14!$M$2:$N$14,2,FALSE)&LEFT(O602,4)&RIGHT(LEFT(O602,LEN(O602)-1),2)))*1","v":0},{"$nulls":6}," Lauri Korpikoski",{"$nulls":7},0,0]
[{"$f":"(IF(ISERROR(VLOOKUP(G603,[1]Choix14!$M$2:$N$14,2,FALSE)&LEFT(J603,4)&RIGHT(LEFT(J603,LEN(J603)-1),2)),0,VLOOKUP(G603,[1]Choix14!$M$2:$N$14,2,FALSE)&LEFT(J603,4)&RIGHT(LEFT(J603,LEN(J603)-1),2)))*1","v":0},{"$f":"(IF(ISERROR(VLOOKUP(L603,[1]Choix14!$M$2:$N$14,2,FALSE)&LEFT(O603,4)&RIGHT(LEFT(O603,LEN(O603)-1),2)),0,VLOOKUP(L603,[1]Choix14!$M$2:$N$14,2,FALSE)&LEFT(O603,4)&RIGHT(LEFT(O603,LEN(O603)-1),2)))*1","v":0},{"$nulls":6}," Drew Stafford",{"$nulls":7},0,0]
[{"$f":"(IF(ISERROR(VLOOKUP(G604,[1]Choix14!$M$2:$N$14,2,FALSE)&LEFT(J604,4)&RIGHT(LEFT(J604,LEN(J604)-1),2)),0,VLOOKUP(G604,[1]Choix14!$M$2:$N$14,2,FALSE)&LEFT(J604,4)&RIGHT(LEFT(J604,LEN(J604)-1),2)))*1","v":0},{"$f":"(IF(ISERROR(VLOOKUP(L604,[1]Choix14!$M$2:$N$14,2,FALSE)&LEFT(O604,4)&RIGHT(LEFT(O604,LEN(O604)-1),2)),0,VLOOKUP(L604,[1]Choix14!$M$2:$N$14,2,FALSE)&LEFT(O604,4)&RIGHT(LEFT(O604,LEN(O604)-1),2)))*1","v":0},{"$nulls":6}," Marc Staal",{"$nulls":7},0,0]
[{"$f":"(IF(ISERROR(VLOOKUP(G605,[1]Choix14!$M$2:$N$14,2,FALSE)&LEFT(J605,4)&RIGHT(LEFT(J605,LEN(J605)-1),2)),0,VLOOKUP(G605,[1]Choix14!$M$2:$N$14,2,FALSE)&LEFT(J605,4)&RIGHT(LEFT(J605,LEN(J605)-1),2)))*1","v":0},{"$f":"(IF(ISERROR(VLOOKUP(L605,[1]Choix14!$M$2:$N$14,2,FALSE)&LEFT(O605,4)&RIGHT(LEFT(O605,LEN(O605)-1),2)),0,VLOOKUP(L605,[1]Choix14!$M$2:$N$14,2,FALSE)&LEFT(O605,4)&RIGHT(LEFT(O605,LEN(O605)-1),2)))*1","v":0},{"$nulls":6}," Clayton Stoner",{"$nulls":7},0,0]
[{"$f":"(IF(ISERROR(VLOOKUP(G606,[1]Choix14!$M$2:$N$14,2,FALSE)&LEFT(J606,4)&RIGHT(LEFT(J606,LEN(J606)-1),2)),0,VLOOKUP(G606,[1]Choix14!$M$2:$N$14,2,FALSE)&LEFT(J606,4)&RIGHT(LEFT(J606,LEN(J606)-1),2)))*1","v":0},{"$f":"(IF(ISERROR(VLOOKUP(L606,[1]Choix14!$M$2:$N$14,2,FALSE)&LEFT(O606,4)&RIGHT(LEFT(O606,LEN(O606)-1),2)),0,VLOOKUP(L606,[1]Choix14!$M$2:$N$14,2,FALSE)&LEFT(O606,4)&RIGHT(LEFT(O606,LEN(O606)-1),2)))*1","v":0},{"$nulls":6}," James Neal",{"$nulls":7},0,0]
[{"$f":"(IF(ISERROR(VLOOKUP(G607,[1]Choix14!$M$2:$N$14,2,FALSE)&LEFT(J607,4)&RIGHT(LEFT(J607,LEN(J607)-1),2)),0,VLOOKUP(G607,[1]Choix14!$M$2:$N$14,2,FALSE)&LEFT(J607,4)&RIGHT(LEFT(J607,LEN(J607)-1),2)))*1","v":0},{"$f":"(IF(ISERROR(VLOOKUP(L607,[1]Choix14!$M$2:$N$14,2,FALSE)&LEFT(O607,4)&RIGHT(LEFT(O607,LEN(O607)-1),2)),0,VLOOKUP(L607,[1]Choix14!$M$2:$N$14,2,FALSE)&LEFT(O607,4)&RIGHT(LEFT(O607,LEN(O607)-1),2)))*1","v":0},{"$nulls":6}," Korbinian Holzer",{"$nulls":7},0,0]
[{"$f":"(IF(ISERROR(VLOOKUP(G608,[1]Choix14!$M$2:$N$14,2,FALSE)&LEFT(J608,4)&RIGHT(LEFT(J608,LEN(J608)-1),2)),0,VLOOKUP(G608,[1]Choix14!$M$2:$N$14,2,FALSE)&LEFT(J608,4)&RIGHT(LEFT(J608,LEN(J608)-1),2)))*1","v":0},{"$f":"(IF(ISERROR(VLOOKUP(L608,[1]Choix14!$M$2:$N$14,2,FALSE)&LEFT(O608,4)&RIGHT(LEFT(O608,LEN(O608)-1),2)),0,VLOOKUP(L608,[1]Choix14!$M$2:$N$14,2,FALSE)&LEFT(O608,4)&RIGHT(LEFT(O608,LEN(O608)-1),2)))*1","v":0},{"$nulls":6}," Luca Sbisa",{"$nulls":7},0,0]
[{"$f":"(IF(ISERROR(VLOOKUP(G609,[1]Choix14!$M$2:$N$14,2,FALSE)&LEFT(J609,4)&RIGHT(LEFT(J609,LEN(J609)-1),2)),0,VLOOKUP(G609,[1]Choix14!$M$2:$N$14,2,FALSE)&LEFT(J609,4)&RIGHT(LEFT(J609,LEN(J609)-1),2)))*1","v":0},{"$f":"(IF(ISERROR(VLOOKUP(L609,[1]Choix14!$M$2:$N$14,2,FALSE)&LEFT(O609,4)&RIGHT(LEFT(O609,LEN(O609)-1),2)),0,VLOOKUP(L609,[1]Choix14!$M$2:$N$14,2,FALSE)&LEFT(O609,4)&RIGHT(LEFT(O609,LEN(O609)-1),2)))*1","v":0},{"$nulls":6}," Christopher Tanev",{"$nulls":7},0,0]
[{"$f":"(IF(ISERROR(VLOOKUP(G610,[1]Choix14!$M$2:$N$14,2,FALSE)&LEFT(J610,4)&RIGHT(LEFT(J610,LEN(J610)-1),2)),0,VLOOKUP(G610,[1]Choix14!$M$2:$N$14,2,FALSE)&LEFT(J610,4)&RIGHT(LEFT(J610,LEN(J610)-1),2)))*1","v":0},{"$f":"(IF(ISERROR(VLOOKUP(L610,[1]Choix14!$M$2:$N$14,2,FALSE)&LEFT(O610,4)&RIGHT(LEFT(O610,LEN(O610)-1),2)),0,VLOOKUP(L610,[1]Choix14!$M$2:$N$14,2,FALSE)&LEFT(O610,4)&RIGHT(LEFT(O610,LEN(O610)-1),2)))*1","v":0},{"$nulls":6}," Calle Jarnkrok",{"$nulls":7},0,0]
[{"$f":"(IF(ISERROR(VLOOKUP(G611,[1]Choix14!$M$2:$N$14,2,FALSE)&LEFT(J611,4)&RIGHT(LEFT(J611,LEN(J611)-1),2)),0,VLOOKUP(G611,[1]Choix14!$M$2:$N$14,2,FALSE)&LEFT(J611,4)&RIGHT(LEFT(J611,LEN(J611)-1),2)))*1","v":0},{"$f":"(IF(ISERROR(VLOOKUP(L611,[1]Choix14!$M$2:$N$14,2,FALSE)&LEFT(O611,4)&RIGHT(LEFT(O611,LEN(O611)-1),2)),0,VLOOKUP(L611,[1]Choix14!$M$2:$N$14,2,FALSE)&LEFT(O611,4)&RIGHT(LEFT(O611,LEN(O611)-1),2)))*1","v":0},{"$nulls":6}," Stephen Johns",{"$nulls":7},0,0]
[{"$f":"(IF(ISERROR(VLOOKUP(G612,[1]Choix14!$M$2:$N$14,2,FALSE)&LEFT(J612,4)&RIGHT(LEFT(J612,LEN(J612)-1),2)),0,VLOOKUP(G612,[1]Choix14!$M$2:$N$14,2,FALSE)&LEFT(J612,4)&RIGHT(LEFT(J612,LEN(J612)-1),2)))*1","v":0},{"$f":"(IF(ISERROR(VLOOKUP(L612,[1]Choix14!$M$2:$N$14,2,FALSE)&LEFT(O612,4)&RIGHT(LEFT(O612,LEN(O612)-1),2)),0,VLOOKUP(L612,[1]Choix14!$M$2:$N$14,2,FALSE)&LEFT(O612,4)&RIGHT(LEFT(O612,LEN(O612)-1),2)))*1","v":0},{"$nulls":6}," Riley Sheahan",{"$nulls":7},0,0]
[{"$f":"(IF(ISERROR(VLOOKUP(G613,[1]Choix14!$M$2:$N$14,2,FALSE)&LEFT(J613,4)&RIGHT(LEFT(J613,LEN(J613)-1),2)),0,VLOOKUP(G613,[1]Choix14!$M$2:$N$14,2,FALSE)&LEFT(J613,4)&RIGHT(LEFT(J613,LEN(J613)-1),2)))*1","v":0},{"$f":"(IF(ISERROR(VLOOKUP(L613,[1]Choix14!$M$2:$N$14,2,FALSE)&LEFT(O613,4)&RIGHT(LEFT(O613,LEN(O613)-1),2)),0,VLOOKUP(L613,[1]Choix14!$M$2:$N$14,2,FALSE)&LEFT(O613,4)&RIGHT(LEFT(O613,LEN(O613)-1),2)))*1","v":0},{"$nulls":6}," Jaden Schwartz",{"$nulls":7},0,0]
[{"$f":"(IF(ISERROR(VLOOKUP(G614,[1]Choix14!$M$2:$N$14,2,FALSE)&LEFT(J614,4)&RIGHT(LEFT(J614,LEN(J614)-1),2)),0,VLOOKUP(G614,[1]Choix14!$M$2:$N$14,2,FALSE)&LEFT(J614,4)&RIGHT(LEFT(J614,LEN(J614)-1),2)))*1","v":0},{"$f":"(IF(ISERROR(VLOOKUP(L614,[1]Choix14!$M$2:$N$14,2,FALSE)&LEFT(O614,4)&RIGHT(LEFT(O614,LEN(O614)-1),2)),0,VLOOKUP(L614,[1]Choix14!$M$2:$N$14,2,FALSE)&LEFT(O614,4)&RIGHT(LEFT(O614,LEN(O614)-1),2)))*1","v":0},{"$nulls":6}," Erik Gudbranson",{"$nulls":7},0,0]
[{"$f":"(IF(ISERROR(VLOOKUP(G615,[1]Choix14!$M$2:$N$14,2,FALSE)&LEFT(J615,4)&RIGHT(LEFT(J615,LEN(J615)-1),2)),0,VLOOKUP(G615,[1]Choix14!$M$2:$N$14,2,FALSE)&LEFT(J615,4)&RIGHT(LEFT(J615,LEN(J615)-1),2)))*1","v":0},{"$f":"(IF(ISERROR(VLOOKUP(L615,[1]Choix14!$M$2:$N$14,2,FALSE)&LEFT(O615,4)&RIGHT(LEFT(O615,LEN(O615)-1),2)),0,VLOOKUP(L615,[1]Choix14!$M$2:$N$14,2,FALSE)&LEFT(O615,4)&RIGHT(LEFT(O615,LEN(O615)-1),2)))*1","v":0},{"$nulls":6}," Alex Burmistrov",{"$nulls":7},0,0]
[{"$f":"(IF(ISERROR(VLOOKUP(G616,[1]Choix14!$M$2:$N$14,2,FALSE)&LEFT(J616,4)&RIGHT(LEFT(J616,LEN(J616)-1),2)),0,VLOOKUP(G616,[1]Choix14!$M$2:$N$14,2,FALSE)&LEFT(J616,4)&RIGHT(LEFT(J616,LEN(J616)-1),2)))*1","v":0},{"$f":"(IF(ISERROR(VLOOKUP(L616,[1]Choix14!$M$2:$N$14,2,FALSE)&LEFT(O616,4)&RIGHT(LEFT(O616,LEN(O616)-1),2)),0,VLOOKUP(L616,[1]Choix14!$M$2:$N$14,2,FALSE)&LEFT(O616,4)&RIGHT(LEFT(O616,LEN(O616)-1),2)))*1","v":0},{"$nulls":6}," Joonas Donskoi",{"$nulls":7},0,0]
[{"$f":"(IF(ISERROR(VLOOKUP(G617,[1]Choix14!$M$2:$N$14,2,FALSE)&LEFT(J617,4)&RIGHT(LEFT(J617,LEN(J617)-1),2)),0,VLOOKUP(G617,[1]Choix14!$M$2:$N$14,2,FALSE)&LEFT(J617,4)&RIGHT(LEFT(J617,LEN(J617)-1),2)))*1","v":0},{"$f":"(IF(ISERROR(VLOOKUP(L617,[1]Choix14!$M$2:$N$14,2,FALSE)&LEFT(O617,4)&RIGHT(LEFT(O617,LEN(O617)-1),2)),0,VLOOKUP(L617,[1]Choix14!$M$2:$N$14,2,FALSE)&LEFT(O617,4)&RIGHT(LEFT(O617,LEN(O617)-1),2)))*1","v":0},{"$nulls":6}," Teemu Pulkkinen",{"$nulls":7},0,0]
[{"$f":"(IF(ISERROR(VLOOKUP(G618,[1]Choix14!$M$2:$N$14,2,FALSE)&LEFT(J618,4)&RIGHT(LEFT(J618,LEN(J618)-1),2)),0,VLOOKUP(G618,[1]Choix14!$M$2:$N$14,2,FALSE)&LEFT(J618,4)&RIGHT(LEFT(J618,LEN(J618)-1),2)))*1","v":0},{"$f":"(IF(ISERROR(VLOOKUP(L618,[1]Choix14!$M$2:$N$14,2,FALSE)&LEFT(O618,4)&RIGHT(LEFT(O618,LEN(O618)-1),2)),0,VLOOKUP(L618,[1]Choix14!$M$2:$N$14,2,FALSE)&LEFT(O618,4)&RIGHT(LEFT(O618,LEN(O618)-1),2)))*1","v":0},{"$nulls":6}," Adam Henrique",{"$nulls":7},0,0]
[{"$f":"(IF(ISERROR(VLOOKUP(G619,[1]Choix14!$M$2:$N$14,2,FALSE)&LEFT(J619,4)&RIGHT(LEFT(J619,LEN(J619)-1),2)),0,VLOOKUP(G619,[1]Choix14!$M$2:$N$14,2,FALSE)&LEFT(J619,4)&RIGHT(LEFT(J619,LEN(J619)-1),2)))*1","v":0},{"$f":"(IF(ISERROR(VLOOKUP(L619,[1]Choix14!$M$2:$N$14,2,FALSE)&LEFT(O619,4)&RIGHT(LEFT(O619,LEN(O619)-1),2)),0,VLOOKUP(L619,[1]Choix14!$M$2:$N$14,2,FALSE)&LEFT(O619,4)&RIGHT(LEFT(O619,LEN(O619)-1),2)))*1","v":0},{"$nulls":6}," Brenden Dillon",{"$nulls":7},0,0]
[{"$f":"(IF(ISERROR(VLOOKUP(G620,[1]Choix14!$M$2:$N$14,2,FALSE)&LEFT(J620,4)&RIGHT(LEFT(J620,LEN(J620)-1),2)),0,VLOOKUP(G620,[1]Choix14!$M$2:$N$14,2,FALSE)&LEFT(J620,4)&RIGHT(LEFT(J620,LEN(J620)-1),2)))*1","v":0},{"$f":"(IF(ISERROR(VLOOKUP(L620,[1]Choix14!$M$2:$N$14,2,FALSE)&LEFT(O620,4)&RIGHT(LEFT(O620,LEN(O620)-1),2)),0,VLOOKUP(L620,[1]Choix14!$M$2:$N$14,2,FALSE)&LEFT(O620,4)&RIGHT(LEFT(O620,LEN(O620)-1),2)))*1","v":0},{"$nulls":6}," Lance Bouma",{"$nulls":7},0,0]
[{"$f":"(IF(ISERROR(VLOOKUP(G621,[1]Choix14!$M$2:$N$14,2,FALSE)&LEFT(J621,4)&RIGHT(LEFT(J621,LEN(J621)-1),2)),0,VLOOKUP(G621,[1]Choix14!$M$2:$N$14,2,FALSE)&LEFT(J621,4)&RIGHT(LEFT(J621,LEN(J621)-1),2)))*1","v":0},{"$f":"(IF(ISERROR(VLOOKUP(L621,[1]Choix14!$M$2:$N$14,2,FALSE)&LEFT(O621,4)&RIGHT(LEFT(O621,LEN(O621)-1),2)),0,VLOOKUP(L621,[1]Choix14!$M$2:$N$14,2,FALSE)&LEFT(O621,4)&RIGHT(LEFT(O621,LEN(O621)-1),2)))*1","v":0},{"$nulls":6}," Mark Fayne",{"$nulls":7},0,0]
[{"$f":"(IF(ISERROR(VLOOKUP(G622,[1]Choix14!$M$2:$N$14,2,FALSE)&LEFT(J622,4)&RIGHT(LEFT(J622,LEN(J622)-1),2)),0,VLOOKUP(G622,[1]Choix14!$M$2:$N$14,2,FALSE)&LEFT(J622,4)&RIGHT(LEFT(J622,LEN(J622)-1),2)))*1","v":0},{"$f":"(IF(ISERROR(VLOOKUP(L622,[1]Choix14!$M$2:$N$14,2,FALSE)&LEFT(O622,4)&RIGHT(LEFT(O622,LEN(O622)-1),2)),0,VLOOKUP(L622,[1]Choix14!$M$2:$N$14,2,FALSE)&LEFT(O622,4)&RIGHT(LEFT(O622,LEN(O622)-1),2)))*1","v":0},{"$nulls":6}," Chris Wagner",{"$nulls":7},0,0]
[{"$f":"(IF(ISERROR(VLOOKUP(G623,[1]Choix14!$M$2:$N$14,2,FALSE)&LEFT(J623,4)&RIGHT(LEFT(J623,LEN(J623)-1),2)),0,VLOOKUP(G623,[1]Choix14!$M$2:$N$14,2,FALSE)&LEFT(J623,4)&RIGHT(LEFT(J623,LEN(J623)-1),2)))*1","v":0},{"$f":"(IF(ISERROR(VLOOKUP(L623,[1]Choix14!$M$2:$N$14,2,FALSE)&LEFT(O623,4)&RIGHT(LEFT(O623,LEN(O623)-1),2)),0,VLOOKUP(L623,[1]Choix14!$M$2:$N$14,2,FALSE)&LEFT(O623,4)&RIGHT(LEFT(O623,LEN(O623)-1),2)))*1","v":0},{"$nulls":6}," Zach Hyman",{"$nulls":7},0,0]
[{"$f":"(IF(ISERROR(VLOOKUP(G624,[1]Choix14!$M$2:$N$14,2,FALSE)&LEFT(J624,4)&RIGHT(LEFT(J624,LEN(J624)-1),2)),0,VLOOKUP(G624,[1]Choix14!$M$2:$N$14,2,FALSE)&LEFT(J624,4)&RIGHT(LEFT(J624,LEN(J624)-1),2)))*1","v":0},{"$f":"(IF(ISERROR(VLOOKUP(L624,[1]Choix14!$M$2:$N$14,2,FALSE)&LEFT(O624,4)&RIGHT(LEFT(O624,LEN(O624)-1),2)),0,VLOOKUP(L624,[1]Choix14!$M$2:$N$14,2,FALSE)&LEFT(O624,4)&RIGHT(LEFT(O624,LEN(O624)-1),2)))*1","v":0},{"$nulls":6}," David Savard",{"$nulls":7},0,0]
[{"$f":"(IF(ISERROR(VLOOKUP(G625,[1]Choix14!$M$2:$N$14,2,FALSE)&LEFT(J625,4)&RIGHT(LEFT(J625,LEN(J625)-1),2)),0,VLOOKUP(G625,[1]Choix14!$M$2:$N$14,2,FALSE)&LEFT(J625,4)&RIGHT(LEFT(J625,LEN(J625)-1),2)))*1","v":0},{"$f":"(IF(ISERROR(VLOOKUP(L625,[1]Choix14!$M$2:$N$14,2,FALSE)&LEFT(O625,4)&RIGHT(LEFT(O625,LEN(O625)-1),2)),0,VLOOKUP(L625,[1]Choix14!$M$2:$N$14,2,FALSE)&LEFT(O625,4)&RIGHT(LEFT(O625,LEN(O625)-1),2)))*1","v":0},{"$nulls":6}," Martin Marincin",{"$nulls":7},0,0]
[{"$f":"(IF(ISERROR(VLOOKUP(G626,[1]Choix14!$M$2:$N$14,2,FALSE)&LEFT(J626,4)&RIGHT(LEFT(J626,LEN(J626)-1),2)),0,VLOOKUP(G626,[1]Choix14!$M$2:$N$14,2,FALSE)&LEFT(J626,4)&RIGHT(LEFT(J626,LEN(J626)-1),2)))*1","v":0},{"$f":"(IF(ISERROR(VLOOKUP(L626,[1]Choix14!$M$2:$N$14,2,FALSE)&LEFT(O626,4)&RIGHT(LEFT(O626,LEN(O626)-1),2)),0,VLOOKUP(L626,[1]Choix14!$M$2:$N$14,2,FALSE)&LEFT(O626,4)&RIGHT(LEFT(O626,LEN(O626)-1),2)))*1","v":0},{"$nulls":6}," Joel Armia",{"$nulls":7},0,0]
[{"$f":"(IF(ISERROR(VLOOKUP(G627,[1]Choix14!$M$2:$N$14,2,FALSE)&LEFT(J627,4)&RIGHT(LEFT(J627,LEN(J627)-1),2)),0,VLOOKUP(G627,[1]Choix14!$M$2:$N$14,2,FALSE)&LEFT(J627,4)&RIGHT(LEFT(J627,LEN(J627)-1),2)))*1","v":0},{"$f":"(IF(ISERROR(VLOOKUP(L627,[1]Choix14!$M$2:$N$14,2,FALSE)&LEFT(O627,4)&RIGHT(LEFT(O627,LEN(O627)-1),2)),0,VLOOKUP(L627,[1]Choix14!$M$2:$N$14,2,FALSE)&LEFT(O627,4)&RIGHT(LEFT(O627,LEN(O627)-1),2)))*1","v":0},{"$nulls":6}," Ben Smith",{"$nulls":7},0,0]
[{"$f":"(IF(ISERROR(VLOOKUP(G628,[1]Choix14!$M$2:$N$14,2,FALSE)&LEFT(J628,4)&RIGHT(LEFT(J628,LEN(J628)-1),2)),0,VLOOKUP(G628,[1]Choix14!$M$2:$N$14,2,FALSE)&LEFT(J628,4)&RIGHT(LEFT(J628,LEN(J628)-1),2)))*1","v":0},{"$f":"(IF(ISERROR(VLOOKUP(L628,[1]Choix14!$M$2:$N$14,2,FALSE)&LEFT(O628,4)&RIGHT(LEFT(O628,LEN(O628)-1),2)),0,VLOOKUP(L628,[1]Choix14!$M$2:$N$14,2,FALSE)&LEFT(O628,4)&RIGHT(LEFT(O628,LEN(O628)-1),2)))*1","v":0},{"$nulls":6}," Jamie Oleksiak",{"$nulls":7},0,0]
[{"$f":"(IF(ISERROR(VLOOKUP(G629,[1]Choix14!$M$2:$N$14,2,FALSE)&LEFT(J629,4)&RIGHT(LEFT(J629,LEN(J629)-1),2)),0,VLOOKUP(G629,[1]Choix14!$M$2:$N$14,2,FALSE)&LEFT(J629,4)&RIGHT(LEFT(J629,LEN(J629)-1),2)))*1","v":0},{"$f":"(IF(ISERROR(VLOOKUP(L629,[1]Choix14!$M$2:$N$14,2,FALSE)&LEFT(O629,4)&RIGHT(LEFT(O629,LEN(O629)-1),2)),0,VLOOKUP(L629,[1]Choix14!$M$2:$N$14,2,FALSE)&LEFT(O629,4)&RIGHT(LEFT(O629,LEN(O629)-1),2)))*1","v":0},{"$nulls":6}," Kyle Quincey",{"$nulls":7},0,0]
[{"$f":"(IF(ISERROR(VLOOKUP(G630,[1]Choix14!$M$2:$N$14,2,FALSE)&LEFT(J630,4)&RIGHT(LEFT(J630,LEN(J630)-1),2)),0,VLOOKUP(G630,[1]Choix14!$M$2:$N$14,2,FALSE)&LEFT(J630,4)&RIGHT(LEFT(J630,LEN(J630)-1),2)))*1","v":0},{"$f":"(IF(ISERROR(VLOOKUP(L630,[1]Choix14!$M$2:$N$14,2,FALSE)&LEFT(O630,4)&RIGHT(LEFT(O630,LEN(O630)-1),2)),0,VLOOKUP(L630,[1]Choix14!$M$2:$N$14,2,FALSE)&LEFT(O630,4)&RIGHT(LEFT(O630,LEN(O630)-1),2)))*1","v":0},{"$nulls":6}," Nicklas Grossmann",{"$nulls":7},0,0]
[{"$f":"(IF(ISERROR(VLOOKUP(G631,[1]Choix14!$M$2:$N$14,2,FALSE)&LEFT(J631,4)&RIGHT(LEFT(J631,LEN(J631)-1),2)),0,VLOOKUP(G631,[1]Choix14!$M$2:$N$14,2,FALSE)&LEFT(J631,4)&RIGHT(LEFT(J631,LEN(J631)-1),2)))*1","v":0},{"$f":"(IF(ISERROR(VLOOKUP(L631,[1]Choix14!$M$2:$N$14,2,FALSE)&LEFT(O631,4)&RIGHT(LEFT(O631,LEN(O631)-1),2)),0,VLOOKUP(L631,[1]Choix14!$M$2:$N$14,2,FALSE)&LEFT(O631,4)&RIGHT(LEFT(O631,LEN(O631)-1),2)))*1","v":0},{"$nulls":6}," Jack Skille",{"$nulls":7},0,0]
[{"$f":"(IF(ISERROR(VLOOKUP(G632,[1]Choix14!$M$2:$N$14,2,FALSE)&LEFT(J632,4)&RIGHT(LEFT(J632,LEN(J632)-1),2)),0,VLOOKUP(G632,[1]Choix14!$M$2:$N$14,2,FALSE)&LEFT(J632,4)&RIGHT(LEFT(J632,LEN(J632)-1),2)))*1","v":0},{"$f":"(IF(ISERROR(VLOOKUP(L632,[1]Choix14!$M$2:$N$14,2,FALSE)&LEFT(O632,4)&RIGHT(LEFT(O632,LEN(O632)-1),2)),0,VLOOKUP(L632,[1]Choix14!$M$2:$N$14,2,FALSE)&LEFT(O632,4)&RIGHT(LEFT(O632,LEN(O632)-1),2)))*1","v":0},{"$nulls":6}," Jack Johnson",{"$nulls":7},0,0]
[{"$f":"(IF(ISERROR(VLOOKUP(G633,[1]Choix14!$M$2:$N$14,2,FALSE)&LEFT(J633,4)&RIGHT(LEFT(J633,LEN(J633)-1),2)),0,VLOOKUP(G633,[1]Choix14!$M$2:$N$14,2,FALSE)&LEFT(J633,4)&RIGHT(LEFT(J633,LEN(J633)-1),2)))*1","v":0},{"$f":"(IF(ISERROR(VLOOKUP(L633,[1]Choix14!$M$2:$N$14,2,FALSE)&LEFT(O633,4)&RIGHT(LEFT(O633,LEN(O633)-1),2)),0,VLOOKUP(L633,[1]Choix14!$M$2:$N$14,2,FALSE)&LEFT(O633,4)&RIGHT(LEFT(O633,LEN(O633)-1),2)))*1","v":0},{"$nulls":6}," Jake Virtanen",{"$nulls":7},0,0]
[{"$f":"(IF(ISERROR(VLOOKUP(G634,[1]Choix14!$M$2:$N$14,2,FALSE)&LEFT(J634,4)&RIGHT(LEFT(J634,LEN(J634)-1),2)),0,VLOOKUP(G634,[1]Choix14!$M$2:$N$14,2,FALSE)&LEFT(J634,4)&RIGHT(LEFT(J634,LEN(J634)-1),2)))*1","v":0},{"$f":"(IF(ISERROR(VLOOKUP(L634,[1]Choix14!$M$2:$N$14,2,FALSE)&LEFT(O634,4)&RIGHT(LEFT(O634,LEN(O634)-1),2)),0,VLOOKUP(L634,[1]Choix14!$M$2:$N$14,2,FALSE)&LEFT(O634,4)&RIGHT(LEFT(O634,LEN(O634)-1),2)))*1","v":0},{"$nulls":6}," Freddie Hamilton",{"$nulls":7},0,0]
[{"$f":"(IF(ISERROR(VLOOKUP(G635,[1]Choix14!$M$2:$N$14,2,FALSE)&LEFT(J635,4)&RIGHT(LEFT(J635,LEN(J635)-1),2)),0,VLOOKUP(G635,[1]Choix14!$M$2:$N$14,2,FALSE)&LEFT(J635,4)&RIGHT(LEFT(J635,LEN(J635)-1),2)))*1","v":0},{"$f":"(IF(ISERROR(VLOOKUP(L635,[1]Choix14!$M$2:$N$14,2,FALSE)&LEFT(O635,4)&RIGHT(LEFT(O635,LEN(O635)-1),2)),0,VLOOKUP(L635,[1]Choix14!$M$2:$N$14,2,FALSE)&LEFT(O635,4)&RIGHT(LEFT(O635,LEN(O635)-1),2)))*1","v":0},{"$nulls":6}," Kyle Brodziak",{"$nulls":7},0,0]
[{"$f":"(IF(ISERROR(VLOOKUP(G636,[1]Choix14!$M$2:$N$14,2,FALSE)&LEFT(J636,4)&RIGHT(LEFT(J636,LEN(J636)-1),2)),0,VLOOKUP(G636,[1]Choix14!$M$2:$N$14,2,FALSE)&LEFT(J636,4)&RIGHT(LEFT(J636,LEN(J636)-1),2)))*1","v":0},{"$f":"(IF(ISERROR(VLOOKUP(L636,[1]Choix14!$M$2:$N$14,2,FALSE)&LEFT(O636,4)&RIGHT(LEFT(O636,LEN(O636)-1),2)),0,VLOOKUP(L636,[1]Choix14!$M$2:$N$14,2,FALSE)&LEFT(O636,4)&RIGHT(LEFT(O636,LEN(O636)-1),2)))*1","v":0},{"$nulls":6}," Danton Heinen",{"$nulls":7},0,0]
[{"$f":"(IF(ISERROR(VLOOKUP(G637,[1]Choix14!$M$2:$N$14,2,FALSE)&LEFT(J637,4)&RIGHT(LEFT(J637,LEN(J637)-1),2)),0,VLOOKUP(G637,[1]Choix14!$M$2:$N$14,2,FALSE)&LEFT(J637,4)&RIGHT(LEFT(J637,LEN(J637)-1),2)))*1","v":0},{"$f":"(IF(ISERROR(VLOOKUP(L637,[1]Choix14!$M$2:$N$14,2,FALSE)&LEFT(O637,4)&RIGHT(LEFT(O637,LEN(O637)-1),2)),0,VLOOKUP(L637,[1]Choix14!$M$2:$N$14,2,FALSE)&LEFT(O637,4)&RIGHT(LEFT(O637,LEN(O637)-1),2)))*1","v":0},{"$nulls":6}," Anthony Bitetto",{"$nulls":7},0,0]
[{"$f":"(IF(ISERROR(VLOOKUP(G638,[1]Choix14!$M$2:$N$14,2,FALSE)&LEFT(J638,4)&RIGHT(LEFT(J638,LEN(J638)-1),2)),0,VLOOKUP(G638,[1]Choix14!$M$2:$N$14,2,FALSE)&LEFT(J638,4)&RIGHT(LEFT(J638,LEN(J638)-1),2)))*1","v":0},{"$f":"(IF(ISERROR(VLOOKUP(L638,[1]Choix14!$M$2:$N$14,2,FALSE)&LEFT(O638,4)&RIGHT(LEFT(O638,LEN(O638)-1),2)),0,VLOOKUP(L638,[1]Choix14!$M$2:$N$14,2,FALSE)&LEFT(O638,4)&RIGHT(LEFT(O638,LEN(O638)-1),2)))*1","v":0},{"$nulls":6}," Justin Braun",{"$nulls":7},0,0]
[{"$f":"(IF(ISERROR(VLOOKUP(G639,[1]Choix14!$M$2:$N$14,2,FALSE)&LEFT(J639,4)&RIGHT(LEFT(J639,LEN(J639)-1),2)),0,VLOOKUP(G639,[1]Choix14!$M$2:$N$14,2,FALSE)&LEFT(J639,4)&RIGHT(LEFT(J639,LEN(J639)-1),2)))*1","v":0},{"$f":"(IF(ISERROR(VLOOKUP(L639,[1]Choix14!$M$2:$N$14,2,FALSE)&LEFT(O639,4)&RIGHT(LEFT(O639,LEN(O639)-1),2)),0,VLOOKUP(L639,[1]Choix14!$M$2:$N$14,2,FALSE)&LEFT(O639,4)&RIGHT(LEFT(O639,LEN(O639)-1),2)))*1","v":0},{"$nulls":6}," Chris Thorburn",{"$nulls":7},0,0]
[{"$f":"(IF(ISERROR(VLOOKUP(G640,[1]Choix14!$M$2:$N$14,2,FALSE)&LEFT(J640,4)&RIGHT(LEFT(J640,LEN(J640)-1),2)),0,VLOOKUP(G640,[1]Choix14!$M$2:$N$14,2,FALSE)&LEFT(J640,4)&RIGHT(LEFT(J640,LEN(J640)-1),2)))*1","v":0},{"$f":"(IF(ISERROR(VLOOKUP(L640,[1]Choix14!$M$2:$N$14,2,FALSE)&LEFT(O640,4)&RIGHT(LEFT(O640,LEN(O640)-1),2)),0,VLOOKUP(L640,[1]Choix14!$M$2:$N$14,2,FALSE)&LEFT(O640,4)&RIGHT(LEFT(O640,LEN(O640)-1),2)))*1","v":0},{"$nulls":6}," Brandon Davidson",{"$nulls":7},0,0]
[{"$f":"(IF(ISERROR(VLOOKUP(G641,[1]Choix14!$M$2:$N$14,2,FALSE)&LEFT(J641,4)&RIGHT(LEFT(J641,LEN(J641)-1),2)),0,VLOOKUP(G641,[1]Choix14!$M$2:$N$14,2,FALSE)&LEFT(J641,4)&RIGHT(LEFT(J641,LEN(J641)-1),2)))*1","v":0},{"$f":"(IF(ISERROR(VLOOKUP(L641,[1]Choix14!$M$2:$N$14,2,FALSE)&LEFT(O641,4)&RIGHT(LEFT(O641,LEN(O641)-1),2)),0,VLOOKUP(L641,[1]Choix14!$M$2:$N$14,2,FALSE)&LEFT(O641,4)&RIGHT(LEFT(O641,LEN(O641)-1),2)))*1","v":0},{"$nulls":6}," Jared McCann",{"$nulls":7},0,0]
[{"$f":"(IF(ISERROR(VLOOKUP(G642,[1]Choix14!$M$2:$N$14,2,FALSE)&LEFT(J642,4)&RIGHT(LEFT(J642,LEN(J642)-1),2)),0,VLOOKUP(G642,[1]Choix14!$M$2:$N$14,2,FALSE)&LEFT(J642,4)&RIGHT(LEFT(J642,LEN(J642)-1),2)))*1","v":0},{"$f":"(IF(ISERROR(VLOOKUP(L642,[1]Choix14!$M$2:$N$14,2,FALSE)&LEFT(O642,4)&RIGHT(LEFT(O642,LEN(O642)-1),2)),0,VLOOKUP(L642,[1]Choix14!$M$2:$N$14,2,FALSE)&LEFT(O642,4)&RIGHT(LEFT(O642,LEN(O642)-1),2)))*1","v":0},{"$nulls":6}," Dalton Prout",{"$nulls":7},0,0]
[{"$f":"(IF(ISERROR(VLOOKUP(G643,[1]Choix14!$M$2:$N$14,2,FALSE)&LEFT(J643,4)&RIGHT(LEFT(J643,LEN(J643)-1),2)),0,VLOOKUP(G643,[1]Choix14!$M$2:$N$14,2,FALSE)&LEFT(J643,4)&RIGHT(LEFT(J643,LEN(J643)-1),2)))*1","v":0},{"$f":"(IF(ISERROR(VLOOKUP(L643,[1]Choix14!$M$2:$N$14,2,FALSE)&LEFT(O643,4)&RIGHT(LEFT(O643,LEN(O643)-1),2)),0,VLOOKUP(L643,[1]Choix14!$M$2:$N$14,2,FALSE)&LEFT(O643,4)&RIGHT(LEFT(O643,LEN(O643)-1),2)))*1","v":0},{"$nulls":6}," Josh Gorges",{"$nulls":7},{"$f":"IF(A643<1,0,COUNTIF($A:$B,A643))","v":0},0]
[{"$f":"(IF(ISERROR(VLOOKUP(G644,[1]Choix14!$M$2:$N$14,2,FALSE)&LEFT(J644,4)&RIGHT(LEFT(J644,LEN(J644)-1),2)),0,VLOOKUP(G644,[1]Choix14!$M$2:$N$14,2,FALSE)&LEFT(J644,4)&RIGHT(LEFT(J644,LEN(J644)-1),2)))*1","v":0},{"$f":"(IF(ISERROR(VLOOKUP(L644,[1]Choix14!$M$2:$N$14,2,FALSE)&LEFT(O644,4)&RIGHT(LEFT(O644,LEN(O644)-1),2)),0,VLOOKUP(L644,[1]Choix14!$M$2:$N$14,2,FALSE)&LEFT(O644,4)&RIGHT(LEFT(O644,LEN(O644)-1),2)))*1","v":0},{"$nulls":6}," Carl Hagelin",{"$nulls":7},0,0]
[{"$f":"(IF(ISERROR(VLOOKUP(G645,[1]Choix14!$M$2:$N$14,2,FALSE)&LEFT(J645,4)&RIGHT(LEFT(J645,LEN(J645)-1),2)),0,VLOOKUP(G645,[1]Choix14!$M$2:$N$14,2,FALSE)&LEFT(J645,4)&RIGHT(LEFT(J645,LEN(J645)-1),2)))*1","v":0},{"$f":"(IF(ISERROR(VLOOKUP(L645,[1]Choix14!$M$2:$N$14,2,FALSE)&LEFT(O645,4)&RIGHT(LEFT(O645,LEN(O645)-1),2)),0,VLOOKUP(L645,[1]Choix14!$M$2:$N$14,2,FALSE)&LEFT(O645,4)&RIGHT(LEFT(O645,LEN(O645)-1),2)))*1","v":0},{"$nulls":6}," Gabriel Bourque",{"$nulls":7},0,0]
[{"$f":"(IF(ISERROR(VLOOKUP(G646,[1]Choix14!$M$2:$N$14,2,FALSE)&LEFT(J646,4)&RIGHT(LEFT(J646,LEN(J646)-1),2)),0,VLOOKUP(G646,[1]Choix14!$M$2:$N$14,2,FALSE)&LEFT(J646,4)&RIGHT(LEFT(J646,LEN(J646)-1),2)))*1","v":0},{"$f":"(IF(ISERROR(VLOOKUP(L646,[1]Choix14!$M$2:$N$14,2,FALSE)&LEFT(O646,4)&RIGHT(LEFT(O646,LEN(O646)-1),2)),0,VLOOKUP(L646,[1]Choix14!$M$2:$N$14,2,FALSE)&LEFT(O646,4)&RIGHT(LEFT(O646,LEN(O646)-1),2)))*1","v":0},{"$nulls":6}," Oliver Bjorkstrand",{"$nulls":7},0,0]
[{"$f":"(IF(ISERROR(VLOOKUP(G647,[1]Choix14!$M$2:$N$14,2,FALSE)&LEFT(J647,4)&RIGHT(LEFT(J647,LEN(J647)-1),2)),0,VLOOKUP(G647,[1]Choix14!$M$2:$N$14,2,FALSE)&LEFT(J647,4)&RIGHT(LEFT(J647,LEN(J647)-1),2)))*1","v":0},{"$f":"(IF(ISERROR(VLOOKUP(L647,[1]Choix14!$M$2:$N$14,2,FALSE)&LEFT(O647,4)&RIGHT(LEFT(O647,LEN(O647)-1),2)),0,VLOOKUP(L647,[1]Choix14!$M$2:$N$14,2,FALSE)&LEFT(O647,4)&RIGHT(LEFT(O647,LEN(O647)-1),2)))*1","v":0},{"$nulls":6}," Miles Wood",{"$nulls":7},0,0]
[{"$f":"(IF(ISERROR(VLOOKUP(G648,[1]Choix14!$M$2:$N$14,2,FALSE)&LEFT(J648,4)&RIGHT(LEFT(J648,LEN(J648)-1),2)),0,VLOOKUP(G648,[1]Choix14!$M$2:$N$14,2,FALSE)&LEFT(J648,4)&RIGHT(LEFT(J648,LEN(J648)-1),2)))*1","v":0},{"$f":"(IF(ISERROR(VLOOKUP(L648,[1]Choix14!$M$2:$N$14,2,FALSE)&LEFT(O648,4)&RIGHT(LEFT(O648,LEN(O648)-1),2)),0,VLOOKUP(L648,[1]Choix14!$M$2:$N$14,2,FALSE)&LEFT(O648,4)&RIGHT(LEFT(O648,LEN(O648)-1),2)))*1","v":0},{"$nulls":6}," Hudson Fasching",{"$nulls":7},0,0]
[{"$f":"(IF(ISERROR(VLOOKUP(G649,[1]Choix14!$M$2:$N$14,2,FALSE)&LEFT(J649,4)&RIGHT(LEFT(J649,LEN(J649)-1),2)),0,VLOOKUP(G649,[1]Choix14!$M$2:$N$14,2,FALSE)&LEFT(J649,4)&RIGHT(LEFT(J649,LEN(J649)-1),2)))*1","v":0},{"$f":"(IF(ISERROR(VLOOKUP(L649,[1]Choix14!$M$2:$N$14,2,FALSE)&LEFT(O649,4)&RIGHT(LEFT(O649,LEN(O649)-1),2)),0,VLOOKUP(L649,[1]Choix14!$M$2:$N$14,2,FALSE)&LEFT(O649,4)&RIGHT(LEFT(O649,LEN(O649)-1),2)))*1","v":0},{"$nulls":6}," Lukas Sedlak",{"$nulls":7},0,0]
[{"$f":"(IF(ISERROR(VLOOKUP(G650,[1]Choix14!$M$2:$N$14,2,FALSE)&LEFT(J650,4)&RIGHT(LEFT(J650,LEN(J650)-1),2)),0,VLOOKUP(G650,[1]Choix14!$M$2:$N$14,2,FALSE)&LEFT(J650,4)&RIGHT(LEFT(J650,LEN(J650)-1),2)))*1","v":0},{"$f":"(IF(ISERROR(VLOOKUP(L650,[1]Choix14!$M$2:$N$14,2,FALSE)&LEFT(O650,4)&RIGHT(LEFT(O650,LEN(O650)-1),2)),0,VLOOKUP(L650,[1]Choix14!$M$2:$N$14,2,FALSE)&LEFT(O650,4)&RIGHT(LEFT(O650,LEN(O650)-1),2)))*1","v":0},{"$nulls":6}," Anthony Duclair",{"$nulls":7},0,0]
[{"$f":"(IF(ISERROR(VLOOKUP(G651,[1]Choix14!$M$2:$N$14,2,FALSE)&LEFT(J651,4)&RIGHT(LEFT(J651,LEN(J651)-1),2)),0,VLOOKUP(G651,[1]Choix14!$M$2:$N$14,2,FALSE)&LEFT(J651,4)&RIGHT(LEFT(J651,LEN(J651)-1),2)))*1","v":0},{"$f":"(IF(ISERROR(VLOOKUP(L651,[1]Choix14!$M$2:$N$14,2,FALSE)&LEFT(O651,4)&RIGHT(LEFT(O651,LEN(O651)-1),2)),0,VLOOKUP(L651,[1]Choix14!$M$2:$N$14,2,FALSE)&LEFT(O651,4)&RIGHT(LEFT(O651,LEN(O651)-1),2)))*1","v":0},{"$nulls":6}," Brett Pesce",{"$nulls":7},0,0]
[{"$f":"(IF(ISERROR(VLOOKUP(G652,[1]Choix14!$M$2:$N$14,2,FALSE)&LEFT(J652,4)&RIGHT(LEFT(J652,LEN(J652)-1),2)),0,VLOOKUP(G652,[1]Choix14!$M$2:$N$14,2,FALSE)&LEFT(J652,4)&RIGHT(LEFT(J652,LEN(J652)-1),2)))*1","v":0},{"$f":"(IF(ISERROR(VLOOKUP(L652,[1]Choix14!$M$2:$N$14,2,FALSE)&LEFT(O652,4)&RIGHT(LEFT(O652,LEN(O652)-1),2)),0,VLOOKUP(L652,[1]Choix14!$M$2:$N$14,2,FALSE)&LEFT(O652,4)&RIGHT(LEFT(O652,LEN(O652)-1),2)))*1","v":0},{"$nulls":6}," Cody Bass",{"$nulls":7},0,0]
[{"$f":"(IF(ISERROR(VLOOKUP(G653,[1]Choix14!$M$2:$N$14,2,FALSE)&LEFT(J653,4)&RIGHT(LEFT(J653,LEN(J653)-1),2)),0,VLOOKUP(G653,[1]Choix14!$M$2:$N$14,2,FALSE)&LEFT(J653,4)&RIGHT(LEFT(J653,LEN(J653)-1),2)))*1","v":0},{"$f":"(IF(ISERROR(VLOOKUP(L653,[1]Choix14!$M$2:$N$14,2,FALSE)&LEFT(O653,4)&RIGHT(LEFT(O653,LEN(O653)-1),2)),0,VLOOKUP(L653,[1]Choix14!$M$2:$N$14,2,FALSE)&LEFT(O653,4)&RIGHT(LEFT(O653,LEN(O653)-1),2)))*1","v":0},{"$nulls":6}," Bryan Rust",{"$nulls":7},0,0]
[{"$f":"(IF(ISERROR(VLOOKUP(G654,[1]Choix14!$M$2:$N$14,2,FALSE)&LEFT(J654,4)&RIGHT(LEFT(J654,LEN(J654)-1),2)),0,VLOOKUP(G654,[1]Choix14!$M$2:$N$14,2,FALSE)&LEFT(J654,4)&RIGHT(LEFT(J654,LEN(J654)-1),2)))*1","v":0},{"$f":"(IF(ISERROR(VLOOKUP(L654,[1]Choix14!$M$2:$N$14,2,FALSE)&LEFT(O654,4)&RIGHT(LEFT(O654,LEN(O654)-1),2)),0,VLOOKUP(L654,[1]Choix14!$M$2:$N$14,2,FALSE)&LEFT(O654,4)&RIGHT(LEFT(O654,LEN(O654)-1),2)))*1","v":0},{"$nulls":6}," Matt Puempel",{"$nulls":7},0,0]
[{"$f":"(IF(ISERROR(VLOOKUP(G655,[1]Choix14!$M$2:$N$14,2,FALSE)&LEFT(J655,4)&RIGHT(LEFT(J655,LEN(J655)-1),2)),0,VLOOKUP(G655,[1]Choix14!$M$2:$N$14,2,FALSE)&LEFT(J655,4)&RIGHT(LEFT(J655,LEN(J655)-1),2)))*1","v":0},{"$f":"(IF(ISERROR(VLOOKUP(L655,[1]Choix14!$M$2:$N$14,2,FALSE)&LEFT(O655,4)&RIGHT(LEFT(O655,LEN(O655)-1),2)),0,VLOOKUP(L655,[1]Choix14!$M$2:$N$14,2,FALSE)&LEFT(O655,4)&RIGHT(LEFT(O655,LEN(O655)-1),2)))*1","v":0},{"$nulls":6}," Andy Greene",{"$nulls":7},0,0]
[{"$f":"(IF(ISERROR(VLOOKUP(G656,[1]Choix14!$M$2:$N$14,2,FALSE)&LEFT(J656,4)&RIGHT(LEFT(J656,LEN(J656)-1),2)),0,VLOOKUP(G656,[1]Choix14!$M$2:$N$14,2,FALSE)&LEFT(J656,4)&RIGHT(LEFT(J656,LEN(J656)-1),2)))*1","v":0},{"$f":"(IF(ISERROR(VLOOKUP(L656,[1]Choix14!$M$2:$N$14,2,FALSE)&LEFT(O656,4)&RIGHT(LEFT(O656,LEN(O656)-1),2)),0,VLOOKUP(L656,[1]Choix14!$M$2:$N$14,2,FALSE)&LEFT(O656,4)&RIGHT(LEFT(O656,LEN(O656)-1),2)))*1","v":0},{"$nulls":6}," Joe Morrow",{"$nulls":7},0,0]
[{"$f":"(IF(ISERROR(VLOOKUP(G657,[1]Choix14!$M$2:$N$14,2,FALSE)&LEFT(J657,4)&RIGHT(LEFT(J657,LEN(J657)-1),2)),0,VLOOKUP(G657,[1]Choix14!$M$2:$N$14,2,FALSE)&LEFT(J657,4)&RIGHT(LEFT(J657,LEN(J657)-1),2)))*1","v":0},{"$f":"(IF(ISERROR(VLOOKUP(L657,[1]Choix14!$M$2:$N$14,2,FALSE)&LEFT(O657,4)&RIGHT(LEFT(O657,LEN(O657)-1),2)),0,VLOOKUP(L657,[1]Choix14!$M$2:$N$14,2,FALSE)&LEFT(O657,4)&RIGHT(LEFT(O657,LEN(O657)-1),2)))*1","v":0},{"$nulls":6}," Tom Kuhnhackl",{"$nulls":7},0,0]
[{"$f":"(IF(ISERROR(VLOOKUP(G658,[1]Choix14!$M$2:$N$14,2,FALSE)&LEFT(J658,4)&RIGHT(LEFT(J658,LEN(J658)-1),2)),0,VLOOKUP(G658,[1]Choix14!$M$2:$N$14,2,FALSE)&LEFT(J658,4)&RIGHT(LEFT(J658,LEN(J658)-1),2)))*1","v":0},{"$f":"(IF(ISERROR(VLOOKUP(L658,[1]Choix14!$M$2:$N$14,2,FALSE)&LEFT(O658,4)&RIGHT(LEFT(O658,LEN(O658)-1),2)),0,VLOOKUP(L658,[1]Choix14!$M$2:$N$14,2,FALSE)&LEFT(O658,4)&RIGHT(LEFT(O658,LEN(O658)-1),2)))*1","v":0},{"$nulls":6}," Bryan Bickell",{"$nulls":7},0,0]
[{"$f":"(IF(ISERROR(VLOOKUP(G659,[1]Choix14!$M$2:$N$14,2,FALSE)&LEFT(J659,4)&RIGHT(LEFT(J659,LEN(J659)-1),2)),0,VLOOKUP(G659,[1]Choix14!$M$2:$N$14,2,FALSE)&LEFT(J659,4)&RIGHT(LEFT(J659,LEN(J659)-1),2)))*1","v":0},{"$f":"(IF(ISERROR(VLOOKUP(L659,[1]Choix14!$M$2:$N$14,2,FALSE)&LEFT(O659,4)&RIGHT(LEFT(O659,LEN(O659)-1),2)),0,VLOOKUP(L659,[1]Choix14!$M$2:$N$14,2,FALSE)&LEFT(O659,4)&RIGHT(LEFT(O659,LEN(O659)-1),2)))*1","v":0},{"$nulls":6}," Alexandre Burrows",{"$nulls":7},0,0]
[{"$f":"(IF(ISERROR(VLOOKUP(G660,[1]Choix14!$M$2:$N$14,2,FALSE)&LEFT(J660,4)&RIGHT(LEFT(J660,LEN(J660)-1),2)),0,VLOOKUP(G660,[1]Choix14!$M$2:$N$14,2,FALSE)&LEFT(J660,4)&RIGHT(LEFT(J660,LEN(J660)-1),2)))*1","v":0},{"$f":"(IF(ISERROR(VLOOKUP(L660,[1]Choix14!$M$2:$N$14,2,FALSE)&LEFT(O660,4)&RIGHT(LEFT(O660,LEN(O660)-1),2)),0,VLOOKUP(L660,[1]Choix14!$M$2:$N$14,2,FALSE)&LEFT(O660,4)&RIGHT(LEFT(O660,LEN(O660)-1),2)))*1","v":0},{"$nulls":6}," Kevin Bieksa",{"$nulls":7},0,0]
[{"$f":"(IF(ISERROR(VLOOKUP(G661,[1]Choix14!$M$2:$N$14,2,FALSE)&LEFT(J661,4)&RIGHT(LEFT(J661,LEN(J661)-1),2)),0,VLOOKUP(G661,[1]Choix14!$M$2:$N$14,2,FALSE)&LEFT(J661,4)&RIGHT(LEFT(J661,LEN(J661)-1),2)))*1","v":0},{"$f":"(IF(ISERROR(VLOOKUP(L661,[1]Choix14!$M$2:$N$14,2,FALSE)&LEFT(O661,4)&RIGHT(LEFT(O661,LEN(O661)-1),2)),0,VLOOKUP(L661,[1]Choix14!$M$2:$N$14,2,FALSE)&LEFT(O661,4)&RIGHT(LEFT(O661,LEN(O661)-1),2)))*1","v":0},{"$nulls":6}," Trevor van Riemsdyk",{"$nulls":7},0,0]
[{"$f":"(IF(ISERROR(VLOOKUP(G662,[1]Choix14!$M$2:$N$14,2,FALSE)&LEFT(J662,4)&RIGHT(LEFT(J662,LEN(J662)-1),2)),0,VLOOKUP(G662,[1]Choix14!$M$2:$N$14,2,FALSE)&LEFT(J662,4)&RIGHT(LEFT(J662,LEN(J662)-1),2)))*1","v":0},{"$f":"(IF(ISERROR(VLOOKUP(L662,[1]Choix14!$M$2:$N$14,2,FALSE)&LEFT(O662,4)&RIGHT(LEFT(O662,LEN(O662)-1),2)),0,VLOOKUP(L662,[1]Choix14!$M$2:$N$14,2,FALSE)&LEFT(O662,4)&RIGHT(LEFT(O662,LEN(O662)-1),2)))*1","v":0},{"$nulls":6}," Christian Folin",{"$nulls":7},0,0]
[{"$f":"(IF(ISERROR(VLOOKUP(G663,[1]Choix14!$M$2:$N$14,2,FALSE)&LEFT(J663,4)&RIGHT(LEFT(J663,LEN(J663)-1),2)),0,VLOOKUP(G663,[1]Choix14!$M$2:$N$14,2,FALSE)&LEFT(J663,4)&RIGHT(LEFT(J663,LEN(J663)-1),2)))*1","v":0},{"$f":"(IF(ISERROR(VLOOKUP(L663,[1]Choix14!$M$2:$N$14,2,FALSE)&LEFT(O663,4)&RIGHT(LEFT(O663,LEN(O663)-1),2)),0,VLOOKUP(L663,[1]Choix14!$M$2:$N$14,2,FALSE)&LEFT(O663,4)&RIGHT(LEFT(O663,LEN(O663)-1),2)))*1","v":0},{"$nulls":6}," Frederick Gaudreau",{"$nulls":7},0,0]
[{"$f":"(IF(ISERROR(VLOOKUP(G664,[1]Choix14!$M$2:$N$14,2,FALSE)&LEFT(J664,4)&RIGHT(LEFT(J664,LEN(J664)-1),2)),0,VLOOKUP(G664,[1]Choix14!$M$2:$N$14,2,FALSE)&LEFT(J664,4)&RIGHT(LEFT(J664,LEN(J664)-1),2)))*1","v":0},{"$f":"(IF(ISERROR(VLOOKUP(L664,[1]Choix14!$M$2:$N$14,2,FALSE)&LEFT(O664,4)&RIGHT(LEFT(O664,LEN(O664)-1),2)),0,VLOOKUP(L664,[1]Choix14!$M$2:$N$14,2,FALSE)&LEFT(O664,4)&RIGHT(LEFT(O664,LEN(O664)-1),2)))*1","v":0},{"$nulls":6}," Austin Czarnik",{"$nulls":7},0,0]
[{"$f":"(IF(ISERROR(VLOOKUP(G665,[1]Choix14!$M$2:$N$14,2,FALSE)&LEFT(J665,4)&RIGHT(LEFT(J665,LEN(J665)-1),2)),0,VLOOKUP(G665,[1]Choix14!$M$2:$N$14,2,FALSE)&LEFT(J665,4)&RIGHT(LEFT(J665,LEN(J665)-1),2)))*1","v":0},{"$f":"(IF(ISERROR(VLOOKUP(L665,[1]Choix14!$M$2:$N$14,2,FALSE)&LEFT(O665,4)&RIGHT(LEFT(O665,LEN(O665)-1),2)),0,VLOOKUP(L665,[1]Choix14!$M$2:$N$14,2,FALSE)&LEFT(O665,4)&RIGHT(LEFT(O665,LEN(O665)-1),2)))*1","v":0},{"$nulls":6}," Markus Nutivaara",{"$nulls":7},0,0]
[{"$f":"(IF(ISERROR(VLOOKUP(G666,[1]Choix14!$M$2:$N$14,2,FALSE)&LEFT(J666,4)&RIGHT(LEFT(J666,LEN(J666)-1),2)),0,VLOOKUP(G666,[1]Choix14!$M$2:$N$14,2,FALSE)&LEFT(J666,4)&RIGHT(LEFT(J666,LEN(J666)-1),2)))*1","v":0},{"$f":"(IF(ISERROR(VLOOKUP(L666,[1]Choix14!$M$2:$N$14,2,FALSE)&LEFT(O666,4)&RIGHT(LEFT(O666,LEN(O666)-1),2)),0,VLOOKUP(L666,[1]Choix14!$M$2:$N$14,2,FALSE)&LEFT(O666,4)&RIGHT(LEFT(O666,LEN(O666)-1),2)))*1","v":0},{"$nulls":6}," Casey Nelson",{"$nulls":7},0,0]
[{"$f":"(IF(ISERROR(VLOOKUP(G667,[1]Choix14!$M$2:$N$14,2,FALSE)&LEFT(J667,4)&RIGHT(LEFT(J667,LEN(J667)-1),2)),0,VLOOKUP(G667,[1]Choix14!$M$2:$N$14,2,FALSE)&LEFT(J667,4)&RIGHT(LEFT(J667,LEN(J667)-1),2)))*1","v":0},{"$f":"(IF(ISERROR(VLOOKUP(L667,[1]Choix14!$M$2:$N$14,2,FALSE)&LEFT(O667,4)&RIGHT(LEFT(O667,LEN(O667)-1),2)),0,VLOOKUP(L667,[1]Choix14!$M$2:$N$14,2,FALSE)&LEFT(O667,4)&RIGHT(LEFT(O667,LEN(O667)-1),2)))*1","v":0},{"$nulls":6}," Brandon Tanev",{"$nulls":7},0,0]
[{"$f":"(IF(ISERROR(VLOOKUP(G668,[1]Choix14!$M$2:$N$14,2,FALSE)&LEFT(J668,4)&RIGHT(LEFT(J668,LEN(J668)-1),2)),0,VLOOKUP(G668,[1]Choix14!$M$2:$N$14,2,FALSE)&LEFT(J668,4)&RIGHT(LEFT(J668,LEN(J668)-1),2)))*1","v":0},{"$f":"(IF(ISERROR(VLOOKUP(L668,[1]Choix14!$M$2:$N$14,2,FALSE)&LEFT(O668,4)&RIGHT(LEFT(O668,LEN(O668)-1),2)),0,VLOOKUP(L668,[1]Choix14!$M$2:$N$14,2,FALSE)&LEFT(O668,4)&RIGHT(LEFT(O668,LEN(O668)-1),2)))*1","v":0},{"$nulls":6}," Ales Hemsky",{"$nulls":7},0,0]
[{"$f":"(IF(ISERROR(VLOOKUP(G669,[1]Choix14!$M$2:$N$14,2,FALSE)&LEFT(J669,4)&RIGHT(LEFT(J669,LEN(J669)-1),2)),0,VLOOKUP(G669,[1]Choix14!$M$2:$N$14,2,FALSE)&LEFT(J669,4)&RIGHT(LEFT(J669,LEN(J669)-1),2)))*1","v":0},{"$f":"(IF(ISERROR(VLOOKUP(L669,[1]Choix14!$M$2:$N$14,2,FALSE)&LEFT(O669,4)&RIGHT(LEFT(O669,LEN(O669)-1),2)),0,VLOOKUP(L669,[1]Choix14!$M$2:$N$14,2,FALSE)&LEFT(O669,4)&RIGHT(LEFT(O669,LEN(O669)-1),2)))*1","v":0},{"$nulls":6}," Blake Speers",{"$nulls":7},0,0]
[{"$f":"(IF(ISERROR(VLOOKUP(G670,[1]Choix14!$M$2:$N$14,2,FALSE)&LEFT(J670,4)&RIGHT(LEFT(J670,LEN(J670)-1),2)),0,VLOOKUP(G670,[1]Choix14!$M$2:$N$14,2,FALSE)&LEFT(J670,4)&RIGHT(LEFT(J670,LEN(J670)-1),2)))*1","v":0},{"$f":"(IF(ISERROR(VLOOKUP(L670,[1]Choix14!$M$2:$N$14,2,FALSE)&LEFT(O670,4)&RIGHT(LEFT(O670,LEN(O670)-1),2)),0,VLOOKUP(L670,[1]Choix14!$M$2:$N$14,2,FALSE)&LEFT(O670,4)&RIGHT(LEFT(O670,LEN(O670)-1),2)))*1","v":0},{"$nulls":6}," Alex Biega",{"$nulls":7},0,0]
[{"$f":"(IF(ISERROR(VLOOKUP(G671,[1]Choix14!$M$2:$N$14,2,FALSE)&LEFT(J671,4)&RIGHT(LEFT(J671,LEN(J671)-1),2)),0,VLOOKUP(G671,[1]Choix14!$M$2:$N$14,2,FALSE)&LEFT(J671,4)&RIGHT(LEFT(J671,LEN(J671)-1),2)))*1","v":0},{"$f":"(IF(ISERROR(VLOOKUP(L671,[1]Choix14!$M$2:$N$14,2,FALSE)&LEFT(O671,4)&RIGHT(LEFT(O671,LEN(O671)-1),2)),0,VLOOKUP(L671,[1]Choix14!$M$2:$N$14,2,FALSE)&LEFT(O671,4)&RIGHT(LEFT(O671,LEN(O671)-1),2)))*1","v":0},{"$nulls":6}," Harry Zolnierczyk",{"$nulls":7},0,0]
[{"$f":"(IF(ISERROR(VLOOKUP(G672,[1]Choix14!$M$2:$N$14,2,FALSE)&LEFT(J672,4)&RIGHT(LEFT(J672,LEN(J672)-1),2)),0,VLOOKUP(G672,[1]Choix14!$M$2:$N$14,2,FALSE)&LEFT(J672,4)&RIGHT(LEFT(J672,LEN(J672)-1),2)))*1","v":0},{"$f":"(IF(ISERROR(VLOOKUP(L672,[1]Choix14!$M$2:$N$14,2,FALSE)&LEFT(O672,4)&RIGHT(LEFT(O672,LEN(O672)-1),2)),0,VLOOKUP(L672,[1]Choix14!$M$2:$N$14,2,FALSE)&LEFT(O672,4)&RIGHT(LEFT(O672,LEN(O672)-1),2)))*1","v":0},{"$nulls":6}," Jay McClement",{"$nulls":7},0,0]
[{"$f":"(IF(ISERROR(VLOOKUP(G673,[1]Choix14!$M$2:$N$14,2,FALSE)&LEFT(J673,4)&RIGHT(LEFT(J673,LEN(J673)-1),2)),0,VLOOKUP(G673,[1]Choix14!$M$2:$N$14,2,FALSE)&LEFT(J673,4)&RIGHT(LEFT(J673,LEN(J673)-1),2)))*1","v":0},{"$f":"(IF(ISERROR(VLOOKUP(L673,[1]Choix14!$M$2:$N$14,2,FALSE)&LEFT(O673,4)&RIGHT(LEFT(O673,LEN(O673)-1),2)),0,VLOOKUP(L673,[1]Choix14!$M$2:$N$14,2,FALSE)&LEFT(O673,4)&RIGHT(LEFT(O673,LEN(O673)-1),2)))*1","v":0},{"$nulls":6}," Andrej Nestrasil",{"$nulls":7},0,0]
[{"$f":"(IF(ISERROR(VLOOKUP(G674,[1]Choix14!$M$2:$N$14,2,FALSE)&LEFT(J674,4)&RIGHT(LEFT(J674,LEN(J674)-1),2)),0,VLOOKUP(G674,[1]Choix14!$M$2:$N$14,2,FALSE)&LEFT(J674,4)&RIGHT(LEFT(J674,LEN(J674)-1),2)))*1","v":0},{"$f":"(IF(ISERROR(VLOOKUP(L674,[1]Choix14!$M$2:$N$14,2,FALSE)&LEFT(O674,4)&RIGHT(LEFT(O674,LEN(O674)-1),2)),0,VLOOKUP(L674,[1]Choix14!$M$2:$N$14,2,FALSE)&LEFT(O674,4)&RIGHT(LEFT(O674,LEN(O674)-1),2)))*1","v":0},{"$nulls":6}," Michal Kempny",{"$nulls":7},0,0]
[{"$f":"(IF(ISERROR(VLOOKUP(G675,[1]Choix14!$M$2:$N$14,2,FALSE)&LEFT(J675,4)&RIGHT(LEFT(J675,LEN(J675)-1),2)),0,VLOOKUP(G675,[1]Choix14!$M$2:$N$14,2,FALSE)&LEFT(J675,4)&RIGHT(LEFT(J675,LEN(J675)-1),2)))*1","v":0},{"$f":"(IF(ISERROR(VLOOKUP(L675,[1]Choix14!$M$2:$N$14,2,FALSE)&LEFT(O675,4)&RIGHT(LEFT(O675,LEN(O675)-1),2)),0,VLOOKUP(L675,[1]Choix14!$M$2:$N$14,2,FALSE)&LEFT(O675,4)&RIGHT(LEFT(O675,LEN(O675)-1),2)))*1","v":0},{"$nulls":6}," Mikhail Sergachev",{"$nulls":7},0,0]
[{"$f":"(IF(ISERROR(VLOOKUP(G676,[1]Choix14!$M$2:$N$14,2,FALSE)&LEFT(J676,4)&RIGHT(LEFT(J676,LEN(J676)-1),2)),0,VLOOKUP(G676,[1]Choix14!$M$2:$N$14,2,FALSE)&LEFT(J676,4)&RIGHT(LEFT(J676,LEN(J676)-1),2)))*1","v":0},{"$f":"(IF(ISERROR(VLOOKUP(L676,[1]Choix14!$M$2:$N$14,2,FALSE)&LEFT(O676,4)&RIGHT(LEFT(O676,LEN(O676)-1),2)),0,VLOOKUP(L676,[1]Choix14!$M$2:$N$14,2,FALSE)&LEFT(O676,4)&RIGHT(LEFT(O676,LEN(O676)-1),2)))*1","v":0},{"$nulls":6}," Mark Borowiecki",{"$nulls":7},0,0]
[{"$f":"(IF(ISERROR(VLOOKUP(G677,[1]Choix14!$M$2:$N$14,2,FALSE)&LEFT(J677,4)&RIGHT(LEFT(J677,LEN(J677)-1),2)),0,VLOOKUP(G677,[1]Choix14!$M$2:$N$14,2,FALSE)&LEFT(J677,4)&RIGHT(LEFT(J677,LEN(J677)-1),2)))*1","v":0},{"$f":"(IF(ISERROR(VLOOKUP(L677,[1]Choix14!$M$2:$N$14,2,FALSE)&LEFT(O677,4)&RIGHT(LEFT(O677,LEN(O677)-1),2)),0,VLOOKUP(L677,[1]Choix14!$M$2:$N$14,2,FALSE)&LEFT(O677,4)&RIGHT(LEFT(O677,LEN(O677)-1),2)))*1","v":0},{"$nulls":6}," Roman Lyubimov",{"$nulls":7},0,0]
[{"$f":"(IF(ISERROR(VLOOKUP(G678,[1]Choix14!$M$2:$N$14,2,FALSE)&LEFT(J678,4)&RIGHT(LEFT(J678,LEN(J678)-1),2)),0,VLOOKUP(G678,[1]Choix14!$M$2:$N$14,2,FALSE)&LEFT(J678,4)&RIGHT(LEFT(J678,LEN(J678)-1),2)))*1","v":0},{"$f":"(IF(ISERROR(VLOOKUP(L678,[1]Choix14!$M$2:$N$14,2,FALSE)&LEFT(O678,4)&RIGHT(LEFT(O678,LEN(O678)-1),2)),0,VLOOKUP(L678,[1]Choix14!$M$2:$N$14,2,FALSE)&LEFT(O678,4)&RIGHT(LEFT(O678,LEN(O678)-1),2)))*1","v":0},{"$nulls":6}," Michal Rozsival",{"$nulls":7},0,0]
[{"$f":"(IF(ISERROR(VLOOKUP(G679,[1]Choix14!$M$2:$N$14,2,FALSE)&LEFT(J679,4)&RIGHT(LEFT(J679,LEN(J679)-1),2)),0,VLOOKUP(G679,[1]Choix14!$M$2:$N$14,2,FALSE)&LEFT(J679,4)&RIGHT(LEFT(J679,LEN(J679)-1),2)))*1","v":0},{"$f":"(IF(ISERROR(VLOOKUP(L679,[1]Choix14!$M$2:$N$14,2,FALSE)&LEFT(O679,4)&RIGHT(LEFT(O679,LEN(O679)-1),2)),0,VLOOKUP(L679,[1]Choix14!$M$2:$N$14,2,FALSE)&LEFT(O679,4)&RIGHT(LEFT(O679,LEN(O679)-1),2)))*1","v":0},{"$nulls":6}," Nicolas Deslauriers",{"$nulls":7},0,0]
[{"$f":"(IF(ISERROR(VLOOKUP(G680,[1]Choix14!$M$2:$N$14,2,FALSE)&LEFT(J680,4)&RIGHT(LEFT(J680,LEN(J680)-1),2)),0,VLOOKUP(G680,[1]Choix14!$M$2:$N$14,2,FALSE)&LEFT(J680,4)&RIGHT(LEFT(J680,LEN(J680)-1),2)))*1","v":0},{"$f":"(IF(ISERROR(VLOOKUP(L680,[1]Choix14!$M$2:$N$14,2,FALSE)&LEFT(O680,4)&RIGHT(LEFT(O680,LEN(O680)-1),2)),0,VLOOKUP(L680,[1]Choix14!$M$2:$N$14,2,FALSE)&LEFT(O680,4)&RIGHT(LEFT(O680,LEN(O680)-1),2)))*1","v":0},{"$nulls":6}," Steve Ott",{"$nulls":7},0,0]
[{"$f":"(IF(ISERROR(VLOOKUP(G681,[1]Choix14!$M$2:$N$14,2,FALSE)&LEFT(J681,4)&RIGHT(LEFT(J681,LEN(J681)-1),2)),0,VLOOKUP(G681,[1]Choix14!$M$2:$N$14,2,FALSE)&LEFT(J681,4)&RIGHT(LEFT(J681,LEN(J681)-1),2)))*1","v":0},{"$f":"(IF(ISERROR(VLOOKUP(L681,[1]Choix14!$M$2:$N$14,2,FALSE)&LEFT(O681,4)&RIGHT(LEFT(O681,LEN(O681)-1),2)),0,VLOOKUP(L681,[1]Choix14!$M$2:$N$14,2,FALSE)&LEFT(O681,4)&RIGHT(LEFT(O681,LEN(O681)-1),2)))*1","v":0},{"$nulls":6}," Ron Hainsey",{"$nulls":7},0,0]
[{"$f":"(IF(ISERROR(VLOOKUP(G682,[1]Choix14!$M$2:$N$14,2,FALSE)&LEFT(J682,4)&RIGHT(LEFT(J682,LEN(J682)-1),2)),0,VLOOKUP(G682,[1]Choix14!$M$2:$N$14,2,FALSE)&LEFT(J682,4)&RIGHT(LEFT(J682,LEN(J682)-1),2)))*1","v":0},{"$f":"(IF(ISERROR(VLOOKUP(L682,[1]Choix14!$M$2:$N$14,2,FALSE)&LEFT(O682,4)&RIGHT(LEFT(O682,LEN(O682)-1),2)),0,VLOOKUP(L682,[1]Choix14!$M$2:$N$14,2,FALSE)&LEFT(O682,4)&RIGHT(LEFT(O682,LEN(O682)-1),2)))*1","v":0},{"$nulls":6}," Derek Grant",{"$nulls":7},0,0]
[{"$f":"(IF(ISERROR(VLOOKUP(G683,[1]Choix14!$M$2:$N$14,2,FALSE)&LEFT(J683,4)&RIGHT(LEFT(J683,LEN(J683)-1),2)),0,VLOOKUP(G683,[1]Choix14!$M$2:$N$14,2,FALSE)&LEFT(J683,4)&RIGHT(LEFT(J683,LEN(J683)-1),2)))*1","v":0},{"$f":"(IF(ISERROR(VLOOKUP(L683,[1]Choix14!$M$2:$N$14,2,FALSE)&LEFT(O683,4)&RIGHT(LEFT(O683,LEN(O683)-1),2)),0,VLOOKUP(L683,[1]Choix14!$M$2:$N$14,2,FALSE)&LEFT(O683,4)&RIGHT(LEFT(O683,LEN(O683)-1),2)))*1","v":0},{"$nulls":6}," Jacob Larsson",{"$nulls":7},0,0]
[{"$f":"(IF(ISERROR(VLOOKUP(G684,[1]Choix14!$M$2:$N$14,2,FALSE)&LEFT(J684,4)&RIGHT(LEFT(J684,LEN(J684)-1),2)),0,VLOOKUP(G684,[1]Choix14!$M$2:$N$14,2,FALSE)&LEFT(J684,4)&RIGHT(LEFT(J684,LEN(J684)-1),2)))*1","v":0},{"$f":"(IF(ISERROR(VLOOKUP(L684,[1]Choix14!$M$2:$N$14,2,FALSE)&LEFT(O684,4)&RIGHT(LEFT(O684,LEN(O684)-1),2)),0,VLOOKUP(L684,[1]Choix14!$M$2:$N$14,2,FALSE)&LEFT(O684,4)&RIGHT(LEFT(O684,LEN(O684)-1),2)))*1","v":0},{"$nulls":6}," Vernon Fiddler",{"$nulls":7},0,0]
[{"$f":"(IF(ISERROR(VLOOKUP(G685,[1]Choix14!$M$2:$N$14,2,FALSE)&LEFT(J685,4)&RIGHT(LEFT(J685,LEN(J685)-1),2)),0,VLOOKUP(G685,[1]Choix14!$M$2:$N$14,2,FALSE)&LEFT(J685,4)&RIGHT(LEFT(J685,LEN(J685)-1),2)))*1","v":0},{"$f":"(IF(ISERROR(VLOOKUP(L685,[1]Choix14!$M$2:$N$14,2,FALSE)&LEFT(O685,4)&RIGHT(LEFT(O685,LEN(O685)-1),2)),0,VLOOKUP(L685,[1]Choix14!$M$2:$N$14,2,FALSE)&LEFT(O685,4)&RIGHT(LEFT(O685,LEN(O685)-1),2)))*1","v":0},{"$nulls":6}," Eric Fehr",{"$nulls":7},0,0]
[{"$f":"(IF(ISERROR(VLOOKUP(G686,[1]Choix14!$M$2:$N$14,2,FALSE)&LEFT(J686,4)&RIGHT(LEFT(J686,LEN(J686)-1),2)),0,VLOOKUP(G686,[1]Choix14!$M$2:$N$14,2,FALSE)&LEFT(J686,4)&RIGHT(LEFT(J686,LEN(J686)-1),2)))*1","v":0},{"$f":"(IF(ISERROR(VLOOKUP(L686,[1]Choix14!$M$2:$N$14,2,FALSE)&LEFT(O686,4)&RIGHT(LEFT(O686,LEN(O686)-1),2)),0,VLOOKUP(L686,[1]Choix14!$M$2:$N$14,2,FALSE)&LEFT(O686,4)&RIGHT(LEFT(O686,LEN(O686)-1),2)))*1","v":0},{"$nulls":6}," Dion Phaneuf",{"$nulls":7},0,0]
[{"$f":"(IF(ISERROR(VLOOKUP(G687,[1]Choix14!$M$2:$N$14,2,FALSE)&LEFT(J687,4)&RIGHT(LEFT(J687,LEN(J687)-1),2)),0,VLOOKUP(G687,[1]Choix14!$M$2:$N$14,2,FALSE)&LEFT(J687,4)&RIGHT(LEFT(J687,LEN(J687)-1),2)))*1","v":0},{"$f":"(IF(ISERROR(VLOOKUP(L687,[1]Choix14!$M$2:$N$14,2,FALSE)&LEFT(O687,4)&RIGHT(LEFT(O687,LEN(O687)-1),2)),0,VLOOKUP(L687,[1]Choix14!$M$2:$N$14,2,FALSE)&LEFT(O687,4)&RIGHT(LEFT(O687,LEN(O687)-1),2)))*1","v":0},{"$nulls":6}," Braydon Coburn",{"$nulls":7},0,0]
[{"$f":"(IF(ISERROR(VLOOKUP(G688,[1]Choix14!$M$2:$N$14,2,FALSE)&LEFT(J688,4)&RIGHT(LEFT(J688,LEN(J688)-1),2)),0,VLOOKUP(G688,[1]Choix14!$M$2:$N$14,2,FALSE)&LEFT(J688,4)&RIGHT(LEFT(J688,LEN(J688)-1),2)))*1","v":0},{"$f":"(IF(ISERROR(VLOOKUP(L688,[1]Choix14!$M$2:$N$14,2,FALSE)&LEFT(O688,4)&RIGHT(LEFT(O688,LEN(O688)-1),2)),0,VLOOKUP(L688,[1]Choix14!$M$2:$N$14,2,FALSE)&LEFT(O688,4)&RIGHT(LEFT(O688,LEN(O688)-1),2)))*1","v":0},{"$nulls":6}," Mark Stuart",{"$nulls":7},0,0]
[{"$f":"(IF(ISERROR(VLOOKUP(G689,[1]Choix14!$M$2:$N$14,2,FALSE)&LEFT(J689,4)&RIGHT(LEFT(J689,LEN(J689)-1),2)),0,VLOOKUP(G689,[1]Choix14!$M$2:$N$14,2,FALSE)&LEFT(J689,4)&RIGHT(LEFT(J689,LEN(J689)-1),2)))*1","v":0},{"$f":"(IF(ISERROR(VLOOKUP(L689,[1]Choix14!$M$2:$N$14,2,FALSE)&LEFT(O689,4)&RIGHT(LEFT(O689,LEN(O689)-1),2)),0,VLOOKUP(L689,[1]Choix14!$M$2:$N$14,2,FALSE)&LEFT(O689,4)&RIGHT(LEFT(O689,LEN(O689)-1),2)))*1","v":0},{"$nulls":6}," Sergey Kalinin",{"$nulls":7},0,0]
[{"$f":"(IF(ISERROR(VLOOKUP(G690,[1]Choix14!$M$2:$N$14,2,FALSE)&LEFT(J690,4)&RIGHT(LEFT(J690,LEN(J690)-1),2)),0,VLOOKUP(G690,[1]Choix14!$M$2:$N$14,2,FALSE)&LEFT(J690,4)&RIGHT(LEFT(J690,LEN(J690)-1),2)))*1","v":0},{"$f":"(IF(ISERROR(VLOOKUP(L690,[1]Choix14!$M$2:$N$14,2,FALSE)&LEFT(O690,4)&RIGHT(LEFT(O690,LEN(O690)-1),2)),0,VLOOKUP(L690,[1]Choix14!$M$2:$N$14,2,FALSE)&LEFT(O690,4)&RIGHT(LEFT(O690,LEN(O690)-1),2)))*1","v":0},{"$nulls":6}," Kevin Klein",{"$nulls":7},0,0]
[{"$f":"(IF(ISERROR(VLOOKUP(G691,[1]Choix14!$M$2:$N$14,2,FALSE)&LEFT(J691,4)&RIGHT(LEFT(J691,LEN(J691)-1),2)),0,VLOOKUP(G691,[1]Choix14!$M$2:$N$14,2,FALSE)&LEFT(J691,4)&RIGHT(LEFT(J691,LEN(J691)-1),2)))*1","v":0},{"$f":"(IF(ISERROR(VLOOKUP(L691,[1]Choix14!$M$2:$N$14,2,FALSE)&LEFT(O691,4)&RIGHT(LEFT(O691,LEN(O691)-1),2)),0,VLOOKUP(L691,[1]Choix14!$M$2:$N$14,2,FALSE)&LEFT(O691,4)&RIGHT(LEFT(O691,LEN(O691)-1),2)))*1","v":0},{"$nulls":6}," Michael Sgarbossa",{"$nulls":7},0,0]
[{"$f":"(IF(ISERROR(VLOOKUP(G692,[1]Choix14!$M$2:$N$14,2,FALSE)&LEFT(J692,4)&RIGHT(LEFT(J692,LEN(J692)-1),2)),0,VLOOKUP(G692,[1]Choix14!$M$2:$N$14,2,FALSE)&LEFT(J692,4)&RIGHT(LEFT(J692,LEN(J692)-1),2)))*1","v":0},{"$f":"(IF(ISERROR(VLOOKUP(L692,[1]Choix14!$M$2:$N$14,2,FALSE)&LEFT(O692,4)&RIGHT(LEFT(O692,LEN(O692)-1),2)),0,VLOOKUP(L692,[1]Choix14!$M$2:$N$14,2,FALSE)&LEFT(O692,4)&RIGHT(LEFT(O692,LEN(O692)-1),2)))*1","v":0},{"$nulls":6}," Jakub Nakladal",{"$nulls":7},0,0]
[{"$f":"(IF(ISERROR(VLOOKUP(G693,[1]Choix14!$M$2:$N$14,2,FALSE)&LEFT(J693,4)&RIGHT(LEFT(J693,LEN(J693)-1),2)),0,VLOOKUP(G693,[1]Choix14!$M$2:$N$14,2,FALSE)&LEFT(J693,4)&RIGHT(LEFT(J693,LEN(J693)-1),2)))*1","v":0},{"$f":"(IF(ISERROR(VLOOKUP(L693,[1]Choix14!$M$2:$N$14,2,FALSE)&LEFT(O693,4)&RIGHT(LEFT(O693,LEN(O693)-1),2)),0,VLOOKUP(L693,[1]Choix14!$M$2:$N$14,2,FALSE)&LEFT(O693,4)&RIGHT(LEFT(O693,LEN(O693)-1),2)))*1","v":0},{"$nulls":6}," Matt Greene",{"$nulls":7},0,0]
[{"$f":"(IF(ISERROR(VLOOKUP(G694,[1]Choix14!$M$2:$N$14,2,FALSE)&LEFT(J694,4)&RIGHT(LEFT(J694,LEN(J694)-1),2)),0,VLOOKUP(G694,[1]Choix14!$M$2:$N$14,2,FALSE)&LEFT(J694,4)&RIGHT(LEFT(J694,LEN(J694)-1),2)))*1","v":0},{"$f":"(IF(ISERROR(VLOOKUP(L694,[1]Choix14!$M$2:$N$14,2,FALSE)&LEFT(O694,4)&RIGHT(LEFT(O694,LEN(O694)-1),2)),0,VLOOKUP(L694,[1]Choix14!$M$2:$N$14,2,FALSE)&LEFT(O694,4)&RIGHT(LEFT(O694,LEN(O694)-1),2)))*1","v":0},{"$nulls":6}," Jiri Hudler",{"$nulls":7},0,0]
[{"$f":"(IF(ISERROR(VLOOKUP(G695,[1]Choix14!$M$2:$N$14,2,FALSE)&LEFT(J695,4)&RIGHT(LEFT(J695,LEN(J695)-1),2)),0,VLOOKUP(G695,[1]Choix14!$M$2:$N$14,2,FALSE)&LEFT(J695,4)&RIGHT(LEFT(J695,LEN(J695)-1),2)))*1","v":0},{"$f":"(IF(ISERROR(VLOOKUP(L695,[1]Choix14!$M$2:$N$14,2,FALSE)&LEFT(O695,4)&RIGHT(LEFT(O695,LEN(O695)-1),2)),0,VLOOKUP(L695,[1]Choix14!$M$2:$N$14,2,FALSE)&LEFT(O695,4)&RIGHT(LEFT(O695,LEN(O695)-1),2)))*1","v":0},{"$nulls":6}," Jordan Nolan",{"$nulls":7},0,0]
[{"$f":"(IF(ISERROR(VLOOKUP(G696,[1]Choix14!$M$2:$N$14,2,FALSE)&LEFT(J696,4)&RIGHT(LEFT(J696,LEN(J696)-1),2)),0,VLOOKUP(G696,[1]Choix14!$M$2:$N$14,2,FALSE)&LEFT(J696,4)&RIGHT(LEFT(J696,LEN(J696)-1),2)))*1","v":0},{"$f":"(IF(ISERROR(VLOOKUP(L696,[1]Choix14!$M$2:$N$14,2,FALSE)&LEFT(O696,4)&RIGHT(LEFT(O696,LEN(O696)-1),2)),0,VLOOKUP(L696,[1]Choix14!$M$2:$N$14,2,FALSE)&LEFT(O696,4)&RIGHT(LEFT(O696,LEN(O696)-1),2)))*1","v":0},{"$nulls":6}," Thomas Chabot",{"$nulls":7},0,0]
[{"$f":"(IF(ISERROR(VLOOKUP(G697,[1]Choix14!$M$2:$N$14,2,FALSE)&LEFT(J697,4)&RIGHT(LEFT(J697,LEN(J697)-1),2)),0,VLOOKUP(G697,[1]Choix14!$M$2:$N$14,2,FALSE)&LEFT(J697,4)&RIGHT(LEFT(J697,LEN(J697)-1),2)))*1","v":0},{"$f":"(IF(ISERROR(VLOOKUP(L697,[1]Choix14!$M$2:$N$14,2,FALSE)&LEFT(O697,4)&RIGHT(LEFT(O697,LEN(O697)-1),2)),0,VLOOKUP(L697,[1]Choix14!$M$2:$N$14,2,FALSE)&LEFT(O697,4)&RIGHT(LEFT(O697,LEN(O697)-1),2)))*1","v":0},{"$nulls":6}," Eric Gelinas",{"$nulls":7},0,0]
[{"$f":"(IF(ISERROR(VLOOKUP(G698,[1]Choix14!$M$2:$N$14,2,FALSE)&LEFT(J698,4)&RIGHT(LEFT(J698,LEN(J698)-1),2)),0,VLOOKUP(G698,[1]Choix14!$M$2:$N$14,2,FALSE)&LEFT(J698,4)&RIGHT(LEFT(J698,LEN(J698)-1),2)))*1","v":0},{"$f":"(IF(ISERROR(VLOOKUP(L698,[1]Choix14!$M$2:$N$14,2,FALSE)&LEFT(O698,4)&RIGHT(LEFT(O698,LEN(O698)-1),2)),0,VLOOKUP(L698,[1]Choix14!$M$2:$N$14,2,FALSE)&LEFT(O698,4)&RIGHT(LEFT(O698,LEN(O698)-1),2)))*1","v":0},{"$nulls":6}," Mathew Barzal",{"$nulls":7},0,0]
[{"$f":"(IF(ISERROR(VLOOKUP(G699,[1]Choix14!$M$2:$N$14,2,FALSE)&LEFT(J699,4)&RIGHT(LEFT(J699,LEN(J699)-1),2)),0,VLOOKUP(G699,[1]Choix14!$M$2:$N$14,2,FALSE)&LEFT(J699,4)&RIGHT(LEFT(J699,LEN(J699)-1),2)))*1","v":0},{"$f":"(IF(ISERROR(VLOOKUP(L699,[1]Choix14!$M$2:$N$14,2,FALSE)&LEFT(O699,4)&RIGHT(LEFT(O699,LEN(O699)-1),2)),0,VLOOKUP(L699,[1]Choix14!$M$2:$N$14,2,FALSE)&LEFT(O699,4)&RIGHT(LEFT(O699,LEN(O699)-1),2)))*1","v":0},{"$nulls":6}," Lawson Crouse",{"$nulls":7},0,0]
[{"$f":"(IF(ISERROR(VLOOKUP(G700,[1]Choix14!$M$2:$N$14,2,FALSE)&LEFT(J700,4)&RIGHT(LEFT(J700,LEN(J700)-1),2)),0,VLOOKUP(G700,[1]Choix14!$M$2:$N$14,2,FALSE)&LEFT(J700,4)&RIGHT(LEFT(J700,LEN(J700)-1),2)))*1","v":0},{"$f":"(IF(ISERROR(VLOOKUP(L700,[1]Choix14!$M$2:$N$14,2,FALSE)&LEFT(O700,4)&RIGHT(LEFT(O700,LEN(O700)-1),2)),0,VLOOKUP(L700,[1]Choix14!$M$2:$N$14,2,FALSE)&LEFT(O700,4)&RIGHT(LEFT(O700,LEN(O700)-1),2)))*1","v":0},{"$nulls":6}," Kevin Connauton",{"$nulls":7},0,0]
[{"$f":"(IF(ISERROR(VLOOKUP(G701,[1]Choix14!$M$2:$N$14,2,FALSE)&LEFT(J701,4)&RIGHT(LEFT(J701,LEN(J701)-1),2)),0,VLOOKUP(G701,[1]Choix14!$M$2:$N$14,2,FALSE)&LEFT(J701,4)&RIGHT(LEFT(J701,LEN(J701)-1),2)))*1","v":0},{"$f":"(IF(ISERROR(VLOOKUP(L701,[1]Choix14!$M$2:$N$14,2,FALSE)&LEFT(O701,4)&RIGHT(LEFT(O701,LEN(O701)-1),2)),0,VLOOKUP(L701,[1]Choix14!$M$2:$N$14,2,FALSE)&LEFT(O701,4)&RIGHT(LEFT(O701,LEN(O701)-1),2)))*1","v":0},{"$nulls":6}," Jordin Tootoo",{"$nulls":7},0,0]
[{"$f":"(IF(ISERROR(VLOOKUP(G702,[1]Choix14!$M$2:$N$14,2,FALSE)&LEFT(J702,4)&RIGHT(LEFT(J702,LEN(J702)-1),2)),0,VLOOKUP(G702,[1]Choix14!$M$2:$N$14,2,FALSE)&LEFT(J702,4)&RIGHT(LEFT(J702,LEN(J702)-1),2)))*1","v":0},{"$f":"(IF(ISERROR(VLOOKUP(L702,[1]Choix14!$M$2:$N$14,2,FALSE)&LEFT(O702,4)&RIGHT(LEFT(O702,LEN(O702)-1),2)),0,VLOOKUP(L702,[1]Choix14!$M$2:$N$14,2,FALSE)&LEFT(O702,4)&RIGHT(LEFT(O702,LEN(O702)-1),2)))*1","v":0},{"$nulls":6}," Zachary Sanford",{"$nulls":7},0,0]
[{"$f":"(IF(ISERROR(VLOOKUP(G703,[1]Choix14!$M$2:$N$14,2,FALSE)&LEFT(J703,4)&RIGHT(LEFT(J703,LEN(J703)-1),2)),0,VLOOKUP(G703,[1]Choix14!$M$2:$N$14,2,FALSE)&LEFT(J703,4)&RIGHT(LEFT(J703,LEN(J703)-1),2)))*1","v":0},{"$f":"(IF(ISERROR(VLOOKUP(L703,[1]Choix14!$M$2:$N$14,2,FALSE)&LEFT(O703,4)&RIGHT(LEFT(O703,LEN(O703)-1),2)),0,VLOOKUP(L703,[1]Choix14!$M$2:$N$14,2,FALSE)&LEFT(O703,4)&RIGHT(LEFT(O703,LEN(O703)-1),2)))*1","v":0},{"$nulls":6}," Eric Gryba",{"$nulls":7},0,0]
[{"$f":"(IF(ISERROR(VLOOKUP(G704,[1]Choix14!$M$2:$N$14,2,FALSE)&LEFT(J704,4)&RIGHT(LEFT(J704,LEN(J704)-1),2)),0,VLOOKUP(G704,[1]Choix14!$M$2:$N$14,2,FALSE)&LEFT(J704,4)&RIGHT(LEFT(J704,LEN(J704)-1),2)))*1","v":0},{"$f":"(IF(ISERROR(VLOOKUP(L704,[1]Choix14!$M$2:$N$14,2,FALSE)&LEFT(O704,4)&RIGHT(LEFT(O704,LEN(O704)-1),2)),0,VLOOKUP(L704,[1]Choix14!$M$2:$N$14,2,FALSE)&LEFT(O704,4)&RIGHT(LEFT(O704,LEN(O704)-1),2)))*1","v":0},{"$nulls":6}," Phillip Di Giuseppe",{"$nulls":7},0,0]
[{"$f":"(IF(ISERROR(VLOOKUP(G705,[1]Choix14!$M$2:$N$14,2,FALSE)&LEFT(J705,4)&RIGHT(LEFT(J705,LEN(J705)-1),2)),0,VLOOKUP(G705,[1]Choix14!$M$2:$N$14,2,FALSE)&LEFT(J705,4)&RIGHT(LEFT(J705,LEN(J705)-1),2)))*1","v":0},{"$f":"(IF(ISERROR(VLOOKUP(L705,[1]Choix14!$M$2:$N$14,2,FALSE)&LEFT(O705,4)&RIGHT(LEFT(O705,LEN(O705)-1),2)),0,VLOOKUP(L705,[1]Choix14!$M$2:$N$14,2,FALSE)&LEFT(O705,4)&RIGHT(LEFT(O705,LEN(O705)-1),2)))*1","v":0},{"$nulls":6}," Michael Stone",{"$nulls":7},0,0]
[{"$f":"(IF(ISERROR(VLOOKUP(G706,[1]Choix14!$M$2:$N$14,2,FALSE)&LEFT(J706,4)&RIGHT(LEFT(J706,LEN(J706)-1),2)),0,VLOOKUP(G706,[1]Choix14!$M$2:$N$14,2,FALSE)&LEFT(J706,4)&RIGHT(LEFT(J706,LEN(J706)-1),2)))*1","v":0},{"$f":"(IF(ISERROR(VLOOKUP(L706,[1]Choix14!$M$2:$N$14,2,FALSE)&LEFT(O706,4)&RIGHT(LEFT(O706,LEN(O706)-1),2)),0,VLOOKUP(L706,[1]Choix14!$M$2:$N$14,2,FALSE)&LEFT(O706,4)&RIGHT(LEFT(O706,LEN(O706)-1),2)))*1","v":0},{"$nulls":6}," Martin Frk",{"$nulls":7},0,0]
[{"$f":"(IF(ISERROR(VLOOKUP(G707,[1]Choix14!$M$2:$N$14,2,FALSE)&LEFT(J707,4)&RIGHT(LEFT(J707,LEN(J707)-1),2)),0,VLOOKUP(G707,[1]Choix14!$M$2:$N$14,2,FALSE)&LEFT(J707,4)&RIGHT(LEFT(J707,LEN(J707)-1),2)))*1","v":0},{"$f":"(IF(ISERROR(VLOOKUP(L707,[1]Choix14!$M$2:$N$14,2,FALSE)&LEFT(O707,4)&RIGHT(LEFT(O707,LEN(O707)-1),2)),0,VLOOKUP(L707,[1]Choix14!$M$2:$N$14,2,FALSE)&LEFT(O707,4)&RIGHT(LEFT(O707,LEN(O707)-1),2)))*1","v":0},{"$nulls":6}," Nikita Nesterov",{"$nulls":7},{"$f":"IF(A707<1,0,COUNTIF($A:$B,A707))","v":0},0]
[{"$f":"(IF(ISERROR(VLOOKUP(G708,[1]Choix14!$M$2:$N$14,2,FALSE)&LEFT(J708,4)&RIGHT(LEFT(J708,LEN(J708)-1),2)),0,VLOOKUP(G708,[1]Choix14!$M$2:$N$14,2,FALSE)&LEFT(J708,4)&RIGHT(LEFT(J708,LEN(J708)-1),2)))*1","v":0},{"$f":"(IF(ISERROR(VLOOKUP(L708,[1]Choix14!$M$2:$N$14,2,FALSE)&LEFT(O708,4)&RIGHT(LEFT(O708,LEN(O708)-1),2)),0,VLOOKUP(L708,[1]Choix14!$M$2:$N$14,2,FALSE)&LEFT(O708,4)&RIGHT(LEFT(O708,LEN(O708)-1),2)))*1","v":0},{"$nulls":6}," Jamie McBain",{"$nulls":7},0,0]
[{"$f":"(IF(ISERROR(VLOOKUP(G709,[1]Choix14!$M$2:$N$14,2,FALSE)&LEFT(J709,4)&RIGHT(LEFT(J709,LEN(J709)-1),2)),0,VLOOKUP(G709,[1]Choix14!$M$2:$N$14,2,FALSE)&LEFT(J709,4)&RIGHT(LEFT(J709,LEN(J709)-1),2)))*1","v":0},{"$f":"(IF(ISERROR(VLOOKUP(L709,[1]Choix14!$M$2:$N$14,2,FALSE)&LEFT(O709,4)&RIGHT(LEFT(O709,LEN(O709)-1),2)),0,VLOOKUP(L709,[1]Choix14!$M$2:$N$14,2,FALSE)&LEFT(O709,4)&RIGHT(LEFT(O709,LEN(O709)-1),2)))*1","v":0},{"$nulls":6}," Kyle Rau",{"$nulls":7},0,0]
[{"$f":"(IF(ISERROR(VLOOKUP(G710,[1]Choix14!$M$2:$N$14,2,FALSE)&LEFT(J710,4)&RIGHT(LEFT(J710,LEN(J710)-1),2)),0,VLOOKUP(G710,[1]Choix14!$M$2:$N$14,2,FALSE)&LEFT(J710,4)&RIGHT(LEFT(J710,LEN(J710)-1),2)))*1","v":0},{"$f":"(IF(ISERROR(VLOOKUP(L710,[1]Choix14!$M$2:$N$14,2,FALSE)&LEFT(O710,4)&RIGHT(LEFT(O710,LEN(O710)-1),2)),0,VLOOKUP(L710,[1]Choix14!$M$2:$N$14,2,FALSE)&LEFT(O710,4)&RIGHT(LEFT(O710,LEN(O710)-1),2)))*1","v":0},{"$nulls":6}," Paul Postma",{"$nulls":7},0,0]
[{"$f":"(IF(ISERROR(VLOOKUP(G711,[1]Choix14!$M$2:$N$14,2,FALSE)&LEFT(J711,4)&RIGHT(LEFT(J711,LEN(J711)-1),2)),0,VLOOKUP(G711,[1]Choix14!$M$2:$N$14,2,FALSE)&LEFT(J711,4)&RIGHT(LEFT(J711,LEN(J711)-1),2)))*1","v":0},{"$f":"(IF(ISERROR(VLOOKUP(L711,[1]Choix14!$M$2:$N$14,2,FALSE)&LEFT(O711,4)&RIGHT(LEFT(O711,LEN(O711)-1),2)),0,VLOOKUP(L711,[1]Choix14!$M$2:$N$14,2,FALSE)&LEFT(O711,4)&RIGHT(LEFT(O711,LEN(O711)-1),2)))*1","v":0},{"$nulls":6}," Marco Scandella",{"$nulls":7},0,0]
[{"$f":"(IF(ISERROR(VLOOKUP(G712,[1]Choix14!$M$2:$N$14,2,FALSE)&LEFT(J712,4)&RIGHT(LEFT(J712,LEN(J712)-1),2)),0,VLOOKUP(G712,[1]Choix14!$M$2:$N$14,2,FALSE)&LEFT(J712,4)&RIGHT(LEFT(J712,LEN(J712)-1),2)))*1","v":0},{"$f":"(IF(ISERROR(VLOOKUP(L712,[1]Choix14!$M$2:$N$14,2,FALSE)&LEFT(O712,4)&RIGHT(LEFT(O712,LEN(O712)-1),2)),0,VLOOKUP(L712,[1]Choix14!$M$2:$N$14,2,FALSE)&LEFT(O712,4)&RIGHT(LEFT(O712,LEN(O712)-1),2)))*1","v":0},{"$nulls":6}," Colton Sissons",{"$nulls":7},0,0]
[{"$f":"(IF(ISERROR(VLOOKUP(G713,[1]Choix14!$M$2:$N$14,2,FALSE)&LEFT(J713,4)&RIGHT(LEFT(J713,LEN(J713)-1),2)),0,VLOOKUP(G713,[1]Choix14!$M$2:$N$14,2,FALSE)&LEFT(J713,4)&RIGHT(LEFT(J713,LEN(J713)-1),2)))*1","v":0},{"$f":"(IF(ISERROR(VLOOKUP(L713,[1]Choix14!$M$2:$N$14,2,FALSE)&LEFT(O713,4)&RIGHT(LEFT(O713,LEN(O713)-1),2)),0,VLOOKUP(L713,[1]Choix14!$M$2:$N$14,2,FALSE)&LEFT(O713,4)&RIGHT(LEFT(O713,LEN(O713)-1),2)))*1","v":0},{"$nulls":6}," Nick Shore",{"$nulls":7},0,0]
[{"$f":"(IF(ISERROR(VLOOKUP(G714,[1]Choix14!$M$2:$N$14,2,FALSE)&LEFT(J714,4)&RIGHT(LEFT(J714,LEN(J714)-1),2)),0,VLOOKUP(G714,[1]Choix14!$M$2:$N$14,2,FALSE)&LEFT(J714,4)&RIGHT(LEFT(J714,LEN(J714)-1),2)))*1","v":0},{"$f":"(IF(ISERROR(VLOOKUP(L714,[1]Choix14!$M$2:$N$14,2,FALSE)&LEFT(O714,4)&RIGHT(LEFT(O714,LEN(O714)-1),2)),0,VLOOKUP(L714,[1]Choix14!$M$2:$N$14,2,FALSE)&LEFT(O714,4)&RIGHT(LEFT(O714,LEN(O714)-1),2)))*1","v":0},{"$nulls":6}," Jake Muzzin",{"$nulls":7},0,0]
[{"$f":"(IF(ISERROR(VLOOKUP(G715,[1]Choix14!$M$2:$N$14,2,FALSE)&LEFT(J715,4)&RIGHT(LEFT(J715,LEN(J715)-1),2)),0,VLOOKUP(G715,[1]Choix14!$M$2:$N$14,2,FALSE)&LEFT(J715,4)&RIGHT(LEFT(J715,LEN(J715)-1),2)))*1","v":0},{"$f":"(IF(ISERROR(VLOOKUP(L715,[1]Choix14!$M$2:$N$14,2,FALSE)&LEFT(O715,4)&RIGHT(LEFT(O715,LEN(O715)-1),2)),0,VLOOKUP(L715,[1]Choix14!$M$2:$N$14,2,FALSE)&LEFT(O715,4)&RIGHT(LEFT(O715,LEN(O715)-1),2)))*1","v":0},{"$nulls":6}," Adam Lowry",{"$nulls":7},0,0]
[{"$f":"(IF(ISERROR(VLOOKUP(G716,[1]Choix14!$M$2:$N$14,2,FALSE)&LEFT(J716,4)&RIGHT(LEFT(J716,LEN(J716)-1),2)),0,VLOOKUP(G716,[1]Choix14!$M$2:$N$14,2,FALSE)&LEFT(J716,4)&RIGHT(LEFT(J716,LEN(J716)-1),2)))*1","v":0},{"$f":"(IF(ISERROR(VLOOKUP(L716,[1]Choix14!$M$2:$N$14,2,FALSE)&LEFT(O716,4)&RIGHT(LEFT(O716,LEN(O716)-1),2)),0,VLOOKUP(L716,[1]Choix14!$M$2:$N$14,2,FALSE)&LEFT(O716,4)&RIGHT(LEFT(O716,LEN(O716)-1),2)))*1","v":0},{"$nulls":6}," Ben Chiarot",{"$nulls":7},0,0]
[{"$f":"(IF(ISERROR(VLOOKUP(G717,[1]Choix14!$M$2:$N$14,2,FALSE)&LEFT(J717,4)&RIGHT(LEFT(J717,LEN(J717)-1),2)),0,VLOOKUP(G717,[1]Choix14!$M$2:$N$14,2,FALSE)&LEFT(J717,4)&RIGHT(LEFT(J717,LEN(J717)-1),2)))*1","v":0},{"$f":"(IF(ISERROR(VLOOKUP(L717,[1]Choix14!$M$2:$N$14,2,FALSE)&LEFT(O717,4)&RIGHT(LEFT(O717,LEN(O717)-1),2)),0,VLOOKUP(L717,[1]Choix14!$M$2:$N$14,2,FALSE)&LEFT(O717,4)&RIGHT(LEFT(O717,LEN(O717)-1),2)))*1","v":0},{"$nulls":6}," Esa Lindell",{"$nulls":7},0,0]
[{"$f":"(IF(ISERROR(VLOOKUP(G718,[1]Choix14!$M$2:$N$14,2,FALSE)&LEFT(J718,4)&RIGHT(LEFT(J718,LEN(J718)-1),2)),0,VLOOKUP(G718,[1]Choix14!$M$2:$N$14,2,FALSE)&LEFT(J718,4)&RIGHT(LEFT(J718,LEN(J718)-1),2)))*1","v":0},{"$f":"(IF(ISERROR(VLOOKUP(L718,[1]Choix14!$M$2:$N$14,2,FALSE)&LEFT(O718,4)&RIGHT(LEFT(O718,LEN(O718)-1),2)),0,VLOOKUP(L718,[1]Choix14!$M$2:$N$14,2,FALSE)&LEFT(O718,4)&RIGHT(LEFT(O718,LEN(O718)-1),2)))*1","v":0},{"$nulls":6}," Ben Lovejoy",{"$nulls":7},0,0]
[{"$f":"(IF(ISERROR(VLOOKUP(G719,[1]Choix14!$M$2:$N$14,2,FALSE)&LEFT(J719,4)&RIGHT(LEFT(J719,LEN(J719)-1),2)),0,VLOOKUP(G719,[1]Choix14!$M$2:$N$14,2,FALSE)&LEFT(J719,4)&RIGHT(LEFT(J719,LEN(J719)-1),2)))*1","v":0},{"$f":"(IF(ISERROR(VLOOKUP(L719,[1]Choix14!$M$2:$N$14,2,FALSE)&LEFT(O719,4)&RIGHT(LEFT(O719,LEN(O719)-1),2)),0,VLOOKUP(L719,[1]Choix14!$M$2:$N$14,2,FALSE)&LEFT(O719,4)&RIGHT(LEFT(O719,LEN(O719)-1),2)))*1","v":0},{"$nulls":6}," Andy Andreoff",{"$nulls":7},0,0]
[{"$f":"(IF(ISERROR(VLOOKUP(G720,[1]Choix14!$M$2:$N$14,2,FALSE)&LEFT(J720,4)&RIGHT(LEFT(J720,LEN(J720)-1),2)),0,VLOOKUP(G720,[1]Choix14!$M$2:$N$14,2,FALSE)&LEFT(J720,4)&RIGHT(LEFT(J720,LEN(J720)-1),2)))*1","v":0},{"$f":"(IF(ISERROR(VLOOKUP(L720,[1]Choix14!$M$2:$N$14,2,FALSE)&LEFT(O720,4)&RIGHT(LEFT(O720,LEN(O720)-1),2)),0,VLOOKUP(L720,[1]Choix14!$M$2:$N$14,2,FALSE)&LEFT(O720,4)&RIGHT(LEFT(O720,LEN(O720)-1),2)))*1","v":0},{"$nulls":6}," Dale Weise",{"$nulls":7},0,0]
[{"$f":"(IF(ISERROR(VLOOKUP(G721,[1]Choix14!$M$2:$N$14,2,FALSE)&LEFT(J721,4)&RIGHT(LEFT(J721,LEN(J721)-1),2)),0,VLOOKUP(G721,[1]Choix14!$M$2:$N$14,2,FALSE)&LEFT(J721,4)&RIGHT(LEFT(J721,LEN(J721)-1),2)))*1","v":0},{"$f":"(IF(ISERROR(VLOOKUP(L721,[1]Choix14!$M$2:$N$14,2,FALSE)&LEFT(O721,4)&RIGHT(LEFT(O721,LEN(O721)-1),2)),0,VLOOKUP(L721,[1]Choix14!$M$2:$N$14,2,FALSE)&LEFT(O721,4)&RIGHT(LEFT(O721,LEN(O721)-1),2)))*1","v":0},{"$nulls":6}," Brett Connolly",{"$nulls":7},0,0]
[{"$f":"(IF(ISERROR(VLOOKUP(G722,[1]Choix14!$M$2:$N$14,2,FALSE)&LEFT(J722,4)&RIGHT(LEFT(J722,LEN(J722)-1),2)),0,VLOOKUP(G722,[1]Choix14!$M$2:$N$14,2,FALSE)&LEFT(J722,4)&RIGHT(LEFT(J722,LEN(J722)-1),2)))*1","v":0},{"$f":"(IF(ISERROR(VLOOKUP(L722,[1]Choix14!$M$2:$N$14,2,FALSE)&LEFT(O722,4)&RIGHT(LEFT(O722,LEN(O722)-1),2)),0,VLOOKUP(L722,[1]Choix14!$M$2:$N$14,2,FALSE)&LEFT(O722,4)&RIGHT(LEFT(O722,LEN(O722)-1),2)))*1","v":0},{"$nulls":6}," Carl Gunnarsson",{"$nulls":7},0,0]
[{"$f":"(IF(ISERROR(VLOOKUP(G723,[1]Choix14!$M$2:$N$14,2,FALSE)&LEFT(J723,4)&RIGHT(LEFT(J723,LEN(J723)-1),2)),0,VLOOKUP(G723,[1]Choix14!$M$2:$N$14,2,FALSE)&LEFT(J723,4)&RIGHT(LEFT(J723,LEN(J723)-1),2)))*1","v":0},{"$f":"(IF(ISERROR(VLOOKUP(L723,[1]Choix14!$M$2:$N$14,2,FALSE)&LEFT(O723,4)&RIGHT(LEFT(O723,LEN(O723)-1),2)),0,VLOOKUP(L723,[1]Choix14!$M$2:$N$14,2,FALSE)&LEFT(O723,4)&RIGHT(LEFT(O723,LEN(O723)-1),2)))*1","v":0},{"$nulls":6}," Olli Maatta",{"$nulls":7},0,0]
[{"$f":"(IF(ISERROR(VLOOKUP(G724,[1]Choix14!$M$2:$N$14,2,FALSE)&LEFT(J724,4)&RIGHT(LEFT(J724,LEN(J724)-1),2)),0,VLOOKUP(G724,[1]Choix14!$M$2:$N$14,2,FALSE)&LEFT(J724,4)&RIGHT(LEFT(J724,LEN(J724)-1),2)))*1","v":0},{"$f":"(IF(ISERROR(VLOOKUP(L724,[1]Choix14!$M$2:$N$14,2,FALSE)&LEFT(O724,4)&RIGHT(LEFT(O724,LEN(O724)-1),2)),0,VLOOKUP(L724,[1]Choix14!$M$2:$N$14,2,FALSE)&LEFT(O724,4)&RIGHT(LEFT(O724,LEN(O724)-1),2)))*1","v":0},{"$nulls":6}," Jori Lehtera",{"$nulls":7},0,0]
[{"$f":"(IF(ISERROR(VLOOKUP(G725,[1]Choix14!$M$2:$N$14,2,FALSE)&LEFT(J725,4)&RIGHT(LEFT(J725,LEN(J725)-1),2)),0,VLOOKUP(G725,[1]Choix14!$M$2:$N$14,2,FALSE)&LEFT(J725,4)&RIGHT(LEFT(J725,LEN(J725)-1),2)))*1","v":0},{"$f":"(IF(ISERROR(VLOOKUP(L725,[1]Choix14!$M$2:$N$14,2,FALSE)&LEFT(O725,4)&RIGHT(LEFT(O725,LEN(O725)-1),2)),0,VLOOKUP(L725,[1]Choix14!$M$2:$N$14,2,FALSE)&LEFT(O725,4)&RIGHT(LEFT(O725,LEN(O725)-1),2)))*1","v":0},{"$nulls":6}," Simon Despres",{"$nulls":7},0,0]
[{"$f":"(IF(ISERROR(VLOOKUP(G726,[1]Choix14!$M$2:$N$14,2,FALSE)&LEFT(J726,4)&RIGHT(LEFT(J726,LEN(J726)-1),2)),0,VLOOKUP(G726,[1]Choix14!$M$2:$N$14,2,FALSE)&LEFT(J726,4)&RIGHT(LEFT(J726,LEN(J726)-1),2)))*1","v":0},{"$f":"(IF(ISERROR(VLOOKUP(L726,[1]Choix14!$M$2:$N$14,2,FALSE)&LEFT(O726,4)&RIGHT(LEFT(O726,LEN(O726)-1),2)),0,VLOOKUP(L726,[1]Choix14!$M$2:$N$14,2,FALSE)&LEFT(O726,4)&RIGHT(LEFT(O726,LEN(O726)-1),2)))*1","v":0},{"$nulls":6}," J.T. Brown",{"$nulls":7},0,0]
[{"$f":"(IF(ISERROR(VLOOKUP(G727,[1]Choix14!$M$2:$N$14,2,FALSE)&LEFT(J727,4)&RIGHT(LEFT(J727,LEN(J727)-1),2)),0,VLOOKUP(G727,[1]Choix14!$M$2:$N$14,2,FALSE)&LEFT(J727,4)&RIGHT(LEFT(J727,LEN(J727)-1),2)))*1","v":0},{"$f":"(IF(ISERROR(VLOOKUP(L727,[1]Choix14!$M$2:$N$14,2,FALSE)&LEFT(O727,4)&RIGHT(LEFT(O727,LEN(O727)-1),2)),0,VLOOKUP(L727,[1]Choix14!$M$2:$N$14,2,FALSE)&LEFT(O727,4)&RIGHT(LEFT(O727,LEN(O727)-1),2)))*1","v":0},{"$nulls":6}," Ryan Murray",{"$nulls":7},0,0]
[{"$f":"(IF(ISERROR(VLOOKUP(G728,[1]Choix14!$M$2:$N$14,2,FALSE)&LEFT(J728,4)&RIGHT(LEFT(J728,LEN(J728)-1),2)),0,VLOOKUP(G728,[1]Choix14!$M$2:$N$14,2,FALSE)&LEFT(J728,4)&RIGHT(LEFT(J728,LEN(J728)-1),2)))*1","v":0},{"$f":"(IF(ISERROR(VLOOKUP(L728,[1]Choix14!$M$2:$N$14,2,FALSE)&LEFT(O728,4)&RIGHT(LEFT(O728,LEN(O728)-1),2)),0,VLOOKUP(L728,[1]Choix14!$M$2:$N$14,2,FALSE)&LEFT(O728,4)&RIGHT(LEFT(O728,LEN(O728)-1),2)))*1","v":0},{"$nulls":6}," Matt Martin",{"$nulls":7},0,0]
[{"$f":"(IF(ISERROR(VLOOKUP(G729,[1]Choix14!$M$2:$N$14,2,FALSE)&LEFT(J729,4)&RIGHT(LEFT(J729,LEN(J729)-1),2)),0,VLOOKUP(G729,[1]Choix14!$M$2:$N$14,2,FALSE)&LEFT(J729,4)&RIGHT(LEFT(J729,LEN(J729)-1),2)))*1","v":0},{"$f":"(IF(ISERROR(VLOOKUP(L729,[1]Choix14!$M$2:$N$14,2,FALSE)&LEFT(O729,4)&RIGHT(LEFT(O729,LEN(O729)-1),2)),0,VLOOKUP(L729,[1]Choix14!$M$2:$N$14,2,FALSE)&LEFT(O729,4)&RIGHT(LEFT(O729,LEN(O729)-1),2)))*1","v":0},{"$nulls":6}," Kyle Clifford",{"$nulls":7},0,0]
[{"$f":"(IF(ISERROR(VLOOKUP(G730,[1]Choix14!$M$2:$N$14,2,FALSE)&LEFT(J730,4)&RIGHT(LEFT(J730,LEN(J730)-1),2)),0,VLOOKUP(G730,[1]Choix14!$M$2:$N$14,2,FALSE)&LEFT(J730,4)&RIGHT(LEFT(J730,LEN(J730)-1),2)))*1","v":0},{"$f":"(IF(ISERROR(VLOOKUP(L730,[1]Choix14!$M$2:$N$14,2,FALSE)&LEFT(O730,4)&RIGHT(LEFT(O730,LEN(O730)-1),2)),0,VLOOKUP(L730,[1]Choix14!$M$2:$N$14,2,FALSE)&LEFT(O730,4)&RIGHT(LEFT(O730,LEN(O730)-1),2)))*1","v":0},{"$nulls":6}," Brian Dumoulin",{"$nulls":7},0,0]
[{"$f":"(IF(ISERROR(VLOOKUP(G731,[1]Choix14!$M$2:$N$14,2,FALSE)&LEFT(J731,4)&RIGHT(LEFT(J731,LEN(J731)-1),2)),0,VLOOKUP(G731,[1]Choix14!$M$2:$N$14,2,FALSE)&LEFT(J731,4)&RIGHT(LEFT(J731,LEN(J731)-1),2)))*1","v":0},{"$f":"(IF(ISERROR(VLOOKUP(L731,[1]Choix14!$M$2:$N$14,2,FALSE)&LEFT(O731,4)&RIGHT(LEFT(O731,LEN(O731)-1),2)),0,VLOOKUP(L731,[1]Choix14!$M$2:$N$14,2,FALSE)&LEFT(O731,4)&RIGHT(LEFT(O731,LEN(O731)-1),2)))*1","v":0},{"$nulls":6}," Robert Bortuzzo",{"$nulls":7},0,0]
[{"$f":"(IF(ISERROR(VLOOKUP(G732,[1]Choix14!$M$2:$N$14,2,FALSE)&LEFT(J732,4)&RIGHT(LEFT(J732,LEN(J732)-1),2)),0,VLOOKUP(G732,[1]Choix14!$M$2:$N$14,2,FALSE)&LEFT(J732,4)&RIGHT(LEFT(J732,LEN(J732)-1),2)))*1","v":0},{"$f":"(IF(ISERROR(VLOOKUP(L732,[1]Choix14!$M$2:$N$14,2,FALSE)&LEFT(O732,4)&RIGHT(LEFT(O732,LEN(O732)-1),2)),0,VLOOKUP(L732,[1]Choix14!$M$2:$N$14,2,FALSE)&LEFT(O732,4)&RIGHT(LEFT(O732,LEN(O732)-1),2)))*1","v":0},{"$nulls":6}," Derrick Pouliot",{"$nulls":7},0,0]
[{"$f":"(IF(ISERROR(VLOOKUP(G733,[1]Choix14!$M$2:$N$14,2,FALSE)&LEFT(J733,4)&RIGHT(LEFT(J733,LEN(J733)-1),2)),0,VLOOKUP(G733,[1]Choix14!$M$2:$N$14,2,FALSE)&LEFT(J733,4)&RIGHT(LEFT(J733,LEN(J733)-1),2)))*1","v":0},{"$f":"(IF(ISERROR(VLOOKUP(L733,[1]Choix14!$M$2:$N$14,2,FALSE)&LEFT(O733,4)&RIGHT(LEFT(O733,LEN(O733)-1),2)),0,VLOOKUP(L733,[1]Choix14!$M$2:$N$14,2,FALSE)&LEFT(O733,4)&RIGHT(LEFT(O733,LEN(O733)-1),2)))*1","v":0},{"$nulls":6}," Jimmy Hayes",{"$nulls":7},0,0]
[{"$f":"(IF(ISERROR(VLOOKUP(G734,[1]Choix14!$M$2:$N$14,2,FALSE)&LEFT(J734,4)&RIGHT(LEFT(J734,LEN(J734)-1),2)),0,VLOOKUP(G734,[1]Choix14!$M$2:$N$14,2,FALSE)&LEFT(J734,4)&RIGHT(LEFT(J734,LEN(J734)-1),2)))*1","v":0},{"$f":"(IF(ISERROR(VLOOKUP(L734,[1]Choix14!$M$2:$N$14,2,FALSE)&LEFT(O734,4)&RIGHT(LEFT(O734,LEN(O734)-1),2)),0,VLOOKUP(L734,[1]Choix14!$M$2:$N$14,2,FALSE)&LEFT(O734,4)&RIGHT(LEFT(O734,LEN(O734)-1),2)))*1","v":0},{"$nulls":6}," Tom Wilson",{"$nulls":7},0,0]
[{"$f":"(IF(ISERROR(VLOOKUP(G735,[1]Choix14!$M$2:$N$14,2,FALSE)&LEFT(J735,4)&RIGHT(LEFT(J735,LEN(J735)-1),2)),0,VLOOKUP(G735,[1]Choix14!$M$2:$N$14,2,FALSE)&LEFT(J735,4)&RIGHT(LEFT(J735,LEN(J735)-1),2)))*1","v":0},{"$f":"(IF(ISERROR(VLOOKUP(L735,[1]Choix14!$M$2:$N$14,2,FALSE)&LEFT(O735,4)&RIGHT(LEFT(O735,LEN(O735)-1),2)),0,VLOOKUP(L735,[1]Choix14!$M$2:$N$14,2,FALSE)&LEFT(O735,4)&RIGHT(LEFT(O735,LEN(O735)-1),2)))*1","v":0},{"$nulls":6}," Brayden Schenn",{"$nulls":7},0,0]
[{"$f":"(IF(ISERROR(VLOOKUP(G736,[1]Choix14!$M$2:$N$14,2,FALSE)&LEFT(J736,4)&RIGHT(LEFT(J736,LEN(J736)-1),2)),0,VLOOKUP(G736,[1]Choix14!$M$2:$N$14,2,FALSE)&LEFT(J736,4)&RIGHT(LEFT(J736,LEN(J736)-1),2)))*1","v":0},{"$f":"(IF(ISERROR(VLOOKUP(L736,[1]Choix14!$M$2:$N$14,2,FALSE)&LEFT(O736,4)&RIGHT(LEFT(O736,LEN(O736)-1),2)),0,VLOOKUP(L736,[1]Choix14!$M$2:$N$14,2,FALSE)&LEFT(O736,4)&RIGHT(LEFT(O736,LEN(O736)-1),2)))*1","v":0},{"$nulls":6}," Evander Kane",{"$nulls":7},0,0]
[{"$f":"(IF(ISERROR(VLOOKUP(G737,[1]Choix14!$M$2:$N$14,2,FALSE)&LEFT(J737,4)&RIGHT(LEFT(J737,LEN(J737)-1),2)),0,VLOOKUP(G737,[1]Choix14!$M$2:$N$14,2,FALSE)&LEFT(J737,4)&RIGHT(LEFT(J737,LEN(J737)-1),2)))*1","v":0},{"$f":"(IF(ISERROR(VLOOKUP(L737,[1]Choix14!$M$2:$N$14,2,FALSE)&LEFT(O737,4)&RIGHT(LEFT(O737,LEN(O737)-1),2)),0,VLOOKUP(L737,[1]Choix14!$M$2:$N$14,2,FALSE)&LEFT(O737,4)&RIGHT(LEFT(O737,LEN(O737)-1),2)))*1","v":0},{"$nulls":6}," David Warsofsky",{"$nulls":7},0,0]
[{"$f":"(IF(ISERROR(VLOOKUP(G738,[1]Choix14!$M$2:$N$14,2,FALSE)&LEFT(J738,4)&RIGHT(LEFT(J738,LEN(J738)-1),2)),0,VLOOKUP(G738,[1]Choix14!$M$2:$N$14,2,FALSE)&LEFT(J738,4)&RIGHT(LEFT(J738,LEN(J738)-1),2)))*1","v":0},{"$f":"(IF(ISERROR(VLOOKUP(L738,[1]Choix14!$M$2:$N$14,2,FALSE)&LEFT(O738,4)&RIGHT(LEFT(O738,LEN(O738)-1),2)),0,VLOOKUP(L738,[1]Choix14!$M$2:$N$14,2,FALSE)&LEFT(O738,4)&RIGHT(LEFT(O738,LEN(O738)-1),2)))*1","v":0},{"$nulls":6}," Mike Reilly",{"$nulls":7},0,0]
[{"$f":"(IF(ISERROR(VLOOKUP(G739,[1]Choix14!$M$2:$N$14,2,FALSE)&LEFT(J739,4)&RIGHT(LEFT(J739,LEN(J739)-1),2)),0,VLOOKUP(G739,[1]Choix14!$M$2:$N$14,2,FALSE)&LEFT(J739,4)&RIGHT(LEFT(J739,LEN(J739)-1),2)))*1","v":0},{"$f":"(IF(ISERROR(VLOOKUP(L739,[1]Choix14!$M$2:$N$14,2,FALSE)&LEFT(O739,4)&RIGHT(LEFT(O739,LEN(O739)-1),2)),0,VLOOKUP(L739,[1]Choix14!$M$2:$N$14,2,FALSE)&LEFT(O739,4)&RIGHT(LEFT(O739,LEN(O739)-1),2)))*1","v":0},{"$nulls":6}," Reid Boucher",{"$nulls":7},0,0]
[{"$f":"(IF(ISERROR(VLOOKUP(G740,[1]Choix14!$M$2:$N$14,2,FALSE)&LEFT(J740,4)&RIGHT(LEFT(J740,LEN(J740)-1),2)),0,VLOOKUP(G740,[1]Choix14!$M$2:$N$14,2,FALSE)&LEFT(J740,4)&RIGHT(LEFT(J740,LEN(J740)-1),2)))*1","v":0},{"$f":"(IF(ISERROR(VLOOKUP(L740,[1]Choix14!$M$2:$N$14,2,FALSE)&LEFT(O740,4)&RIGHT(LEFT(O740,LEN(O740)-1),2)),0,VLOOKUP(L740,[1]Choix14!$M$2:$N$14,2,FALSE)&LEFT(O740,4)&RIGHT(LEFT(O740,LEN(O740)-1),2)))*1","v":0},{"$nulls":6}," Dmitry Kulikov",{"$nulls":7},0,0]
[{"$f":"(IF(ISERROR(VLOOKUP(G741,[1]Choix14!$M$2:$N$14,2,FALSE)&LEFT(J741,4)&RIGHT(LEFT(J741,LEN(J741)-1),2)),0,VLOOKUP(G741,[1]Choix14!$M$2:$N$14,2,FALSE)&LEFT(J741,4)&RIGHT(LEFT(J741,LEN(J741)-1),2)))*1","v":0},{"$f":"(IF(ISERROR(VLOOKUP(L741,[1]Choix14!$M$2:$N$14,2,FALSE)&LEFT(O741,4)&RIGHT(LEFT(O741,LEN(O741)-1),2)),0,VLOOKUP(L741,[1]Choix14!$M$2:$N$14,2,FALSE)&LEFT(O741,4)&RIGHT(LEFT(O741,LEN(O741)-1),2)))*1","v":0},{"$nulls":6}," Joseph Cramarossa",{"$nulls":7},0,0]
[{"$f":"(IF(ISERROR(VLOOKUP(G742,[1]Choix14!$M$2:$N$14,2,FALSE)&LEFT(J742,4)&RIGHT(LEFT(J742,LEN(J742)-1),2)),0,VLOOKUP(G742,[1]Choix14!$M$2:$N$14,2,FALSE)&LEFT(J742,4)&RIGHT(LEFT(J742,LEN(J742)-1),2)))*1","v":0},{"$f":"(IF(ISERROR(VLOOKUP(L742,[1]Choix14!$M$2:$N$14,2,FALSE)&LEFT(O742,4)&RIGHT(LEFT(O742,LEN(O742)-1),2)),0,VLOOKUP(L742,[1]Choix14!$M$2:$N$14,2,FALSE)&LEFT(O742,4)&RIGHT(LEFT(O742,LEN(O742)-1),2)))*1","v":0},{"$nulls":6}," Gemel Smith",{"$nulls":7},0,0]
[{"$f":"(IF(ISERROR(VLOOKUP(G743,[1]Choix14!$M$2:$N$14,2,FALSE)&LEFT(J743,4)&RIGHT(LEFT(J743,LEN(J743)-1),2)),0,VLOOKUP(G743,[1]Choix14!$M$2:$N$14,2,FALSE)&LEFT(J743,4)&RIGHT(LEFT(J743,LEN(J743)-1),2)))*1","v":0},{"$f":"(IF(ISERROR(VLOOKUP(L743,[1]Choix14!$M$2:$N$14,2,FALSE)&LEFT(O743,4)&RIGHT(LEFT(O743,LEN(O743)-1),2)),0,VLOOKUP(L743,[1]Choix14!$M$2:$N$14,2,FALSE)&LEFT(O743,4)&RIGHT(LEFT(O743,LEN(O743)-1),2)))*1","v":0},{"$nulls":6}," Trevor Smith",{"$nulls":7},0,0]
[{"$f":"(IF(ISERROR(VLOOKUP(G744,[1]Choix14!$M$2:$N$14,2,FALSE)&LEFT(J744,4)&RIGHT(LEFT(J744,LEN(J744)-1),2)),0,VLOOKUP(G744,[1]Choix14!$M$2:$N$14,2,FALSE)&LEFT(J744,4)&RIGHT(LEFT(J744,LEN(J744)-1),2)))*1","v":0},{"$f":"(IF(ISERROR(VLOOKUP(L744,[1]Choix14!$M$2:$N$14,2,FALSE)&LEFT(O744,4)&RIGHT(LEFT(O744,LEN(O744)-1),2)),0,VLOOKUP(L744,[1]Choix14!$M$2:$N$14,2,FALSE)&LEFT(O744,4)&RIGHT(LEFT(O744,LEN(O744)-1),2)))*1","v":0},{"$nulls":6}," Tom Sestito",{"$nulls":7},0,0]
[{"$f":"(IF(ISERROR(VLOOKUP(G745,[1]Choix14!$M$2:$N$14,2,FALSE)&LEFT(J745,4)&RIGHT(LEFT(J745,LEN(J745)-1),2)),0,VLOOKUP(G745,[1]Choix14!$M$2:$N$14,2,FALSE)&LEFT(J745,4)&RIGHT(LEFT(J745,LEN(J745)-1),2)))*1","v":0},{"$f":"(IF(ISERROR(VLOOKUP(L745,[1]Choix14!$M$2:$N$14,2,FALSE)&LEFT(O745,4)&RIGHT(LEFT(O745,LEN(O745)-1),2)),0,VLOOKUP(L745,[1]Choix14!$M$2:$N$14,2,FALSE)&LEFT(O745,4)&RIGHT(LEFT(O745,LEN(O745)-1),2)))*1","v":0},{"$nulls":6}," Mason Raymond",{"$nulls":7},0,0]
[{"$f":"(IF(ISERROR(VLOOKUP(G746,[1]Choix14!$M$2:$N$14,2,FALSE)&LEFT(J746,4)&RIGHT(LEFT(J746,LEN(J746)-1),2)),0,VLOOKUP(G746,[1]Choix14!$M$2:$N$14,2,FALSE)&LEFT(J746,4)&RIGHT(LEFT(J746,LEN(J746)-1),2)))*1","v":0},{"$f":"(IF(ISERROR(VLOOKUP(L746,[1]Choix14!$M$2:$N$14,2,FALSE)&LEFT(O746,4)&RIGHT(LEFT(O746,LEN(O746)-1),2)),0,VLOOKUP(L746,[1]Choix14!$M$2:$N$14,2,FALSE)&LEFT(O746,4)&RIGHT(LEFT(O746,LEN(O746)-1),2)))*1","v":0},{"$nulls":6}," Patrik Nemeth",{"$nulls":7},0,0]
[{"$f":"(IF(ISERROR(VLOOKUP(G747,[1]Choix14!$M$2:$N$14,2,FALSE)&LEFT(J747,4)&RIGHT(LEFT(J747,LEN(J747)-1),2)),0,VLOOKUP(G747,[1]Choix14!$M$2:$N$14,2,FALSE)&LEFT(J747,4)&RIGHT(LEFT(J747,LEN(J747)-1),2)))*1","v":0},{"$f":"(IF(ISERROR(VLOOKUP(L747,[1]Choix14!$M$2:$N$14,2,FALSE)&LEFT(O747,4)&RIGHT(LEFT(O747,LEN(O747)-1),2)),0,VLOOKUP(L747,[1]Choix14!$M$2:$N$14,2,FALSE)&LEFT(O747,4)&RIGHT(LEFT(O747,LEN(O747)-1),2)))*1","v":0},{"$nulls":6}," Emerson Etem",{"$nulls":7},0,0]
[{"$f":"(IF(ISERROR(VLOOKUP(G748,[1]Choix14!$M$2:$N$14,2,FALSE)&LEFT(J748,4)&RIGHT(LEFT(J748,LEN(J748)-1),2)),0,VLOOKUP(G748,[1]Choix14!$M$2:$N$14,2,FALSE)&LEFT(J748,4)&RIGHT(LEFT(J748,LEN(J748)-1),2)))*1","v":0},{"$f":"(IF(ISERROR(VLOOKUP(L748,[1]Choix14!$M$2:$N$14,2,FALSE)&LEFT(O748,4)&RIGHT(LEFT(O748,LEN(O748)-1),2)),0,VLOOKUP(L748,[1]Choix14!$M$2:$N$14,2,FALSE)&LEFT(O748,4)&RIGHT(LEFT(O748,LEN(O748)-1),2)))*1","v":0},{"$nulls":6}," Ryan Reaves",{"$nulls":7},0,0]
[{"$f":"(IF(ISERROR(VLOOKUP(G749,[1]Choix14!$M$2:$N$14,2,FALSE)&LEFT(J749,4)&RIGHT(LEFT(J749,LEN(J749)-1),2)),0,VLOOKUP(G749,[1]Choix14!$M$2:$N$14,2,FALSE)&LEFT(J749,4)&RIGHT(LEFT(J749,LEN(J749)-1),2)))*1","v":0},{"$f":"(IF(ISERROR(VLOOKUP(L749,[1]Choix14!$M$2:$N$14,2,FALSE)&LEFT(O749,4)&RIGHT(LEFT(O749,LEN(O749)-1),2)),0,VLOOKUP(L749,[1]Choix14!$M$2:$N$14,2,FALSE)&LEFT(O749,4)&RIGHT(LEFT(O749,LEN(O749)-1),2)))*1","v":0},{"$nulls":6}," Mark Pysyk",{"$nulls":7},0,0]
[{"$f":"(IF(ISERROR(VLOOKUP(G750,[1]Choix14!$M$2:$N$14,2,FALSE)&LEFT(J750,4)&RIGHT(LEFT(J750,LEN(J750)-1),2)),0,VLOOKUP(G750,[1]Choix14!$M$2:$N$14,2,FALSE)&LEFT(J750,4)&RIGHT(LEFT(J750,LEN(J750)-1),2)))*1","v":0},{"$f":"(IF(ISERROR(VLOOKUP(L750,[1]Choix14!$M$2:$N$14,2,FALSE)&LEFT(O750,4)&RIGHT(LEFT(O750,LEN(O750)-1),2)),0,VLOOKUP(L750,[1]Choix14!$M$2:$N$14,2,FALSE)&LEFT(O750,4)&RIGHT(LEFT(O750,LEN(O750)-1),2)))*1","v":0},{"$nulls":6}," Teddy Purcell",{"$nulls":7},0,0]
[{"$f":"(IF(ISERROR(VLOOKUP(G751,[1]Choix14!$M$2:$N$14,2,FALSE)&LEFT(J751,4)&RIGHT(LEFT(J751,LEN(J751)-1),2)),0,VLOOKUP(G751,[1]Choix14!$M$2:$N$14,2,FALSE)&LEFT(J751,4)&RIGHT(LEFT(J751,LEN(J751)-1),2)))*1","v":0},{"$f":"(IF(ISERROR(VLOOKUP(L751,[1]Choix14!$M$2:$N$14,2,FALSE)&LEFT(O751,4)&RIGHT(LEFT(O751,LEN(O751)-1),2)),0,VLOOKUP(L751,[1]Choix14!$M$2:$N$14,2,FALSE)&LEFT(O751,4)&RIGHT(LEFT(O751,LEN(O751)-1),2)))*1","v":0},{"$nulls":6}," Devante Smith-Pelly",{"$nulls":7},0,0]
[{"$f":"(IF(ISERROR(VLOOKUP(G752,[1]Choix14!$M$2:$N$14,2,FALSE)&LEFT(J752,4)&RIGHT(LEFT(J752,LEN(J752)-1),2)),0,VLOOKUP(G752,[1]Choix14!$M$2:$N$14,2,FALSE)&LEFT(J752,4)&RIGHT(LEFT(J752,LEN(J752)-1),2)))*1","v":0},{"$f":"(IF(ISERROR(VLOOKUP(L752,[1]Choix14!$M$2:$N$14,2,FALSE)&LEFT(O752,4)&RIGHT(LEFT(O752,LEN(O752)-1),2)),0,VLOOKUP(L752,[1]Choix14!$M$2:$N$14,2,FALSE)&LEFT(O752,4)&RIGHT(LEFT(O752,LEN(O752)-1),2)))*1","v":0},{"$nulls":6}," Phil Varone",{"$nulls":7},0,0]
[{"$f":"(IF(ISERROR(VLOOKUP(G753,[1]Choix14!$M$2:$N$14,2,FALSE)&LEFT(J753,4)&RIGHT(LEFT(J753,LEN(J753)-1),2)),0,VLOOKUP(G753,[1]Choix14!$M$2:$N$14,2,FALSE)&LEFT(J753,4)&RIGHT(LEFT(J753,LEN(J753)-1),2)))*1","v":0},{"$f":"(IF(ISERROR(VLOOKUP(L753,[1]Choix14!$M$2:$N$14,2,FALSE)&LEFT(O753,4)&RIGHT(LEFT(O753,LEN(O753)-1),2)),0,VLOOKUP(L753,[1]Choix14!$M$2:$N$14,2,FALSE)&LEFT(O753,4)&RIGHT(LEFT(O753,LEN(O753)-1),2)))*1","v":0},{"$nulls":6}," Oscar Lindberg",{"$nulls":7},0,0]
[{"$f":"(IF(ISERROR(VLOOKUP(G754,[1]Choix14!$M$2:$N$14,2,FALSE)&LEFT(J754,4)&RIGHT(LEFT(J754,LEN(J754)-1),2)),0,VLOOKUP(G754,[1]Choix14!$M$2:$N$14,2,FALSE)&LEFT(J754,4)&RIGHT(LEFT(J754,LEN(J754)-1),2)))*1","v":0},{"$f":"(IF(ISERROR(VLOOKUP(L754,[1]Choix14!$M$2:$N$14,2,FALSE)&LEFT(O754,4)&RIGHT(LEFT(O754,LEN(O754)-1),2)),0,VLOOKUP(L754,[1]Choix14!$M$2:$N$14,2,FALSE)&LEFT(O754,4)&RIGHT(LEFT(O754,LEN(O754)-1),2)))*1","v":0},{"$nulls":6}," Ty Rattie",{"$nulls":7},0,0]
[{"$f":"(IF(ISERROR(VLOOKUP(G755,[1]Choix14!$M$2:$N$14,2,FALSE)&LEFT(J755,4)&RIGHT(LEFT(J755,LEN(J755)-1),2)),0,VLOOKUP(G755,[1]Choix14!$M$2:$N$14,2,FALSE)&LEFT(J755,4)&RIGHT(LEFT(J755,LEN(J755)-1),2)))*1","v":0},{"$f":"(IF(ISERROR(VLOOKUP(L755,[1]Choix14!$M$2:$N$14,2,FALSE)&LEFT(O755,4)&RIGHT(LEFT(O755,LEN(O755)-1),2)),0,VLOOKUP(L755,[1]Choix14!$M$2:$N$14,2,FALSE)&LEFT(O755,4)&RIGHT(LEFT(O755,LEN(O755)-1),2)))*1","v":0},{"$nulls":6}," Trevor Lewis",{"$nulls":7},0,0]
[{"$f":"(IF(ISERROR(VLOOKUP(G756,[1]Choix14!$M$2:$N$14,2,FALSE)&LEFT(J756,4)&RIGHT(LEFT(J756,LEN(J756)-1),2)),0,VLOOKUP(G756,[1]Choix14!$M$2:$N$14,2,FALSE)&LEFT(J756,4)&RIGHT(LEFT(J756,LEN(J756)-1),2)))*1","v":0},{"$f":"(IF(ISERROR(VLOOKUP(L756,[1]Choix14!$M$2:$N$14,2,FALSE)&LEFT(O756,4)&RIGHT(LEFT(O756,LEN(O756)-1),2)),0,VLOOKUP(L756,[1]Choix14!$M$2:$N$14,2,FALSE)&LEFT(O756,4)&RIGHT(LEFT(O756,LEN(O756)-1),2)))*1","v":0},{"$nulls":6}," Shea Theodore",{"$nulls":7},0,0]
[{"$f":"(IF(ISERROR(VLOOKUP(G757,[1]Choix14!$M$2:$N$14,2,FALSE)&LEFT(J757,4)&RIGHT(LEFT(J757,LEN(J757)-1),2)),0,VLOOKUP(G757,[1]Choix14!$M$2:$N$14,2,FALSE)&LEFT(J757,4)&RIGHT(LEFT(J757,LEN(J757)-1),2)))*1","v":0},{"$f":"(IF(ISERROR(VLOOKUP(L757,[1]Choix14!$M$2:$N$14,2,FALSE)&LEFT(O757,4)&RIGHT(LEFT(O757,LEN(O757)-1),2)),0,VLOOKUP(L757,[1]Choix14!$M$2:$N$14,2,FALSE)&LEFT(O757,4)&RIGHT(LEFT(O757,LEN(O757)-1),2)))*1","v":0},{"$nulls":6}," Rob O'Gara",{"$nulls":7},0,0]
[{"$f":"(IF(ISERROR(VLOOKUP(G758,[1]Choix14!$M$2:$N$14,2,FALSE)&LEFT(J758,4)&RIGHT(LEFT(J758,LEN(J758)-1),2)),0,VLOOKUP(G758,[1]Choix14!$M$2:$N$14,2,FALSE)&LEFT(J758,4)&RIGHT(LEFT(J758,LEN(J758)-1),2)))*1","v":0},{"$f":"(IF(ISERROR(VLOOKUP(L758,[1]Choix14!$M$2:$N$14,2,FALSE)&LEFT(O758,4)&RIGHT(LEFT(O758,LEN(O758)-1),2)),0,VLOOKUP(L758,[1]Choix14!$M$2:$N$14,2,FALSE)&LEFT(O758,4)&RIGHT(LEFT(O758,LEN(O758)-1),2)))*1","v":0},{"$nulls":6}," Ryan Pulock",{"$nulls":7},0,0]
[{"$f":"(IF(ISERROR(VLOOKUP(G759,[1]Choix14!$M$2:$N$14,2,FALSE)&LEFT(J759,4)&RIGHT(LEFT(J759,LEN(J759)-1),2)),0,VLOOKUP(G759,[1]Choix14!$M$2:$N$14,2,FALSE)&LEFT(J759,4)&RIGHT(LEFT(J759,LEN(J759)-1),2)))*1","v":0},{"$f":"(IF(ISERROR(VLOOKUP(L759,[1]Choix14!$M$2:$N$14,2,FALSE)&LEFT(O759,4)&RIGHT(LEFT(O759,LEN(O759)-1),2)),0,VLOOKUP(L759,[1]Choix14!$M$2:$N$14,2,FALSE)&LEFT(O759,4)&RIGHT(LEFT(O759,LEN(O759)-1),2)))*1","v":0},{"$nulls":6}," Cody McLeod",{"$nulls":7},0,0]
[{"$f":"(IF(ISERROR(VLOOKUP(G760,[1]Choix14!$M$2:$N$14,2,FALSE)&LEFT(J760,4)&RIGHT(LEFT(J760,LEN(J760)-1),2)),0,VLOOKUP(G760,[1]Choix14!$M$2:$N$14,2,FALSE)&LEFT(J760,4)&RIGHT(LEFT(J760,LEN(J760)-1),2)))*1","v":0},{"$f":"(IF(ISERROR(VLOOKUP(L760,[1]Choix14!$M$2:$N$14,2,FALSE)&LEFT(O760,4)&RIGHT(LEFT(O760,LEN(O760)-1),2)),0,VLOOKUP(L760,[1]Choix14!$M$2:$N$14,2,FALSE)&LEFT(O760,4)&RIGHT(LEFT(O760,LEN(O760)-1),2)))*1","v":0},{"$nulls":6}," Torey Krug",{"$nulls":7},0,0]
[{"$f":"(IF(ISERROR(VLOOKUP(G761,[1]Choix14!$M$2:$N$14,2,FALSE)&LEFT(J761,4)&RIGHT(LEFT(J761,LEN(J761)-1),2)),0,VLOOKUP(G761,[1]Choix14!$M$2:$N$14,2,FALSE)&LEFT(J761,4)&RIGHT(LEFT(J761,LEN(J761)-1),2)))*1","v":0},{"$f":"(IF(ISERROR(VLOOKUP(L761,[1]Choix14!$M$2:$N$14,2,FALSE)&LEFT(O761,4)&RIGHT(LEFT(O761,LEN(O761)-1),2)),0,VLOOKUP(L761,[1]Choix14!$M$2:$N$14,2,FALSE)&LEFT(O761,4)&RIGHT(LEFT(O761,LEN(O761)-1),2)))*1","v":0},{"$nulls":6}," Sam Gagner",{"$nulls":7},0,0]
[{"$f":"(IF(ISERROR(VLOOKUP(G762,[1]Choix14!$M$2:$N$14,2,FALSE)&LEFT(J762,4)&RIGHT(LEFT(J762,LEN(J762)-1),2)),0,VLOOKUP(G762,[1]Choix14!$M$2:$N$14,2,FALSE)&LEFT(J762,4)&RIGHT(LEFT(J762,LEN(J762)-1),2)))*1","v":0},{"$f":"(IF(ISERROR(VLOOKUP(L762,[1]Choix14!$M$2:$N$14,2,FALSE)&LEFT(O762,4)&RIGHT(LEFT(O762,LEN(O762)-1),2)),0,VLOOKUP(L762,[1]Choix14!$M$2:$N$14,2,FALSE)&LEFT(O762,4)&RIGHT(LEFT(O762,LEN(O762)-1),2)))*1","v":0},{"$nulls":6}," Nate Prosser",{"$nulls":7},0,0]
[{"$f":"(IF(ISERROR(VLOOKUP(G763,[1]Choix14!$M$2:$N$14,2,FALSE)&LEFT(J763,4)&RIGHT(LEFT(J763,LEN(J763)-1),2)),0,VLOOKUP(G763,[1]Choix14!$M$2:$N$14,2,FALSE)&LEFT(J763,4)&RIGHT(LEFT(J763,LEN(J763)-1),2)))*1","v":0},{"$f":"(IF(ISERROR(VLOOKUP(L763,[1]Choix14!$M$2:$N$14,2,FALSE)&LEFT(O763,4)&RIGHT(LEFT(O763,LEN(O763)-1),2)),0,VLOOKUP(L763,[1]Choix14!$M$2:$N$14,2,FALSE)&LEFT(O763,4)&RIGHT(LEFT(O763,LEN(O763)-1),2)))*1","v":0},{"$nulls":6}," Derek Forbort",{"$nulls":7},0,0]
[{"$f":"(IF(ISERROR(VLOOKUP(G764,[1]Choix14!$M$2:$N$14,2,FALSE)&LEFT(J764,4)&RIGHT(LEFT(J764,LEN(J764)-1),2)),0,VLOOKUP(G764,[1]Choix14!$M$2:$N$14,2,FALSE)&LEFT(J764,4)&RIGHT(LEFT(J764,LEN(J764)-1),2)))*1","v":0},{"$f":"(IF(ISERROR(VLOOKUP(L764,[1]Choix14!$M$2:$N$14,2,FALSE)&LEFT(O764,4)&RIGHT(LEFT(O764,LEN(O764)-1),2)),0,VLOOKUP(L764,[1]Choix14!$M$2:$N$14,2,FALSE)&LEFT(O764,4)&RIGHT(LEFT(O764,LEN(O764)-1),2)))*1","v":0},{"$nulls":6}," Vinnie Hinostroza",{"$nulls":7},0,0]
[{"$f":"(IF(ISERROR(VLOOKUP(G765,[1]Choix14!$M$2:$N$14,2,FALSE)&LEFT(J765,4)&RIGHT(LEFT(J765,LEN(J765)-1),2)),0,VLOOKUP(G765,[1]Choix14!$M$2:$N$14,2,FALSE)&LEFT(J765,4)&RIGHT(LEFT(J765,LEN(J765)-1),2)))*1","v":0},{"$f":"(IF(ISERROR(VLOOKUP(L765,[1]Choix14!$M$2:$N$14,2,FALSE)&LEFT(O765,4)&RIGHT(LEFT(O765,LEN(O765)-1),2)),0,VLOOKUP(L765,[1]Choix14!$M$2:$N$14,2,FALSE)&LEFT(O765,4)&RIGHT(LEFT(O765,LEN(O765)-1),2)))*1","v":0},{"$nulls":6}," Matt Beleskey",{"$nulls":7},0,0]
[{"$f":"(IF(ISERROR(VLOOKUP(G766,[1]Choix14!$M$2:$N$14,2,FALSE)&LEFT(J766,4)&RIGHT(LEFT(J766,LEN(J766)-1),2)),0,VLOOKUP(G766,[1]Choix14!$M$2:$N$14,2,FALSE)&LEFT(J766,4)&RIGHT(LEFT(J766,LEN(J766)-1),2)))*1","v":0},{"$f":"(IF(ISERROR(VLOOKUP(L766,[1]Choix14!$M$2:$N$14,2,FALSE)&LEFT(O766,4)&RIGHT(LEFT(O766,LEN(O766)-1),2)),0,VLOOKUP(L766,[1]Choix14!$M$2:$N$14,2,FALSE)&LEFT(O766,4)&RIGHT(LEFT(O766,LEN(O766)-1),2)))*1","v":0},{"$nulls":6}," Zach Bogosian",{"$nulls":7},0,0]
[{"$f":"(IF(ISERROR(VLOOKUP(G767,[1]Choix14!$M$2:$N$14,2,FALSE)&LEFT(J767,4)&RIGHT(LEFT(J767,LEN(J767)-1),2)),0,VLOOKUP(G767,[1]Choix14!$M$2:$N$14,2,FALSE)&LEFT(J767,4)&RIGHT(LEFT(J767,LEN(J767)-1),2)))*1","v":0},{"$f":"(IF(ISERROR(VLOOKUP(L767,[1]Choix14!$M$2:$N$14,2,FALSE)&LEFT(O767,4)&RIGHT(LEFT(O767,LEN(O767)-1),2)),0,VLOOKUP(L767,[1]Choix14!$M$2:$N$14,2,FALSE)&LEFT(O767,4)&RIGHT(LEFT(O767,LEN(O767)-1),2)))*1","v":0},{"$nulls":6}," Dylan McIlrath",{"$nulls":7},0,0]
[{"$f":"(IF(ISERROR(VLOOKUP(G768,[1]Choix14!$M$2:$N$14,2,FALSE)&LEFT(J768,4)&RIGHT(LEFT(J768,LEN(J768)-1),2)),0,VLOOKUP(G768,[1]Choix14!$M$2:$N$14,2,FALSE)&LEFT(J768,4)&RIGHT(LEFT(J768,LEN(J768)-1),2)))*1","v":0},{"$f":"(IF(ISERROR(VLOOKUP(L768,[1]Choix14!$M$2:$N$14,2,FALSE)&LEFT(O768,4)&RIGHT(LEFT(O768,LEN(O768)-1),2)),0,VLOOKUP(L768,[1]Choix14!$M$2:$N$14,2,FALSE)&LEFT(O768,4)&RIGHT(LEFT(O768,LEN(O768)-1),2)))*1","v":0},{"$nulls":6}," Shane Prince",{"$nulls":7},0,0]
[{"$f":"(IF(ISERROR(VLOOKUP(G769,[1]Choix14!$M$2:$N$14,2,FALSE)&LEFT(J769,4)&RIGHT(LEFT(J769,LEN(J769)-1),2)),0,VLOOKUP(G769,[1]Choix14!$M$2:$N$14,2,FALSE)&LEFT(J769,4)&RIGHT(LEFT(J769,LEN(J769)-1),2)))*1","v":0},{"$f":"(IF(ISERROR(VLOOKUP(L769,[1]Choix14!$M$2:$N$14,2,FALSE)&LEFT(O769,4)&RIGHT(LEFT(O769,LEN(O769)-1),2)),0,VLOOKUP(L769,[1]Choix14!$M$2:$N$14,2,FALSE)&LEFT(O769,4)&RIGHT(LEFT(O769,LEN(O769)-1),2)))*1","v":0},{"$nulls":6}," Luke Schenn",{"$nulls":7},0,0]
[{"$f":"(IF(ISERROR(VLOOKUP(G770,[1]Choix14!$M$2:$N$14,2,FALSE)&LEFT(J770,4)&RIGHT(LEFT(J770,LEN(J770)-1),2)),0,VLOOKUP(G770,[1]Choix14!$M$2:$N$14,2,FALSE)&LEFT(J770,4)&RIGHT(LEFT(J770,LEN(J770)-1),2)))*1","v":0},{"$f":"(IF(ISERROR(VLOOKUP(L770,[1]Choix14!$M$2:$N$14,2,FALSE)&LEFT(O770,4)&RIGHT(LEFT(O770,LEN(O770)-1),2)),0,VLOOKUP(L770,[1]Choix14!$M$2:$N$14,2,FALSE)&LEFT(O770,4)&RIGHT(LEFT(O770,LEN(O770)-1),2)))*1","v":0},{"$nulls":6}," Andrej Sustr",{"$nulls":7},0,0]
[{"$f":"(IF(ISERROR(VLOOKUP(G771,[1]Choix14!$M$2:$N$14,2,FALSE)&LEFT(J771,4)&RIGHT(LEFT(J771,LEN(J771)-1),2)),0,VLOOKUP(G771,[1]Choix14!$M$2:$N$14,2,FALSE)&LEFT(J771,4)&RIGHT(LEFT(J771,LEN(J771)-1),2)))*1","v":0},{"$f":"(IF(ISERROR(VLOOKUP(L771,[1]Choix14!$M$2:$N$14,2,FALSE)&LEFT(O771,4)&RIGHT(LEFT(O771,LEN(O771)-1),2)),0,VLOOKUP(L771,[1]Choix14!$M$2:$N$14,2,FALSE)&LEFT(O771,4)&RIGHT(LEFT(O771,LEN(O771)-1),2)))*1","v":0},{"$nulls":6}," Austin Watson",{"$nulls":7},{"$f":"IF(A771<1,0,COUNTIF($A:$B,A771))","v":0},0]
[{"$f":"(IF(ISERROR(VLOOKUP(G772,[1]Choix14!$M$2:$N$14,2,FALSE)&LEFT(J772,4)&RIGHT(LEFT(J772,LEN(J772)-1),2)),0,VLOOKUP(G772,[1]Choix14!$M$2:$N$14,2,FALSE)&LEFT(J772,4)&RIGHT(LEFT(J772,LEN(J772)-1),2)))*1","v":0},{"$f":"(IF(ISERROR(VLOOKUP(L772,[1]Choix14!$M$2:$N$14,2,FALSE)&LEFT(O772,4)&RIGHT(LEFT(O772,LEN(O772)-1),2)),0,VLOOKUP(L772,[1]Choix14!$M$2:$N$14,2,FALSE)&LEFT(O772,4)&RIGHT(LEFT(O772,LEN(O772)-1),2)))*1","v":0},{"$nulls":6}," Riley Nash",{"$nulls":7},0,0]
[{"$f":"(IF(ISERROR(VLOOKUP(G773,[1]Choix14!$M$2:$N$14,2,FALSE)&LEFT(J773,4)&RIGHT(LEFT(J773,LEN(J773)-1),2)),0,VLOOKUP(G773,[1]Choix14!$M$2:$N$14,2,FALSE)&LEFT(J773,4)&RIGHT(LEFT(J773,LEN(J773)-1),2)))*1","v":0},{"$f":"(IF(ISERROR(VLOOKUP(L773,[1]Choix14!$M$2:$N$14,2,FALSE)&LEFT(O773,4)&RIGHT(LEFT(O773,LEN(O773)-1),2)),0,VLOOKUP(L773,[1]Choix14!$M$2:$N$14,2,FALSE)&LEFT(O773,4)&RIGHT(LEFT(O773,LEN(O773)-1),2)))*1","v":0},{"$nulls":6}," Beau Bennett",{"$nulls":7},0,0]
[{"$f":"(IF(ISERROR(VLOOKUP(G774,[1]Choix14!$M$2:$N$14,2,FALSE)&LEFT(J774,4)&RIGHT(LEFT(J774,LEN(J774)-1),2)),0,VLOOKUP(G774,[1]Choix14!$M$2:$N$14,2,FALSE)&LEFT(J774,4)&RIGHT(LEFT(J774,LEN(J774)-1),2)))*1","v":0},{"$f":"(IF(ISERROR(VLOOKUP(L774,[1]Choix14!$M$2:$N$14,2,FALSE)&LEFT(O774,4)&RIGHT(LEFT(O774,LEN(O774)-1),2)),0,VLOOKUP(L774,[1]Choix14!$M$2:$N$14,2,FALSE)&LEFT(O774,4)&RIGHT(LEFT(O774,LEN(O774)-1),2)))*1","v":0},{"$nulls":6}," Matt Nieto",{"$nulls":7},0,0]
[{"$f":"(IF(ISERROR(VLOOKUP(G775,[1]Choix14!$M$2:$N$14,2,FALSE)&LEFT(J775,4)&RIGHT(LEFT(J775,LEN(J775)-1),2)),0,VLOOKUP(G775,[1]Choix14!$M$2:$N$14,2,FALSE)&LEFT(J775,4)&RIGHT(LEFT(J775,LEN(J775)-1),2)))*1","v":0},{"$f":"(IF(ISERROR(VLOOKUP(L775,[1]Choix14!$M$2:$N$14,2,FALSE)&LEFT(O775,4)&RIGHT(LEFT(O775,LEN(O775)-1),2)),0,VLOOKUP(L775,[1]Choix14!$M$2:$N$14,2,FALSE)&LEFT(O775,4)&RIGHT(LEFT(O775,LEN(O775)-1),2)))*1","v":0},{"$nulls":6}," Brendan Smith",{"$nulls":7},0,0]
[{"$f":"(IF(ISERROR(VLOOKUP(G776,[1]Choix14!$M$2:$N$14,2,FALSE)&LEFT(J776,4)&RIGHT(LEFT(J776,LEN(J776)-1),2)),0,VLOOKUP(G776,[1]Choix14!$M$2:$N$14,2,FALSE)&LEFT(J776,4)&RIGHT(LEFT(J776,LEN(J776)-1),2)))*1","v":0},{"$f":"(IF(ISERROR(VLOOKUP(L776,[1]Choix14!$M$2:$N$14,2,FALSE)&LEFT(O776,4)&RIGHT(LEFT(O776,LEN(O776)-1),2)),0,VLOOKUP(L776,[1]Choix14!$M$2:$N$14,2,FALSE)&LEFT(O776,4)&RIGHT(LEFT(O776,LEN(O776)-1),2)))*1","v":0},{"$nulls":6}," Miikka Salomaki",{"$nulls":7},0,0]
[{"$f":"(IF(ISERROR(VLOOKUP(G777,[1]Choix14!$M$2:$N$14,2,FALSE)&LEFT(J777,4)&RIGHT(LEFT(J777,LEN(J777)-1),2)),0,VLOOKUP(G777,[1]Choix14!$M$2:$N$14,2,FALSE)&LEFT(J777,4)&RIGHT(LEFT(J777,LEN(J777)-1),2)))*1","v":0},{"$f":"(IF(ISERROR(VLOOKUP(L777,[1]Choix14!$M$2:$N$14,2,FALSE)&LEFT(O777,4)&RIGHT(LEFT(O777,LEN(O777)-1),2)),0,VLOOKUP(L777,[1]Choix14!$M$2:$N$14,2,FALSE)&LEFT(O777,4)&RIGHT(LEFT(O777,LEN(O777)-1),2)))*1","v":0},{"$nulls":6}," Ryan White",{"$nulls":7},0,0]
[{"$f":"(IF(ISERROR(VLOOKUP(G778,[1]Choix14!$M$2:$N$14,2,FALSE)&LEFT(J778,4)&RIGHT(LEFT(J778,LEN(J778)-1),2)),0,VLOOKUP(G778,[1]Choix14!$M$2:$N$14,2,FALSE)&LEFT(J778,4)&RIGHT(LEFT(J778,LEN(J778)-1),2)))*1","v":0},{"$f":"(IF(ISERROR(VLOOKUP(L778,[1]Choix14!$M$2:$N$14,2,FALSE)&LEFT(O778,4)&RIGHT(LEFT(O778,LEN(O778)-1),2)),0,VLOOKUP(L778,[1]Choix14!$M$2:$N$14,2,FALSE)&LEFT(O778,4)&RIGHT(LEFT(O778,LEN(O778)-1),2)))*1","v":0},{"$nulls":6}," David Schlemko",{"$nulls":7},0,0]
[{"$f":"(IF(ISERROR(VLOOKUP(G779,[1]Choix14!$M$2:$N$14,2,FALSE)&LEFT(J779,4)&RIGHT(LEFT(J779,LEN(J779)-1),2)),0,VLOOKUP(G779,[1]Choix14!$M$2:$N$14,2,FALSE)&LEFT(J779,4)&RIGHT(LEFT(J779,LEN(J779)-1),2)))*1","v":0},{"$f":"(IF(ISERROR(VLOOKUP(L779,[1]Choix14!$M$2:$N$14,2,FALSE)&LEFT(O779,4)&RIGHT(LEFT(O779,LEN(O779)-1),2)),0,VLOOKUP(L779,[1]Choix14!$M$2:$N$14,2,FALSE)&LEFT(O779,4)&RIGHT(LEFT(O779,LEN(O779)-1),2)))*1","v":0},{"$nulls":6}," Brian Flynn",{"$nulls":7},0,0]
[{"$f":"(IF(ISERROR(VLOOKUP(G780,[1]Choix14!$M$2:$N$14,2,FALSE)&LEFT(J780,4)&RIGHT(LEFT(J780,LEN(J780)-1),2)),0,VLOOKUP(G780,[1]Choix14!$M$2:$N$14,2,FALSE)&LEFT(J780,4)&RIGHT(LEFT(J780,LEN(J780)-1),2)))*1","v":0},{"$f":"(IF(ISERROR(VLOOKUP(L780,[1]Choix14!$M$2:$N$14,2,FALSE)&LEFT(O780,4)&RIGHT(LEFT(O780,LEN(O780)-1),2)),0,VLOOKUP(L780,[1]Choix14!$M$2:$N$14,2,FALSE)&LEFT(O780,4)&RIGHT(LEFT(O780,LEN(O780)-1),2)))*1","v":0},{"$nulls":6}," Justin Hodgman ",{"$nulls":7},0,0]
[{"$f":"(IF(ISERROR(VLOOKUP(G781,[1]Choix14!$M$2:$N$14,2,FALSE)&LEFT(J781,4)&RIGHT(LEFT(J781,LEN(J781)-1),2)),0,VLOOKUP(G781,[1]Choix14!$M$2:$N$14,2,FALSE)&LEFT(J781,4)&RIGHT(LEFT(J781,LEN(J781)-1),2)))*1","v":0},{"$f":"(IF(ISERROR(VLOOKUP(L781,[1]Choix14!$M$2:$N$14,2,FALSE)&LEFT(O781,4)&RIGHT(LEFT(O781,LEN(O781)-1),2)),0,VLOOKUP(L781,[1]Choix14!$M$2:$N$14,2,FALSE)&LEFT(O781,4)&RIGHT(LEFT(O781,LEN(O781)-1),2)))*1","v":0},{"$nulls":6}," Christian Folin ",{"$nulls":7},0,0]
[{"$f":"(IF(ISERROR(VLOOKUP(G782,[1]Choix14!$M$2:$N$14,2,FALSE)&LEFT(J782,4)&RIGHT(LEFT(J782,LEN(J782)-1),2)),0,VLOOKUP(G782,[1]Choix14!$M$2:$N$14,2,FALSE)&LEFT(J782,4)&RIGHT(LEFT(J782,LEN(J782)-1),2)))*1","v":0},{"$f":"(IF(ISERROR(VLOOKUP(L782,[1]Choix14!$M$2:$N$14,2,FALSE)&LEFT(O782,4)&RIGHT(LEFT(O782,LEN(O782)-1),2)),0,VLOOKUP(L782,[1]Choix14!$M$2:$N$14,2,FALSE)&LEFT(O782,4)&RIGHT(LEFT(O782,LEN(O782)-1),2)))*1","v":0},{"$nulls":6}," Martin Marincin ",{"$nulls":7},0,0]
[{"$f":"(IF(ISERROR(VLOOKUP(G783,[1]Choix14!$M$2:$N$14,2,FALSE)&LEFT(J783,4)&RIGHT(LEFT(J783,LEN(J783)-1),2)),0,VLOOKUP(G783,[1]Choix14!$M$2:$N$14,2,FALSE)&LEFT(J783,4)&RIGHT(LEFT(J783,LEN(J783)-1),2)))*1","v":0},{"$f":"(IF(ISERROR(VLOOKUP(L783,[1]Choix14!$M$2:$N$14,2,FALSE)&LEFT(O783,4)&RIGHT(LEFT(O783,LEN(O783)-1),2)),0,VLOOKUP(L783,[1]Choix14!$M$2:$N$14,2,FALSE)&LEFT(O783,4)&RIGHT(LEFT(O783,LEN(O783)-1),2)))*1","v":0},{"$nulls":6}," Matt Halischuk ",{"$nulls":7},0,0]
[{"$f":"(IF(ISERROR(VLOOKUP(G784,[1]Choix14!$M$2:$N$14,2,FALSE)&LEFT(J784,4)&RIGHT(LEFT(J784,LEN(J784)-1),2)),0,VLOOKUP(G784,[1]Choix14!$M$2:$N$14,2,FALSE)&LEFT(J784,4)&RIGHT(LEFT(J784,LEN(J784)-1),2)))*1","v":0},{"$f":"(IF(ISERROR(VLOOKUP(L784,[1]Choix14!$M$2:$N$14,2,FALSE)&LEFT(O784,4)&RIGHT(LEFT(O784,LEN(O784)-1),2)),0,VLOOKUP(L784,[1]Choix14!$M$2:$N$14,2,FALSE)&LEFT(O784,4)&RIGHT(LEFT(O784,LEN(O784)-1),2)))*1","v":0},{"$nulls":6}," Sam Reinhart ",{"$nulls":7},0,0]
[{"$f":"(IF(ISERROR(VLOOKUP(G785,[1]Choix14!$M$2:$N$14,2,FALSE)&LEFT(J785,4)&RIGHT(LEFT(J785,LEN(J785)-1),2)),0,VLOOKUP(G785,[1]Choix14!$M$2:$N$14,2,FALSE)&LEFT(J785,4)&RIGHT(LEFT(J785,LEN(J785)-1),2)))*1","v":0},{"$f":"(IF(ISERROR(VLOOKUP(L785,[1]Choix14!$M$2:$N$14,2,FALSE)&LEFT(O785,4)&RIGHT(LEFT(O785,LEN(O785)-1),2)),0,VLOOKUP(L785,[1]Choix14!$M$2:$N$14,2,FALSE)&LEFT(O785,4)&RIGHT(LEFT(O785,LEN(O785)-1),2)))*1","v":0},{"$nulls":6}," Peter Harrold ",{"$nulls":7},0,0]
[{"$f":"(IF(ISERROR(VLOOKUP(G786,[1]Choix14!$M$2:$N$14,2,FALSE)&LEFT(J786,4)&RIGHT(LEFT(J786,LEN(J786)-1),2)),0,VLOOKUP(G786,[1]Choix14!$M$2:$N$14,2,FALSE)&LEFT(J786,4)&RIGHT(LEFT(J786,LEN(J786)-1),2)))*1","v":0},{"$f":"(IF(ISERROR(VLOOKUP(L786,[1]Choix14!$M$2:$N$14,2,FALSE)&LEFT(O786,4)&RIGHT(LEFT(O786,LEN(O786)-1),2)),0,VLOOKUP(L786,[1]Choix14!$M$2:$N$14,2,FALSE)&LEFT(O786,4)&RIGHT(LEFT(O786,LEN(O786)-1),2)))*1","v":0},{"$nulls":6}," Trevor van Riemsdyk ",{"$nulls":7},0,0]
[{"$f":"(IF(ISERROR(VLOOKUP(G787,[1]Choix14!$M$2:$N$14,2,FALSE)&LEFT(J787,4)&RIGHT(LEFT(J787,LEN(J787)-1),2)),0,VLOOKUP(G787,[1]Choix14!$M$2:$N$14,2,FALSE)&LEFT(J787,4)&RIGHT(LEFT(J787,LEN(J787)-1),2)))*1","v":0},{"$f":"(IF(ISERROR(VLOOKUP(L787,[1]Choix14!$M$2:$N$14,2,FALSE)&LEFT(O787,4)&RIGHT(LEFT(O787,LEN(O787)-1),2)),0,VLOOKUP(L787,[1]Choix14!$M$2:$N$14,2,FALSE)&LEFT(O787,4)&RIGHT(LEFT(O787,LEN(O787)-1),2)))*1","v":0},{"$nulls":6}," Michael Ferland ",{"$nulls":7},0,0]
[{"$f":"(IF(ISERROR(VLOOKUP(G788,[1]Choix14!$M$2:$N$14,2,FALSE)&LEFT(J788,4)&RIGHT(LEFT(J788,LEN(J788)-1),2)),0,VLOOKUP(G788,[1]Choix14!$M$2:$N$14,2,FALSE)&LEFT(J788,4)&RIGHT(LEFT(J788,LEN(J788)-1),2)))*1","v":0},{"$f":"(IF(ISERROR(VLOOKUP(L788,[1]Choix14!$M$2:$N$14,2,FALSE)&LEFT(O788,4)&RIGHT(LEFT(O788,LEN(O788)-1),2)),0,VLOOKUP(L788,[1]Choix14!$M$2:$N$14,2,FALSE)&LEFT(O788,4)&RIGHT(LEFT(O788,LEN(O788)-1),2)))*1","v":0},{"$nulls":6}," Seth Helgeson ",{"$nulls":7},0,0]
[{"$f":"(IF(ISERROR(VLOOKUP(G789,[1]Choix14!$M$2:$N$14,2,FALSE)&LEFT(J789,4)&RIGHT(LEFT(J789,LEN(J789)-1),2)),0,VLOOKUP(G789,[1]Choix14!$M$2:$N$14,2,FALSE)&LEFT(J789,4)&RIGHT(LEFT(J789,LEN(J789)-1),2)))*1","v":0},{"$f":"(IF(ISERROR(VLOOKUP(L789,[1]Choix14!$M$2:$N$14,2,FALSE)&LEFT(O789,4)&RIGHT(LEFT(O789,LEN(O789)-1),2)),0,VLOOKUP(L789,[1]Choix14!$M$2:$N$14,2,FALSE)&LEFT(O789,4)&RIGHT(LEFT(O789,LEN(O789)-1),2)))*1","v":0},{"$nulls":6}," Adam Cracknell ",{"$nulls":7},0,0]
[{"$f":"(IF(ISERROR(VLOOKUP(G790,[1]Choix14!$M$2:$N$14,2,FALSE)&LEFT(J790,4)&RIGHT(LEFT(J790,LEN(J790)-1),2)),0,VLOOKUP(G790,[1]Choix14!$M$2:$N$14,2,FALSE)&LEFT(J790,4)&RIGHT(LEFT(J790,LEN(J790)-1),2)))*1","v":0},{"$f":"(IF(ISERROR(VLOOKUP(L790,[1]Choix14!$M$2:$N$14,2,FALSE)&LEFT(O790,4)&RIGHT(LEFT(O790,LEN(O790)-1),2)),0,VLOOKUP(L790,[1]Choix14!$M$2:$N$14,2,FALSE)&LEFT(O790,4)&RIGHT(LEFT(O790,LEN(O790)-1),2)))*1","v":0},{"$nulls":6}," David Pastrnak ",{"$nulls":7},0,0]
[{"$f":"(IF(ISERROR(VLOOKUP(G791,[1]Choix14!$M$2:$N$14,2,FALSE)&LEFT(J791,4)&RIGHT(LEFT(J791,LEN(J791)-1),2)),0,VLOOKUP(G791,[1]Choix14!$M$2:$N$14,2,FALSE)&LEFT(J791,4)&RIGHT(LEFT(J791,LEN(J791)-1),2)))*1","v":0},{"$f":"(IF(ISERROR(VLOOKUP(L791,[1]Choix14!$M$2:$N$14,2,FALSE)&LEFT(O791,4)&RIGHT(LEFT(O791,LEN(O791)-1),2)),0,VLOOKUP(L791,[1]Choix14!$M$2:$N$14,2,FALSE)&LEFT(O791,4)&RIGHT(LEFT(O791,LEN(O791)-1),2)))*1","v":0},{"$nulls":6}," Grant Clitsome ",{"$nulls":7},0,0]
[{"$f":"(IF(ISERROR(VLOOKUP(G792,[1]Choix14!$M$2:$N$14,2,FALSE)&LEFT(J792,4)&RIGHT(LEFT(J792,LEN(J792)-1),2)),0,VLOOKUP(G792,[1]Choix14!$M$2:$N$14,2,FALSE)&LEFT(J792,4)&RIGHT(LEFT(J792,LEN(J792)-1),2)))*1","v":0},{"$f":"(IF(ISERROR(VLOOKUP(L792,[1]Choix14!$M$2:$N$14,2,FALSE)&LEFT(O792,4)&RIGHT(LEFT(O792,LEN(O792)-1),2)),0,VLOOKUP(L792,[1]Choix14!$M$2:$N$14,2,FALSE)&LEFT(O792,4)&RIGHT(LEFT(O792,LEN(O792)-1),2)))*1","v":0},{"$nulls":6}," Chris Butler ",{"$nulls":7},0,0]
[{"$f":"(IF(ISERROR(VLOOKUP(G793,[1]Choix14!$M$2:$N$14,2,FALSE)&LEFT(J793,4)&RIGHT(LEFT(J793,LEN(J793)-1),2)),0,VLOOKUP(G793,[1]Choix14!$M$2:$N$14,2,FALSE)&LEFT(J793,4)&RIGHT(LEFT(J793,LEN(J793)-1),2)))*1","v":0},{"$f":"(IF(ISERROR(VLOOKUP(L793,[1]Choix14!$M$2:$N$14,2,FALSE)&LEFT(O793,4)&RIGHT(LEFT(O793,LEN(O793)-1),2)),0,VLOOKUP(L793,[1]Choix14!$M$2:$N$14,2,FALSE)&LEFT(O793,4)&RIGHT(LEFT(O793,LEN(O793)-1),2)))*1","v":0},{"$nulls":6}," Keith Ballard ",{"$nulls":7},0,0]
[{"$f":"(IF(ISERROR(VLOOKUP(G794,[1]Choix14!$M$2:$N$14,2,FALSE)&LEFT(J794,4)&RIGHT(LEFT(J794,LEN(J794)-1),2)),0,VLOOKUP(G794,[1]Choix14!$M$2:$N$14,2,FALSE)&LEFT(J794,4)&RIGHT(LEFT(J794,LEN(J794)-1),2)))*1","v":0},{"$f":"(IF(ISERROR(VLOOKUP(L794,[1]Choix14!$M$2:$N$14,2,FALSE)&LEFT(O794,4)&RIGHT(LEFT(O794,LEN(O794)-1),2)),0,VLOOKUP(L794,[1]Choix14!$M$2:$N$14,2,FALSE)&LEFT(O794,4)&RIGHT(LEFT(O794,LEN(O794)-1),2)))*1","v":0},{"$nulls":6}," Jim Slater ",{"$nulls":7},0,0]
[{"$f":"(IF(ISERROR(VLOOKUP(G795,[1]Choix14!$M$2:$N$14,2,FALSE)&LEFT(J795,4)&RIGHT(LEFT(J795,LEN(J795)-1),2)),0,VLOOKUP(G795,[1]Choix14!$M$2:$N$14,2,FALSE)&LEFT(J795,4)&RIGHT(LEFT(J795,LEN(J795)-1),2)))*1","v":0},{"$f":"(IF(ISERROR(VLOOKUP(L795,[1]Choix14!$M$2:$N$14,2,FALSE)&LEFT(O795,4)&RIGHT(LEFT(O795,LEN(O795)-1),2)),0,VLOOKUP(L795,[1]Choix14!$M$2:$N$14,2,FALSE)&LEFT(O795,4)&RIGHT(LEFT(O795,LEN(O795)-1),2)))*1","v":0},{"$nulls":6}," Frederic St-Denis ",{"$nulls":7},0,0]
[{"$f":"(IF(ISERROR(VLOOKUP(G796,[1]Choix14!$M$2:$N$14,2,FALSE)&LEFT(J796,4)&RIGHT(LEFT(J796,LEN(J796)-1),2)),0,VLOOKUP(G796,[1]Choix14!$M$2:$N$14,2,FALSE)&LEFT(J796,4)&RIGHT(LEFT(J796,LEN(J796)-1),2)))*1","v":0},{"$f":"(IF(ISERROR(VLOOKUP(L796,[1]Choix14!$M$2:$N$14,2,FALSE)&LEFT(O796,4)&RIGHT(LEFT(O796,LEN(O796)-1),2)),0,VLOOKUP(L796,[1]Choix14!$M$2:$N$14,2,FALSE)&LEFT(O796,4)&RIGHT(LEFT(O796,LEN(O796)-1),2)))*1","v":0},{"$nulls":6}," Corey Tropp ",{"$nulls":7},0,0]
[{"$f":"(IF(ISERROR(VLOOKUP(G797,[1]Choix14!$M$2:$N$14,2,FALSE)&LEFT(J797,4)&RIGHT(LEFT(J797,LEN(J797)-1),2)),0,VLOOKUP(G797,[1]Choix14!$M$2:$N$14,2,FALSE)&LEFT(J797,4)&RIGHT(LEFT(J797,LEN(J797)-1),2)))*1","v":0},{"$f":"(IF(ISERROR(VLOOKUP(L797,[1]Choix14!$M$2:$N$14,2,FALSE)&LEFT(O797,4)&RIGHT(LEFT(O797,LEN(O797)-1),2)),0,VLOOKUP(L797,[1]Choix14!$M$2:$N$14,2,FALSE)&LEFT(O797,4)&RIGHT(LEFT(O797,LEN(O797)-1),2)))*1","v":0},{"$nulls":6}," Mat Clark ",{"$nulls":7},0,0]
[{"$f":"(IF(ISERROR(VLOOKUP(G798,[1]Choix14!$M$2:$N$14,2,FALSE)&LEFT(J798,4)&RIGHT(LEFT(J798,LEN(J798)-1),2)),0,VLOOKUP(G798,[1]Choix14!$M$2:$N$14,2,FALSE)&LEFT(J798,4)&RIGHT(LEFT(J798,LEN(J798)-1),2)))*1","v":0},{"$f":"(IF(ISERROR(VLOOKUP(L798,[1]Choix14!$M$2:$N$14,2,FALSE)&LEFT(O798,4)&RIGHT(LEFT(O798,LEN(O798)-1),2)),0,VLOOKUP(L798,[1]Choix14!$M$2:$N$14,2,FALSE)&LEFT(O798,4)&RIGHT(LEFT(O798,LEN(O798)-1),2)))*1","v":0},{"$nulls":6}," Clayton Stoner ",{"$nulls":7},0,0]
[{"$f":"(IF(ISERROR(VLOOKUP(G799,[1]Choix14!$M$2:$N$14,2,FALSE)&LEFT(J799,4)&RIGHT(LEFT(J799,LEN(J799)-1),2)),0,VLOOKUP(G799,[1]Choix14!$M$2:$N$14,2,FALSE)&LEFT(J799,4)&RIGHT(LEFT(J799,LEN(J799)-1),2)))*1","v":0},{"$f":"(IF(ISERROR(VLOOKUP(L799,[1]Choix14!$M$2:$N$14,2,FALSE)&LEFT(O799,4)&RIGHT(LEFT(O799,LEN(O799)-1),2)),0,VLOOKUP(L799,[1]Choix14!$M$2:$N$14,2,FALSE)&LEFT(O799,4)&RIGHT(LEFT(O799,LEN(O799)-1),2)))*1","v":0},{"$nulls":6}," David Moss ",{"$nulls":7},0,0]
[{"$f":"(IF(ISERROR(VLOOKUP(G800,[1]Choix14!$M$2:$N$14,2,FALSE)&LEFT(J800,4)&RIGHT(LEFT(J800,LEN(J800)-1),2)),0,VLOOKUP(G800,[1]Choix14!$M$2:$N$14,2,FALSE)&LEFT(J800,4)&RIGHT(LEFT(J800,LEN(J800)-1),2)))*1","v":0},{"$f":"(IF(ISERROR(VLOOKUP(L800,[1]Choix14!$M$2:$N$14,2,FALSE)&LEFT(O800,4)&RIGHT(LEFT(O800,LEN(O800)-1),2)),0,VLOOKUP(L800,[1]Choix14!$M$2:$N$14,2,FALSE)&LEFT(O800,4)&RIGHT(LEFT(O800,LEN(O800)-1),2)))*1","v":0},{"$nulls":6}," Michael Grabner ",{"$nulls":7},0,0]
[{"$f":"(IF(ISERROR(VLOOKUP(G801,[1]Choix14!$M$2:$N$14,2,FALSE)&LEFT(J801,4)&RIGHT(LEFT(J801,LEN(J801)-1),2)),0,VLOOKUP(G801,[1]Choix14!$M$2:$N$14,2,FALSE)&LEFT(J801,4)&RIGHT(LEFT(J801,LEN(J801)-1),2)))*1","v":0},{"$f":"(IF(ISERROR(VLOOKUP(L801,[1]Choix14!$M$2:$N$14,2,FALSE)&LEFT(O801,4)&RIGHT(LEFT(O801,LEN(O801)-1),2)),0,VLOOKUP(L801,[1]Choix14!$M$2:$N$14,2,FALSE)&LEFT(O801,4)&RIGHT(LEFT(O801,LEN(O801)-1),2)))*1","v":0},{"$nulls":6}," Ryan Murphy ",{"$nulls":7},0,0]
[{"$f":"(IF(ISERROR(VLOOKUP(G802,[1]Choix14!$M$2:$N$14,2,FALSE)&LEFT(J802,4)&RIGHT(LEFT(J802,LEN(J802)-1),2)),0,VLOOKUP(G802,[1]Choix14!$M$2:$N$14,2,FALSE)&LEFT(J802,4)&RIGHT(LEFT(J802,LEN(J802)-1),2)))*1","v":0},{"$f":"(IF(ISERROR(VLOOKUP(L802,[1]Choix14!$M$2:$N$14,2,FALSE)&LEFT(O802,4)&RIGHT(LEFT(O802,LEN(O802)-1),2)),0,VLOOKUP(L802,[1]Choix14!$M$2:$N$14,2,FALSE)&LEFT(O802,4)&RIGHT(LEFT(O802,LEN(O802)-1),2)))*1","v":0},{"$nulls":6}," Brandon Gormley ",{"$nulls":7},0,0]
[{"$f":"(IF(ISERROR(VLOOKUP(G803,[1]Choix14!$M$2:$N$14,2,FALSE)&LEFT(J803,4)&RIGHT(LEFT(J803,LEN(J803)-1),2)),0,VLOOKUP(G803,[1]Choix14!$M$2:$N$14,2,FALSE)&LEFT(J803,4)&RIGHT(LEFT(J803,LEN(J803)-1),2)))*1","v":0},{"$f":"(IF(ISERROR(VLOOKUP(L803,[1]Choix14!$M$2:$N$14,2,FALSE)&LEFT(O803,4)&RIGHT(LEFT(O803,LEN(O803)-1),2)),0,VLOOKUP(L803,[1]Choix14!$M$2:$N$14,2,FALSE)&LEFT(O803,4)&RIGHT(LEFT(O803,LEN(O803)-1),2)))*1","v":0},{"$nulls":6}," Ladislav Smid ",{"$nulls":7},0,0]
[{"$f":"(IF(ISERROR(VLOOKUP(G804,[1]Choix14!$M$2:$N$14,2,FALSE)&LEFT(J804,4)&RIGHT(LEFT(J804,LEN(J804)-1),2)),0,VLOOKUP(G804,[1]Choix14!$M$2:$N$14,2,FALSE)&LEFT(J804,4)&RIGHT(LEFT(J804,LEN(J804)-1),2)))*1","v":0},{"$f":"(IF(ISERROR(VLOOKUP(L804,[1]Choix14!$M$2:$N$14,2,FALSE)&LEFT(O804,4)&RIGHT(LEFT(O804,LEN(O804)-1),2)),0,VLOOKUP(L804,[1]Choix14!$M$2:$N$14,2,FALSE)&LEFT(O804,4)&RIGHT(LEFT(O804,LEN(O804)-1),2)))*1","v":0},{"$nulls":6}," Michael Kostka ",{"$nulls":7},0,0]
[{"$f":"(IF(ISERROR(VLOOKUP(G805,[1]Choix14!$M$2:$N$14,2,FALSE)&LEFT(J805,4)&RIGHT(LEFT(J805,LEN(J805)-1),2)),0,VLOOKUP(G805,[1]Choix14!$M$2:$N$14,2,FALSE)&LEFT(J805,4)&RIGHT(LEFT(J805,LEN(J805)-1),2)))*1","v":0},{"$f":"(IF(ISERROR(VLOOKUP(L805,[1]Choix14!$M$2:$N$14,2,FALSE)&LEFT(O805,4)&RIGHT(LEFT(O805,LEN(O805)-1),2)),0,VLOOKUP(L805,[1]Choix14!$M$2:$N$14,2,FALSE)&LEFT(O805,4)&RIGHT(LEFT(O805,LEN(O805)-1),2)))*1","v":0},{"$nulls":6}," Jordin Tootoo ",{"$nulls":7},0,0]
[{"$f":"(IF(ISERROR(VLOOKUP(G806,[1]Choix14!$M$2:$N$14,2,FALSE)&LEFT(J806,4)&RIGHT(LEFT(J806,LEN(J806)-1),2)),0,VLOOKUP(G806,[1]Choix14!$M$2:$N$14,2,FALSE)&LEFT(J806,4)&RIGHT(LEFT(J806,LEN(J806)-1),2)))*1","v":0},{"$f":"(IF(ISERROR(VLOOKUP(L806,[1]Choix14!$M$2:$N$14,2,FALSE)&LEFT(O806,4)&RIGHT(LEFT(O806,LEN(O806)-1),2)),0,VLOOKUP(L806,[1]Choix14!$M$2:$N$14,2,FALSE)&LEFT(O806,4)&RIGHT(LEFT(O806,LEN(O806)-1),2)))*1","v":0},{"$nulls":6}," Brandon Kozun ",{"$nulls":7},0,0]
[{"$f":"(IF(ISERROR(VLOOKUP(G807,[1]Choix14!$M$2:$N$14,2,FALSE)&LEFT(J807,4)&RIGHT(LEFT(J807,LEN(J807)-1),2)),0,VLOOKUP(G807,[1]Choix14!$M$2:$N$14,2,FALSE)&LEFT(J807,4)&RIGHT(LEFT(J807,LEN(J807)-1),2)))*1","v":0},{"$f":"(IF(ISERROR(VLOOKUP(L807,[1]Choix14!$M$2:$N$14,2,FALSE)&LEFT(O807,4)&RIGHT(LEFT(O807,LEN(O807)-1),2)),0,VLOOKUP(L807,[1]Choix14!$M$2:$N$14,2,FALSE)&LEFT(O807,4)&RIGHT(LEFT(O807,LEN(O807)-1),2)))*1","v":0},{"$nulls":6}," Mike Sislo ",{"$nulls":7},0,0]
[{"$f":"(IF(ISERROR(VLOOKUP(G808,[1]Choix14!$M$2:$N$14,2,FALSE)&LEFT(J808,4)&RIGHT(LEFT(J808,LEN(J808)-1),2)),0,VLOOKUP(G808,[1]Choix14!$M$2:$N$14,2,FALSE)&LEFT(J808,4)&RIGHT(LEFT(J808,LEN(J808)-1),2)))*1","v":0},{"$f":"(IF(ISERROR(VLOOKUP(L808,[1]Choix14!$M$2:$N$14,2,FALSE)&LEFT(O808,4)&RIGHT(LEFT(O808,LEN(O808)-1),2)),0,VLOOKUP(L808,[1]Choix14!$M$2:$N$14,2,FALSE)&LEFT(O808,4)&RIGHT(LEFT(O808,LEN(O808)-1),2)))*1","v":0},{"$nulls":6}," Victor Bartley ",{"$nulls":7},0,0]
[{"$f":"(IF(ISERROR(VLOOKUP(G809,[1]Choix14!$M$2:$N$14,2,FALSE)&LEFT(J809,4)&RIGHT(LEFT(J809,LEN(J809)-1),2)),0,VLOOKUP(G809,[1]Choix14!$M$2:$N$14,2,FALSE)&LEFT(J809,4)&RIGHT(LEFT(J809,LEN(J809)-1),2)))*1","v":0},{"$f":"(IF(ISERROR(VLOOKUP(L809,[1]Choix14!$M$2:$N$14,2,FALSE)&LEFT(O809,4)&RIGHT(LEFT(O809,LEN(O809)-1),2)),0,VLOOKUP(L809,[1]Choix14!$M$2:$N$14,2,FALSE)&LEFT(O809,4)&RIGHT(LEFT(O809,LEN(O809)-1),2)))*1","v":0},{"$nulls":6}," Marc Methot ",{"$nulls":7},0,0]
[{"$f":"(IF(ISERROR(VLOOKUP(G810,[1]Choix14!$M$2:$N$14,2,FALSE)&LEFT(J810,4)&RIGHT(LEFT(J810,LEN(J810)-1),2)),0,VLOOKUP(G810,[1]Choix14!$M$2:$N$14,2,FALSE)&LEFT(J810,4)&RIGHT(LEFT(J810,LEN(J810)-1),2)))*1","v":0},{"$f":"(IF(ISERROR(VLOOKUP(L810,[1]Choix14!$M$2:$N$14,2,FALSE)&LEFT(O810,4)&RIGHT(LEFT(O810,LEN(O810)-1),2)),0,VLOOKUP(L810,[1]Choix14!$M$2:$N$14,2,FALSE)&LEFT(O810,4)&RIGHT(LEFT(O810,LEN(O810)-1),2)))*1","v":0},{"$nulls":6}," Nikita Zadorov ",{"$nulls":7},0,0]
[{"$f":"(IF(ISERROR(VLOOKUP(G811,[1]Choix14!$M$2:$N$14,2,FALSE)&LEFT(J811,4)&RIGHT(LEFT(J811,LEN(J811)-1),2)),0,VLOOKUP(G811,[1]Choix14!$M$2:$N$14,2,FALSE)&LEFT(J811,4)&RIGHT(LEFT(J811,LEN(J811)-1),2)))*1","v":0},{"$f":"(IF(ISERROR(VLOOKUP(L811,[1]Choix14!$M$2:$N$14,2,FALSE)&LEFT(O811,4)&RIGHT(LEFT(O811,LEN(O811)-1),2)),0,VLOOKUP(L811,[1]Choix14!$M$2:$N$14,2,FALSE)&LEFT(O811,4)&RIGHT(LEFT(O811,LEN(O811)-1),2)))*1","v":0},{"$nulls":6}," Eric Boulton ",{"$nulls":7},0,0]
[{"$f":"(IF(ISERROR(VLOOKUP(G812,[1]Choix14!$M$2:$N$14,2,FALSE)&LEFT(J812,4)&RIGHT(LEFT(J812,LEN(J812)-1),2)),0,VLOOKUP(G812,[1]Choix14!$M$2:$N$14,2,FALSE)&LEFT(J812,4)&RIGHT(LEFT(J812,LEN(J812)-1),2)))*1","v":0},{"$f":"(IF(ISERROR(VLOOKUP(L812,[1]Choix14!$M$2:$N$14,2,FALSE)&LEFT(O812,4)&RIGHT(LEFT(O812,LEN(O812)-1),2)),0,VLOOKUP(L812,[1]Choix14!$M$2:$N$14,2,FALSE)&LEFT(O812,4)&RIGHT(LEFT(O812,LEN(O812)-1),2)))*1","v":0},{"$nulls":6}," Colin Smith ",{"$nulls":7},0,0]
[{"$f":"(IF(ISERROR(VLOOKUP(G813,[1]Choix14!$M$2:$N$14,2,FALSE)&LEFT(J813,4)&RIGHT(LEFT(J813,LEN(J813)-1),2)),0,VLOOKUP(G813,[1]Choix14!$M$2:$N$14,2,FALSE)&LEFT(J813,4)&RIGHT(LEFT(J813,LEN(J813)-1),2)))*1","v":0},{"$f":"(IF(ISERROR(VLOOKUP(L813,[1]Choix14!$M$2:$N$14,2,FALSE)&LEFT(O813,4)&RIGHT(LEFT(O813,LEN(O813)-1),2)),0,VLOOKUP(L813,[1]Choix14!$M$2:$N$14,2,FALSE)&LEFT(O813,4)&RIGHT(LEFT(O813,LEN(O813)-1),2)))*1","v":0},{"$nulls":6}," Petteri Lindbohm ",{"$nulls":7},0,0]
[{"$f":"(IF(ISERROR(VLOOKUP(G814,[1]Choix14!$M$2:$N$14,2,FALSE)&LEFT(J814,4)&RIGHT(LEFT(J814,LEN(J814)-1),2)),0,VLOOKUP(G814,[1]Choix14!$M$2:$N$14,2,FALSE)&LEFT(J814,4)&RIGHT(LEFT(J814,LEN(J814)-1),2)))*1","v":0},{"$f":"(IF(ISERROR(VLOOKUP(L814,[1]Choix14!$M$2:$N$14,2,FALSE)&LEFT(O814,4)&RIGHT(LEFT(O814,LEN(O814)-1),2)),0,VLOOKUP(L814,[1]Choix14!$M$2:$N$14,2,FALSE)&LEFT(O814,4)&RIGHT(LEFT(O814,LEN(O814)-1),2)))*1","v":0},{"$nulls":6}," T.J. Galiardi ",{"$nulls":7},0,0]
[{"$f":"(IF(ISERROR(VLOOKUP(G815,[1]Choix14!$M$2:$N$14,2,FALSE)&LEFT(J815,4)&RIGHT(LEFT(J815,LEN(J815)-1),2)),0,VLOOKUP(G815,[1]Choix14!$M$2:$N$14,2,FALSE)&LEFT(J815,4)&RIGHT(LEFT(J815,LEN(J815)-1),2)))*1","v":0},{"$f":"(IF(ISERROR(VLOOKUP(L815,[1]Choix14!$M$2:$N$14,2,FALSE)&LEFT(O815,4)&RIGHT(LEFT(O815,LEN(O815)-1),2)),0,VLOOKUP(L815,[1]Choix14!$M$2:$N$14,2,FALSE)&LEFT(O815,4)&RIGHT(LEFT(O815,LEN(O815)-1),2)))*1","v":0},{"$nulls":6}," Brandon DeFazio ",{"$nulls":7},0,0]
[{"$f":"(IF(ISERROR(VLOOKUP(G816,[1]Choix14!$M$2:$N$14,2,FALSE)&LEFT(J816,4)&RIGHT(LEFT(J816,LEN(J816)-1),2)),0,VLOOKUP(G816,[1]Choix14!$M$2:$N$14,2,FALSE)&LEFT(J816,4)&RIGHT(LEFT(J816,LEN(J816)-1),2)))*1","v":0},{"$f":"(IF(ISERROR(VLOOKUP(L816,[1]Choix14!$M$2:$N$14,2,FALSE)&LEFT(O816,4)&RIGHT(LEFT(O816,LEN(O816)-1),2)),0,VLOOKUP(L816,[1]Choix14!$M$2:$N$14,2,FALSE)&LEFT(O816,4)&RIGHT(LEFT(O816,LEN(O816)-1),2)))*1","v":0},{"$nulls":6}," Shayne Gostisbehere ",{"$nulls":7},0,0]
[{"$f":"(IF(ISERROR(VLOOKUP(G817,[1]Choix14!$M$2:$N$14,2,FALSE)&LEFT(J817,4)&RIGHT(LEFT(J817,LEN(J817)-1),2)),0,VLOOKUP(G817,[1]Choix14!$M$2:$N$14,2,FALSE)&LEFT(J817,4)&RIGHT(LEFT(J817,LEN(J817)-1),2)))*1","v":0},{"$f":"(IF(ISERROR(VLOOKUP(L817,[1]Choix14!$M$2:$N$14,2,FALSE)&LEFT(O817,4)&RIGHT(LEFT(O817,LEN(O817)-1),2)),0,VLOOKUP(L817,[1]Choix14!$M$2:$N$14,2,FALSE)&LEFT(O817,4)&RIGHT(LEFT(O817,LEN(O817)-1),2)))*1","v":0},{"$nulls":6}," Ben Street ",{"$nulls":7},0,0]
[{"$f":"(IF(ISERROR(VLOOKUP(G818,[1]Choix14!$M$2:$N$14,2,FALSE)&LEFT(J818,4)&RIGHT(LEFT(J818,LEN(J818)-1),2)),0,VLOOKUP(G818,[1]Choix14!$M$2:$N$14,2,FALSE)&LEFT(J818,4)&RIGHT(LEFT(J818,LEN(J818)-1),2)))*1","v":0},{"$f":"(IF(ISERROR(VLOOKUP(L818,[1]Choix14!$M$2:$N$14,2,FALSE)&LEFT(O818,4)&RIGHT(LEFT(O818,LEN(O818)-1),2)),0,VLOOKUP(L818,[1]Choix14!$M$2:$N$14,2,FALSE)&LEFT(O818,4)&RIGHT(LEFT(O818,LEN(O818)-1),2)))*1","v":0},{"$nulls":6}," Jordan Martinook ",{"$nulls":7},0,0]
[{"$f":"(IF(ISERROR(VLOOKUP(G819,[1]Choix14!$M$2:$N$14,2,FALSE)&LEFT(J819,4)&RIGHT(LEFT(J819,LEN(J819)-1),2)),0,VLOOKUP(G819,[1]Choix14!$M$2:$N$14,2,FALSE)&LEFT(J819,4)&RIGHT(LEFT(J819,LEN(J819)-1),2)))*1","v":0},{"$f":"(IF(ISERROR(VLOOKUP(L819,[1]Choix14!$M$2:$N$14,2,FALSE)&LEFT(O819,4)&RIGHT(LEFT(O819,LEN(O819)-1),2)),0,VLOOKUP(L819,[1]Choix14!$M$2:$N$14,2,FALSE)&LEFT(O819,4)&RIGHT(LEFT(O819,LEN(O819)-1),2)))*1","v":0},{"$nulls":6}," Jonathan Marchessault ",{"$nulls":7},0,0]
[{"$f":"(IF(ISERROR(VLOOKUP(G820,[1]Choix14!$M$2:$N$14,2,FALSE)&LEFT(J820,4)&RIGHT(LEFT(J820,LEN(J820)-1),2)),0,VLOOKUP(G820,[1]Choix14!$M$2:$N$14,2,FALSE)&LEFT(J820,4)&RIGHT(LEFT(J820,LEN(J820)-1),2)))*1","v":0},{"$f":"(IF(ISERROR(VLOOKUP(L820,[1]Choix14!$M$2:$N$14,2,FALSE)&LEFT(O820,4)&RIGHT(LEFT(O820,LEN(O820)-1),2)),0,VLOOKUP(L820,[1]Choix14!$M$2:$N$14,2,FALSE)&LEFT(O820,4)&RIGHT(LEFT(O820,LEN(O820)-1),2)))*1","v":0},{"$nulls":6}," Drayson Bowman ",{"$nulls":7},0,0]
[{"$f":"(IF(ISERROR(VLOOKUP(G821,[1]Choix14!$M$2:$N$14,2,FALSE)&LEFT(J821,4)&RIGHT(LEFT(J821,LEN(J821)-1),2)),0,VLOOKUP(G821,[1]Choix14!$M$2:$N$14,2,FALSE)&LEFT(J821,4)&RIGHT(LEFT(J821,LEN(J821)-1),2)))*1","v":0},{"$f":"(IF(ISERROR(VLOOKUP(L821,[1]Choix14!$M$2:$N$14,2,FALSE)&LEFT(O821,4)&RIGHT(LEFT(O821,LEN(O821)-1),2)),0,VLOOKUP(L821,[1]Choix14!$M$2:$N$14,2,FALSE)&LEFT(O821,4)&RIGHT(LEFT(O821,LEN(O821)-1),2)))*1","v":0},{"$nulls":6}," Will Acton ",{"$nulls":7},0,0]
[{"$f":"(IF(ISERROR(VLOOKUP(G822,[1]Choix14!$M$2:$N$14,2,FALSE)&LEFT(J822,4)&RIGHT(LEFT(J822,LEN(J822)-1),2)),0,VLOOKUP(G822,[1]Choix14!$M$2:$N$14,2,FALSE)&LEFT(J822,4)&RIGHT(LEFT(J822,LEN(J822)-1),2)))*1","v":0},{"$f":"(IF(ISERROR(VLOOKUP(L822,[1]Choix14!$M$2:$N$14,2,FALSE)&LEFT(O822,4)&RIGHT(LEFT(O822,LEN(O822)-1),2)),0,VLOOKUP(L822,[1]Choix14!$M$2:$N$14,2,FALSE)&LEFT(O822,4)&RIGHT(LEFT(O822,LEN(O822)-1),2)))*1","v":0},{"$nulls":6}," Corban Knight ",{"$nulls":7},0,0]
[{"$f":"(IF(ISERROR(VLOOKUP(G823,[1]Choix14!$M$2:$N$14,2,FALSE)&LEFT(J823,4)&RIGHT(LEFT(J823,LEN(J823)-1),2)),0,VLOOKUP(G823,[1]Choix14!$M$2:$N$14,2,FALSE)&LEFT(J823,4)&RIGHT(LEFT(J823,LEN(J823)-1),2)))*1","v":0},{"$f":"(IF(ISERROR(VLOOKUP(L823,[1]Choix14!$M$2:$N$14,2,FALSE)&LEFT(O823,4)&RIGHT(LEFT(O823,LEN(O823)-1),2)),0,VLOOKUP(L823,[1]Choix14!$M$2:$N$14,2,FALSE)&LEFT(O823,4)&RIGHT(LEFT(O823,LEN(O823)-1),2)))*1","v":0},{"$nulls":6}," Ryan Wilson ",{"$nulls":7},0,0]
[{"$f":"(IF(ISERROR(VLOOKUP(G824,[1]Choix14!$M$2:$N$14,2,FALSE)&LEFT(J824,4)&RIGHT(LEFT(J824,LEN(J824)-1),2)),0,VLOOKUP(G824,[1]Choix14!$M$2:$N$14,2,FALSE)&LEFT(J824,4)&RIGHT(LEFT(J824,LEN(J824)-1),2)))*1","v":0},{"$f":"(IF(ISERROR(VLOOKUP(L824,[1]Choix14!$M$2:$N$14,2,FALSE)&LEFT(O824,4)&RIGHT(LEFT(O824,LEN(O824)-1),2)),0,VLOOKUP(L824,[1]Choix14!$M$2:$N$14,2,FALSE)&LEFT(O824,4)&RIGHT(LEFT(O824,LEN(O824)-1),2)))*1","v":0},{"$nulls":6}," Darnell Nurse ",{"$nulls":7},0,0]
[{"$f":"(IF(ISERROR(VLOOKUP(G825,[1]Choix14!$M$2:$N$14,2,FALSE)&LEFT(J825,4)&RIGHT(LEFT(J825,LEN(J825)-1),2)),0,VLOOKUP(G825,[1]Choix14!$M$2:$N$14,2,FALSE)&LEFT(J825,4)&RIGHT(LEFT(J825,LEN(J825)-1),2)))*1","v":0},{"$f":"(IF(ISERROR(VLOOKUP(L825,[1]Choix14!$M$2:$N$14,2,FALSE)&LEFT(O825,4)&RIGHT(LEFT(O825,LEN(O825)-1),2)),0,VLOOKUP(L825,[1]Choix14!$M$2:$N$14,2,FALSE)&LEFT(O825,4)&RIGHT(LEFT(O825,LEN(O825)-1),2)))*1","v":0},{"$nulls":6}," Jonathon Blum ",{"$nulls":7},0,0]
[{"$f":"(IF(ISERROR(VLOOKUP(G826,[1]Choix14!$M$2:$N$14,2,FALSE)&LEFT(J826,4)&RIGHT(LEFT(J826,LEN(J826)-1),2)),0,VLOOKUP(G826,[1]Choix14!$M$2:$N$14,2,FALSE)&LEFT(J826,4)&RIGHT(LEFT(J826,LEN(J826)-1),2)))*1","v":0},{"$f":"(IF(ISERROR(VLOOKUP(L826,[1]Choix14!$M$2:$N$14,2,FALSE)&LEFT(O826,4)&RIGHT(LEFT(O826,LEN(O826)-1),2)),0,VLOOKUP(L826,[1]Choix14!$M$2:$N$14,2,FALSE)&LEFT(O826,4)&RIGHT(LEFT(O826,LEN(O826)-1),2)))*1","v":0},{"$nulls":6}," Eric Tangradi ",{"$nulls":7},0,0]
[{"$f":"(IF(ISERROR(VLOOKUP(G827,[1]Choix14!$M$2:$N$14,2,FALSE)&LEFT(J827,4)&RIGHT(LEFT(J827,LEN(J827)-1),2)),0,VLOOKUP(G827,[1]Choix14!$M$2:$N$14,2,FALSE)&LEFT(J827,4)&RIGHT(LEFT(J827,LEN(J827)-1),2)))*1","v":0},{"$f":"(IF(ISERROR(VLOOKUP(L827,[1]Choix14!$M$2:$N$14,2,FALSE)&LEFT(O827,4)&RIGHT(LEFT(O827,LEN(O827)-1),2)),0,VLOOKUP(L827,[1]Choix14!$M$2:$N$14,2,FALSE)&LEFT(O827,4)&RIGHT(LEFT(O827,LEN(O827)-1),2)))*1","v":0},{"$nulls":6}," Stu Bickel ",{"$nulls":7},0,0]
[{"$f":"(IF(ISERROR(VLOOKUP(G828,[1]Choix14!$M$2:$N$14,2,FALSE)&LEFT(J828,4)&RIGHT(LEFT(J828,LEN(J828)-1),2)),0,VLOOKUP(G828,[1]Choix14!$M$2:$N$14,2,FALSE)&LEFT(J828,4)&RIGHT(LEFT(J828,LEN(J828)-1),2)))*1","v":0},{"$f":"(IF(ISERROR(VLOOKUP(L828,[1]Choix14!$M$2:$N$14,2,FALSE)&LEFT(O828,4)&RIGHT(LEFT(O828,LEN(O828)-1),2)),0,VLOOKUP(L828,[1]Choix14!$M$2:$N$14,2,FALSE)&LEFT(O828,4)&RIGHT(LEFT(O828,LEN(O828)-1),2)))*1","v":0},{"$nulls":6}," Manny Malhotra ",{"$nulls":7},0,0]
[{"$f":"(IF(ISERROR(VLOOKUP(G829,[1]Choix14!$M$2:$N$14,2,FALSE)&LEFT(J829,4)&RIGHT(LEFT(J829,LEN(J829)-1),2)),0,VLOOKUP(G829,[1]Choix14!$M$2:$N$14,2,FALSE)&LEFT(J829,4)&RIGHT(LEFT(J829,LEN(J829)-1),2)))*1","v":0},{"$f":"(IF(ISERROR(VLOOKUP(L829,[1]Choix14!$M$2:$N$14,2,FALSE)&LEFT(O829,4)&RIGHT(LEFT(O829,LEN(O829)-1),2)),0,VLOOKUP(L829,[1]Choix14!$M$2:$N$14,2,FALSE)&LEFT(O829,4)&RIGHT(LEFT(O829,LEN(O829)-1),2)))*1","v":0},{"$nulls":6}," Valeri Nichushkin ",{"$nulls":7},0,0]
[{"$f":"(IF(ISERROR(VLOOKUP(G830,[1]Choix14!$M$2:$N$14,2,FALSE)&LEFT(J830,4)&RIGHT(LEFT(J830,LEN(J830)-1),2)),0,VLOOKUP(G830,[1]Choix14!$M$2:$N$14,2,FALSE)&LEFT(J830,4)&RIGHT(LEFT(J830,LEN(J830)-1),2)))*1","v":0},{"$f":"(IF(ISERROR(VLOOKUP(L830,[1]Choix14!$M$2:$N$14,2,FALSE)&LEFT(O830,4)&RIGHT(LEFT(O830,LEN(O830)-1),2)),0,VLOOKUP(L830,[1]Choix14!$M$2:$N$14,2,FALSE)&LEFT(O830,4)&RIGHT(LEFT(O830,LEN(O830)-1),2)))*1","v":0},{"$nulls":6}," Scott Hannan ",{"$nulls":7},0,0]
[{"$f":"(IF(ISERROR(VLOOKUP(G831,[1]Choix14!$M$2:$N$14,2,FALSE)&LEFT(J831,4)&RIGHT(LEFT(J831,LEN(J831)-1),2)),0,VLOOKUP(G831,[1]Choix14!$M$2:$N$14,2,FALSE)&LEFT(J831,4)&RIGHT(LEFT(J831,LEN(J831)-1),2)))*1","v":0},{"$f":"(IF(ISERROR(VLOOKUP(L831,[1]Choix14!$M$2:$N$14,2,FALSE)&LEFT(O831,4)&RIGHT(LEFT(O831,LEN(O831)-1),2)),0,VLOOKUP(L831,[1]Choix14!$M$2:$N$14,2,FALSE)&LEFT(O831,4)&RIGHT(LEFT(O831,LEN(O831)-1),2)))*1","v":0},{"$nulls":6}," Karl Stollery ",{"$nulls":7},0,0]
[{"$f":"(IF(ISERROR(VLOOKUP(G832,[1]Choix14!$M$2:$N$14,2,FALSE)&LEFT(J832,4)&RIGHT(LEFT(J832,LEN(J832)-1),2)),0,VLOOKUP(G832,[1]Choix14!$M$2:$N$14,2,FALSE)&LEFT(J832,4)&RIGHT(LEFT(J832,LEN(J832)-1),2)))*1","v":0},{"$f":"(IF(ISERROR(VLOOKUP(L832,[1]Choix14!$M$2:$N$14,2,FALSE)&LEFT(O832,4)&RIGHT(LEFT(O832,LEN(O832)-1),2)),0,VLOOKUP(L832,[1]Choix14!$M$2:$N$14,2,FALSE)&LEFT(O832,4)&RIGHT(LEFT(O832,LEN(O832)-1),2)))*1","v":0},{"$nulls":6}," Conor Allen ",{"$nulls":7},0,0]
[{"$f":"(IF(ISERROR(VLOOKUP(G833,[1]Choix14!$M$2:$N$14,2,FALSE)&LEFT(J833,4)&RIGHT(LEFT(J833,LEN(J833)-1),2)),0,VLOOKUP(G833,[1]Choix14!$M$2:$N$14,2,FALSE)&LEFT(J833,4)&RIGHT(LEFT(J833,LEN(J833)-1),2)))*1","v":0},{"$f":"(IF(ISERROR(VLOOKUP(L833,[1]Choix14!$M$2:$N$14,2,FALSE)&LEFT(O833,4)&RIGHT(LEFT(O833,LEN(O833)-1),2)),0,VLOOKUP(L833,[1]Choix14!$M$2:$N$14,2,FALSE)&LEFT(O833,4)&RIGHT(LEFT(O833,LEN(O833)-1),2)))*1","v":0},{"$nulls":6}," Dana Tyrell ",{"$nulls":7},0,0]
[{"$f":"(IF(ISERROR(VLOOKUP(G834,[1]Choix14!$M$2:$N$14,2,FALSE)&LEFT(J834,4)&RIGHT(LEFT(J834,LEN(J834)-1),2)),0,VLOOKUP(G834,[1]Choix14!$M$2:$N$14,2,FALSE)&LEFT(J834,4)&RIGHT(LEFT(J834,LEN(J834)-1),2)))*1","v":0},{"$f":"(IF(ISERROR(VLOOKUP(L834,[1]Choix14!$M$2:$N$14,2,FALSE)&LEFT(O834,4)&RIGHT(LEFT(O834,LEN(O834)-1),2)),0,VLOOKUP(L834,[1]Choix14!$M$2:$N$14,2,FALSE)&LEFT(O834,4)&RIGHT(LEFT(O834,LEN(O834)-1),2)))*1","v":0},{"$nulls":6}," Tim Schaller ",{"$nulls":7},0,0]
[{"$f":"(IF(ISERROR(VLOOKUP(G835,[1]Choix14!$M$2:$N$14,2,FALSE)&LEFT(J835,4)&RIGHT(LEFT(J835,LEN(J835)-1),2)),0,VLOOKUP(G835,[1]Choix14!$M$2:$N$14,2,FALSE)&LEFT(J835,4)&RIGHT(LEFT(J835,LEN(J835)-1),2)))*1","v":0},{"$f":"(IF(ISERROR(VLOOKUP(L835,[1]Choix14!$M$2:$N$14,2,FALSE)&LEFT(O835,4)&RIGHT(LEFT(O835,LEN(O835)-1),2)),0,VLOOKUP(L835,[1]Choix14!$M$2:$N$14,2,FALSE)&LEFT(O835,4)&RIGHT(LEFT(O835,LEN(O835)-1),2)))*1","v":0},{"$nulls":6}," Bogdan Yakimov ",{"$nulls":7},{"$f":"IF(A835<1,0,COUNTIF($A:$B,A835))","v":0},0]
[{"$f":"(IF(ISERROR(VLOOKUP(G836,[1]Choix14!$M$2:$N$14,2,FALSE)&LEFT(J836,4)&RIGHT(LEFT(J836,LEN(J836)-1),2)),0,VLOOKUP(G836,[1]Choix14!$M$2:$N$14,2,FALSE)&LEFT(J836,4)&RIGHT(LEFT(J836,LEN(J836)-1),2)))*1","v":0},{"$f":"(IF(ISERROR(VLOOKUP(L836,[1]Choix14!$M$2:$N$14,2,FALSE)&LEFT(O836,4)&RIGHT(LEFT(O836,LEN(O836)-1),2)),0,VLOOKUP(L836,[1]Choix14!$M$2:$N$14,2,FALSE)&LEFT(O836,4)&RIGHT(LEFT(O836,LEN(O836)-1),2)))*1","v":0},{"$nulls":6}," Jack Hillen ",{"$nulls":7},0,0]
[{"$f":"(IF(ISERROR(VLOOKUP(G837,[1]Choix14!$M$2:$N$14,2,FALSE)&LEFT(J837,4)&RIGHT(LEFT(J837,LEN(J837)-1),2)),0,VLOOKUP(G837,[1]Choix14!$M$2:$N$14,2,FALSE)&LEFT(J837,4)&RIGHT(LEFT(J837,LEN(J837)-1),2)))*1","v":0},{"$f":"(IF(ISERROR(VLOOKUP(L837,[1]Choix14!$M$2:$N$14,2,FALSE)&LEFT(O837,4)&RIGHT(LEFT(O837,LEN(O837)-1),2)),0,VLOOKUP(L837,[1]Choix14!$M$2:$N$14,2,FALSE)&LEFT(O837,4)&RIGHT(LEFT(O837,LEN(O837)-1),2)))*1","v":0},{"$nulls":6}," Eriah Hayes ",{"$nulls":7},0,0]
[{"$f":"(IF(ISERROR(VLOOKUP(G838,[1]Choix14!$M$2:$N$14,2,FALSE)&LEFT(J838,4)&RIGHT(LEFT(J838,LEN(J838)-1),2)),0,VLOOKUP(G838,[1]Choix14!$M$2:$N$14,2,FALSE)&LEFT(J838,4)&RIGHT(LEFT(J838,LEN(J838)-1),2)))*1","v":0},{"$f":"(IF(ISERROR(VLOOKUP(L838,[1]Choix14!$M$2:$N$14,2,FALSE)&LEFT(O838,4)&RIGHT(LEFT(O838,LEN(O838)-1),2)),0,VLOOKUP(L838,[1]Choix14!$M$2:$N$14,2,FALSE)&LEFT(O838,4)&RIGHT(LEFT(O838,LEN(O838)-1),2)))*1","v":0},{"$nulls":6}," Matt Lindblad ",{"$nulls":7},0,0]
[{"$f":"(IF(ISERROR(VLOOKUP(G839,[1]Choix14!$M$2:$N$14,2,FALSE)&LEFT(J839,4)&RIGHT(LEFT(J839,LEN(J839)-1),2)),0,VLOOKUP(G839,[1]Choix14!$M$2:$N$14,2,FALSE)&LEFT(J839,4)&RIGHT(LEFT(J839,LEN(J839)-1),2)))*1","v":0},{"$f":"(IF(ISERROR(VLOOKUP(L839,[1]Choix14!$M$2:$N$14,2,FALSE)&LEFT(O839,4)&RIGHT(LEFT(O839,LEN(O839)-1),2)),0,VLOOKUP(L839,[1]Choix14!$M$2:$N$14,2,FALSE)&LEFT(O839,4)&RIGHT(LEFT(O839,LEN(O839)-1),2)))*1","v":0},{"$nulls":6}," Patrick Brown ",{"$nulls":7},0,0]
[{"$f":"(IF(ISERROR(VLOOKUP(G840,[1]Choix14!$M$2:$N$14,2,FALSE)&LEFT(J840,4)&RIGHT(LEFT(J840,LEN(J840)-1),2)),0,VLOOKUP(G840,[1]Choix14!$M$2:$N$14,2,FALSE)&LEFT(J840,4)&RIGHT(LEFT(J840,LEN(J840)-1),2)))*1","v":0},{"$f":"(IF(ISERROR(VLOOKUP(L840,[1]Choix14!$M$2:$N$14,2,FALSE)&LEFT(O840,4)&RIGHT(LEFT(O840,LEN(O840)-1),2)),0,VLOOKUP(L840,[1]Choix14!$M$2:$N$14,2,FALSE)&LEFT(O840,4)&RIGHT(LEFT(O840,LEN(O840)-1),2)))*1","v":0},{"$nulls":6}," Klas Dahlbeck ",{"$nulls":7},0,0]
[{"$f":"(IF(ISERROR(VLOOKUP(G841,[1]Choix14!$M$2:$N$14,2,FALSE)&LEFT(J841,4)&RIGHT(LEFT(J841,LEN(J841)-1),2)),0,VLOOKUP(G841,[1]Choix14!$M$2:$N$14,2,FALSE)&LEFT(J841,4)&RIGHT(LEFT(J841,LEN(J841)-1),2)))*1","v":0},{"$f":"(IF(ISERROR(VLOOKUP(L841,[1]Choix14!$M$2:$N$14,2,FALSE)&LEFT(O841,4)&RIGHT(LEFT(O841,LEN(O841)-1),2)),0,VLOOKUP(L841,[1]Choix14!$M$2:$N$14,2,FALSE)&LEFT(O841,4)&RIGHT(LEFT(O841,LEN(O841)-1),2)))*1","v":0},{"$nulls":6}," Michal Jordan ",{"$nulls":7},0,0]
[{"$f":"(IF(ISERROR(VLOOKUP(G842,[1]Choix14!$M$2:$N$14,2,FALSE)&LEFT(J842,4)&RIGHT(LEFT(J842,LEN(J842)-1),2)),0,VLOOKUP(G842,[1]Choix14!$M$2:$N$14,2,FALSE)&LEFT(J842,4)&RIGHT(LEFT(J842,LEN(J842)-1),2)))*1","v":0},{"$f":"(IF(ISERROR(VLOOKUP(L842,[1]Choix14!$M$2:$N$14,2,FALSE)&LEFT(O842,4)&RIGHT(LEFT(O842,LEN(O842)-1),2)),0,VLOOKUP(L842,[1]Choix14!$M$2:$N$14,2,FALSE)&LEFT(O842,4)&RIGHT(LEFT(O842,LEN(O842)-1),2)))*1","v":0},{"$nulls":6}," Gabriel Bourque ",{"$nulls":7},0,0]
[{"$f":"(IF(ISERROR(VLOOKUP(G843,[1]Choix14!$M$2:$N$14,2,FALSE)&LEFT(J843,4)&RIGHT(LEFT(J843,LEN(J843)-1),2)),0,VLOOKUP(G843,[1]Choix14!$M$2:$N$14,2,FALSE)&LEFT(J843,4)&RIGHT(LEFT(J843,LEN(J843)-1),2)))*1","v":0},{"$f":"(IF(ISERROR(VLOOKUP(L843,[1]Choix14!$M$2:$N$14,2,FALSE)&LEFT(O843,4)&RIGHT(LEFT(O843,LEN(O843)-1),2)),0,VLOOKUP(L843,[1]Choix14!$M$2:$N$14,2,FALSE)&LEFT(O843,4)&RIGHT(LEFT(O843,LEN(O843)-1),2)))*1","v":0},{"$nulls":6}," Matt Frattin ",{"$nulls":7},0,0]
[{"$f":"(IF(ISERROR(VLOOKUP(G844,[1]Choix14!$M$2:$N$14,2,FALSE)&LEFT(J844,4)&RIGHT(LEFT(J844,LEN(J844)-1),2)),0,VLOOKUP(G844,[1]Choix14!$M$2:$N$14,2,FALSE)&LEFT(J844,4)&RIGHT(LEFT(J844,LEN(J844)-1),2)))*1","v":0},{"$f":"(IF(ISERROR(VLOOKUP(L844,[1]Choix14!$M$2:$N$14,2,FALSE)&LEFT(O844,4)&RIGHT(LEFT(O844,LEN(O844)-1),2)),0,VLOOKUP(L844,[1]Choix14!$M$2:$N$14,2,FALSE)&LEFT(O844,4)&RIGHT(LEFT(O844,LEN(O844)-1),2)))*1","v":0},{"$nulls":6}," Jason Akeson ",{"$nulls":7},0,0]
[{"$f":"(IF(ISERROR(VLOOKUP(G845,[1]Choix14!$M$2:$N$14,2,FALSE)&LEFT(J845,4)&RIGHT(LEFT(J845,LEN(J845)-1),2)),0,VLOOKUP(G845,[1]Choix14!$M$2:$N$14,2,FALSE)&LEFT(J845,4)&RIGHT(LEFT(J845,LEN(J845)-1),2)))*1","v":0},{"$f":"(IF(ISERROR(VLOOKUP(L845,[1]Choix14!$M$2:$N$14,2,FALSE)&LEFT(O845,4)&RIGHT(LEFT(O845,LEN(O845)-1),2)),0,VLOOKUP(L845,[1]Choix14!$M$2:$N$14,2,FALSE)&LEFT(O845,4)&RIGHT(LEFT(O845,LEN(O845)-1),2)))*1","v":0},{"$nulls":6}," Colin Greening ",{"$nulls":7},0,0]
[{"$f":"(IF(ISERROR(VLOOKUP(G846,[1]Choix14!$M$2:$N$14,2,FALSE)&LEFT(J846,4)&RIGHT(LEFT(J846,LEN(J846)-1),2)),0,VLOOKUP(G846,[1]Choix14!$M$2:$N$14,2,FALSE)&LEFT(J846,4)&RIGHT(LEFT(J846,LEN(J846)-1),2)))*1","v":0},{"$f":"(IF(ISERROR(VLOOKUP(L846,[1]Choix14!$M$2:$N$14,2,FALSE)&LEFT(O846,4)&RIGHT(LEFT(O846,LEN(O846)-1),2)),0,VLOOKUP(L846,[1]Choix14!$M$2:$N$14,2,FALSE)&LEFT(O846,4)&RIGHT(LEFT(O846,LEN(O846)-1),2)))*1","v":0},{"$nulls":6}," Cody Goloubef ",{"$nulls":7},0,0]
[{"$f":"(IF(ISERROR(VLOOKUP(G847,[1]Choix14!$M$2:$N$14,2,FALSE)&LEFT(J847,4)&RIGHT(LEFT(J847,LEN(J847)-1),2)),0,VLOOKUP(G847,[1]Choix14!$M$2:$N$14,2,FALSE)&LEFT(J847,4)&RIGHT(LEFT(J847,LEN(J847)-1),2)))*1","v":0},{"$f":"(IF(ISERROR(VLOOKUP(L847,[1]Choix14!$M$2:$N$14,2,FALSE)&LEFT(O847,4)&RIGHT(LEFT(O847,LEN(O847)-1),2)),0,VLOOKUP(L847,[1]Choix14!$M$2:$N$14,2,FALSE)&LEFT(O847,4)&RIGHT(LEFT(O847,LEN(O847)-1),2)))*1","v":0},{"$nulls":6}," Colin McDonald ",{"$nulls":7},0,0]
[{"$f":"(IF(ISERROR(VLOOKUP(G848,[1]Choix14!$M$2:$N$14,2,FALSE)&LEFT(J848,4)&RIGHT(LEFT(J848,LEN(J848)-1),2)),0,VLOOKUP(G848,[1]Choix14!$M$2:$N$14,2,FALSE)&LEFT(J848,4)&RIGHT(LEFT(J848,LEN(J848)-1),2)))*1","v":0},{"$f":"(IF(ISERROR(VLOOKUP(L848,[1]Choix14!$M$2:$N$14,2,FALSE)&LEFT(O848,4)&RIGHT(LEFT(O848,LEN(O848)-1),2)),0,VLOOKUP(L848,[1]Choix14!$M$2:$N$14,2,FALSE)&LEFT(O848,4)&RIGHT(LEFT(O848,LEN(O848)-1),2)))*1","v":0},{"$nulls":6}," Brad Malone ",{"$nulls":7},0,0]
[{"$f":"(IF(ISERROR(VLOOKUP(G849,[1]Choix14!$M$2:$N$14,2,FALSE)&LEFT(J849,4)&RIGHT(LEFT(J849,LEN(J849)-1),2)),0,VLOOKUP(G849,[1]Choix14!$M$2:$N$14,2,FALSE)&LEFT(J849,4)&RIGHT(LEFT(J849,LEN(J849)-1),2)))*1","v":0},{"$f":"(IF(ISERROR(VLOOKUP(L849,[1]Choix14!$M$2:$N$14,2,FALSE)&LEFT(O849,4)&RIGHT(LEFT(O849,LEN(O849)-1),2)),0,VLOOKUP(L849,[1]Choix14!$M$2:$N$14,2,FALSE)&LEFT(O849,4)&RIGHT(LEFT(O849,LEN(O849)-1),2)))*1","v":0},{"$nulls":6}," Travis Moen ",{"$nulls":7},0,0]
[{"$f":"(IF(ISERROR(VLOOKUP(G850,[1]Choix14!$M$2:$N$14,2,FALSE)&LEFT(J850,4)&RIGHT(LEFT(J850,LEN(J850)-1),2)),0,VLOOKUP(G850,[1]Choix14!$M$2:$N$14,2,FALSE)&LEFT(J850,4)&RIGHT(LEFT(J850,LEN(J850)-1),2)))*1","v":0},{"$f":"(IF(ISERROR(VLOOKUP(L850,[1]Choix14!$M$2:$N$14,2,FALSE)&LEFT(O850,4)&RIGHT(LEFT(O850,LEN(O850)-1),2)),0,VLOOKUP(L850,[1]Choix14!$M$2:$N$14,2,FALSE)&LEFT(O850,4)&RIGHT(LEFT(O850,LEN(O850)-1),2)))*1","v":0},{"$nulls":6}," Jesse Blacker ",{"$nulls":7},0,0]
[{"$f":"(IF(ISERROR(VLOOKUP(G851,[1]Choix14!$M$2:$N$14,2,FALSE)&LEFT(J851,4)&RIGHT(LEFT(J851,LEN(J851)-1),2)),0,VLOOKUP(G851,[1]Choix14!$M$2:$N$14,2,FALSE)&LEFT(J851,4)&RIGHT(LEFT(J851,LEN(J851)-1),2)))*1","v":0},{"$f":"(IF(ISERROR(VLOOKUP(L851,[1]Choix14!$M$2:$N$14,2,FALSE)&LEFT(O851,4)&RIGHT(LEFT(O851,LEN(O851)-1),2)),0,VLOOKUP(L851,[1]Choix14!$M$2:$N$14,2,FALSE)&LEFT(O851,4)&RIGHT(LEFT(O851,LEN(O851)-1),2)))*1","v":0},{"$nulls":6}," Bobby Robins ",{"$nulls":7},0,0]
[{"$f":"(IF(ISERROR(VLOOKUP(G852,[1]Choix14!$M$2:$N$14,2,FALSE)&LEFT(J852,4)&RIGHT(LEFT(J852,LEN(J852)-1),2)),0,VLOOKUP(G852,[1]Choix14!$M$2:$N$14,2,FALSE)&LEFT(J852,4)&RIGHT(LEFT(J852,LEN(J852)-1),2)))*1","v":0},{"$f":"(IF(ISERROR(VLOOKUP(L852,[1]Choix14!$M$2:$N$14,2,FALSE)&LEFT(O852,4)&RIGHT(LEFT(O852,LEN(O852)-1),2)),0,VLOOKUP(L852,[1]Choix14!$M$2:$N$14,2,FALSE)&LEFT(O852,4)&RIGHT(LEFT(O852,LEN(O852)-1),2)))*1","v":0},{"$nulls":6}," Colby Robak ",{"$nulls":7},0,0]
[{"$f":"(IF(ISERROR(VLOOKUP(G853,[1]Choix14!$M$2:$N$14,2,FALSE)&LEFT(J853,4)&RIGHT(LEFT(J853,LEN(J853)-1),2)),0,VLOOKUP(G853,[1]Choix14!$M$2:$N$14,2,FALSE)&LEFT(J853,4)&RIGHT(LEFT(J853,LEN(J853)-1),2)))*1","v":0},{"$f":"(IF(ISERROR(VLOOKUP(L853,[1]Choix14!$M$2:$N$14,2,FALSE)&LEFT(O853,4)&RIGHT(LEFT(O853,LEN(O853)-1),2)),0,VLOOKUP(L853,[1]Choix14!$M$2:$N$14,2,FALSE)&LEFT(O853,4)&RIGHT(LEFT(O853,LEN(O853)-1),2)))*1","v":0},{"$nulls":6}," Patrick Kaleta ",{"$nulls":7},0,0]
[{"$f":"(IF(ISERROR(VLOOKUP(G854,[1]Choix14!$M$2:$N$14,2,FALSE)&LEFT(J854,4)&RIGHT(LEFT(J854,LEN(J854)-1),2)),0,VLOOKUP(G854,[1]Choix14!$M$2:$N$14,2,FALSE)&LEFT(J854,4)&RIGHT(LEFT(J854,LEN(J854)-1),2)))*1","v":0},{"$f":"(IF(ISERROR(VLOOKUP(L854,[1]Choix14!$M$2:$N$14,2,FALSE)&LEFT(O854,4)&RIGHT(LEFT(O854,LEN(O854)-1),2)),0,VLOOKUP(L854,[1]Choix14!$M$2:$N$14,2,FALSE)&LEFT(O854,4)&RIGHT(LEFT(O854,LEN(O854)-1),2)))*1","v":0},{"$nulls":6}," Raphael Diaz ",{"$nulls":7},0,0]
[{"$f":"(IF(ISERROR(VLOOKUP(G855,[1]Choix14!$M$2:$N$14,2,FALSE)&LEFT(J855,4)&RIGHT(LEFT(J855,LEN(J855)-1),2)),0,VLOOKUP(G855,[1]Choix14!$M$2:$N$14,2,FALSE)&LEFT(J855,4)&RIGHT(LEFT(J855,LEN(J855)-1),2)))*1","v":0},{"$f":"(IF(ISERROR(VLOOKUP(L855,[1]Choix14!$M$2:$N$14,2,FALSE)&LEFT(O855,4)&RIGHT(LEFT(O855,LEN(O855)-1),2)),0,VLOOKUP(L855,[1]Choix14!$M$2:$N$14,2,FALSE)&LEFT(O855,4)&RIGHT(LEFT(O855,LEN(O855)-1),2)))*1","v":0},{"$nulls":6}," Mike Blunden ",{"$nulls":7},0,0]
[{"$f":"(IF(ISERROR(VLOOKUP(G856,[1]Choix14!$M$2:$N$14,2,FALSE)&LEFT(J856,4)&RIGHT(LEFT(J856,LEN(J856)-1),2)),0,VLOOKUP(G856,[1]Choix14!$M$2:$N$14,2,FALSE)&LEFT(J856,4)&RIGHT(LEFT(J856,LEN(J856)-1),2)))*1","v":0},{"$f":"(IF(ISERROR(VLOOKUP(L856,[1]Choix14!$M$2:$N$14,2,FALSE)&LEFT(O856,4)&RIGHT(LEFT(O856,LEN(O856)-1),2)),0,VLOOKUP(L856,[1]Choix14!$M$2:$N$14,2,FALSE)&LEFT(O856,4)&RIGHT(LEFT(O856,LEN(O856)-1),2)))*1","v":0},{"$nulls":6}," David van der Gulik ",{"$nulls":7},0,0]
[{"$f":"(IF(ISERROR(VLOOKUP(G857,[1]Choix14!$M$2:$N$14,2,FALSE)&LEFT(J857,4)&RIGHT(LEFT(J857,LEN(J857)-1),2)),0,VLOOKUP(G857,[1]Choix14!$M$2:$N$14,2,FALSE)&LEFT(J857,4)&RIGHT(LEFT(J857,LEN(J857)-1),2)))*1","v":0},{"$f":"(IF(ISERROR(VLOOKUP(L857,[1]Choix14!$M$2:$N$14,2,FALSE)&LEFT(O857,4)&RIGHT(LEFT(O857,LEN(O857)-1),2)),0,VLOOKUP(L857,[1]Choix14!$M$2:$N$14,2,FALSE)&LEFT(O857,4)&RIGHT(LEFT(O857,LEN(O857)-1),2)))*1","v":0},{"$nulls":6}," Korbinian Holzer ",{"$nulls":7},0,0]
[{"$f":"(IF(ISERROR(VLOOKUP(G858,[1]Choix14!$M$2:$N$14,2,FALSE)&LEFT(J858,4)&RIGHT(LEFT(J858,LEN(J858)-1),2)),0,VLOOKUP(G858,[1]Choix14!$M$2:$N$14,2,FALSE)&LEFT(J858,4)&RIGHT(LEFT(J858,LEN(J858)-1),2)))*1","v":0},{"$f":"(IF(ISERROR(VLOOKUP(L858,[1]Choix14!$M$2:$N$14,2,FALSE)&LEFT(O858,4)&RIGHT(LEFT(O858,LEN(O858)-1),2)),0,VLOOKUP(L858,[1]Choix14!$M$2:$N$14,2,FALSE)&LEFT(O858,4)&RIGHT(LEFT(O858,LEN(O858)-1),2)))*1","v":0},{"$nulls":6}," Dave Bolland ",{"$nulls":7},0,0]
[{"$f":"(IF(ISERROR(VLOOKUP(G859,[1]Choix14!$M$2:$N$14,2,FALSE)&LEFT(J859,4)&RIGHT(LEFT(J859,LEN(J859)-1),2)),0,VLOOKUP(G859,[1]Choix14!$M$2:$N$14,2,FALSE)&LEFT(J859,4)&RIGHT(LEFT(J859,LEN(J859)-1),2)))*1","v":0},{"$f":"(IF(ISERROR(VLOOKUP(L859,[1]Choix14!$M$2:$N$14,2,FALSE)&LEFT(O859,4)&RIGHT(LEFT(O859,LEN(O859)-1),2)),0,VLOOKUP(L859,[1]Choix14!$M$2:$N$14,2,FALSE)&LEFT(O859,4)&RIGHT(LEFT(O859,LEN(O859)-1),2)))*1","v":0},{"$nulls":6}," Ryan Spooner ",{"$nulls":7},0,0]
[{"$f":"(IF(ISERROR(VLOOKUP(G860,[1]Choix14!$M$2:$N$14,2,FALSE)&LEFT(J860,4)&RIGHT(LEFT(J860,LEN(J860)-1),2)),0,VLOOKUP(G860,[1]Choix14!$M$2:$N$14,2,FALSE)&LEFT(J860,4)&RIGHT(LEFT(J860,LEN(J860)-1),2)))*1","v":0},{"$f":"(IF(ISERROR(VLOOKUP(L860,[1]Choix14!$M$2:$N$14,2,FALSE)&LEFT(O860,4)&RIGHT(LEFT(O860,LEN(O860)-1),2)),0,VLOOKUP(L860,[1]Choix14!$M$2:$N$14,2,FALSE)&LEFT(O860,4)&RIGHT(LEFT(O860,LEN(O860)-1),2)))*1","v":0},{"$nulls":6}," Johan Larsson ",{"$nulls":7},0,0]
[{"$f":"(IF(ISERROR(VLOOKUP(G861,[1]Choix14!$M$2:$N$14,2,FALSE)&LEFT(J861,4)&RIGHT(LEFT(J861,LEN(J861)-1),2)),0,VLOOKUP(G861,[1]Choix14!$M$2:$N$14,2,FALSE)&LEFT(J861,4)&RIGHT(LEFT(J861,LEN(J861)-1),2)))*1","v":0},{"$f":"(IF(ISERROR(VLOOKUP(L861,[1]Choix14!$M$2:$N$14,2,FALSE)&LEFT(O861,4)&RIGHT(LEFT(O861,LEN(O861)-1),2)),0,VLOOKUP(L861,[1]Choix14!$M$2:$N$14,2,FALSE)&LEFT(O861,4)&RIGHT(LEFT(O861,LEN(O861)-1),2)))*1","v":0},{"$nulls":6}," Patrik Nemeth ",{"$nulls":7},0,0]
[{"$f":"(IF(ISERROR(VLOOKUP(G862,[1]Choix14!$M$2:$N$14,2,FALSE)&LEFT(J862,4)&RIGHT(LEFT(J862,LEN(J862)-1),2)),0,VLOOKUP(G862,[1]Choix14!$M$2:$N$14,2,FALSE)&LEFT(J862,4)&RIGHT(LEFT(J862,LEN(J862)-1),2)))*1","v":0},{"$f":"(IF(ISERROR(VLOOKUP(L862,[1]Choix14!$M$2:$N$14,2,FALSE)&LEFT(O862,4)&RIGHT(LEFT(O862,LEN(O862)-1),2)),0,VLOOKUP(L862,[1]Choix14!$M$2:$N$14,2,FALSE)&LEFT(O862,4)&RIGHT(LEFT(O862,LEN(O862)-1),2)))*1","v":0},{"$nulls":6}," Tyler Pitlick ",{"$nulls":7},0,0]
[{"$f":"(IF(ISERROR(VLOOKUP(G863,[1]Choix14!$M$2:$N$14,2,FALSE)&LEFT(J863,4)&RIGHT(LEFT(J863,LEN(J863)-1),2)),0,VLOOKUP(G863,[1]Choix14!$M$2:$N$14,2,FALSE)&LEFT(J863,4)&RIGHT(LEFT(J863,LEN(J863)-1),2)))*1","v":0},{"$f":"(IF(ISERROR(VLOOKUP(L863,[1]Choix14!$M$2:$N$14,2,FALSE)&LEFT(O863,4)&RIGHT(LEFT(O863,LEN(O863)-1),2)),0,VLOOKUP(L863,[1]Choix14!$M$2:$N$14,2,FALSE)&LEFT(O863,4)&RIGHT(LEFT(O863,LEN(O863)-1),2)))*1","v":0},{"$nulls":6}," Dylan McIlrath ",{"$nulls":7},0,0]
[{"$f":"(IF(ISERROR(VLOOKUP(G864,[1]Choix14!$M$2:$N$14,2,FALSE)&LEFT(J864,4)&RIGHT(LEFT(J864,LEN(J864)-1),2)),0,VLOOKUP(G864,[1]Choix14!$M$2:$N$14,2,FALSE)&LEFT(J864,4)&RIGHT(LEFT(J864,LEN(J864)-1),2)))*1","v":0},{"$f":"(IF(ISERROR(VLOOKUP(L864,[1]Choix14!$M$2:$N$14,2,FALSE)&LEFT(O864,4)&RIGHT(LEFT(O864,LEN(O864)-1),2)),0,VLOOKUP(L864,[1]Choix14!$M$2:$N$14,2,FALSE)&LEFT(O864,4)&RIGHT(LEFT(O864,LEN(O864)-1),2)))*1","v":0},{"$nulls":6}," Devin Setoguchi ",{"$nulls":7},0,0]
[{"$f":"(IF(ISERROR(VLOOKUP(G865,[1]Choix14!$M$2:$N$14,2,FALSE)&LEFT(J865,4)&RIGHT(LEFT(J865,LEN(J865)-1),2)),0,VLOOKUP(G865,[1]Choix14!$M$2:$N$14,2,FALSE)&LEFT(J865,4)&RIGHT(LEFT(J865,LEN(J865)-1),2)))*1","v":0},{"$f":"(IF(ISERROR(VLOOKUP(L865,[1]Choix14!$M$2:$N$14,2,FALSE)&LEFT(O865,4)&RIGHT(LEFT(O865,LEN(O865)-1),2)),0,VLOOKUP(L865,[1]Choix14!$M$2:$N$14,2,FALSE)&LEFT(O865,4)&RIGHT(LEFT(O865,LEN(O865)-1),2)))*1","v":0},{"$nulls":6}," Andre Benoit ",{"$nulls":7},0,0]
[{"$f":"(IF(ISERROR(VLOOKUP(G866,[1]Choix14!$M$2:$N$14,2,FALSE)&LEFT(J866,4)&RIGHT(LEFT(J866,LEN(J866)-1),2)),0,VLOOKUP(G866,[1]Choix14!$M$2:$N$14,2,FALSE)&LEFT(J866,4)&RIGHT(LEFT(J866,LEN(J866)-1),2)))*1","v":0},{"$f":"(IF(ISERROR(VLOOKUP(L866,[1]Choix14!$M$2:$N$14,2,FALSE)&LEFT(O866,4)&RIGHT(LEFT(O866,LEN(O866)-1),2)),0,VLOOKUP(L866,[1]Choix14!$M$2:$N$14,2,FALSE)&LEFT(O866,4)&RIGHT(LEFT(O866,LEN(O866)-1),2)))*1","v":0},{"$nulls":6}," Max Reinhart ",{"$nulls":7},0,0]
[{"$f":"(IF(ISERROR(VLOOKUP(G867,[1]Choix14!$M$2:$N$14,2,FALSE)&LEFT(J867,4)&RIGHT(LEFT(J867,LEN(J867)-1),2)),0,VLOOKUP(G867,[1]Choix14!$M$2:$N$14,2,FALSE)&LEFT(J867,4)&RIGHT(LEFT(J867,LEN(J867)-1),2)))*1","v":0},{"$f":"(IF(ISERROR(VLOOKUP(L867,[1]Choix14!$M$2:$N$14,2,FALSE)&LEFT(O867,4)&RIGHT(LEFT(O867,LEN(O867)-1),2)),0,VLOOKUP(L867,[1]Choix14!$M$2:$N$14,2,FALSE)&LEFT(O867,4)&RIGHT(LEFT(O867,LEN(O867)-1),2)))*1","v":0},{"$nulls":6}," Mark Barberio ",{"$nulls":7},0,0]
[{"$f":"(IF(ISERROR(VLOOKUP(G868,[1]Choix14!$M$2:$N$14,2,FALSE)&LEFT(J868,4)&RIGHT(LEFT(J868,LEN(J868)-1),2)),0,VLOOKUP(G868,[1]Choix14!$M$2:$N$14,2,FALSE)&LEFT(J868,4)&RIGHT(LEFT(J868,LEN(J868)-1),2)))*1","v":0},{"$f":"(IF(ISERROR(VLOOKUP(L868,[1]Choix14!$M$2:$N$14,2,FALSE)&LEFT(O868,4)&RIGHT(LEFT(O868,LEN(O868)-1),2)),0,VLOOKUP(L868,[1]Choix14!$M$2:$N$14,2,FALSE)&LEFT(O868,4)&RIGHT(LEFT(O868,LEN(O868)-1),2)))*1","v":0},{"$nulls":6}," Sam Carrick ",{"$nulls":7},0,0]
[{"$f":"(IF(ISERROR(VLOOKUP(G869,[1]Choix14!$M$2:$N$14,2,FALSE)&LEFT(J869,4)&RIGHT(LEFT(J869,LEN(J869)-1),2)),0,VLOOKUP(G869,[1]Choix14!$M$2:$N$14,2,FALSE)&LEFT(J869,4)&RIGHT(LEFT(J869,LEN(J869)-1),2)))*1","v":0},{"$f":"(IF(ISERROR(VLOOKUP(L869,[1]Choix14!$M$2:$N$14,2,FALSE)&LEFT(O869,4)&RIGHT(LEFT(O869,LEN(O869)-1),2)),0,VLOOKUP(L869,[1]Choix14!$M$2:$N$14,2,FALSE)&LEFT(O869,4)&RIGHT(LEFT(O869,LEN(O869)-1),2)))*1","v":0},{"$nulls":6}," Chris Wagner ",{"$nulls":7},0,0]
[{"$f":"(IF(ISERROR(VLOOKUP(G870,[1]Choix14!$M$2:$N$14,2,FALSE)&LEFT(J870,4)&RIGHT(LEFT(J870,LEN(J870)-1),2)),0,VLOOKUP(G870,[1]Choix14!$M$2:$N$14,2,FALSE)&LEFT(J870,4)&RIGHT(LEFT(J870,LEN(J870)-1),2)))*1","v":0},{"$f":"(IF(ISERROR(VLOOKUP(L870,[1]Choix14!$M$2:$N$14,2,FALSE)&LEFT(O870,4)&RIGHT(LEFT(O870,LEN(O870)-1),2)),0,VLOOKUP(L870,[1]Choix14!$M$2:$N$14,2,FALSE)&LEFT(O870,4)&RIGHT(LEFT(O870,LEN(O870)-1),2)))*1","v":0},{"$nulls":6}," Craig Cunningham ",{"$nulls":7},0,0]
[{"$f":"(IF(ISERROR(VLOOKUP(G871,[1]Choix14!$M$2:$N$14,2,FALSE)&LEFT(J871,4)&RIGHT(LEFT(J871,LEN(J871)-1),2)),0,VLOOKUP(G871,[1]Choix14!$M$2:$N$14,2,FALSE)&LEFT(J871,4)&RIGHT(LEFT(J871,LEN(J871)-1),2)))*1","v":0},{"$f":"(IF(ISERROR(VLOOKUP(L871,[1]Choix14!$M$2:$N$14,2,FALSE)&LEFT(O871,4)&RIGHT(LEFT(O871,LEN(O871)-1),2)),0,VLOOKUP(L871,[1]Choix14!$M$2:$N$14,2,FALSE)&LEFT(O871,4)&RIGHT(LEFT(O871,LEN(O871)-1),2)))*1","v":0},{"$nulls":6}," Jeremy Morin ",{"$nulls":7},0,0]
[{"$f":"(IF(ISERROR(VLOOKUP(G872,[1]Choix14!$M$2:$N$14,2,FALSE)&LEFT(J872,4)&RIGHT(LEFT(J872,LEN(J872)-1),2)),0,VLOOKUP(G872,[1]Choix14!$M$2:$N$14,2,FALSE)&LEFT(J872,4)&RIGHT(LEFT(J872,LEN(J872)-1),2)))*1","v":0},{"$f":"(IF(ISERROR(VLOOKUP(L872,[1]Choix14!$M$2:$N$14,2,FALSE)&LEFT(O872,4)&RIGHT(LEFT(O872,LEN(O872)-1),2)),0,VLOOKUP(L872,[1]Choix14!$M$2:$N$14,2,FALSE)&LEFT(O872,4)&RIGHT(LEFT(O872,LEN(O872)-1),2)))*1","v":0},{"$nulls":6}," Michael Bournival ",{"$nulls":7},0,0]
[{"$f":"(IF(ISERROR(VLOOKUP(G873,[1]Choix14!$M$2:$N$14,2,FALSE)&LEFT(J873,4)&RIGHT(LEFT(J873,LEN(J873)-1),2)),0,VLOOKUP(G873,[1]Choix14!$M$2:$N$14,2,FALSE)&LEFT(J873,4)&RIGHT(LEFT(J873,LEN(J873)-1),2)))*1","v":0},{"$f":"(IF(ISERROR(VLOOKUP(L873,[1]Choix14!$M$2:$N$14,2,FALSE)&LEFT(O873,4)&RIGHT(LEFT(O873,LEN(O873)-1),2)),0,VLOOKUP(L873,[1]Choix14!$M$2:$N$14,2,FALSE)&LEFT(O873,4)&RIGHT(LEFT(O873,LEN(O873)-1),2)))*1","v":0},{"$nulls":6}," Ryan Malone ",{"$nulls":7},0,0]
[{"$f":"(IF(ISERROR(VLOOKUP(G874,[1]Choix14!$M$2:$N$14,2,FALSE)&LEFT(J874,4)&RIGHT(LEFT(J874,LEN(J874)-1),2)),0,VLOOKUP(G874,[1]Choix14!$M$2:$N$14,2,FALSE)&LEFT(J874,4)&RIGHT(LEFT(J874,LEN(J874)-1),2)))*1","v":0},{"$f":"(IF(ISERROR(VLOOKUP(L874,[1]Choix14!$M$2:$N$14,2,FALSE)&LEFT(O874,4)&RIGHT(LEFT(O874,LEN(O874)-1),2)),0,VLOOKUP(L874,[1]Choix14!$M$2:$N$14,2,FALSE)&LEFT(O874,4)&RIGHT(LEFT(O874,LEN(O874)-1),2)))*1","v":0},{"$nulls":6}," Blair Jones ",{"$nulls":7},0,0]
[{"$f":"(IF(ISERROR(VLOOKUP(G875,[1]Choix14!$M$2:$N$14,2,FALSE)&LEFT(J875,4)&RIGHT(LEFT(J875,LEN(J875)-1),2)),0,VLOOKUP(G875,[1]Choix14!$M$2:$N$14,2,FALSE)&LEFT(J875,4)&RIGHT(LEFT(J875,LEN(J875)-1),2)))*1","v":0},{"$f":"(IF(ISERROR(VLOOKUP(L875,[1]Choix14!$M$2:$N$14,2,FALSE)&LEFT(O875,4)&RIGHT(LEFT(O875,LEN(O875)-1),2)),0,VLOOKUP(L875,[1]Choix14!$M$2:$N$14,2,FALSE)&LEFT(O875,4)&RIGHT(LEFT(O875,LEN(O875)-1),2)))*1","v":0},{"$nulls":6}," Brian Dumoulin ",{"$nulls":7},0,0]
[{"$f":"(IF(ISERROR(VLOOKUP(G876,[1]Choix14!$M$2:$N$14,2,FALSE)&LEFT(J876,4)&RIGHT(LEFT(J876,LEN(J876)-1),2)),0,VLOOKUP(G876,[1]Choix14!$M$2:$N$14,2,FALSE)&LEFT(J876,4)&RIGHT(LEFT(J876,LEN(J876)-1),2)))*1","v":0},{"$f":"(IF(ISERROR(VLOOKUP(L876,[1]Choix14!$M$2:$N$14,2,FALSE)&LEFT(O876,4)&RIGHT(LEFT(O876,LEN(O876)-1),2)),0,VLOOKUP(L876,[1]Choix14!$M$2:$N$14,2,FALSE)&LEFT(O876,4)&RIGHT(LEFT(O876,LEN(O876)-1),2)))*1","v":0},{"$nulls":6}," Paul Carey ",{"$nulls":7},0,0]
[{"$f":"(IF(ISERROR(VLOOKUP(G877,[1]Choix14!$M$2:$N$14,2,FALSE)&LEFT(J877,4)&RIGHT(LEFT(J877,LEN(J877)-1),2)),0,VLOOKUP(G877,[1]Choix14!$M$2:$N$14,2,FALSE)&LEFT(J877,4)&RIGHT(LEFT(J877,LEN(J877)-1),2)))*1","v":0},{"$f":"(IF(ISERROR(VLOOKUP(L877,[1]Choix14!$M$2:$N$14,2,FALSE)&LEFT(O877,4)&RIGHT(LEFT(O877,LEN(O877)-1),2)),0,VLOOKUP(L877,[1]Choix14!$M$2:$N$14,2,FALSE)&LEFT(O877,4)&RIGHT(LEFT(O877,LEN(O877)-1),2)))*1","v":0},{"$nulls":6}," Viktor Stalberg ",{"$nulls":7},0,0]
[{"$f":"(IF(ISERROR(VLOOKUP(G878,[1]Choix14!$M$2:$N$14,2,FALSE)&LEFT(J878,4)&RIGHT(LEFT(J878,LEN(J878)-1),2)),0,VLOOKUP(G878,[1]Choix14!$M$2:$N$14,2,FALSE)&LEFT(J878,4)&RIGHT(LEFT(J878,LEN(J878)-1),2)))*1","v":0},{"$f":"(IF(ISERROR(VLOOKUP(L878,[1]Choix14!$M$2:$N$14,2,FALSE)&LEFT(O878,4)&RIGHT(LEFT(O878,LEN(O878)-1),2)),0,VLOOKUP(L878,[1]Choix14!$M$2:$N$14,2,FALSE)&LEFT(O878,4)&RIGHT(LEFT(O878,LEN(O878)-1),2)))*1","v":0},{"$nulls":6}," Matt Tennyson ",{"$nulls":7},0,0]
[{"$f":"(IF(ISERROR(VLOOKUP(G879,[1]Choix14!$M$2:$N$14,2,FALSE)&LEFT(J879,4)&RIGHT(LEFT(J879,LEN(J879)-1),2)),0,VLOOKUP(G879,[1]Choix14!$M$2:$N$14,2,FALSE)&LEFT(J879,4)&RIGHT(LEFT(J879,LEN(J879)-1),2)))*1","v":0},{"$f":"(IF(ISERROR(VLOOKUP(L879,[1]Choix14!$M$2:$N$14,2,FALSE)&LEFT(O879,4)&RIGHT(LEFT(O879,LEN(O879)-1),2)),0,VLOOKUP(L879,[1]Choix14!$M$2:$N$14,2,FALSE)&LEFT(O879,4)&RIGHT(LEFT(O879,LEN(O879)-1),2)))*1","v":0},{"$nulls":6}," Sean Collins ",{"$nulls":7},0,0]
[{"$f":"(IF(ISERROR(VLOOKUP(G880,[1]Choix14!$M$2:$N$14,2,FALSE)&LEFT(J880,4)&RIGHT(LEFT(J880,LEN(J880)-1),2)),0,VLOOKUP(G880,[1]Choix14!$M$2:$N$14,2,FALSE)&LEFT(J880,4)&RIGHT(LEFT(J880,LEN(J880)-1),2)))*1","v":0},{"$f":"(IF(ISERROR(VLOOKUP(L880,[1]Choix14!$M$2:$N$14,2,FALSE)&LEFT(O880,4)&RIGHT(LEFT(O880,LEN(O880)-1),2)),0,VLOOKUP(L880,[1]Choix14!$M$2:$N$14,2,FALSE)&LEFT(O880,4)&RIGHT(LEFT(O880,LEN(O880)-1),2)))*1","v":0},{"$nulls":6}," Brendan Shinnimin ",{"$nulls":7},0,0]
[{"$f":"(IF(ISERROR(VLOOKUP(G881,[1]Choix14!$M$2:$N$14,2,FALSE)&LEFT(J881,4)&RIGHT(LEFT(J881,LEN(J881)-1),2)),0,VLOOKUP(G881,[1]Choix14!$M$2:$N$14,2,FALSE)&LEFT(J881,4)&RIGHT(LEFT(J881,LEN(J881)-1),2)))*1","v":0},{"$f":"(IF(ISERROR(VLOOKUP(L881,[1]Choix14!$M$2:$N$14,2,FALSE)&LEFT(O881,4)&RIGHT(LEFT(O881,LEN(O881)-1),2)),0,VLOOKUP(L881,[1]Choix14!$M$2:$N$14,2,FALSE)&LEFT(O881,4)&RIGHT(LEFT(O881,LEN(O881)-1),2)))*1","v":0},{"$nulls":6}," Rich Clune ",{"$nulls":7},0,0]
[{"$f":"(IF(ISERROR(VLOOKUP(G882,[1]Choix14!$M$2:$N$14,2,FALSE)&LEFT(J882,4)&RIGHT(LEFT(J882,LEN(J882)-1),2)),0,VLOOKUP(G882,[1]Choix14!$M$2:$N$14,2,FALSE)&LEFT(J882,4)&RIGHT(LEFT(J882,LEN(J882)-1),2)))*1","v":0},{"$f":"(IF(ISERROR(VLOOKUP(L882,[1]Choix14!$M$2:$N$14,2,FALSE)&LEFT(O882,4)&RIGHT(LEFT(O882,LEN(O882)-1),2)),0,VLOOKUP(L882,[1]Choix14!$M$2:$N$14,2,FALSE)&LEFT(O882,4)&RIGHT(LEFT(O882,LEN(O882)-1),2)))*1","v":0},{"$nulls":6}," Ryan Murray ",{"$nulls":7},0,0]
[{"$f":"(IF(ISERROR(VLOOKUP(G883,[1]Choix14!$M$2:$N$14,2,FALSE)&LEFT(J883,4)&RIGHT(LEFT(J883,LEN(J883)-1),2)),0,VLOOKUP(G883,[1]Choix14!$M$2:$N$14,2,FALSE)&LEFT(J883,4)&RIGHT(LEFT(J883,LEN(J883)-1),2)))*1","v":0},{"$f":"(IF(ISERROR(VLOOKUP(L883,[1]Choix14!$M$2:$N$14,2,FALSE)&LEFT(O883,4)&RIGHT(LEFT(O883,LEN(O883)-1),2)),0,VLOOKUP(L883,[1]Choix14!$M$2:$N$14,2,FALSE)&LEFT(O883,4)&RIGHT(LEFT(O883,LEN(O883)-1),2)))*1","v":0},{"$nulls":6}," Luke Gazdic ",{"$nulls":7},0,0]
[{"$f":"(IF(ISERROR(VLOOKUP(G884,[1]Choix14!$M$2:$N$14,2,FALSE)&LEFT(J884,4)&RIGHT(LEFT(J884,LEN(J884)-1),2)),0,VLOOKUP(G884,[1]Choix14!$M$2:$N$14,2,FALSE)&LEFT(J884,4)&RIGHT(LEFT(J884,LEN(J884)-1),2)))*1","v":0},{"$f":"(IF(ISERROR(VLOOKUP(L884,[1]Choix14!$M$2:$N$14,2,FALSE)&LEFT(O884,4)&RIGHT(LEFT(O884,LEN(O884)-1),2)),0,VLOOKUP(L884,[1]Choix14!$M$2:$N$14,2,FALSE)&LEFT(O884,4)&RIGHT(LEFT(O884,LEN(O884)-1),2)))*1","v":0},{"$nulls":6}," Andrew Campbell ",{"$nulls":7},0,0]
[{"$f":"(IF(ISERROR(VLOOKUP(G885,[1]Choix14!$M$2:$N$14,2,FALSE)&LEFT(J885,4)&RIGHT(LEFT(J885,LEN(J885)-1),2)),0,VLOOKUP(G885,[1]Choix14!$M$2:$N$14,2,FALSE)&LEFT(J885,4)&RIGHT(LEFT(J885,LEN(J885)-1),2)))*1","v":0},{"$f":"(IF(ISERROR(VLOOKUP(L885,[1]Choix14!$M$2:$N$14,2,FALSE)&LEFT(O885,4)&RIGHT(LEFT(O885,LEN(O885)-1),2)),0,VLOOKUP(L885,[1]Choix14!$M$2:$N$14,2,FALSE)&LEFT(O885,4)&RIGHT(LEFT(O885,LEN(O885)-1),2)))*1","v":0},{"$nulls":6}," Justin Falk ",{"$nulls":7},0,0]
[{"$f":"(IF(ISERROR(VLOOKUP(G886,[1]Choix14!$M$2:$N$14,2,FALSE)&LEFT(J886,4)&RIGHT(LEFT(J886,LEN(J886)-1),2)),0,VLOOKUP(G886,[1]Choix14!$M$2:$N$14,2,FALSE)&LEFT(J886,4)&RIGHT(LEFT(J886,LEN(J886)-1),2)))*1","v":0},{"$f":"(IF(ISERROR(VLOOKUP(L886,[1]Choix14!$M$2:$N$14,2,FALSE)&LEFT(O886,4)&RIGHT(LEFT(O886,LEN(O886)-1),2)),0,VLOOKUP(L886,[1]Choix14!$M$2:$N$14,2,FALSE)&LEFT(O886,4)&RIGHT(LEFT(O886,LEN(O886)-1),2)))*1","v":0},{"$nulls":6}," Keith Aulie ",{"$nulls":7},0,0]
[{"$f":"(IF(ISERROR(VLOOKUP(G887,[1]Choix14!$M$2:$N$14,2,FALSE)&LEFT(J887,4)&RIGHT(LEFT(J887,LEN(J887)-1),2)),0,VLOOKUP(G887,[1]Choix14!$M$2:$N$14,2,FALSE)&LEFT(J887,4)&RIGHT(LEFT(J887,LEN(J887)-1),2)))*1","v":0},{"$f":"(IF(ISERROR(VLOOKUP(L887,[1]Choix14!$M$2:$N$14,2,FALSE)&LEFT(O887,4)&RIGHT(LEFT(O887,LEN(O887)-1),2)),0,VLOOKUP(L887,[1]Choix14!$M$2:$N$14,2,FALSE)&LEFT(O887,4)&RIGHT(LEFT(O887,LEN(O887)-1),2)))*1","v":0},{"$nulls":6}," Anthony Peluso ",{"$nulls":7},0,0]
[{"$f":"(IF(ISERROR(VLOOKUP(G888,[1]Choix14!$M$2:$N$14,2,FALSE)&LEFT(J888,4)&RIGHT(LEFT(J888,LEN(J888)-1),2)),0,VLOOKUP(G888,[1]Choix14!$M$2:$N$14,2,FALSE)&LEFT(J888,4)&RIGHT(LEFT(J888,LEN(J888)-1),2)))*1","v":0},{"$f":"(IF(ISERROR(VLOOKUP(L888,[1]Choix14!$M$2:$N$14,2,FALSE)&LEFT(O888,4)&RIGHT(LEFT(O888,LEN(O888)-1),2)),0,VLOOKUP(L888,[1]Choix14!$M$2:$N$14,2,FALSE)&LEFT(O888,4)&RIGHT(LEFT(O888,LEN(O888)-1),2)))*1","v":0},{"$nulls":6}," Griffin Reinhart ",{"$nulls":7},0,0]
[{"$f":"(IF(ISERROR(VLOOKUP(G889,[1]Choix14!$M$2:$N$14,2,FALSE)&LEFT(J889,4)&RIGHT(LEFT(J889,LEN(J889)-1),2)),0,VLOOKUP(G889,[1]Choix14!$M$2:$N$14,2,FALSE)&LEFT(J889,4)&RIGHT(LEFT(J889,LEN(J889)-1),2)))*1","v":0},{"$nulls":7}," Dany Heatley "]
[{"$f":"(IF(ISERROR(VLOOKUP(G890,[1]Choix14!$M$2:$N$14,2,FALSE)&LEFT(J890,4)&RIGHT(LEFT(J890,LEN(J890)-1),2)),0,VLOOKUP(G890,[1]Choix14!$M$2:$N$14,2,FALSE)&LEFT(J890,4)&RIGHT(LEFT(J890,LEN(J890)-1),2)))*1","v":0},{"$nulls":7}," Mike Brown "]
[{"$f":"(IF(ISERROR(VLOOKUP(G891,[1]Choix14!$M$2:$N$14,2,FALSE)&LEFT(J891,4)&RIGHT(LEFT(J891,LEN(J891)-1),2)),0,VLOOKUP(G891,[1]Choix14!$M$2:$N$14,2,FALSE)&LEFT(J891,4)&RIGHT(LEFT(J891,LEN(J891)-1),2)))*1","v":0},{"$nulls":7}," Scott Wilson "]
[{"$f":"(IF(ISERROR(VLOOKUP(G892,[1]Choix14!$M$2:$N$14,2,FALSE)&LEFT(J892,4)&RIGHT(LEFT(J892,LEN(J892)-1),2)),0,VLOOKUP(G892,[1]Choix14!$M$2:$N$14,2,FALSE)&LEFT(J892,4)&RIGHT(LEFT(J892,LEN(J892)-1),2)))*1","v":0},{"$nulls":7}," Stephane Veilleux "]
[{"$nulls":8}," Jordan Caron "]
[{"$nulls":8}," Carter Ashton "]
[{"$nulls":8}," Nicklas Jensen "]
[{"$nulls":8}," Zach Sill "]
[{"$nulls":8}," Phillip Danault "]
[{"$nulls":8}," Alex Khokhlachev "]
[{"$nulls":8}," Lucas Lessio "]
[{"$nulls":8}," Brody Sutter "]
[{"$nulls":8}," Brian McGrattan "]
[{"$nulls":8}," Reid Boucher "]
[{"$nulls":8}," Andy Andreoff "]
[{"$nulls":8}," Jordan Schroeder "]
[{"$nulls":8}," Mark Fistric "]
[{"$nulls":8}," Brad Stuart "]

{"sheet":"Draft17","index":2,"n_rows":146,"n_cols":22,"rows_kept":146}
["Draft 2015",null,null,"Overall ",{"$nulls":6},"01e","02e","03e","04e","05e","06e","07e","08e","09e","10e","11e","12e"]
["Overall","Year","Round","Pooler","Trade #","Joueur - Player drafted","Pooler #",null,"Ordre final 2017",null,"Round 1","Round 2","Round 3","Round 4","Round 5","Round 6","Round 7","Round 8","Round 9","Round 10","Round 11","Round 12"]
[1,2017,1,{"$f":"VLOOKUP(A3,Choix17!$F$2:$G$145,2,FALSE)","v":"Michae"},{"$f":"IF(VLOOKUP(A3,Choix17!$F$2:$L$145,7,FALSE)=0,\"\",CONCATENATE(\"trade #\",VLOOKUP(A3,Choix17!$F$2:$L$145,7,FALSE)))","v":""},null,{"$f":"VLOOKUP(A3,[1]Choix16!$F$2:$K$145,6,FALSE)","v":650},1,"Frank1",null,12,{"$f":"K3+12","v":24},{"$f":"L3+12","v":36},48,60,72,84,96,108,{"$f":"S3+12","v":120},{"$f":"T3+12","v":132},144]
[{"$f":"A3+1","v":2},2017,1,{"$f":"VLOOKUP(A4,Choix17!$F$2:$G$145,2,FALSE)","v":"Bastie"},{"$f":"IF(VLOOKUP(A4,Choix17!$F$2:$L$145,7,FALSE)=0,\"\",CONCATENATE(\"trade #\",VLOOKUP(A4,Choix17!$F$2:$L$145,7,FALSE)))","v":""},null,{"$f":"VLOOKUP(A4,[1]Choix16!$F$2:$K$145,6,FALSE)","v":350},2,"FredLa",null,11,{"$f":"K4+12","v":23},35,47,59,71,83,95,107,119,131,143]
[{"$f":"A4+1","v":3},2017,1,{"$f":"VLOOKUP(A5,Choix17!$F$2:$G$145,2,FALSE)","v":"Michae reçu de Martin"},{"$f":"IF(VLOOKUP(A5,Choix17!$F$2:$L$145,7,FALSE)=0,\"\",CONCATENATE(\"trade #\",VLOOKUP(A5,Choix17!$F$2:$L$145,7,FALSE)))","v":"trade #1"},null,{"$f":"VLOOKUP(A5,[1]Choix16!$F$2:$K$145,6,FALSE)","v":250},3,"Julien",null,10,22,34,46,58,70,82,94,106,118,130,142]
[4,2017,1,{"$f":"VLOOKUP(A6,Choix17!$F$2:$G$145,2,FALSE)","v":"JoelCa"},{"$f":"IF(VLOOKUP(A6,Choix17!$F$2:$L$145,7,FALSE)=0,\"\",CONCATENATE(\"trade #\",VLOOKUP(A6,Choix17!$F$2:$L$145,7,FALSE)))","v":""},null,{"$f":"VLOOKUP(A6,[1]Choix16!$F$2:$K$145,6,FALSE)","v":300},4,"Evansh",null,9,21,33,45,57,69,81,93,105,117,129,141]
[5,2017,1,{"$f":"VLOOKUP(A7,Choix17!$F$2:$G$145,2,FALSE)","v":"Nicola"},{"$f":"IF(VLOOKUP(A7,Choix17!$F$2:$L$145,7,FALSE)=0,\"\",CONCATENATE(\"trade #\",VLOOKUP(A7,Choix17!$F$2:$L$145,7,FALSE)))","v":""},null,{"$f":"VLOOKUP(A7,[1]Choix16!$F$2:$K$145,6,FALSE)","v":550},5,"Frank2",null,8,20,32,44,56,68,80,92,104,116,128,140]
[6,2017,1,{"$f":"VLOOKUP(A8,Choix17!$F$2:$G$145,2,FALSE)","v":"Nadeau"},{"$f":"IF(VLOOKUP(A8,Choix17!$F$2:$L$145,7,FALSE)=0,\"\",CONCATENATE(\"trade #\",VLOOKUP(A8,Choix17!$F$2:$L$145,7,FALSE)))","v":""},null,{"$f":"VLOOKUP(A8,[1]Choix16!$F$2:$K$145,6,FALSE)","v":400},6,"Cedrik",null,7,19,31,43,55,67,79,91,103,115,127,139]
[7,2017,1,{"$f":"VLOOKUP(A9,Choix17!$F$2:$G$145,2,FALSE)","v":"Cedrik"},{"$f":"IF(VLOOKUP(A9,Choix17!$F$2:$L$145,7,FALSE)=0,\"\",CONCATENATE(\"trade #\",VLOOKUP(A9,Choix17!$F$2:$L$145,7,FALSE)))","v":""},null,{"$f":"VLOOKUP(A9,[1]Choix16!$F$2:$K$145,6,FALSE)","v":600},7,"Nadeau",null,6,18,30,42,54,66,78,90,102,114,126,138]
[8,2017,1,{"$f":"VLOOKUP(A10,Choix17!$F$2:$G$145,2,FALSE)","v":"Frank1 reçu de Frank2"},{"$f":"IF(VLOOKUP(A10,Choix17!$F$2:$L$145,7,FALSE)=0,\"\",CONCATENATE(\"trade #\",VLOOKUP(A10,Choix17!$F$2:$L$145,7,FALSE)))","v":"trade #2"},null,{"$f":"VLOOKUP(A10,[1]Choix16!$F$2:$K$145,6,FALSE)","v":150},8,"Nicola",null,5,17,29,41,53,65,77,89,101,113,125,137]
[9,2017,1,{"$f":"VLOOKUP(A11,Choix17!$F$2:$G$145,2,FALSE)","v":"EvansH"},{"$f":"IF(VLOOKUP(A11,Choix17!$F$2:$L$145,7,FALSE)=0,\"\",CONCATENATE(\"trade #\",VLOOKUP(A11,Choix17!$F$2:$L$145,7,FALSE)))","v":""},null,{"$f":"VLOOKUP(A11,[1]Choix16!$F$2:$K$145,6,FALSE)","v":100},9,"JoelCa",null,4,16,28,40,52,64,76,88,100,112,124,136]
[10,2017,1,{"$f":"VLOOKUP(A12,Choix17!$F$2:$G$145,2,FALSE)","v":"Julien"},{"$f":"IF(VLOOKUP(A12,Choix17!$F$2:$L$145,7,FALSE)=0,\"\",CONCATENATE(\"trade #\",VLOOKUP(A12,Choix17!$F$2:$L$145,7,FALSE)))","v":""},null,{"$f":"VLOOKUP(A12,[1]Choix16!$F$2:$K$145,6,FALSE)","v":450},10,"Martin",null,3,15,27,39,51,63,75,87,99,111,123,135]
[11,2017,1,{"$f":"VLOOKUP(A13,Choix17!$F$2:$G$145,2,FALSE)","v":"FredLa"},{"$f":"IF(VLOOKUP(A13,Choix17!$F$2:$L$145,7,FALSE)=0,\"\",CONCATENATE(\"trade #\",VLOOKUP(A13,Choix17!$F$2:$L$145,7,FALSE)))","v":""},null,{"$f":"VLOOKUP(A13,[1]Choix16!$F$2:$K$145,6,FALSE)","v":500},11,"Bastie",null,2,14,26,38,50,62,74,86,98,110,122,134]
[12,2017,1,{"$f":"VLOOKUP(A14,Choix17!$F$2:$G$145,2,FALSE)","v":"Frank1"},{"$f":"IF(VLOOKUP(A14,Choix17!$F$2:$L$145,7,FALSE)=0,\"\",CONCATENATE(\"trade #\",VLOOKUP(A14,Choix17!$F$2:$L$145,7,FALSE)))","v":""},null,{"$f":"VLOOKUP(A14,[1]Choix16!$F$2:$K$145,6,FALSE)","v":200},12,"Michae",null,1,13,25,37,49,61,73,85,97,109,121,133]
[13,2017,2,{"$f":"VLOOKUP(A15,Choix17!$F$2:$G$145,2,FALSE)","v":"Michae"},{"$f":"IF(VLOOKUP(A15,Choix17!$F$2:$L$145,7,FALSE)=0,\"\",CONCATENATE(\"trade #\",VLOOKUP(A15,Choix17!$F$2:$L$145,7,FALSE)))","v":""},null,{"$f":"VLOOKUP(A15,[1]Choix16!$F$2:$K$145,6,FALSE)","v":650}]
[14,2017,2,{"$f":"VLOOKUP(A16,Choix17!$F$2:$G$145,2,FALSE)","v":"Bastie"},{"$f":"IF(VLOOKUP(A16,Choix17!$F$2:$L$145,7,FALSE)=0,\"\",CONCATENATE(\"trade #\",VLOOKUP(A16,Choix17!$F$2:$L$145,7,FALSE)))","v":""},null,{"$f":"VLOOKUP(A16,[1]Choix16!$F$2:$K$145,6,FALSE)","v":350}]
[15,2017,2,{"$f":"VLOOKUP(A17,Choix17!$F$2:$G$145,2,FALSE)","v":"Martin"},{"$f":"IF(VLOOKUP(A17,Choix17!$F$2:$L$145,7,FALSE)=0,\"\",CONCATENATE(\"trade #\",VLOOKUP(A17,Choix17!$F$2:$L$145,7,FALSE)))","v":""},null,{"$f":"VLOOKUP(A17,[1]Choix16!$F$2:$K$145,6,FALSE)","v":250}]
[16,2017,2,{"$f":"VLOOKUP(A18,Choix17!$F$2:$G$145,2,FALSE)","v":"JoelCa"},{"$f":"IF(VLOOKUP(A18,Choix17!$F$2:$L$145,7,FALSE)=0,\"\",CONCATENATE(\"trade #\",VLOOKUP(A18,Choix17!$F$2:$L$145,7,FALSE)))","v":""},null,{"$f":"VLOOKUP(A18,[1]Choix16!$F$2:$K$145,6,FALSE)","v":300}]
[17,2017,2,{"$f":"VLOOKUP(A19,Choix17!$F$2:$G$145,2,FALSE)","v":"Nicola"},{"$f":"IF(VLOOKUP(A19,Choix17!$F$2:$L$145,7,FALSE)=0,\"\",CONCATENATE(\"trade #\",VLOOKUP(A19,Choix17!$F$2:$L$145,7,FALSE)))","v":""},null,{"$f":"VLOOKUP(A19,[1]Choix16!$F$2:$K$145,6,FALSE)","v":550}]
[18,2017,2,{"$f":"VLOOKUP(A20,Choix17!$F$2:$G$145,2,FALSE)","v":"Nadeau"},{"$f":"IF(VLOOKUP(A20,Choix17!$F$2:$L$145,7,FALSE)=0,\"\",CONCATENATE(\"trade #\",VLOOKUP(A20,Choix17!$F$2:$L$145,7,FALSE)))","v":""},null,{"$f":"VLOOKUP(A20,[1]Choix16!$F$2:$K$145,6,FALSE)","v":400}]
[19,2017,2,{"$f":"VLOOKUP(A21,Choix17!$F$2:$G$145,2,FALSE)","v":"Cedrik"},{"$f":"IF(VLOOKUP(A21,Choix17!$F$2:$L$145,7,FALSE)=0,\"\",CONCATENATE(\"trade #\",VLOOKUP(A21,Choix17!$F$2:$L$145,7,FALSE)))","v":""},null,{"$f":"VLOOKUP(A21,[1]Choix16!$F$2:$K$145,6,FALSE)","v":600}]
[20,2017,2,{"$f":"VLOOKUP(A22,Choix17!$F$2:$G$145,2,FALSE)","v":"Frank2"},{"$f":"IF(VLOOKUP(A22,Choix17!$F$2:$L$145,7,FALSE)=0,\"\",CONCATENATE(\"trade #\",VLOOKUP(A22,Choix17!$F$2:$L$145,7,FALSE)))","v":""},"",{"$f":"VLOOKUP(A22,[1]Choix16!$F$2:$K$145,6,FALSE)","v":150}]
[21,2017,2,{"$f":"VLOOKUP(A23,Choix17!$F$2:$G$145,2,FALSE)","v":"EvansH"},{"$f":"IF(VLOOKUP(A23,Choix17!$F$2:$L$145,7,FALSE)=0,\"\",CONCATENATE(\"trade #\",VLOOKUP(A23,Choix17!$F$2:$L$145,7,FALSE)))","v":""},null,{"$f":"VLOOKUP(A23,[1]Choix16!$F$2:$K$145,6,FALSE)","v":100}]
[22,2017,2,{"$f":"VLOOKUP(A24,Choix17!$F$2:$G$145,2,FALSE)","v":"Julien"},{"$f":"IF(VLOOKUP(A24,Choix17!$F$2:$L$145,7,FALSE)=0,\"\",CONCATENATE(\"trade #\",VLOOKUP(A24,Choix17!$F$2:$L$145,7,FALSE)))","v":""},null,{"$f":"VLOOKUP(A24,[1]Choix16!$F$2:$K$145,6,FALSE)","v":450}]
[23,2017,2,{"$f":"VLOOKUP(A25,Choix17!$F$2:$G$145,2,FALSE)","v":"FredLa"},{"$f":"IF(VLOOKUP(A25,Choix17!$F$2:$L$145,7,FALSE)=0,\"\",CONCATENATE(\"trade #\",VLOOKUP(A25,Choix17!$F$2:$L$145,7,FALSE)))","v":""},null,{"$f":"VLOOKUP(A25,[1]Choix16!$F$2:$K$145,6,FALSE)","v":500}]
[24,2017,2,{"$f":"VLOOKUP(A26,Choix17!$F$2:$G$145,2,FALSE)","v":"Frank2 reçu de Frank1"},{"$f":"IF(VLOOKUP(A26,Choix17!$F$2:$L$145,7,FALSE)=0,\"\",CONCATENATE(\"trade #\",VLOOKUP(A26,Choix17!$F$2:$L$145,7,FALSE)))","v":"trade #2"},null,{"$f":"VLOOKUP(A26,[1]Choix16!$F$2:$K$145,6,FALSE)","v":200}]
[25,2017,3,{"$f":"VLOOKUP(A27,Choix17!$F$2:$G$145,2,FALSE)","v":"Michae"},{"$f":"IF(VLOOKUP(A27,Choix17!$F$2:$L$145,7,FALSE)=0,\"\",CONCATENATE(\"trade #\",VLOOKUP(A27,Choix17!$F$2:$L$145,7,FALSE)))","v":""},null,{"$f":"VLOOKUP(A27,[1]Choix16!$F$2:$K$145,6,FALSE)","v":650}]
[26,2017,3,{"$f":"VLOOKUP(A28,Choix17!$F$2:$G$145,2,FALSE)","v":"Bastie"},{"$f":"IF(VLOOKUP(A28,Choix17!$F$2:$L$145,7,FALSE)=0,\"\",CONCATENATE(\"trade #\",VLOOKUP(A28,Choix17!$F$2:$L$145,7,FALSE)))","v":""},null,{"$f":"VLOOKUP(A28,[1]Choix16!$F$2:$K$145,6,FALSE)","v":350}]
[27,2017,3,{"$f":"VLOOKUP(A29,Choix17!$F$2:$G$145,2,FALSE)","v":"Martin"},{"$f":"IF(VLOOKUP(A29,Choix17!$F$2:$L$145,7,FALSE)=0,\"\",CONCATENATE(\"trade #\",VLOOKUP(A29,Choix17!$F$2:$L$145,7,FALSE)))","v":""},null,{"$f":"VLOOKUP(A29,[1]Choix16!$F$2:$K$145,6,FALSE)","v":250}]
[28,2017,3,{"$f":"VLOOKUP(A30,Choix17!$F$2:$G$145,2,FALSE)","v":"JoelCa"},{"$f":"IF(VLOOKUP(A30,Choix17!$F$2:$L$145,7,FALSE)=0,\"\",CONCATENATE(\"trade #\",VLOOKUP(A30,Choix17!$F$2:$L$145,7,FALSE)))","v":""},null,{"$f":"VLOOKUP(A30,[1]Choix16!$F$2:$K$145,6,FALSE)","v":300}]
[29,2017,3,{"$f":"VLOOKUP(A31,Choix17!$F$2:$G$145,2,FALSE)","v":"Nicola"},{"$f":"IF(VLOOKUP(A31,Choix17!$F$2:$L$145,7,FALSE)=0,\"\",CONCATENATE(\"trade #\",VLOOKUP(A31,Choix17!$F$2:$L$145,7,FALSE)))","v":""},null,{"$f":"VLOOKUP(A31,[1]Choix16!$F$2:$K$145,6,FALSE)","v":550}]
[30,2017,3,{"$f":"VLOOKUP(A32,Choix17!$F$2:$G$145,2,FALSE)","v":"Nadeau"},{"$f":"IF(VLOOKUP(A32,Choix17!$F$2:$L$145,7,FALSE)=0,\"\",CONCATENATE(\"trade #\",VLOOKUP(A32,Choix17!$F$2:$L$145,7,FALSE)))","v":""},null,{"$f":"VLOOKUP(A32,[1]Choix16!$F$2:$K$145,6,FALSE)","v":400}]
[31,2017,3,{"$f":"VLOOKUP(A33,Choix17!$F$2:$G$145,2,FALSE)","v":"Cedrik"},{"$f":"IF(VLOOKUP(A33,Choix17!$F$2:$L$145,7,FALSE)=0,\"\",CONCATENATE(\"trade #\",VLOOKUP(A33,Choix17!$F$2:$L$145,7,FALSE)))","v":""},null,{"$f":"VLOOKUP(A33,[1]Choix16!$F$2:$K$145,6,FALSE)","v":600}]
[32,2017,3,{"$f":"VLOOKUP(A34,Choix17!$F$2:$G$145,2,FALSE)","v":"Frank2"},{"$f":"IF(VLOOKUP(A34,Choix17!$F$2:$L$145,7,FALSE)=0,\"\",CONCATENATE(\"trade #\",VLOOKUP(A34,Choix17!$F$2:$L$145,7,FALSE)))","v":""},null,{"$f":"VLOOKUP(A34,[1]Choix16!$F$2:$K$145,6,FALSE)","v":150}]
[33,2017,3,{"$f":"VLOOKUP(A35,Choix17!$F$2:$G$145,2,FALSE)","v":"EvansH"},{"$f":"IF(VLOOKUP(A35,Choix17!$F$2:$L$145,7,FALSE)=0,\"\",CONCATENATE(\"trade #\",VLOOKUP(A35,Choix17!$F$2:$L$145,7,FALSE)))","v":""},null,{"$f":"VLOOKUP(A35,[1]Choix16!$F$2:$K$145,6,FALSE)","v":100}]
[34,2017,3,{"$f":"VLOOKUP(A36,Choix17!$F$2:$G$145,2,FALSE)","v":"Julien"},{"$f":"IF(VLOOKUP(A36,Choix17!$F$2:$L$145,7,FALSE)=0,\"\",CONCATENATE(\"trade #\",VLOOKUP(A36,Choix17!$F$2:$L$145,7,FALSE)))","v":""},null,{"$f":"VLOOKUP(A36,[1]Choix16!$F$2:$K$145,6,FALSE)","v":450}]
[35,2017,3,{"$f":"VLOOKUP(A37,Choix17!$F$2:$G$145,2,FALSE)","v":"FredLa"},{"$f":"IF(VLOOKUP(A37,Choix17!$F$2:$L$145,7,FALSE)=0,\"\",CONCATENATE(\"trade #\",VLOOKUP(A37,Choix17!$F$2:$L$145,7,FALSE)))","v":""},null,{"$f":"VLOOKUP(A37,[1]Choix16!$F$2:$K$145,6,FALSE)","v":500}]
[36,2017,3,{"$f":"VLOOKUP(A38,Choix17!$F$2:$G$145,2,FALSE)","v":"Frank1"},{"$f":"IF(VLOOKUP(A38,Choix17!$F$2:$L$145,7,FALSE)=0,\"\",CONCATENATE(\"trade #\",VLOOKUP(A38,Choix17!$F$2:$L$145,7,FALSE)))","v":""},null,{"$f":"VLOOKUP(A38,[1]Choix16!$F$2:$K$145,6,FALSE)","v":200}]
[37,2017,4,{"$f":"VLOOKUP(A39,Choix17!$F$2:$G$145,2,FALSE)","v":"Michae"},{"$f":"IF(VLOOKUP(A39,Choix17!$F$2:$L$145,7,FALSE)=0,\"\",CONCATENATE(\"trade #\",VLOOKUP(A39,Choix17!$F$2:$L$145,7,FALSE)))","v":""},null,{"$f":"VLOOKUP(A39,[1]Choix16!$F$2:$K$145,6,FALSE)","v":650}]
[38,2017,4,{"$f":"VLOOKUP(A40,Choix17!$F$2:$G$145,2,FALSE)","v":"Bastie"},{"$f":"IF(VLOOKUP(A40,Choix17!$F$2:$L$145,7,FALSE)=0,\"\",CONCATENATE(\"trade #\",VLOOKUP(A40,Choix17!$F$2:$L$145,7,FALSE)))","v":""},null,{"$f":"VLOOKUP(A40,[1]Choix16!$F$2:$K$145,6,FALSE)","v":350}]
[39,2017,4,{"$f":"VLOOKUP(A41,Choix17!$F$2:$G$145,2,FALSE)","v":"Martin"},{"$f":"IF(VLOOKUP(A41,Choix17!$F$2:$L$145,7,FALSE)=0,\"\",CONCATENATE(\"trade #\",VLOOKUP(A41,Choix17!$F$2:$L$145,7,FALSE)))","v":""},null,{"$f":"VLOOKUP(A41,[1]Choix16!$F$2:$K$145,6,FALSE)","v":250}]
[40,2017,4,{"$f":"VLOOKUP(A42,Choix17!$F$2:$G$145,2,FALSE)","v":"JoelCa"},{"$f":"IF(VLOOKUP(A42,Choix17!$F$2:$L$145,7,FALSE)=0,\"\",CONCATENATE(\"trade #\",VLOOKUP(A42,Choix17!$F$2:$L$145,7,FALSE)))","v":""},null,{"$f":"VLOOKUP(A42,[1]Choix16!$F$2:$K$145,6,FALSE)","v":300}]
[41,2017,4,{"$f":"VLOOKUP(A43,Choix17!$F$2:$G$145,2,FALSE)","v":"Nicola"},{"$f":"IF(VLOOKUP(A43,Choix17!$F$2:$L$145,7,FALSE)=0,\"\",CONCATENATE(\"trade #\",VLOOKUP(A43,Choix17!$F$2:$L$145,7,FALSE)))","v":""},null,{"$f":"VLOOKUP(A43,[1]Choix16!$F$2:$K$145,6,FALSE)","v":550}]
[42,2017,4,{"$f":"VLOOKUP(A44,Choix17!$F$2:$G$145,2,FALSE)","v":"Nadeau"},{"$f":"IF(VLOOKUP(A44,Choix17!$F$2:$L$145,7,FALSE)=0,\"\",CONCATENATE(\"trade #\",VLOOKUP(A44,Choix17!$F$2:$L$145,7,FALSE)))","v":""},null,{"$f":"VLOOKUP(A44,[1]Choix16!$F$2:$K$145,6,FALSE)","v":400}]
[43,2017,4,{"$f":"VLOOKUP(A45,Choix17!$F$2:$G$145,2,FALSE)","v":"Cedrik"},{"$f":"IF(VLOOKUP(A45,Choix17!$F$2:$L$145,7,FALSE)=0,\"\",CONCATENATE(\"trade #\",VLOOKUP(A45,Choix17!$F$2:$L$145,7,FALSE)))","v":""},null,{"$f":"VLOOKUP(A45,[1]Choix16!$F$2:$K$145,6,FALSE)","v":600}]
[44,2017,4,{"$f":"VLOOKUP(A46,Choix17!$F$2:$G$145,2,FALSE)","v":"Frank2"},{"$f":"IF(VLOOKUP(A46,Choix17!$F$2:$L$145,7,FALSE)=0,\"\",CONCATENATE(\"trade #\",VLOOKUP(A46,Choix17!$F$2:$L$145,7,FALSE)))","v":""},null,{"$f":"VLOOKUP(A46,[1]Choix16!$F$2:$K$145,6,FALSE)","v":150}]
[45,2017,4,{"$f":"VLOOKUP(A47,Choix17!$F$2:$G$145,2,FALSE)","v":"EvansH"},{"$f":"IF(VLOOKUP(A47,Choix17!$F$2:$L$145,7,FALSE)=0,\"\",CONCATENATE(\"trade #\",VLOOKUP(A47,Choix17!$F$2:$L$145,7,FALSE)))","v":""},null,{"$f":"VLOOKUP(A47,[1]Choix16!$F$2:$K$145,6,FALSE)","v":100}]
[46,2017,4,{"$f":"VLOOKUP(A48,Choix17!$F$2:$G$145,2,FALSE)","v":"Julien"},{"$f":"IF(VLOOKUP(A48,Choix17!$F$2:$L$145,7,FALSE)=0,\"\",CONCATENATE(\"trade #\",VLOOKUP(A48,Choix17!$F$2:$L$145,7,FALSE)))","v":""},null,{"$f":"VLOOKUP(A48,[1]Choix16!$F$2:$K$145,6,FALSE)","v":450}]
[47,2017,4,{"$f":"VLOOKUP(A49,Choix17!$F$2:$G$145,2,FALSE)","v":"FredLa"},{"$f":"IF(VLOOKUP(A49,Choix17!$F$2:$L$145,7,FALSE)=0,\"\",CONCATENATE(\"trade #\",VLOOKUP(A49,Choix17!$F$2:$L$145,7,FALSE)))","v":""},null,{"$f":"VLOOKUP(A49,[1]Choix16!$F$2:$K$145,6,FALSE)","v":500}]
[48,2017,4,{"$f":"VLOOKUP(A50,Choix17!$F$2:$G$145,2,FALSE)","v":"Frank1"},{"$f":"IF(VLOOKUP(A50,Choix17!$F$2:$L$145,7,FALSE)=0,\"\",CONCATENATE(\"trade #\",VLOOKUP(A50,Choix17!$F$2:$L$145,7,FALSE)))","v":""},null,{"$f":"VLOOKUP(A50,[1]Choix16!$F$2:$K$145,6,FALSE)","v":200}]
[49,2017,5,{"$f":"VLOOKUP(A51,Choix17!$F$2:$G$145,2,FALSE)","v":"Michae"},{"$f":"IF(VLOOKUP(A51,Choix17!$F$2:$L$145,7,FALSE)=0,\"\",CONCATENATE(\"trade #\",VLOOKUP(A51,Choix17!$F$2:$L$145,7,FALSE)))","v":""},null,{"$f":"VLOOKUP(A51,[1]Choix16!$F$2:$K$145,6,FALSE)","v":650}]
[50,2017,5,{"$f":"VLOOKUP(A52,Choix17!$F$2:$G$145,2,FALSE)","v":"Bastie"},{"$f":"IF(VLOOKUP(A52,Choix17!$F$2:$L$145,7,FALSE)=0,\"\",CONCATENATE(\"trade #\",VLOOKUP(A52,Choix17!$F$2:$L$145,7,FALSE)))","v":""},null,{"$f":"VLOOKUP(A52,[1]Choix16!$F$2:$K$145,6,FALSE)","v":350}]
[51,2017,5,{"$f":"VLOOKUP(A53,Choix17!$F$2:$G$145,2,FALSE)","v":"Martin"},{"$f":"IF(VLOOKUP(A53,Choix17!$F$2:$L$145,7,FALSE)=0,\"\",CONCATENATE(\"trade #\",VLOOKUP(A53,Choix17!$F$2:$L$145,7,FALSE)))","v":""},null,{"$f":"VLOOKUP(A53,[1]Choix16!$F$2:$K$145,6,FALSE)","v":250}]
[52,2017,5,{"$f":"VLOOKUP(A54,Choix17!$F$2:$G$145,2,FALSE)","v":"JoelCa"},{"$f":"IF(VLOOKUP(A54,Choix17!$F$2:$L$145,7,FALSE)=0,\"\",CONCATENATE(\"trade #\",VLOOKUP(A54,Choix17!$F$2:$L$145,7,FALSE)))","v":""},null,{"$f":"VLOOKUP(A54,[1]Choix16!$F$2:$K$145,6,FALSE)","v":300}]
[53,2017,5,{"$f":"VLOOKUP(A55,Choix17!$F$2:$G$145,2,FALSE)","v":"Nicola"},{"$f":"IF(VLOOKUP(A55,Choix17!$F$2:$L$145,7,FALSE)=0,\"\",CONCATENATE(\"trade #\",VLOOKUP(A55,Choix17!$F$2:$L$145,7,FALSE)))","v":""},null,{"$f":"VLOOKUP(A55,[1]Choix16!$F$2:$K$145,6,FALSE)","v":550}]
[54,2017,5,{"$f":"VLOOKUP(A56,Choix17!$F$2:$G$145,2,FALSE)","v":"Nadeau"},{"$f":"IF(VLOOKUP(A56,Choix17!$F$2:$L$145,7,FALSE)=0,\"\",CONCATENATE(\"trade #\",VLOOKUP(A56,Choix17!$F$2:$L$145,7,FALSE)))","v":""},null,{"$f":"VLOOKUP(A56,[1]Choix16!$F$2:$K$145,6,FALSE)","v":400}]
[55,2017,5,{"$f":"VLOOKUP(A57,Choix17!$F$2:$G$145,2,FALSE)","v":"Cedrik"},{"$f":"IF(VLOOKUP(A57,Choix17!$F$2:$L$145,7,FALSE)=0,\"\",CONCATENATE(\"trade #\",VLOOKUP(A57,Choix17!$F$2:$L$145,7,FALSE)))","v":""},null,{"$f":"VLOOKUP(A57,[1]Choix16!$F$2:$K$145,6,FALSE)","v":600}]
[56,2017,5,{"$f":"VLOOKUP(A58,Choix17!$F$2:$G$145,2,FALSE)","v":"Frank2"},{"$f":"IF(VLOOKUP(A58,Choix17!$F$2:$L$145,7,FALSE)=0,\"\",CONCATENATE(\"trade #\",VLOOKUP(A58,Choix17!$F$2:$L$145,7,FALSE)))","v":""},null,{"$f":"VLOOKUP(A58,[1]Choix16!$F$2:$K$145,6,FALSE)","v":150}]
[57,2017,5,{"$f":"VLOOKUP(A59,Choix17!$F$2:$G$145,2,FALSE)","v":"EvansH"},{"$f":"IF(VLOOKUP(A59,Choix17!$F$2:$L$145,7,FALSE)=0,\"\",CONCATENATE(\"trade #\",VLOOKUP(A59,Choix17!$F$2:$L$145,7,FALSE)))","v":""},null,{"$f":"VLOOKUP(A59,[1]Choix16!$F$2:$K$145,6,FALSE)","v":100}]
[58,2017,5,{"$f":"VLOOKUP(A60,Choix17!$F$2:$G$145,2,FALSE)","v":"Julien"},{"$f":"IF(VLOOKUP(A60,Choix17!$F$2:$L$145,7,FALSE)=0,\"\",CONCATENATE(\"trade #\",VLOOKUP(A60,Choix17!$F$2:$L$145,7,FALSE)))","v":""},null,{"$f":"VLOOKUP(A60,[1]Choix16!$F$2:$K$145,6,FALSE)","v":450}]
[59,2017,5,{"$f":"VLOOKUP(A61,Choix17!$F$2:$G$145,2,FALSE)","v":"FredLa"},{"$f":"IF(VLOOKUP(A61,Choix17!$F$2:$L$145,7,FALSE)=0,\"\",CONCATENATE(\"trade #\",VLOOKUP(A61,Choix17!$F$2:$L$145,7,FALSE)))","v":""},null,{"$f":"VLOOKUP(A61,[1]Choix16!$F$2:$K$145,6,FALSE)","v":500}]
[60,2017,5,{"$f":"VLOOKUP(A62,Choix17!$F$2:$G$145,2,FALSE)","v":"Frank1"},{"$f":"IF(VLOOKUP(A62,Choix17!$F$2:$L$145,7,FALSE)=0,\"\",CONCATENATE(\"trade #\",VLOOKUP(A62,Choix17!$F$2:$L$145,7,FALSE)))","v":""},null,{"$f":"VLOOKUP(A62,[1]Choix16!$F$2:$K$145,6,FALSE)","v":200}]
[61,2017,6,{"$f":"VLOOKUP(A63,Choix17!$F$2:$G$145,2,FALSE)","v":"Michae"},{"$f":"IF(VLOOKUP(A63,Choix17!$F$2:$L$145,7,FALSE)=0,\"\",CONCATENATE(\"trade #\",VLOOKUP(A63,Choix17!$F$2:$L$145,7,FALSE)))","v":""},null,{"$f":"VLOOKUP(A63,[1]Choix16!$F$2:$K$145,6,FALSE)","v":650}]
[62,2017,6,{"$f":"VLOOKUP(A64,Choix17!$F$2:$G$145,2,FALSE)","v":"Bastie"},{"$f":"IF(VLOOKUP(A64,Choix17!$F$2:$L$145,7,FALSE)=0,\"\",CONCATENATE(\"trade #\",VLOOKUP(A64,Choix17!$F$2:$L$145,7,FALSE)))","v":""},null,{"$f":"VLOOKUP(A64,[1]Choix16!$F$2:$K$145,6,FALSE)","v":350}]
[63,2017,6,{"$f":"VLOOKUP(A65,Choix17!$F$2:$G$145,2,FALSE)","v":"Martin"},{"$f":"IF(VLOOKUP(A65,Choix17!$F$2:$L$145,7,FALSE)=0,\"\",CONCATENATE(\"trade #\",VLOOKUP(A65,Choix17!$F$2:$L$145,7,FALSE)))","v":""},null,{"$f":"VLOOKUP(A65,[1]Choix16!$F$2:$K$145,6,FALSE)","v":250}]
[64,2017,6,{"$f":"VLOOKUP(A66,Choix17!$F$2:$G$145,2,FALSE)","v":"JoelCa"},{"$f":"IF(VLOOKUP(A66,Choix17!$F$2:$L$145,7,FALSE)=0,\"\",CONCATENATE(\"trade #\",VLOOKUP(A66,Choix17!$F$2:$L$145,7,FALSE)))","v":""},null,{"$f":"VLOOKUP(A66,[1]Choix16!$F$2:$K$145,6,FALSE)","v":300}]
[65,2017,6,{"$f":"VLOOKUP(A67,Choix17!$F$2:$G$145,2,FALSE)","v":"Nicola"},{"$f":"IF(VLOOKUP(A67,Choix17!$F$2:$L$145,7,FALSE)=0,\"\",CONCATENATE(\"trade #\",VLOOKUP(A67,Choix17!$F$2:$L$145,7,FALSE)))","v":""},null,{"$f":"VLOOKUP(A67,[1]Choix16!$F$2:$K$145,6,FALSE)","v":550}]
[66,2017,6,{"$f":"VLOOKUP(A68,Choix17!$F$2:$G$145,2,FALSE)","v":"Nadeau"},{"$f":"IF(VLOOKUP(A68,Choix17!$F$2:$L$145,7,FALSE)=0,\"\",CONCATENATE(\"trade #\",VLOOKUP(A68,Choix17!$F$2:$L$145,7,FALSE)))","v":""},null,{"$f":"VLOOKUP(A68,[1]Choix16!$F$2:$K$145,6,FALSE)","v":400}]
[{"$f":"A68+1","v":67},2017,6,{"$f":"VLOOKUP(A69,Choix17!$F$2:$G$145,2,FALSE)","v":"Cedrik"},{"$f":"IF(VLOOKUP(A69,Choix17!$F$2:$L$145,7,FALSE)=0,\"\",CONCATENATE(\"trade #\",VLOOKUP(A69,Choix17!$F$2:$L$145,7,FALSE)))","v":""},null,{"$f":"VLOOKUP(A69,[1]Choix16!$F$2:$K$145,6,FALSE)","v":600}]
[68,2017,6,{"$f":"VLOOKUP(A70,Choix17!$F$2:$G$145,2,FALSE)","v":"Frank2"},{"$f":"IF(VLOOKUP(A70,Choix17!$F$2:$L$145,7,FALSE)=0,\"\",CONCATENATE(\"trade #\",VLOOKUP(A70,Choix17!$F$2:$L$145,7,FALSE)))","v":""},null,{"$f":"VLOOKUP(A70,[1]Choix16!$F$2:$K$145,6,FALSE)","v":150}]
[69,2017,6,{"$f":"VLOOKUP(A71,Choix17!$F$2:$G$145,2,FALSE)","v":"EvansH"},{"$f":"IF(VLOOKUP(A71,Choix17!$F$2:$L$145,7,FALSE)=0,\"\",CONCATENATE(\"trade #\",VLOOKUP(A71,Choix17!$F$2:$L$145,7,FALSE)))","v":""},null,{"$f":"VLOOKUP(A71,[1]Choix16!$F$2:$K$145,6,FALSE)","v":100}]
[70,2017,6,{"$f":"VLOOKUP(A72,Choix17!$F$2:$G$145,2,FALSE)","v":"Julien"},{"$f":"IF(VLOOKUP(A72,Choix17!$F$2:$L$145,7,FALSE)=0,\"\",CONCATENATE(\"trade #\",VLOOKUP(A72,Choix17!$F$2:$L$145,7,FALSE)))","v":""},null,{"$f":"VLOOKUP(A72,[1]Choix16!$F$2:$K$145,6,FALSE)","v":450}]
[71,2017,6,{"$f":"VLOOKUP(A73,Choix17!$F$2:$G$145,2,FALSE)","v":"FredLa"},{"$f":"IF(VLOOKUP(A73,Choix17!$F$2:$L$145,7,FALSE)=0,\"\",CONCATENATE(\"trade #\",VLOOKUP(A73,Choix17!$F$2:$L$145,7,FALSE)))","v":""},null,{"$f":"VLOOKUP(A73,[1]Choix16!$F$2:$K$145,6,FALSE)","v":500}]
[72,2017,6,{"$f":"VLOOKUP(A74,Choix17!$F$2:$G$145,2,FALSE)","v":"Frank1"},{"$f":"IF(VLOOKUP(A74,Choix17!$F$2:$L$145,7,FALSE)=0,\"\",CONCATENATE(\"trade #\",VLOOKUP(A74,Choix17!$F$2:$L$145,7,FALSE)))","v":""},null,{"$f":"VLOOKUP(A74,[1]Choix16!$F$2:$K$145,6,FALSE)","v":200}]
[73,2017,7,{"$f":"VLOOKUP(A75,Choix17!$F$2:$G$145,2,FALSE)","v":"Michae"},{"$f":"IF(VLOOKUP(A75,Choix17!$F$2:$L$145,7,FALSE)=0,\"\",CONCATENATE(\"trade #\",VLOOKUP(A75,Choix17!$F$2:$L$145,7,FALSE)))","v":""},null,{"$f":"VLOOKUP(A75,[1]Choix16!$F$2:$K$145,6,FALSE)","v":650}]
[74,2017,7,{"$f":"VLOOKUP(A76,Choix17!$F$2:$G$145,2,FALSE)","v":"Bastie"},{"$f":"IF(VLOOKUP(A76,Choix17!$F$2:$L$145,7,FALSE)=0,\"\",CONCATENATE(\"trade #\",VLOOKUP(A76,Choix17!$F$2:$L$145,7,FALSE)))","v":""},null,{"$f":"VLOOKUP(A76,[1]Choix16!$F$2:$K$145,6,FALSE)","v":350}]
[75,2017,7,{"$f":"VLOOKUP(A77,Choix17!$F$2:$G$145,2,FALSE)","v":"Martin"},{"$f":"IF(VLOOKUP(A77,Choix17!$F$2:$L$145,7,FALSE)=0,\"\",CONCATENATE(\"trade #\",VLOOKUP(A77,Choix17!$F$2:$L$145,7,FALSE)))","v":""},null,{"$f":"VLOOKUP(A77,[1]Choix16!$F$2:$K$145,6,FALSE)","v":250}]
[76,2017,7,{"$f":"VLOOKUP(A78,Choix17!$F$2:$G$145,2,FALSE)","v":"JoelCa"},{"$f":"IF(VLOOKUP(A78,Choix17!$F$2:$L$145,7,FALSE)=0,\"\",CONCATENATE(\"trade #\",VLOOKUP(A78,Choix17!$F$2:$L$145,7,FALSE)))","v":""},null,{"$f":"VLOOKUP(A78,[1]Choix16!$F$2:$K$145,6,FALSE)","v":300}]
[77,2017,7,{"$f":"VLOOKUP(A79,Choix17!$F$2:$G$145,2,FALSE)","v":"Nicola"},{"$f":"IF(VLOOKUP(A79,Choix17!$F$2:$L$145,7,FALSE)=0,\"\",CONCATENATE(\"trade #\",VLOOKUP(A79,Choix17!$F$2:$L$145,7,FALSE)))","v":""},null,{"$f":"VLOOKUP(A79,[1]Choix16!$F$2:$K$145,6,FALSE)","v":550}]
[78,2017,7,{"$f":"VLOOKUP(A80,Choix17!$F$2:$G$145,2,FALSE)","v":"Nadeau"},{"$f":"IF(VLOOKUP(A80,Choix17!$F$2:$L$145,7,FALSE)=0,\"\",CONCATENATE(\"trade #\",VLOOKUP(A80,Choix17!$F$2:$L$145,7,FALSE)))","v":""},null,{"$f":"VLOOKUP(A80,[1]Choix16!$F$2:$K$145,6,FALSE)","v":400}]
[79,2017,7,{"$f":"VLOOKUP(A81,Choix17!$F$2:$G$145,2,FALSE)","v":"Cedrik"},{"$f":"IF(VLOOKUP(A81,Choix17!$F$2:$L$145,7,FALSE)=0,\"\",CONCATENATE(\"trade #\",VLOOKUP(A81,Choix17!$F$2:$L$145,7,FALSE)))","v":""},null,{"$f":"VLOOKUP(A81,[1]Choix16!$F$2:$K$145,6,FALSE)","v":600}]
[80,2017,7,{"$f":"VLOOKUP(A82,Choix17!$F$2:$G$145,2,FALSE)","v":"Frank2"},{"$f":"IF(VLOOKUP(A82,Choix17!$F$2:$L$145,7,FALSE)=0,\"\",CONCATENATE(\"trade #\",VLOOKUP(A82,Choix17!$F$2:$L$145,7,FALSE)))","v":""},null,{"$f":"VLOOKUP(A82,[1]Choix16!$F$2:$K$145,6,FALSE)","v":150}]
[81,2017,7,{"$f":"VLOOKUP(A83,Choix17!$F$2:$G$145,2,FALSE)","v":"EvansH"},{"$f":"IF(VLOOKUP(A83,Choix17!$F$2:$L$145,7,FALSE)=0,\"\",CONCATENATE(\"trade #\",VLOOKUP(A83,Choix17!$F$2:$L$145,7,FALSE)))","v":""},null,{"$f":"VLOOKUP(A83,[1]Choix16!$F$2:$K$145,6,FALSE)","v":100}]
[82,2017,7,{"$f":"VLOOKUP(A84,Choix17!$F$2:$G$145,2,FALSE)","v":"Julien"},{"$f":"IF(VLOOKUP(A84,Choix17!$F$2:$L$145,7,FALSE)=0,\"\",CONCATENATE(\"trade #\",VLOOKUP(A84,Choix17!$F$2:$L$145,7,FALSE)))","v":""},null,{"$f":"VLOOKUP(A84,[1]Choix16!$F$2:$K$145,6,FALSE)","v":450}]
[83,2017,7,{"$f":"VLOOKUP(A85,Choix17!$F$2:$G$145,2,FALSE)","v":"FredLa"},{"$f":"IF(VLOOKUP(A85,Choix17!$F$2:$L$145,7,FALSE)=0,\"\",CONCATENATE(\"trade #\",VLOOKUP(A85,Choix17!$F$2:$L$145,7,FALSE)))","v":""},null,{"$f":"VLOOKUP(A85,[1]Choix16!$F$2:$K$145,6,FALSE)","v":500}]
[84,2017,7,{"$f":"VLOOKUP(A86,Choix17!$F$2:$G$145,2,FALSE)","v":"Frank1"},{"$f":"IF(VLOOKUP(A86,Choix17!$F$2:$L$145,7,FALSE)=0,\"\",CONCATENATE(\"trade #\",VLOOKUP(A86,Choix17!$F$2:$L$145,7,FALSE)))","v":""},null,{"$f":"VLOOKUP(A86,[1]Choix16!$F$2:$K$145,6,FALSE)","v":200}]
[85,2017,8,{"$f":"VLOOKUP(A87,Choix17!$F$2:$G$145,2,FALSE)","v":"Michae"},{"$f":"IF(VLOOKUP(A87,Choix17!$F$2:$L$145,7,FALSE)=0,\"\",CONCATENATE(\"trade #\",VLOOKUP(A87,Choix17!$F$2:$L$145,7,FALSE)))","v":""},null,{"$f":"VLOOKUP(A87,[1]Choix16!$F$2:$K$145,6,FALSE)","v":650}]
[86,2017,8,{"$f":"VLOOKUP(A88,Choix17!$F$2:$G$145,2,FALSE)","v":"Bastie"},{"$f":"IF(VLOOKUP(A88,Choix17!$F$2:$L$145,7,FALSE)=0,\"\",CONCATENATE(\"trade #\",VLOOKUP(A88,Choix17!$F$2:$L$145,7,FALSE)))","v":""},null,{"$f":"VLOOKUP(A88,[1]Choix16!$F$2:$K$145,6,FALSE)","v":350}]
[87,2017,8,{"$f":"VLOOKUP(A89,Choix17!$F$2:$G$145,2,FALSE)","v":"Martin"},{"$f":"IF(VLOOKUP(A89,Choix17!$F$2:$L$145,7,FALSE)=0,\"\",CONCATENATE(\"trade #\",VLOOKUP(A89,Choix17!$F$2:$L$145,7,FALSE)))","v":""},null,{"$f":"VLOOKUP(A89,[1]Choix16!$F$2:$K$145,6,FALSE)","v":250}]
[88,2017,8,{"$f":"VLOOKUP(A90,Choix17!$F$2:$G$145,2,FALSE)","v":"JoelCa"},{"$f":"IF(VLOOKUP(A90,Choix17!$F$2:$L$145,7,FALSE)=0,\"\",CONCATENATE(\"trade #\",VLOOKUP(A90,Choix17!$F$2:$L$145,7,FALSE)))","v":""},null,{"$f":"VLOOKUP(A90,[1]Choix16!$F$2:$K$145,6,FALSE)","v":300}]
[89,2017,8,{"$f":"VLOOKUP(A91,Choix17!$F$2:$G$145,2,FALSE)","v":"Nicola"},{"$f":"IF(VLOOKUP(A91,Choix17!$F$2:$L$145,7,FALSE)=0,\"\",CONCATENATE(\"trade #\",VLOOKUP(A91,Choix17!$F$2:$L$145,7,FALSE)))","v":""},null,{"$f":"VLOOKUP(A91,[1]Choix16!$F$2:$K$145,6,FALSE)","v":550}]
[90,2017,8,{"$f":"VLOOKUP(A92,Choix17!$F$2:$G$145,2,FALSE)","v":"Nadeau"},{"$f":"IF(VLOOKUP(A92,Choix17!$F$2:$L$145,7,FALSE)=0,\"\",CONCATENATE(\"trade #\",VLOOKUP(A92,Choix17!$F$2:$L$145,7,FALSE)))","v":""},null,{"$f":"VLOOKUP(A92,[1]Choix16!$F$2:$K$145,6,FALSE)","v":400}]
[91,2017,8,{"$f":"VLOOKUP(A93,Choix17!$F$2:$G$145,2,FALSE)","v":"Cedrik"},{"$f":"IF(VLOOKUP(A93,Choix17!$F$2:$L$145,7,FALSE)=0,\"\",CONCATENATE(\"trade #\",VLOOKUP(A93,Choix17!$F$2:$L$145,7,FALSE)))","v":""},null,{"$f":"VLOOKUP(A93,[1]Choix16!$F$2:$K$145,6,FALSE)","v":600}]
[92,2017,8,{"$f":"VLOOKUP(A94,Choix17!$F$2:$G$145,2,FALSE)","v":"Frank2"},{"$f":"IF(VLOOKUP(A94,Choix17!$F$2:$L$145,7,FALSE)=0,\"\",CONCATENATE(\"trade #\",VLOOKUP(A94,Choix17!$F$2:$L$145,7,FALSE)))","v":""},null,{"$f":"VLOOKUP(A94,[1]Choix16!$F$2:$K$145,6,FALSE)","v":150}]
[93,2017,8,{"$f":"VLOOKUP(A95,Choix17!$F$2:$G$145,2,FALSE)","v":"EvansH"},{"$f":"IF(VLOOKUP(A95,Choix17!$F$2:$L$145,7,FALSE)=0,\"\",CONCATENATE(\"trade #\",VLOOKUP(A95,Choix17!$F$2:$L$145,7,FALSE)))","v":""},null,{"$f":"VLOOKUP(A95,[1]Choix16!$F$2:$K$145,6,FALSE)","v":100}]
[94,2017,8,{"$f":"VLOOKUP(A96,Choix17!$F$2:$G$145,2,FALSE)","v":"Julien"},{"$f":"IF(VLOOKUP(A96,Choix17!$F$2:$L$145,7,FALSE)=0,\"\",CONCATENATE(\"trade #\",VLOOKUP(A96,Choix17!$F$2:$L$145,7,FALSE)))","v":""},null,{"$f":"VLOOKUP(A96,[1]Choix16!$F$2:$K$145,6,FALSE)","v":450}]
[95,2017,8,{"$f":"VLOOKUP(A97,Choix17!$F$2:$G$145,2,FALSE)","v":"FredLa"},{"$f":"IF(VLOOKUP(A97,Choix17!$F$2:$L$145,7,FALSE)=0,\"\",CONCATENATE(\"trade #\",VLOOKUP(A97,Choix17!$F$2:$L$145,7,FALSE)))","v":""},null,{"$f":"VLOOKUP(A97,[1]Choix16!$F$2:$K$145,6,FALSE)","v":500}]
[96,2017,8,{"$f":"VLOOKUP(A98,Choix17!$F$2:$G$145,2,FALSE)","v":"Frank1"},{"$f":"IF(VLOOKUP(A98,Choix17!$F$2:$L$145,7,FALSE)=0,\"\",CONCATENATE(\"trade #\",VLOOKUP(A98,Choix17!$F$2:$L$145,7,FALSE)))","v":""},null,{"$f":"VLOOKUP(A98,[1]Choix16!$F$2:$K$145,6,FALSE)","v":200}]
[97,2017,9,{"$f":"VLOOKUP(A99,Choix17!$F$2:$G$145,2,FALSE)","v":"Michae"},{"$f":"IF(VLOOKUP(A99,Choix17!$F$2:$L$145,7,FALSE)=0,\"\",CONCATENATE(\"trade #\",VLOOKUP(A99,Choix17!$F$2:$L$145,7,FALSE)))","v":""},null,{"$f":"VLOOKUP(A99,[1]Choix16!$F$2:$K$145,6,FALSE)","v":650}]
[98,2017,9,{"$f":"VLOOKUP(A100,Choix17!$F$2:$G$145,2,FALSE)","v":"Bastie"},{"$f":"IF(VLOOKUP(A100,Choix17!$F$2:$L$145,7,FALSE)=0,\"\",CONCATENATE(\"trade #\",VLOOKUP(A100,Choix17!$F$2:$L$145,7,FALSE)))","v":""},null,{"$f":"VLOOKUP(A100,[1]Choix16!$F$2:$K$145,6,FALSE)","v":350}]
[99,2017,9,{"$f":"VLOOKUP(A101,Choix17!$F$2:$G$145,2,FALSE)","v":"Martin"},{"$f":"IF(VLOOKUP(A101,Choix17!$F$2:$L$145,7,FALSE)=0,\"\",CONCATENATE(\"trade #\",VLOOKUP(A101,Choix17!$F$2:$L$145,7,FALSE)))","v":""},null,{"$f":"VLOOKUP(A101,[1]Choix16!$F$2:$K$145,6,FALSE)","v":250}]
[100,2017,9,{"$f":"VLOOKUP(A102,Choix17!$F$2:$G$145,2,FALSE)","v":"JoelCa"},{"$f":"IF(VLOOKUP(A102,Choix17!$F$2:$L$145,7,FALSE)=0,\"\",CONCATENATE(\"trade #\",VLOOKUP(A102,Choix17!$F$2:$L$145,7,FALSE)))","v":""},null,{"$f":"VLOOKUP(A102,[1]Choix16!$F$2:$K$145,6,FALSE)","v":300}]
[101,2017,9,{"$f":"VLOOKUP(A103,Choix17!$F$2:$G$145,2,FALSE)","v":"Nicola"},{"$f":"IF(VLOOKUP(A103,Choix17!$F$2:$L$145,7,FALSE)=0,\"\",CONCATENATE(\"trade #\",VLOOKUP(A103,Choix17!$F$2:$L$145,7,FALSE)))","v":""},null,{"$f":"VLOOKUP(A103,[1]Choix16!$F$2:$K$145,6,FALSE)","v":550}]
[102,2017,9,{"$f":"VLOOKUP(A104,Choix17!$F$2:$G$145,2,FALSE)","v":"Nadeau"},{"$f":"IF(VLOOKUP(A104,Choix17!$F$2:$L$145,7,FALSE)=0,\"\",CONCATENATE(\"trade #\",VLOOKUP(A104,Choix17!$F$2:$L$145,7,FALSE)))","v":""},null,{"$f":"VLOOKUP(A104,[1]Choix16!$F$2:$K$145,6,FALSE)","v":400}]
[103,2017,9,{"$f":"VLOOKUP(A105,Choix17!$F$2:$G$145,2,FALSE)","v":"Cedrik"},{"$f":"IF(VLOOKUP(A105,Choix17!$F$2:$L$145,7,FALSE)=0,\"\",CONCATENATE(\"trade #\",VLOOKUP(A105,Choix17!$F$2:$L$145,7,FALSE)))","v":""},null,{"$f":"VLOOKUP(A105,[1]Choix16!$F$2:$K$145,6,FALSE)","v":600}]
[104,2017,9,{"$f":"VLOOKUP(A106,Choix17!$F$2:$G$145,2,FALSE)","v":"Frank2"},{"$f":"IF(VLOOKUP(A106,Choix17!$F$2:$L$145,7,FALSE)=0,\"\",CONCATENATE(\"trade #\",VLOOKUP(A106,Choix17!$F$2:$L$145,7,FALSE)))","v":""},null,{"$f":"VLOOKUP(A106,[1]Choix16!$F$2:$K$145,6,FALSE)","v":150}]
[105,2017,9,{"$f":"VLOOKUP(A107,Choix17!$F$2:$G$145,2,FALSE)","v":"EvansH"},{"$f":"IF(VLOOKUP(A107,Choix17!$F$2:$L$145,7,FALSE)=0,\"\",CONCATENATE(\"trade #\",VLOOKUP(A107,Choix17!$F$2:$L$145,7,FALSE)))","v":""},null,{"$f":"VLOOKUP(A107,[1]Choix16!$F$2:$K$145,6,FALSE)","v":100}]
[106,2017,9,{"$f":"VLOOKUP(A108,Choix17!$F$2:$G$145,2,FALSE)","v":"Julien"},{"$f":"IF(VLOOKUP(A108,Choix17!$F$2:$L$145,7,FALSE)=0,\"\",CONCATENATE(\"trade #\",VLOOKUP(A108,Choix17!$F$2:$L$145,7,FALSE)))","v":""},null,{"$f":"VLOOKUP(A108,[1]Choix16!$F$2:$K$145,6,FALSE)","v":450}]
[107,2017,9,{"$f":"VLOOKUP(A109,Choix17!$F$2:$G$145,2,FALSE)","v":"FredLa"},{"$f":"IF(VLOOKUP(A109,Choix17!$F$2:$L$145,7,FALSE)=0,\"\",CONCATENATE(\"trade #\",VLOOKUP(A109,Choix17!$F$2:$L$145,7,FALSE)))","v":""},null,{"$f":"VLOOKUP(A109,[1]Choix16!$F$2:$K$145,6,FALSE)","v":500}]
[108,2017,9,{"$f":"VLOOKUP(A110,Choix17!$F$2:$G$145,2,FALSE)","v":"Frank1"},{"$f":"IF(VLOOKUP(A110,Choix17!$F$2:$L$145,7,FALSE)=0,\"\",CONCATENATE(\"trade #\",VLOOKUP(A110,Choix17!$F$2:$L$145,7,FALSE)))","v":""},null,{"$f":"VLOOKUP(A110,[1]Choix16!$F$2:$K$145,6,FALSE)","v":200}]
[109,2017,10,{"$f":"VLOOKUP(A111,Choix17!$F$2:$G$145,2,FALSE)","v":"Michae"},{"$f":"IF(VLOOKUP(A111,Choix17!$F$2:$L$145,7,FALSE)=0,\"\",CONCATENATE(\"trade #\",VLOOKUP(A111,Choix17!$F$2:$L$145,7,FALSE)))","v":""},null,{"$f":"VLOOKUP(A111,[1]Choix16!$F$2:$K$145,6,FALSE)","v":650}]
[110,2017,10,{"$f":"VLOOKUP(A112,Choix17!$F$2:$G$145,2,FALSE)","v":"Bastie"},{"$f":"IF(VLOOKUP(A112,Choix17!$F$2:$L$145,7,FALSE)=0,\"\",CONCATENATE(\"trade #\",VLOOKUP(A112,Choix17!$F$2:$L$145,7,FALSE)))","v":""},null,{"$f":"VLOOKUP(A112,[1]Choix16!$F$2:$K$145,6,FALSE)","v":350}]
[111,2017,10,{"$f":"VLOOKUP(A113,Choix17!$F$2:$G$145,2,FALSE)","v":"Martin"},{"$f":"IF(VLOOKUP(A113,Choix17!$F$2:$L$145,7,FALSE)=0,\"\",CONCATENATE(\"trade #\",VLOOKUP(A113,Choix17!$F$2:$L$145,7,FALSE)))","v":""},null,{"$f":"VLOOKUP(A113,[1]Choix16!$F$2:$K$145,6,FALSE)","v":250}]
[112,2017,10,{"$f":"VLOOKUP(A114,Choix17!$F$2:$G$145,2,FALSE)","v":"JoelCa"},{"$f":"IF(VLOOKUP(A114,Choix17!$F$2:$L$145,7,FALSE)=0,\"\",CONCATENATE(\"trade #\",VLOOKUP(A114,Choix17!$F$2:$L$145,7,FALSE)))","v":""},null,{"$f":"VLOOKUP(A114,[1]Choix16!$F$2:$K$145,6,FALSE)","v":300}]
[113,2017,10,{"$f":"VLOOKUP(A115,Choix17!$F$2:$G$145,2,FALSE)","v":"Nicola"},{"$f":"IF(VLOOKUP(A115,Choix17!$F$2:$L$145,7,FALSE)=0,\"\",CONCATENATE(\"trade #\",VLOOKUP(A115,Choix17!$F$2:$L$145,7,FALSE)))","v":""},null,{"$f":"VLOOKUP(A115,[1]Choix16!$F$2:$K$145,6,FALSE)","v":550}]
[114,2017,10,{"$f":"VLOOKUP(A116,Choix17!$F$2:$G$145,2,FALSE)","v":"Nadeau"},{"$f":"IF(VLOOKUP(A116,Choix17!$F$2:$L$145,7,FALSE)=0,\"\",CONCATENATE(\"trade #\",VLOOKUP(A116,Choix17!$F$2:$L$145,7,FALSE)))","v":""},null,{"$f":"VLOOKUP(A116,[1]Choix16!$F$2:$K$145,6,FALSE)","v":400}]
[115,2017,10,{"$f":"VLOOKUP(A117,Choix17!$F$2:$G$145,2,FALSE)","v":"Cedrik"},{"$f":"IF(VLOOKUP(A117,Choix17!$F$2:$L$145,7,FALSE)=0,\"\",CONCATENATE(\"trade #\",VLOOKUP(A117,Choix17!$F$2:$L$145,7,FALSE)))","v":""},null,{"$f":"VLOOKUP(A117,[1]Choix16!$F$2:$K$145,6,FALSE)","v":600}]
[116,2017,10,{"$f":"VLOOKUP(A118,Choix17!$F$2:$G$145,2,FALSE)","v":"Frank2"},{"$f":"IF(VLOOKUP(A118,Choix17!$F$2:$L$145,7,FALSE)=0,\"\",CONCATENATE(\"trade #\",VLOOKUP(A118,Choix17!$F$2:$L$145,7,FALSE)))","v":""},null,{"$f":"VLOOKUP(A118,[1]Choix16!$F$2:$K$145,6,FALSE)","v":150}]
[117,2017,10,{"$f":"VLOOKUP(A119,Choix17!$F$2:$G$145,2,FALSE)","v":"EvansH"},{"$f":"IF(VLOOKUP(A119,Choix17!$F$2:$L$145,7,FALSE)=0,\"\",CONCATENATE(\"trade #\",VLOOKUP(A119,Choix17!$F$2:$L$145,7,FALSE)))","v":""},null,{"$f":"VLOOKUP(A119,[1]Choix16!$F$2:$K$145,6,FALSE)","v":100}]
[118,2017,10,{"$f":"VLOOKUP(A120,Choix17!$F$2:$G$145,2,FALSE)","v":"Julien"},{"$f":"IF(VLOOKUP(A120,Choix17!$F$2:$L$145,7,FALSE)=0,\"\",CONCATENATE(\"trade #\",VLOOKUP(A120,Choix17!$F$2:$L$145,7,FALSE)))","v":""},null,{"$f":"VLOOKUP(A120,[1]Choix16!$F$2:$K$145,6,FALSE)","v":450}]
[119,2017,10,{"$f":"VLOOKUP(A121,Choix17!$F$2:$G$145,2,FALSE)","v":"FredLa"},{"$f":"IF(VLOOKUP(A121,Choix17!$F$2:$L$145,7,FALSE)=0,\"\",CONCATENATE(\"trade #\",VLOOKUP(A121,Choix17!$F$2:$L$145,7,FALSE)))","v":""},null,{"$f":"VLOOKUP(A121,[1]Choix16!$F$2:$K$145,6,FALSE)","v":500}]
[120,2017,10,{"$f":"VLOOKUP(A122,Choix17!$F$2:$G$145,2,FALSE)","v":"Frank1"},{"$f":"IF(VLOOKUP(A122,Choix17!$F$2:$L$145,7,FALSE)=0,\"\",CONCATENATE(\"trade #\",VLOOKUP(A122,Choix17!$F$2:$L$145,7,FALSE)))","v":""},null,{"$f":"VLOOKUP(A122,[1]Choix16!$F$2:$K$145,6,FALSE)","v":200}]
[121,2017,11,{"$f":"VLOOKUP(A123,Choix17!$F$2:$G$145,2,FALSE)","v":"Michae"},{"$f":"IF(VLOOKUP(A123,Choix17!$F$2:$L$145,7,FALSE)=0,\"\",CONCATENATE(\"trade #\",VLOOKUP(A123,Choix17!$F$2:$L$145,7,FALSE)))","v":""},null,{"$f":"VLOOKUP(A123,[1]Choix16!$F$2:$K$145,6,FALSE)","v":650}]
[122,2017,11,{"$f":"VLOOKUP(A124,Choix17!$F$2:$G$145,2,FALSE)","v":"Bastie"},{"$f":"IF(VLOOKUP(A124,Choix17!$F$2:$L$145,7,FALSE)=0,\"\",CONCATENATE(\"trade #\",VLOOKUP(A124,Choix17!$F$2:$L$145,7,FALSE)))","v":""},null,{"$f":"VLOOKUP(A124,[1]Choix16!$F$2:$K$145,6,FALSE)","v":350}]
[123,2017,11,{"$f":"VLOOKUP(A125,Choix17!$F$2:$G$145,2,FALSE)","v":"Martin"},{"$f":"IF(VLOOKUP(A125,Choix17!$F$2:$L$145,7,FALSE)=0,\"\",CONCATENATE(\"trade #\",VLOOKUP(A125,Choix17!$F$2:$L$145,7,FALSE)))","v":""},null,{"$f":"VLOOKUP(A125,[1]Choix16!$F$2:$K$145,6,FALSE)","v":250}]
[124,2017,11,{"$f":"VLOOKUP(A126,Choix17!$F$2:$G$145,2,FALSE)","v":"JoelCa"},{"$f":"IF(VLOOKUP(A126,Choix17!$F$2:$L$145,7,FALSE)=0,\"\",CONCATENATE(\"trade #\",VLOOKUP(A126,Choix17!$F$2:$L$145,7,FALSE)))","v":""},null,{"$f":"VLOOKUP(A126,[1]Choix16!$F$2:$K$145,6,FALSE)","v":300}]
[125,2017,11,{"$f":"VLOOKUP(A127,Choix17!$F$2:$G$145,2,FALSE)","v":"Nicola"},{"$f":"IF(VLOOKUP(A127,Choix17!$F$2:$L$145,7,FALSE)=0,\"\",CONCATENATE(\"trade #\",VLOOKUP(A127,Choix17!$F$2:$L$145,7,FALSE)))","v":""},null,{"$f":"VLOOKUP(A127,[1]Choix16!$F$2:$K$145,6,FALSE)","v":550}]
[126,2017,11,{"$f":"VLOOKUP(A128,Choix17!$F$2:$G$145,2,FALSE)","v":"Nadeau"},{"$f":"IF(VLOOKUP(A128,Choix17!$F$2:$L$145,7,FALSE)=0,\"\",CONCATENATE(\"trade #\",VLOOKUP(A128,Choix17!$F$2:$L$145,7,FALSE)))","v":""},null,{"$f":"VLOOKUP(A128,[1]Choix16!$F$2:$K$145,6,FALSE)","v":400}]
[127,2017,11,{"$f":"VLOOKUP(A129,Choix17!$F$2:$G$145,2,FALSE)","v":"Cedrik"},{"$f":"IF(VLOOKUP(A129,Choix17!$F$2:$L$145,7,FALSE)=0,\"\",CONCATENATE(\"trade #\",VLOOKUP(A129,Choix17!$F$2:$L$145,7,FALSE)))","v":""},null,{"$f":"VLOOKUP(A129,[1]Choix16!$F$2:$K$145,6,FALSE)","v":600}]
[128,2017,11,{"$f":"VLOOKUP(A130,Choix17!$F$2:$G$145,2,FALSE)","v":"Frank2"},{"$f":"IF(VLOOKUP(A130,Choix17!$F$2:$L$145,7,FALSE)=0,\"\",CONCATENATE(\"trade #\",VLOOKUP(A130,Choix17!$F$2:$L$145,7,FALSE)))","v":""},null,{"$f":"VLOOKUP(A130,[1]Choix16!$F$2:$K$145,6,FALSE)","v":150}]
[129,2017,11,{"$f":"VLOOKUP(A131,Choix17!$F$2:$G$145,2,FALSE)","v":"EvansH"},{"$f":"IF(VLOOKUP(A131,Choix17!$F$2:$L$145,7,FALSE)=0,\"\",CONCATENATE(\"trade #\",VLOOKUP(A131,Choix17!$F$2:$L$145,7,FALSE)))","v":""},null,{"$f":"VLOOKUP(A131,[1]Choix16!$F$2:$K$145,6,FALSE)","v":100}]
[130,2017,11,{"$f":"VLOOKUP(A132,Choix17!$F$2:$G$145,2,FALSE)","v":"Julien"},{"$f":"IF(VLOOKUP(A132,Choix17!$F$2:$L$145,7,FALSE)=0,\"\",CONCATENATE(\"trade #\",VLOOKUP(A132,Choix17!$F$2:$L$145,7,FALSE)))","v":""},null,{"$f":"VLOOKUP(A132,[1]Choix16!$F$2:$K$145,6,FALSE)","v":450}]
[{"$f":"A132+1","v":131},2017,11,{"$f":"VLOOKUP(A133,Choix17!$F$2:$G$145,2,FALSE)","v":"FredLa"},{"$f":"IF(VLOOKUP(A133,Choix17!$F$2:$L$145,7,FALSE)=0,\"\",CONCATENATE(\"trade #\",VLOOKUP(A133,Choix17!$F$2:$L$145,7,FALSE)))","v":""},null,{"$f":"VLOOKUP(A133,[1]Choix16!$F$2:$K$145,6,FALSE)","v":500}]
[132,2017,11,{"$f":"VLOOKUP(A134,Choix17!$F$2:$G$145,2,FALSE)","v":"Frank1"},{"$f":"IF(VLOOKUP(A134,Choix17!$F$2:$L$145,7,FALSE)=0,\"\",CONCATENATE(\"trade #\",VLOOKUP(A134,Choix17!$F$2:$L$145,7,FALSE)))","v":""},null,{"$f":"VLOOKUP(A134,[1]Choix16!$F$2:$K$145,6,FALSE)","v":200}]
[133,2017,12,{"$f":"VLOOKUP(A135,Choix17!$F$2:$G$145,2,FALSE)","v":"Michae"},{"$f":"IF(VLOOKUP(A135,Choix17!$F$2:$L$145,7,FALSE)=0,\"\",CONCATENATE(\"trade #\",VLOOKUP(A135,Choix17!$F$2:$L$145,7,FALSE)))","v":""},null,{"$f":"VLOOKUP(A135,[1]Choix16!$F$2:$K$145,6,FALSE)","v":650}]
[134,2017,12,{"$f":"VLOOKUP(A136,Choix17!$F$2:$G$145,2,FALSE)","v":"Bastie"},{"$f":"IF(VLOOKUP(A136,Choix17!$F$2:$L$145,7,FALSE)=0,\"\",CONCATENATE(\"trade #\",VLOOKUP(A136,Choix17!$F$2:$L$145,7,FALSE)))","v":""},null,{"$f":"VLOOKUP(A136,[1]Choix16!$F$2:$K$145,6,FALSE)","v":350}]
[135,2017,12,{"$f":"VLOOKUP(A137,Choix17!$F$2:$G$145,2,FALSE)","v":"Martin"},{"$f":"IF(VLOOKUP(A137,Choix17!$F$2:$L$145,7,FALSE)=0,\"\",CONCATENATE(\"trade #\",VLOOKUP(A137,Choix17!$F$2:$L$145,7,FALSE)))","v":""},null,{"$f":"VLOOKUP(A137,[1]Choix16!$F$2:$K$145,6,FALSE)","v":250}]
[136,2017,12,{"$f":"VLOOKUP(A138,Choix17!$F$2:$G$145,2,FALSE)","v":"JoelCa"},{"$f":"IF(VLOOKUP(A138,Choix17!$F$2:$L$145,7,FALSE)=0,\"\",CONCATENATE(\"trade #\",VLOOKUP(A138,Choix17!$F$2:$L$145,7,FALSE)))","v":""},null,{"$f":"VLOOKUP(A138,[1]Choix16!$F$2:$K$145,6,FALSE)","v":300}]
[137,2017,12,{"$f":"VLOOKUP(A139,Choix17!$F$2:$G$145,2,FALSE)","v":"Nicola"},{"$f":"IF(VLOOKUP(A139,Choix17!$F$2:$L$145,7,FALSE)=0,\"\",CONCATENATE(\"trade #\",VLOOKUP(A139,Choix17!$F$2:$L$145,7,FALSE)))","v":""},null,{"$f":"VLOOKUP(A139,[1]Choix16!$F$2:$K$145,6,FALSE)","v":550}]
[138,2017,12,{"$f":"VLOOKUP(A140,Choix17!$F$2:$G$145,2,FALSE)","v":"Nadeau"},{"$f":"IF(VLOOKUP(A140,Choix17!$F$2:$L$145,7,FALSE)=0,\"\",CONCATENATE(\"trade #\",VLOOKUP(A140,Choix17!$F$2:$L$145,7,FALSE)))","v":""},null,{"$f":"VLOOKUP(A140,[1]Choix16!$F$2:$K$145,6,FALSE)","v":400}]
[139,2017,12,{"$f":"VLOOKUP(A141,Choix17!$F$2:$G$145,2,FALSE)","v":"Cedrik"},{"$f":"IF(VLOOKUP(A141,Choix17!$F$2:$L$145,7,FALSE)=0,\"\",CONCATENATE(\"trade #\",VLOOKUP(A141,Choix17!$F$2:$L$145,7,FALSE)))","v":""},null,{"$f":"VLOOKUP(A141,[1]Choix16!$F$2:$K$145,6,FALSE)","v":600}]
[140,2017,12,{"$f":"VLOOKUP(A142,Choix17!$F$2:$G$145,2,FALSE)","v":"Frank2"},{"$f":"IF(VLOOKUP(A142,Choix17!$F$2:$L$145,7,FALSE)=0,\"\",CONCATENATE(\"trade #\",VLOOKUP(A142,Choix17!$F$2:$L$145,7,FALSE)))","v":""},null,{"$f":"VLOOKUP(A142,[1]Choix16!$F$2:$K$145,6,FALSE)","v":150}]
[141,2017,12,{"$f":"VLOOKUP(A143,Choix17!$F$2:$G$145,2,FALSE)","v":"EvansH"},{"$f":"IF(VLOOKUP(A143,Choix17!$F$2:$L$145,7,FALSE)=0,\"\",CONCATENATE(\"trade #\",VLOOKUP(A143,Choix17!$F$2:$L$145,7,FALSE)))","v":""},null,{"$f":"VLOOKUP(A143,[1]Choix16!$F$2:$K$145,6,FALSE)","v":100}]
[142,2017,12,{"$f":"VLOOKUP(A144,Choix17!$F$2:$G$145,2,FALSE)","v":"Julien"},{"$f":"IF(VLOOKUP(A144,Choix17!$F$2:$L$145,7,FALSE)=0,\"\",CONCATENATE(\"trade #\",VLOOKUP(A144,Choix17!$F$2:$L$145,7,FALSE)))","v":""},null,{"$f":"VLOOKUP(A144,[1]Choix16!$F$2:$K$145,6,FALSE)","v":450}]
[143,2017,12,{"$f":"VLOOKUP(A145,Choix17!$F$2:$G$145,2,FALSE)","v":"FredLa"},{"$f":"IF(VLOOKUP(A145,Choix17!$F$2:$L$145,7,FALSE)=0,\"\",CONCATENATE(\"trade #\",VLOOKUP(A145,Choix17!$F$2:$L$145,7,FALSE)))","v":""},null,{"$f":"VLOOKUP(A145,[1]Choix16!$F$2:$K$145,6,FALSE)","v":500}]
[144,2017,12,{"$f":"VLOOKUP(A146,Choix17!$F$2:$G$145,2,FALSE)","v":"Frank1"},{"$f":"IF(VLOOKUP(A146,Choix17!$F$2:$L$145,7,FALSE)=0,\"\",CONCATENATE(\"trade #\",VLOOKUP(A146,Choix17!$F$2:$L$145,7,FALSE)))","v":""},null,{"$f":"VLOOKUP(A146,[1]Choix16!$F$2:$K$145,6,FALSE)","v":200}]

{"sheet":"Choix17","index":3,"n_rows":145,"n_cols":16,"rows_kept":145,"hidden":true}
["Clé reçu","Clé départ","Pooler","Year","Round","Draft order","Conca","Donné1","Donné2","Donné","Code","Trade","Pooler","Code",null,"Draft"]
[{"$f":"IF(ISERROR((VLOOKUP(J2,$M$2:$N$14,2,FALSE)&$D2&LEFT($E2,LEN($E2)-1))*1),0,(VLOOKUP(J2,$M$2:$N$14,2,FALSE)&$D2&LEFT($E2,LEN($E2)-1))*1)","v":0},{"$f":"(VLOOKUP(C2,$M$2:$N$14,2,FALSE)&D2&LEFT(E2,LEN(E2)-1))*1","v":100201701},"EvansH",2017,"01e",{"$f":"SUMPRODUCT((Draft17!$I$3:$I$14=$C2)*(Draft17!$K$1:$V$1=$E2)*(Draft17!$K$3:$V$14))","v":9},{"$f":"IF(A2>0,J2&\" reçu de \"&C2,C2)","v":"EvansH"},{"$f":"IF(ISERROR(VLOOKUP($B2,Trade17!$A$3:$O$9989,12,FALSE)),\"\",VLOOKUP($B2,Trade17!$A$3:$O$9989,12,FALSE))","v":""},{"$f":"IF(ISERROR(VLOOKUP($B2,Trade17!$B$3:$O$9989,6,FALSE)),\"\",VLOOKUP($B2,Trade17!$B$3:$O$9989,6,FALSE))","v":""},{"$f":"H2&I2","v":""},{"$f":"VLOOKUP(C2,$M$2:$N$14,2,FALSE)","v":100},{"$f":"IF(ISNA(VLOOKUP($B2,Trade17!$A$3:$O$9989,5,FALSE)),0,VLOOKUP($B2,Trade17!$A$3:$O$9989,5,FALSE))+IF(ISNA(VLOOKUP($B2,Trade17!$B$3:$O$9989,4,FALSE)),0,VLOOKUP($B2,Trade17!$B$3:$O$9989,4,FALSE))","v":0},"EvansH",100,null,{"$f":"D2&\" - \"&E2","v":"2017 - 01e"}]
[0,100201702,"EvansH",2017,"02e",{"$f":"SUMPRODUCT((Draft17!$I$3:$I$14=$C3)*(Draft17!$K$1:$V$1=$E3)*(Draft17!$K$3:$V$14))","v":21},"EvansH",{"$f":"IF(ISERROR(VLOOKUP($B3,Trade17!$A$3:$O$9989,12,FALSE)),\"\",VLOOKUP($B3,Trade17!$A$3:$O$9989,12,FALSE))","v":""},{"$f":"IF(ISERROR(VLOOKUP($B3,Trade17!$B$3:$O$9989,6,FALSE)),\"\",VLOOKUP($B3,Trade17!$B$3:$O$9989,6,FALSE))","v":""},"",100,{"$f":"IF(ISNA(VLOOKUP($B3,Trade17!$A$3:$O$9989,5,FALSE)),0,VLOOKUP($B3,Trade17!$A$3:$O$9989,5,FALSE))+IF(ISNA(VLOOKUP($B3,Trade17!$B$3:$O$9989,4,FALSE)),0,VLOOKUP($B3,Trade17!$B$3:$O$9989,4,FALSE))","v":0},"Frank2",150,null,"2017 - 02e"]
[0,100201703,"EvansH",2017,"03e",{"$f":"SUMPRODUCT((Draft17!$I$3:$I$14=$C4)*(Draft17!$K$1:$V$1=$E4)*(Draft17!$K$3:$V$14))","v":33},"EvansH",{"$f":"IF(ISERROR(VLOOKUP($B4,Trade17!$A$3:$O$9989,12,FALSE)),\"\",VLOOKUP($B4,Trade17!$A$3:$O$9989,12,FALSE))","v":""},{"$f":"IF(ISERROR(VLOOKUP($B4,Trade17!$B$3:$O$9989,6,FALSE)),\"\",VLOOKUP($B4,Trade17!$B$3:$O$9989,6,FALSE))","v":""},"",100,{"$f":"IF(ISNA(VLOOKUP($B4,Trade17!$A$3:$O$9989,5,FALSE)),0,VLOOKUP($B4,Trade17!$A$3:$O$9989,5,FALSE))+IF(ISNA(VLOOKUP($B4,Trade17!$B$3:$O$9989,4,FALSE)),0,VLOOKUP($B4,Trade17!$B$3:$O$9989,4,FALSE))","v":0},"Frank1",200,null,"2017 - 03e"]
[0,100201704,"EvansH",2017,"04e",{"$f":"SUMPRODUCT((Draft17!$I$3:$I$14=$C5)*(Draft17!$K$1:$V$1=$E5)*(Draft17!$K$3:$V$14))","v":45},"EvansH",{"$f":"IF(ISERROR(VLOOKUP($B5,Trade17!$A$3:$O$9989,12,FALSE)),\"\",VLOOKUP($B5,Trade17!$A$3:$O$9989,12,FALSE))","v":""},{"$f":"IF(ISERROR(VLOOKUP($B5,Trade17!$B$3:$O$9989,6,FALSE)),\"\",VLOOKUP($B5,Trade17!$B$3:$O$9989,6,FALSE))","v":""},"",100,{"$f":"IF(ISNA(VLOOKUP($B5,Trade17!$A$3:$O$9989,5,FALSE)),0,VLOOKUP($B5,Trade17!$A$3:$O$9989,5,FALSE))+IF(ISNA(VLOOKUP($B5,Trade17!$B$3:$O$9989,4,FALSE)),0,VLOOKUP($B5,Trade17!$B$3:$O$9989,4,FALSE))","v":0},"Martin",250,null,"2017 - 04e"]
[0,100201705,"EvansH",2017,"05e",{"$f":"SUMPRODUCT((Draft17!$I$3:$I$14=$C6)*(Draft17!$K$1:$V$1=$E6)*(Draft17!$K$3:$V$14))","v":57},"EvansH",{"$f":"IF(ISERROR(VLOOKUP($B6,Trade17!$A$3:$O$9989,12,FALSE)),\"\",VLOOKUP($B6,Trade17!$A$3:$O$9989,12,FALSE))","v":""},{"$f":"IF(ISERROR(VLOOKUP($B6,Trade17!$B$3:$O$9989,6,FALSE)),\"\",VLOOKUP($B6,Trade17!$B$3:$O$9989,6,FALSE))","v":""},"",100,{"$f":"IF(ISNA(VLOOKUP($B6,Trade17!$A$3:$O$9989,5,FALSE)),0,VLOOKUP($B6,Trade17!$A$3:$O$9989,5,FALSE))+IF(ISNA(VLOOKUP($B6,Trade17!$B$3:$O$9989,4,FALSE)),0,VLOOKUP($B6,Trade17!$B$3:$O$9989,4,FALSE))","v":0},"JoelCa",300,null,"2017 - 05e"]
[0,100201706,"EvansH",2017,"06e",{"$f":"SUMPRODUCT((Draft17!$I$3:$I$14=$C7)*(Draft17!$K$1:$V$1=$E7)*(Draft17!$K$3:$V$14))","v":69},"EvansH",{"$f":"IF(ISERROR(VLOOKUP($B7,Trade17!$A$3:$O$9989,12,FALSE)),\"\",VLOOKUP($B7,Trade17!$A$3:$O$9989,12,FALSE))","v":""},{"$f":"IF(ISERROR(VLOOKUP($B7,Trade17!$B$3:$O$9989,6,FALSE)),\"\",VLOOKUP($B7,Trade17!$B$3:$O$9989,6,FALSE))","v":""},"",100,{"$f":"IF(ISNA(VLOOKUP($B7,Trade17!$A$3:$O$9989,5,FALSE)),0,VLOOKUP($B7,Trade17!$A$3:$O$9989,5,FALSE))+IF(ISNA(VLOOKUP($B7,Trade17!$B$3:$O$9989,4,FALSE)),0,VLOOKUP($B7,Trade17!$B$3:$O$9989,4,FALSE))","v":0},"Bastie",350,null,"2017 - 06e"]
[0,100201707,"EvansH",2017,"07e",{"$f":"SUMPRODUCT((Draft17!$I$3:$I$14=$C8)*(Draft17!$K$1:$V$1=$E8)*(Draft17!$K$3:$V$14))","v":81},"EvansH",{"$f":"IF(ISERROR(VLOOKUP($B8,Trade17!$A$3:$O$9989,12,FALSE)),\"\",VLOOKUP($B8,Trade17!$A$3:$O$9989,12,FALSE))","v":""},{"$f":"IF(ISERROR(VLOOKUP($B8,Trade17!$B$3:$O$9989,6,FALSE)),\"\",VLOOKUP($B8,Trade17!$B$3:$O$9989,6,FALSE))","v":""},"",100,{"$f":"IF(ISNA(VLOOKUP($B8,Trade17!$A$3:$O$9989,5,FALSE)),0,VLOOKUP($B8,Trade17!$A$3:$O$9989,5,FALSE))+IF(ISNA(VLOOKUP($B8,Trade17!$B$3:$O$9989,4,FALSE)),0,VLOOKUP($B8,Trade17!$B$3:$O$9989,4,FALSE))","v":0},"Nadeau",400,null,"2017 - 07e"]
[0,100201708,"EvansH",2017,"08e",{"$f":"SUMPRODUCT((Draft17!$I$3:$I$14=$C9)*(Draft17!$K$1:$V$1=$E9)*(Draft17!$K$3:$V$14))","v":93},"EvansH",{"$f":"IF(ISERROR(VLOOKUP($B9,Trade17!$A$3:$O$9989,12,FALSE)),\"\",VLOOKUP($B9,Trade17!$A$3:$O$9989,12,FALSE))","v":""},{"$f":"IF(ISERROR(VLOOKUP($B9,Trade17!$B$3:$O$9989,6,FALSE)),\"\",VLOOKUP($B9,Trade17!$B$3:$O$9989,6,FALSE))","v":""},"",100,{"$f":"IF(ISNA(VLOOKUP($B9,Trade17!$A$3:$O$9989,5,FALSE)),0,VLOOKUP($B9,Trade17!$A$3:$O$9989,5,FALSE))+IF(ISNA(VLOOKUP($B9,Trade17!$B$3:$O$9989,4,FALSE)),0,VLOOKUP($B9,Trade17!$B$3:$O$9989,4,FALSE))","v":0},"Julien",450,null,"2017 - 08e"]
[0,{"$f":"(VLOOKUP(C10,$M$2:$N$14,2,FALSE)&$D10&LEFT($E10,LEN($E10)-1))*1","v":100201709},"EvansH",2017,"09e",{"$f":"SUMPRODUCT((Draft17!$I$3:$I$14=$C10)*(Draft17!$K$1:$V$1=$E10)*(Draft17!$K$3:$V$14))","v":105},"EvansH",{"$f":"IF(ISERROR(VLOOKUP($B10,Trade17!$A$3:$O$9989,12,FALSE)),\"\",VLOOKUP($B10,Trade17!$A$3:$O$9989,12,FALSE))","v":""},{"$f":"IF(ISERROR(VLOOKUP($B10,Trade17!$B$3:$O$9989,6,FALSE)),\"\",VLOOKUP($B10,Trade17!$B$3:$O$9989,6,FALSE))","v":""},"",100,{"$f":"IF(ISNA(VLOOKUP($B10,Trade17!$A$3:$O$9989,5,FALSE)),0,VLOOKUP($B10,Trade17!$A$3:$O$9989,5,FALSE))+IF(ISNA(VLOOKUP($B10,Trade17!$B$3:$O$9989,4,FALSE)),0,VLOOKUP($B10,Trade17!$B$3:$O$9989,4,FALSE))","v":0},"FredLa",500,null,"2017 - 09e"]
[0,{"$f":"(VLOOKUP(C11,$M$2:$N$14,2,FALSE)&D11&LEFT(E11,LEN(E11)-1))*1","v":100201710},"EvansH",2017,"10e",{"$f":"SUMPRODUCT((Draft17!$I$3:$I$14=$C11)*(Draft17!$K$1:$V$1=$E11)*(Draft17!$K$3:$V$14))","v":117},"EvansH",{"$f":"IF(ISERROR(VLOOKUP($B11,Trade17!$A$3:$O$9989,12,FALSE)),\"\",VLOOKUP($B11,Trade17!$A$3:$O$9989,12,FALSE))","v":""},{"$f":"IF(ISERROR(VLOOKUP($B11,Trade17!$B$3:$O$9989,6,FALSE)),\"\",VLOOKUP($B11,Trade17!$B$3:$O$9989,6,FALSE))","v":""},"",100,{"$f":"IF(ISNA(VLOOKUP($B11,Trade17!$A$3:$O$9989,5,FALSE)),0,VLOOKUP($B11,Trade17!$A$3:$O$9989,5,FALSE))+IF(ISNA(VLOOKUP($B11,Trade17!$B$3:$O$9989,4,FALSE)),0,VLOOKUP($B11,Trade17!$B$3:$O$9989,4,FALSE))","v":0},"Nicola",550,null,"2017 - 10e"]
[0,100201711,"EvansH",2017,"11e",{"$f":"SUMPRODUCT((Draft17!$I$3:$I$14=$C12)*(Draft17!$K$1:$V$1=$E12)*(Draft17!$K$3:$V$14))","v":129},"EvansH",{"$f":"IF(ISERROR(VLOOKUP($B12,Trade17!$A$3:$O$9989,12,FALSE)),\"\",VLOOKUP($B12,Trade17!$A$3:$O$9989,12,FALSE))","v":""},{"$f":"IF(ISERROR(VLOOKUP($B12,Trade17!$B$3:$O$9989,6,FALSE)),\"\",VLOOKUP($B12,Trade17!$B$3:$O$9989,6,FALSE))","v":""},"",100,{"$f":"IF(ISNA(VLOOKUP($B12,Trade17!$A$3:$O$9989,5,FALSE)),0,VLOOKUP($B12,Trade17!$A$3:$O$9989,5,FALSE))+IF(ISNA(VLOOKUP($B12,Trade17!$B$3:$O$9989,4,FALSE)),0,VLOOKUP($B12,Trade17!$B$3:$O$9989,4,FALSE))","v":0},"Cedrik",600,null,"2017 - 11e"]
[0,100201712,"EvansH",2017,"12e",{"$f":"SUMPRODUCT((Draft17!$I$3:$I$14=$C13)*(Draft17!$K$1:$V$1=$E13)*(Draft17!$K$3:$V$14))","v":141},"EvansH",{"$f":"IF(ISERROR(VLOOKUP($B13,Trade17!$A$3:$O$9989,12,FALSE)),\"\",VLOOKUP($B13,Trade17!$A$3:$O$9989,12,FALSE))","v":""},{"$f":"IF(ISERROR(VLOOKUP($B13,Trade17!$B$3:$O$9989,6,FALSE)),\"\",VLOOKUP($B13,Trade17!$B$3:$O$9989,6,FALSE))","v":""},"",100,{"$f":"IF(ISNA(VLOOKUP($B13,Trade17!$A$3:$O$9989,5,FALSE)),0,VLOOKUP($B13,Trade17!$A$3:$O$9989,5,FALSE))+IF(ISNA(VLOOKUP($B13,Trade17!$B$3:$O$9989,4,FALSE)),0,VLOOKUP($B13,Trade17!$B$3:$O$9989,4,FALSE))","v":0},"Michae",650,null,"2017 - 12e"]
[200201701,150201701,"Frank2",2017,"01e",{"$f":"SUMPRODUCT((Draft17!$I$3:$I$14=$C14)*(Draft17!$K$1:$V$1=$E14)*(Draft17!$K$3:$V$14))","v":8},"Frank1 reçu de Frank2",{"$f":"IF(ISERROR(VLOOKUP($B14,Trade17!$A$3:$O$9989,12,FALSE)),\"\",VLOOKUP($B14,Trade17!$A$3:$O$9989,12,FALSE))","v":"Frank1"},{"$f":"IF(ISERROR(VLOOKUP($B14,Trade17!$B$3:$O$9989,6,FALSE)),\"\",VLOOKUP($B14,Trade17!$B$3:$O$9989,6,FALSE))","v":""},"Frank1",150,{"$f":"IF(ISNA(VLOOKUP($B14,Trade17!$A$3:$O$9989,5,FALSE)),0,VLOOKUP($B14,Trade17!$A$3:$O$9989,5,FALSE))+IF(ISNA(VLOOKUP($B14,Trade17!$B$3:$O$9989,4,FALSE)),0,VLOOKUP($B14,Trade17!$B$3:$O$9989,4,FALSE))","v":2},"AgentL",700]
[0,150201702,"Frank2",2017,"02e",{"$f":"SUMPRODUCT((Draft17!$I$3:$I$14=$C15)*(Draft17!$K$1:$V$1=$E15)*(Draft17!$K$3:$V$14))","v":20},{"$f":"IF(A15>0,J15&\" reçu de \"&C15,C15)","v":"Frank2"},{"$f":"IF(ISERROR(VLOOKUP($B15,Trade17!$A$3:$O$9989,12,FALSE)),\"\",VLOOKUP($B15,Trade17!$A$3:$O$9989,12,FALSE))","v":""},{"$f":"IF(ISERROR(VLOOKUP($B15,Trade17!$B$3:$O$9989,6,FALSE)),\"\",VLOOKUP($B15,Trade17!$B$3:$O$9989,6,FALSE))","v":""},"",150,{"$f":"IF(ISNA(VLOOKUP($B15,Trade17!$A$3:$O$9989,5,FALSE)),0,VLOOKUP($B15,Trade17!$A$3:$O$9989,5,FALSE))+IF(ISNA(VLOOKUP($B15,Trade17!$B$3:$O$9989,4,FALSE)),0,VLOOKUP($B15,Trade17!$B$3:$O$9989,4,FALSE))","v":0}]
[0,150201703,"Frank2",2017,"03e",{"$f":"SUMPRODUCT((Draft17!$I$3:$I$14=$C16)*(Draft17!$K$1:$V$1=$E16)*(Draft17!$K$3:$V$14))","v":32},"Frank2",{"$f":"IF(ISERROR(VLOOKUP($B16,Trade17!$A$3:$O$9989,12,FALSE)),\"\",VLOOKUP($B16,Trade17!$A$3:$O$9989,12,FALSE))","v":""},{"$f":"IF(ISERROR(VLOOKUP($B16,Trade17!$B$3:$O$9989,6,FALSE)),\"\",VLOOKUP($B16,Trade17!$B$3:$O$9989,6,FALSE))","v":""},"",150,{"$f":"IF(ISNA(VLOOKUP($B16,Trade17!$A$3:$O$9989,5,FALSE)),0,VLOOKUP($B16,Trade17!$A$3:$O$9989,5,FALSE))+IF(ISNA(VLOOKUP($B16,Trade17!$B$3:$O$9989,4,FALSE)),0,VLOOKUP($B16,Trade17!$B$3:$O$9989,4,FALSE))","v":0}]
[0,150201704,"Frank2",2017,"04e",{"$f":"SUMPRODUCT((Draft17!$I$3:$I$14=$C17)*(Draft17!$K$1:$V$1=$E17)*(Draft17!$K$3:$V$14))","v":44},"Frank2",{"$f":"IF(ISERROR(VLOOKUP($B17,Trade17!$A$3:$O$9989,12,FALSE)),\"\",VLOOKUP($B17,Trade17!$A$3:$O$9989,12,FALSE))","v":""},{"$f":"IF(ISERROR(VLOOKUP($B17,Trade17!$B$3:$O$9989,6,FALSE)),\"\",VLOOKUP($B17,Trade17!$B$3:$O$9989,6,FALSE))","v":""},"",150,{"$f":"IF(ISNA(VLOOKUP($B17,Trade17!$A$3:$O$9989,5,FALSE)),0,VLOOKUP($B17,Trade17!$A$3:$O$9989,5,FALSE))+IF(ISNA(VLOOKUP($B17,Trade17!$B$3:$O$9989,4,FALSE)),0,VLOOKUP($B17,Trade17!$B$3:$O$9989,4,FALSE))","v":0}]
[0,150201705,"Frank2",2017,"05e",{"$f":"SUMPRODUCT((Draft17!$I$3:$I$14=$C18)*(Draft17!$K$1:$V$1=$E18)*(Draft17!$K$3:$V$14))","v":56},"Frank2",{"$f":"IF(ISERROR(VLOOKUP($B18,Trade17!$A$3:$O$9989,12,FALSE)),\"\",VLOOKUP($B18,Trade17!$A$3:$O$9989,12,FALSE))","v":""},{"$f":"IF(ISERROR(VLOOKUP($B18,Trade17!$B$3:$O$9989,6,FALSE)),\"\",VLOOKUP($B18,Trade17!$B$3:$O$9989,6,FALSE))","v":""},"",150,{"$f":"IF(ISNA(VLOOKUP($B18,Trade17!$A$3:$O$9989,5,FALSE)),0,VLOOKUP($B18,Trade17!$A$3:$O$9989,5,FALSE))+IF(ISNA(VLOOKUP($B18,Trade17!$B$3:$O$9989,4,FALSE)),0,VLOOKUP($B18,Trade17!$B$3:$O$9989,4,FALSE))","v":0}]
[0,150201706,"Frank2",2017,"06e",{"$f":"SUMPRODUCT((Draft17!$I$3:$I$14=$C19)*(Draft17!$K$1:$V$1=$E19)*(Draft17!$K$3:$V$14))","v":68},"Frank2",{"$f":"IF(ISERROR(VLOOKUP($B19,Trade17!$A$3:$O$9989,12,FALSE)),\"\",VLOOKUP($B19,Trade17!$A$3:$O$9989,12,FALSE))","v":""},{"$f":"IF(ISERROR(VLOOKUP($B19,Trade17!$B$3:$O$9989,6,FALSE)),\"\",VLOOKUP($B19,Trade17!$B$3:$O$9989,6,FALSE))","v":""},"",150,{"$f":"IF(ISNA(VLOOKUP($B19,Trade17!$A$3:$O$9989,5,FALSE)),0,VLOOKUP($B19,Trade17!$A$3:$O$9989,5,FALSE))+IF(ISNA(VLOOKUP($B19,Trade17!$B$3:$O$9989,4,FALSE)),0,VLOOKUP($B19,Trade17!$B$3:$O$9989,4,FALSE))","v":0}]
[0,150201707,"Frank2",2017,"07e",{"$f":"SUMPRODUCT((Draft17!$I$3:$I$14=$C20)*(Draft17!$K$1:$V$1=$E20)*(Draft17!$K$3:$V$14))","v":80},"Frank2",{"$f":"IF(ISERROR(VLOOKUP($B20,Trade17!$A$3:$O$9989,12,FALSE)),\"\",VLOOKUP($B20,Trade17!$A$3:$O$9989,12,FALSE))","v":""},{"$f":"IF(ISERROR(VLOOKUP($B20,Trade17!$B$3:$O$9989,6,FALSE)),\"\",VLOOKUP($B20,Trade17!$B$3:$O$9989,6,FALSE))","v":""},"",150,{"$f":"IF(ISNA(VLOOKUP($B20,Trade17!$A$3:$O$9989,5,FALSE)),0,VLOOKUP($B20,Trade17!$A$3:$O$9989,5,FALSE))+IF(ISNA(VLOOKUP($B20,Trade17!$B$3:$O$9989,4,FALSE)),0,VLOOKUP($B20,Trade17!$B$3:$O$9989,4,FALSE))","v":0}]
[0,150201708,"Frank2",2017,"08e",{"$f":"SUMPRODUCT((Draft17!$I$3:$I$14=$C21)*(Draft17!$K$1:$V$1=$E21)*(Draft17!$K$3:$V$14))","v":92},"Frank2",{"$f":"IF(ISERROR(VLOOKUP($B21,Trade17!$A$3:$O$9989,12,FALSE)),\"\",VLOOKUP($B21,Trade17!$A$3:$O$9989,12,FALSE))","v":""},{"$f":"IF(ISERROR(VLOOKUP($B21,Trade17!$B$3:$O$9989,6,FALSE)),\"\",VLOOKUP($B21,Trade17!$B$3:$O$9989,6,FALSE))","v":""},"",150,{"$f":"IF(ISNA(VLOOKUP($B21,Trade17!$A$3:$O$9989,5,FALSE)),0,VLOOKUP($B21,Trade17!$A$3:$O$9989,5,FALSE))+IF(ISNA(VLOOKUP($B21,Trade17!$B$3:$O$9989,4,FALSE)),0,VLOOKUP($B21,Trade17!$B$3:$O$9989,4,FALSE))","v":0}]
[0,150201709,"Frank2",2017,"09e",{"$f":"SUMPRODUCT((Draft17!$I$3:$I$14=$C22)*(Draft17!$K$1:$V$1=$E22)*(Draft17!$K$3:$V$14))","v":104},"Frank2",{"$f":"IF(ISERROR(VLOOKUP($B22,Trade17!$A$3:$O$9989,12,FALSE)),\"\",VLOOKUP($B22,Trade17!$A$3:$O$9989,12,FALSE))","v":""},{"$f":"IF(ISERROR(VLOOKUP($B22,Trade17!$B$3:$O$9989,6,FALSE)),\"\",VLOOKUP($B22,Trade17!$B$3:$O$9989,6,FALSE))","v":""},"",150,{"$f":"IF(ISNA(VLOOKUP($B22,Trade17!$A$3:$O$9989,5,FALSE)),0,VLOOKUP($B22,Trade17!$A$3:$O$9989,5,FALSE))+IF(ISNA(VLOOKUP($B22,Trade17!$B$3:$O$9989,4,FALSE)),0,VLOOKUP($B22,Trade17!$B$3:$O$9989,4,FALSE))","v":0}]
[0,150201710,"Frank2",2017,"10e",{"$f":"SUMPRODUCT((Draft17!$I$3:$I$14=$C23)*(Draft17!$K$1:$V$1=$E23)*(Draft17!$K$3:$V$14))","v":116},"Frank2",{"$f":"IF(ISERROR(VLOOKUP($B23,Trade17!$A$3:$O$9989,12,FALSE)),\"\",VLOOKUP($B23,Trade17!$A$3:$O$9989,12,FALSE))","v":""},{"$f":"IF(ISERROR(VLOOKUP($B23,Trade17!$B$3:$O$9989,6,FALSE)),\"\",VLOOKUP($B23,Trade17!$B$3:$O$9989,6,FALSE))","v":""},"",150,{"$f":"IF(ISNA(VLOOKUP($B23,Trade17!$A$3:$O$9989,5,FALSE)),0,VLOOKUP($B23,Trade17!$A$3:$O$9989,5,FALSE))+IF(ISNA(VLOOKUP($B23,Trade17!$B$3:$O$9989,4,FALSE)),0,VLOOKUP($B23,Trade17!$B$3:$O$9989,4,FALSE))","v":0}]
[0,150201711,"Frank2",2017,"11e",{"$f":"SUMPRODUCT((Draft17!$I$3:$I$14=$C24)*(Draft17!$K$1:$V$1=$E24)*(Draft17!$K$3:$V$14))","v":128},"Frank2",{"$f":"IF(ISERROR(VLOOKUP($B24,Trade17!$A$3:$O$9989,12,FALSE)),\"\",VLOOKUP($B24,Trade17!$A$3:$O$9989,12,FALSE))","v":""},{"$f":"IF(ISERROR(VLOOKUP($B24,Trade17!$B$3:$O$9989,6,FALSE)),\"\",VLOOKUP($B24,Trade17!$B$3:$O$9989,6,FALSE))","v":""},"",150,{"$f":"IF(ISNA(VLOOKUP($B24,Trade17!$A$3:$O$9989,5,FALSE)),0,VLOOKUP($B24,Trade17!$A$3:$O$9989,5,FALSE))+IF(ISNA(VLOOKUP($B24,Trade17!$B$3:$O$9989,4,FALSE)),0,VLOOKUP($B24,Trade17!$B$3:$O$9989,4,FALSE))","v":0}]
[0,150201712,"Frank2",2017,"12e",{"$f":"SUMPRODUCT((Draft17!$I$3:$I$14=$C25)*(Draft17!$K$1:$V$1=$E25)*(Draft17!$K$3:$V$14))","v":140},"Frank2",{"$f":"IF(ISERROR(VLOOKUP($B25,Trade17!$A$3:$O$9989,12,FALSE)),\"\",VLOOKUP($B25,Trade17!$A$3:$O$9989,12,FALSE))","v":""},{"$f":"IF(ISERROR(VLOOKUP($B25,Trade17!$B$3:$O$9989,6,FALSE)),\"\",VLOOKUP($B25,Trade17!$B$3:$O$9989,6,FALSE))","v":""},"",150,{"$f":"IF(ISNA(VLOOKUP($B25,Trade17!$A$3:$O$9989,5,FALSE)),0,VLOOKUP($B25,Trade17!$A$3:$O$9989,5,FALSE))+IF(ISNA(VLOOKUP($B25,Trade17!$B$3:$O$9989,4,FALSE)),0,VLOOKUP($B25,Trade17!$B$3:$O$9989,4,FALSE))","v":0}]
[0,200201701,"Frank1",2017,"01e",{"$f":"SUMPRODUCT((Draft17!$I$3:$I$14=$C26)*(Draft17!$K$1:$V$1=$E26)*(Draft17!$K$3:$V$14))","v":12},"Frank1",{"$f":"IF(ISERROR(VLOOKUP($B26,Trade17!$A$3:$O$9989,12,FALSE)),\"\",VLOOKUP($B26,Trade17!$A$3:$O$9989,12,FALSE))","v":""},{"$f":"IF(ISERROR(VLOOKUP($B26,Trade17!$B$3:$O$9989,6,FALSE)),\"\",VLOOKUP($B26,Trade17!$B$3:$O$9989,6,FALSE))","v":""},"",200,{"$f":"IF(ISNA(VLOOKUP($B26,Trade17!$A$3:$O$9989,5,FALSE)),0,VLOOKUP($B26,Trade17!$A$3:$O$9989,5,FALSE))+IF(ISNA(VLOOKUP($B26,Trade17!$B$3:$O$9989,4,FALSE)),0,VLOOKUP($B26,Trade17!$B$3:$O$9989,4,FALSE))","v":0}]
[150201702,200201702,"Frank1",2017,"02e",{"$f":"SUMPRODUCT((Draft17!$I$3:$I$14=$C27)*(Draft17!$K$1:$V$1=$E27)*(Draft17!$K$3:$V$14))","v":24},"Frank2 reçu de Frank1",{"$f":"IF(ISERROR(VLOOKUP($B27,Trade17!$A$3:$O$9989,12,FALSE)),\"\",VLOOKUP($B27,Trade17!$A$3:$O$9989,12,FALSE))","v":""},{"$f":"IF(ISERROR(VLOOKUP($B27,Trade17!$B$3:$O$9989,6,FALSE)),\"\",VLOOKUP($B27,Trade17!$B$3:$O$9989,6,FALSE))","v":"Frank2"},"Frank2",200,{"$f":"IF(ISNA(VLOOKUP($B27,Trade17!$A$3:$O$9989,5,FALSE)),0,VLOOKUP($B27,Trade17!$A$3:$O$9989,5,FALSE))+IF(ISNA(VLOOKUP($B27,Trade17!$B$3:$O$9989,4,FALSE)),0,VLOOKUP($B27,Trade17!$B$3:$O$9989,4,FALSE))","v":2}]
[0,200201703,"Frank1",2017,"03e",{"$f":"SUMPRODUCT((Draft17!$I$3:$I$14=$C28)*(Draft17!$K$1:$V$1=$E28)*(Draft17!$K$3:$V$14))","v":36},"Frank1",{"$f":"IF(ISERROR(VLOOKUP($B28,Trade17!$A$3:$O$9989,12,FALSE)),\"\",VLOOKUP($B28,Trade17!$A$3:$O$9989,12,FALSE))","v":""},{"$f":"IF(ISERROR(VLOOKUP($B28,Trade17!$B$3:$O$9989,6,FALSE)),\"\",VLOOKUP($B28,Trade17!$B$3:$O$9989,6,FALSE))","v":""},"",200,{"$f":"IF(ISNA(VLOOKUP($B28,Trade17!$A$3:$O$9989,5,FALSE)),0,VLOOKUP($B28,Trade17!$A$3:$O$9989,5,FALSE))+IF(ISNA(VLOOKUP($B28,Trade17!$B$3:$O$9989,4,FALSE)),0,VLOOKUP($B28,Trade17!$B$3:$O$9989,4,FALSE))","v":0}]
[0,200201704,"Frank1",2017,"04e",{"$f":"SUMPRODUCT((Draft17!$I$3:$I$14=$C29)*(Draft17!$K$1:$V$1=$E29)*(Draft17!$K$3:$V$14))","v":48},"Frank1",{"$f":"IF(ISERROR(VLOOKUP($B29,Trade17!$A$3:$O$9989,12,FALSE)),\"\",VLOOKUP($B29,Trade17!$A$3:$O$9989,12,FALSE))","v":""},{"$f":"IF(ISERROR(VLOOKUP($B29,Trade17!$B$3:$O$9989,6,FALSE)),\"\",VLOOKUP($B29,Trade17!$B$3:$O$9989,6,FALSE))","v":""},"",200,{"$f":"IF(ISNA(VLOOKUP($B29,Trade17!$A$3:$O$9989,5,FALSE)),0,VLOOKUP($B29,Trade17!$A$3:$O$9989,5,FALSE))+IF(ISNA(VLOOKUP($B29,Trade17!$B$3:$O$9989,4,FALSE)),0,VLOOKUP($B29,Trade17!$B$3:$O$9989,4,FALSE))","v":0}]
[0,200201705,"Frank1",2017,"05e",{"$f":"SUMPRODUCT((Draft17!$I$3:$I$14=$C30)*(Draft17!$K$1:$V$1=$E30)*(Draft17!$K$3:$V$14))","v":60},"Frank1",{"$f":"IF(ISERROR(VLOOKUP($B30,Trade17!$A$3:$O$9989,12,FALSE)),\"\",VLOOKUP($B30,Trade17!$A$3:$O$9989,12,FALSE))","v":""},{"$f":"IF(ISERROR(VLOOKUP($B30,Trade17!$B$3:$O$9989,6,FALSE)),\"\",VLOOKUP($B30,Trade17!$B$3:$O$9989,6,FALSE))","v":""},"",200,{"$f":"IF(ISNA(VLOOKUP($B30,Trade17!$A$3:$O$9989,5,FALSE)),0,VLOOKUP($B30,Trade17!$A$3:$O$9989,5,FALSE))+IF(ISNA(VLOOKUP($B30,Trade17!$B$3:$O$9989,4,FALSE)),0,VLOOKUP($B30,Trade17!$B$3:$O$9989,4,FALSE))","v":0}]
[0,200201706,"Frank1",2017,"06e",{"$f":"SUMPRODUCT((Draft17!$I$3:$I$14=$C31)*(Draft17!$K$1:$V$1=$E31)*(Draft17!$K$3:$V$14))","v":72},"Frank1",{"$f":"IF(ISERROR(VLOOKUP($B31,Trade17!$A$3:$O$9989,12,FALSE)),\"\",VLOOKUP($B31,Trade17!$A$3:$O$9989,12,FALSE))","v":""},{"$f":"IF(ISERROR(VLOOKUP($B31,Trade17!$B$3:$O$9989,6,FALSE)),\"\",VLOOKUP($B31,Trade17!$B$3:$O$9989,6,FALSE))","v":""},"",200,{"$f":"IF(ISNA(VLOOKUP($B31,Trade17!$A$3:$O$9989,5,FALSE)),0,VLOOKUP($B31,Trade17!$A$3:$O$9989,5,FALSE))+IF(ISNA(VLOOKUP($B31,Trade17!$B$3:$O$9989,4,FALSE)),0,VLOOKUP($B31,Trade17!$B$3:$O$9989,4,FALSE))","v":0}]
[0,200201707,"Frank1",2017,"07e",{"$f":"SUMPRODUCT((Draft17!$I$3:$I$14=$C32)*(Draft17!$K$1:$V$1=$E32)*(Draft17!$K$3:$V$14))","v":84},"Frank1",{"$f":"IF(ISERROR(VLOOKUP($B32,Trade17!$A$3:$O$9989,12,FALSE)),\"\",VLOOKUP($B32,Trade17!$A$3:$O$9989,12,FALSE))","v":""},{"$f":"IF(ISERROR(VLOOKUP($B32,Trade17!$B$3:$O$9989,6,FALSE)),\"\",VLOOKUP($B32,Trade17!$B$3:$O$9989,6,FALSE))","v":""},"",200,{"$f":"IF(ISNA(VLOOKUP($B32,Trade17!$A$3:$O$9989,5,FALSE)),0,VLOOKUP($B32,Trade17!$A$3:$O$9989,5,FALSE))+IF(ISNA(VLOOKUP($B32,Trade17!$B$3:$O$9989,4,FALSE)),0,VLOOKUP($B32,Trade17!$B$3:$O$9989,4,FALSE))","v":0}]
[0,200201708,"Frank1",2017,"08e",{"$f":"SUMPRODUCT((Draft17!$I$3:$I$14=$C33)*(Draft17!$K$1:$V$1=$E33)*(Draft17!$K$3:$V$14))","v":96},"Frank1",{"$f":"IF(ISERROR(VLOOKUP($B33,Trade17!$A$3:$O$9989,12,FALSE)),\"\",VLOOKUP($B33,Trade17!$A$3:$O$9989,12,FALSE))","v":""},{"$f":"IF(ISERROR(VLOOKUP($B33,Trade17!$B$3:$O$9989,6,FALSE)),\"\",VLOOKUP($B33,Trade17!$B$3:$O$9989,6,FALSE))","v":""},"",200,{"$f":"IF(ISNA(VLOOKUP($B33,Trade17!$A$3:$O$9989,5,FALSE)),0,VLOOKUP($B33,Trade17!$A$3:$O$9989,5,FALSE))+IF(ISNA(VLOOKUP($B33,Trade17!$B$3:$O$9989,4,FALSE)),0,VLOOKUP($B33,Trade17!$B$3:$O$9989,4,FALSE))","v":0}]
[0,200201709,"Frank1",2017,"09e",{"$f":"SUMPRODUCT((Draft17!$I$3:$I$14=$C34)*(Draft17!$K$1:$V$1=$E34)*(Draft17!$K$3:$V$14))","v":108},"Frank1",{"$f":"IF(ISERROR(VLOOKUP($B34,Trade17!$A$3:$O$9989,12,FALSE)),\"\",VLOOKUP($B34,Trade17!$A$3:$O$9989,12,FALSE))","v":""},{"$f":"IF(ISERROR(VLOOKUP($B34,Trade17!$B$3:$O$9989,6,FALSE)),\"\",VLOOKUP($B34,Trade17!$B$3:$O$9989,6,FALSE))","v":""},"",200,{"$f":"IF(ISNA(VLOOKUP($B34,Trade17!$A$3:$O$9989,5,FALSE)),0,VLOOKUP($B34,Trade17!$A$3:$O$9989,5,FALSE))+IF(ISNA(VLOOKUP($B34,Trade17!$B$3:$O$9989,4,FALSE)),0,VLOOKUP($B34,Trade17!$B$3:$O$9989,4,FALSE))","v":0}]
[0,200201710,"Frank1",2017,"10e",{"$f":"SUMPRODUCT((Draft17!$I$3:$I$14=$C35)*(Draft17!$K$1:$V$1=$E35)*(Draft17!$K$3:$V$14))","v":120},"Frank1",{"$f":"IF(ISERROR(VLOOKUP($B35,Trade17!$A$3:$O$9989,12,FALSE)),\"\",VLOOKUP($B35,Trade17!$A$3:$O$9989,12,FALSE))","v":""},{"$f":"IF(ISERROR(VLOOKUP($B35,Trade17!$B$3:$O$9989,6,FALSE)),\"\",VLOOKUP($B35,Trade17!$B$3:$O$9989,6,FALSE))","v":""},"",200,{"$f":"IF(ISNA(VLOOKUP($B35,Trade17!$A$3:$O$9989,5,FALSE)),0,VLOOKUP($B35,Trade17!$A$3:$O$9989,5,FALSE))+IF(ISNA(VLOOKUP($B35,Trade17!$B$3:$O$9989,4,FALSE)),0,VLOOKUP($B35,Trade17!$B$3:$O$9989,4,FALSE))","v":0}]
[0,200201711,"Frank1",2017,"11e",{"$f":"SUMPRODUCT((Draft17!$I$3:$I$14=$C36)*(Draft17!$K$1:$V$1=$E36)*(Draft17!$K$3:$V$14))","v":132},"Frank1",{"$f":"IF(ISERROR(VLOOKUP($B36,Trade17!$A$3:$O$9989,12,FALSE)),\"\",VLOOKUP($B36,Trade17!$A$3:$O$9989,12,FALSE))","v":""},{"$f":"IF(ISERROR(VLOOKUP($B36,Trade17!$B$3:$O$9989,6,FALSE)),\"\",VLOOKUP($B36,Trade17!$B$3:$O$9989,6,FALSE))","v":""},"",200,{"$f":"IF(ISNA(VLOOKUP($B36,Trade17!$A$3:$O$9989,5,FALSE)),0,VLOOKUP($B36,Trade17!$A$3:$O$9989,5,FALSE))+IF(ISNA(VLOOKUP($B36,Trade17!$B$3:$O$9989,4,FALSE)),0,VLOOKUP($B36,Trade17!$B$3:$O$9989,4,FALSE))","v":0}]
[0,200201712,"Frank1",2017,"12e",{"$f":"SUMPRODUCT((Draft17!$I$3:$I$14=$C37)*(Draft17!$K$1:$V$1=$E37)*(Draft17!$K$3:$V$14))","v":144},"Frank1",{"$f":"IF(ISERROR(VLOOKUP($B37,Trade17!$A$3:$O$9989,12,FALSE)),\"\",VLOOKUP($B37,Trade17!$A$3:$O$9989,12,FALSE))","v":""},{"$f":"IF(ISERROR(VLOOKUP($B37,Trade17!$B$3:$O$9989,6,FALSE)),\"\",VLOOKUP($B37,Trade17!$B$3:$O$9989,6,FALSE))","v":""},"",200,{"$f":"IF(ISNA(VLOOKUP($B37,Trade17!$A$3:$O$9989,5,FALSE)),0,VLOOKUP($B37,Trade17!$A$3:$O$9989,5,FALSE))+IF(ISNA(VLOOKUP($B37,Trade17!$B$3:$O$9989,4,FALSE)),0,VLOOKUP($B37,Trade17!$B$3:$O$9989,4,FALSE))","v":0}]
[650201701,250201701,"Martin",2017,"01e",{"$f":"SUMPRODUCT((Draft17!$I$3:$I$14=$C38)*(Draft17!$K$1:$V$1=$E38)*(Draft17!$K$3:$V$14))","v":3},"Michae reçu de Martin",{"$f":"IF(ISERROR(VLOOKUP($B38,Trade17!$A$3:$O$9989,12,FALSE)),\"\",VLOOKUP($B38,Trade17!$A$3:$O$9989,12,FALSE))","v":"Michae"},{"$f":"IF(ISERROR(VLOOKUP($B38,Trade17!$B$3:$O$9989,6,FALSE)),\"\",VLOOKUP($B38,Trade17!$B$3:$O$9989,6,FALSE))","v":""},"Michae",250,{"$f":"IF(ISNA(VLOOKUP($B38,Trade17!$A$3:$O$9989,5,FALSE)),0,VLOOKUP($B38,Trade17!$A$3:$O$9989,5,FALSE))+IF(ISNA(VLOOKUP($B38,Trade17!$B$3:$O$9989,4,FALSE)),0,VLOOKUP($B38,Trade17!$B$3:$O$9989,4,FALSE))","v":1}]
[0,250201702,"Martin",2017,"02e",{"$f":"SUMPRODUCT((Draft17!$I$3:$I$14=$C39)*(Draft17!$K$1:$V$1=$E39)*(Draft17!$K$3:$V$14))","v":15},"Martin",{"$f":"IF(ISERROR(VLOOKUP($B39,Trade17!$A$3:$O$9989,12,FALSE)),\"\",VLOOKUP($B39,Trade17!$A$3:$O$9989,12,FALSE))","v":""},{"$f":"IF(ISERROR(VLOOKUP($B39,Trade17!$B$3:$O$9989,6,FALSE)),\"\",VLOOKUP($B39,Trade17!$B$3:$O$9989,6,FALSE))","v":""},"",250,{"$f":"IF(ISNA(VLOOKUP($B39,Trade17!$A$3:$O$9989,5,FALSE)),0,VLOOKUP($B39,Trade17!$A$3:$O$9989,5,FALSE))+IF(ISNA(VLOOKUP($B39,Trade17!$B$3:$O$9989,4,FALSE)),0,VLOOKUP($B39,Trade17!$B$3:$O$9989,4,FALSE))","v":0}]
[0,250201703,"Martin",2017,"03e",{"$f":"SUMPRODUCT((Draft17!$I$3:$I$14=$C40)*(Draft17!$K$1:$V$1=$E40)*(Draft17!$K$3:$V$14))","v":27},"Martin",{"$f":"IF(ISERROR(VLOOKUP($B40,Trade17!$A$3:$O$9989,12,FALSE)),\"\",VLOOKUP($B40,Trade17!$A$3:$O$9989,12,FALSE))","v":""},{"$f":"IF(ISERROR(VLOOKUP($B40,Trade17!$B$3:$O$9989,6,FALSE)),\"\",VLOOKUP($B40,Trade17!$B$3:$O$9989,6,FALSE))","v":""},"",250,{"$f":"IF(ISNA(VLOOKUP($B40,Trade17!$A$3:$O$9989,5,FALSE)),0,VLOOKUP($B40,Trade17!$A$3:$O$9989,5,FALSE))+IF(ISNA(VLOOKUP($B40,Trade17!$B$3:$O$9989,4,FALSE)),0,VLOOKUP($B40,Trade17!$B$3:$O$9989,4,FALSE))","v":0}]
[0,250201704,"Martin",2017,"04e",{"$f":"SUMPRODUCT((Draft17!$I$3:$I$14=$C41)*(Draft17!$K$1:$V$1=$E41)*(Draft17!$K$3:$V$14))","v":39},"Martin",{"$f":"IF(ISERROR(VLOOKUP($B41,Trade17!$A$3:$O$9989,12,FALSE)),\"\",VLOOKUP($B41,Trade17!$A$3:$O$9989,12,FALSE))","v":""},{"$f":"IF(ISERROR(VLOOKUP($B41,Trade17!$B$3:$O$9989,6,FALSE)),\"\",VLOOKUP($B41,Trade17!$B$3:$O$9989,6,FALSE))","v":""},"",250,{"$f":"IF(ISNA(VLOOKUP($B41,Trade17!$A$3:$O$9989,5,FALSE)),0,VLOOKUP($B41,Trade17!$A$3:$O$9989,5,FALSE))+IF(ISNA(VLOOKUP($B41,Trade17!$B$3:$O$9989,4,FALSE)),0,VLOOKUP($B41,Trade17!$B$3:$O$9989,4,FALSE))","v":0}]
[0,250201705,"Martin",2017,"05e",{"$f":"SUMPRODUCT((Draft17!$I$3:$I$14=$C42)*(Draft17!$K$1:$V$1=$E42)*(Draft17!$K$3:$V$14))","v":51},"Martin",{"$f":"IF(ISERROR(VLOOKUP($B42,Trade17!$A$3:$O$9989,12,FALSE)),\"\",VLOOKUP($B42,Trade17!$A$3:$O$9989,12,FALSE))","v":""},{"$f":"IF(ISERROR(VLOOKUP($B42,Trade17!$B$3:$O$9989,6,FALSE)),\"\",VLOOKUP($B42,Trade17!$B$3:$O$9989,6,FALSE))","v":""},"",250,{"$f":"IF(ISNA(VLOOKUP($B42,Trade17!$A$3:$O$9989,5,FALSE)),0,VLOOKUP($B42,Trade17!$A$3:$O$9989,5,FALSE))+IF(ISNA(VLOOKUP($B42,Trade17!$B$3:$O$9989,4,FALSE)),0,VLOOKUP($B42,Trade17!$B$3:$O$9989,4,FALSE))","v":0}]
[0,250201706,"Martin",2017,"06e",{"$f":"SUMPRODUCT((Draft17!$I$3:$I$14=$C43)*(Draft17!$K$1:$V$1=$E43)*(Draft17!$K$3:$V$14))","v":63},"Martin",{"$f":"IF(ISERROR(VLOOKUP($B43,Trade17!$A$3:$O$9989,12,FALSE)),\"\",VLOOKUP($B43,Trade17!$A$3:$O$9989,12,FALSE))","v":""},{"$f":"IF(ISERROR(VLOOKUP($B43,Trade17!$B$3:$O$9989,6,FALSE)),\"\",VLOOKUP($B43,Trade17!$B$3:$O$9989,6,FALSE))","v":""},"",250,{"$f":"IF(ISNA(VLOOKUP($B43,Trade17!$A$3:$O$9989,5,FALSE)),0,VLOOKUP($B43,Trade17!$A$3:$O$9989,5,FALSE))+IF(ISNA(VLOOKUP($B43,Trade17!$B$3:$O$9989,4,FALSE)),0,VLOOKUP($B43,Trade17!$B$3:$O$9989,4,FALSE))","v":0}]
[0,250201707,"Martin",2017,"07e",{"$f":"SUMPRODUCT((Draft17!$I$3:$I$14=$C44)*(Draft17!$K$1:$V$1=$E44)*(Draft17!$K$3:$V$14))","v":75},"Martin",{"$f":"IF(ISERROR(VLOOKUP($B44,Trade17!$A$3:$O$9989,12,FALSE)),\"\",VLOOKUP($B44,Trade17!$A$3:$O$9989,12,FALSE))","v":""},{"$f":"IF(ISERROR(VLOOKUP($B44,Trade17!$B$3:$O$9989,6,FALSE)),\"\",VLOOKUP($B44,Trade17!$B$3:$O$9989,6,FALSE))","v":""},"",250,{"$f":"IF(ISNA(VLOOKUP($B44,Trade17!$A$3:$O$9989,5,FALSE)),0,VLOOKUP($B44,Trade17!$A$3:$O$9989,5,FALSE))+IF(ISNA(VLOOKUP($B44,Trade17!$B$3:$O$9989,4,FALSE)),0,VLOOKUP($B44,Trade17!$B$3:$O$9989,4,FALSE))","v":0}]
[0,250201708,"Martin",2017,"08e",{"$f":"SUMPRODUCT((Draft17!$I$3:$I$14=$C45)*(Draft17!$K$1:$V$1=$E45)*(Draft17!$K$3:$V$14))","v":87},"Martin",{"$f":"IF(ISERROR(VLOOKUP($B45,Trade17!$A$3:$O$9989,12,FALSE)),\"\",VLOOKUP($B45,Trade17!$A$3:$O$9989,12,FALSE))","v":""},{"$f":"IF(ISERROR(VLOOKUP($B45,Trade17!$B$3:$O$9989,6,FALSE)),\"\",VLOOKUP($B45,Trade17!$B$3:$O$9989,6,FALSE))","v":""},"",250,{"$f":"IF(ISNA(VLOOKUP($B45,Trade17!$A$3:$O$9989,5,FALSE)),0,VLOOKUP($B45,Trade17!$A$3:$O$9989,5,FALSE))+IF(ISNA(VLOOKUP($B45,Trade17!$B$3:$O$9989,4,FALSE)),0,VLOOKUP($B45,Trade17!$B$3:$O$9989,4,FALSE))","v":0}]
[0,250201709,"Martin",2017,"09e",{"$f":"SUMPRODUCT((Draft17!$I$3:$I$14=$C46)*(Draft17!$K$1:$V$1=$E46)*(Draft17!$K$3:$V$14))","v":99},"Martin",{"$f":"IF(ISERROR(VLOOKUP($B46,Trade17!$A$3:$O$9989,12,FALSE)),\"\",VLOOKUP($B46,Trade17!$A$3:$O$9989,12,FALSE))","v":""},{"$f":"IF(ISERROR(VLOOKUP($B46,Trade17!$B$3:$O$9989,6,FALSE)),\"\",VLOOKUP($B46,Trade17!$B$3:$O$9989,6,FALSE))","v":""},"",250,{"$f":"IF(ISNA(VLOOKUP($B46,Trade17!$A$3:$O$9989,5,FALSE)),0,VLOOKUP($B46,Trade17!$A$3:$O$9989,5,FALSE))+IF(ISNA(VLOOKUP($B46,Trade17!$B$3:$O$9989,4,FALSE)),0,VLOOKUP($B46,Trade17!$B$3:$O$9989,4,FALSE))","v":0}]
[0,250201710,"Martin",2017,"10e",{"$f":"SUMPRODUCT((Draft17!$I$3:$I$14=$C47)*(Draft17!$K$1:$V$1=$E47)*(Draft17!$K$3:$V$14))","v":111},"Martin",{"$f":"IF(ISERROR(VLOOKUP($B47,Trade17!$A$3:$O$9989,12,FALSE)),\"\",VLOOKUP($B47,Trade17!$A$3:$O$9989,12,FALSE))","v":""},{"$f":"IF(ISERROR(VLOOKUP($B47,Trade17!$B$3:$O$9989,6,FALSE)),\"\",VLOOKUP($B47,Trade17!$B$3:$O$9989,6,FALSE))","v":""},"",250,{"$f":"IF(ISNA(VLOOKUP($B47,Trade17!$A$3:$O$9989,5,FALSE)),0,VLOOKUP($B47,Trade17!$A$3:$O$9989,5,FALSE))+IF(ISNA(VLOOKUP($B47,Trade17!$B$3:$O$9989,4,FALSE)),0,VLOOKUP($B47,Trade17!$B$3:$O$9989,4,FALSE))","v":0}]
[0,250201711,"Martin",2017,"11e",{"$f":"SUMPRODUCT((Draft17!$I$3:$I$14=$C48)*(Draft17!$K$1:$V$1=$E48)*(Draft17!$K$3:$V$14))","v":123},"Martin",{"$f":"IF(ISERROR(VLOOKUP($B48,Trade17!$A$3:$O$9989,12,FALSE)),\"\",VLOOKUP($B48,Trade17!$A$3:$O$9989,12,FALSE))","v":""},{"$f":"IF(ISERROR(VLOOKUP($B48,Trade17!$B$3:$O$9989,6,FALSE)),\"\",VLOOKUP($B48,Trade17!$B$3:$O$9989,6,FALSE))","v":""},"",250,{"$f":"IF(ISNA(VLOOKUP($B48,Trade17!$A$3:$O$9989,5,FALSE)),0,VLOOKUP($B48,Trade17!$A$3:$O$9989,5,FALSE))+IF(ISNA(VLOOKUP($B48,Trade17!$B$3:$O$9989,4,FALSE)),0,VLOOKUP($B48,Trade17!$B$3:$O$9989,4,FALSE))","v":0}]
[0,250201712,"Martin",2017,"12e",{"$f":"SUMPRODUCT((Draft17!$I$3:$I$14=$C49)*(Draft17!$K$1:$V$1=$E49)*(Draft17!$K$3:$V$14))","v":135},"Martin",{"$f":"IF(ISERROR(VLOOKUP($B49,Trade17!$A$3:$O$9989,12,FALSE)),\"\",VLOOKUP($B49,Trade17!$A$3:$O$9989,12,FALSE))","v":""},{"$f":"IF(ISERROR(VLOOKUP($B49,Trade17!$B$3:$O$9989,6,FALSE)),\"\",VLOOKUP($B49,Trade17!$B$3:$O$9989,6,FALSE))","v":""},"",250,{"$f":"IF(ISNA(VLOOKUP($B49,Trade17!$A$3:$O$9989,5,FALSE)),0,VLOOKUP($B49,Trade17!$A$3:$O$9989,5,FALSE))+IF(ISNA(VLOOKUP($B49,Trade17!$B$3:$O$9989,4,FALSE)),0,VLOOKUP($B49,Trade17!$B$3:$O$9989,4,FALSE))","v":0}]
[0,300201701,"JoelCa",2017,"01e",{"$f":"SUMPRODUCT((Draft17!$I$3:$I$14=$C50)*(Draft17!$K$1:$V$1=$E50)*(Draft17!$K$3:$V$14))","v":4},"JoelCa",{"$f":"IF(ISERROR(VLOOKUP($B50,Trade17!$A$3:$O$9989,12,FALSE)),\"\",VLOOKUP($B50,Trade17!$A$3:$O$9989,12,FALSE))","v":""},{"$f":"IF(ISERROR(VLOOKUP($B50,Trade17!$B$3:$O$9989,6,FALSE)),\"\",VLOOKUP($B50,Trade17!$B$3:$O$9989,6,FALSE))","v":""},"",300,{"$f":"IF(ISNA(VLOOKUP($B50,Trade17!$A$3:$O$9989,5,FALSE)),0,VLOOKUP($B50,Trade17!$A$3:$O$9989,5,FALSE))+IF(ISNA(VLOOKUP($B50,Trade17!$B$3:$O$9989,4,FALSE)),0,VLOOKUP($B50,Trade17!$B$3:$O$9989,4,FALSE))","v":0}]
[0,300201702,"JoelCa",2017,"02e",{"$f":"SUMPRODUCT((Draft17!$I$3:$I$14=$C51)*(Draft17!$K$1:$V$1=$E51)*(Draft17!$K$3:$V$14))","v":16},"JoelCa",{"$f":"IF(ISERROR(VLOOKUP($B51,Trade17!$A$3:$O$9989,12,FALSE)),\"\",VLOOKUP($B51,Trade17!$A$3:$O$9989,12,FALSE))","v":""},{"$f":"IF(ISERROR(VLOOKUP($B51,Trade17!$B$3:$O$9989,6,FALSE)),\"\",VLOOKUP($B51,Trade17!$B$3:$O$9989,6,FALSE))","v":""},"",300,{"$f":"IF(ISNA(VLOOKUP($B51,Trade17!$A$3:$O$9989,5,FALSE)),0,VLOOKUP($B51,Trade17!$A$3:$O$9989,5,FALSE))+IF(ISNA(VLOOKUP($B51,Trade17!$B$3:$O$9989,4,FALSE)),0,VLOOKUP($B51,Trade17!$B$3:$O$9989,4,FALSE))","v":0}]
[0,300201703,"JoelCa",2017,"03e",{"$f":"SUMPRODUCT((Draft17!$I$3:$I$14=$C52)*(Draft17!$K$1:$V$1=$E52)*(Draft17!$K$3:$V$14))","v":28},"JoelCa",{"$f":"IF(ISERROR(VLOOKUP($B52,Trade17!$A$3:$O$9989,12,FALSE)),\"\",VLOOKUP($B52,Trade17!$A$3:$O$9989,12,FALSE))","v":""},{"$f":"IF(ISERROR(VLOOKUP($B52,Trade17!$B$3:$O$9989,6,FALSE)),\"\",VLOOKUP($B52,Trade17!$B$3:$O$9989,6,FALSE))","v":""},"",300,{"$f":"IF(ISNA(VLOOKUP($B52,Trade17!$A$3:$O$9989,5,FALSE)),0,VLOOKUP($B52,Trade17!$A$3:$O$9989,5,FALSE))+IF(ISNA(VLOOKUP($B52,Trade17!$B$3:$O$9989,4,FALSE)),0,VLOOKUP($B52,Trade17!$B$3:$O$9989,4,FALSE))","v":0}]
[0,300201704,"JoelCa",2017,"04e",{"$f":"SUMPRODUCT((Draft17!$I$3:$I$14=$C53)*(Draft17!$K$1:$V$1=$E53)*(Draft17!$K$3:$V$14))","v":40},"JoelCa",{"$f":"IF(ISERROR(VLOOKUP($B53,Trade17!$A$3:$O$9989,12,FALSE)),\"\",VLOOKUP($B53,Trade17!$A$3:$O$9989,12,FALSE))","v":""},{"$f":"IF(ISERROR(VLOOKUP($B53,Trade17!$B$3:$O$9989,6,FALSE)),\"\",VLOOKUP($B53,Trade17!$B$3:$O$9989,6,FALSE))","v":""},"",300,{"$f":"IF(ISNA(VLOOKUP($B53,Trade17!$A$3:$O$9989,5,FALSE)),0,VLOOKUP($B53,Trade17!$A$3:$O$9989,5,FALSE))+IF(ISNA(VLOOKUP($B53,Trade17!$B$3:$O$9989,4,FALSE)),0,VLOOKUP($B53,Trade17!$B$3:$O$9989,4,FALSE))","v":0}]
[0,300201705,"JoelCa",2017,"05e",{"$f":"SUMPRODUCT((Draft17!$I$3:$I$14=$C54)*(Draft17!$K$1:$V$1=$E54)*(Draft17!$K$3:$V$14))","v":52},"JoelCa",{"$f":"IF(ISERROR(VLOOKUP($B54,Trade17!$A$3:$O$9989,12,FALSE)),\"\",VLOOKUP($B54,Trade17!$A$3:$O$9989,12,FALSE))","v":""},{"$f":"IF(ISERROR(VLOOKUP($B54,Trade17!$B$3:$O$9989,6,FALSE)),\"\",VLOOKUP($B54,Trade17!$B$3:$O$9989,6,FALSE))","v":""},"",300,{"$f":"IF(ISNA(VLOOKUP($B54,Trade17!$A$3:$O$9989,5,FALSE)),0,VLOOKUP($B54,Trade17!$A$3:$O$9989,5,FALSE))+IF(ISNA(VLOOKUP($B54,Trade17!$B$3:$O$9989,4,FALSE)),0,VLOOKUP($B54,Trade17!$B$3:$O$9989,4,FALSE))","v":0}]
[0,300201706,"JoelCa",2017,"06e",{"$f":"SUMPRODUCT((Draft17!$I$3:$I$14=$C55)*(Draft17!$K$1:$V$1=$E55)*(Draft17!$K$3:$V$14))","v":64},"JoelCa",{"$f":"IF(ISERROR(VLOOKUP($B55,Trade17!$A$3:$O$9989,12,FALSE)),\"\",VLOOKUP($B55,Trade17!$A$3:$O$9989,12,FALSE))","v":""},{"$f":"IF(ISERROR(VLOOKUP($B55,Trade17!$B$3:$O$9989,6,FALSE)),\"\",VLOOKUP($B55,Trade17!$B$3:$O$9989,6,FALSE))","v":""},"",300,{"$f":"IF(ISNA(VLOOKUP($B55,Trade17!$A$3:$O$9989,5,FALSE)),0,VLOOKUP($B55,Trade17!$A$3:$O$9989,5,FALSE))+IF(ISNA(VLOOKUP($B55,Trade17!$B$3:$O$9989,4,FALSE)),0,VLOOKUP($B55,Trade17!$B$3:$O$9989,4,FALSE))","v":0}]
[0,300201707,"JoelCa",2017,"07e",{"$f":"SUMPRODUCT((Draft17!$I$3:$I$14=$C56)*(Draft17!$K$1:$V$1=$E56)*(Draft17!$K$3:$V$14))","v":76},"JoelCa",{"$f":"IF(ISERROR(VLOOKUP($B56,Trade17!$A$3:$O$9989,12,FALSE)),\"\",VLOOKUP($B56,Trade17!$A$3:$O$9989,12,FALSE))","v":""},{"$f":"IF(ISERROR(VLOOKUP($B56,Trade17!$B$3:$O$9989,6,FALSE)),\"\",VLOOKUP($B56,Trade17!$B$3:$O$9989,6,FALSE))","v":""},"",300,{"$f":"IF(ISNA(VLOOKUP($B56,Trade17!$A$3:$O$9989,5,FALSE)),0,VLOOKUP($B56,Trade17!$A$3:$O$9989,5,FALSE))+IF(ISNA(VLOOKUP($B56,Trade17!$B$3:$O$9989,4,FALSE)),0,VLOOKUP($B56,Trade17!$B$3:$O$9989,4,FALSE))","v":0}]
[0,300201708,"JoelCa",2017,"08e",{"$f":"SUMPRODUCT((Draft17!$I$3:$I$14=$C57)*(Draft17!$K$1:$V$1=$E57)*(Draft17!$K$3:$V$14))","v":88},"JoelCa",{"$f":"IF(ISERROR(VLOOKUP($B57,Trade17!$A$3:$O$9989,12,FALSE)),\"\",VLOOKUP($B57,Trade17!$A$3:$O$9989,12,FALSE))","v":""},{"$f":"IF(ISERROR(VLOOKUP($B57,Trade17!$B$3:$O$9989,6,FALSE)),\"\",VLOOKUP($B57,Trade17!$B$3:$O$9989,6,FALSE))","v":""},"",300,{"$f":"IF(ISNA(VLOOKUP($B57,Trade17!$A$3:$O$9989,5,FALSE)),0,VLOOKUP($B57,Trade17!$A$3:$O$9989,5,FALSE))+IF(ISNA(VLOOKUP($B57,Trade17!$B$3:$O$9989,4,FALSE)),0,VLOOKUP($B57,Trade17!$B$3:$O$9989,4,FALSE))","v":0}]
[0,300201709,"JoelCa",2017,"09e",{"$f":"SUMPRODUCT((Draft17!$I$3:$I$14=$C58)*(Draft17!$K$1:$V$1=$E58)*(Draft17!$K$3:$V$14))","v":100},"JoelCa",{"$f":"IF(ISERROR(VLOOKUP($B58,Trade17!$A$3:$O$9989,12,FALSE)),\"\",VLOOKUP($B58,Trade17!$A$3:$O$9989,12,FALSE))","v":""},{"$f":"IF(ISERROR(VLOOKUP($B58,Trade17!$B$3:$O$9989,6,FALSE)),\"\",VLOOKUP($B58,Trade17!$B$3:$O$9989,6,FALSE))","v":""},"",300,{"$f":"IF(ISNA(VLOOKUP($B58,Trade17!$A$3:$O$9989,5,FALSE)),0,VLOOKUP($B58,Trade17!$A$3:$O$9989,5,FALSE))+IF(ISNA(VLOOKUP($B58,Trade17!$B$3:$O$9989,4,FALSE)),0,VLOOKUP($B58,Trade17!$B$3:$O$9989,4,FALSE))","v":0}]
[0,300201710,"JoelCa",2017,"10e",{"$f":"SUMPRODUCT((Draft17!$I$3:$I$14=$C59)*(Draft17!$K$1:$V$1=$E59)*(Draft17!$K$3:$V$14))","v":112},"JoelCa",{"$f":"IF(ISERROR(VLOOKUP($B59,Trade17!$A$3:$O$9989,12,FALSE)),\"\",VLOOKUP($B59,Trade17!$A$3:$O$9989,12,FALSE))","v":""},{"$f":"IF(ISERROR(VLOOKUP($B59,Trade17!$B$3:$O$9989,6,FALSE)),\"\",VLOOKUP($B59,Trade17!$B$3:$O$9989,6,FALSE))","v":""},"",300,{"$f":"IF(ISNA(VLOOKUP($B59,Trade17!$A$3:$O$9989,5,FALSE)),0,VLOOKUP($B59,Trade17!$A$3:$O$9989,5,FALSE))+IF(ISNA(VLOOKUP($B59,Trade17!$B$3:$O$9989,4,FALSE)),0,VLOOKUP($B59,Trade17!$B$3:$O$9989,4,FALSE))","v":0}]
[0,300201711,"JoelCa",2017,"11e",{"$f":"SUMPRODUCT((Draft17!$I$3:$I$14=$C60)*(Draft17!$K$1:$V$1=$E60)*(Draft17!$K$3:$V$14))","v":124},"JoelCa",{"$f":"IF(ISERROR(VLOOKUP($B60,Trade17!$A$3:$O$9989,12,FALSE)),\"\",VLOOKUP($B60,Trade17!$A$3:$O$9989,12,FALSE))","v":""},{"$f":"IF(ISERROR(VLOOKUP($B60,Trade17!$B$3:$O$9989,6,FALSE)),\"\",VLOOKUP($B60,Trade17!$B$3:$O$9989,6,FALSE))","v":""},"",300,{"$f":"IF(ISNA(VLOOKUP($B60,Trade17!$A$3:$O$9989,5,FALSE)),0,VLOOKUP($B60,Trade17!$A$3:$O$9989,5,FALSE))+IF(ISNA(VLOOKUP($B60,Trade17!$B$3:$O$9989,4,FALSE)),0,VLOOKUP($B60,Trade17!$B$3:$O$9989,4,FALSE))","v":0}]
[0,300201712,"JoelCa",2017,"12e",{"$f":"SUMPRODUCT((Draft17!$I$3:$I$14=$C61)*(Draft17!$K$1:$V$1=$E61)*(Draft17!$K$3:$V$14))","v":136},"JoelCa",{"$f":"IF(ISERROR(VLOOKUP($B61,Trade17!$A$3:$O$9989,12,FALSE)),\"\",VLOOKUP($B61,Trade17!$A$3:$O$9989,12,FALSE))","v":""},{"$f":"IF(ISERROR(VLOOKUP($B61,Trade17!$B$3:$O$9989,6,FALSE)),\"\",VLOOKUP($B61,Trade17!$B$3:$O$9989,6,FALSE))","v":""},"",300,{"$f":"IF(ISNA(VLOOKUP($B61,Trade17!$A$3:$O$9989,5,FALSE)),0,VLOOKUP($B61,Trade17!$A$3:$O$9989,5,FALSE))+IF(ISNA(VLOOKUP($B61,Trade17!$B$3:$O$9989,4,FALSE)),0,VLOOKUP($B61,Trade17!$B$3:$O$9989,4,FALSE))","v":0}]
[0,350201701,"Bastie",2017,"01e",{"$f":"SUMPRODUCT((Draft17!$I$3:$I$14=$C62)*(Draft17!$K$1:$V$1=$E62)*(Draft17!$K$3:$V$14))","v":2},"Bastie",{"$f":"IF(ISERROR(VLOOKUP($B62,Trade17!$A$3:$O$9989,12,FALSE)),\"\",VLOOKUP($B62,Trade17!$A$3:$O$9989,12,FALSE))","v":""},{"$f":"IF(ISERROR(VLOOKUP($B62,Trade17!$B$3:$O$9989,6,FALSE)),\"\",VLOOKUP($B62,Trade17!$B$3:$O$9989,6,FALSE))","v":""},"",350,{"$f":"IF(ISNA(VLOOKUP($B62,Trade17!$A$3:$O$9989,5,FALSE)),0,VLOOKUP($B62,Trade17!$A$3:$O$9989,5,FALSE))+IF(ISNA(VLOOKUP($B62,Trade17!$B$3:$O$9989,4,FALSE)),0,VLOOKUP($B62,Trade17!$B$3:$O$9989,4,FALSE))","v":0}]
[0,350201702,"Bastie",2017,"02e",{"$f":"SUMPRODUCT((Draft17!$I$3:$I$14=$C63)*(Draft17!$K$1:$V$1=$E63)*(Draft17!$K$3:$V$14))","v":14},"Bastie",{"$f":"IF(ISERROR(VLOOKUP($B63,Trade17!$A$3:$O$9989,12,FALSE)),\"\",VLOOKUP($B63,Trade17!$A$3:$O$9989,12,FALSE))","v":""},{"$f":"IF(ISERROR(VLOOKUP($B63,Trade17!$B$3:$O$9989,6,FALSE)),\"\",VLOOKUP($B63,Trade17!$B$3:$O$9989,6,FALSE))","v":""},"",350,{"$f":"IF(ISNA(VLOOKUP($B63,Trade17!$A$3:$O$9989,5,FALSE)),0,VLOOKUP($B63,Trade17!$A$3:$O$9989,5,FALSE))+IF(ISNA(VLOOKUP($B63,Trade17!$B$3:$O$9989,4,FALSE)),0,VLOOKUP($B63,Trade17!$B$3:$O$9989,4,FALSE))","v":0}]
[0,350201703,"Bastie",2017,"03e",{"$f":"SUMPRODUCT((Draft17!$I$3:$I$14=$C64)*(Draft17!$K$1:$V$1=$E64)*(Draft17!$K$3:$V$14))","v":26},"Bastie",{"$f":"IF(ISERROR(VLOOKUP($B64,Trade17!$A$3:$O$9989,12,FALSE)),\"\",VLOOKUP($B64,Trade17!$A$3:$O$9989,12,FALSE))","v":""},{"$f":"IF(ISERROR(VLOOKUP($B64,Trade17!$B$3:$O$9989,6,FALSE)),\"\",VLOOKUP($B64,Trade17!$B$3:$O$9989,6,FALSE))","v":""},"",350,{"$f":"IF(ISNA(VLOOKUP($B64,Trade17!$A$3:$O$9989,5,FALSE)),0,VLOOKUP($B64,Trade17!$A$3:$O$9989,5,FALSE))+IF(ISNA(VLOOKUP($B64,Trade17!$B$3:$O$9989,4,FALSE)),0,VLOOKUP($B64,Trade17!$B$3:$O$9989,4,FALSE))","v":0}]
[0,350201704,"Bastie",2017,"04e",{"$f":"SUMPRODUCT((Draft17!$I$3:$I$14=$C65)*(Draft17!$K$1:$V$1=$E65)*(Draft17!$K$3:$V$14))","v":38},"Bastie",{"$f":"IF(ISERROR(VLOOKUP($B65,Trade17!$A$3:$O$9989,12,FALSE)),\"\",VLOOKUP($B65,Trade17!$A$3:$O$9989,12,FALSE))","v":""},{"$f":"IF(ISERROR(VLOOKUP($B65,Trade17!$B$3:$O$9989,6,FALSE)),\"\",VLOOKUP($B65,Trade17!$B$3:$O$9989,6,FALSE))","v":""},"",350,{"$f":"IF(ISNA(VLOOKUP($B65,Trade17!$A$3:$O$9989,5,FALSE)),0,VLOOKUP($B65,Trade17!$A$3:$O$9989,5,FALSE))+IF(ISNA(VLOOKUP($B65,Trade17!$B$3:$O$9989,4,FALSE)),0,VLOOKUP($B65,Trade17!$B$3:$O$9989,4,FALSE))","v":0}]
[{"$f":"IF(ISERROR((VLOOKUP(J66,$M$2:$N$14,2,FALSE)&$D66&LEFT($E66,LEN($E66)-1))*1),0,(VLOOKUP(J66,$M$2:$N$14,2,FALSE)&$D66&LEFT($E66,LEN($E66)-1))*1)","v":0},350201705,"Bastie",2017,"05e",{"$f":"SUMPRODUCT((Draft17!$I$3:$I$14=$C66)*(Draft17!$K$1:$V$1=$E66)*(Draft17!$K$3:$V$14))","v":50},{"$f":"IF(A66>0,J66&\" reçu de \"&C66,C66)","v":"Bastie"},{"$f":"IF(ISERROR(VLOOKUP($B66,Trade17!$A$3:$O$9989,12,FALSE)),\"\",VLOOKUP($B66,Trade17!$A$3:$O$9989,12,FALSE))","v":""},{"$f":"IF(ISERROR(VLOOKUP($B66,Trade17!$B$3:$O$9989,6,FALSE)),\"\",VLOOKUP($B66,Trade17!$B$3:$O$9989,6,FALSE))","v":""},{"$f":"H66&I66","v":""},{"$f":"VLOOKUP(C66,$M$2:$N$14,2,FALSE)","v":350},{"$f":"IF(ISNA(VLOOKUP($B66,Trade17!$A$3:$O$9989,5,FALSE)),0,VLOOKUP($B66,Trade17!$A$3:$O$9989,5,FALSE))+IF(ISNA(VLOOKUP($B66,Trade17!$B$3:$O$9989,4,FALSE)),0,VLOOKUP($B66,Trade17!$B$3:$O$9989,4,FALSE))","v":0}]
[0,350201706,"Bastie",2017,"06e",{"$f":"SUMPRODUCT((Draft17!$I$3:$I$14=$C67)*(Draft17!$K$1:$V$1=$E67)*(Draft17!$K$3:$V$14))","v":62},"Bastie",{"$f":"IF(ISERROR(VLOOKUP($B67,Trade17!$A$3:$O$9989,12,FALSE)),\"\",VLOOKUP($B67,Trade17!$A$3:$O$9989,12,FALSE))","v":""},{"$f":"IF(ISERROR(VLOOKUP($B67,Trade17!$B$3:$O$9989,6,FALSE)),\"\",VLOOKUP($B67,Trade17!$B$3:$O$9989,6,FALSE))","v":""},"",350,{"$f":"IF(ISNA(VLOOKUP($B67,Trade17!$A$3:$O$9989,5,FALSE)),0,VLOOKUP($B67,Trade17!$A$3:$O$9989,5,FALSE))+IF(ISNA(VLOOKUP($B67,Trade17!$B$3:$O$9989,4,FALSE)),0,VLOOKUP($B67,Trade17!$B$3:$O$9989,4,FALSE))","v":0}]
[0,350201707,"Bastie",2017,"07e",{"$f":"SUMPRODUCT((Draft17!$I$3:$I$14=$C68)*(Draft17!$K$1:$V$1=$E68)*(Draft17!$K$3:$V$14))","v":74},"Bastie",{"$f":"IF(ISERROR(VLOOKUP($B68,Trade17!$A$3:$O$9989,12,FALSE)),\"\",VLOOKUP($B68,Trade17!$A$3:$O$9989,12,FALSE))","v":""},{"$f":"IF(ISERROR(VLOOKUP($B68,Trade17!$B$3:$O$9989,6,FALSE)),\"\",VLOOKUP($B68,Trade17!$B$3:$O$9989,6,FALSE))","v":""},"",350,{"$f":"IF(ISNA(VLOOKUP($B68,Trade17!$A$3:$O$9989,5,FALSE)),0,VLOOKUP($B68,Trade17!$A$3:$O$9989,5,FALSE))+IF(ISNA(VLOOKUP($B68,Trade17!$B$3:$O$9989,4,FALSE)),0,VLOOKUP($B68,Trade17!$B$3:$O$9989,4,FALSE))","v":0}]
[0,350201708,"Bastie",2017,"08e",{"$f":"SUMPRODUCT((Draft17!$I$3:$I$14=$C69)*(Draft17!$K$1:$V$1=$E69)*(Draft17!$K$3:$V$14))","v":86},"Bastie",{"$f":"IF(ISERROR(VLOOKUP($B69,Trade17!$A$3:$O$9989,12,FALSE)),\"\",VLOOKUP($B69,Trade17!$A$3:$O$9989,12,FALSE))","v":""},{"$f":"IF(ISERROR(VLOOKUP($B69,Trade17!$B$3:$O$9989,6,FALSE)),\"\",VLOOKUP($B69,Trade17!$B$3:$O$9989,6,FALSE))","v":""},"",350,{"$f":"IF(ISNA(VLOOKUP($B69,Trade17!$A$3:$O$9989,5,FALSE)),0,VLOOKUP($B69,Trade17!$A$3:$O$9989,5,FALSE))+IF(ISNA(VLOOKUP($B69,Trade17!$B$3:$O$9989,4,FALSE)),0,VLOOKUP($B69,Trade17!$B$3:$O$9989,4,FALSE))","v":0}]
[0,350201709,"Bastie",2017,"09e",{"$f":"SUMPRODUCT((Draft17!$I$3:$I$14=$C70)*(Draft17!$K$1:$V$1=$E70)*(Draft17!$K$3:$V$14))","v":98},"Bastie",{"$f":"IF(ISERROR(VLOOKUP($B70,Trade17!$A$3:$O$9989,12,FALSE)),\"\",VLOOKUP($B70,Trade17!$A$3:$O$9989,12,FALSE))","v":""},{"$f":"IF(ISERROR(VLOOKUP($B70,Trade17!$B$3:$O$9989,6,FALSE)),\"\",VLOOKUP($B70,Trade17!$B$3:$O$9989,6,FALSE))","v":""},"",350,{"$f":"IF(ISNA(VLOOKUP($B70,Trade17!$A$3:$O$9989,5,FALSE)),0,VLOOKUP($B70,Trade17!$A$3:$O$9989,5,FALSE))+IF(ISNA(VLOOKUP($B70,Trade17!$B$3:$O$9989,4,FALSE)),0,VLOOKUP($B70,Trade17!$B$3:$O$9989,4,FALSE))","v":0}]
[0,350201710,"Bastie",2017,"10e",{"$f":"SUMPRODUCT((Draft17!$I$3:$I$14=$C71)*(Draft17!$K$1:$V$1=$E71)*(Draft17!$K$3:$V$14))","v":110},"Bastie",{"$f":"IF(ISERROR(VLOOKUP($B71,Trade17!$A$3:$O$9989,12,FALSE)),\"\",VLOOKUP($B71,Trade17!$A$3:$O$9989,12,FALSE))","v":""},{"$f":"IF(ISERROR(VLOOKUP($B71,Trade17!$B$3:$O$9989,6,FALSE)),\"\",VLOOKUP($B71,Trade17!$B$3:$O$9989,6,FALSE))","v":""},"",350,{"$f":"IF(ISNA(VLOOKUP($B71,Trade17!$A$3:$O$9989,5,FALSE)),0,VLOOKUP($B71,Trade17!$A$3:$O$9989,5,FALSE))+IF(ISNA(VLOOKUP($B71,Trade17!$B$3:$O$9989,4,FALSE)),0,VLOOKUP($B71,Trade17!$B$3:$O$9989,4,FALSE))","v":0}]
[0,350201711,"Bastie",2017,"11e",{"$f":"SUMPRODUCT((Draft17!$I$3:$I$14=$C72)*(Draft17!$K$1:$V$1=$E72)*(Draft17!$K$3:$V$14))","v":122},"Bastie",{"$f":"IF(ISERROR(VLOOKUP($B72,Trade17!$A$3:$O$9989,12,FALSE)),\"\",VLOOKUP($B72,Trade17!$A$3:$O$9989,12,FALSE))","v":""},{"$f":"IF(ISERROR(VLOOKUP($B72,Trade17!$B$3:$O$9989,6,FALSE)),\"\",VLOOKUP($B72,Trade17!$B$3:$O$9989,6,FALSE))","v":""},"",350,{"$f":"IF(ISNA(VLOOKUP($B72,Trade17!$A$3:$O$9989,5,FALSE)),0,VLOOKUP($B72,Trade17!$A$3:$O$9989,5,FALSE))+IF(ISNA(VLOOKUP($B72,Trade17!$B$3:$O$9989,4,FALSE)),0,VLOOKUP($B72,Trade17!$B$3:$O$9989,4,FALSE))","v":0}]
[0,350201712,"Bastie",2017,"12e",{"$f":"SUMPRODUCT((Draft17!$I$3:$I$14=$C73)*(Draft17!$K$1:$V$1=$E73)*(Draft17!$K$3:$V$14))","v":134},"Bastie",{"$f":"IF(ISERROR(VLOOKUP($B73,Trade17!$A$3:$O$9989,12,FALSE)),\"\",VLOOKUP($B73,Trade17!$A$3:$O$9989,12,FALSE))","v":""},{"$f":"IF(ISERROR(VLOOKUP($B73,Trade17!$B$3:$O$9989,6,FALSE)),\"\",VLOOKUP($B73,Trade17!$B$3:$O$9989,6,FALSE))","v":""},"",350,{"$f":"IF(ISNA(VLOOKUP($B73,Trade17!$A$3:$O$9989,5,FALSE)),0,VLOOKUP($B73,Trade17!$A$3:$O$9989,5,FALSE))+IF(ISNA(VLOOKUP($B73,Trade17!$B$3:$O$9989,4,FALSE)),0,VLOOKUP($B73,Trade17!$B$3:$O$9989,4,FALSE))","v":0}]
[0,400201701,"Nadeau",2017,"01e",{"$f":"SUMPRODUCT((Draft17!$I$3:$I$14=$C74)*(Draft17!$K$1:$V$1=$E74)*(Draft17!$K$3:$V$14))","v":6},"Nadeau",{"$f":"IF(ISERROR(VLOOKUP($B74,Trade17!$A$3:$O$9989,12,FALSE)),\"\",VLOOKUP($B74,Trade17!$A$3:$O$9989,12,FALSE))","v":""},{"$f":"IF(ISERROR(VLOOKUP($B74,Trade17!$B$3:$O$9989,6,FALSE)),\"\",VLOOKUP($B74,Trade17!$B$3:$O$9989,6,FALSE))","v":""},"",400,{"$f":"IF(ISNA(VLOOKUP($B74,Trade17!$A$3:$O$9989,5,FALSE)),0,VLOOKUP($B74,Trade17!$A$3:$O$9989,5,FALSE))+IF(ISNA(VLOOKUP($B74,Trade17!$B$3:$O$9989,4,FALSE)),0,VLOOKUP($B74,Trade17!$B$3:$O$9989,4,FALSE))","v":0}]
[0,{"$f":"(VLOOKUP(C75,$M$2:$N$14,2,FALSE)&D75&LEFT(E75,LEN(E75)-1))*1","v":400201702},"Nadeau",2017,"02e",{"$f":"SUMPRODUCT((Draft17!$I$3:$I$14=$C75)*(Draft17!$K$1:$V$1=$E75)*(Draft17!$K$3:$V$14))","v":18},"Nadeau",{"$f":"IF(ISERROR(VLOOKUP($B75,Trade17!$A$3:$O$9989,12,FALSE)),\"\",VLOOKUP($B75,Trade17!$A$3:$O$9989,12,FALSE))","v":""},{"$f":"IF(ISERROR(VLOOKUP($B75,Trade17!$B$3:$O$9989,6,FALSE)),\"\",VLOOKUP($B75,Trade17!$B$3:$O$9989,6,FALSE))","v":""},"",400,{"$f":"IF(ISNA(VLOOKUP($B75,Trade17!$A$3:$O$9989,5,FALSE)),0,VLOOKUP($B75,Trade17!$A$3:$O$9989,5,FALSE))+IF(ISNA(VLOOKUP($B75,Trade17!$B$3:$O$9989,4,FALSE)),0,VLOOKUP($B75,Trade17!$B$3:$O$9989,4,FALSE))","v":0}]
[0,400201703,"Nadeau",2017,"03e",{"$f":"SUMPRODUCT((Draft17!$I$3:$I$14=$C76)*(Draft17!$K$1:$V$1=$E76)*(Draft17!$K$3:$V$14))","v":30},"Nadeau",{"$f":"IF(ISERROR(VLOOKUP($B76,Trade17!$A$3:$O$9989,12,FALSE)),\"\",VLOOKUP($B76,Trade17!$A$3:$O$9989,12,FALSE))","v":""},{"$f":"IF(ISERROR(VLOOKUP($B76,Trade17!$B$3:$O$9989,6,FALSE)),\"\",VLOOKUP($B76,Trade17!$B$3:$O$9989,6,FALSE))","v":""},"",400,{"$f":"IF(ISNA(VLOOKUP($B76,Trade17!$A$3:$O$9989,5,FALSE)),0,VLOOKUP($B76,Trade17!$A$3:$O$9989,5,FALSE))+IF(ISNA(VLOOKUP($B76,Trade17!$B$3:$O$9989,4,FALSE)),0,VLOOKUP($B76,Trade17!$B$3:$O$9989,4,FALSE))","v":0}]
[0,400201704,"Nadeau",2017,"04e",{"$f":"SUMPRODUCT((Draft17!$I$3:$I$14=$C77)*(Draft17!$K$1:$V$1=$E77)*(Draft17!$K$3:$V$14))","v":42},"Nadeau",{"$f":"IF(ISERROR(VLOOKUP($B77,Trade17!$A$3:$O$9989,12,FALSE)),\"\",VLOOKUP($B77,Trade17!$A$3:$O$9989,12,FALSE))","v":""},{"$f":"IF(ISERROR(VLOOKUP($B77,Trade17!$B$3:$O$9989,6,FALSE)),\"\",VLOOKUP($B77,Trade17!$B$3:$O$9989,6,FALSE))","v":""},"",400,{"$f":"IF(ISNA(VLOOKUP($B77,Trade17!$A$3:$O$9989,5,FALSE)),0,VLOOKUP($B77,Trade17!$A$3:$O$9989,5,FALSE))+IF(ISNA(VLOOKUP($B77,Trade17!$B$3:$O$9989,4,FALSE)),0,VLOOKUP($B77,Trade17!$B$3:$O$9989,4,FALSE))","v":0}]
[0,400201705,"Nadeau",2017,"05e",{"$f":"SUMPRODUCT((Draft17!$I$3:$I$14=$C78)*(Draft17!$K$1:$V$1=$E78)*(Draft17!$K$3:$V$14))","v":54},"Nadeau",{"$f":"IF(ISERROR(VLOOKUP($B78,Trade17!$A$3:$O$9989,12,FALSE)),\"\",VLOOKUP($B78,Trade17!$A$3:$O$9989,12,FALSE))","v":""},{"$f":"IF(ISERROR(VLOOKUP($B78,Trade17!$B$3:$O$9989,6,FALSE)),\"\",VLOOKUP($B78,Trade17!$B$3:$O$9989,6,FALSE))","v":""},"",400,{"$f":"IF(ISNA(VLOOKUP($B78,Trade17!$A$3:$O$9989,5,FALSE)),0,VLOOKUP($B78,Trade17!$A$3:$O$9989,5,FALSE))+IF(ISNA(VLOOKUP($B78,Trade17!$B$3:$O$9989,4,FALSE)),0,VLOOKUP($B78,Trade17!$B$3:$O$9989,4,FALSE))","v":0}]
[0,400201706,"Nadeau",2017,"06e",{"$f":"SUMPRODUCT((Draft17!$I$3:$I$14=$C79)*(Draft17!$K$1:$V$1=$E79)*(Draft17!$K$3:$V$14))","v":66},"Nadeau",{"$f":"IF(ISERROR(VLOOKUP($B79,Trade17!$A$3:$O$9989,12,FALSE)),\"\",VLOOKUP($B79,Trade17!$A$3:$O$9989,12,FALSE))","v":""},{"$f":"IF(ISERROR(VLOOKUP($B79,Trade17!$B$3:$O$9989,6,FALSE)),\"\",VLOOKUP($B79,Trade17!$B$3:$O$9989,6,FALSE))","v":""},"",400,{"$f":"IF(ISNA(VLOOKUP($B79,Trade17!$A$3:$O$9989,5,FALSE)),0,VLOOKUP($B79,Trade17!$A$3:$O$9989,5,FALSE))+IF(ISNA(VLOOKUP($B79,Trade17!$B$3:$O$9989,4,FALSE)),0,VLOOKUP($B79,Trade17!$B$3:$O$9989,4,FALSE))","v":0}]
[0,400201707,"Nadeau",2017,"07e",{"$f":"SUMPRODUCT((Draft17!$I$3:$I$14=$C80)*(Draft17!$K$1:$V$1=$E80)*(Draft17!$K$3:$V$14))","v":78},"Nadeau",{"$f":"IF(ISERROR(VLOOKUP($B80,Trade17!$A$3:$O$9989,12,FALSE)),\"\",VLOOKUP($B80,Trade17!$A$3:$O$9989,12,FALSE))","v":""},{"$f":"IF(ISERROR(VLOOKUP($B80,Trade17!$B$3:$O$9989,6,FALSE)),\"\",VLOOKUP($B80,Trade17!$B$3:$O$9989,6,FALSE))","v":""},"",400,{"$f":"IF(ISNA(VLOOKUP($B80,Trade17!$A$3:$O$9989,5,FALSE)),0,VLOOKUP($B80,Trade17!$A$3:$O$9989,5,FALSE))+IF(ISNA(VLOOKUP($B80,Trade17!$B$3:$O$9989,4,FALSE)),0,VLOOKUP($B80,Trade17!$B$3:$O$9989,4,FALSE))","v":0}]
[0,400201708,"Nadeau",2017,"08e",{"$f":"SUMPRODUCT((Draft17!$I$3:$I$14=$C81)*(Draft17!$K$1:$V$1=$E81)*(Draft17!$K$3:$V$14))","v":90},"Nadeau",{"$f":"IF(ISERROR(VLOOKUP($B81,Trade17!$A$3:$O$9989,12,FALSE)),\"\",VLOOKUP($B81,Trade17!$A$3:$O$9989,12,FALSE))","v":""},{"$f":"IF(ISERROR(VLOOKUP($B81,Trade17!$B$3:$O$9989,6,FALSE)),\"\",VLOOKUP($B81,Trade17!$B$3:$O$9989,6,FALSE))","v":""},"",400,{"$f":"IF(ISNA(VLOOKUP($B81,Trade17!$A$3:$O$9989,5,FALSE)),0,VLOOKUP($B81,Trade17!$A$3:$O$9989,5,FALSE))+IF(ISNA(VLOOKUP($B81,Trade17!$B$3:$O$9989,4,FALSE)),0,VLOOKUP($B81,Trade17!$B$3:$O$9989,4,FALSE))","v":0}]
[0,400201709,"Nadeau",2017,"09e",{"$f":"SUMPRODUCT((Draft17!$I$3:$I$14=$C82)*(Draft17!$K$1:$V$1=$E82)*(Draft17!$K$3:$V$14))","v":102},"Nadeau",{"$f":"IF(ISERROR(VLOOKUP($B82,Trade17!$A$3:$O$9989,12,FALSE)),\"\",VLOOKUP($B82,Trade17!$A$3:$O$9989,12,FALSE))","v":""},{"$f":"IF(ISERROR(VLOOKUP($B82,Trade17!$B$3:$O$9989,6,FALSE)),\"\",VLOOKUP($B82,Trade17!$B$3:$O$9989,6,FALSE))","v":""},"",400,{"$f":"IF(ISNA(VLOOKUP($B82,Trade17!$A$3:$O$9989,5,FALSE)),0,VLOOKUP($B82,Trade17!$A$3:$O$9989,5,FALSE))+IF(ISNA(VLOOKUP($B82,Trade17!$B$3:$O$9989,4,FALSE)),0,VLOOKUP($B82,Trade17!$B$3:$O$9989,4,FALSE))","v":0}]
[0,400201710,"Nadeau",2017,"10e",{"$f":"SUMPRODUCT((Draft17!$I$3:$I$14=$C83)*(Draft17!$K$1:$V$1=$E83)*(Draft17!$K$3:$V$14))","v":114},"Nadeau",{"$f":"IF(ISERROR(VLOOKUP($B83,Trade17!$A$3:$O$9989,12,FALSE)),\"\",VLOOKUP($B83,Trade17!$A$3:$O$9989,12,FALSE))","v":""},{"$f":"IF(ISERROR(VLOOKUP($B83,Trade17!$B$3:$O$9989,6,FALSE)),\"\",VLOOKUP($B83,Trade17!$B$3:$O$9989,6,FALSE))","v":""},"",400,{"$f":"IF(ISNA(VLOOKUP($B83,Trade17!$A$3:$O$9989,5,FALSE)),0,VLOOKUP($B83,Trade17!$A$3:$O$9989,5,FALSE))+IF(ISNA(VLOOKUP($B83,Trade17!$B$3:$O$9989,4,FALSE)),0,VLOOKUP($B83,Trade17!$B$3:$O$9989,4,FALSE))","v":0}]
[0,400201711,"Nadeau",2017,"11e",{"$f":"SUMPRODUCT((Draft17!$I$3:$I$14=$C84)*(Draft17!$K$1:$V$1=$E84)*(Draft17!$K$3:$V$14))","v":126},"Nadeau",{"$f":"IF(ISERROR(VLOOKUP($B84,Trade17!$A$3:$O$9989,12,FALSE)),\"\",VLOOKUP($B84,Trade17!$A$3:$O$9989,12,FALSE))","v":""},{"$f":"IF(ISERROR(VLOOKUP($B84,Trade17!$B$3:$O$9989,6,FALSE)),\"\",VLOOKUP($B84,Trade17!$B$3:$O$9989,6,FALSE))","v":""},"",400,{"$f":"IF(ISNA(VLOOKUP($B84,Trade17!$A$3:$O$9989,5,FALSE)),0,VLOOKUP($B84,Trade17!$A$3:$O$9989,5,FALSE))+IF(ISNA(VLOOKUP($B84,Trade17!$B$3:$O$9989,4,FALSE)),0,VLOOKUP($B84,Trade17!$B$3:$O$9989,4,FALSE))","v":0}]
[0,400201712,"Nadeau",2017,"12e",{"$f":"SUMPRODUCT((Draft17!$I$3:$I$14=$C85)*(Draft17!$K$1:$V$1=$E85)*(Draft17!$K$3:$V$14))","v":138},"Nadeau",{"$f":"IF(ISERROR(VLOOKUP($B85,Trade17!$A$3:$O$9989,12,FALSE)),\"\",VLOOKUP($B85,Trade17!$A$3:$O$9989,12,FALSE))","v":""},{"$f":"IF(ISERROR(VLOOKUP($B85,Trade17!$B$3:$O$9989,6,FALSE)),\"\",VLOOKUP($B85,Trade17!$B$3:$O$9989,6,FALSE))","v":""},"",400,{"$f":"IF(ISNA(VLOOKUP($B85,Trade17!$A$3:$O$9989,5,FALSE)),0,VLOOKUP($B85,Trade17!$A$3:$O$9989,5,FALSE))+IF(ISNA(VLOOKUP($B85,Trade17!$B$3:$O$9989,4,FALSE)),0,VLOOKUP($B85,Trade17!$B$3:$O$9989,4,FALSE))","v":0}]
[0,450201701,"Julien",2017,"01e",{"$f":"SUMPRODUCT((Draft17!$I$3:$I$14=$C86)*(Draft17!$K$1:$V$1=$E86)*(Draft17!$K$3:$V$14))","v":10},"Julien",{"$f":"IF(ISERROR(VLOOKUP($B86,Trade17!$A$3:$O$9989,12,FALSE)),\"\",VLOOKUP($B86,Trade17!$A$3:$O$9989,12,FALSE))","v":""},{"$f":"IF(ISERROR(VLOOKUP($B86,Trade17!$B$3:$O$9989,6,FALSE)),\"\",VLOOKUP($B86,Trade17!$B$3:$O$9989,6,FALSE))","v":""},"",450,{"$f":"IF(ISNA(VLOOKUP($B86,Trade17!$A$3:$O$9989,5,FALSE)),0,VLOOKUP($B86,Trade17!$A$3:$O$9989,5,FALSE))+IF(ISNA(VLOOKUP($B86,Trade17!$B$3:$O$9989,4,FALSE)),0,VLOOKUP($B86,Trade17!$B$3:$O$9989,4,FALSE))","v":0}]
[0,450201702,"Julien",2017,"02e",{"$f":"SUMPRODUCT((Draft17!$I$3:$I$14=$C87)*(Draft17!$K$1:$V$1=$E87)*(Draft17!$K$3:$V$14))","v":22},"Julien",{"$f":"IF(ISERROR(VLOOKUP($B87,Trade17!$A$3:$O$9989,12,FALSE)),\"\",VLOOKUP($B87,Trade17!$A$3:$O$9989,12,FALSE))","v":""},{"$f":"IF(ISERROR(VLOOKUP($B87,Trade17!$B$3:$O$9989,6,FALSE)),\"\",VLOOKUP($B87,Trade17!$B$3:$O$9989,6,FALSE))","v":""},"",450,{"$f":"IF(ISNA(VLOOKUP($B87,Trade17!$A$3:$O$9989,5,FALSE)),0,VLOOKUP($B87,Trade17!$A$3:$O$9989,5,FALSE))+IF(ISNA(VLOOKUP($B87,Trade17!$B$3:$O$9989,4,FALSE)),0,VLOOKUP($B87,Trade17!$B$3:$O$9989,4,FALSE))","v":0}]
[0,450201703,"Julien",2017,"03e",{"$f":"SUMPRODUCT((Draft17!$I$3:$I$14=$C88)*(Draft17!$K$1:$V$1=$E88)*(Draft17!$K$3:$V$14))","v":34},"Julien",{"$f":"IF(ISERROR(VLOOKUP($B88,Trade17!$A$3:$O$9989,12,FALSE)),\"\",VLOOKUP($B88,Trade17!$A$3:$O$9989,12,FALSE))","v":""},{"$f":"IF(ISERROR(VLOOKUP($B88,Trade17!$B$3:$O$9989,6,FALSE)),\"\",VLOOKUP($B88,Trade17!$B$3:$O$9989,6,FALSE))","v":""},"",450,{"$f":"IF(ISNA(VLOOKUP($B88,Trade17!$A$3:$O$9989,5,FALSE)),0,VLOOKUP($B88,Trade17!$A$3:$O$9989,5,FALSE))+IF(ISNA(VLOOKUP($B88,Trade17!$B$3:$O$9989,4,FALSE)),0,VLOOKUP($B88,Trade17!$B$3:$O$9989,4,FALSE))","v":0}]
[0,450201704,"Julien",2017,"04e",{"$f":"SUMPRODUCT((Draft17!$I$3:$I$14=$C89)*(Draft17!$K$1:$V$1=$E89)*(Draft17!$K$3:$V$14))","v":46},"Julien",{"$f":"IF(ISERROR(VLOOKUP($B89,Trade17!$A$3:$O$9989,12,FALSE)),\"\",VLOOKUP($B89,Trade17!$A$3:$O$9989,12,FALSE))","v":""},{"$f":"IF(ISERROR(VLOOKUP($B89,Trade17!$B$3:$O$9989,6,FALSE)),\"\",VLOOKUP($B89,Trade17!$B$3:$O$9989,6,FALSE))","v":""},"",450,{"$f":"IF(ISNA(VLOOKUP($B89,Trade17!$A$3:$O$9989,5,FALSE)),0,VLOOKUP($B89,Trade17!$A$3:$O$9989,5,FALSE))+IF(ISNA(VLOOKUP($B89,Trade17!$B$3:$O$9989,4,FALSE)),0,VLOOKUP($B89,Trade17!$B$3:$O$9989,4,FALSE))","v":0}]
[0,450201705,"Julien",2017,"05e",{"$f":"SUMPRODUCT((Draft17!$I$3:$I$14=$C90)*(Draft17!$K$1:$V$1=$E90)*(Draft17!$K$3:$V$14))","v":58},"Julien",{"$f":"IF(ISERROR(VLOOKUP($B90,Trade17!$A$3:$O$9989,12,FALSE)),\"\",VLOOKUP($B90,Trade17!$A$3:$O$9989,12,FALSE))","v":""},{"$f":"IF(ISERROR(VLOOKUP($B90,Trade17!$B$3:$O$9989,6,FALSE)),\"\",VLOOKUP($B90,Trade17!$B$3:$O$9989,6,FALSE))","v":""},"",450,{"$f":"IF(ISNA(VLOOKUP($B90,Trade17!$A$3:$O$9989,5,FALSE)),0,VLOOKUP($B90,Trade17!$A$3:$O$9989,5,FALSE))+IF(ISNA(VLOOKUP($B90,Trade17!$B$3:$O$9989,4,FALSE)),0,VLOOKUP($B90,Trade17!$B$3:$O$9989,4,FALSE))","v":0}]
[0,450201706,"Julien",2017,"06e",{"$f":"SUMPRODUCT((Draft17!$I$3:$I$14=$C91)*(Draft17!$K$1:$V$1=$E91)*(Draft17!$K$3:$V$14))","v":70},"Julien",{"$f":"IF(ISERROR(VLOOKUP($B91,Trade17!$A$3:$O$9989,12,FALSE)),\"\",VLOOKUP($B91,Trade17!$A$3:$O$9989,12,FALSE))","v":""},{"$f":"IF(ISERROR(VLOOKUP($B91,Trade17!$B$3:$O$9989,6,FALSE)),\"\",VLOOKUP($B91,Trade17!$B$3:$O$9989,6,FALSE))","v":""},"",450,{"$f":"IF(ISNA(VLOOKUP($B91,Trade17!$A$3:$O$9989,5,FALSE)),0,VLOOKUP($B91,Trade17!$A$3:$O$9989,5,FALSE))+IF(ISNA(VLOOKUP($B91,Trade17!$B$3:$O$9989,4,FALSE)),0,VLOOKUP($B91,Trade17!$B$3:$O$9989,4,FALSE))","v":0}]
[0,450201707,"Julien",2017,"07e",{"$f":"SUMPRODUCT((Draft17!$I$3:$I$14=$C92)*(Draft17!$K$1:$V$1=$E92)*(Draft17!$K$3:$V$14))","v":82},"Julien",{"$f":"IF(ISERROR(VLOOKUP($B92,Trade17!$A$3:$O$9989,12,FALSE)),\"\",VLOOKUP($B92,Trade17!$A$3:$O$9989,12,FALSE))","v":""},{"$f":"IF(ISERROR(VLOOKUP($B92,Trade17!$B$3:$O$9989,6,FALSE)),\"\",VLOOKUP($B92,Trade17!$B$3:$O$9989,6,FALSE))","v":""},"",450,{"$f":"IF(ISNA(VLOOKUP($B92,Trade17!$A$3:$O$9989,5,FALSE)),0,VLOOKUP($B92,Trade17!$A$3:$O$9989,5,FALSE))+IF(ISNA(VLOOKUP($B92,Trade17!$B$3:$O$9989,4,FALSE)),0,VLOOKUP($B92,Trade17!$B$3:$O$9989,4,FALSE))","v":0}]
[0,450201708,"Julien",2017,"08e",{"$f":"SUMPRODUCT((Draft17!$I$3:$I$14=$C93)*(Draft17!$K$1:$V$1=$E93)*(Draft17!$K$3:$V$14))","v":94},"Julien",{"$f":"IF(ISERROR(VLOOKUP($B93,Trade17!$A$3:$O$9989,12,FALSE)),\"\",VLOOKUP($B93,Trade17!$A$3:$O$9989,12,FALSE))","v":""},{"$f":"IF(ISERROR(VLOOKUP($B93,Trade17!$B$3:$O$9989,6,FALSE)),\"\",VLOOKUP($B93,Trade17!$B$3:$O$9989,6,FALSE))","v":""},"",450,{"$f":"IF(ISNA(VLOOKUP($B93,Trade17!$A$3:$O$9989,5,FALSE)),0,VLOOKUP($B93,Trade17!$A$3:$O$9989,5,FALSE))+IF(ISNA(VLOOKUP($B93,Trade17!$B$3:$O$9989,4,FALSE)),0,VLOOKUP($B93,Trade17!$B$3:$O$9989,4,FALSE))","v":0}]
[0,450201709,"Julien",2017,"09e",{"$f":"SUMPRODUCT((Draft17!$I$3:$I$14=$C94)*(Draft17!$K$1:$V$1=$E94)*(Draft17!$K$3:$V$14))","v":106},"Julien",{"$f":"IF(ISERROR(VLOOKUP($B94,Trade17!$A$3:$O$9989,12,FALSE)),\"\",VLOOKUP($B94,Trade17!$A$3:$O$9989,12,FALSE))","v":""},{"$f":"IF(ISERROR(VLOOKUP($B94,Trade17!$B$3:$O$9989,6,FALSE)),\"\",VLOOKUP($B94,Trade17!$B$3:$O$9989,6,FALSE))","v":""},"",450,{"$f":"IF(ISNA(VLOOKUP($B94,Trade17!$A$3:$O$9989,5,FALSE)),0,VLOOKUP($B94,Trade17!$A$3:$O$9989,5,FALSE))+IF(ISNA(VLOOKUP($B94,Trade17!$B$3:$O$9989,4,FALSE)),0,VLOOKUP($B94,Trade17!$B$3:$O$9989,4,FALSE))","v":0}]
[0,450201710,"Julien",2017,"10e",{"$f":"SUMPRODUCT((Draft17!$I$3:$I$14=$C95)*(Draft17!$K$1:$V$1=$E95)*(Draft17!$K$3:$V$14))","v":118},"Julien",{"$f":"IF(ISERROR(VLOOKUP($B95,Trade17!$A$3:$O$9989,12,FALSE)),\"\",VLOOKUP($B95,Trade17!$A$3:$O$9989,12,FALSE))","v":""},{"$f":"IF(ISERROR(VLOOKUP($B95,Trade17!$B$3:$O$9989,6,FALSE)),\"\",VLOOKUP($B95,Trade17!$B$3:$O$9989,6,FALSE))","v":""},"",450,{"$f":"IF(ISNA(VLOOKUP($B95,Trade17!$A$3:$O$9989,5,FALSE)),0,VLOOKUP($B95,Trade17!$A$3:$O$9989,5,FALSE))+IF(ISNA(VLOOKUP($B95,Trade17!$B$3:$O$9989,4,FALSE)),0,VLOOKUP($B95,Trade17!$B$3:$O$9989,4,FALSE))","v":0}]
[0,450201711,"Julien",2017,"11e",{"$f":"SUMPRODUCT((Draft17!$I$3:$I$14=$C96)*(Draft17!$K$1:$V$1=$E96)*(Draft17!$K$3:$V$14))","v":130},"Julien",{"$f":"IF(ISERROR(VLOOKUP($B96,Trade17!$A$3:$O$9989,12,FALSE)),\"\",VLOOKUP($B96,Trade17!$A$3:$O$9989,12,FALSE))","v":""},{"$f":"IF(ISERROR(VLOOKUP($B96,Trade17!$B$3:$O$9989,6,FALSE)),\"\",VLOOKUP($B96,Trade17!$B$3:$O$9989,6,FALSE))","v":""},"",450,{"$f":"IF(ISNA(VLOOKUP($B96,Trade17!$A$3:$O$9989,5,FALSE)),0,VLOOKUP($B96,Trade17!$A$3:$O$9989,5,FALSE))+IF(ISNA(VLOOKUP($B96,Trade17!$B$3:$O$9989,4,FALSE)),0,VLOOKUP($B96,Trade17!$B$3:$O$9989,4,FALSE))","v":0}]
[0,450201712,"Julien",2017,"12e",{"$f":"SUMPRODUCT((Draft17!$I$3:$I$14=$C97)*(Draft17!$K$1:$V$1=$E97)*(Draft17!$K$3:$V$14))","v":142},"Julien",{"$f":"IF(ISERROR(VLOOKUP($B97,Trade17!$A$3:$O$9989,12,FALSE)),\"\",VLOOKUP($B97,Trade17!$A$3:$O$9989,12,FALSE))","v":""},{"$f":"IF(ISERROR(VLOOKUP($B97,Trade17!$B$3:$O$9989,6,FALSE)),\"\",VLOOKUP($B97,Trade17!$B$3:$O$9989,6,FALSE))","v":""},"",450,{"$f":"IF(ISNA(VLOOKUP($B97,Trade17!$A$3:$O$9989,5,FALSE)),0,VLOOKUP($B97,Trade17!$A$3:$O$9989,5,FALSE))+IF(ISNA(VLOOKUP($B97,Trade17!$B$3:$O$9989,4,FALSE)),0,VLOOKUP($B97,Trade17!$B$3:$O$9989,4,FALSE))","v":0}]
[0,500201701,"FredLa",2017,"01e",{"$f":"SUMPRODUCT((Draft17!$I$3:$I$14=$C98)*(Draft17!$K$1:$V$1=$E98)*(Draft17!$K$3:$V$14))","v":11},"FredLa",{"$f":"IF(ISERROR(VLOOKUP($B98,Trade17!$A$3:$O$9989,12,FALSE)),\"\",VLOOKUP($B98,Trade17!$A$3:$O$9989,12,FALSE))","v":""},{"$f":"IF(ISERROR(VLOOKUP($B98,Trade17!$B$3:$O$9989,6,FALSE)),\"\",VLOOKUP($B98,Trade17!$B$3:$O$9989,6,FALSE))","v":""},"",500,{"$f":"IF(ISNA(VLOOKUP($B98,Trade17!$A$3:$O$9989,5,FALSE)),0,VLOOKUP($B98,Trade17!$A$3:$O$9989,5,FALSE))+IF(ISNA(VLOOKUP($B98,Trade17!$B$3:$O$9989,4,FALSE)),0,VLOOKUP($B98,Trade17!$B$3:$O$9989,4,FALSE))","v":0}]
[0,500201702,"FredLa",2017,"02e",{"$f":"SUMPRODUCT((Draft17!$I$3:$I$14=$C99)*(Draft17!$K$1:$V$1=$E99)*(Draft17!$K$3:$V$14))","v":23},"FredLa",{"$f":"IF(ISERROR(VLOOKUP($B99,Trade17!$A$3:$O$9989,12,FALSE)),\"\",VLOOKUP($B99,Trade17!$A$3:$O$9989,12,FALSE))","v":""},{"$f":"IF(ISERROR(VLOOKUP($B99,Trade17!$B$3:$O$9989,6,FALSE)),\"\",VLOOKUP($B99,Trade17!$B$3:$O$9989,6,FALSE))","v":""},"",500,{"$f":"IF(ISNA(VLOOKUP($B99,Trade17!$A$3:$O$9989,5,FALSE)),0,VLOOKUP($B99,Trade17!$A$3:$O$9989,5,FALSE))+IF(ISNA(VLOOKUP($B99,Trade17!$B$3:$O$9989,4,FALSE)),0,VLOOKUP($B99,Trade17!$B$3:$O$9989,4,FALSE))","v":0}]
[0,500201703,"FredLa",2017,"03e",{"$f":"SUMPRODUCT((Draft17!$I$3:$I$14=$C100)*(Draft17!$K$1:$V$1=$E100)*(Draft17!$K$3:$V$14))","v":35},"FredLa",{"$f":"IF(ISERROR(VLOOKUP($B100,Trade17!$A$3:$O$9989,12,FALSE)),\"\",VLOOKUP($B100,Trade17!$A$3:$O$9989,12,FALSE))","v":""},{"$f":"IF(ISERROR(VLOOKUP($B100,Trade17!$B$3:$O$9989,6,FALSE)),\"\",VLOOKUP($B100,Trade17!$B$3:$O$9989,6,FALSE))","v":""},"",500,{"$f":"IF(ISNA(VLOOKUP($B100,Trade17!$A$3:$O$9989,5,FALSE)),0,VLOOKUP($B100,Trade17!$A$3:$O$9989,5,FALSE))+IF(ISNA(VLOOKUP($B100,Trade17!$B$3:$O$9989,4,FALSE)),0,VLOOKUP($B100,Trade17!$B$3:$O$9989,4,FALSE))","v":0}]
[0,500201704,"FredLa",2017,"04e",{"$f":"SUMPRODUCT((Draft17!$I$3:$I$14=$C101)*(Draft17!$K$1:$V$1=$E101)*(Draft17!$K$3:$V$14))","v":47},"FredLa",{"$f":"IF(ISERROR(VLOOKUP($B101,Trade17!$A$3:$O$9989,12,FALSE)),\"\",VLOOKUP($B101,Trade17!$A$3:$O$9989,12,FALSE))","v":""},{"$f":"IF(ISERROR(VLOOKUP($B101,Trade17!$B$3:$O$9989,6,FALSE)),\"\",VLOOKUP($B101,Trade17!$B$3:$O$9989,6,FALSE))","v":""},"",500,{"$f":"IF(ISNA(VLOOKUP($B101,Trade17!$A$3:$O$9989,5,FALSE)),0,VLOOKUP($B101,Trade17!$A$3:$O$9989,5,FALSE))+IF(ISNA(VLOOKUP($B101,Trade17!$B$3:$O$9989,4,FALSE)),0,VLOOKUP($B101,Trade17!$B$3:$O$9989,4,FALSE))","v":0}]
[0,500201705,"FredLa",2017,"05e",{"$f":"SUMPRODUCT((Draft17!$I$3:$I$14=$C102)*(Draft17!$K$1:$V$1=$E102)*(Draft17!$K$3:$V$14))","v":59},"FredLa",{"$f":"IF(ISERROR(VLOOKUP($B102,Trade17!$A$3:$O$9989,12,FALSE)),\"\",VLOOKUP($B102,Trade17!$A$3:$O$9989,12,FALSE))","v":""},{"$f":"IF(ISERROR(VLOOKUP($B102,Trade17!$B$3:$O$9989,6,FALSE)),\"\",VLOOKUP($B102,Trade17!$B$3:$O$9989,6,FALSE))","v":""},"",500,{"$f":"IF(ISNA(VLOOKUP($B102,Trade17!$A$3:$O$9989,5,FALSE)),0,VLOOKUP($B102,Trade17!$A$3:$O$9989,5,FALSE))+IF(ISNA(VLOOKUP($B102,Trade17!$B$3:$O$9989,4,FALSE)),0,VLOOKUP($B102,Trade17!$B$3:$O$9989,4,FALSE))","v":0}]
[0,500201706,"FredLa",2017,"06e",{"$f":"SUMPRODUCT((Draft17!$I$3:$I$14=$C103)*(Draft17!$K$1:$V$1=$E103)*(Draft17!$K$3:$V$14))","v":71},"FredLa",{"$f":"IF(ISERROR(VLOOKUP($B103,Trade17!$A$3:$O$9989,12,FALSE)),\"\",VLOOKUP($B103,Trade17!$A$3:$O$9989,12,FALSE))","v":""},{"$f":"IF(ISERROR(VLOOKUP($B103,Trade17!$B$3:$O$9989,6,FALSE)),\"\",VLOOKUP($B103,Trade17!$B$3:$O$9989,6,FALSE))","v":""},"",500,{"$f":"IF(ISNA(VLOOKUP($B103,Trade17!$A$3:$O$9989,5,FALSE)),0,VLOOKUP($B103,Trade17!$A$3:$O$9989,5,FALSE))+IF(ISNA(VLOOKUP($B103,Trade17!$B$3:$O$9989,4,FALSE)),0,VLOOKUP($B103,Trade17!$B$3:$O$9989,4,FALSE))","v":0}]
[0,500201707,"FredLa",2017,"07e",{"$f":"SUMPRODUCT((Draft17!$I$3:$I$14=$C104)*(Draft17!$K$1:$V$1=$E104)*(Draft17!$K$3:$V$14))","v":83},"FredLa",{"$f":"IF(ISERROR(VLOOKUP($B104,Trade17!$A$3:$O$9989,12,FALSE)),\"\",VLOOKUP($B104,Trade17!$A$3:$O$9989,12,FALSE))","v":""},{"$f":"IF(ISERROR(VLOOKUP($B104,Trade17!$B$3:$O$9989,6,FALSE)),\"\",VLOOKUP($B104,Trade17!$B$3:$O$9989,6,FALSE))","v":""},"",500,{"$f":"IF(ISNA(VLOOKUP($B104,Trade17!$A$3:$O$9989,5,FALSE)),0,VLOOKUP($B104,Trade17!$A$3:$O$9989,5,FALSE))+IF(ISNA(VLOOKUP($B104,Trade17!$B$3:$O$9989,4,FALSE)),0,VLOOKUP($B104,Trade17!$B$3:$O$9989,4,FALSE))","v":0}]
[0,500201708,"FredLa",2017,"08e",{"$f":"SUMPRODUCT((Draft17!$I$3:$I$14=$C105)*(Draft17!$K$1:$V$1=$E105)*(Draft17!$K$3:$V$14))","v":95},"FredLa",{"$f":"IF(ISERROR(VLOOKUP($B105,Trade17!$A$3:$O$9989,12,FALSE)),\"\",VLOOKUP($B105,Trade17!$A$3:$O$9989,12,FALSE))","v":""},{"$f":"IF(ISERROR(VLOOKUP($B105,Trade17!$B$3:$O$9989,6,FALSE)),\"\",VLOOKUP($B105,Trade17!$B$3:$O$9989,6,FALSE))","v":""},"",500,{"$f":"IF(ISNA(VLOOKUP($B105,Trade17!$A$3:$O$9989,5,FALSE)),0,VLOOKUP($B105,Trade17!$A$3:$O$9989,5,FALSE))+IF(ISNA(VLOOKUP($B105,Trade17!$B$3:$O$9989,4,FALSE)),0,VLOOKUP($B105,Trade17!$B$3:$O$9989,4,FALSE))","v":0}]
[0,500201709,"FredLa",2017,"09e",{"$f":"SUMPRODUCT((Draft17!$I$3:$I$14=$C106)*(Draft17!$K$1:$V$1=$E106)*(Draft17!$K$3:$V$14))","v":107},"FredLa",{"$f":"IF(ISERROR(VLOOKUP($B106,Trade17!$A$3:$O$9989,12,FALSE)),\"\",VLOOKUP($B106,Trade17!$A$3:$O$9989,12,FALSE))","v":""},{"$f":"IF(ISERROR(VLOOKUP($B106,Trade17!$B$3:$O$9989,6,FALSE)),\"\",VLOOKUP($B106,Trade17!$B$3:$O$9989,6,FALSE))","v":""},"",500,{"$f":"IF(ISNA(VLOOKUP($B106,Trade17!$A$3:$O$9989,5,FALSE)),0,VLOOKUP($B106,Trade17!$A$3:$O$9989,5,FALSE))+IF(ISNA(VLOOKUP($B106,Trade17!$B$3:$O$9989,4,FALSE)),0,VLOOKUP($B106,Trade17!$B$3:$O$9989,4,FALSE))","v":0}]
[0,500201710,"FredLa",2017,"10e",{"$f":"SUMPRODUCT((Draft17!$I$3:$I$14=$C107)*(Draft17!$K$1:$V$1=$E107)*(Draft17!$K$3:$V$14))","v":119},"FredLa",{"$f":"IF(ISERROR(VLOOKUP($B107,Trade17!$A$3:$O$9989,12,FALSE)),\"\",VLOOKUP($B107,Trade17!$A$3:$O$9989,12,FALSE))","v":""},{"$f":"IF(ISERROR(VLOOKUP($B107,Trade17!$B$3:$O$9989,6,FALSE)),\"\",VLOOKUP($B107,Trade17!$B$3:$O$9989,6,FALSE))","v":""},"",500,{"$f":"IF(ISNA(VLOOKUP($B107,Trade17!$A$3:$O$9989,5,FALSE)),0,VLOOKUP($B107,Trade17!$A$3:$O$9989,5,FALSE))+IF(ISNA(VLOOKUP($B107,Trade17!$B$3:$O$9989,4,FALSE)),0,VLOOKUP($B107,Trade17!$B$3:$O$9989,4,FALSE))","v":0}]
[0,500201711,"FredLa",2017,"11e",{"$f":"SUMPRODUCT((Draft17!$I$3:$I$14=$C108)*(Draft17!$K$1:$V$1=$E108)*(Draft17!$K$3:$V$14))","v":131},"FredLa",{"$f":"IF(ISERROR(VLOOKUP($B108,Trade17!$A$3:$O$9989,12,FALSE)),\"\",VLOOKUP($B108,Trade17!$A$3:$O$9989,12,FALSE))","v":""},{"$f":"IF(ISERROR(VLOOKUP($B108,Trade17!$B$3:$O$9989,6,FALSE)),\"\",VLOOKUP($B108,Trade17!$B$3:$O$9989,6,FALSE))","v":""},"",500,{"$f":"IF(ISNA(VLOOKUP($B108,Trade17!$A$3:$O$9989,5,FALSE)),0,VLOOKUP($B108,Trade17!$A$3:$O$9989,5,FALSE))+IF(ISNA(VLOOKUP($B108,Trade17!$B$3:$O$9989,4,FALSE)),0,VLOOKUP($B108,Trade17!$B$3:$O$9989,4,FALSE))","v":0}]
[0,500201712,"FredLa",2017,"12e",{"$f":"SUMPRODUCT((Draft17!$I$3:$I$14=$C109)*(Draft17!$K$1:$V$1=$E109)*(Draft17!$K$3:$V$14))","v":143},"FredLa",{"$f":"IF(ISERROR(VLOOKUP($B109,Trade17!$A$3:$O$9989,12,FALSE)),\"\",VLOOKUP($B109,Trade17!$A$3:$O$9989,12,FALSE))","v":""},{"$f":"IF(ISERROR(VLOOKUP($B109,Trade17!$B$3:$O$9989,6,FALSE)),\"\",VLOOKUP($B109,Trade17!$B$3:$O$9989,6,FALSE))","v":""},"",500,{"$f":"IF(ISNA(VLOOKUP($B109,Trade17!$A$3:$O$9989,5,FALSE)),0,VLOOKUP($B109,Trade17!$A$3:$O$9989,5,FALSE))+IF(ISNA(VLOOKUP($B109,Trade17!$B$3:$O$9989,4,FALSE)),0,VLOOKUP($B109,Trade17!$B$3:$O$9989,4,FALSE))","v":0}]
[0,550201701,"Nicola",2017,"01e",{"$f":"SUMPRODUCT((Draft17!$I$3:$I$14=$C110)*(Draft17!$K$1:$V$1=$E110)*(Draft17!$K$3:$V$14))","v":5},"Nicola",{"$f":"IF(ISERROR(VLOOKUP($B110,Trade17!$A$3:$O$9989,12,FALSE)),\"\",VLOOKUP($B110,Trade17!$A$3:$O$9989,12,FALSE))","v":""},{"$f":"IF(ISERROR(VLOOKUP($B110,Trade17!$B$3:$O$9989,6,FALSE)),\"\",VLOOKUP($B110,Trade17!$B$3:$O$9989,6,FALSE))","v":""},"",550,{"$f":"IF(ISNA(VLOOKUP($B110,Trade17!$A$3:$O$9989,5,FALSE)),0,VLOOKUP($B110,Trade17!$A$3:$O$9989,5,FALSE))+IF(ISNA(VLOOKUP($B110,Trade17!$B$3:$O$9989,4,FALSE)),0,VLOOKUP($B110,Trade17!$B$3:$O$9989,4,FALSE))","v":0}]
[0,550201702,"Nicola",2017,"02e",{"$f":"SUMPRODUCT((Draft17!$I$3:$I$14=$C111)*(Draft17!$K$1:$V$1=$E111)*(Draft17!$K$3:$V$14))","v":17},"Nicola",{"$f":"IF(ISERROR(VLOOKUP($B111,Trade17!$A$3:$O$9989,12,FALSE)),\"\",VLOOKUP($B111,Trade17!$A$3:$O$9989,12,FALSE))","v":""},{"$f":"IF(ISERROR(VLOOKUP($B111,Trade17!$B$3:$O$9989,6,FALSE)),\"\",VLOOKUP($B111,Trade17!$B$3:$O$9989,6,FALSE))","v":""},"",550,{"$f":"IF(ISNA(VLOOKUP($B111,Trade17!$A$3:$O$9989,5,FALSE)),0,VLOOKUP($B111,Trade17!$A$3:$O$9989,5,FALSE))+IF(ISNA(VLOOKUP($B111,Trade17!$B$3:$O$9989,4,FALSE)),0,VLOOKUP($B111,Trade17!$B$3:$O$9989,4,FALSE))","v":0}]
[0,550201703,"Nicola",2017,"03e",{"$f":"SUMPRODUCT((Draft17!$I$3:$I$14=$C112)*(Draft17!$K$1:$V$1=$E112)*(Draft17!$K$3:$V$14))","v":29},"Nicola",{"$f":"IF(ISERROR(VLOOKUP($B112,Trade17!$A$3:$O$9989,12,FALSE)),\"\",VLOOKUP($B112,Trade17!$A$3:$O$9989,12,FALSE))","v":""},{"$f":"IF(ISERROR(VLOOKUP($B112,Trade17!$B$3:$O$9989,6,FALSE)),\"\",VLOOKUP($B112,Trade17!$B$3:$O$9989,6,FALSE))","v":""},"",550,{"$f":"IF(ISNA(VLOOKUP($B112,Trade17!$A$3:$O$9989,5,FALSE)),0,VLOOKUP($B112,Trade17!$A$3:$O$9989,5,FALSE))+IF(ISNA(VLOOKUP($B112,Trade17!$B$3:$O$9989,4,FALSE)),0,VLOOKUP($B112,Trade17!$B$3:$O$9989,4,FALSE))","v":0}]
[0,550201704,"Nicola",2017,"04e",{"$f":"SUMPRODUCT((Draft17!$I$3:$I$14=$C113)*(Draft17!$K$1:$V$1=$E113)*(Draft17!$K$3:$V$14))","v":41},"Nicola",{"$f":"IF(ISERROR(VLOOKUP($B113,Trade17!$A$3:$O$9989,12,FALSE)),\"\",VLOOKUP($B113,Trade17!$A$3:$O$9989,12,FALSE))","v":""},{"$f":"IF(ISERROR(VLOOKUP($B113,Trade17!$B$3:$O$9989,6,FALSE)),\"\",VLOOKUP($B113,Trade17!$B$3:$O$9989,6,FALSE))","v":""},"",550,{"$f":"IF(ISNA(VLOOKUP($B113,Trade17!$A$3:$O$9989,5,FALSE)),0,VLOOKUP($B113,Trade17!$A$3:$O$9989,5,FALSE))+IF(ISNA(VLOOKUP($B113,Trade17!$B$3:$O$9989,4,FALSE)),0,VLOOKUP($B113,Trade17!$B$3:$O$9989,4,FALSE))","v":0}]
[0,550201705,"Nicola",2017,"05e",{"$f":"SUMPRODUCT((Draft17!$I$3:$I$14=$C114)*(Draft17!$K$1:$V$1=$E114)*(Draft17!$K$3:$V$14))","v":53},"Nicola",{"$f":"IF(ISERROR(VLOOKUP($B114,Trade17!$A$3:$O$9989,12,FALSE)),\"\",VLOOKUP($B114,Trade17!$A$3:$O$9989,12,FALSE))","v":""},{"$f":"IF(ISERROR(VLOOKUP($B114,Trade17!$B$3:$O$9989,6,FALSE)),\"\",VLOOKUP($B114,Trade17!$B$3:$O$9989,6,FALSE))","v":""},"",550,{"$f":"IF(ISNA(VLOOKUP($B114,Trade17!$A$3:$O$9989,5,FALSE)),0,VLOOKUP($B114,Trade17!$A$3:$O$9989,5,FALSE))+IF(ISNA(VLOOKUP($B114,Trade17!$B$3:$O$9989,4,FALSE)),0,VLOOKUP($B114,Trade17!$B$3:$O$9989,4,FALSE))","v":0}]
[0,550201706,"Nicola",2017,"06e",{"$f":"SUMPRODUCT((Draft17!$I$3:$I$14=$C115)*(Draft17!$K$1:$V$1=$E115)*(Draft17!$K$3:$V$14))","v":65},"Nicola",{"$f":"IF(ISERROR(VLOOKUP($B115,Trade17!$A$3:$O$9989,12,FALSE)),\"\",VLOOKUP($B115,Trade17!$A$3:$O$9989,12,FALSE))","v":""},{"$f":"IF(ISERROR(VLOOKUP($B115,Trade17!$B$3:$O$9989,6,FALSE)),\"\",VLOOKUP($B115,Trade17!$B$3:$O$9989,6,FALSE))","v":""},"",550,{"$f":"IF(ISNA(VLOOKUP($B115,Trade17!$A$3:$O$9989,5,FALSE)),0,VLOOKUP($B115,Trade17!$A$3:$O$9989,5,FALSE))+IF(ISNA(VLOOKUP($B115,Trade17!$B$3:$O$9989,4,FALSE)),0,VLOOKUP($B115,Trade17!$B$3:$O$9989,4,FALSE))","v":0}]
[0,550201707,"Nicola",2017,"07e",{"$f":"SUMPRODUCT((Draft17!$I$3:$I$14=$C116)*(Draft17!$K$1:$V$1=$E116)*(Draft17!$K$3:$V$14))","v":77},"Nicola",{"$f":"IF(ISERROR(VLOOKUP($B116,Trade17!$A$3:$O$9989,12,FALSE)),\"\",VLOOKUP($B116,Trade17!$A$3:$O$9989,12,FALSE))","v":""},{"$f":"IF(ISERROR(VLOOKUP($B116,Trade17!$B$3:$O$9989,6,FALSE)),\"\",VLOOKUP($B116,Trade17!$B$3:$O$9989,6,FALSE))","v":""},"",550,{"$f":"IF(ISNA(VLOOKUP($B116,Trade17!$A$3:$O$9989,5,FALSE)),0,VLOOKUP($B116,Trade17!$A$3:$O$9989,5,FALSE))+IF(ISNA(VLOOKUP($B116,Trade17!$B$3:$O$9989,4,FALSE)),0,VLOOKUP($B116,Trade17!$B$3:$O$9989,4,FALSE))","v":0}]
[0,550201708,"Nicola",2017,"08e",{"$f":"SUMPRODUCT((Draft17!$I$3:$I$14=$C117)*(Draft17!$K$1:$V$1=$E117)*(Draft17!$K$3:$V$14))","v":89},"Nicola",{"$f":"IF(ISERROR(VLOOKUP($B117,Trade17!$A$3:$O$9989,12,FALSE)),\"\",VLOOKUP($B117,Trade17!$A$3:$O$9989,12,FALSE))","v":""},{"$f":"IF(ISERROR(VLOOKUP($B117,Trade17!$B$3:$O$9989,6,FALSE)),\"\",VLOOKUP($B117,Trade17!$B$3:$O$9989,6,FALSE))","v":""},"",550,{"$f":"IF(ISNA(VLOOKUP($B117,Trade17!$A$3:$O$9989,5,FALSE)),0,VLOOKUP($B117,Trade17!$A$3:$O$9989,5,FALSE))+IF(ISNA(VLOOKUP($B117,Trade17!$B$3:$O$9989,4,FALSE)),0,VLOOKUP($B117,Trade17!$B$3:$O$9989,4,FALSE))","v":0}]
[0,550201709,"Nicola",2017,"09e",{"$f":"SUMPRODUCT((Draft17!$I$3:$I$14=$C118)*(Draft17!$K$1:$V$1=$E118)*(Draft17!$K$3:$V$14))","v":101},"Nicola",{"$f":"IF(ISERROR(VLOOKUP($B118,Trade17!$A$3:$O$9989,12,FALSE)),\"\",VLOOKUP($B118,Trade17!$A$3:$O$9989,12,FALSE))","v":""},{"$f":"IF(ISERROR(VLOOKUP($B118,Trade17!$B$3:$O$9989,6,FALSE)),\"\",VLOOKUP($B118,Trade17!$B$3:$O$9989,6,FALSE))","v":""},"",550,{"$f":"IF(ISNA(VLOOKUP($B118,Trade17!$A$3:$O$9989,5,FALSE)),0,VLOOKUP($B118,Trade17!$A$3:$O$9989,5,FALSE))+IF(ISNA(VLOOKUP($B118,Trade17!$B$3:$O$9989,4,FALSE)),0,VLOOKUP($B118,Trade17!$B$3:$O$9989,4,FALSE))","v":0}]
[0,550201710,"Nicola",2017,"10e",{"$f":"SUMPRODUCT((Draft17!$I$3:$I$14=$C119)*(Draft17!$K$1:$V$1=$E119)*(Draft17!$K$3:$V$14))","v":113},"Nicola",{"$f":"IF(ISERROR(VLOOKUP($B119,Trade17!$A$3:$O$9989,12,FALSE)),\"\",VLOOKUP($B119,Trade17!$A$3:$O$9989,12,FALSE))","v":""},{"$f":"IF(ISERROR(VLOOKUP($B119,Trade17!$B$3:$O$9989,6,FALSE)),\"\",VLOOKUP($B119,Trade17!$B$3:$O$9989,6,FALSE))","v":""},"",550,{"$f":"IF(ISNA(VLOOKUP($B119,Trade17!$A$3:$O$9989,5,FALSE)),0,VLOOKUP($B119,Trade17!$A$3:$O$9989,5,FALSE))+IF(ISNA(VLOOKUP($B119,Trade17!$B$3:$O$9989,4,FALSE)),0,VLOOKUP($B119,Trade17!$B$3:$O$9989,4,FALSE))","v":0}]
[0,550201711,"Nicola",2017,"11e",{"$f":"SUMPRODUCT((Draft17!$I$3:$I$14=$C120)*(Draft17!$K$1:$V$1=$E120)*(Draft17!$K$3:$V$14))","v":125},"Nicola",{"$f":"IF(ISERROR(VLOOKUP($B120,Trade17!$A$3:$O$9989,12,FALSE)),\"\",VLOOKUP($B120,Trade17!$A$3:$O$9989,12,FALSE))","v":""},{"$f":"IF(ISERROR(VLOOKUP($B120,Trade17!$B$3:$O$9989,6,FALSE)),\"\",VLOOKUP($B120,Trade17!$B$3:$O$9989,6,FALSE))","v":""},"",550,{"$f":"IF(ISNA(VLOOKUP($B120,Trade17!$A$3:$O$9989,5,FALSE)),0,VLOOKUP($B120,Trade17!$A$3:$O$9989,5,FALSE))+IF(ISNA(VLOOKUP($B120,Trade17!$B$3:$O$9989,4,FALSE)),0,VLOOKUP($B120,Trade17!$B$3:$O$9989,4,FALSE))","v":0}]
[0,550201712,"Nicola",2017,"12e",{"$f":"SUMPRODUCT((Draft17!$I$3:$I$14=$C121)*(Draft17!$K$1:$V$1=$E121)*(Draft17!$K$3:$V$14))","v":137},"Nicola",{"$f":"IF(ISERROR(VLOOKUP($B121,Trade17!$A$3:$O$9989,12,FALSE)),\"\",VLOOKUP($B121,Trade17!$A$3:$O$9989,12,FALSE))","v":""},{"$f":"IF(ISERROR(VLOOKUP($B121,Trade17!$B$3:$O$9989,6,FALSE)),\"\",VLOOKUP($B121,Trade17!$B$3:$O$9989,6,FALSE))","v":""},"",550,{"$f":"IF(ISNA(VLOOKUP($B121,Trade17!$A$3:$O$9989,5,FALSE)),0,VLOOKUP($B121,Trade17!$A$3:$O$9989,5,FALSE))+IF(ISNA(VLOOKUP($B121,Trade17!$B$3:$O$9989,4,FALSE)),0,VLOOKUP($B121,Trade17!$B$3:$O$9989,4,FALSE))","v":0}]
[0,600201701,"Cedrik",2017,"01e",{"$f":"SUMPRODUCT((Draft17!$I$3:$I$14=$C122)*(Draft17!$K$1:$V$1=$E122)*(Draft17!$K$3:$V$14))","v":7},"Cedrik",{"$f":"IF(ISERROR(VLOOKUP($B122,Trade17!$A$3:$O$9989,12,FALSE)),\"\",VLOOKUP($B122,Trade17!$A$3:$O$9989,12,FALSE))","v":""},{"$f":"IF(ISERROR(VLOOKUP($B122,Trade17!$B$3:$O$9989,6,FALSE)),\"\",VLOOKUP($B122,Trade17!$B$3:$O$9989,6,FALSE))","v":""},"",600,{"$f":"IF(ISNA(VLOOKUP($B122,Trade17!$A$3:$O$9989,5,FALSE)),0,VLOOKUP($B122,Trade17!$A$3:$O$9989,5,FALSE))+IF(ISNA(VLOOKUP($B122,Trade17!$B$3:$O$9989,4,FALSE)),0,VLOOKUP($B122,Trade17!$B$3:$O$9989,4,FALSE))","v":0}]
[0,600201702,"Cedrik",2017,"02e",{"$f":"SUMPRODUCT((Draft17!$I$3:$I$14=$C123)*(Draft17!$K$1:$V$1=$E123)*(Draft17!$K$3:$V$14))","v":19},"Cedrik",{"$f":"IF(ISERROR(VLOOKUP($B123,Trade17!$A$3:$O$9989,12,FALSE)),\"\",VLOOKUP($B123,Trade17!$A$3:$O$9989,12,FALSE))","v":""},{"$f":"IF(ISERROR(VLOOKUP($B123,Trade17!$B$3:$O$9989,6,FALSE)),\"\",VLOOKUP($B123,Trade17!$B$3:$O$9989,6,FALSE))","v":""},"",600,{"$f":"IF(ISNA(VLOOKUP($B123,Trade17!$A$3:$O$9989,5,FALSE)),0,VLOOKUP($B123,Trade17!$A$3:$O$9989,5,FALSE))+IF(ISNA(VLOOKUP($B123,Trade17!$B$3:$O$9989,4,FALSE)),0,VLOOKUP($B123,Trade17!$B$3:$O$9989,4,FALSE))","v":0}]
[0,600201703,"Cedrik",2017,"03e",{"$f":"SUMPRODUCT((Draft17!$I$3:$I$14=$C124)*(Draft17!$K$1:$V$1=$E124)*(Draft17!$K$3:$V$14))","v":31},"Cedrik",{"$f":"IF(ISERROR(VLOOKUP($B124,Trade17!$A$3:$O$9989,12,FALSE)),\"\",VLOOKUP($B124,Trade17!$A$3:$O$9989,12,FALSE))","v":""},{"$f":"IF(ISERROR(VLOOKUP($B124,Trade17!$B$3:$O$9989,6,FALSE)),\"\",VLOOKUP($B124,Trade17!$B$3:$O$9989,6,FALSE))","v":""},"",600,{"$f":"IF(ISNA(VLOOKUP($B124,Trade17!$A$3:$O$9989,5,FALSE)),0,VLOOKUP($B124,Trade17!$A$3:$O$9989,5,FALSE))+IF(ISNA(VLOOKUP($B124,Trade17!$B$3:$O$9989,4,FALSE)),0,VLOOKUP($B124,Trade17!$B$3:$O$9989,4,FALSE))","v":0}]
[0,{"$f":"(VLOOKUP(C125,$M$2:$N$14,2,FALSE)&D125&LEFT(E125,LEN(E125)-1))*1","v":600201704},"Cedrik",2017,"04e",{"$f":"SUMPRODUCT((Draft17!$I$3:$I$14=$C125)*(Draft17!$K$1:$V$1=$E125)*(Draft17!$K$3:$V$14))","v":43},"Cedrik",{"$f":"IF(ISERROR(VLOOKUP($B125,Trade17!$A$3:$O$9989,12,FALSE)),\"\",VLOOKUP($B125,Trade17!$A$3:$O$9989,12,FALSE))","v":""},{"$f":"IF(ISERROR(VLOOKUP($B125,Trade17!$B$3:$O$9989,6,FALSE)),\"\",VLOOKUP($B125,Trade17!$B$3:$O$9989,6,FALSE))","v":""},"",600,{"$f":"IF(ISNA(VLOOKUP($B125,Trade17!$A$3:$O$9989,5,FALSE)),0,VLOOKUP($B125,Trade17!$A$3:$O$9989,5,FALSE))+IF(ISNA(VLOOKUP($B125,Trade17!$B$3:$O$9989,4,FALSE)),0,VLOOKUP($B125,Trade17!$B$3:$O$9989,4,FALSE))","v":0}]
[0,600201705,"Cedrik",2017,"05e",{"$f":"SUMPRODUCT((Draft17!$I$3:$I$14=$C126)*(Draft17!$K$1:$V$1=$E126)*(Draft17!$K$3:$V$14))","v":55},"Cedrik",{"$f":"IF(ISERROR(VLOOKUP($B126,Trade17!$A$3:$O$9989,12,FALSE)),\"\",VLOOKUP($B126,Trade17!$A$3:$O$9989,12,FALSE))","v":""},{"$f":"IF(ISERROR(VLOOKUP($B126,Trade17!$B$3:$O$9989,6,FALSE)),\"\",VLOOKUP($B126,Trade17!$B$3:$O$9989,6,FALSE))","v":""},"",600,{"$f":"IF(ISNA(VLOOKUP($B126,Trade17!$A$3:$O$9989,5,FALSE)),0,VLOOKUP($B126,Trade17!$A$3:$O$9989,5,FALSE))+IF(ISNA(VLOOKUP($B126,Trade17!$B$3:$O$9989,4,FALSE)),0,VLOOKUP($B126,Trade17!$B$3:$O$9989,4,FALSE))","v":0}]
[0,600201706,"Cedrik",2017,"06e",{"$f":"SUMPRODUCT((Draft17!$I$3:$I$14=$C127)*(Draft17!$K$1:$V$1=$E127)*(Draft17!$K$3:$V$14))","v":67},"Cedrik",{"$f":"IF(ISERROR(VLOOKUP($B127,Trade17!$A$3:$O$9989,12,FALSE)),\"\",VLOOKUP($B127,Trade17!$A$3:$O$9989,12,FALSE))","v":""},{"$f":"IF(ISERROR(VLOOKUP($B127,Trade17!$B$3:$O$9989,6,FALSE)),\"\",VLOOKUP($B127,Trade17!$B$3:$O$9989,6,FALSE))","v":""},"",600,{"$f":"IF(ISNA(VLOOKUP($B127,Trade17!$A$3:$O$9989,5,FALSE)),0,VLOOKUP($B127,Trade17!$A$3:$O$9989,5,FALSE))+IF(ISNA(VLOOKUP($B127,Trade17!$B$3:$O$9989,4,FALSE)),0,VLOOKUP($B127,Trade17!$B$3:$O$9989,4,FALSE))","v":0}]
[0,600201707,"Cedrik",2017,"07e",{"$f":"SUMPRODUCT((Draft17!$I$3:$I$14=$C128)*(Draft17!$K$1:$V$1=$E128)*(Draft17!$K$3:$V$14))","v":79},"Cedrik",{"$f":"IF(ISERROR(VLOOKUP($B128,Trade17!$A$3:$O$9989,12,FALSE)),\"\",VLOOKUP($B128,Trade17!$A$3:$O$9989,12,FALSE))","v":""},{"$f":"IF(ISERROR(VLOOKUP($B128,Trade17!$B$3:$O$9989,6,FALSE)),\"\",VLOOKUP($B128,Trade17!$B$3:$O$9989,6,FALSE))","v":""},"",600,{"$f":"IF(ISNA(VLOOKUP($B128,Trade17!$A$3:$O$9989,5,FALSE)),0,VLOOKUP($B128,Trade17!$A$3:$O$9989,5,FALSE))+IF(ISNA(VLOOKUP($B128,Trade17!$B$3:$O$9989,4,FALSE)),0,VLOOKUP($B128,Trade17!$B$3:$O$9989,4,FALSE))","v":0}]
[0,600201708,"Cedrik",2017,"08e",{"$f":"SUMPRODUCT((Draft17!$I$3:$I$14=$C129)*(Draft17!$K$1:$V$1=$E129)*(Draft17!$K$3:$V$14))","v":91},"Cedrik",{"$f":"IF(ISERROR(VLOOKUP($B129,Trade17!$A$3:$O$9989,12,FALSE)),\"\",VLOOKUP($B129,Trade17!$A$3:$O$9989,12,FALSE))","v":""},{"$f":"IF(ISERROR(VLOOKUP($B129,Trade17!$B$3:$O$9989,6,FALSE)),\"\",VLOOKUP($B129,Trade17!$B$3:$O$9989,6,FALSE))","v":""},"",600,{"$f":"IF(ISNA(VLOOKUP($B129,Trade17!$A$3:$O$9989,5,FALSE)),0,VLOOKUP($B129,Trade17!$A$3:$O$9989,5,FALSE))+IF(ISNA(VLOOKUP($B129,Trade17!$B$3:$O$9989,4,FALSE)),0,VLOOKUP($B129,Trade17!$B$3:$O$9989,4,FALSE))","v":0}]
[{"$f":"IF(ISERROR((VLOOKUP(J130,$M$2:$N$14,2,FALSE)&$D130&LEFT($E130,LEN($E130)-1))*1),0,(VLOOKUP(J130,$M$2:$N$14,2,FALSE)&$D130&LEFT($E130,LEN($E130)-1))*1)","v":0},600201709,"Cedrik",2017,"09e",{"$f":"SUMPRODUCT((Draft17!$I$3:$I$14=$C130)*(Draft17!$K$1:$V$1=$E130)*(Draft17!$K$3:$V$14))","v":103},{"$f":"IF(A130>0,J130&\" reçu de \"&C130,C130)","v":"Cedrik"},{"$f":"IF(ISERROR(VLOOKUP($B130,Trade17!$A$3:$O$9989,12,FALSE)),\"\",VLOOKUP($B130,Trade17!$A$3:$O$9989,12,FALSE))","v":""},{"$f":"IF(ISERROR(VLOOKUP($B130,Trade17!$B$3:$O$9989,6,FALSE)),\"\",VLOOKUP($B130,Trade17!$B$3:$O$9989,6,FALSE))","v":""},{"$f":"H130&I130","v":""},{"$f":"VLOOKUP(C130,$M$2:$N$14,2,FALSE)","v":600},{"$f":"IF(ISNA(VLOOKUP($B130,Trade17!$A$3:$O$9989,5,FALSE)),0,VLOOKUP($B130,Trade17!$A$3:$O$9989,5,FALSE))+IF(ISNA(VLOOKUP($B130,Trade17!$B$3:$O$9989,4,FALSE)),0,VLOOKUP($B130,Trade17!$B$3:$O$9989,4,FALSE))","v":0}]
[0,600201710,"Cedrik",2017,"10e",{"$f":"SUMPRODUCT((Draft17!$I$3:$I$14=$C131)*(Draft17!$K$1:$V$1=$E131)*(Draft17!$K$3:$V$14))","v":115},"Cedrik",{"$f":"IF(ISERROR(VLOOKUP($B131,Trade17!$A$3:$O$9989,12,FALSE)),\"\",VLOOKUP($B131,Trade17!$A$3:$O$9989,12,FALSE))","v":""},{"$f":"IF(ISERROR(VLOOKUP($B131,Trade17!$B$3:$O$9989,6,FALSE)),\"\",VLOOKUP($B131,Trade17!$B$3:$O$9989,6,FALSE))","v":""},"",600,{"$f":"IF(ISNA(VLOOKUP($B131,Trade17!$A$3:$O$9989,5,FALSE)),0,VLOOKUP($B131,Trade17!$A$3:$O$9989,5,FALSE))+IF(ISNA(VLOOKUP($B131,Trade17!$B$3:$O$9989,4,FALSE)),0,VLOOKUP($B131,Trade17!$B$3:$O$9989,4,FALSE))","v":0}]
[0,600201711,"Cedrik",2017,"11e",{"$f":"SUMPRODUCT((Draft17!$I$3:$I$14=$C132)*(Draft17!$K$1:$V$1=$E132)*(Draft17!$K$3:$V$14))","v":127},"Cedrik",{"$f":"IF(ISERROR(VLOOKUP($B132,Trade17!$A$3:$O$9989,12,FALSE)),\"\",VLOOKUP($B132,Trade17!$A$3:$O$9989,12,FALSE))","v":""},{"$f":"IF(ISERROR(VLOOKUP($B132,Trade17!$B$3:$O$9989,6,FALSE)),\"\",VLOOKUP($B132,Trade17!$B$3:$O$9989,6,FALSE))","v":""},"",600,{"$f":"IF(ISNA(VLOOKUP($B132,Trade17!$A$3:$O$9989,5,FALSE)),0,VLOOKUP($B132,Trade17!$A$3:$O$9989,5,FALSE))+IF(ISNA(VLOOKUP($B132,Trade17!$B$3:$O$9989,4,FALSE)),0,VLOOKUP($B132,Trade17!$B$3:$O$9989,4,FALSE))","v":0}]
[0,600201712,"Cedrik",2017,"12e",{"$f":"SUMPRODUCT((Draft17!$I$3:$I$14=$C133)*(Draft17!$K$1:$V$1=$E133)*(Draft17!$K$3:$V$14))","v":139},"Cedrik",{"$f":"IF(ISERROR(VLOOKUP($B133,Trade17!$A$3:$O$9989,12,FALSE)),\"\",VLOOKUP($B133,Trade17!$A$3:$O$9989,12,FALSE))","v":""},{"$f":"IF(ISERROR(VLOOKUP($B133,Trade17!$B$3:$O$9989,6,FALSE)),\"\",VLOOKUP($B133,Trade17!$B$3:$O$9989,6,FALSE))","v":""},"",600,{"$f":"IF(ISNA(VLOOKUP($B133,Trade17!$A$3:$O$9989,5,FALSE)),0,VLOOKUP($B133,Trade17!$A$3:$O$9989,5,FALSE))+IF(ISNA(VLOOKUP($B133,Trade17!$B$3:$O$9989,4,FALSE)),0,VLOOKUP($B133,Trade17!$B$3:$O$9989,4,FALSE))","v":0}]
[0,650201701,"Michae",2017,"01e",{"$f":"SUMPRODUCT((Draft17!$I$3:$I$14=$C134)*(Draft17!$K$1:$V$1=$E134)*(Draft17!$K$3:$V$14))","v":1},"Michae",{"$f":"IF(ISERROR(VLOOKUP($B134,Trade17!$A$3:$O$9989,12,FALSE)),\"\",VLOOKUP($B134,Trade17!$A$3:$O$9989,12,FALSE))","v":""},{"$f":"IF(ISERROR(VLOOKUP($B134,Trade17!$B$3:$O$9989,6,FALSE)),\"\",VLOOKUP($B134,Trade17!$B$3:$O$9989,6,FALSE))","v":""},"",650,{"$f":"IF(ISNA(VLOOKUP($B134,Trade17!$A$3:$O$9989,5,FALSE)),0,VLOOKUP($B134,Trade17!$A$3:$O$9989,5,FALSE))+IF(ISNA(VLOOKUP($B134,Trade17!$B$3:$O$9989,4,FALSE)),0,VLOOKUP($B134,Trade17!$B$3:$O$9989,4,FALSE))","v":0}]
[0,650201702,"Michae",2017,"02e",{"$f":"SUMPRODUCT((Draft17!$I$3:$I$14=$C135)*(Draft17!$K$1:$V$1=$E135)*(Draft17!$K$3:$V$14))","v":13},"Michae",{"$f":"IF(ISERROR(VLOOKUP($B135,Trade17!$A$3:$O$9989,12,FALSE)),\"\",VLOOKUP($B135,Trade17!$A$3:$O$9989,12,FALSE))","v":""},{"$f":"IF(ISERROR(VLOOKUP($B135,Trade17!$B$3:$O$9989,6,FALSE)),\"\",VLOOKUP($B135,Trade17!$B$3:$O$9989,6,FALSE))","v":""},"",650,{"$f":"IF(ISNA(VLOOKUP($B135,Trade17!$A$3:$O$9989,5,FALSE)),0,VLOOKUP($B135,Trade17!$A$3:$O$9989,5,FALSE))+IF(ISNA(VLOOKUP($B135,Trade17!$B$3:$O$9989,4,FALSE)),0,VLOOKUP($B135,Trade17!$B$3:$O$9989,4,FALSE))","v":0}]
[0,650201703,"Michae",2017,"03e",{"$f":"SUMPRODUCT((Draft17!$I$3:$I$14=$C136)*(Draft17!$K$1:$V$1=$E136)*(Draft17!$K$3:$V$14))","v":25},"Michae",{"$f":"IF(ISERROR(VLOOKUP($B136,Trade17!$A$3:$O$9989,12,FALSE)),\"\",VLOOKUP($B136,Trade17!$A$3:$O$9989,12,FALSE))","v":""},{"$f":"IF(ISERROR(VLOOKUP($B136,Trade17!$B$3:$O$9989,6,FALSE)),\"\",VLOOKUP($B136,Trade17!$B$3:$O$9989,6,FALSE))","v":""},"",650,{"$f":"IF(ISNA(VLOOKUP($B136,Trade17!$A$3:$O$9989,5,FALSE)),0,VLOOKUP($B136,Trade17!$A$3:$O$9989,5,FALSE))+IF(ISNA(VLOOKUP($B136,Trade17!$B$3:$O$9989,4,FALSE)),0,VLOOKUP($B136,Trade17!$B$3:$O$9989,4,FALSE))","v":0}]
[0,650201704,"Michae",2017,"04e",{"$f":"SUMPRODUCT((Draft17!$I$3:$I$14=$C137)*(Draft17!$K$1:$V$1=$E137)*(Draft17!$K$3:$V$14))","v":37},"Michae",{"$f":"IF(ISERROR(VLOOKUP($B137,Trade17!$A$3:$O$9989,12,FALSE)),\"\",VLOOKUP($B137,Trade17!$A$3:$O$9989,12,FALSE))","v":""},{"$f":"IF(ISERROR(VLOOKUP($B137,Trade17!$B$3:$O$9989,6,FALSE)),\"\",VLOOKUP($B137,Trade17!$B$3:$O$9989,6,FALSE))","v":""},"",650,{"$f":"IF(ISNA(VLOOKUP($B137,Trade17!$A$3:$O$9989,5,FALSE)),0,VLOOKUP($B137,Trade17!$A$3:$O$9989,5,FALSE))+IF(ISNA(VLOOKUP($B137,Trade17!$B$3:$O$9989,4,FALSE)),0,VLOOKUP($B137,Trade17!$B$3:$O$9989,4,FALSE))","v":0}]
[0,650201705,"Michae",2017,"05e",{"$f":"SUMPRODUCT((Draft17!$I$3:$I$14=$C138)*(Draft17!$K$1:$V$1=$E138)*(Draft17!$K$3:$V$14))","v":49},"Michae",{"$f":"IF(ISERROR(VLOOKUP($B138,Trade17!$A$3:$O$9989,12,FALSE)),\"\",VLOOKUP($B138,Trade17!$A$3:$O$9989,12,FALSE))","v":""},{"$f":"IF(ISERROR(VLOOKUP($B138,Trade17!$B$3:$O$9989,6,FALSE)),\"\",VLOOKUP($B138,Trade17!$B$3:$O$9989,6,FALSE))","v":""},"",650,{"$f":"IF(ISNA(VLOOKUP($B138,Trade17!$A$3:$O$9989,5,FALSE)),0,VLOOKUP($B138,Trade17!$A$3:$O$9989,5,FALSE))+IF(ISNA(VLOOKUP($B138,Trade17!$B$3:$O$9989,4,FALSE)),0,VLOOKUP($B138,Trade17!$B$3:$O$9989,4,FALSE))","v":0}]
[0,{"$f":"(VLOOKUP(C139,$M$2:$N$14,2,FALSE)&D139&LEFT(E139,LEN(E139)-1))*1","v":650201706},"Michae",2017,"06e",{"$f":"SUMPRODUCT((Draft17!$I$3:$I$14=$C139)*(Draft17!$K$1:$V$1=$E139)*(Draft17!$K$3:$V$14))","v":61},"Michae",{"$f":"IF(ISERROR(VLOOKUP($B139,Trade17!$A$3:$O$9989,12,FALSE)),\"\",VLOOKUP($B139,Trade17!$A$3:$O$9989,12,FALSE))","v":""},{"$f":"IF(ISERROR(VLOOKUP($B139,Trade17!$B$3:$O$9989,6,FALSE)),\"\",VLOOKUP($B139,Trade17!$B$3:$O$9989,6,FALSE))","v":""},"",650,{"$f":"IF(ISNA(VLOOKUP($B139,Trade17!$A$3:$O$9989,5,FALSE)),0,VLOOKUP($B139,Trade17!$A$3:$O$9989,5,FALSE))+IF(ISNA(VLOOKUP($B139,Trade17!$B$3:$O$9989,4,FALSE)),0,VLOOKUP($B139,Trade17!$B$3:$O$9989,4,FALSE))","v":0}]
[0,650201707,"Michae",2017,"07e",{"$f":"SUMPRODUCT((Draft17!$I$3:$I$14=$C140)*(Draft17!$K$1:$V$1=$E140)*(Draft17!$K$3:$V$14))","v":73},"Michae",{"$f":"IF(ISERROR(VLOOKUP($B140,Trade17!$A$3:$O$9989,12,FALSE)),\"\",VLOOKUP($B140,Trade17!$A$3:$O$9989,12,FALSE))","v":""},{"$f":"IF(ISERROR(VLOOKUP($B140,Trade17!$B$3:$O$9989,6,FALSE)),\"\",VLOOKUP($B140,Trade17!$B$3:$O$9989,6,FALSE))","v":""},"",650,{"$f":"IF(ISNA(VLOOKUP($B140,Trade17!$A$3:$O$9989,5,FALSE)),0,VLOOKUP($B140,Trade17!$A$3:$O$9989,5,FALSE))+IF(ISNA(VLOOKUP($B140,Trade17!$B$3:$O$9989,4,FALSE)),0,VLOOKUP($B140,Trade17!$B$3:$O$9989,4,FALSE))","v":0}]
[0,650201708,"Michae",2017,"08e",{"$f":"SUMPRODUCT((Draft17!$I$3:$I$14=$C141)*(Draft17!$K$1:$V$1=$E141)*(Draft17!$K$3:$V$14))","v":85},"Michae",{"$f":"IF(ISERROR(VLOOKUP($B141,Trade17!$A$3:$O$9989,12,FALSE)),\"\",VLOOKUP($B141,Trade17!$A$3:$O$9989,12,FALSE))","v":""},{"$f":"IF(ISERROR(VLOOKUP($B141,Trade17!$B$3:$O$9989,6,FALSE)),\"\",VLOOKUP($B141,Trade17!$B$3:$O$9989,6,FALSE))","v":""},"",650,{"$f":"IF(ISNA(VLOOKUP($B141,Trade17!$A$3:$O$9989,5,FALSE)),0,VLOOKUP($B141,Trade17!$A$3:$O$9989,5,FALSE))+IF(ISNA(VLOOKUP($B141,Trade17!$B$3:$O$9989,4,FALSE)),0,VLOOKUP($B141,Trade17!$B$3:$O$9989,4,FALSE))","v":0}]
[0,650201709,"Michae",2017,"09e",{"$f":"SUMPRODUCT((Draft17!$I$3:$I$14=$C142)*(Draft17!$K$1:$V$1=$E142)*(Draft17!$K$3:$V$14))","v":97},"Michae",{"$f":"IF(ISERROR(VLOOKUP($B142,Trade17!$A$3:$O$9989,12,FALSE)),\"\",VLOOKUP($B142,Trade17!$A$3:$O$9989,12,FALSE))","v":""},{"$f":"IF(ISERROR(VLOOKUP($B142,Trade17!$B$3:$O$9989,6,FALSE)),\"\",VLOOKUP($B142,Trade17!$B$3:$O$9989,6,FALSE))","v":""},"",650,{"$f":"IF(ISNA(VLOOKUP($B142,Trade17!$A$3:$O$9989,5,FALSE)),0,VLOOKUP($B142,Trade17!$A$3:$O$9989,5,FALSE))+IF(ISNA(VLOOKUP($B142,Trade17!$B$3:$O$9989,4,FALSE)),0,VLOOKUP($B142,Trade17!$B$3:$O$9989,4,FALSE))","v":0}]
[0,650201710,"Michae",2017,"10e",{"$f":"SUMPRODUCT((Draft17!$I$3:$I$14=$C143)*(Draft17!$K$1:$V$1=$E143)*(Draft17!$K$3:$V$14))","v":109},"Michae",{"$f":"IF(ISERROR(VLOOKUP($B143,Trade17!$A$3:$O$9989,12,FALSE)),\"\",VLOOKUP($B143,Trade17!$A$3:$O$9989,12,FALSE))","v":""},{"$f":"IF(ISERROR(VLOOKUP($B143,Trade17!$B$3:$O$9989,6,FALSE)),\"\",VLOOKUP($B143,Trade17!$B$3:$O$9989,6,FALSE))","v":""},"",650,{"$f":"IF(ISNA(VLOOKUP($B143,Trade17!$A$3:$O$9989,5,FALSE)),0,VLOOKUP($B143,Trade17!$A$3:$O$9989,5,FALSE))+IF(ISNA(VLOOKUP($B143,Trade17!$B$3:$O$9989,4,FALSE)),0,VLOOKUP($B143,Trade17!$B$3:$O$9989,4,FALSE))","v":0}]
[0,650201711,"Michae",2017,"11e",{"$f":"SUMPRODUCT((Draft17!$I$3:$I$14=$C144)*(Draft17!$K$1:$V$1=$E144)*(Draft17!$K$3:$V$14))","v":121},"Michae",{"$f":"IF(ISERROR(VLOOKUP($B144,Trade17!$A$3:$O$9989,12,FALSE)),\"\",VLOOKUP($B144,Trade17!$A$3:$O$9989,12,FALSE))","v":""},{"$f":"IF(ISERROR(VLOOKUP($B144,Trade17!$B$3:$O$9989,6,FALSE)),\"\",VLOOKUP($B144,Trade17!$B$3:$O$9989,6,FALSE))","v":""},"",650,{"$f":"IF(ISNA(VLOOKUP($B144,Trade17!$A$3:$O$9989,5,FALSE)),0,VLOOKUP($B144,Trade17!$A$3:$O$9989,5,FALSE))+IF(ISNA(VLOOKUP($B144,Trade17!$B$3:$O$9989,4,FALSE)),0,VLOOKUP($B144,Trade17!$B$3:$O$9989,4,FALSE))","v":0}]
[0,650201712,"Michae",2017,"12e",{"$f":"SUMPRODUCT((Draft17!$I$3:$I$14=$C145)*(Draft17!$K$1:$V$1=$E145)*(Draft17!$K$3:$V$14))","v":133},"Michae",{"$f":"IF(ISERROR(VLOOKUP($B145,Trade17!$A$3:$O$9989,12,FALSE)),\"\",VLOOKUP($B145,Trade17!$A$3:$O$9989,12,FALSE))","v":""},{"$f":"IF(ISERROR(VLOOKUP($B145,Trade17!$B$3:$O$9989,6,FALSE)),\"\",VLOOKUP($B145,Trade17!$B$3:$O$9989,6,FALSE))","v":""},"",650,{"$f":"IF(ISNA(VLOOKUP($B145,Trade17!$A$3:$O$9989,5,FALSE)),0,VLOOKUP($B145,Trade17!$A$3:$O$9989,5,FALSE))+IF(ISNA(VLOOKUP($B145,Trade17!$B$3:$O$9989,4,FALSE)),0,VLOOKUP($B145,Trade17!$B$3:$O$9989,4,FALSE))","v":0}]