{"text_format":"3","workbook":"xlsx","n_sheets":2,"sheets":["Formulaire","Répertoire des produits"],"not_rendered":{"images":2,"macros":1,"defined_names":7},"read":"whole","date_system":"1900"}

{"sheet":"Formulaire","index":0,"n_rows":358,"n_cols":25,"rows_kept":358,"merged":[[3,4,3,5],[4,4,4,5],[5,4,5,5]]}
[{"$nulls":13},"CUP"]
[null,"Formulaire de commande",{"$nulls":11},"3499290000017"]
[]
[null,"Numéro de client:",null,5838009,"Succursale d'approv.:",null,33599]
[null,"Nom propriétaire: ",null,"Dany Doucet","Date:",null,{"$f":"TODAY()","v":"2018-12-28"},"3263280111270"]
[null,"No agence",null,"AG125","Nombres de Caisse :",null,{"$f":"IFERROR(SUM(Tableau1[commande]),\"\")","v":0}]
[]
["ID","Code\nArticle","commande","Nom du produit","Format","UVC","CUP","Catégorie","Description",{"$nulls":7},"ID","Code\nArticle","Commande","Nom du produit","Format","UVC","CUP","Catégorie","Description"]
[{"$f":"ROW(C9)-8","v":1},606988,null,{"$f":"VLOOKUP($B9,'Répertoire des produits'!$1:$1048576,4,FALSE)","v":"Cabernet-Sauvignon/Syrah J.P. Chenet vin de pays d'Oc"},{"$f":"VLOOKUP($B9,'Répertoire des produits'!$1:$1048576,5,FALSE)","v":250},{"$f":"VLOOKUP($B9,'Répertoire des produits'!$1:$1048576,6,FALSE)","v":24},{"$f":"VLOOKUP($B9,'Répertoire des produits'!$1:$1048576,3,FALSE)","v":"03263286324216"},{"$f":"VLOOKUP($B9,'Répertoire des produits'!$1:$1048576,2,FALSE)","v":"Vin rg petits formats"},{"$f":"CONCATENATE(Tableau1[[#This Row],[Code\nArticle]]&\",\"&Tableau1[[#This Row],[Nom du produit]]&\",\"&Tableau1[[#This Row],[Format]]&\",\"&Tableau1[[#This Row],[UVC]]&\",\"&Tableau1[[#This Row],[CUP]]&\",\"&Tableau1[[#This Row],[Catégorie]])","v":"606988,Cabernet-Sauvignon/Syrah J.P. Chenet vin de pays d'Oc,250,24,03263286324216,Vin rg petits formats"},{"$nulls":7},11,857177,null,"Clos la Coutale Cahors",750,12,"03499290000017","Vin rg France Sud-Ouest"]
[2,464669,null,{"$f":"VLOOKUP($B10,'Répertoire des produits'!$1:$1048576,4,FALSE)","v":"Cellier des Dauphins Prestige Côtes du Rhône"},{"$f":"VLOOKUP($B10,'Répertoire des produits'!$1:$1048576,5,FALSE)","v":250},{"$f":"VLOOKUP($B10,'Répertoire des produits'!$1:$1048576,6,FALSE)","v":24},{"$f":"VLOOKUP($B10,'Répertoire des produits'!$1:$1048576,3,FALSE)","v":"03179070184013"},{"$f":"VLOOKUP($B10,'Répertoire des produits'!$1:$1048576,2,FALSE)","v":"Vin rg petits formats"},{"$f":"CONCATENATE(Tableau1[[#This Row],[Code\nArticle]]&\",\"&Tableau1[[#This Row],[Nom du produit]]&\",\"&Tableau1[[#This Row],[Format]]&\",\"&Tableau1[[#This Row],[UVC]]&\",\"&Tableau1[[#This Row],[CUP]]&\",\"&Tableau1[[#This Row],[Catégorie]])","v":"464669,Cellier des Dauphins Prestige Côtes du Rhône,250,24,03179070184013,Vin rg petits formats"}]
[3,11184933,null,{"$f":"VLOOKUP($B11,'Répertoire des produits'!$1:$1048576,4,FALSE)","v":"Shiraz/Malbec Fuzion Zuccardi Mendoza"},{"$f":"VLOOKUP($B11,'Répertoire des produits'!$1:$1048576,5,FALSE)","v":375},{"$f":"VLOOKUP($B11,'Répertoire des produits'!$1:$1048576,6,FALSE)","v":24},{"$f":"VLOOKUP($B11,'Répertoire des produits'!$1:$1048576,3,FALSE)","v":"07791728023107"},{"$f":"VLOOKUP($B11,'Répertoire des produits'!$1:$1048576,2,FALSE)","v":"Vin rg petits formats"},{"$f":"CONCATENATE(Tableau1[[#This Row],[Code\nArticle]]&\",\"&Tableau1[[#This Row],[Nom du produit]]&\",\"&Tableau1[[#This Row],[Format]]&\",\"&Tableau1[[#This Row],[UVC]]&\",\"&Tableau1[[#This Row],[CUP]]&\",\"&Tableau1[[#This Row],[Catégorie]])","v":"11184933,Shiraz/Malbec Fuzion Zuccardi Mendoza,375,24,07791728023107,Vin rg petits formats"}]
[4,123778,null,{"$f":"VLOOKUP($B12,'Répertoire des produits'!$1:$1048576,4,FALSE)","v":"Benjamin Brunel Rasteau Côtes du Rhône Villages"},{"$f":"VLOOKUP($B12,'Répertoire des produits'!$1:$1048576,5,FALSE)","v":750},{"$f":"VLOOKUP($B12,'Répertoire des produits'!$1:$1048576,6,FALSE)","v":12},{"$f":"VLOOKUP($B12,'Répertoire des produits'!$1:$1048576,3,FALSE)","v":"03760168120008"},{"$f":"VLOOKUP($B12,'Répertoire des produits'!$1:$1048576,2,FALSE)","v":"Vin rg France Vallée du Rhône"},{"$f":"CONCATENATE(Tableau1[[#This Row],[Code\nArticle]]&\",\"&Tableau1[[#This Row],[Nom du produit]]&\",\"&Tableau1[[#This Row],[Format]]&\",\"&Tableau1[[#This Row],[UVC]]&\",\"&Tableau1[[#This Row],[CUP]]&\",\"&Tableau1[[#This Row],[Catégorie]])","v":"123778,Benjamin Brunel Rasteau Côtes du Rhône Villages,750,12,03760168120008,Vin rg France Vallée du Rhône"}]
[5,23358,null,{"$f":"VLOOKUP($B13,'Répertoire des produits'!$1:$1048576,4,FALSE)","v":"J. Lebègue Saint-Emilion"},{"$f":"VLOOKUP($B13,'Répertoire des produits'!$1:$1048576,5,FALSE)","v":750},{"$f":"VLOOKUP($B13,'Répertoire des produits'!$1:$1048576,6,FALSE)","v":12},{"$f":"VLOOKUP($B13,'Répertoire des produits'!$1:$1048576,3,FALSE)","v":"00618726000046"},{"$f":"VLOOKUP($B13,'Répertoire des produits'!$1:$1048576,2,FALSE)","v":"Vin rg France Bordeaux"},{"$f":"CONCATENATE(Tableau1[[#This Row],[Code\nArticle]]&\",\"&Tableau1[[#This Row],[Nom du produit]]&\",\"&Tableau1[[#This Row],[Format]]&\",\"&Tableau1[[#This Row],[UVC]]&\",\"&Tableau1[[#This Row],[CUP]]&\",\"&Tableau1[[#This Row],[Catégorie]])","v":"23358,J. Lebègue Saint-Emilion,750,12,00618726000046,Vin rg France Bordeaux"}]
[6,237875,null,{"$f":"VLOOKUP($B14,'Répertoire des produits'!$1:$1048576,4,FALSE)","v":"Bourgogne Pinot noir Réserve Chèvre noire Boisseaux-Estivan"},{"$f":"VLOOKUP($B14,'Répertoire des produits'!$1:$1048576,5,FALSE)","v":750},{"$f":"VLOOKUP($B14,'Répertoire des produits'!$1:$1048576,6,FALSE)","v":12},{"$f":"VLOOKUP($B14,'Répertoire des produits'!$1:$1048576,3,FALSE)","v":"03700061600207"},{"$f":"VLOOKUP($B14,'Répertoire des produits'!$1:$1048576,2,FALSE)","v":"Vin rg France Bourgogne"},{"$f":"CONCATENATE(Tableau1[[#This Row],[Code\nArticle]]&\",\"&Tableau1[[#This Row],[Nom du produit]]&\",\"&Tableau1[[#This Row],[Format]]&\",\"&Tableau1[[#This Row],[UVC]]&\",\"&Tableau1[[#This Row],[CUP]]&\",\"&Tableau1[[#This Row],[Catégorie]])","v":"237875,Bourgogne Pinot noir Réserve Chèvre noire Boisseaux-Estivan,750,12,03700061600207,Vin rg France Bourgogne"}]
[7,70540,null,{"$f":"VLOOKUP($B15,'Répertoire des produits'!$1:$1048576,4,FALSE)","v":"Brouilly Georges Duboeuf"},{"$f":"VLOOKUP($B15,'Répertoire des produits'!$1:$1048576,5,FALSE)","v":750},{"$f":"VLOOKUP($B15,'Répertoire des produits'!$1:$1048576,6,FALSE)","v":12},{"$f":"VLOOKUP($B15,'Répertoire des produits'!$1:$1048576,3,FALSE)","v":"03351650001662"},{"$f":"VLOOKUP($B15,'Répertoire des produits'!$1:$1048576,2,FALSE)","v":"Vin rg France Beaujolais"},{"$f":"CONCATENATE(Tableau1[[#This Row],[Code\nArticle]]&\",\"&Tableau1[[#This Row],[Nom du produit]]&\",\"&Tableau1[[#This Row],[Format]]&\",\"&Tableau1[[#This Row],[UVC]]&\",\"&Tableau1[[#This Row],[CUP]]&\",\"&Tableau1[[#This Row],[Catégorie]])","v":"70540,Brouilly Georges Duboeuf,750,12,03351650001662,Vin rg France Beaujolais"}]
[8,628123,null,{"$f":"VLOOKUP($B16,'Répertoire des produits'!$1:$1048576,4,FALSE)","v":"Brouilly Mignot"},{"$f":"VLOOKUP($B16,'Répertoire des produits'!$1:$1048576,5,FALSE)","v":750},{"$f":"VLOOKUP($B16,'Répertoire des produits'!$1:$1048576,6,FALSE)","v":12},{"$f":"VLOOKUP($B16,'Répertoire des produits'!$1:$1048576,3,FALSE)","v":"03257651018886"},{"$f":"VLOOKUP($B16,'Répertoire des produits'!$1:$1048576,2,FALSE)","v":"Vin rg France Beaujolais"},{"$f":"CONCATENATE(Tableau1[[#This Row],[Code\nArticle]]&\",\"&Tableau1[[#This Row],[Nom du produit]]&\",\"&Tableau1[[#This Row],[Format]]&\",\"&Tableau1[[#This Row],[UVC]]&\",\"&Tableau1[[#This Row],[CUP]]&\",\"&Tableau1[[#This Row],[Catégorie]])","v":"628123,Brouilly Mignot,750,12,03257651018886,Vin rg France Beaujolais"}]
[9,13152142,null,"merlot grand sud",1000,12,null,"vin rouge de France",{"$f":"CONCATENATE(Tableau1[[#This Row],[Code\nArticle]]&\",\"&Tableau1[[#This Row],[Nom du produit]]&\",\"&Tableau1[[#This Row],[Format]]&\",\"&Tableau1[[#This Row],[UVC]]&\",\"&Tableau1[[#This Row],[CUP]]&\",\"&Tableau1[[#This Row],[Catégorie]])","v":"13152142,merlot grand sud,1000,12,,vin rouge de France"}]
[10,12167211,null,{"$f":"VLOOKUP($B18,'Répertoire des produits'!$1:$1048576,4,FALSE)","v":"Vive la vie"},{"$f":"VLOOKUP($B18,'Répertoire des produits'!$1:$1048576,5,FALSE)","v":750},{"$f":"VLOOKUP($B18,'Répertoire des produits'!$1:$1048576,6,FALSE)","v":12},{"$f":"VLOOKUP($B18,'Répertoire des produits'!$1:$1048576,3,FALSE)","v":"03263280111270"},{"$f":"VLOOKUP($B18,'Répertoire des produits'!$1:$1048576,2,FALSE)","v":"Vin rg France autres régions"},{"$f":"CONCATENATE(Tableau1[[#This Row],[Code\nArticle]]&\",\"&Tableau1[[#This Row],[Nom du produit]]&\",\"&Tableau1[[#This Row],[Format]]&\",\"&Tableau1[[#This Row],[UVC]]&\",\"&Tableau1[[#This Row],[CUP]]&\",\"&Tableau1[[#This Row],[Catégorie]])","v":"12167211,Vive la vie,750,12,03263280111270,Vin rg France autres régions"}]
[11,857177,null,{"$f":"VLOOKUP($B19,'Répertoire des produits'!$1:$1048576,4,FALSE)","v":"Clos la Coutale Cahors"},{"$f":"VLOOKUP($B19,'Répertoire des produits'!$1:$1048576,5,FALSE)","v":750},{"$f":"VLOOKUP($B19,'Répertoire des produits'!$1:$1048576,6,FALSE)","v":12},{"$f":"VLOOKUP($B19,'Répertoire des produits'!$1:$1048576,3,FALSE)","v":"03499290000017"},{"$f":"VLOOKUP($B19,'Répertoire des produits'!$1:$1048576,2,FALSE)","v":"Vin rg France Sud-Ouest"},{"$f":"CONCATENATE(Tableau1[[#This Row],[Code\nArticle]]&\",\"&Tableau1[[#This Row],[Nom du produit]]&\",\"&Tableau1[[#This Row],[Format]]&\",\"&Tableau1[[#This Row],[UVC]]&\",\"&Tableau1[[#This Row],[CUP]]&\",\"&Tableau1[[#This Row],[Catégorie]])","v":"857177,Clos la Coutale Cahors,750,12,03499290000017,Vin rg France Sud-Ouest"}]
[12,221218,null,{"$f":"VLOOKUP($B20,'Répertoire des produits'!$1:$1048576,4,FALSE)","v":"Comte André de Monpezat Cahors"},{"$f":"VLOOKUP($B20,'Répertoire des produits'!$1:$1048576,5,FALSE)","v":750},{"$f":"VLOOKUP($B20,'Répertoire des produits'!$1:$1048576,6,FALSE)","v":12},{"$f":"VLOOKUP($B20,'Répertoire des produits'!$1:$1048576,3,FALSE)","v":"03180611046646"},{"$f":"VLOOKUP($B20,'Répertoire des produits'!$1:$1048576,2,FALSE)","v":"Vin rg France Sud-Ouest"},{"$f":"CONCATENATE(Tableau1[[#This Row],[Code\nArticle]]&\",\"&Tableau1[[#This Row],[Nom du produit]]&\",\"&Tableau1[[#This Row],[Format]]&\",\"&Tableau1[[#This Row],[UVC]]&\",\"&Tableau1[[#This Row],[CUP]]&\",\"&Tableau1[[#This Row],[Catégorie]])","v":"221218,Comte André de Monpezat Cahors,750,12,03180611046646,Vin rg France Sud-Ouest"}]
[13,943,null,{"$f":"VLOOKUP($B21,'Répertoire des produits'!$1:$1048576,4,FALSE)","v":"Mouton Cadet Bordeaux"},{"$f":"VLOOKUP($B21,'Répertoire des produits'!$1:$1048576,5,FALSE)","v":750},{"$f":"VLOOKUP($B21,'Répertoire des produits'!$1:$1048576,6,FALSE)","v":12},{"$f":"VLOOKUP($B21,'Répertoire des produits'!$1:$1048576,3,FALSE)","v":"03262151001757"},{"$f":"VLOOKUP($B21,'Répertoire des produits'!$1:$1048576,2,FALSE)","v":"Vin rg France Bordeaux"},{"$f":"CONCATENATE(Tableau1[[#This Row],[Code\nArticle]]&\",\"&Tableau1[[#This Row],[Nom du produit]]&\",\"&Tableau1[[#This Row],[Format]]&\",\"&Tableau1[[#This Row],[UVC]]&\",\"&Tableau1[[#This Row],[CUP]]&\",\"&Tableau1[[#This Row],[Catégorie]])","v":"943,Mouton Cadet Bordeaux,750,12,03262151001757,Vin rg France Bordeaux"}]
[14,303529,null,{"$f":"VLOOKUP($B22,'Répertoire des produits'!$1:$1048576,4,FALSE)","v":"Château St-Didier-Parnac Cahors"},{"$f":"VLOOKUP($B22,'Répertoire des produits'!$1:$1048576,5,FALSE)","v":750},{"$f":"VLOOKUP($B22,'Répertoire des produits'!$1:$1048576,6,FALSE)","v":12},{"$f":"VLOOKUP($B22,'Répertoire des produits'!$1:$1048576,3,FALSE)","v":"03180611029175"},{"$f":"VLOOKUP($B22,'Répertoire des produits'!$1:$1048576,2,FALSE)","v":"Vin rg France Sud-Ouest"},{"$f":"CONCATENATE(Tableau1[[#This Row],[Code\nArticle]]&\",\"&Tableau1[[#This Row],[Nom du produit]]&\",\"&Tableau1[[#This Row],[Format]]&\",\"&Tableau1[[#This Row],[UVC]]&\",\"&Tableau1[[#This Row],[CUP]]&\",\"&Tableau1[[#This Row],[Catégorie]])","v":"303529,Château St-Didier-Parnac Cahors,750,12,03180611029175,Vin rg France Sud-Ouest"}]
[15,10802904,null,{"$f":"VLOOKUP($B23,'Répertoire des produits'!$1:$1048576,4,FALSE)","v":"Pinot noir Les Jamelles vin de pays d'Oc"},{"$f":"VLOOKUP($B23,'Répertoire des produits'!$1:$1048576,5,FALSE)","v":750},{"$f":"VLOOKUP($B23,'Répertoire des produits'!$1:$1048576,6,FALSE)","v":12},{"$f":"VLOOKUP($B23,'Répertoire des produits'!$1:$1048576,3,FALSE)","v":"03525490013240"},{"$f":"VLOOKUP($B23,'Répertoire des produits'!$1:$1048576,2,FALSE)","v":"Vin rg France Languedoc"},{"$f":"CONCATENATE(Tableau1[[#This Row],[Code\nArticle]]&\",\"&Tableau1[[#This Row],[Nom du produit]]&\",\"&Tableau1[[#This Row],[Format]]&\",\"&Tableau1[[#This Row],[UVC]]&\",\"&Tableau1[[#This Row],[CUP]]&\",\"&Tableau1[[#This Row],[Catégorie]])","v":"10802904,Pinot noir Les Jamelles vin de pays d'Oc,750,12,03525490013240,Vin rg France Languedoc"}]
[16,10374997,null,{"$f":"VLOOKUP($B24,'Répertoire des produits'!$1:$1048576,4,FALSE)","v":"Pinot noir De La Chevalière vin de pays d'Oc"},{"$f":"VLOOKUP($B24,'Répertoire des produits'!$1:$1048576,5,FALSE)","v":750},{"$f":"VLOOKUP($B24,'Répertoire des produits'!$1:$1048576,6,FALSE)","v":12},{"$f":"VLOOKUP($B24,'Répertoire des produits'!$1:$1048576,3,FALSE)","v":"03546680019415"},{"$f":"VLOOKUP($B24,'Répertoire des produits'!$1:$1048576,2,FALSE)","v":"Vin rg France Languedoc"},{"$f":"CONCATENATE(Tableau1[[#This Row],[Code\nArticle]]&\",\"&Tableau1[[#This Row],[Nom du produit]]&\",\"&Tableau1[[#This Row],[Format]]&\",\"&Tableau1[[#This Row],[UVC]]&\",\"&Tableau1[[#This Row],[CUP]]&\",\"&Tableau1[[#This Row],[Catégorie]])","v":"10374997,Pinot noir De La Chevalière vin de pays d'Oc,750,12,03546680019415,Vin rg France Languedoc"}]
[17,365924,null,{"$f":"VLOOKUP($B25,'Répertoire des produits'!$1:$1048576,4,FALSE)","v":"Beaujolais Villages Combe aux Jacques Louis Jadot"},{"$f":"VLOOKUP($B25,'Répertoire des produits'!$1:$1048576,5,FALSE)","v":750},{"$f":"VLOOKUP($B25,'Répertoire des produits'!$1:$1048576,6,FALSE)","v":12},{"$f":"VLOOKUP($B25,'Répertoire des produits'!$1:$1048576,3,FALSE)","v":"03535923001003"},{"$f":"VLOOKUP($B25,'Répertoire des produits'!$1:$1048576,2,FALSE)","v":"Vin rg France Beaujolais"},{"$f":"CONCATENATE(Tableau1[[#This Row],[Code\nArticle]]&\",\"&Tableau1[[#This Row],[Nom du produit]]&\",\"&Tableau1[[#This Row],[Format]]&\",\"&Tableau1[[#This Row],[UVC]]&\",\"&Tableau1[[#This Row],[CUP]]&\",\"&Tableau1[[#This Row],[Catégorie]])","v":"365924,Beaujolais Villages Combe aux Jacques Louis Jadot,750,12,03535923001003,Vin rg France Beaujolais"}]
[18,2881,null,{"$f":"VLOOKUP($B26,'Répertoire des produits'!$1:$1048576,4,FALSE)","v":"Beaujolais Pisse-Dru Noémie Vernaux"},{"$f":"VLOOKUP($B26,'Répertoire des produits'!$1:$1048576,5,FALSE)","v":750},{"$f":"VLOOKUP($B26,'Répertoire des produits'!$1:$1048576,6,FALSE)","v":12},{"$f":"VLOOKUP($B26,'Répertoire des produits'!$1:$1048576,3,FALSE)","v":"03040072510509"},{"$f":"VLOOKUP($B26,'Répertoire des produits'!$1:$1048576,2,FALSE)","v":"Vin rg France Beaujolais"},{"$f":"CONCATENATE(Tableau1[[#This Row],[Code\nArticle]]&\",\"&Tableau1[[#This Row],[Nom du produit]]&\",\"&Tableau1[[#This Row],[Format]]&\",\"&Tableau1[[#This Row],[UVC]]&\",\"&Tableau1[[#This Row],[CUP]]&\",\"&Tableau1[[#This Row],[Catégorie]])","v":"2881,Beaujolais Pisse-Dru Noémie Vernaux,750,12,03040072510509,Vin rg France Beaujolais"}]
[19,11374391,null,{"$f":"VLOOKUP($B27,'Répertoire des produits'!$1:$1048576,4,FALSE)","v":"Terre à Terre Corbières"},{"$f":"VLOOKUP($B27,'Répertoire des produits'!$1:$1048576,5,FALSE)","v":750},{"$f":"VLOOKUP($B27,'Répertoire des produits'!$1:$1048576,6,FALSE)","v":12},{"$f":"VLOOKUP($B27,'Répertoire des produits'!$1:$1048576,3,FALSE)","v":"03564732005094"},{"$f":"VLOOKUP($B27,'Répertoire des produits'!$1:$1048576,2,FALSE)","v":"Vin rg France Languedoc"},{"$f":"CONCATENATE(Tableau1[[#This Row],[Code\nArticle]]&\",\"&Tableau1[[#This Row],[Nom du produit]]&\",\"&Tableau1[[#This Row],[Format]]&\",\"&Tableau1[[#This Row],[UVC]]&\",\"&Tableau1[[#This Row],[CUP]]&\",\"&Tableau1[[#This Row],[Catégorie]])","v":"11374391,Terre à Terre Corbières,750,12,03564732005094,Vin rg France Languedoc"}]
[20,331090,null,{"$f":"VLOOKUP($B28,'Répertoire des produits'!$1:$1048576,4,FALSE)","v":"Grande Réserve des Challières Côtes du Ventoux"},{"$f":"VLOOKUP($B28,'Répertoire des produits'!$1:$1048576,5,FALSE)","v":750},{"$f":"VLOOKUP($B28,'Répertoire des produits'!$1:$1048576,6,FALSE)","v":12},{"$f":"VLOOKUP($B28,'Répertoire des produits'!$1:$1048576,3,FALSE)","v":"03260980006110"},{"$f":"VLOOKUP($B28,'Répertoire des produits'!$1:$1048576,2,FALSE)","v":"Vin rg France Vallée du Rhône"},{"$f":"CONCATENATE(Tableau1[[#This Row],[Code\nArticle]]&\",\"&Tableau1[[#This Row],[Nom du produit]]&\",\"&Tableau1[[#This Row],[Format]]&\",\"&Tableau1[[#This Row],[UVC]]&\",\"&Tableau1[[#This Row],[CUP]]&\",\"&Tableau1[[#This Row],[Catégorie]])","v":"331090,Grande Réserve des Challières Côtes du Ventoux,750,12,03260980006110,Vin rg France Vallée du Rhône"}]
[21,11459482,null,"beaujolais fun georges duboeuf",750,12,null,"vin rouge France",{"$f":"CONCATENATE(Tableau1[[#This Row],[Code\nArticle]]&\",\"&Tableau1[[#This Row],[Nom du produit]]&\",\"&Tableau1[[#This Row],[Format]]&\",\"&Tableau1[[#This Row],[UVC]]&\",\"&Tableau1[[#This Row],[CUP]]&\",\"&Tableau1[[#This Row],[Catégorie]])","v":"11459482,beaujolais fun georges duboeuf,750,12,,vin rouge France"}]
[22,10536757,null,{"$f":"VLOOKUP($B30,'Répertoire des produits'!$1:$1048576,4,FALSE)","v":"Cab.-Sauv./Syrah J.P. Chenet vin de pays d'Oc"},{"$f":"VLOOKUP($B30,'Répertoire des produits'!$1:$1048576,5,FALSE)","v":750},{"$f":"VLOOKUP($B30,'Répertoire des produits'!$1:$1048576,6,FALSE)","v":12},{"$f":"VLOOKUP($B30,'Répertoire des produits'!$1:$1048576,3,FALSE)","v":"03263286301323"},{"$f":"VLOOKUP($B30,'Répertoire des produits'!$1:$1048576,2,FALSE)","v":"Vin rg France Languedoc"},{"$f":"CONCATENATE(Tableau1[[#This Row],[Code\nArticle]]&\",\"&Tableau1[[#This Row],[Nom du produit]]&\",\"&Tableau1[[#This Row],[Format]]&\",\"&Tableau1[[#This Row],[UVC]]&\",\"&Tableau1[[#This Row],[CUP]]&\",\"&Tableau1[[#This Row],[Catégorie]])","v":"10536757,Cab.-Sauv./Syrah J.P. Chenet vin de pays d'Oc,750,12,03263286301323,Vin rg France Languedoc"}]
[23,485557,null,{"$f":"VLOOKUP($B31,'Répertoire des produits'!$1:$1048576,4,FALSE)","v":"Merlot/Cabernet J.P. Chenet vin de pays d'Oc"},{"$f":"VLOOKUP($B31,'Répertoire des produits'!$1:$1048576,5,FALSE)","v":750},{"$f":"VLOOKUP($B31,'Répertoire des produits'!$1:$1048576,6,FALSE)","v":12},{"$f":"VLOOKUP($B31,'Répertoire des produits'!$1:$1048576,3,FALSE)","v":"03500610014789"},{"$f":"VLOOKUP($B31,'Répertoire des produits'!$1:$1048576,2,FALSE)","v":"Vin rg France Languedoc"},{"$f":"CONCATENATE(Tableau1[[#This Row],[Code\nArticle]]&\",\"&Tableau1[[#This Row],[Nom du produit]]&\",\"&Tableau1[[#This Row],[Format]]&\",\"&Tableau1[[#This Row],[UVC]]&\",\"&Tableau1[[#This Row],[CUP]]&\",\"&Tableau1[[#This Row],[Catégorie]])","v":"485557,Merlot/Cabernet J.P. Chenet vin de pays d'Oc,750,12,03500610014789,Vin rg France Languedoc"}]
[24,11095949,null,"LA MONTAGNETTE SIGNARGUES RHONE",750,12,null,"VIN ROUGE FRANCE",{"$f":"CONCATENATE(Tableau1[[#This Row],[Code\nArticle]]&\",\"&Tableau1[[#This Row],[Nom du produit]]&\",\"&Tableau1[[#This Row],[Format]]&\",\"&Tableau1[[#This Row],[UVC]]&\",\"&Tableau1[[#This Row],[CUP]]&\",\"&Tableau1[[#This Row],[Catégorie]])","v":"11095949,LA MONTAGNETTE SIGNARGUES RHONE,750,12,,VIN ROUGE FRANCE"}]
[25,570036,null,"LA BOURREROI COLLECTION",750,12,null,"VIN ROUGE FRANCE",{"$f":"CONCATENATE(Tableau1[[#This Row],[Code\nArticle]]&\",\"&Tableau1[[#This Row],[Nom du produit]]&\",\"&Tableau1[[#This Row],[Format]]&\",\"&Tableau1[[#This Row],[UVC]]&\",\"&Tableau1[[#This Row],[CUP]]&\",\"&Tableau1[[#This Row],[Catégorie]])","v":"570036,LA BOURREROI COLLECTION,750,12,,VIN ROUGE FRANCE"}]
[26,263640,null,{"$f":"VLOOKUP($B34,'Répertoire des produits'!$1:$1048576,4,FALSE)","v":"La Vieille Ferme Côtes du Ventoux"},{"$f":"VLOOKUP($B34,'Répertoire des produits'!$1:$1048576,5,FALSE)","v":750},{"$f":"VLOOKUP($B34,'Répertoire des produits'!$1:$1048576,6,FALSE)","v":12},{"$f":"VLOOKUP($B34,'Répertoire des produits'!$1:$1048576,3,FALSE)","v":"00631470000018"},{"$f":"VLOOKUP($B34,'Répertoire des produits'!$1:$1048576,2,FALSE)","v":"Vin rg France Vallée du Rhône"},{"$f":"CONCATENATE(Tableau1[[#This Row],[Code\nArticle]]&\",\"&Tableau1[[#This Row],[Nom du produit]]&\",\"&Tableau1[[#This Row],[Format]]&\",\"&Tableau1[[#This Row],[UVC]]&\",\"&Tableau1[[#This Row],[CUP]]&\",\"&Tableau1[[#This Row],[Catégorie]])","v":"263640,La Vieille Ferme Côtes du Ventoux,750,12,00631470000018,Vin rg France Vallée du Rhône"}]
[27,10846026,null,{"$f":"VLOOKUP($B35,'Répertoire des produits'!$1:$1048576,4,FALSE)","v":"Pinot noir/Syrah C'Est La Vie vin de pays d'Oc"},{"$f":"VLOOKUP($B35,'Répertoire des produits'!$1:$1048576,5,FALSE)","v":750},{"$f":"VLOOKUP($B35,'Répertoire des produits'!$1:$1048576,6,FALSE)","v":12},{"$f":"VLOOKUP($B35,'Répertoire des produits'!$1:$1048576,3,FALSE)","v":"00087113115227"},{"$f":"VLOOKUP($B35,'Répertoire des produits'!$1:$1048576,2,FALSE)","v":"Vin rg France Languedoc"},{"$f":"CONCATENATE(Tableau1[[#This Row],[Code\nArticle]]&\",\"&Tableau1[[#This Row],[Nom du produit]]&\",\"&Tableau1[[#This Row],[Format]]&\",\"&Tableau1[[#This Row],[UVC]]&\",\"&Tableau1[[#This Row],[CUP]]&\",\"&Tableau1[[#This Row],[Catégorie]])","v":"10846026,Pinot noir/Syrah C'Est La Vie vin de pays d'Oc,750,12,00087113115227,Vin rg France Languedoc"}]
[28,122077,null,{"$f":"VLOOKUP($B36,'Répertoire des produits'!$1:$1048576,4,FALSE)","v":"Beaujolais Villages Georges Duboeuf"},{"$f":"VLOOKUP($B36,'Répertoire des produits'!$1:$1048576,5,FALSE)","v":750},{"$f":"VLOOKUP($B36,'Répertoire des produits'!$1:$1048576,6,FALSE)","v":12},{"$f":"VLOOKUP($B36,'Répertoire des produits'!$1:$1048576,3,FALSE)","v":"03351650000078"},{"$f":"VLOOKUP($B36,'Répertoire des produits'!$1:$1048576,2,FALSE)","v":"Vin rg France Beaujolais"},{"$f":"CONCATENATE(Tableau1[[#This Row],[Code\nArticle]]&\",\"&Tableau1[[#This Row],[Nom du produit]]&\",\"&Tableau1[[#This Row],[Format]]&\",\"&Tableau1[[#This Row],[UVC]]&\",\"&Tableau1[[#This Row],[CUP]]&\",\"&Tableau1[[#This Row],[Catégorie]])","v":"122077,Beaujolais Villages Georges Duboeuf,750,12,03351650000078,Vin rg France Beaujolais"}]
[29,11676145,null,{"$f":"VLOOKUP($B37,'Répertoire des produits'!$1:$1048576,4,FALSE)","v":"Grenache/Syrah Gérard Bertrand Grand Terroir C.d.R. Tautavel"},{"$f":"VLOOKUP($B37,'Répertoire des produits'!$1:$1048576,5,FALSE)","v":750},{"$f":"VLOOKUP($B37,'Répertoire des produits'!$1:$1048576,6,FALSE)","v":12},{"$f":"VLOOKUP($B37,'Répertoire des produits'!$1:$1048576,3,FALSE)","v":"03514124231037"},{"$f":"VLOOKUP($B37,'Répertoire des produits'!$1:$1048576,2,FALSE)","v":"Vin rg France Languedoc"},{"$f":"CONCATENATE(Tableau1[[#This Row],[Code\nArticle]]&\",\"&Tableau1[[#This Row],[Nom du produit]]&\",\"&Tableau1[[#This Row],[Format]]&\",\"&Tableau1[[#This Row],[UVC]]&\",\"&Tableau1[[#This Row],[CUP]]&\",\"&Tableau1[[#This Row],[Catégorie]])","v":"11676145,Grenache/Syrah Gérard Bertrand Grand Terroir C.d.R. Tautavel,750,12,03514124231037,Vin rg France Languedoc"}]
[30,508879,null,{"$f":"VLOOKUP($B38,'Répertoire des produits'!$1:$1048576,4,FALSE)","v":"Carrelot des Amants Côtes du Brulhois"},{"$f":"VLOOKUP($B38,'Répertoire des produits'!$1:$1048576,5,FALSE)","v":750},{"$f":"VLOOKUP($B38,'Répertoire des produits'!$1:$1048576,6,FALSE)","v":12},{"$f":"VLOOKUP($B38,'Répertoire des produits'!$1:$1048576,3,FALSE)","v":"03586610000441"},{"$f":"VLOOKUP($B38,'Répertoire des produits'!$1:$1048576,2,FALSE)","v":"Vin rg France Sud-Ouest"},{"$f":"CONCATENATE(Tableau1[[#This Row],[Code\nArticle]]&\",\"&Tableau1[[#This Row],[Nom du produit]]&\",\"&Tableau1[[#This Row],[Format]]&\",\"&Tableau1[[#This Row],[UVC]]&\",\"&Tableau1[[#This Row],[CUP]]&\",\"&Tableau1[[#This Row],[Catégorie]])","v":"508879,Carrelot des Amants Côtes du Brulhois,750,12,03586610000441,Vin rg France Sud-Ouest"}]
[31,10915263,null,{"$f":"VLOOKUP($B39,'Répertoire des produits'!$1:$1048576,4,FALSE)","v":"Château Saint-Antoine Réserve du Château Bordeaux supérieur"},{"$f":"VLOOKUP($B39,'Répertoire des produits'!$1:$1048576,5,FALSE)","v":750},{"$f":"VLOOKUP($B39,'Répertoire des produits'!$1:$1048576,6,FALSE)","v":12},{"$f":"VLOOKUP($B39,'Répertoire des produits'!$1:$1048576,3,FALSE)","v":"03573420305316"},{"$f":"VLOOKUP($B39,'Répertoire des produits'!$1:$1048576,2,FALSE)","v":"Vin rg France Bordeaux"},{"$f":"CONCATENATE(Tableau1[[#This Row],[Code\nArticle]]&\",\"&Tableau1[[#This Row],[Nom du produit]]&\",\"&Tableau1[[#This Row],[Format]]&\",\"&Tableau1[[#This Row],[UVC]]&\",\"&Tableau1[[#This Row],[CUP]]&\",\"&Tableau1[[#This Row],[Catégorie]])","v":"10915263,Château Saint-Antoine Réserve du Château Bordeaux supérieur,750,12,03573420305316,Vin rg France Bordeaux"}]
[32,292904,null,{"$f":"VLOOKUP($B40,'Répertoire des produits'!$1:$1048576,4,FALSE)","v":"Croix Saint-Martin Bordeaux"},{"$f":"VLOOKUP($B40,'Répertoire des produits'!$1:$1048576,5,FALSE)","v":750},{"$f":"VLOOKUP($B40,'Répertoire des produits'!$1:$1048576,6,FALSE)","v":12},{"$f":"VLOOKUP($B40,'Répertoire des produits'!$1:$1048576,3,FALSE)","v":"03258691243115"},{"$f":"VLOOKUP($B40,'Répertoire des produits'!$1:$1048576,2,FALSE)","v":"Vin rg France Bordeaux"},{"$f":"CONCATENATE(Tableau1[[#This Row],[Code\nArticle]]&\",\"&Tableau1[[#This Row],[Nom du produit]]&\",\"&Tableau1[[#This Row],[Format]]&\",\"&Tableau1[[#This Row],[UVC]]&\",\"&Tableau1[[#This Row],[CUP]]&\",\"&Tableau1[[#This Row],[Catégorie]])","v":"292904,Croix Saint-Martin Bordeaux,750,12,03258691243115,Vin rg France Bordeaux"}]
[33,12477949,null,"LES PETITS CARREAUX",750,12,{"$f":"VLOOKUP($B41,'Répertoire des produits'!$1:$1048576,3,FALSE)","v":{"$error":"#N/A"}},"VIN ROUGE FRANCE",{"$f":"CONCATENATE(Tableau1[[#This Row],[Code\nArticle]]&\",\"&Tableau1[[#This Row],[Nom du produit]]&\",\"&Tableau1[[#This Row],[Format]]&\",\"&Tableau1[[#This Row],[UVC]]&\",\"&Tableau1[[#This Row],[CUP]]&\",\"&Tableau1[[#This Row],[Catégorie]])","v":{"$error":"#N/A"}}]
[34,407544,null,{"$f":"VLOOKUP($B42,'Répertoire des produits'!$1:$1048576,4,FALSE)","v":"Merlot Baron Philippe de Rothschild vin de pays d'Oc"},{"$f":"VLOOKUP($B42,'Répertoire des produits'!$1:$1048576,5,FALSE)","v":750},{"$f":"VLOOKUP($B42,'Répertoire des produits'!$1:$1048576,6,FALSE)","v":12},{"$f":"VLOOKUP($B42,'Répertoire des produits'!$1:$1048576,3,FALSE)","v":"00083960707707"},{"$f":"VLOOKUP($B42,'Répertoire des produits'!$1:$1048576,2,FALSE)","v":"Vin rg France Languedoc"},{"$f":"CONCATENATE(Tableau1[[#This Row],[Code\nArticle]]&\",\"&Tableau1[[#This Row],[Nom du produit]]&\",\"&Tableau1[[#This Row],[Format]]&\",\"&Tableau1[[#This Row],[UVC]]&\",\"&Tableau1[[#This Row],[CUP]]&\",\"&Tableau1[[#This Row],[Catégorie]])","v":"407544,Merlot Baron Philippe de Rothschild vin de pays d'Oc,750,12,00083960707707,Vin rg France Languedoc"}]
[35,11581429,null,{"$f":"VLOOKUP($B43,'Répertoire des produits'!$1:$1048576,4,FALSE)","v":"Cabernet-Sauvignon/Syrah Etienne Marceau vin pays d'Oc"},{"$f":"VLOOKUP($B43,'Répertoire des produits'!$1:$1048576,5,FALSE)","v":1000},{"$f":"VLOOKUP($B43,'Répertoire des produits'!$1:$1048576,6,FALSE)","v":12},{"$f":"VLOOKUP($B43,'Répertoire des produits'!$1:$1048576,3,FALSE)","v":"00056049028901"},{"$f":"VLOOKUP($B43,'Répertoire des produits'!$1:$1048576,2,FALSE)","v":"Vin rg France Languedoc"},{"$f":"CONCATENATE(Tableau1[[#This Row],[Code\nArticle]]&\",\"&Tableau1[[#This Row],[Nom du produit]]&\",\"&Tableau1[[#This Row],[Format]]&\",\"&Tableau1[[#This Row],[UVC]]&\",\"&Tableau1[[#This Row],[CUP]]&\",\"&Tableau1[[#This Row],[Catégorie]])","v":"11581429,Cabernet-Sauvignon/Syrah Etienne Marceau vin pays d'Oc,1000,12,00056049028901,Vin rg France Languedoc"}]
[36,434993,null,{"$f":"VLOOKUP($B44,'Répertoire des produits'!$1:$1048576,4,FALSE)","v":"Merlot Réserve Maison Nicolas Pays d`Oc IGP"},{"$f":"VLOOKUP($B44,'Répertoire des produits'!$1:$1048576,5,FALSE)","v":750},{"$f":"VLOOKUP($B44,'Répertoire des produits'!$1:$1048576,6,FALSE)","v":12},{"$f":"VLOOKUP($B44,'Répertoire des produits'!$1:$1048576,3,FALSE)","v":"00083729002463"},{"$f":"VLOOKUP($B44,'Répertoire des produits'!$1:$1048576,2,FALSE)","v":"Vin rg France Languedoc"},{"$f":"CONCATENATE(Tableau1[[#This Row],[Code\nArticle]]&\",\"&Tableau1[[#This Row],[Nom du produit]]&\",\"&Tableau1[[#This Row],[Format]]&\",\"&Tableau1[[#This Row],[UVC]]&\",\"&Tableau1[[#This Row],[CUP]]&\",\"&Tableau1[[#This Row],[Catégorie]])","v":"434993,Merlot Réserve Maison Nicolas Pays d`Oc IGP,750,12,00083729002463,Vin rg France Languedoc"}]
[37,202499,null,{"$f":"VLOOKUP($B45,'Répertoire des produits'!$1:$1048576,4,FALSE)","v":"Château Cazal-Viel vieilles vignes Saint-Chinian"},{"$f":"VLOOKUP($B45,'Répertoire des produits'!$1:$1048576,5,FALSE)","v":750},{"$f":"VLOOKUP($B45,'Répertoire des produits'!$1:$1048576,6,FALSE)","v":12},{"$f":"VLOOKUP($B45,'Répertoire des produits'!$1:$1048576,3,FALSE)","v":"03357780000414"},{"$f":"VLOOKUP($B45,'Répertoire des produits'!$1:$1048576,2,FALSE)","v":"Vin rg France Languedoc"},{"$f":"CONCATENATE(Tableau1[[#This Row],[Code\nArticle]]&\",\"&Tableau1[[#This Row],[Nom du produit]]&\",\"&Tableau1[[#This Row],[Format]]&\",\"&Tableau1[[#This Row],[UVC]]&\",\"&Tableau1[[#This Row],[CUP]]&\",\"&Tableau1[[#This Row],[Catégorie]])","v":"202499,Château Cazal-Viel vieilles vignes Saint-Chinian,750,12,03357780000414,Vin rg France Languedoc"}]
[38,560748,null,{"$f":"VLOOKUP($B46,'Répertoire des produits'!$1:$1048576,4,FALSE)","v":"La Vieille Église Côtes du Marmandais"},{"$f":"VLOOKUP($B46,'Répertoire des produits'!$1:$1048576,5,FALSE)","v":750},{"$f":"VLOOKUP($B46,'Répertoire des produits'!$1:$1048576,6,FALSE)","v":12},{"$f":"VLOOKUP($B46,'Répertoire des produits'!$1:$1048576,3,FALSE)","v":"03468000013982"},{"$f":"VLOOKUP($B46,'Répertoire des produits'!$1:$1048576,2,FALSE)","v":"Vin rg France Sud-Ouest"},{"$f":"CONCATENATE(Tableau1[[#This Row],[Code\nArticle]]&\",\"&Tableau1[[#This Row],[Nom du produit]]&\",\"&Tableau1[[#This Row],[Format]]&\",\"&Tableau1[[#This Row],[UVC]]&\",\"&Tableau1[[#This Row],[CUP]]&\",\"&Tableau1[[#This Row],[Catégorie]])","v":"560748,La Vieille Église Côtes du Marmandais,750,12,03468000013982,Vin rg France Sud-Ouest"}]
[39,605287,null,{"$f":"VLOOKUP($B47,'Répertoire des produits'!$1:$1048576,4,FALSE)","v":"Château La Lieue Coteaux Varois en Provence"},{"$f":"VLOOKUP($B47,'Répertoire des produits'!$1:$1048576,5,FALSE)","v":750},{"$f":"VLOOKUP($B47,'Répertoire des produits'!$1:$1048576,6,FALSE)","v":12},{"$f":"VLOOKUP($B47,'Répertoire des produits'!$1:$1048576,3,FALSE)","v":"03760015200013"},{"$f":"VLOOKUP($B47,'Répertoire des produits'!$1:$1048576,2,FALSE)","v":"Vin rg France autres régions"},{"$f":"CONCATENATE(Tableau1[[#This Row],[Code\nArticle]]&\",\"&Tableau1[[#This Row],[Nom du produit]]&\",\"&Tableau1[[#This Row],[Format]]&\",\"&Tableau1[[#This Row],[UVC]]&\",\"&Tableau1[[#This Row],[CUP]]&\",\"&Tableau1[[#This Row],[Catégorie]])","v":"605287,Château La Lieue Coteaux Varois en Provence,750,12,03760015200013,Vin rg France autres régions"}]
[40,10841161,null,"cistus douro",750,12,null,"rouge  Espagne",{"$f":"CONCATENATE(Tableau1[[#This Row],[Code\nArticle]]&\",\"&Tableau1[[#This Row],[Nom du produit]]&\",\"&Tableau1[[#This Row],[Format]]&\",\"&Tableau1[[#This Row],[UVC]]&\",\"&Tableau1[[#This Row],[CUP]]&\",\"&Tableau1[[#This Row],[Catégorie]])","v":"10841161,cistus douro,750,12,,rouge  Espagne"}]
[41,854422,null,{"$f":"VLOOKUP($B49,'Répertoire des produits'!$1:$1048576,4,FALSE)","v":"Monasterio de Las Vinas Reserva Carinena"},{"$f":"VLOOKUP($B49,'Répertoire des produits'!$1:$1048576,5,FALSE)","v":750},{"$f":"VLOOKUP($B49,'Répertoire des produits'!$1:$1048576,6,FALSE)","v":12},{"$f":"VLOOKUP($B49,'Répertoire des produits'!$1:$1048576,3,FALSE)","v":"08412075050231"},{"$f":"VLOOKUP($B49,'Répertoire des produits'!$1:$1048576,2,FALSE)","v":"Vin rg Espagne"},{"$f":"CONCATENATE(Tableau1[[#This Row],[Code\nArticle]]&\",\"&Tableau1[[#This Row],[Nom du produit]]&\",\"&Tableau1[[#This Row],[Format]]&\",\"&Tableau1[[#This Row],[UVC]]&\",\"&Tableau1[[#This Row],[CUP]]&\",\"&Tableau1[[#This Row],[Catégorie]])","v":"854422,Monasterio de Las Vinas Reserva Carinena,750,12,08412075050231,Vin rg Espagne"}]
[42,10324623,null,{"$f":"VLOOKUP($B50,'Répertoire des produits'!$1:$1048576,4,FALSE)","v":"Borsao Seleccion Campo de Borja"},{"$f":"VLOOKUP($B50,'Répertoire des produits'!$1:$1048576,5,FALSE)","v":750},{"$f":"VLOOKUP($B50,'Répertoire des produits'!$1:$1048576,6,FALSE)","v":12},{"$f":"VLOOKUP($B50,'Répertoire des produits'!$1:$1048576,3,FALSE)","v":"08412423120036"},{"$f":"VLOOKUP($B50,'Répertoire des produits'!$1:$1048576,2,FALSE)","v":"Vin rg Espagne"},{"$f":"CONCATENATE(Tableau1[[#This Row],[Code\nArticle]]&\",\"&Tableau1[[#This Row],[Nom du produit]]&\",\"&Tableau1[[#This Row],[Format]]&\",\"&Tableau1[[#This Row],[UVC]]&\",\"&Tableau1[[#This Row],[CUP]]&\",\"&Tableau1[[#This Row],[Catégorie]])","v":"10324623,Borsao Seleccion Campo de Borja,750,12,08412423120036,Vin rg Espagne"}]
[43,978387,null,{"$f":"VLOOKUP($B51,'Répertoire des produits'!$1:$1048576,4,FALSE)","v":"Tempranillo Hoya de Cadenas Reserva Utiel-Requena"},{"$f":"VLOOKUP($B51,'Répertoire des produits'!$1:$1048576,5,FALSE)","v":750},{"$f":"VLOOKUP($B51,'Répertoire des produits'!$1:$1048576,6,FALSE)","v":12},{"$f":"VLOOKUP($B51,'Répertoire des produits'!$1:$1048576,3,FALSE)","v":"08410310602757"},{"$f":"VLOOKUP($B51,'Répertoire des produits'!$1:$1048576,2,FALSE)","v":"Vin rg Espagne"},{"$f":"CONCATENATE(Tableau1[[#This Row],[Code\nArticle]]&\",\"&Tableau1[[#This Row],[Nom du produit]]&\",\"&Tableau1[[#This Row],[Format]]&\",\"&Tableau1[[#This Row],[UVC]]&\",\"&Tableau1[[#This Row],[CUP]]&\",\"&Tableau1[[#This Row],[Catégorie]])","v":"978387,Tempranillo Hoya de Cadenas Reserva Utiel-Requena,750,12,08410310602757,Vin rg Espagne"}]
[44,250548,null,{"$f":"VLOOKUP($B52,'Répertoire des produits'!$1:$1048576,4,FALSE)","v":"Meia Encosta Dâo"},{"$f":"VLOOKUP($B52,'Répertoire des produits'!$1:$1048576,5,FALSE)","v":750},{"$f":"VLOOKUP($B52,'Répertoire des produits'!$1:$1048576,6,FALSE)","v":12},{"$f":"VLOOKUP($B52,'Répertoire des produits'!$1:$1048576,3,FALSE)","v":"05601129034249"},{"$f":"VLOOKUP($B52,'Répertoire des produits'!$1:$1048576,2,FALSE)","v":"Vin rg Portugal"},{"$f":"CONCATENATE(Tableau1[[#This Row],[Code\nArticle]]&\",\"&Tableau1[[#This Row],[Nom du produit]]&\",\"&Tableau1[[#This Row],[Format]]&\",\"&Tableau1[[#This Row],[UVC]]&\",\"&Tableau1[[#This Row],[CUP]]&\",\"&Tableau1[[#This Row],[Catégorie]])","v":"250548,Meia Encosta Dâo,750,12,05601129034249,Vin rg Portugal"}]
[45,11462446,null,{"$f":"VLOOKUP($B53,'Répertoire des produits'!$1:$1048576,4,FALSE)","v":"Campo Viejo Rioja"},{"$f":"VLOOKUP($B53,'Répertoire des produits'!$1:$1048576,5,FALSE)","v":750},{"$f":"VLOOKUP($B53,'Répertoire des produits'!$1:$1048576,6,FALSE)","v":12},{"$f":"VLOOKUP($B53,'Répertoire des produits'!$1:$1048576,3,FALSE)","v":"08410302121006"},{"$f":"VLOOKUP($B53,'Répertoire des produits'!$1:$1048576,2,FALSE)","v":"Vin rg Espagne"},{"$f":"CONCATENATE(Tableau1[[#This Row],[Code\nArticle]]&\",\"&Tableau1[[#This Row],[Nom du produit]]&\",\"&Tableau1[[#This Row],[Format]]&\",\"&Tableau1[[#This Row],[UVC]]&\",\"&Tableau1[[#This Row],[CUP]]&\",\"&Tableau1[[#This Row],[Catégorie]])","v":"11462446,Campo Viejo Rioja,750,12,08410302121006,Vin rg Espagne"}]
[46,539528,null,{"$f":"VLOOKUP($B54,'Répertoire des produits'!$1:$1048576,4,FALSE)","v":"Monasterio de Las Vinas Crianza Carinena"},{"$f":"VLOOKUP($B54,'Répertoire des produits'!$1:$1048576,5,FALSE)","v":750},{"$f":"VLOOKUP($B54,'Répertoire des produits'!$1:$1048576,6,FALSE)","v":12},{"$f":"VLOOKUP($B54,'Répertoire des produits'!$1:$1048576,3,FALSE)","v":"08412075030233"},{"$f":"VLOOKUP($B54,'Répertoire des produits'!$1:$1048576,2,FALSE)","v":"Vin rg Espagne"},{"$f":"CONCATENATE(Tableau1[[#This Row],[Code\nArticle]]&\",\"&Tableau1[[#This Row],[Nom du produit]]&\",\"&Tableau1[[#This Row],[Format]]&\",\"&Tableau1[[#This Row],[UVC]]&\",\"&Tableau1[[#This Row],[CUP]]&\",\"&Tableau1[[#This Row],[Catégorie]])","v":"539528,Monasterio de Las Vinas Crianza Carinena,750,12,08412075030233,Vin rg Espagne"}]
[47,270363,null,{"$f":"VLOOKUP($B55,'Répertoire des produits'!$1:$1048576,4,FALSE)","v":"Castillo de Almansa Reserva Almansa"},{"$f":"VLOOKUP($B55,'Répertoire des produits'!$1:$1048576,5,FALSE)","v":750},{"$f":"VLOOKUP($B55,'Répertoire des produits'!$1:$1048576,6,FALSE)","v":12},{"$f":"VLOOKUP($B55,'Répertoire des produits'!$1:$1048576,3,FALSE)","v":"08414837010118"},{"$f":"VLOOKUP($B55,'Répertoire des produits'!$1:$1048576,2,FALSE)","v":"Vin rg Espagne"},{"$f":"CONCATENATE(Tableau1[[#This Row],[Code\nArticle]]&\",\"&Tableau1[[#This Row],[Nom du produit]]&\",\"&Tableau1[[#This Row],[Format]]&\",\"&Tableau1[[#This Row],[UVC]]&\",\"&Tableau1[[#This Row],[CUP]]&\",\"&Tableau1[[#This Row],[Catégorie]])","v":"270363,Castillo de Almansa Reserva Almansa,750,12,08414837010118,Vin rg Espagne"}]
[48,10269388,null,{"$f":"VLOOKUP($B56,'Répertoire des produits'!$1:$1048576,4,FALSE)","v":"Vinho regional Lisboa Quinta de Bons-Ventos"},{"$f":"VLOOKUP($B56,'Répertoire des produits'!$1:$1048576,5,FALSE)","v":750},{"$f":"VLOOKUP($B56,'Répertoire des produits'!$1:$1048576,6,FALSE)","v":12},{"$f":"VLOOKUP($B56,'Répertoire des produits'!$1:$1048576,3,FALSE)","v":"05604424178007"},{"$f":"VLOOKUP($B56,'Répertoire des produits'!$1:$1048576,2,FALSE)","v":"Vin rg Portugal"},{"$f":"CONCATENATE(Tableau1[[#This Row],[Code\nArticle]]&\",\"&Tableau1[[#This Row],[Nom du produit]]&\",\"&Tableau1[[#This Row],[Format]]&\",\"&Tableau1[[#This Row],[UVC]]&\",\"&Tableau1[[#This Row],[CUP]]&\",\"&Tableau1[[#This Row],[Catégorie]])","v":"10269388,Vinho regional Lisboa Quinta de Bons-Ventos,750,12,05604424178007,Vin rg Portugal"}]
[49,464388,null,{"$f":"VLOOKUP($B57,'Répertoire des produits'!$1:$1048576,4,FALSE)","v":"Vila Regia Douro"},{"$f":"VLOOKUP($B57,'Répertoire des produits'!$1:$1048576,5,FALSE)","v":750},{"$f":"VLOOKUP($B57,'Répertoire des produits'!$1:$1048576,6,FALSE)","v":12},{"$f":"VLOOKUP($B57,'Répertoire des produits'!$1:$1048576,3,FALSE)","v":"05601012414509"},{"$f":"VLOOKUP($B57,'Répertoire des produits'!$1:$1048576,2,FALSE)","v":"Vin rg Portugal"},{"$f":"CONCATENATE(Tableau1[[#This Row],[Code\nArticle]]&\",\"&Tableau1[[#This Row],[Nom du produit]]&\",\"&Tableau1[[#This Row],[Format]]&\",\"&Tableau1[[#This Row],[UVC]]&\",\"&Tableau1[[#This Row],[CUP]]&\",\"&Tableau1[[#This Row],[Catégorie]])","v":"464388,Vila Regia Douro,750,12,05601012414509,Vin rg Portugal"}]
[50,36483,null,"torres gran coronas",750,12,null,"VIN ROUGE Espagne",{"$f":"CONCATENATE(Tableau1[[#This Row],[Code\nArticle]]&\",\"&Tableau1[[#This Row],[Nom du produit]]&\",\"&Tableau1[[#This Row],[Format]]&\",\"&Tableau1[[#This Row],[UVC]]&\",\"&Tableau1[[#This Row],[CUP]]&\",\"&Tableau1[[#This Row],[Catégorie]])","v":"36483,torres gran coronas,750,12,,VIN ROUGE Espagne"}]
[51,12525120,null,"FONTEDO NICO",750,12,null,"vin rouge Portugal",{"$f":"CONCATENATE(Tableau1[[#This Row],[Code\nArticle]]&\",\"&Tableau1[[#This Row],[Nom du produit]]&\",\"&Tableau1[[#This Row],[Format]]&\",\"&Tableau1[[#This Row],[UVC]]&\",\"&Tableau1[[#This Row],[CUP]]&\",\"&Tableau1[[#This Row],[Catégorie]])","v":"12525120,FONTEDO NICO,750,12,,vin rouge Portugal"}]
[52,12989936,null,"nobella",750,12,null,"vin rg espagne",{"$f":"CONCATENATE(Tableau1[[#This Row],[Code\nArticle]]&\",\"&Tableau1[[#This Row],[Nom du produit]]&\",\"&Tableau1[[#This Row],[Format]]&\",\"&Tableau1[[#This Row],[UVC]]&\",\"&Tableau1[[#This Row],[CUP]]&\",\"&Tableau1[[#This Row],[Catégorie]])","v":"12989936,nobella,750,12,,vin rg espagne"}]
[53,10803051,null,{"$f":"VLOOKUP($B61,'Répertoire des produits'!$1:$1048576,4,FALSE)","v":"Vinho regional Alentejano Herdade das Albernoas"},{"$f":"VLOOKUP($B61,'Répertoire des produits'!$1:$1048576,5,FALSE)","v":750},{"$f":"VLOOKUP($B61,'Répertoire des produits'!$1:$1048576,6,FALSE)","v":12},{"$f":"VLOOKUP($B61,'Répertoire des produits'!$1:$1048576,3,FALSE)","v":"05607645077555"},{"$f":"VLOOKUP($B61,'Répertoire des produits'!$1:$1048576,2,FALSE)","v":"Vin rg Portugal"},{"$f":"CONCATENATE(Tableau1[[#This Row],[Code\nArticle]]&\",\"&Tableau1[[#This Row],[Nom du produit]]&\",\"&Tableau1[[#This Row],[Format]]&\",\"&Tableau1[[#This Row],[UVC]]&\",\"&Tableau1[[#This Row],[CUP]]&\",\"&Tableau1[[#This Row],[Catégorie]])","v":"10803051,Vinho regional Alentejano Herdade das Albernoas,750,12,05607645077555,Vin rg Portugal"}]
[54,11133239,null,{"$f":"VLOOKUP($B62,'Répertoire des produits'!$1:$1048576,4,FALSE)","v":"Animus Douro"},{"$f":"VLOOKUP($B62,'Répertoire des produits'!$1:$1048576,5,FALSE)","v":750},{"$f":"VLOOKUP($B62,'Répertoire des produits'!$1:$1048576,6,FALSE)","v":12},{"$f":"VLOOKUP($B62,'Répertoire des produits'!$1:$1048576,3,FALSE)","v":"05601815421216"},{"$f":"VLOOKUP($B62,'Répertoire des produits'!$1:$1048576,2,FALSE)","v":"Vin rg Portugal"},{"$f":"CONCATENATE(Tableau1[[#This Row],[Code\nArticle]]&\",\"&Tableau1[[#This Row],[Nom du produit]]&\",\"&Tableau1[[#This Row],[Format]]&\",\"&Tableau1[[#This Row],[UVC]]&\",\"&Tableau1[[#This Row],[CUP]]&\",\"&Tableau1[[#This Row],[Catégorie]])","v":"11133239,Animus Douro,750,12,05601815421216,Vin rg Portugal"}]
[55,739680,null,{"$f":"VLOOKUP($B63,'Répertoire des produits'!$1:$1048576,4,FALSE)","v":"Catedral Caves Velhas Signature Dâo"},{"$f":"VLOOKUP($B63,'Répertoire des produits'!$1:$1048576,5,FALSE)","v":750},{"$f":"VLOOKUP($B63,'Répertoire des produits'!$1:$1048576,6,FALSE)","v":12},{"$f":"VLOOKUP($B63,'Répertoire des produits'!$1:$1048576,3,FALSE)","v":"05601157210714"},{"$f":"VLOOKUP($B63,'Répertoire des produits'!$1:$1048576,2,FALSE)","v":"Vin rg Portugal"},{"$f":"CONCATENATE(Tableau1[[#This Row],[Code\nArticle]]&\",\"&Tableau1[[#This Row],[Nom du produit]]&\",\"&Tableau1[[#This Row],[Format]]&\",\"&Tableau1[[#This Row],[UVC]]&\",\"&Tableau1[[#This Row],[CUP]]&\",\"&Tableau1[[#This Row],[Catégorie]])","v":"739680,Catedral Caves Velhas Signature Dâo,750,12,05601157210714,Vin rg Portugal"}]
[56,6585,null,{"$f":"VLOOKUP($B64,'Répertoire des produits'!$1:$1048576,4,FALSE)","v":"Sangre de Toro Torres Catalunya"},{"$f":"VLOOKUP($B64,'Répertoire des produits'!$1:$1048576,5,FALSE)","v":750},{"$f":"VLOOKUP($B64,'Répertoire des produits'!$1:$1048576,6,FALSE)","v":12},{"$f":"VLOOKUP($B64,'Répertoire des produits'!$1:$1048576,3,FALSE)","v":"08410113003027"},{"$f":"VLOOKUP($B64,'Répertoire des produits'!$1:$1048576,2,FALSE)","v":"Vin rg Espagne"},{"$f":"CONCATENATE(Tableau1[[#This Row],[Code\nArticle]]&\",\"&Tableau1[[#This Row],[Nom du produit]]&\",\"&Tableau1[[#This Row],[Format]]&\",\"&Tableau1[[#This Row],[UVC]]&\",\"&Tableau1[[#This Row],[CUP]]&\",\"&Tableau1[[#This Row],[Catégorie]])","v":"6585,Sangre de Toro Torres Catalunya,750,12,08410113003027,Vin rg Espagne"}]
[57,624296,null,{"$f":"VLOOKUP($B65,'Répertoire des produits'!$1:$1048576,4,FALSE)","v":"Garnacha Castillo de Monseran Carinena"},{"$f":"VLOOKUP($B65,'Répertoire des produits'!$1:$1048576,5,FALSE)","v":750},{"$f":"VLOOKUP($B65,'Répertoire des produits'!$1:$1048576,6,FALSE)","v":12},{"$f":"VLOOKUP($B65,'Répertoire des produits'!$1:$1048576,3,FALSE)","v":"03378630306227"},{"$f":"VLOOKUP($B65,'Répertoire des produits'!$1:$1048576,2,FALSE)","v":"Vin rg Espagne"},{"$f":"CONCATENATE(Tableau1[[#This Row],[Code\nArticle]]&\",\"&Tableau1[[#This Row],[Nom du produit]]&\",\"&Tableau1[[#This Row],[Format]]&\",\"&Tableau1[[#This Row],[UVC]]&\",\"&Tableau1[[#This Row],[CUP]]&\",\"&Tableau1[[#This Row],[Catégorie]])","v":"624296,Garnacha Castillo de Monseran Carinena,750,12,03378630306227,Vin rg Espagne"}]
[58,10858086,null,"JUAN GIL",{"$f":"VLOOKUP($B66,'Répertoire des produits'!$1:$1048576,5,FALSE)","v":750},null,{"$f":"VLOOKUP($B66,'Répertoire des produits'!$1:$1048576,3,FALSE)","v":"08437005068001"},{"$f":"VLOOKUP($B66,'Répertoire des produits'!$1:$1048576,2,FALSE)","v":"Vin rg Espagne"},{"$f":"CONCATENATE(Tableau1[[#This Row],[Code\nArticle]]&\",\"&Tableau1[[#This Row],[Nom du produit]]&\",\"&Tableau1[[#This Row],[Format]]&\",\"&Tableau1[[#This Row],[UVC]]&\",\"&Tableau1[[#This Row],[CUP]]&\",\"&Tableau1[[#This Row],[Catégorie]])","v":"10858086,JUAN GIL,750,,08437005068001,Vin rg Espagne"}]
[59,11766917,null,{"$f":"VLOOKUP($B67,'Répertoire des produits'!$1:$1048576,4,FALSE)","v":"Sangiovese/Merlot Iove Umberto Cesari Rubicone i.g.t."},{"$f":"VLOOKUP($B67,'Répertoire des produits'!$1:$1048576,5,FALSE)","v":750},{"$f":"VLOOKUP($B67,'Répertoire des produits'!$1:$1048576,6,FALSE)","v":12},{"$f":"VLOOKUP($B67,'Répertoire des produits'!$1:$1048576,3,FALSE)","v":"00818276001191"},{"$f":"VLOOKUP($B67,'Répertoire des produits'!$1:$1048576,2,FALSE)","v":"Vin rg Italie autres régions"},{"$f":"CONCATENATE(Tableau1[[#This Row],[Code\nArticle]]&\",\"&Tableau1[[#This Row],[Nom du produit]]&\",\"&Tableau1[[#This Row],[Format]]&\",\"&Tableau1[[#This Row],[UVC]]&\",\"&Tableau1[[#This Row],[CUP]]&\",\"&Tableau1[[#This Row],[Catégorie]])","v":"11766917,Sangiovese/Merlot Iove Umberto Cesari Rubicone i.g.t.,750,12,00818276001191,Vin rg Italie autres régions"}]
[60,240416,null,{"$f":"VLOOKUP($B68,'Répertoire des produits'!$1:$1048576,4,FALSE)","v":"Montresor Amarone della Valpolicella"},{"$f":"VLOOKUP($B68,'Répertoire des produits'!$1:$1048576,5,FALSE)","v":750},{"$f":"VLOOKUP($B68,'Répertoire des produits'!$1:$1048576,6,FALSE)","v":12},{"$f":"VLOOKUP($B68,'Répertoire des produits'!$1:$1048576,3,FALSE)","v":"08003503000555"},{"$f":"VLOOKUP($B68,'Répertoire des produits'!$1:$1048576,2,FALSE)","v":"Vin rg Italie Vénétie"},{"$f":"CONCATENATE(Tableau1[[#This Row],[Code\nArticle]]&\",\"&Tableau1[[#This Row],[Nom du produit]]&\",\"&Tableau1[[#This Row],[Format]]&\",\"&Tableau1[[#This Row],[UVC]]&\",\"&Tableau1[[#This Row],[CUP]]&\",\"&Tableau1[[#This Row],[Catégorie]])","v":"240416,Montresor Amarone della Valpolicella,750,12,08003503000555,Vin rg Italie Vénétie"}]
[61,963389,null,{"$f":"VLOOKUP($B69,'Répertoire des produits'!$1:$1048576,4,FALSE)","v":"Cabernet-Sauvignon Farnito Carpineto Toscana i.g.t."},{"$f":"VLOOKUP($B69,'Répertoire des produits'!$1:$1048576,5,FALSE)","v":750},{"$f":"VLOOKUP($B69,'Répertoire des produits'!$1:$1048576,6,FALSE)","v":6},{"$f":"VLOOKUP($B69,'Répertoire des produits'!$1:$1048576,3,FALSE)","v":"08003015700127"},{"$f":"VLOOKUP($B69,'Répertoire des produits'!$1:$1048576,2,FALSE)","v":"Vin rg Italie Toscane"},{"$f":"CONCATENATE(Tableau1[[#This Row],[Code\nArticle]]&\",\"&Tableau1[[#This Row],[Nom du produit]]&\",\"&Tableau1[[#This Row],[Format]]&\",\"&Tableau1[[#This Row],[UVC]]&\",\"&Tableau1[[#This Row],[CUP]]&\",\"&Tableau1[[#This Row],[Catégorie]])","v":"963389,Cabernet-Sauvignon Farnito Carpineto Toscana i.g.t.,750,6,08003015700127,Vin rg Italie Toscane"}]
[62,12042603,null,{"$f":"VLOOKUP($B70,'Répertoire des produits'!$1:$1048576,4,FALSE)","v":"Sangiovese/Cab.-Sauv. Liano Umberto Cesari Rubicone i.g.t."},{"$f":"VLOOKUP($B70,'Répertoire des produits'!$1:$1048576,5,FALSE)","v":750},{"$f":"VLOOKUP($B70,'Répertoire des produits'!$1:$1048576,6,FALSE)","v":12},{"$f":"VLOOKUP($B70,'Répertoire des produits'!$1:$1048576,3,FALSE)","v":"00818276000217"},{"$f":"VLOOKUP($B70,'Répertoire des produits'!$1:$1048576,2,FALSE)","v":"Vin rg Italie autres régions"},{"$f":"CONCATENATE(Tableau1[[#This Row],[Code\nArticle]]&\",\"&Tableau1[[#This Row],[Nom du produit]]&\",\"&Tableau1[[#This Row],[Format]]&\",\"&Tableau1[[#This Row],[UVC]]&\",\"&Tableau1[[#This Row],[CUP]]&\",\"&Tableau1[[#This Row],[Catégorie]])","v":"12042603,Sangiovese/Cab.-Sauv. Liano Umberto Cesari Rubicone i.g.t.,750,12,00818276000217,Vin rg Italie autres régions"}]
[63,160358,null,{"$f":"VLOOKUP($B71,'Répertoire des produits'!$1:$1048576,4,FALSE)","v":"Merlot Donini Delle Venezie i.g.t."},{"$f":"VLOOKUP($B71,'Répertoire des produits'!$1:$1048576,5,FALSE)","v":1000},{"$f":"VLOOKUP($B71,'Répertoire des produits'!$1:$1048576,6,FALSE)","v":12},{"$f":"VLOOKUP($B71,'Répertoire des produits'!$1:$1048576,3,FALSE)","v":"08000160615214"},{"$f":"VLOOKUP($B71,'Répertoire des produits'!$1:$1048576,2,FALSE)","v":"Vin rg Italie Vénétie"},{"$f":"CONCATENATE(Tableau1[[#This Row],[Code\nArticle]]&\",\"&Tableau1[[#This Row],[Nom du produit]]&\",\"&Tableau1[[#This Row],[Format]]&\",\"&Tableau1[[#This Row],[UVC]]&\",\"&Tableau1[[#This Row],[CUP]]&\",\"&Tableau1[[#This Row],[Catégorie]])","v":"160358,Merlot Donini Delle Venezie i.g.t.,1000,12,08000160615214,Vin rg Italie Vénétie"}]
[64,155051,null,{"$f":"VLOOKUP($B72,'Répertoire des produits'!$1:$1048576,4,FALSE)","v":"Campofiorin Masi Veronese i.g.t."},{"$f":"VLOOKUP($B72,'Répertoire des produits'!$1:$1048576,5,FALSE)","v":750},{"$f":"VLOOKUP($B72,'Répertoire des produits'!$1:$1048576,6,FALSE)","v":12},{"$f":"VLOOKUP($B72,'Répertoire des produits'!$1:$1048576,3,FALSE)","v":"08002062000068"},{"$f":"VLOOKUP($B72,'Répertoire des produits'!$1:$1048576,2,FALSE)","v":"Vin rg Italie Vénétie"},{"$f":"CONCATENATE(Tableau1[[#This Row],[Code\nArticle]]&\",\"&Tableau1[[#This Row],[Nom du produit]]&\",\"&Tableau1[[#This Row],[Format]]&\",\"&Tableau1[[#This Row],[UVC]]&\",\"&Tableau1[[#This Row],[CUP]]&\",\"&Tableau1[[#This Row],[Catégorie]])","v":"155051,Campofiorin Masi Veronese i.g.t.,750,12,08002062000068,Vin rg Italie Vénétie"}]
[{"$f":"ROW(C73)-8","v":65},443036,null,{"$f":"VLOOKUP($B73,'Répertoire des produits'!$1:$1048576,4,FALSE)","v":"Sangiovese Giacondi Rubicone i.g.t."},{"$f":"VLOOKUP($B73,'Répertoire des produits'!$1:$1048576,5,FALSE)","v":1000},{"$f":"VLOOKUP($B73,'Répertoire des produits'!$1:$1048576,6,FALSE)","v":12},{"$f":"VLOOKUP($B73,'Répertoire des produits'!$1:$1048576,3,FALSE)","v":"08032610310547"},{"$f":"VLOOKUP($B73,'Répertoire des produits'!$1:$1048576,2,FALSE)","v":"Vin rg Italie autres régions"},{"$f":"CONCATENATE(Tableau1[[#This Row],[Code\nArticle]]&\",\"&Tableau1[[#This Row],[Nom du produit]]&\",\"&Tableau1[[#This Row],[Format]]&\",\"&Tableau1[[#This Row],[UVC]]&\",\"&Tableau1[[#This Row],[CUP]]&\",\"&Tableau1[[#This Row],[Catégorie]])","v":"443036,Sangiovese Giacondi Rubicone i.g.t.,1000,12,08032610310547,Vin rg Italie autres régions"}]
[66,11676604,null,{"$f":"VLOOKUP($B74,'Répertoire des produits'!$1:$1048576,4,FALSE)","v":"Sangiovese/Cabernet-Sauvignon Farnese Soluna Terre du Chieti"},{"$f":"VLOOKUP($B74,'Répertoire des produits'!$1:$1048576,5,FALSE)","v":750},{"$f":"VLOOKUP($B74,'Répertoire des produits'!$1:$1048576,6,FALSE)","v":12},{"$f":"VLOOKUP($B74,'Répertoire des produits'!$1:$1048576,3,FALSE)","v":"08019873724540"},{"$f":"VLOOKUP($B74,'Répertoire des produits'!$1:$1048576,2,FALSE)","v":"Vin rg Italie autres régions"},{"$f":"CONCATENATE(Tableau1[[#This Row],[Code\nArticle]]&\",\"&Tableau1[[#This Row],[Nom du produit]]&\",\"&Tableau1[[#This Row],[Format]]&\",\"&Tableau1[[#This Row],[UVC]]&\",\"&Tableau1[[#This Row],[CUP]]&\",\"&Tableau1[[#This Row],[Catégorie]])","v":"11676604,Sangiovese/Cabernet-Sauvignon Farnese Soluna Terre du Chieti,750,12,08019873724540,Vin rg Italie autres régions"}]
[67,10669242,null,{"$f":"VLOOKUP($B75,'Répertoire des produits'!$1:$1048576,4,FALSE)","v":"Ripasso Sartori Valpolicella Superiore"},{"$f":"VLOOKUP($B75,'Répertoire des produits'!$1:$1048576,5,FALSE)","v":750},{"$f":"VLOOKUP($B75,'Répertoire des produits'!$1:$1048576,6,FALSE)","v":12},{"$f":"VLOOKUP($B75,'Répertoire des produits'!$1:$1048576,3,FALSE)","v":"08005390008058"},{"$f":"VLOOKUP($B75,'Répertoire des produits'!$1:$1048576,2,FALSE)","v":"Vin rg Italie Vénétie"},{"$f":"CONCATENATE(Tableau1[[#This Row],[Code\nArticle]]&\",\"&Tableau1[[#This Row],[Nom du produit]]&\",\"&Tableau1[[#This Row],[Format]]&\",\"&Tableau1[[#This Row],[UVC]]&\",\"&Tableau1[[#This Row],[CUP]]&\",\"&Tableau1[[#This Row],[Catégorie]])","v":"10669242,Ripasso Sartori Valpolicella Superiore,750,12,08005390008058,Vin rg Italie Vénétie"}]
[68,1743,null,{"$f":"VLOOKUP($B76,'Répertoire des produits'!$1:$1048576,4,FALSE)","v":"Ruffino Chianti"},{"$f":"VLOOKUP($B76,'Répertoire des produits'!$1:$1048576,5,FALSE)","v":750},{"$f":"VLOOKUP($B76,'Répertoire des produits'!$1:$1048576,6,FALSE)","v":12},{"$f":"VLOOKUP($B76,'Répertoire des produits'!$1:$1048576,3,FALSE)","v":"08001660101757"},{"$f":"VLOOKUP($B76,'Répertoire des produits'!$1:$1048576,2,FALSE)","v":"Vin rg Italie Toscane"},{"$f":"CONCATENATE(Tableau1[[#This Row],[Code\nArticle]]&\",\"&Tableau1[[#This Row],[Nom du produit]]&\",\"&Tableau1[[#This Row],[Format]]&\",\"&Tableau1[[#This Row],[UVC]]&\",\"&Tableau1[[#This Row],[CUP]]&\",\"&Tableau1[[#This Row],[Catégorie]])","v":"1743,Ruffino Chianti,750,12,08001660101757,Vin rg Italie Toscane"}]
[69,26021,null,{"$f":"VLOOKUP($B77,'Répertoire des produits'!$1:$1048576,4,FALSE)","v":"Sartori Valpolicella Superiore"},{"$f":"VLOOKUP($B77,'Répertoire des produits'!$1:$1048576,5,FALSE)","v":750},{"$f":"VLOOKUP($B77,'Répertoire des produits'!$1:$1048576,6,FALSE)","v":12},{"$f":"VLOOKUP($B77,'Répertoire des produits'!$1:$1048576,3,FALSE)","v":"08005390065105"},{"$f":"VLOOKUP($B77,'Répertoire des produits'!$1:$1048576,2,FALSE)","v":"Vin rg Italie Vénétie"},{"$f":"CONCATENATE(Tableau1[[#This Row],[Code\nArticle]]&\",\"&Tableau1[[#This Row],[Nom du produit]]&\",\"&Tableau1[[#This Row],[Format]]&\",\"&Tableau1[[#This Row],[UVC]]&\",\"&Tableau1[[#This Row],[CUP]]&\",\"&Tableau1[[#This Row],[Catégorie]])","v":"26021,Sartori Valpolicella Superiore,750,12,08005390065105,Vin rg Italie Vénétie"}]
[70,533026,null,{"$f":"VLOOKUP($B78,'Répertoire des produits'!$1:$1048576,4,FALSE)","v":"Modello Masi Delle Venezie i.g.t."},{"$f":"VLOOKUP($B78,'Répertoire des produits'!$1:$1048576,5,FALSE)","v":750},{"$f":"VLOOKUP($B78,'Répertoire des produits'!$1:$1048576,6,FALSE)","v":12},{"$f":"VLOOKUP($B78,'Répertoire des produits'!$1:$1048576,3,FALSE)","v":"08002062001522"},{"$f":"VLOOKUP($B78,'Répertoire des produits'!$1:$1048576,2,FALSE)","v":"Vin rg Italie Vénétie"},{"$f":"CONCATENATE(Tableau1[[#This Row],[Code\nArticle]]&\",\"&Tableau1[[#This Row],[Nom du produit]]&\",\"&Tableau1[[#This Row],[Format]]&\",\"&Tableau1[[#This Row],[UVC]]&\",\"&Tableau1[[#This Row],[CUP]]&\",\"&Tableau1[[#This Row],[Catégorie]])","v":"533026,Modello Masi Delle Venezie i.g.t.,750,12,08002062001522,Vin rg Italie Vénétie"}]
[71,10270442,null,{"$f":"VLOOKUP($B79,'Répertoire des produits'!$1:$1048576,4,FALSE)","v":"Folonari Valpolicella"},{"$f":"VLOOKUP($B79,'Répertoire des produits'!$1:$1048576,5,FALSE)","v":750},{"$f":"VLOOKUP($B79,'Répertoire des produits'!$1:$1048576,6,FALSE)","v":12},{"$f":"VLOOKUP($B79,'Répertoire des produits'!$1:$1048576,3,FALSE)","v":"08000160632402"},{"$f":"VLOOKUP($B79,'Répertoire des produits'!$1:$1048576,2,FALSE)","v":"Vin rg Italie Vénétie"},{"$f":"CONCATENATE(Tableau1[[#This Row],[Code\nArticle]]&\",\"&Tableau1[[#This Row],[Nom du produit]]&\",\"&Tableau1[[#This Row],[Format]]&\",\"&Tableau1[[#This Row],[UVC]]&\",\"&Tableau1[[#This Row],[CUP]]&\",\"&Tableau1[[#This Row],[Catégorie]])","v":"10270442,Folonari Valpolicella,750,12,08000160632402,Vin rg Italie Vénétie"}]
[72,11905809,null,{"$f":"VLOOKUP($B80,'Répertoire des produits'!$1:$1048576,4,FALSE)","v":"Nero d'Avola/Petit Verdot Nari Firriato Sicilia IGT"},{"$f":"VLOOKUP($B80,'Répertoire des produits'!$1:$1048576,5,FALSE)","v":750},{"$f":"VLOOKUP($B80,'Répertoire des produits'!$1:$1048576,6,FALSE)","v":12},{"$f":"VLOOKUP($B80,'Répertoire des produits'!$1:$1048576,3,FALSE)","v":"08002815405706"},{"$f":"VLOOKUP($B80,'Répertoire des produits'!$1:$1048576,2,FALSE)","v":"Vin rg Italie Sicile Sardaigne"},{"$f":"CONCATENATE(Tableau1[[#This Row],[Code\nArticle]]&\",\"&Tableau1[[#This Row],[Nom du produit]]&\",\"&Tableau1[[#This Row],[Format]]&\",\"&Tableau1[[#This Row],[UVC]]&\",\"&Tableau1[[#This Row],[CUP]]&\",\"&Tableau1[[#This Row],[Catégorie]])","v":"11905809,Nero d'Avola/Petit Verdot Nari Firriato Sicilia IGT,750,12,08002815405706,Vin rg Italie Sicile Sardaigne"}]
[73,11315446,null,{"$f":"VLOOKUP($B81,'Répertoire des produits'!$1:$1048576,4,FALSE)","v":"Ricossa Barbera d'Asti"},{"$f":"VLOOKUP($B81,'Répertoire des produits'!$1:$1048576,5,FALSE)","v":750},{"$f":"VLOOKUP($B81,'Répertoire des produits'!$1:$1048576,6,FALSE)","v":12},{"$f":"VLOOKUP($B81,'Répertoire des produits'!$1:$1048576,3,FALSE)","v":"00851241000577"},{"$f":"VLOOKUP($B81,'Répertoire des produits'!$1:$1048576,2,FALSE)","v":"Vin rg Italie Piémont"},{"$f":"CONCATENATE(Tableau1[[#This Row],[Code\nArticle]]&\",\"&Tableau1[[#This Row],[Nom du produit]]&\",\"&Tableau1[[#This Row],[Format]]&\",\"&Tableau1[[#This Row],[UVC]]&\",\"&Tableau1[[#This Row],[CUP]]&\",\"&Tableau1[[#This Row],[Catégorie]])","v":"11315446,Ricossa Barbera d'Asti,750,12,00851241000577,Vin rg Italie Piémont"}]
[74,964569,null,{"$f":"VLOOKUP($B82,'Répertoire des produits'!$1:$1048576,4,FALSE)","v":"Campolieti Ripasso Valpo Superiore Classico"},{"$f":"VLOOKUP($B82,'Répertoire des produits'!$1:$1048576,5,FALSE)","v":750},{"$f":"VLOOKUP($B82,'Répertoire des produits'!$1:$1048576,6,FALSE)","v":12},{"$f":"VLOOKUP($B82,'Répertoire des produits'!$1:$1048576,3,FALSE)","v":"08016963000041"},{"$f":"VLOOKUP($B82,'Répertoire des produits'!$1:$1048576,2,FALSE)","v":"Vin rg Italie Vénétie"},{"$f":"CONCATENATE(Tableau1[[#This Row],[Code\nArticle]]&\",\"&Tableau1[[#This Row],[Nom du produit]]&\",\"&Tableau1[[#This Row],[Format]]&\",\"&Tableau1[[#This Row],[UVC]]&\",\"&Tableau1[[#This Row],[CUP]]&\",\"&Tableau1[[#This Row],[Catégorie]])","v":"964569,Campolieti Ripasso Valpo Superiore Classico,750,12,08016963000041,Vin rg Italie Vénétie"}]
[75,10703834,null,{"$f":"VLOOKUP($B83,'Répertoire des produits'!$1:$1048576,4,FALSE)","v":"Mara Valpolicella Ripasso Superiore Classico"},{"$f":"VLOOKUP($B83,'Répertoire des produits'!$1:$1048576,5,FALSE)","v":750},{"$f":"VLOOKUP($B83,'Répertoire des produits'!$1:$1048576,6,FALSE)","v":12},{"$f":"VLOOKUP($B83,'Répertoire des produits'!$1:$1048576,3,FALSE)","v":"08000834312005"},{"$f":"VLOOKUP($B83,'Répertoire des produits'!$1:$1048576,2,FALSE)","v":"Vin rg Italie Vénétie"},{"$f":"CONCATENATE(Tableau1[[#This Row],[Code\nArticle]]&\",\"&Tableau1[[#This Row],[Nom du produit]]&\",\"&Tableau1[[#This Row],[Format]]&\",\"&Tableau1[[#This Row],[UVC]]&\",\"&Tableau1[[#This Row],[CUP]]&\",\"&Tableau1[[#This Row],[Catégorie]])","v":"10703834,Mara Valpolicella Ripasso Superiore Classico,750,12,08000834312005,Vin rg Italie Vénétie"}]
[76,10960777,null,"cusumane",750,12,null,"Vin rg Italie",{"$f":"CONCATENATE(Tableau1[[#This Row],[Code\nArticle]]&\",\"&Tableau1[[#This Row],[Nom du produit]]&\",\"&Tableau1[[#This Row],[Format]]&\",\"&Tableau1[[#This Row],[UVC]]&\",\"&Tableau1[[#This Row],[CUP]]&\",\"&Tableau1[[#This Row],[Catégorie]])","v":"10960777,cusumane,750,12,,Vin rg Italie"}]
[77,565283,null,{"$f":"VLOOKUP($B85,'Répertoire des produits'!$1:$1048576,4,FALSE)","v":"Medoro Umani Ronchi Marche i.g.t."},{"$f":"VLOOKUP($B85,'Répertoire des produits'!$1:$1048576,5,FALSE)","v":750},{"$f":"VLOOKUP($B85,'Répertoire des produits'!$1:$1048576,6,FALSE)","v":12},{"$f":"VLOOKUP($B85,'Répertoire des produits'!$1:$1048576,3,FALSE)","v":"08032853720479"},{"$f":"VLOOKUP($B85,'Répertoire des produits'!$1:$1048576,2,FALSE)","v":"Vin rg Italie autres régions"},{"$f":"CONCATENATE(Tableau1[[#This Row],[Code\nArticle]]&\",\"&Tableau1[[#This Row],[Nom du produit]]&\",\"&Tableau1[[#This Row],[Format]]&\",\"&Tableau1[[#This Row],[UVC]]&\",\"&Tableau1[[#This Row],[CUP]]&\",\"&Tableau1[[#This Row],[Catégorie]])","v":"565283,Medoro Umani Ronchi Marche i.g.t.,750,12,08032853720479,Vin rg Italie autres régions"}]
[78,485565,null,{"$f":"VLOOKUP($B86,'Répertoire des produits'!$1:$1048576,4,FALSE)","v":"Merlot Vivolo di Sasso Veneto i.g.t."},{"$f":"VLOOKUP($B86,'Répertoire des produits'!$1:$1048576,5,FALSE)","v":750},{"$f":"VLOOKUP($B86,'Répertoire des produits'!$1:$1048576,6,FALSE)","v":12},{"$f":"VLOOKUP($B86,'Répertoire des produits'!$1:$1048576,3,FALSE)","v":"08008863004113"},{"$f":"VLOOKUP($B86,'Répertoire des produits'!$1:$1048576,2,FALSE)","v":"Vin rg Italie Vénétie"},{"$f":"CONCATENATE(Tableau1[[#This Row],[Code\nArticle]]&\",\"&Tableau1[[#This Row],[Nom du produit]]&\",\"&Tableau1[[#This Row],[Format]]&\",\"&Tableau1[[#This Row],[UVC]]&\",\"&Tableau1[[#This Row],[CUP]]&\",\"&Tableau1[[#This Row],[Catégorie]])","v":"485565,Merlot Vivolo di Sasso Veneto i.g.t.,750,12,08008863004113,Vin rg Italie Vénétie"}]
[79,11254452,null,{"$f":"VLOOKUP($B87,'Répertoire des produits'!$1:$1048576,4,FALSE)","v":"Negroamaro Mezzo Mondo Puglia IGT"},{"$f":"VLOOKUP($B87,'Répertoire des produits'!$1:$1048576,5,FALSE)","v":750},{"$f":"VLOOKUP($B87,'Répertoire des produits'!$1:$1048576,6,FALSE)","v":12},{"$f":"VLOOKUP($B87,'Répertoire des produits'!$1:$1048576,3,FALSE)","v":"05010134009317"},{"$f":"VLOOKUP($B87,'Répertoire des produits'!$1:$1048576,2,FALSE)","v":"Vin rg Italie autres régions"},{"$f":"CONCATENATE(Tableau1[[#This Row],[Code\nArticle]]&\",\"&Tableau1[[#This Row],[Nom du produit]]&\",\"&Tableau1[[#This Row],[Format]]&\",\"&Tableau1[[#This Row],[UVC]]&\",\"&Tableau1[[#This Row],[CUP]]&\",\"&Tableau1[[#This Row],[Catégorie]])","v":"11254452,Negroamaro Mezzo Mondo Puglia IGT,750,12,05010134009317,Vin rg Italie autres régions"}]
[80,10542647,null,{"$f":"VLOOKUP($B88,'Répertoire des produits'!$1:$1048576,4,FALSE)","v":"Il Brecciarolo Rosso Piceno superiore"},{"$f":"VLOOKUP($B88,'Répertoire des produits'!$1:$1048576,5,FALSE)","v":750},{"$f":"VLOOKUP($B88,'Répertoire des produits'!$1:$1048576,6,FALSE)","v":12},{"$f":"VLOOKUP($B88,'Répertoire des produits'!$1:$1048576,3,FALSE)","v":"00666056000090"},{"$f":"VLOOKUP($B88,'Répertoire des produits'!$1:$1048576,2,FALSE)","v":"Vin rg Italie autres régions"},{"$f":"CONCATENATE(Tableau1[[#This Row],[Code\nArticle]]&\",\"&Tableau1[[#This Row],[Nom du produit]]&\",\"&Tableau1[[#This Row],[Format]]&\",\"&Tableau1[[#This Row],[UVC]]&\",\"&Tableau1[[#This Row],[CUP]]&\",\"&Tableau1[[#This Row],[Catégorie]])","v":"10542647,Il Brecciarolo Rosso Piceno superiore,750,12,00666056000090,Vin rg Italie autres régions"}]
[81,103861,null,{"$f":"VLOOKUP($B89,'Répertoire des produits'!$1:$1048576,4,FALSE)","v":"Citra Montepulciano d'Abruzzo"},{"$f":"VLOOKUP($B89,'Répertoire des produits'!$1:$1048576,5,FALSE)","v":1000},{"$f":"VLOOKUP($B89,'Répertoire des produits'!$1:$1048576,6,FALSE)","v":12},{"$f":"VLOOKUP($B89,'Répertoire des produits'!$1:$1048576,3,FALSE)","v":"00008005493001"},{"$f":"VLOOKUP($B89,'Répertoire des produits'!$1:$1048576,2,FALSE)","v":"Vin rg Italie autres régions"},{"$f":"CONCATENATE(Tableau1[[#This Row],[Code\nArticle]]&\",\"&Tableau1[[#This Row],[Nom du produit]]&\",\"&Tableau1[[#This Row],[Format]]&\",\"&Tableau1[[#This Row],[UVC]]&\",\"&Tableau1[[#This Row],[CUP]]&\",\"&Tableau1[[#This Row],[Catégorie]])","v":"103861,Citra Montepulciano d'Abruzzo,1000,12,00008005493001,Vin rg Italie autres régions"}]
[82,409888,null,{"$f":"VLOOKUP($B90,'Répertoire des produits'!$1:$1048576,4,FALSE)","v":"Bottero Veneto i.g.t."},{"$f":"VLOOKUP($B90,'Répertoire des produits'!$1:$1048576,5,FALSE)","v":1000},{"$f":"VLOOKUP($B90,'Répertoire des produits'!$1:$1048576,6,FALSE)","v":12},{"$f":"VLOOKUP($B90,'Répertoire des produits'!$1:$1048576,3,FALSE)","v":"08008863004076"},{"$f":"VLOOKUP($B90,'Répertoire des produits'!$1:$1048576,2,FALSE)","v":"Vin rg Italie Vénétie"},{"$f":"CONCATENATE(Tableau1[[#This Row],[Code\nArticle]]&\",\"&Tableau1[[#This Row],[Nom du produit]]&\",\"&Tableau1[[#This Row],[Format]]&\",\"&Tableau1[[#This Row],[UVC]]&\",\"&Tableau1[[#This Row],[CUP]]&\",\"&Tableau1[[#This Row],[Catégorie]])","v":"409888,Bottero Veneto i.g.t.,1000,12,08008863004076,Vin rg Italie Vénétie"}]
[83,10678464,null,{"$f":"VLOOKUP($B91,'Répertoire des produits'!$1:$1048576,4,FALSE)","v":"The Wolftrap Western Cape"},{"$f":"VLOOKUP($B91,'Répertoire des produits'!$1:$1048576,5,FALSE)","v":750},{"$f":"VLOOKUP($B91,'Répertoire des produits'!$1:$1048576,6,FALSE)","v":12},{"$f":"VLOOKUP($B91,'Répertoire des produits'!$1:$1048576,3,FALSE)","v":"00746925000564"},{"$f":"VLOOKUP($B91,'Répertoire des produits'!$1:$1048576,2,FALSE)","v":"Vin rg Afrique du Sud"},{"$f":"CONCATENATE(Tableau1[[#This Row],[Code\nArticle]]&\",\"&Tableau1[[#This Row],[Nom du produit]]&\",\"&Tableau1[[#This Row],[Format]]&\",\"&Tableau1[[#This Row],[UVC]]&\",\"&Tableau1[[#This Row],[CUP]]&\",\"&Tableau1[[#This Row],[Catégorie]])","v":"10678464,The Wolftrap Western Cape,750,12,00746925000564,Vin rg Afrique du Sud"}]
[84,430611,null,{"$f":"VLOOKUP($B92,'Répertoire des produits'!$1:$1048576,4,FALSE)","v":"Malbec Trapiche fût de chêne réserve Mendoza"},{"$f":"VLOOKUP($B92,'Répertoire des produits'!$1:$1048576,5,FALSE)","v":750},{"$f":"VLOOKUP($B92,'Répertoire des produits'!$1:$1048576,6,FALSE)","v":12},{"$f":"VLOOKUP($B92,'Répertoire des produits'!$1:$1048576,3,FALSE)","v":"07790240072808"},{"$f":"VLOOKUP($B92,'Répertoire des produits'!$1:$1048576,2,FALSE)","v":"Vin rg Argentine"},{"$f":"CONCATENATE(Tableau1[[#This Row],[Code\nArticle]]&\",\"&Tableau1[[#This Row],[Nom du produit]]&\",\"&Tableau1[[#This Row],[Format]]&\",\"&Tableau1[[#This Row],[UVC]]&\",\"&Tableau1[[#This Row],[CUP]]&\",\"&Tableau1[[#This Row],[Catégorie]])","v":"430611,Malbec Trapiche fût de chêne réserve Mendoza,750,12,07790240072808,Vin rg Argentine"}]
[85,10327630,null,"SABASTIANI CABERNET SAUVIGNION",750,12,null,"VIN ROUGE E.U",{"$f":"CONCATENATE(Tableau1[[#This Row],[Code\nArticle]]&\",\"&Tableau1[[#This Row],[Nom du produit]]&\",\"&Tableau1[[#This Row],[Format]]&\",\"&Tableau1[[#This Row],[UVC]]&\",\"&Tableau1[[#This Row],[CUP]]&\",\"&Tableau1[[#This Row],[Catégorie]])","v":"10327630,SABASTIANI CABERNET SAUVIGNION,750,12,,VIN ROUGE E.U"}]
[86,10669883,null,"RESERVANIETO SENETER MALBEC",{"$f":"VLOOKUP($B94,'Répertoire des produits'!$1:$1048576,5,FALSE)","v":750},12,{"$f":"VLOOKUP($B94,'Répertoire des produits'!$1:$1048576,3,FALSE)","v":"07793440700502"},{"$f":"VLOOKUP($B94,'Répertoire des produits'!$1:$1048576,2,FALSE)","v":"Vin rg Argentine"},{"$f":"CONCATENATE(Tableau1[[#This Row],[Code\nArticle]]&\",\"&Tableau1[[#This Row],[Nom du produit]]&\",\"&Tableau1[[#This Row],[Format]]&\",\"&Tableau1[[#This Row],[UVC]]&\",\"&Tableau1[[#This Row],[CUP]]&\",\"&Tableau1[[#This Row],[Catégorie]])","v":"10669883,RESERVANIETO SENETER MALBEC,750,12,07793440700502,Vin rg Argentine"}]
[87,898502,null,{"$f":"VLOOKUP($B95,'Répertoire des produits'!$1:$1048576,4,FALSE)","v":"Shiraz Reserve Jacob's Creek Barossa"},{"$f":"VLOOKUP($B95,'Répertoire des produits'!$1:$1048576,5,FALSE)","v":750},{"$f":"VLOOKUP($B95,'Répertoire des produits'!$1:$1048576,6,FALSE)","v":12},{"$f":"VLOOKUP($B95,'Répertoire des produits'!$1:$1048576,3,FALSE)","v":"09300727140517"},{"$f":"VLOOKUP($B95,'Répertoire des produits'!$1:$1048576,2,FALSE)","v":"Vin rg Australie"},{"$f":"CONCATENATE(Tableau1[[#This Row],[Code\nArticle]]&\",\"&Tableau1[[#This Row],[Nom du produit]]&\",\"&Tableau1[[#This Row],[Format]]&\",\"&Tableau1[[#This Row],[UVC]]&\",\"&Tableau1[[#This Row],[CUP]]&\",\"&Tableau1[[#This Row],[Catégorie]])","v":"898502,Shiraz Reserve Jacob's Creek Barossa,750,12,09300727140517,Vin rg Australie"}]
[88,598623,null,{"$f":"VLOOKUP($B96,'Répertoire des produits'!$1:$1048576,4,FALSE)","v":"Shiraz/Cabernet-Sauv.Settler's Cove South Eastern Australia"},{"$f":"VLOOKUP($B96,'Répertoire des produits'!$1:$1048576,5,FALSE)","v":750},{"$f":"VLOOKUP($B96,'Répertoire des produits'!$1:$1048576,6,FALSE)","v":12},{"$f":"VLOOKUP($B96,'Répertoire des produits'!$1:$1048576,3,FALSE)","v":"00057496598627"},{"$f":"VLOOKUP($B96,'Répertoire des produits'!$1:$1048576,2,FALSE)","v":"Vin rg Australie"},{"$f":"CONCATENATE(Tableau1[[#This Row],[Code\nArticle]]&\",\"&Tableau1[[#This Row],[Nom du produit]]&\",\"&Tableau1[[#This Row],[Format]]&\",\"&Tableau1[[#This Row],[UVC]]&\",\"&Tableau1[[#This Row],[CUP]]&\",\"&Tableau1[[#This Row],[Catégorie]])","v":"598623,Shiraz/Cabernet-Sauv.Settler's Cove South Eastern Australia,750,12,00057496598627,Vin rg Australie"}]
[89,11133036,null,{"$f":"VLOOKUP($B97,'Répertoire des produits'!$1:$1048576,4,FALSE)","v":"Cabernet/Shiraz Cliff 79 South Eastern Australia"},{"$f":"VLOOKUP($B97,'Répertoire des produits'!$1:$1048576,5,FALSE)","v":750},{"$f":"VLOOKUP($B97,'Répertoire des produits'!$1:$1048576,6,FALSE)","v":12},{"$f":"VLOOKUP($B97,'Répertoire des produits'!$1:$1048576,3,FALSE)","v":"00056049021599"},{"$f":"VLOOKUP($B97,'Répertoire des produits'!$1:$1048576,2,FALSE)","v":"Vin rg Australie"},{"$f":"CONCATENATE(Tableau1[[#This Row],[Code\nArticle]]&\",\"&Tableau1[[#This Row],[Nom du produit]]&\",\"&Tableau1[[#This Row],[Format]]&\",\"&Tableau1[[#This Row],[UVC]]&\",\"&Tableau1[[#This Row],[CUP]]&\",\"&Tableau1[[#This Row],[Catégorie]])","v":"11133036,Cabernet/Shiraz Cliff 79 South Eastern Australia,750,12,00056049021599,Vin rg Australie"}]
[90,48611,null,{"$f":"VLOOKUP($B98,'Répertoire des produits'!$1:$1048576,4,FALSE)","v":"Cabernet-Sauvignon Woodbridge by Robert Mondavi Californie"},{"$f":"VLOOKUP($B98,'Répertoire des produits'!$1:$1048576,5,FALSE)","v":750},{"$f":"VLOOKUP($B98,'Répertoire des produits'!$1:$1048576,6,FALSE)","v":12},{"$f":"VLOOKUP($B98,'Répertoire des produits'!$1:$1048576,3,FALSE)","v":"00086003000094"},{"$f":"VLOOKUP($B98,'Répertoire des produits'!$1:$1048576,2,FALSE)","v":"Vin rg États-Unis"},{"$f":"CONCATENATE(Tableau1[[#This Row],[Code\nArticle]]&\",\"&Tableau1[[#This Row],[Nom du produit]]&\",\"&Tableau1[[#This Row],[Format]]&\",\"&Tableau1[[#This Row],[UVC]]&\",\"&Tableau1[[#This Row],[CUP]]&\",\"&Tableau1[[#This Row],[Catégorie]])","v":"48611,Cabernet-Sauvignon Woodbridge by Robert Mondavi Californie,750,12,00086003000094,Vin rg États-Unis"}]
[91,13358183,null,"seaside syrah",750,12,5604913508,"vinrg etats unis",{"$f":"CONCATENATE(Tableau1[[#This Row],[Code\nArticle]]&\",\"&Tableau1[[#This Row],[Nom du produit]]&\",\"&Tableau1[[#This Row],[Format]]&\",\"&Tableau1[[#This Row],[UVC]]&\",\"&Tableau1[[#This Row],[CUP]]&\",\"&Tableau1[[#This Row],[Catégorie]])","v":"13358183,seaside syrah,750,12,5604913508,vinrg etats unis"}]
[92,10967397,null,{"$f":"VLOOKUP($B100,'Répertoire des produits'!$1:$1048576,4,FALSE)","v":"Cabernet-Sauvignon Château St-Jean California"},{"$f":"VLOOKUP($B100,'Répertoire des produits'!$1:$1048576,5,FALSE)","v":750},{"$f":"VLOOKUP($B100,'Répertoire des produits'!$1:$1048576,6,FALSE)","v":12},{"$f":"VLOOKUP($B100,'Répertoire des produits'!$1:$1048576,3,FALSE)","v":"00089819796861"},{"$f":"VLOOKUP($B100,'Répertoire des produits'!$1:$1048576,2,FALSE)","v":"Vin rg États-Unis"},{"$f":"CONCATENATE(Tableau1[[#This Row],[Code\nArticle]]&\",\"&Tableau1[[#This Row],[Nom du produit]]&\",\"&Tableau1[[#This Row],[Format]]&\",\"&Tableau1[[#This Row],[UVC]]&\",\"&Tableau1[[#This Row],[CUP]]&\",\"&Tableau1[[#This Row],[Catégorie]])","v":"10967397,Cabernet-Sauvignon Château St-Jean California,750,12,00089819796861,Vin rg États-Unis"}]
[93,335174,null,{"$f":"VLOOKUP($B101,'Répertoire des produits'!$1:$1048576,4,FALSE)","v":"Cabernet-Sauvignon Errazuriz Max Reserva Aconcagua"},{"$f":"VLOOKUP($B101,'Répertoire des produits'!$1:$1048576,5,FALSE)","v":750},{"$f":"VLOOKUP($B101,'Répertoire des produits'!$1:$1048576,6,FALSE)","v":12},{"$f":"VLOOKUP($B101,'Répertoire des produits'!$1:$1048576,3,FALSE)","v":"00089046777336"},{"$f":"VLOOKUP($B101,'Répertoire des produits'!$1:$1048576,2,FALSE)","v":"Vin rg Chili"},{"$f":"CONCATENATE(Tableau1[[#This Row],[Code\nArticle]]&\",\"&Tableau1[[#This Row],[Nom du produit]]&\",\"&Tableau1[[#This Row],[Format]]&\",\"&Tableau1[[#This Row],[UVC]]&\",\"&Tableau1[[#This Row],[CUP]]&\",\"&Tableau1[[#This Row],[Catégorie]])","v":"335174,Cabernet-Sauvignon Errazuriz Max Reserva Aconcagua,750,12,00089046777336,Vin rg Chili"}]
[94,586149,null,{"$f":"VLOOKUP($B102,'Répertoire des produits'!$1:$1048576,4,FALSE)","v":"Shiraz Robertson Winery Robertson"},{"$f":"VLOOKUP($B102,'Répertoire des produits'!$1:$1048576,5,FALSE)","v":750},{"$f":"VLOOKUP($B102,'Répertoire des produits'!$1:$1048576,6,FALSE)","v":12},{"$f":"VLOOKUP($B102,'Répertoire des produits'!$1:$1048576,3,FALSE)","v":"06002039005845"},{"$f":"VLOOKUP($B102,'Répertoire des produits'!$1:$1048576,2,FALSE)","v":"Vin rg Afrique du Sud"},{"$f":"CONCATENATE(Tableau1[[#This Row],[Code\nArticle]]&\",\"&Tableau1[[#This Row],[Nom du produit]]&\",\"&Tableau1[[#This Row],[Format]]&\",\"&Tableau1[[#This Row],[UVC]]&\",\"&Tableau1[[#This Row],[CUP]]&\",\"&Tableau1[[#This Row],[Catégorie]])","v":"586149,Shiraz Robertson Winery Robertson,750,12,06002039005845,Vin rg Afrique du Sud"}]
[95,10669832,null,{"$f":"VLOOKUP($B103,'Répertoire des produits'!$1:$1048576,4,FALSE)","v":"Malbec Finca Flichman Mendoza"},{"$f":"VLOOKUP($B103,'Répertoire des produits'!$1:$1048576,5,FALSE)","v":750},{"$f":"VLOOKUP($B103,'Répertoire des produits'!$1:$1048576,6,FALSE)","v":12},{"$f":"VLOOKUP($B103,'Répertoire des produits'!$1:$1048576,3,FALSE)","v":"07790470080222"},{"$f":"VLOOKUP($B103,'Répertoire des produits'!$1:$1048576,2,FALSE)","v":"Vin rg Argentine"},{"$f":"CONCATENATE(Tableau1[[#This Row],[Code\nArticle]]&\",\"&Tableau1[[#This Row],[Nom du produit]]&\",\"&Tableau1[[#This Row],[Format]]&\",\"&Tableau1[[#This Row],[UVC]]&\",\"&Tableau1[[#This Row],[CUP]]&\",\"&Tableau1[[#This Row],[Catégorie]])","v":"10669832,Malbec Finca Flichman Mendoza,750,12,07790470080222,Vin rg Argentine"}]
[96,530907,null,{"$f":"VLOOKUP($B104,'Répertoire des produits'!$1:$1048576,4,FALSE)","v":"Cabernet-Sauvignon Trapiche"},{"$f":"VLOOKUP($B104,'Répertoire des produits'!$1:$1048576,5,FALSE)","v":750},{"$f":"VLOOKUP($B104,'Répertoire des produits'!$1:$1048576,6,FALSE)","v":12},{"$f":"VLOOKUP($B104,'Répertoire des produits'!$1:$1048576,3,FALSE)","v":"07790240072150"},{"$f":"VLOOKUP($B104,'Répertoire des produits'!$1:$1048576,2,FALSE)","v":"Vin rg Argentine"},{"$f":"CONCATENATE(Tableau1[[#This Row],[Code\nArticle]]&\",\"&Tableau1[[#This Row],[Nom du produit]]&\",\"&Tableau1[[#This Row],[Format]]&\",\"&Tableau1[[#This Row],[UVC]]&\",\"&Tableau1[[#This Row],[CUP]]&\",\"&Tableau1[[#This Row],[Catégorie]])","v":"530907,Cabernet-Sauvignon Trapiche,750,12,07790240072150,Vin rg Argentine"}]
[97,560821,null,"DEAKIN ESTATE",{"$f":"VLOOKUP($B105,'Répertoire des produits'!$1:$1048576,5,FALSE)","v":750},null,{"$f":"VLOOKUP($B105,'Répertoire des produits'!$1:$1048576,3,FALSE)","v":"00636662057320"},{"$f":"VLOOKUP($B105,'Répertoire des produits'!$1:$1048576,2,FALSE)","v":"Vin rg Australie"},{"$f":"CONCATENATE(Tableau1[[#This Row],[Code\nArticle]]&\",\"&Tableau1[[#This Row],[Nom du produit]]&\",\"&Tableau1[[#This Row],[Format]]&\",\"&Tableau1[[#This Row],[UVC]]&\",\"&Tableau1[[#This Row],[CUP]]&\",\"&Tableau1[[#This Row],[Catégorie]])","v":"560821,DEAKIN ESTATE,750,,00636662057320,Vin rg Australie"}]
[98,860429,null,"NORTHON MALBEL BARREL SELECT",{"$f":"VLOOKUP($B106,'Répertoire des produits'!$1:$1048576,5,FALSE)","v":750},12,{"$f":"VLOOKUP($B106,'Répertoire des produits'!$1:$1048576,3,FALSE)","v":"07792319968944"},{"$f":"VLOOKUP($B106,'Répertoire des produits'!$1:$1048576,2,FALSE)","v":"Vin rg Argentine"},{"$f":"CONCATENATE(Tableau1[[#This Row],[Code\nArticle]]&\",\"&Tableau1[[#This Row],[Nom du produit]]&\",\"&Tableau1[[#This Row],[Format]]&\",\"&Tableau1[[#This Row],[UVC]]&\",\"&Tableau1[[#This Row],[CUP]]&\",\"&Tableau1[[#This Row],[Catégorie]])","v":"860429,NORTHON MALBEL BARREL SELECT,750,12,07792319968944,Vin rg Argentine"}]
[99,12166892,null,{"$f":"VLOOKUP($B107,'Répertoire des produits'!$1:$1048576,4,FALSE)","v":"Revolution Red Californie"},{"$f":"VLOOKUP($B107,'Répertoire des produits'!$1:$1048576,5,FALSE)","v":750},{"$f":"VLOOKUP($B107,'Répertoire des produits'!$1:$1048576,6,FALSE)","v":12},{"$f":"VLOOKUP($B107,'Répertoire des produits'!$1:$1048576,3,FALSE)","v":"00056049132547"},{"$f":"VLOOKUP($B107,'Répertoire des produits'!$1:$1048576,2,FALSE)","v":"Vin rg États-Unis"},{"$f":"CONCATENATE(Tableau1[[#This Row],[Code\nArticle]]&\",\"&Tableau1[[#This Row],[Nom du produit]]&\",\"&Tableau1[[#This Row],[Format]]&\",\"&Tableau1[[#This Row],[UVC]]&\",\"&Tableau1[[#This Row],[CUP]]&\",\"&Tableau1[[#This Row],[Catégorie]])","v":"12166892,Revolution Red Californie,750,12,00056049132547,Vin rg États-Unis"}]
[100,856567,null,{"$f":"VLOOKUP($B108,'Répertoire des produits'!$1:$1048576,4,FALSE)","v":"Cabernet-Sauvignon Liberty School Paso Robles Californie"},{"$f":"VLOOKUP($B108,'Répertoire des produits'!$1:$1048576,5,FALSE)","v":750},{"$f":"VLOOKUP($B108,'Répertoire des produits'!$1:$1048576,6,FALSE)","v":12},{"$f":"VLOOKUP($B108,'Répertoire des produits'!$1:$1048576,3,FALSE)","v":"00657891700207"},{"$f":"VLOOKUP($B108,'Répertoire des produits'!$1:$1048576,2,FALSE)","v":"Vin rg États-Unis"},{"$f":"CONCATENATE(Tableau1[[#This Row],[Code\nArticle]]&\",\"&Tableau1[[#This Row],[Nom du produit]]&\",\"&Tableau1[[#This Row],[Format]]&\",\"&Tableau1[[#This Row],[UVC]]&\",\"&Tableau1[[#This Row],[CUP]]&\",\"&Tableau1[[#This Row],[Catégorie]])","v":"856567,Cabernet-Sauvignon Liberty School Paso Robles Californie,750,12,00657891700207,Vin rg États-Unis"}]
[101,10709152,null,{"$f":"VLOOKUP($B109,'Répertoire des produits'!$1:$1048576,4,FALSE)","v":"Ménage à Trois Folie à Deux Californie rouge"},{"$f":"VLOOKUP($B109,'Répertoire des produits'!$1:$1048576,5,FALSE)","v":750},{"$f":"VLOOKUP($B109,'Répertoire des produits'!$1:$1048576,6,FALSE)","v":12},{"$f":"VLOOKUP($B109,'Répertoire des produits'!$1:$1048576,3,FALSE)","v":"00099988071096"},{"$f":"VLOOKUP($B109,'Répertoire des produits'!$1:$1048576,2,FALSE)","v":"Vin rg États-Unis"},{"$f":"CONCATENATE(Tableau1[[#This Row],[Code\nArticle]]&\",\"&Tableau1[[#This Row],[Nom du produit]]&\",\"&Tableau1[[#This Row],[Format]]&\",\"&Tableau1[[#This Row],[UVC]]&\",\"&Tableau1[[#This Row],[CUP]]&\",\"&Tableau1[[#This Row],[Catégorie]])","v":"10709152,Ménage à Trois Folie à Deux Californie rouge,750,12,00099988071096,Vin rg États-Unis"}]
[102,11315497,null,{"$f":"VLOOKUP($B110,'Répertoire des produits'!$1:$1048576,4,FALSE)","v":"Apothic Red Californie"},{"$f":"VLOOKUP($B110,'Répertoire des produits'!$1:$1048576,5,FALSE)","v":750},{"$f":"VLOOKUP($B110,'Répertoire des produits'!$1:$1048576,6,FALSE)","v":12},{"$f":"VLOOKUP($B110,'Répertoire des produits'!$1:$1048576,3,FALSE)","v":"00085000017746"},{"$f":"VLOOKUP($B110,'Répertoire des produits'!$1:$1048576,2,FALSE)","v":"Vin rg États-Unis"},{"$f":"CONCATENATE(Tableau1[[#This Row],[Code\nArticle]]&\",\"&Tableau1[[#This Row],[Nom du produit]]&\",\"&Tableau1[[#This Row],[Format]]&\",\"&Tableau1[[#This Row],[UVC]]&\",\"&Tableau1[[#This Row],[CUP]]&\",\"&Tableau1[[#This Row],[Catégorie]])","v":"11315497,Apothic Red Californie,750,12,00085000017746,Vin rg États-Unis"}]
[103,12698346,{"$nulls":6},{"$f":"CONCATENATE(Tableau1[[#This Row],[Code\nArticle]]&\",\"&Tableau1[[#This Row],[Nom du produit]]&\",\"&Tableau1[[#This Row],[Format]]&\",\"&Tableau1[[#This Row],[UVC]]&\",\"&Tableau1[[#This Row],[CUP]]&\",\"&Tableau1[[#This Row],[Catégorie]])","v":"12698346,,,,,"}]
[104,11975073,null,"HACIENIDA ARAUCANO SYRAH",750,12,null,"VIN ROUGE CHILI",{"$f":"CONCATENATE(Tableau1[[#This Row],[Code\nArticle]]&\",\"&Tableau1[[#This Row],[Nom du produit]]&\",\"&Tableau1[[#This Row],[Format]]&\",\"&Tableau1[[#This Row],[UVC]]&\",\"&Tableau1[[#This Row],[CUP]]&\",\"&Tableau1[[#This Row],[Catégorie]])","v":"11975073,HACIENIDA ARAUCANO SYRAH,750,12,,VIN ROUGE CHILI"}]
[105,10394955,null,{"$f":"VLOOKUP($B113,'Répertoire des produits'!$1:$1048576,4,FALSE)","v":"Shiraz/Malbec Fuzion Zuccardi Mendoza"},{"$f":"VLOOKUP($B113,'Répertoire des produits'!$1:$1048576,5,FALSE)","v":750},{"$f":"VLOOKUP($B113,'Répertoire des produits'!$1:$1048576,6,FALSE)","v":12},{"$f":"VLOOKUP($B113,'Répertoire des produits'!$1:$1048576,3,FALSE)","v":"07791728018134"},{"$f":"VLOOKUP($B113,'Répertoire des produits'!$1:$1048576,2,FALSE)","v":"Vin rg Argentine"},{"$f":"CONCATENATE(Tableau1[[#This Row],[Code\nArticle]]&\",\"&Tableau1[[#This Row],[Nom du produit]]&\",\"&Tableau1[[#This Row],[Format]]&\",\"&Tableau1[[#This Row],[UVC]]&\",\"&Tableau1[[#This Row],[CUP]]&\",\"&Tableau1[[#This Row],[Catégorie]])","v":"10394955,Shiraz/Malbec Fuzion Zuccardi Mendoza,750,12,07791728018134,Vin rg Argentine"}]
[106,637876,null,{"$f":"VLOOKUP($B114,'Répertoire des produits'!$1:$1048576,4,FALSE)","v":"Merlot/Malbec Astica Trapiche Cuyo"},{"$f":"VLOOKUP($B114,'Répertoire des produits'!$1:$1048576,5,FALSE)","v":750},{"$f":"VLOOKUP($B114,'Répertoire des produits'!$1:$1048576,6,FALSE)","v":12},{"$f":"VLOOKUP($B114,'Répertoire des produits'!$1:$1048576,3,FALSE)","v":"07790240026344"},{"$f":"VLOOKUP($B114,'Répertoire des produits'!$1:$1048576,2,FALSE)","v":"Vin rg Argentine"},{"$f":"CONCATENATE(Tableau1[[#This Row],[Code\nArticle]]&\",\"&Tableau1[[#This Row],[Nom du produit]]&\",\"&Tableau1[[#This Row],[Format]]&\",\"&Tableau1[[#This Row],[UVC]]&\",\"&Tableau1[[#This Row],[CUP]]&\",\"&Tableau1[[#This Row],[Catégorie]])","v":"637876,Merlot/Malbec Astica Trapiche Cuyo,750,12,07790240026344,Vin rg Argentine"}]
[107,145367,null,{"$f":"VLOOKUP($B115,'Répertoire des produits'!$1:$1048576,4,FALSE)","v":"Shiraz Lindemans Bin 50 South Eastern Australia"},{"$f":"VLOOKUP($B115,'Répertoire des produits'!$1:$1048576,5,FALSE)","v":750},{"$f":"VLOOKUP($B115,'Répertoire des produits'!$1:$1048576,6,FALSE)","v":12},{"$f":"VLOOKUP($B115,'Répertoire des produits'!$1:$1048576,3,FALSE)","v":"00012354087651"},{"$f":"VLOOKUP($B115,'Répertoire des produits'!$1:$1048576,2,FALSE)","v":"Vin rg Australie"},{"$f":"CONCATENATE(Tableau1[[#This Row],[Code\nArticle]]&\",\"&Tableau1[[#This Row],[Nom du produit]]&\",\"&Tableau1[[#This Row],[Format]]&\",\"&Tableau1[[#This Row],[UVC]]&\",\"&Tableau1[[#This Row],[CUP]]&\",\"&Tableau1[[#This Row],[Catégorie]])","v":"145367,Shiraz Lindemans Bin 50 South Eastern Australia,750,12,00012354087651,Vin rg Australie"}]
[108,106377,null,{"$f":"VLOOKUP($B116,'Répertoire des produits'!$1:$1048576,4,FALSE)","v":"Shiraz/Cabernet Jacob's Creek South Eastern Australia"},{"$f":"VLOOKUP($B116,'Répertoire des produits'!$1:$1048576,5,FALSE)","v":750},{"$f":"VLOOKUP($B116,'Répertoire des produits'!$1:$1048576,6,FALSE)","v":12},{"$f":"VLOOKUP($B116,'Répertoire des produits'!$1:$1048576,3,FALSE)","v":"09300727453112"},{"$f":"VLOOKUP($B116,'Répertoire des produits'!$1:$1048576,2,FALSE)","v":"Vin rg Australie"},{"$f":"CONCATENATE(Tableau1[[#This Row],[Code\nArticle]]&\",\"&Tableau1[[#This Row],[Nom du produit]]&\",\"&Tableau1[[#This Row],[Format]]&\",\"&Tableau1[[#This Row],[UVC]]&\",\"&Tableau1[[#This Row],[CUP]]&\",\"&Tableau1[[#This Row],[Catégorie]])","v":"106377,Shiraz/Cabernet Jacob's Creek South Eastern Australia,750,12,09300727453112,Vin rg Australie"}]
[109,251876,null,{"$f":"VLOOKUP($B117,'Répertoire des produits'!$1:$1048576,4,FALSE)","v":"Cabernet-Sauvignon Wolf Blass Yellow Label South Australia"},{"$f":"VLOOKUP($B117,'Répertoire des produits'!$1:$1048576,5,FALSE)","v":750},{"$f":"VLOOKUP($B117,'Répertoire des produits'!$1:$1048576,6,FALSE)","v":12},{"$f":"VLOOKUP($B117,'Répertoire des produits'!$1:$1048576,3,FALSE)","v":"00098137335355"},{"$f":"VLOOKUP($B117,'Répertoire des produits'!$1:$1048576,2,FALSE)","v":"Vin rg Australie"},{"$f":"CONCATENATE(Tableau1[[#This Row],[Code\nArticle]]&\",\"&Tableau1[[#This Row],[Nom du produit]]&\",\"&Tableau1[[#This Row],[Format]]&\",\"&Tableau1[[#This Row],[UVC]]&\",\"&Tableau1[[#This Row],[CUP]]&\",\"&Tableau1[[#This Row],[Catégorie]])","v":"251876,Cabernet-Sauvignon Wolf Blass Yellow Label South Australia,750,12,00098137335355,Vin rg Australie"}]
[110,11603510,null,{"$f":"VLOOKUP($B118,'Répertoire des produits'!$1:$1048576,4,FALSE)","v":"Cabernet-Sauvignon The Show Californie"},{"$f":"VLOOKUP($B118,'Répertoire des produits'!$1:$1048576,5,FALSE)","v":750},{"$f":"VLOOKUP($B118,'Répertoire des produits'!$1:$1048576,6,FALSE)","v":12},{"$f":"VLOOKUP($B118,'Répertoire des produits'!$1:$1048576,3,FALSE)","v":"00894509008502"},{"$f":"VLOOKUP($B118,'Répertoire des produits'!$1:$1048576,2,FALSE)","v":"Vin rg États-Unis"},{"$f":"CONCATENATE(Tableau1[[#This Row],[Code\nArticle]]&\",\"&Tableau1[[#This Row],[Nom du produit]]&\",\"&Tableau1[[#This Row],[Format]]&\",\"&Tableau1[[#This Row],[UVC]]&\",\"&Tableau1[[#This Row],[CUP]]&\",\"&Tableau1[[#This Row],[Catégorie]])","v":"11603510,Cabernet-Sauvignon The Show Californie,750,12,00894509008502,Vin rg États-Unis"}]
[111,576272,null,{"$f":"VLOOKUP($B119,'Répertoire des produits'!$1:$1048576,4,FALSE)","v":"Syrah RH Phillips Californie"},{"$f":"VLOOKUP($B119,'Répertoire des produits'!$1:$1048576,5,FALSE)","v":750},{"$f":"VLOOKUP($B119,'Répertoire des produits'!$1:$1048576,6,FALSE)","v":12},{"$f":"VLOOKUP($B119,'Répertoire des produits'!$1:$1048576,3,FALSE)","v":"00087110320570"},{"$f":"VLOOKUP($B119,'Répertoire des produits'!$1:$1048576,2,FALSE)","v":"Vin rg États-Unis"},{"$f":"CONCATENATE(Tableau1[[#This Row],[Code\nArticle]]&\",\"&Tableau1[[#This Row],[Nom du produit]]&\",\"&Tableau1[[#This Row],[Format]]&\",\"&Tableau1[[#This Row],[UVC]]&\",\"&Tableau1[[#This Row],[CUP]]&\",\"&Tableau1[[#This Row],[Catégorie]])","v":"576272,Syrah RH Phillips Californie,750,12,00087110320570,Vin rg États-Unis"}]
[112,308999,null,{"$f":"VLOOKUP($B120,'Répertoire des produits'!$1:$1048576,4,FALSE)","v":"Big House Red Californie"},{"$f":"VLOOKUP($B120,'Répertoire des produits'!$1:$1048576,5,FALSE)","v":750},{"$f":"VLOOKUP($B120,'Répertoire des produits'!$1:$1048576,6,FALSE)","v":12},{"$f":"VLOOKUP($B120,'Répertoire des produits'!$1:$1048576,3,FALSE)","v":"00769434201260"},{"$f":"VLOOKUP($B120,'Répertoire des produits'!$1:$1048576,2,FALSE)","v":"Vin rg États-Unis"},{"$f":"CONCATENATE(Tableau1[[#This Row],[Code\nArticle]]&\",\"&Tableau1[[#This Row],[Nom du produit]]&\",\"&Tableau1[[#This Row],[Format]]&\",\"&Tableau1[[#This Row],[UVC]]&\",\"&Tableau1[[#This Row],[CUP]]&\",\"&Tableau1[[#This Row],[Catégorie]])","v":"308999,Big House Red Californie,750,12,00769434201260,Vin rg États-Unis"}]
[113,874891,null,"CONO SUR RESERVE PINOT NOIR",750,12,null,"VIN ROUGE CHILI",{"$f":"CONCATENATE(Tableau1[[#This Row],[Code\nArticle]]&\",\"&Tableau1[[#This Row],[Nom du produit]]&\",\"&Tableau1[[#This Row],[Format]]&\",\"&Tableau1[[#This Row],[UVC]]&\",\"&Tableau1[[#This Row],[CUP]]&\",\"&Tableau1[[#This Row],[Catégorie]])","v":"874891,CONO SUR RESERVE PINOT NOIR,750,12,,VIN ROUGE CHILI"}]
[114,10530283,null,{"$f":"VLOOKUP($B122,'Répertoire des produits'!$1:$1048576,4,FALSE)","v":"Cabernet-Sauvignon/Carmenère Mapu Valle Central"},{"$f":"VLOOKUP($B122,'Répertoire des produits'!$1:$1048576,5,FALSE)","v":750},{"$f":"VLOOKUP($B122,'Répertoire des produits'!$1:$1048576,6,FALSE)","v":12},{"$f":"VLOOKUP($B122,'Répertoire des produits'!$1:$1048576,3,FALSE)","v":"00812485000143"},{"$f":"VLOOKUP($B122,'Répertoire des produits'!$1:$1048576,2,FALSE)","v":"Vin rg Chili"},{"$f":"CONCATENATE(Tableau1[[#This Row],[Code\nArticle]]&\",\"&Tableau1[[#This Row],[Nom du produit]]&\",\"&Tableau1[[#This Row],[Format]]&\",\"&Tableau1[[#This Row],[UVC]]&\",\"&Tableau1[[#This Row],[CUP]]&\",\"&Tableau1[[#This Row],[Catégorie]])","v":"10530283,Cabernet-Sauvignon/Carmenère Mapu Valle Central,750,12,00812485000143,Vin rg Chili"}]
[115,10529910,null,{"$f":"VLOOKUP($B123,'Répertoire des produits'!$1:$1048576,4,FALSE)","v":"Shiraz Two Oceans Western Cape"},{"$f":"VLOOKUP($B123,'Répertoire des produits'!$1:$1048576,5,FALSE)","v":750},{"$f":"VLOOKUP($B123,'Répertoire des produits'!$1:$1048576,6,FALSE)","v":12},{"$f":"VLOOKUP($B123,'Répertoire des produits'!$1:$1048576,3,FALSE)","v":"06001108001085"},{"$f":"VLOOKUP($B123,'Répertoire des produits'!$1:$1048576,2,FALSE)","v":"Vin rg Afrique du Sud"},{"$f":"CONCATENATE(Tableau1[[#This Row],[Code\nArticle]]&\",\"&Tableau1[[#This Row],[Nom du produit]]&\",\"&Tableau1[[#This Row],[Format]]&\",\"&Tableau1[[#This Row],[UVC]]&\",\"&Tableau1[[#This Row],[CUP]]&\",\"&Tableau1[[#This Row],[Catégorie]])","v":"10529910,Shiraz Two Oceans Western Cape,750,12,06001108001085,Vin rg Afrique du Sud"}]
[116,11004550,null,"CARONE BIN 33",{"$f":"VLOOKUP($B124,'Répertoire des produits'!$1:$1048576,5,FALSE)","v":750},{"$f":"VLOOKUP($B124,'Répertoire des produits'!$1:$1048576,6,FALSE)","v":12},{"$f":"VLOOKUP($B124,'Répertoire des produits'!$1:$1048576,3,FALSE)","v":"01627843122974"},{"$f":"VLOOKUP($B124,'Répertoire des produits'!$1:$1048576,2,FALSE)","v":"Vin rg Québec"},{"$f":"CONCATENATE(Tableau1[[#This Row],[Code\nArticle]]&\",\"&Tableau1[[#This Row],[Nom du produit]]&\",\"&Tableau1[[#This Row],[Format]]&\",\"&Tableau1[[#This Row],[UVC]]&\",\"&Tableau1[[#This Row],[CUP]]&\",\"&Tableau1[[#This Row],[Catégorie]])","v":"11004550,CARONE BIN 33,750,12,01627843122974,Vin rg Québec"}]
[117,{"$nulls":7},{"$f":"CONCATENATE(Tableau1[[#This Row],[Code\nArticle]]&\",\"&Tableau1[[#This Row],[Nom du produit]]&\",\"&Tableau1[[#This Row],[Format]]&\",\"&Tableau1[[#This Row],[UVC]]&\",\"&Tableau1[[#This Row],[CUP]]&\",\"&Tableau1[[#This Row],[Catégorie]])","v":",,,,,"}]
[118,12479872,null,{"$f":"VLOOKUP($B126,'Répertoire des produits'!$1:$1048576,4,FALSE)","v":"Cabernet Sauvignon Smoky Bay"},{"$f":"VLOOKUP($B126,'Répertoire des produits'!$1:$1048576,5,FALSE)","v":750},{"$f":"VLOOKUP($B126,'Répertoire des produits'!$1:$1048576,6,FALSE)","v":12},{"$f":"VLOOKUP($B126,'Répertoire des produits'!$1:$1048576,3,FALSE)","v":"00057496005569"},{"$f":"VLOOKUP($B126,'Répertoire des produits'!$1:$1048576,2,FALSE)","v":"Vin rg Australie"},{"$f":"CONCATENATE(Tableau1[[#This Row],[Code\nArticle]]&\",\"&Tableau1[[#This Row],[Nom du produit]]&\",\"&Tableau1[[#This Row],[Format]]&\",\"&Tableau1[[#This Row],[UVC]]&\",\"&Tableau1[[#This Row],[CUP]]&\",\"&Tableau1[[#This Row],[Catégorie]])","v":"12479872,Cabernet Sauvignon Smoky Bay,750,12,00057496005569,Vin rg Australie"}]
[119,11073985,null,"STERLING VINTNER`S CABETNET SAUVIGNON",750,12,null,null,{"$f":"CONCATENATE(Tableau1[[#This Row],[Code\nArticle]]&\",\"&Tableau1[[#This Row],[Nom du produit]]&\",\"&Tableau1[[#This Row],[Format]]&\",\"&Tableau1[[#This Row],[UVC]]&\",\"&Tableau1[[#This Row],[CUP]]&\",\"&Tableau1[[#This Row],[Catégorie]])","v":"11073985,STERLING VINTNER`S CABETNET SAUVIGNON,750,12,,"}]
[120,11975102,null,{"$f":"VLOOKUP($B128,'Répertoire des produits'!$1:$1048576,4,FALSE)","v":"Crush The Dreaming Tree North Coast"},{"$f":"VLOOKUP($B128,'Répertoire des produits'!$1:$1048576,5,FALSE)","v":750},{"$f":"VLOOKUP($B128,'Répertoire des produits'!$1:$1048576,6,FALSE)","v":12},{"$f":"VLOOKUP($B128,'Répertoire des produits'!$1:$1048576,3,FALSE)","v":"00082100780020"},{"$f":"VLOOKUP($B128,'Répertoire des produits'!$1:$1048576,2,FALSE)","v":"Vin rg États-Unis"},{"$f":"CONCATENATE(Tableau1[[#This Row],[Code\nArticle]]&\",\"&Tableau1[[#This Row],[Nom du produit]]&\",\"&Tableau1[[#This Row],[Format]]&\",\"&Tableau1[[#This Row],[UVC]]&\",\"&Tableau1[[#This Row],[CUP]]&\",\"&Tableau1[[#This Row],[Catégorie]])","v":"11975102,Crush The Dreaming Tree North Coast,750,12,00082100780020,Vin rg États-Unis"}]
[121,{"$nulls":7},{"$f":"CONCATENATE(Tableau1[[#This Row],[Code\nArticle]]&\",\"&Tableau1[[#This Row],[Nom du produit]]&\",\"&Tableau1[[#This Row],[Format]]&\",\"&Tableau1[[#This Row],[UVC]]&\",\"&Tableau1[[#This Row],[CUP]]&\",\"&Tableau1[[#This Row],[Catégorie]])","v":",,,,,"}]
[122,10915036,null,{"$f":"VLOOKUP($B130,'Répertoire des produits'!$1:$1048576,4,FALSE)","v":"Shiraz Barefoot California"},{"$f":"VLOOKUP($B130,'Répertoire des produits'!$1:$1048576,5,FALSE)","v":750},{"$f":"VLOOKUP($B130,'Répertoire des produits'!$1:$1048576,6,FALSE)","v":12},{"$f":"VLOOKUP($B130,'Répertoire des produits'!$1:$1048576,3,FALSE)","v":"00018341751130"},{"$f":"VLOOKUP($B130,'Répertoire des produits'!$1:$1048576,2,FALSE)","v":"Vin rg États-Unis"},{"$f":"CONCATENATE(Tableau1[[#This Row],[Code\nArticle]]&\",\"&Tableau1[[#This Row],[Nom du produit]]&\",\"&Tableau1[[#This Row],[Format]]&\",\"&Tableau1[[#This Row],[UVC]]&\",\"&Tableau1[[#This Row],[CUP]]&\",\"&Tableau1[[#This Row],[Catégorie]])","v":"10915036,Shiraz Barefoot California,750,12,00018341751130,Vin rg États-Unis"}]
[123,11133175,null,{"$f":"VLOOKUP($B131,'Répertoire des produits'!$1:$1048576,4,FALSE)","v":"Zinfandel Barefoot Lodi Californie"},{"$f":"VLOOKUP($B131,'Répertoire des produits'!$1:$1048576,5,FALSE)","v":750},{"$f":"VLOOKUP($B131,'Répertoire des produits'!$1:$1048576,6,FALSE)","v":12},{"$f":"VLOOKUP($B131,'Répertoire des produits'!$1:$1048576,3,FALSE)","v":"00018341751093"},{"$f":"VLOOKUP($B131,'Répertoire des produits'!$1:$1048576,2,FALSE)","v":"Vin rg États-Unis"},{"$f":"CONCATENATE(Tableau1[[#This Row],[Code\nArticle]]&\",\"&Tableau1[[#This Row],[Nom du produit]]&\",\"&Tableau1[[#This Row],[Format]]&\",\"&Tableau1[[#This Row],[UVC]]&\",\"&Tableau1[[#This Row],[CUP]]&\",\"&Tableau1[[#This Row],[Catégorie]])","v":"11133175,Zinfandel Barefoot Lodi Californie,750,12,00018341751093,Vin rg États-Unis"}]
[124,11462411,null,{"$f":"VLOOKUP($B132,'Répertoire des produits'!$1:$1048576,4,FALSE)","v":"Big House White Californie"},{"$f":"VLOOKUP($B132,'Répertoire des produits'!$1:$1048576,5,FALSE)","v":3000},{"$f":"VLOOKUP($B132,'Répertoire des produits'!$1:$1048576,6,FALSE)","v":3},{"$f":"VLOOKUP($B132,'Répertoire des produits'!$1:$1048576,3,FALSE)","v":"00081308000848"},{"$f":"VLOOKUP($B132,'Répertoire des produits'!$1:$1048576,2,FALSE)","v":"Vin bl grands formats"},{"$f":"CONCATENATE(Tableau1[[#This Row],[Code\nArticle]]&\",\"&Tableau1[[#This Row],[Nom du produit]]&\",\"&Tableau1[[#This Row],[Format]]&\",\"&Tableau1[[#This Row],[UVC]]&\",\"&Tableau1[[#This Row],[CUP]]&\",\"&Tableau1[[#This Row],[Catégorie]])","v":"11462411,Big House White Californie,3000,3,00081308000848,Vin bl grands formats"}]
[125,11462420,null,{"$f":"VLOOKUP($B133,'Répertoire des produits'!$1:$1048576,4,FALSE)","v":"Big House Red Californie"},{"$f":"VLOOKUP($B133,'Répertoire des produits'!$1:$1048576,5,FALSE)","v":3000},{"$f":"VLOOKUP($B133,'Répertoire des produits'!$1:$1048576,6,FALSE)","v":3},{"$f":"VLOOKUP($B133,'Répertoire des produits'!$1:$1048576,3,FALSE)","v":"00081308000831"},{"$f":"VLOOKUP($B133,'Répertoire des produits'!$1:$1048576,2,FALSE)","v":"Vin rg grands formats"},{"$f":"CONCATENATE(Tableau1[[#This Row],[Code\nArticle]]&\",\"&Tableau1[[#This Row],[Nom du produit]]&\",\"&Tableau1[[#This Row],[Format]]&\",\"&Tableau1[[#This Row],[UVC]]&\",\"&Tableau1[[#This Row],[CUP]]&\",\"&Tableau1[[#This Row],[Catégorie]])","v":"11462420,Big House Red Californie,3000,3,00081308000831,Vin rg grands formats"}]
[126,11462104,null,{"$f":"VLOOKUP($B134,'Répertoire des produits'!$1:$1048576,4,FALSE)","v":"Cabernet/Shiraz Cliff 79 South Eastern Australia"},{"$f":"VLOOKUP($B134,'Répertoire des produits'!$1:$1048576,5,FALSE)","v":3000},{"$f":"VLOOKUP($B134,'Répertoire des produits'!$1:$1048576,6,FALSE)","v":4},{"$f":"VLOOKUP($B134,'Répertoire des produits'!$1:$1048576,3,FALSE)","v":"00056049026105"},{"$f":"VLOOKUP($B134,'Répertoire des produits'!$1:$1048576,2,FALSE)","v":"Vin rg grands formats"},{"$f":"CONCATENATE(Tableau1[[#This Row],[Code\nArticle]]&\",\"&Tableau1[[#This Row],[Nom du produit]]&\",\"&Tableau1[[#This Row],[Format]]&\",\"&Tableau1[[#This Row],[UVC]]&\",\"&Tableau1[[#This Row],[CUP]]&\",\"&Tableau1[[#This Row],[Catégorie]])","v":"11462104,Cabernet/Shiraz Cliff 79 South Eastern Australia,3000,4,00056049026105,Vin rg grands formats"}]
[127,11974901,null,"clif chardonny",3000,4,5604903236,"vin blanc",{"$f":"CONCATENATE(Tableau1[[#This Row],[Code\nArticle]]&\",\"&Tableau1[[#This Row],[Nom du produit]]&\",\"&Tableau1[[#This Row],[Format]]&\",\"&Tableau1[[#This Row],[UVC]]&\",\"&Tableau1[[#This Row],[CUP]]&\",\"&Tableau1[[#This Row],[Catégorie]])","v":"11974901,clif chardonny,3000,4,5604903236,vin blanc"}]
[128,153197,null,"cuve st-pierre",4000,{"$nulls":3},{"$f":"CONCATENATE(Tableau1[[#This Row],[Code\nArticle]]&\",\"&Tableau1[[#This Row],[Nom du produit]]&\",\"&Tableau1[[#This Row],[Format]]&\",\"&Tableau1[[#This Row],[UVC]]&\",\"&Tableau1[[#This Row],[CUP]]&\",\"&Tableau1[[#This Row],[Catégorie]])","v":"153197,cuve st-pierre,4000,,,"}]
[{"$f":"ROW(C137)-8","v":129},13503070,null,"galo rose",3000,4,null,null,{"$f":"CONCATENATE(Tableau1[[#This Row],[Code\nArticle]]&\",\"&Tableau1[[#This Row],[Nom du produit]]&\",\"&Tableau1[[#This Row],[Format]]&\",\"&Tableau1[[#This Row],[UVC]]&\",\"&Tableau1[[#This Row],[CUP]]&\",\"&Tableau1[[#This Row],[Catégorie]])","v":"13503070,galo rose,3000,4,,"}]
[130,10845808,null,{"$f":"VLOOKUP($B138,'Répertoire des produits'!$1:$1048576,4,FALSE)","v":"White Zinfandel Beringer California Collection"},{"$f":"VLOOKUP($B138,'Répertoire des produits'!$1:$1048576,5,FALSE)","v":750},{"$f":"VLOOKUP($B138,'Répertoire des produits'!$1:$1048576,6,FALSE)","v":12},{"$f":"VLOOKUP($B138,'Répertoire des produits'!$1:$1048576,3,FALSE)","v":"00089819006526"},{"$f":"VLOOKUP($B138,'Répertoire des produits'!$1:$1048576,2,FALSE)","v":"Vin rosé"},{"$f":"CONCATENATE(Tableau1[[#This Row],[Code\nArticle]]&\",\"&Tableau1[[#This Row],[Nom du produit]]&\",\"&Tableau1[[#This Row],[Format]]&\",\"&Tableau1[[#This Row],[UVC]]&\",\"&Tableau1[[#This Row],[CUP]]&\",\"&Tableau1[[#This Row],[Catégorie]])","v":"10845808,White Zinfandel Beringer California Collection,750,12,00089819006526,Vin rosé"}]
[131,270272,null,{"$f":"VLOOKUP($B139,'Répertoire des produits'!$1:$1048576,4,FALSE)","v":"Listel-Gris Grain de Gris vin des Sables i.g.p."},{"$f":"VLOOKUP($B139,'Répertoire des produits'!$1:$1048576,5,FALSE)","v":750},{"$f":"VLOOKUP($B139,'Répertoire des produits'!$1:$1048576,6,FALSE)","v":12},{"$f":"VLOOKUP($B139,'Répertoire des produits'!$1:$1048576,3,FALSE)","v":"03244081500005"},{"$f":"VLOOKUP($B139,'Répertoire des produits'!$1:$1048576,2,FALSE)","v":"Vin rosé"},{"$f":"CONCATENATE(Tableau1[[#This Row],[Code\nArticle]]&\",\"&Tableau1[[#This Row],[Nom du produit]]&\",\"&Tableau1[[#This Row],[Format]]&\",\"&Tableau1[[#This Row],[UVC]]&\",\"&Tableau1[[#This Row],[CUP]]&\",\"&Tableau1[[#This Row],[Catégorie]])","v":"270272,Listel-Gris Grain de Gris vin des Sables i.g.p.,750,12,03244081500005,Vin rosé"}]
[132,11073918,null,{"$f":"VLOOKUP($B140,'Répertoire des produits'!$1:$1048576,4,FALSE)","v":"Syrah Rosé C'Est la Vie vin de pays d'Oc"},{"$f":"VLOOKUP($B140,'Répertoire des produits'!$1:$1048576,5,FALSE)","v":750},{"$f":"VLOOKUP($B140,'Répertoire des produits'!$1:$1048576,6,FALSE)","v":12},{"$f":"VLOOKUP($B140,'Répertoire des produits'!$1:$1048576,3,FALSE)","v":"00087113115258"},{"$f":"VLOOKUP($B140,'Répertoire des produits'!$1:$1048576,2,FALSE)","v":"Vin rosé"},{"$f":"CONCATENATE(Tableau1[[#This Row],[Code\nArticle]]&\",\"&Tableau1[[#This Row],[Nom du produit]]&\",\"&Tableau1[[#This Row],[Format]]&\",\"&Tableau1[[#This Row],[UVC]]&\",\"&Tableau1[[#This Row],[CUP]]&\",\"&Tableau1[[#This Row],[Catégorie]])","v":"11073918,Syrah Rosé C'Est la Vie vin de pays d'Oc,750,12,00087113115258,Vin rosé"}]
[133,285767,null,{"$f":"VLOOKUP($B141,'Répertoire des produits'!$1:$1048576,4,FALSE)","v":"White Zinfandel Ernest & Julio Gallo Californie rosé"},{"$f":"VLOOKUP($B141,'Répertoire des produits'!$1:$1048576,5,FALSE)","v":750},{"$f":"VLOOKUP($B141,'Répertoire des produits'!$1:$1048576,6,FALSE)","v":12},{"$f":"VLOOKUP($B141,'Répertoire des produits'!$1:$1048576,3,FALSE)","v":"00085000007839"},{"$f":"VLOOKUP($B141,'Répertoire des produits'!$1:$1048576,2,FALSE)","v":"Vin rosé"},{"$f":"CONCATENATE(Tableau1[[#This Row],[Code\nArticle]]&\",\"&Tableau1[[#This Row],[Nom du produit]]&\",\"&Tableau1[[#This Row],[Format]]&\",\"&Tableau1[[#This Row],[UVC]]&\",\"&Tableau1[[#This Row],[CUP]]&\",\"&Tableau1[[#This Row],[Catégorie]])","v":"285767,White Zinfandel Ernest & Julio Gallo Californie rosé,750,12,00085000007839,Vin rosé"}]
[134,11372766,null,{"$f":"VLOOKUP($B142,'Répertoire des produits'!$1:$1048576,4,FALSE)","v":"Le Pive Gris de Grande Camargue"},{"$f":"VLOOKUP($B142,'Répertoire des produits'!$1:$1048576,5,FALSE)","v":750},{"$f":"VLOOKUP($B142,'Répertoire des produits'!$1:$1048576,6,FALSE)","v":12},{"$f":"VLOOKUP($B142,'Répertoire des produits'!$1:$1048576,3,FALSE)","v":"03186127750855"},{"$f":"VLOOKUP($B142,'Répertoire des produits'!$1:$1048576,2,FALSE)","v":"Vin rosé"},{"$f":"CONCATENATE(Tableau1[[#This Row],[Code\nArticle]]&\",\"&Tableau1[[#This Row],[Nom du produit]]&\",\"&Tableau1[[#This Row],[Format]]&\",\"&Tableau1[[#This Row],[UVC]]&\",\"&Tableau1[[#This Row],[CUP]]&\",\"&Tableau1[[#This Row],[Catégorie]])","v":"11372766,Le Pive Gris de Grande Camargue,750,12,03186127750855,Vin rosé"}]
[135,741702,null,{"$f":"VLOOKUP($B143,'Répertoire des produits'!$1:$1048576,4,FALSE)","v":"Champs de Florence Domaine du Ridge vin rosé"},{"$f":"VLOOKUP($B143,'Répertoire des produits'!$1:$1048576,5,FALSE)","v":750},{"$f":"VLOOKUP($B143,'Répertoire des produits'!$1:$1048576,6,FALSE)","v":12},{"$f":"VLOOKUP($B143,'Répertoire des produits'!$1:$1048576,3,FALSE)","v":"00827924037048"},{"$f":"VLOOKUP($B143,'Répertoire des produits'!$1:$1048576,2,FALSE)","v":"Vin rosé Québec"},{"$f":"CONCATENATE(Tableau1[[#This Row],[Code\nArticle]]&\",\"&Tableau1[[#This Row],[Nom du produit]]&\",\"&Tableau1[[#This Row],[Format]]&\",\"&Tableau1[[#This Row],[UVC]]&\",\"&Tableau1[[#This Row],[CUP]]&\",\"&Tableau1[[#This Row],[Catégorie]])","v":"741702,Champs de Florence Domaine du Ridge vin rosé,750,12,00827924037048,Vin rosé Québec"}]
[136,10938861,null,{"$f":"VLOOKUP($B144,'Répertoire des produits'!$1:$1048576,4,FALSE)","v":"Ménage à Trois rosé Folie à Deux"},{"$f":"VLOOKUP($B144,'Répertoire des produits'!$1:$1048576,5,FALSE)","v":750},{"$f":"VLOOKUP($B144,'Répertoire des produits'!$1:$1048576,6,FALSE)","v":12},{"$f":"VLOOKUP($B144,'Répertoire des produits'!$1:$1048576,3,FALSE)","v":"00099988371080"},{"$f":"VLOOKUP($B144,'Répertoire des produits'!$1:$1048576,2,FALSE)","v":"Vin rosé"},{"$f":"CONCATENATE(Tableau1[[#This Row],[Code\nArticle]]&\",\"&Tableau1[[#This Row],[Nom du produit]]&\",\"&Tableau1[[#This Row],[Format]]&\",\"&Tableau1[[#This Row],[UVC]]&\",\"&Tableau1[[#This Row],[CUP]]&\",\"&Tableau1[[#This Row],[Catégorie]])","v":"10938861,Ménage à Trois rosé Folie à Deux,750,12,00099988371080,Vin rosé"}]
[137,11686626,null,"domaine les brome rose",750,12,null,"vin rose",{"$f":"CONCATENATE(Tableau1[[#This Row],[Code\nArticle]]&\",\"&Tableau1[[#This Row],[Nom du produit]]&\",\"&Tableau1[[#This Row],[Format]]&\",\"&Tableau1[[#This Row],[UVC]]&\",\"&Tableau1[[#This Row],[CUP]]&\",\"&Tableau1[[#This Row],[Catégorie]])","v":"11686626,domaine les brome rose,750,12,,vin rose"}]
[138,427625,null,{"$f":"VLOOKUP($B146,'Répertoire des produits'!$1:$1048576,4,FALSE)","v":"Buti Nages Costières de Nîmes rosé"},{"$f":"VLOOKUP($B146,'Répertoire des produits'!$1:$1048576,5,FALSE)","v":750},{"$f":"VLOOKUP($B146,'Répertoire des produits'!$1:$1048576,6,FALSE)","v":12},{"$f":"VLOOKUP($B146,'Répertoire des produits'!$1:$1048576,3,FALSE)","v":"00690604000065"},{"$f":"VLOOKUP($B146,'Répertoire des produits'!$1:$1048576,2,FALSE)","v":"Vin rosé"},{"$f":"CONCATENATE(Tableau1[[#This Row],[Code\nArticle]]&\",\"&Tableau1[[#This Row],[Nom du produit]]&\",\"&Tableau1[[#This Row],[Format]]&\",\"&Tableau1[[#This Row],[UVC]]&\",\"&Tableau1[[#This Row],[CUP]]&\",\"&Tableau1[[#This Row],[Catégorie]])","v":"427625,Buti Nages Costières de Nîmes rosé,750,12,00690604000065,Vin rosé"}]
[139,166,null,{"$f":"VLOOKUP($B147,'Répertoire des produits'!$1:$1048576,4,FALSE)","v":"Mateus rosé"},{"$f":"VLOOKUP($B147,'Répertoire des produits'!$1:$1048576,5,FALSE)","v":750},{"$f":"VLOOKUP($B147,'Répertoire des produits'!$1:$1048576,6,FALSE)","v":12},{"$f":"VLOOKUP($B147,'Répertoire des produits'!$1:$1048576,3,FALSE)","v":"05601012011500"},{"$f":"VLOOKUP($B147,'Répertoire des produits'!$1:$1048576,2,FALSE)","v":"Vin rosé"},{"$f":"CONCATENATE(Tableau1[[#This Row],[Code\nArticle]]&\",\"&Tableau1[[#This Row],[Nom du produit]]&\",\"&Tableau1[[#This Row],[Format]]&\",\"&Tableau1[[#This Row],[UVC]]&\",\"&Tableau1[[#This Row],[CUP]]&\",\"&Tableau1[[#This Row],[Catégorie]])","v":"166,Mateus rosé,750,12,05601012011500,Vin rosé"}]
[140,308460,null,{"$f":"VLOOKUP($B148,'Répertoire des produits'!$1:$1048576,4,FALSE)","v":"White Zinfandel Ernest & Julio Gallo sierra valley rosé"},{"$f":"VLOOKUP($B148,'Répertoire des produits'!$1:$1048576,5,FALSE)","v":1500},{"$f":"VLOOKUP($B148,'Répertoire des produits'!$1:$1048576,6,FALSE)","v":6},{"$f":"VLOOKUP($B148,'Répertoire des produits'!$1:$1048576,3,FALSE)","v":"00085000007846"},{"$f":"VLOOKUP($B148,'Répertoire des produits'!$1:$1048576,2,FALSE)","v":"Vin rosé"},{"$f":"CONCATENATE(Tableau1[[#This Row],[Code\nArticle]]&\",\"&Tableau1[[#This Row],[Nom du produit]]&\",\"&Tableau1[[#This Row],[Format]]&\",\"&Tableau1[[#This Row],[UVC]]&\",\"&Tableau1[[#This Row],[CUP]]&\",\"&Tableau1[[#This Row],[Catégorie]])","v":"308460,White Zinfandel Ernest & Julio Gallo sierra valley rosé,1500,6,00085000007846,Vin rosé"}]
[141,{"$nulls":7},{"$f":"CONCATENATE(Tableau1[[#This Row],[Code\nArticle]]&\",\"&Tableau1[[#This Row],[Nom du produit]]&\",\"&Tableau1[[#This Row],[Format]]&\",\"&Tableau1[[#This Row],[UVC]]&\",\"&Tableau1[[#This Row],[CUP]]&\",\"&Tableau1[[#This Row],[Catégorie]])","v":",,,,,"}]
[142,643700,null,{"$f":"VLOOKUP($B150,'Répertoire des produits'!$1:$1048576,4,FALSE)","v":"Sauvignon bl. Fumées Blanches Cotes de Gascog IGP"},{"$f":"VLOOKUP($B150,'Répertoire des produits'!$1:$1048576,5,FALSE)","v":750},{"$f":"VLOOKUP($B150,'Répertoire des produits'!$1:$1048576,6,FALSE)","v":12},{"$f":"VLOOKUP($B150,'Répertoire des produits'!$1:$1048576,3,FALSE)","v":"00635335961957"},{"$f":"VLOOKUP($B150,'Répertoire des produits'!$1:$1048576,2,FALSE)","v":"Vin bl France Sud-Ouest"},{"$f":"CONCATENATE(Tableau1[[#This Row],[Code\nArticle]]&\",\"&Tableau1[[#This Row],[Nom du produit]]&\",\"&Tableau1[[#This Row],[Format]]&\",\"&Tableau1[[#This Row],[UVC]]&\",\"&Tableau1[[#This Row],[CUP]]&\",\"&Tableau1[[#This Row],[Catégorie]])","v":"643700,Sauvignon bl. Fumées Blanches Cotes de Gascog IGP,750,12,00635335961957,Vin bl France Sud-Ouest"}]
[143,10754228,null,{"$f":"VLOOKUP($B151,'Répertoire des produits'!$1:$1048576,4,FALSE)","v":"Chenin blanc Robertson Winery Robertson"},{"$f":"VLOOKUP($B151,'Répertoire des produits'!$1:$1048576,5,FALSE)","v":750},{"$f":"VLOOKUP($B151,'Répertoire des produits'!$1:$1048576,6,FALSE)","v":12},{"$f":"VLOOKUP($B151,'Répertoire des produits'!$1:$1048576,3,FALSE)","v":"00746925000779"},{"$f":"VLOOKUP($B151,'Répertoire des produits'!$1:$1048576,2,FALSE)","v":"Vin bl divers pays"},{"$f":"CONCATENATE(Tableau1[[#This Row],[Code\nArticle]]&\",\"&Tableau1[[#This Row],[Nom du produit]]&\",\"&Tableau1[[#This Row],[Format]]&\",\"&Tableau1[[#This Row],[UVC]]&\",\"&Tableau1[[#This Row],[CUP]]&\",\"&Tableau1[[#This Row],[Catégorie]])","v":"10754228,Chenin blanc Robertson Winery Robertson,750,12,00746925000779,Vin bl divers pays"}]
[144,11334794,null,{"$f":"VLOOKUP($B152,'Répertoire des produits'!$1:$1048576,4,FALSE)","v":"Muscat Natureo Torres"},{"$f":"VLOOKUP($B152,'Répertoire des produits'!$1:$1048576,5,FALSE)","v":750},{"$f":"VLOOKUP($B152,'Répertoire des produits'!$1:$1048576,6,FALSE)","v":12},{"$f":"VLOOKUP($B152,'Répertoire des produits'!$1:$1048576,3,FALSE)","v":"08410113001924"},{"$f":"VLOOKUP($B152,'Répertoire des produits'!$1:$1048576,2,FALSE)","v":"Vin bl Espagne"},{"$f":"CONCATENATE(Tableau1[[#This Row],[Code\nArticle]]&\",\"&Tableau1[[#This Row],[Nom du produit]]&\",\"&Tableau1[[#This Row],[Format]]&\",\"&Tableau1[[#This Row],[UVC]]&\",\"&Tableau1[[#This Row],[CUP]]&\",\"&Tableau1[[#This Row],[Catégorie]])","v":"11334794,Muscat Natureo Torres,750,12,08410113001924,Vin bl Espagne"}]
[145,541250,null,{"$f":"VLOOKUP($B153,'Répertoire des produits'!$1:$1048576,4,FALSE)","v":"Fumé blanc Errazuriz Valle de Aconcagua"},{"$f":"VLOOKUP($B153,'Répertoire des produits'!$1:$1048576,5,FALSE)","v":750},{"$f":"VLOOKUP($B153,'Répertoire des produits'!$1:$1048576,6,FALSE)","v":12},{"$f":"VLOOKUP($B153,'Répertoire des produits'!$1:$1048576,3,FALSE)","v":"00608057000051"},{"$f":"VLOOKUP($B153,'Répertoire des produits'!$1:$1048576,2,FALSE)","v":"Vin bl Chili"},{"$f":"CONCATENATE(Tableau1[[#This Row],[Code\nArticle]]&\",\"&Tableau1[[#This Row],[Nom du produit]]&\",\"&Tableau1[[#This Row],[Format]]&\",\"&Tableau1[[#This Row],[UVC]]&\",\"&Tableau1[[#This Row],[CUP]]&\",\"&Tableau1[[#This Row],[Catégorie]])","v":"541250,Fumé blanc Errazuriz Valle de Aconcagua,750,12,00608057000051,Vin bl Chili"}]
[146,3269,null,{"$f":"VLOOKUP($B154,'Répertoire des produits'!$1:$1048576,4,FALSE)","v":"Hanns Christof Liebfraumilch Qba Rheinhessen"},{"$f":"VLOOKUP($B154,'Répertoire des produits'!$1:$1048576,5,FALSE)","v":750},{"$f":"VLOOKUP($B154,'Répertoire des produits'!$1:$1048576,6,FALSE)","v":12},{"$f":"VLOOKUP($B154,'Répertoire des produits'!$1:$1048576,3,FALSE)","v":"04003310651104"},{"$f":"VLOOKUP($B154,'Répertoire des produits'!$1:$1048576,2,FALSE)","v":"Vin bl divers pays"},{"$f":"CONCATENATE(Tableau1[[#This Row],[Code\nArticle]]&\",\"&Tableau1[[#This Row],[Nom du produit]]&\",\"&Tableau1[[#This Row],[Format]]&\",\"&Tableau1[[#This Row],[UVC]]&\",\"&Tableau1[[#This Row],[CUP]]&\",\"&Tableau1[[#This Row],[Catégorie]])","v":"3269,Hanns Christof Liebfraumilch Qba Rheinhessen,750,12,04003310651104,Vin bl divers pays"}]
[147,12698741,null,"adesso chardonnay",750,12,{"$f":"VLOOKUP($B155,'Répertoire des produits'!$1:$1048576,3,FALSE)","v":{"$error":"#N/A"}},"vin blanc Italie",{"$f":"CONCATENATE(Tableau1[[#This Row],[Code\nArticle]]&\",\"&Tableau1[[#This Row],[Nom du produit]]&\",\"&Tableau1[[#This Row],[Format]]&\",\"&Tableau1[[#This Row],[UVC]]&\",\"&Tableau1[[#This Row],[CUP]]&\",\"&Tableau1[[#This Row],[Catégorie]])","v":{"$error":"#N/A"}}]
[148,11254495,null,{"$f":"VLOOKUP($B156,'Répertoire des produits'!$1:$1048576,4,FALSE)","v":"Si Soave"},{"$f":"VLOOKUP($B156,'Répertoire des produits'!$1:$1048576,5,FALSE)","v":750},{"$f":"VLOOKUP($B156,'Répertoire des produits'!$1:$1048576,6,FALSE)","v":12},{"$f":"VLOOKUP($B156,'Répertoire des produits'!$1:$1048576,3,FALSE)","v":"00892339002172"},{"$f":"VLOOKUP($B156,'Répertoire des produits'!$1:$1048576,2,FALSE)","v":"Vin bl Italie Vénétie"},{"$f":"CONCATENATE(Tableau1[[#This Row],[Code\nArticle]]&\",\"&Tableau1[[#This Row],[Nom du produit]]&\",\"&Tableau1[[#This Row],[Format]]&\",\"&Tableau1[[#This Row],[UVC]]&\",\"&Tableau1[[#This Row],[CUP]]&\",\"&Tableau1[[#This Row],[Catégorie]])","v":"11254495,Si Soave,750,12,00892339002172,Vin bl Italie Vénétie"}]
[149,11506120,null,"DOMAINE ST-JACQUES",750,12,null,"VIN BLANC",{"$f":"CONCATENATE(Tableau1[[#This Row],[Code\nArticle]]&\",\"&Tableau1[[#This Row],[Nom du produit]]&\",\"&Tableau1[[#This Row],[Format]]&\",\"&Tableau1[[#This Row],[UVC]]&\",\"&Tableau1[[#This Row],[CUP]]&\",\"&Tableau1[[#This Row],[Catégorie]])","v":"11506120,DOMAINE ST-JACQUES,750,12,,VIN BLANC"}]
[150,642827,null,{"$f":"VLOOKUP($B158,'Répertoire des produits'!$1:$1048576,4,FALSE)","v":"Sauvignon blanc Les Jamelles vin de pays d'Oc"},{"$f":"VLOOKUP($B158,'Répertoire des produits'!$1:$1048576,5,FALSE)","v":750},{"$f":"VLOOKUP($B158,'Répertoire des produits'!$1:$1048576,6,FALSE)","v":12},{"$f":"VLOOKUP($B158,'Répertoire des produits'!$1:$1048576,3,FALSE)","v":"00650298010115"},{"$f":"VLOOKUP($B158,'Répertoire des produits'!$1:$1048576,2,FALSE)","v":"Vin bl France Languedoc"},{"$f":"CONCATENATE(Tableau1[[#This Row],[Code\nArticle]]&\",\"&Tableau1[[#This Row],[Nom du produit]]&\",\"&Tableau1[[#This Row],[Format]]&\",\"&Tableau1[[#This Row],[UVC]]&\",\"&Tableau1[[#This Row],[CUP]]&\",\"&Tableau1[[#This Row],[Catégorie]])","v":"642827,Sauvignon blanc Les Jamelles vin de pays d'Oc,750,12,00650298010115,Vin bl France Languedoc"}]
[151,964601,null,{"$f":"VLOOKUP($B159,'Répertoire des produits'!$1:$1048576,4,FALSE)","v":"Pinot grigio Santa Margherita Valdadige"},{"$f":"VLOOKUP($B159,'Répertoire des produits'!$1:$1048576,5,FALSE)","v":750},{"$f":"VLOOKUP($B159,'Répertoire des produits'!$1:$1048576,6,FALSE)","v":12},{"$f":"VLOOKUP($B159,'Répertoire des produits'!$1:$1048576,3,FALSE)","v":"00632987111112"},{"$f":"VLOOKUP($B159,'Répertoire des produits'!$1:$1048576,2,FALSE)","v":"Vin bl Italie autres régions"},{"$f":"CONCATENATE(Tableau1[[#This Row],[Code\nArticle]]&\",\"&Tableau1[[#This Row],[Nom du produit]]&\",\"&Tableau1[[#This Row],[Format]]&\",\"&Tableau1[[#This Row],[UVC]]&\",\"&Tableau1[[#This Row],[CUP]]&\",\"&Tableau1[[#This Row],[Catégorie]])","v":"964601,Pinot grigio Santa Margherita Valdadige,750,12,00632987111112,Vin bl Italie autres régions"}]
[152,10803114,null,{"$f":"VLOOKUP($B160,'Répertoire des produits'!$1:$1048576,4,FALSE)","v":"Pinot grigio Voga Delle Venezie i.g.t."},{"$f":"VLOOKUP($B160,'Répertoire des produits'!$1:$1048576,5,FALSE)","v":750},{"$f":"VLOOKUP($B160,'Répertoire des produits'!$1:$1048576,6,FALSE)","v":12},{"$f":"VLOOKUP($B160,'Répertoire des produits'!$1:$1048576,3,FALSE)","v":"00021893795088"},{"$f":"VLOOKUP($B160,'Répertoire des produits'!$1:$1048576,2,FALSE)","v":"Vin bl Italie Vénétie"},{"$f":"CONCATENATE(Tableau1[[#This Row],[Code\nArticle]]&\",\"&Tableau1[[#This Row],[Nom du produit]]&\",\"&Tableau1[[#This Row],[Format]]&\",\"&Tableau1[[#This Row],[UVC]]&\",\"&Tableau1[[#This Row],[CUP]]&\",\"&Tableau1[[#This Row],[Catégorie]])","v":"10803114,Pinot grigio Voga Delle Venezie i.g.t.,750,12,00021893795088,Vin bl Italie Vénétie"}]
[153,319905,null,{"$f":"VLOOKUP($B161,'Répertoire des produits'!$1:$1048576,4,FALSE)","v":"Vinho regional Peninsula de Setúbal Albis J.M. Fonseca"},{"$f":"VLOOKUP($B161,'Répertoire des produits'!$1:$1048576,5,FALSE)","v":750},{"$f":"VLOOKUP($B161,'Répertoire des produits'!$1:$1048576,6,FALSE)","v":12},{"$f":"VLOOKUP($B161,'Répertoire des produits'!$1:$1048576,3,FALSE)","v":"00600470120002"},{"$f":"VLOOKUP($B161,'Répertoire des produits'!$1:$1048576,2,FALSE)","v":"Vin bl Portugal"},{"$f":"CONCATENATE(Tableau1[[#This Row],[Code\nArticle]]&\",\"&Tableau1[[#This Row],[Nom du produit]]&\",\"&Tableau1[[#This Row],[Format]]&\",\"&Tableau1[[#This Row],[UVC]]&\",\"&Tableau1[[#This Row],[CUP]]&\",\"&Tableau1[[#This Row],[Catégorie]])","v":"319905,Vinho regional Peninsula de Setúbal Albis J.M. Fonseca,750,12,00600470120002,Vin bl Portugal"}]
[154,11442701,null,{"$f":"VLOOKUP($B162,'Répertoire des produits'!$1:$1048576,4,FALSE)","v":"Mumm Napa Brut Prestige Californie mousseux"},{"$f":"VLOOKUP($B162,'Répertoire des produits'!$1:$1048576,5,FALSE)","v":750},{"$f":"VLOOKUP($B162,'Répertoire des produits'!$1:$1048576,6,FALSE)","v":6},{"$f":"VLOOKUP($B162,'Répertoire des produits'!$1:$1048576,3,FALSE)","v":"00852832000150"},{"$f":"VLOOKUP($B162,'Répertoire des produits'!$1:$1048576,2,FALSE)","v":"Mousseux"},{"$f":"CONCATENATE(Tableau1[[#This Row],[Code\nArticle]]&\",\"&Tableau1[[#This Row],[Nom du produit]]&\",\"&Tableau1[[#This Row],[Format]]&\",\"&Tableau1[[#This Row],[UVC]]&\",\"&Tableau1[[#This Row],[CUP]]&\",\"&Tableau1[[#This Row],[Catégorie]])","v":"11442701,Mumm Napa Brut Prestige Californie mousseux,750,6,00852832000150,Mousseux"}]
[155,94953,null,{"$f":"VLOOKUP($B163,'Répertoire des produits'!$1:$1048576,4,FALSE)","v":"Sieur d'Arques Première bulle Blanquette de Limoux mousseux"},{"$f":"VLOOKUP($B163,'Répertoire des produits'!$1:$1048576,5,FALSE)","v":750},{"$f":"VLOOKUP($B163,'Répertoire des produits'!$1:$1048576,6,FALSE)","v":12},{"$f":"VLOOKUP($B163,'Répertoire des produits'!$1:$1048576,3,FALSE)","v":"03062670160344"},{"$f":"VLOOKUP($B163,'Répertoire des produits'!$1:$1048576,2,FALSE)","v":"Mousseux"},{"$f":"CONCATENATE(Tableau1[[#This Row],[Code\nArticle]]&\",\"&Tableau1[[#This Row],[Nom du produit]]&\",\"&Tableau1[[#This Row],[Format]]&\",\"&Tableau1[[#This Row],[UVC]]&\",\"&Tableau1[[#This Row],[CUP]]&\",\"&Tableau1[[#This Row],[Catégorie]])","v":"94953,Sieur d'Arques Première bulle Blanquette de Limoux mousseux,750,12,03062670160344,Mousseux"}]
[156,884270,null,{"$f":"VLOOKUP($B164,'Répertoire des produits'!$1:$1048576,4,FALSE)","v":"Bottega moscato Petalo Il Vino dell'Amore mousseux"},{"$f":"VLOOKUP($B164,'Répertoire des produits'!$1:$1048576,5,FALSE)","v":750},{"$f":"VLOOKUP($B164,'Répertoire des produits'!$1:$1048576,6,FALSE)","v":12},{"$f":"VLOOKUP($B164,'Répertoire des produits'!$1:$1048576,3,FALSE)","v":"08005829383206"},{"$f":"VLOOKUP($B164,'Répertoire des produits'!$1:$1048576,2,FALSE)","v":"Mousseux"},{"$f":"CONCATENATE(Tableau1[[#This Row],[Code\nArticle]]&\",\"&Tableau1[[#This Row],[Nom du produit]]&\",\"&Tableau1[[#This Row],[Format]]&\",\"&Tableau1[[#This Row],[UVC]]&\",\"&Tableau1[[#This Row],[CUP]]&\",\"&Tableau1[[#This Row],[Catégorie]])","v":"884270,Bottega moscato Petalo Il Vino dell'Amore mousseux,750,12,08005829383206,Mousseux"}]
[157,142117,null,{"$f":"VLOOKUP($B165,'Répertoire des produits'!$1:$1048576,4,FALSE)","v":"Chardonnay Bin 65 Lindemans South Eastern Australia"},{"$f":"VLOOKUP($B165,'Répertoire des produits'!$1:$1048576,5,FALSE)","v":750},{"$f":"VLOOKUP($B165,'Répertoire des produits'!$1:$1048576,6,FALSE)","v":12},{"$f":"VLOOKUP($B165,'Répertoire des produits'!$1:$1048576,3,FALSE)","v":"00012354081840"},{"$f":"VLOOKUP($B165,'Répertoire des produits'!$1:$1048576,2,FALSE)","v":"Vin bl Australie"},{"$f":"CONCATENATE(Tableau1[[#This Row],[Code\nArticle]]&\",\"&Tableau1[[#This Row],[Nom du produit]]&\",\"&Tableau1[[#This Row],[Format]]&\",\"&Tableau1[[#This Row],[UVC]]&\",\"&Tableau1[[#This Row],[CUP]]&\",\"&Tableau1[[#This Row],[Catégorie]])","v":"142117,Chardonnay Bin 65 Lindemans South Eastern Australia,750,12,00012354081840,Vin bl Australie"}]
[158,219105,null,{"$f":"VLOOKUP($B166,'Répertoire des produits'!$1:$1048576,4,FALSE)","v":"Sémillon/Chardonnay Jacob's Creek South Eastern Australia"},{"$f":"VLOOKUP($B166,'Répertoire des produits'!$1:$1048576,5,FALSE)","v":750},{"$f":"VLOOKUP($B166,'Répertoire des produits'!$1:$1048576,6,FALSE)","v":12},{"$f":"VLOOKUP($B166,'Répertoire des produits'!$1:$1048576,3,FALSE)","v":"09300727367112"},{"$f":"VLOOKUP($B166,'Répertoire des produits'!$1:$1048576,2,FALSE)","v":"Vin bl Australie"},{"$f":"CONCATENATE(Tableau1[[#This Row],[Code\nArticle]]&\",\"&Tableau1[[#This Row],[Nom du produit]]&\",\"&Tableau1[[#This Row],[Format]]&\",\"&Tableau1[[#This Row],[UVC]]&\",\"&Tableau1[[#This Row],[CUP]]&\",\"&Tableau1[[#This Row],[Catégorie]])","v":"219105,Sémillon/Chardonnay Jacob's Creek South Eastern Australia,750,12,09300727367112,Vin bl Australie"}]
[159,298505,null,{"$f":"VLOOKUP($B167,'Répertoire des produits'!$1:$1048576,4,FALSE)","v":"La Vieille Ferme Luberon"},{"$f":"VLOOKUP($B167,'Répertoire des produits'!$1:$1048576,5,FALSE)","v":750},{"$f":"VLOOKUP($B167,'Répertoire des produits'!$1:$1048576,6,FALSE)","v":12},{"$f":"VLOOKUP($B167,'Répertoire des produits'!$1:$1048576,3,FALSE)","v":"00631470000049"},{"$f":"VLOOKUP($B167,'Répertoire des produits'!$1:$1048576,2,FALSE)","v":"Vin bl France Vallée du Rhône"},{"$f":"CONCATENATE(Tableau1[[#This Row],[Code\nArticle]]&\",\"&Tableau1[[#This Row],[Nom du produit]]&\",\"&Tableau1[[#This Row],[Format]]&\",\"&Tableau1[[#This Row],[UVC]]&\",\"&Tableau1[[#This Row],[CUP]]&\",\"&Tableau1[[#This Row],[Catégorie]])","v":"298505,La Vieille Ferme Luberon,750,12,00631470000049,Vin bl France Vallée du Rhône"}]
[160,456244,null,{"$f":"VLOOKUP($B168,'Répertoire des produits'!$1:$1048576,4,FALSE)","v":"Pinot gris Pfaff Alsace"},{"$f":"VLOOKUP($B168,'Répertoire des produits'!$1:$1048576,5,FALSE)","v":750},{"$f":"VLOOKUP($B168,'Répertoire des produits'!$1:$1048576,6,FALSE)","v":12},{"$f":"VLOOKUP($B168,'Répertoire des produits'!$1:$1048576,3,FALSE)","v":"03185130071025"},{"$f":"VLOOKUP($B168,'Répertoire des produits'!$1:$1048576,2,FALSE)","v":"Vin bl France Alsace"},{"$f":"CONCATENATE(Tableau1[[#This Row],[Code\nArticle]]&\",\"&Tableau1[[#This Row],[Nom du produit]]&\",\"&Tableau1[[#This Row],[Format]]&\",\"&Tableau1[[#This Row],[UVC]]&\",\"&Tableau1[[#This Row],[CUP]]&\",\"&Tableau1[[#This Row],[Catégorie]])","v":"456244,Pinot gris Pfaff Alsace,750,12,03185130071025,Vin bl France Alsace"}]
[161,10327701,null,{"$f":"VLOOKUP($B169,'Répertoire des produits'!$1:$1048576,4,FALSE)","v":"Sauvignon blanc Kim Crawford Marlborough"},{"$f":"VLOOKUP($B169,'Répertoire des produits'!$1:$1048576,5,FALSE)","v":750},{"$f":"VLOOKUP($B169,'Répertoire des produits'!$1:$1048576,6,FALSE)","v":12},{"$f":"VLOOKUP($B169,'Répertoire des produits'!$1:$1048576,3,FALSE)","v":"09419227006275"},{"$f":"VLOOKUP($B169,'Répertoire des produits'!$1:$1048576,2,FALSE)","v":"Vin bl Nouvelle-Zélande"},{"$f":"CONCATENATE(Tableau1[[#This Row],[Code\nArticle]]&\",\"&Tableau1[[#This Row],[Nom du produit]]&\",\"&Tableau1[[#This Row],[Format]]&\",\"&Tableau1[[#This Row],[UVC]]&\",\"&Tableau1[[#This Row],[CUP]]&\",\"&Tableau1[[#This Row],[Catégorie]])","v":"10327701,Sauvignon blanc Kim Crawford Marlborough,750,12,09419227006275,Vin bl Nouvelle-Zélande"}]
[162,897215,null,{"$f":"VLOOKUP($B170,'Répertoire des produits'!$1:$1048576,4,FALSE)","v":"Chardonnay Château St-Jean Sonoma Californie"},{"$f":"VLOOKUP($B170,'Répertoire des produits'!$1:$1048576,5,FALSE)","v":750},{"$f":"VLOOKUP($B170,'Répertoire des produits'!$1:$1048576,6,FALSE)","v":12},{"$f":"VLOOKUP($B170,'Répertoire des produits'!$1:$1048576,3,FALSE)","v":"00089819055098"},{"$f":"VLOOKUP($B170,'Répertoire des produits'!$1:$1048576,2,FALSE)","v":"Vin bl États-Unis"},{"$f":"CONCATENATE(Tableau1[[#This Row],[Code\nArticle]]&\",\"&Tableau1[[#This Row],[Nom du produit]]&\",\"&Tableau1[[#This Row],[Format]]&\",\"&Tableau1[[#This Row],[UVC]]&\",\"&Tableau1[[#This Row],[CUP]]&\",\"&Tableau1[[#This Row],[Catégorie]])","v":"897215,Chardonnay Château St-Jean Sonoma Californie,750,12,00089819055098,Vin bl États-Unis"}]
[163,316570,null,{"$f":"VLOOKUP($B171,'Répertoire des produits'!$1:$1048576,4,FALSE)","v":"Sauvignon blanc Oyster Bay Marlborough"},{"$f":"VLOOKUP($B171,'Répertoire des produits'!$1:$1048576,5,FALSE)","v":750},{"$f":"VLOOKUP($B171,'Répertoire des produits'!$1:$1048576,6,FALSE)","v":12},{"$f":"VLOOKUP($B171,'Répertoire des produits'!$1:$1048576,3,FALSE)","v":"09415549802601"},{"$f":"VLOOKUP($B171,'Répertoire des produits'!$1:$1048576,2,FALSE)","v":"Vin bl Nouvelle-Zélande"},{"$f":"CONCATENATE(Tableau1[[#This Row],[Code\nArticle]]&\",\"&Tableau1[[#This Row],[Nom du produit]]&\",\"&Tableau1[[#This Row],[Format]]&\",\"&Tableau1[[#This Row],[UVC]]&\",\"&Tableau1[[#This Row],[CUP]]&\",\"&Tableau1[[#This Row],[Catégorie]])","v":"316570,Sauvignon blanc Oyster Bay Marlborough,750,12,09415549802601,Vin bl Nouvelle-Zélande"}]
[164,10667351,null,{"$f":"VLOOKUP($B172,'Répertoire des produits'!$1:$1048576,4,FALSE)","v":"Gazela Vinho verde"},{"$f":"VLOOKUP($B172,'Répertoire des produits'!$1:$1048576,5,FALSE)","v":750},{"$f":"VLOOKUP($B172,'Répertoire des produits'!$1:$1048576,6,FALSE)","v":12},{"$f":"VLOOKUP($B172,'Répertoire des produits'!$1:$1048576,3,FALSE)","v":"05601012045505"},{"$f":"VLOOKUP($B172,'Répertoire des produits'!$1:$1048576,2,FALSE)","v":"Vin bl Portugal"},{"$f":"CONCATENATE(Tableau1[[#This Row],[Code\nArticle]]&\",\"&Tableau1[[#This Row],[Nom du produit]]&\",\"&Tableau1[[#This Row],[Format]]&\",\"&Tableau1[[#This Row],[UVC]]&\",\"&Tableau1[[#This Row],[CUP]]&\",\"&Tableau1[[#This Row],[Catégorie]])","v":"10667351,Gazela Vinho verde,750,12,05601012045505,Vin bl Portugal"}]
[165,521518,null,{"$f":"VLOOKUP($B173,'Répertoire des produits'!$1:$1048576,4,FALSE)","v":"Domaine du Tariquet Classic vdp Gascogne"},{"$f":"VLOOKUP($B173,'Répertoire des produits'!$1:$1048576,5,FALSE)","v":750},{"$f":"VLOOKUP($B173,'Répertoire des produits'!$1:$1048576,6,FALSE)","v":12},{"$f":"VLOOKUP($B173,'Répertoire des produits'!$1:$1048576,3,FALSE)","v":"03359880100018"},{"$f":"VLOOKUP($B173,'Répertoire des produits'!$1:$1048576,2,FALSE)","v":"Vin bl France Sud-Ouest"},{"$f":"CONCATENATE(Tableau1[[#This Row],[Code\nArticle]]&\",\"&Tableau1[[#This Row],[Nom du produit]]&\",\"&Tableau1[[#This Row],[Format]]&\",\"&Tableau1[[#This Row],[UVC]]&\",\"&Tableau1[[#This Row],[CUP]]&\",\"&Tableau1[[#This Row],[Catégorie]])","v":"521518,Domaine du Tariquet Classic vdp Gascogne,750,12,03359880100018,Vin bl France Sud-Ouest"}]
[166,134445,null,{"$f":"VLOOKUP($B174,'Répertoire des produits'!$1:$1048576,4,FALSE)","v":"La Sablette Muscadet-Sèvre et Maine sur lie"},{"$f":"VLOOKUP($B174,'Répertoire des produits'!$1:$1048576,5,FALSE)","v":750},{"$f":"VLOOKUP($B174,'Répertoire des produits'!$1:$1048576,6,FALSE)","v":12},{"$f":"VLOOKUP($B174,'Répertoire des produits'!$1:$1048576,3,FALSE)","v":"03176780102443"},{"$f":"VLOOKUP($B174,'Répertoire des produits'!$1:$1048576,2,FALSE)","v":"Vin bl France Val de Loire"},{"$f":"CONCATENATE(Tableau1[[#This Row],[Code\nArticle]]&\",\"&Tableau1[[#This Row],[Nom du produit]]&\",\"&Tableau1[[#This Row],[Format]]&\",\"&Tableau1[[#This Row],[UVC]]&\",\"&Tableau1[[#This Row],[CUP]]&\",\"&Tableau1[[#This Row],[Catégorie]])","v":"134445,La Sablette Muscadet-Sèvre et Maine sur lie,750,12,03176780102443,Vin bl France Val de Loire"}]
[167,2527,null,{"$f":"VLOOKUP($B175,'Répertoire des produits'!$1:$1048576,4,FALSE)","v":"Mouton Cadet Bordeaux"},{"$f":"VLOOKUP($B175,'Répertoire des produits'!$1:$1048576,5,FALSE)","v":750},{"$f":"VLOOKUP($B175,'Répertoire des produits'!$1:$1048576,6,FALSE)","v":12},{"$f":"VLOOKUP($B175,'Répertoire des produits'!$1:$1048576,3,FALSE)","v":"00083960144045"},{"$f":"VLOOKUP($B175,'Répertoire des produits'!$1:$1048576,2,FALSE)","v":"Vin bl France Bordeaux"},{"$f":"CONCATENATE(Tableau1[[#This Row],[Code\nArticle]]&\",\"&Tableau1[[#This Row],[Nom du produit]]&\",\"&Tableau1[[#This Row],[Format]]&\",\"&Tableau1[[#This Row],[UVC]]&\",\"&Tableau1[[#This Row],[CUP]]&\",\"&Tableau1[[#This Row],[Catégorie]])","v":"2527,Mouton Cadet Bordeaux,750,12,00083960144045,Vin bl France Bordeaux"}]
[168,255448,null,{"$f":"VLOOKUP($B176,'Répertoire des produits'!$1:$1048576,4,FALSE)","v":"Fumé blanc Fetzer Valley Oaks Californie"},{"$f":"VLOOKUP($B176,'Répertoire des produits'!$1:$1048576,5,FALSE)","v":750},{"$f":"VLOOKUP($B176,'Répertoire des produits'!$1:$1048576,6,FALSE)","v":12},{"$f":"VLOOKUP($B176,'Répertoire des produits'!$1:$1048576,3,FALSE)","v":"00082896710270"},{"$f":"VLOOKUP($B176,'Répertoire des produits'!$1:$1048576,2,FALSE)","v":"Vin bl États-Unis"},{"$f":"CONCATENATE(Tableau1[[#This Row],[Code\nArticle]]&\",\"&Tableau1[[#This Row],[Nom du produit]]&\",\"&Tableau1[[#This Row],[Format]]&\",\"&Tableau1[[#This Row],[UVC]]&\",\"&Tableau1[[#This Row],[CUP]]&\",\"&Tableau1[[#This Row],[Catégorie]])","v":"255448,Fumé blanc Fetzer Valley Oaks Californie,750,12,00082896710270,Vin bl États-Unis"}]
[169,122689,null,{"$f":"VLOOKUP($B177,'Répertoire des produits'!$1:$1048576,4,FALSE)","v":"Henkell Trocken mousseux"},{"$f":"VLOOKUP($B177,'Répertoire des produits'!$1:$1048576,5,FALSE)","v":750},{"$f":"VLOOKUP($B177,'Répertoire des produits'!$1:$1048576,6,FALSE)","v":12},{"$f":"VLOOKUP($B177,'Répertoire des produits'!$1:$1048576,3,FALSE)","v":"04003310011625"},{"$f":"VLOOKUP($B177,'Répertoire des produits'!$1:$1048576,2,FALSE)","v":"Mousseux"},{"$f":"CONCATENATE(Tableau1[[#This Row],[Code\nArticle]]&\",\"&Tableau1[[#This Row],[Nom du produit]]&\",\"&Tableau1[[#This Row],[Format]]&\",\"&Tableau1[[#This Row],[UVC]]&\",\"&Tableau1[[#This Row],[CUP]]&\",\"&Tableau1[[#This Row],[Catégorie]])","v":"122689,Henkell Trocken mousseux,750,12,04003310011625,Mousseux"}]
[170,11544337,null,{"$f":"VLOOKUP($B178,'Répertoire des produits'!$1:$1048576,4,FALSE)","v":"Martini & Rossi Asti mousseux"},{"$f":"VLOOKUP($B178,'Répertoire des produits'!$1:$1048576,5,FALSE)","v":750},{"$f":"VLOOKUP($B178,'Répertoire des produits'!$1:$1048576,6,FALSE)","v":6},{"$f":"VLOOKUP($B178,'Répertoire des produits'!$1:$1048576,3,FALSE)","v":"00000570965815"},{"$f":"VLOOKUP($B178,'Répertoire des produits'!$1:$1048576,2,FALSE)","v":"Mousseux"},{"$f":"CONCATENATE(Tableau1[[#This Row],[Code\nArticle]]&\",\"&Tableau1[[#This Row],[Nom du produit]]&\",\"&Tableau1[[#This Row],[Format]]&\",\"&Tableau1[[#This Row],[UVC]]&\",\"&Tableau1[[#This Row],[CUP]]&\",\"&Tableau1[[#This Row],[Catégorie]])","v":"11544337,Martini & Rossi Asti mousseux,750,6,00000570965815,Mousseux"}]
[171,274720,null,{"$f":"VLOOKUP($B179,'Répertoire des produits'!$1:$1048576,4,FALSE)","v":"Vi-No-Ze-Ro Müller-Thurgau tafelwein"},{"$f":"VLOOKUP($B179,'Répertoire des produits'!$1:$1048576,5,FALSE)","v":750},{"$f":"VLOOKUP($B179,'Répertoire des produits'!$1:$1048576,6,FALSE)","v":12},{"$f":"VLOOKUP($B179,'Répertoire des produits'!$1:$1048576,3,FALSE)","v":"04002410427206"},{"$f":"VLOOKUP($B179,'Répertoire des produits'!$1:$1048576,2,FALSE)","v":"Vin bl divers pays"},{"$f":"CONCATENATE(Tableau1[[#This Row],[Code\nArticle]]&\",\"&Tableau1[[#This Row],[Nom du produit]]&\",\"&Tableau1[[#This Row],[Format]]&\",\"&Tableau1[[#This Row],[UVC]]&\",\"&Tableau1[[#This Row],[CUP]]&\",\"&Tableau1[[#This Row],[Catégorie]])","v":"274720,Vi-No-Ze-Ro Müller-Thurgau tafelwein,750,12,04002410427206,Vin bl divers pays"}]
[172,711,null,{"$f":"VLOOKUP($B180,'Répertoire des produits'!$1:$1048576,4,FALSE)","v":"Fontana di Papa Colli Albani"},{"$f":"VLOOKUP($B180,'Répertoire des produits'!$1:$1048576,5,FALSE)","v":1000},{"$f":"VLOOKUP($B180,'Répertoire des produits'!$1:$1048576,6,FALSE)","v":12},{"$f":"VLOOKUP($B180,'Répertoire des produits'!$1:$1048576,3,FALSE)","v":"08001333700010"},{"$f":"VLOOKUP($B180,'Répertoire des produits'!$1:$1048576,2,FALSE)","v":"Vin bl Italie autres régions"},{"$f":"CONCATENATE(Tableau1[[#This Row],[Code\nArticle]]&\",\"&Tableau1[[#This Row],[Nom du produit]]&\",\"&Tableau1[[#This Row],[Format]]&\",\"&Tableau1[[#This Row],[UVC]]&\",\"&Tableau1[[#This Row],[CUP]]&\",\"&Tableau1[[#This Row],[Catégorie]])","v":"711,Fontana di Papa Colli Albani,1000,12,08001333700010,Vin bl Italie autres régions"}]
[173,548883,null,{"$f":"VLOOKUP($B181,'Répertoire des produits'!$1:$1048576,4,FALSE)","v":"Gros Manseng/Sauvignon Brumont vin pays des Côtes de Gascogne"},{"$f":"VLOOKUP($B181,'Répertoire des produits'!$1:$1048576,5,FALSE)","v":750},{"$f":"VLOOKUP($B181,'Répertoire des produits'!$1:$1048576,6,FALSE)","v":12},{"$f":"VLOOKUP($B181,'Répertoire des produits'!$1:$1048576,3,FALSE)","v":"03372220000243"},{"$f":"VLOOKUP($B181,'Répertoire des produits'!$1:$1048576,2,FALSE)","v":"Vin bl France Sud-Ouest"},{"$f":"CONCATENATE(Tableau1[[#This Row],[Code\nArticle]]&\",\"&Tableau1[[#This Row],[Nom du produit]]&\",\"&Tableau1[[#This Row],[Format]]&\",\"&Tableau1[[#This Row],[UVC]]&\",\"&Tableau1[[#This Row],[CUP]]&\",\"&Tableau1[[#This Row],[Catégorie]])","v":"548883,Gros Manseng/Sauvignon Brumont vin pays des Côtes de Gascogne,750,12,03372220000243,Vin bl France Sud-Ouest"}]
[174,11529591,null,{"$f":"VLOOKUP($B182,'Répertoire des produits'!$1:$1048576,4,FALSE)","v":"Chardonnay Cliff 79 South East Australia"},{"$f":"VLOOKUP($B182,'Répertoire des produits'!$1:$1048576,5,FALSE)","v":750},{"$f":"VLOOKUP($B182,'Répertoire des produits'!$1:$1048576,6,FALSE)","v":12},{"$f":"VLOOKUP($B182,'Répertoire des produits'!$1:$1048576,3,FALSE)","v":"00056049028918"},{"$f":"VLOOKUP($B182,'Répertoire des produits'!$1:$1048576,2,FALSE)","v":"Vin bl Australie"},{"$f":"CONCATENATE(Tableau1[[#This Row],[Code\nArticle]]&\",\"&Tableau1[[#This Row],[Nom du produit]]&\",\"&Tableau1[[#This Row],[Format]]&\",\"&Tableau1[[#This Row],[UVC]]&\",\"&Tableau1[[#This Row],[CUP]]&\",\"&Tableau1[[#This Row],[Catégorie]])","v":"11529591,Chardonnay Cliff 79 South East Australia,750,12,00056049028918,Vin bl Australie"}]
[175,10915010,null,{"$f":"VLOOKUP($B183,'Répertoire des produits'!$1:$1048576,4,FALSE)","v":"Pinot grigio Barefoot California"},{"$f":"VLOOKUP($B183,'Répertoire des produits'!$1:$1048576,5,FALSE)","v":750},{"$f":"VLOOKUP($B183,'Répertoire des produits'!$1:$1048576,6,FALSE)","v":12},{"$f":"VLOOKUP($B183,'Répertoire des produits'!$1:$1048576,3,FALSE)","v":"00085000014448"},{"$f":"VLOOKUP($B183,'Répertoire des produits'!$1:$1048576,2,FALSE)","v":"Vin bl États-Unis"},{"$f":"CONCATENATE(Tableau1[[#This Row],[Code\nArticle]]&\",\"&Tableau1[[#This Row],[Nom du produit]]&\",\"&Tableau1[[#This Row],[Format]]&\",\"&Tableau1[[#This Row],[UVC]]&\",\"&Tableau1[[#This Row],[CUP]]&\",\"&Tableau1[[#This Row],[Catégorie]])","v":"10915010,Pinot grigio Barefoot California,750,12,00085000014448,Vin bl États-Unis"}]
[176,10754199,null,{"$f":"VLOOKUP($B184,'Répertoire des produits'!$1:$1048576,4,FALSE)","v":"Chenin blanc/Torrontes Fuzion Mendoza"},{"$f":"VLOOKUP($B184,'Répertoire des produits'!$1:$1048576,5,FALSE)","v":750},{"$f":"VLOOKUP($B184,'Répertoire des produits'!$1:$1048576,6,FALSE)","v":12},{"$f":"VLOOKUP($B184,'Répertoire des produits'!$1:$1048576,3,FALSE)","v":"07791728017366"},{"$f":"VLOOKUP($B184,'Répertoire des produits'!$1:$1048576,2,FALSE)","v":"Vin bl Argentine"},{"$f":"CONCATENATE(Tableau1[[#This Row],[Code\nArticle]]&\",\"&Tableau1[[#This Row],[Nom du produit]]&\",\"&Tableau1[[#This Row],[Format]]&\",\"&Tableau1[[#This Row],[UVC]]&\",\"&Tableau1[[#This Row],[CUP]]&\",\"&Tableau1[[#This Row],[Catégorie]])","v":"10754199,Chenin blanc/Torrontes Fuzion Mendoza,750,12,07791728017366,Vin bl Argentine"}]
[177,564674,null,{"$f":"VLOOKUP($B185,'Répertoire des produits'!$1:$1048576,4,FALSE)","v":"Modello Masi Delle Venezie i.g.t. blanc"},{"$f":"VLOOKUP($B185,'Répertoire des produits'!$1:$1048576,5,FALSE)","v":750},{"$f":"VLOOKUP($B185,'Répertoire des produits'!$1:$1048576,6,FALSE)","v":12},{"$f":"VLOOKUP($B185,'Répertoire des produits'!$1:$1048576,3,FALSE)","v":"08002062008132"},{"$f":"VLOOKUP($B185,'Répertoire des produits'!$1:$1048576,2,FALSE)","v":"Vin bl Italie Vénétie"},{"$f":"CONCATENATE(Tableau1[[#This Row],[Code\nArticle]]&\",\"&Tableau1[[#This Row],[Nom du produit]]&\",\"&Tableau1[[#This Row],[Format]]&\",\"&Tableau1[[#This Row],[UVC]]&\",\"&Tableau1[[#This Row],[CUP]]&\",\"&Tableau1[[#This Row],[Catégorie]])","v":"564674,Modello Masi Delle Venezie i.g.t. blanc,750,12,08002062008132,Vin bl Italie Vénétie"}]
[178,430462,null,{"$f":"VLOOKUP($B186,'Répertoire des produits'!$1:$1048576,4,FALSE)","v":"Bottero Di Cello Bianco Veneto i.g.t."},{"$f":"VLOOKUP($B186,'Répertoire des produits'!$1:$1048576,5,FALSE)","v":1000},{"$f":"VLOOKUP($B186,'Répertoire des produits'!$1:$1048576,6,FALSE)","v":12},{"$f":"VLOOKUP($B186,'Répertoire des produits'!$1:$1048576,3,FALSE)","v":"08008863004083"},{"$f":"VLOOKUP($B186,'Répertoire des produits'!$1:$1048576,2,FALSE)","v":"Vin bl Italie Vénétie"},{"$f":"CONCATENATE(Tableau1[[#This Row],[Code\nArticle]]&\",\"&Tableau1[[#This Row],[Nom du produit]]&\",\"&Tableau1[[#This Row],[Format]]&\",\"&Tableau1[[#This Row],[UVC]]&\",\"&Tableau1[[#This Row],[CUP]]&\",\"&Tableau1[[#This Row],[Catégorie]])","v":"430462,Bottero Di Cello Bianco Veneto i.g.t.,1000,12,08008863004083,Vin bl Italie Vénétie"}]
[179,{"$nulls":3},{"$f":"VLOOKUP($B187,'Répertoire des produits'!$1:$1048576,5,FALSE)","v":{"$error":"#N/A"}},{"$f":"VLOOKUP($B187,'Répertoire des produits'!$1:$1048576,6,FALSE)","v":{"$error":"#N/A"}},{"$f":"VLOOKUP($B187,'Répertoire des produits'!$1:$1048576,3,FALSE)","v":{"$error":"#N/A"}},{"$f":"VLOOKUP($B187,'Répertoire des produits'!$1:$1048576,2,FALSE)","v":{"$error":"#N/A"}},{"$f":"CONCATENATE(Tableau1[[#This Row],[Code\nArticle]]&\",\"&Tableau1[[#This Row],[Nom du produit]]&\",\"&Tableau1[[#This Row],[Format]]&\",\"&Tableau1[[#This Row],[UVC]]&\",\"&Tableau1[[#This Row],[CUP]]&\",\"&Tableau1[[#This Row],[Catégorie]])","v":{"$error":"#N/A"}}]
[180,10324615,null,{"$f":"VLOOKUP($B188,'Répertoire des produits'!$1:$1048576,4,FALSE)","v":"3 Grappes Blanches De La Chevalière Pays d'Oc IGP"},{"$f":"VLOOKUP($B188,'Répertoire des produits'!$1:$1048576,5,FALSE)","v":750},{"$f":"VLOOKUP($B188,'Répertoire des produits'!$1:$1048576,6,FALSE)","v":12},{"$f":"VLOOKUP($B188,'Répertoire des produits'!$1:$1048576,3,FALSE)","v":"03546680019149"},{"$f":"VLOOKUP($B188,'Répertoire des produits'!$1:$1048576,2,FALSE)","v":"Vin bl France Languedoc"},{"$f":"CONCATENATE(Tableau1[[#This Row],[Code\nArticle]]&\",\"&Tableau1[[#This Row],[Nom du produit]]&\",\"&Tableau1[[#This Row],[Format]]&\",\"&Tableau1[[#This Row],[UVC]]&\",\"&Tableau1[[#This Row],[CUP]]&\",\"&Tableau1[[#This Row],[Catégorie]])","v":"10324615,3 Grappes Blanches De La Chevalière Pays d'Oc IGP,750,12,03546680019149,Vin bl France Languedoc"}]
[181,10709988,null,{"$f":"VLOOKUP($B189,'Répertoire des produits'!$1:$1048576,4,FALSE)","v":"Ménage à Trois Folie à Deux Californie blanc"},{"$f":"VLOOKUP($B189,'Répertoire des produits'!$1:$1048576,5,FALSE)","v":750},{"$f":"VLOOKUP($B189,'Répertoire des produits'!$1:$1048576,6,FALSE)","v":12},{"$f":"VLOOKUP($B189,'Répertoire des produits'!$1:$1048576,3,FALSE)","v":"00099988071058"},{"$f":"VLOOKUP($B189,'Répertoire des produits'!$1:$1048576,2,FALSE)","v":"Vin bl États-Unis"},{"$f":"CONCATENATE(Tableau1[[#This Row],[Code\nArticle]]&\",\"&Tableau1[[#This Row],[Nom du produit]]&\",\"&Tableau1[[#This Row],[Format]]&\",\"&Tableau1[[#This Row],[UVC]]&\",\"&Tableau1[[#This Row],[CUP]]&\",\"&Tableau1[[#This Row],[Catégorie]])","v":"10709988,Ménage à Trois Folie à Deux Californie blanc,750,12,00099988071058,Vin bl États-Unis"}]
[182,9373,null,{"$f":"VLOOKUP($B190,'Répertoire des produits'!$1:$1048576,4,FALSE)","v":"Sauvignon blanc Gallo Californie"},{"$f":"VLOOKUP($B190,'Répertoire des produits'!$1:$1048576,5,FALSE)","v":750},{"$f":"VLOOKUP($B190,'Répertoire des produits'!$1:$1048576,6,FALSE)","v":12},{"$f":"VLOOKUP($B190,'Répertoire des produits'!$1:$1048576,3,FALSE)","v":"00085000005866"},{"$f":"VLOOKUP($B190,'Répertoire des produits'!$1:$1048576,2,FALSE)","v":"Vin bl États-Unis"},{"$f":"CONCATENATE(Tableau1[[#This Row],[Code\nArticle]]&\",\"&Tableau1[[#This Row],[Nom du produit]]&\",\"&Tableau1[[#This Row],[Format]]&\",\"&Tableau1[[#This Row],[UVC]]&\",\"&Tableau1[[#This Row],[CUP]]&\",\"&Tableau1[[#This Row],[Catégorie]])","v":"9373,Sauvignon blanc Gallo Californie,750,12,00085000005866,Vin bl États-Unis"}]
[183,10669058,null,{"$f":"VLOOKUP($B191,'Répertoire des produits'!$1:$1048576,4,FALSE)","v":"Chardonnay Gray Fox Vineyards Californie"},{"$f":"VLOOKUP($B191,'Répertoire des produits'!$1:$1048576,5,FALSE)","v":750},{"$f":"VLOOKUP($B191,'Répertoire des produits'!$1:$1048576,6,FALSE)","v":12},{"$f":"VLOOKUP($B191,'Répertoire des produits'!$1:$1048576,3,FALSE)","v":"00041985442270"},{"$f":"VLOOKUP($B191,'Répertoire des produits'!$1:$1048576,2,FALSE)","v":"Vin bl États-Unis"},{"$f":"CONCATENATE(Tableau1[[#This Row],[Code\nArticle]]&\",\"&Tableau1[[#This Row],[Nom du produit]]&\",\"&Tableau1[[#This Row],[Format]]&\",\"&Tableau1[[#This Row],[UVC]]&\",\"&Tableau1[[#This Row],[CUP]]&\",\"&Tableau1[[#This Row],[Catégorie]])","v":"10669058,Chardonnay Gray Fox Vineyards Californie,750,12,00041985442270,Vin bl États-Unis"}]
[184,704221,null,{"$f":"VLOOKUP($B192,'Répertoire des produits'!$1:$1048576,4,FALSE)","v":"L'Orpailleur Vignoble de l'Orpailleur vin blanc"},{"$f":"VLOOKUP($B192,'Répertoire des produits'!$1:$1048576,5,FALSE)","v":750},{"$f":"VLOOKUP($B192,'Répertoire des produits'!$1:$1048576,6,FALSE)","v":12},{"$f":"VLOOKUP($B192,'Répertoire des produits'!$1:$1048576,3,FALSE)","v":"00827924004019"},{"$f":"VLOOKUP($B192,'Répertoire des produits'!$1:$1048576,2,FALSE)","v":"Vin bl Québec"},{"$f":"CONCATENATE(Tableau1[[#This Row],[Code\nArticle]]&\",\"&Tableau1[[#This Row],[Nom du produit]]&\",\"&Tableau1[[#This Row],[Format]]&\",\"&Tableau1[[#This Row],[UVC]]&\",\"&Tableau1[[#This Row],[CUP]]&\",\"&Tableau1[[#This Row],[Catégorie]])","v":"704221,L'Orpailleur Vignoble de l'Orpailleur vin blanc,750,12,00827924004019,Vin bl Québec"}]
[185,496349,null,{"$f":"VLOOKUP($B193,'Répertoire des produits'!$1:$1048576,4,FALSE)","v":"Cellier des Dauphins Prestige Côtes du Rhône"},{"$f":"VLOOKUP($B193,'Répertoire des produits'!$1:$1048576,5,FALSE)","v":250},{"$f":"VLOOKUP($B193,'Répertoire des produits'!$1:$1048576,6,FALSE)","v":24},{"$f":"VLOOKUP($B193,'Répertoire des produits'!$1:$1048576,3,FALSE)","v":"03179070188011"},{"$f":"VLOOKUP($B193,'Répertoire des produits'!$1:$1048576,2,FALSE)","v":"Vin bl petits formats"},{"$f":"CONCATENATE(Tableau1[[#This Row],[Code\nArticle]]&\",\"&Tableau1[[#This Row],[Nom du produit]]&\",\"&Tableau1[[#This Row],[Format]]&\",\"&Tableau1[[#This Row],[UVC]]&\",\"&Tableau1[[#This Row],[CUP]]&\",\"&Tableau1[[#This Row],[Catégorie]])","v":"496349,Cellier des Dauphins Prestige Côtes du Rhône,250,24,03179070188011,Vin bl petits formats"}]
[186,10540721,null,"zonin prosecco",750,12,null,null,{"$f":"CONCATENATE(Tableau1[[#This Row],[Code\nArticle]]&\",\"&Tableau1[[#This Row],[Nom du produit]]&\",\"&Tableau1[[#This Row],[Format]]&\",\"&Tableau1[[#This Row],[UVC]]&\",\"&Tableau1[[#This Row],[CUP]]&\",\"&Tableau1[[#This Row],[Catégorie]])","v":"10540721,zonin prosecco,750,12,,"}]
[187,11675994,null,{"$f":"VLOOKUP($B195,'Répertoire des produits'!$1:$1048576,4,FALSE)","v":"Chardonnay Fun Reserve Georges Duboeuf vin de pays d'Oc"},{"$f":"VLOOKUP($B195,'Répertoire des produits'!$1:$1048576,5,FALSE)","v":750},{"$f":"VLOOKUP($B195,'Répertoire des produits'!$1:$1048576,6,FALSE)","v":12},{"$f":"VLOOKUP($B195,'Répertoire des produits'!$1:$1048576,3,FALSE)","v":"03351650016147"},{"$f":"VLOOKUP($B195,'Répertoire des produits'!$1:$1048576,2,FALSE)","v":"Vin bl France Languedoc"},{"$f":"CONCATENATE(Tableau1[[#This Row],[Code\nArticle]]&\",\"&Tableau1[[#This Row],[Nom du produit]]&\",\"&Tableau1[[#This Row],[Format]]&\",\"&Tableau1[[#This Row],[UVC]]&\",\"&Tableau1[[#This Row],[CUP]]&\",\"&Tableau1[[#This Row],[Catégorie]])","v":"11675994,Chardonnay Fun Reserve Georges Duboeuf vin de pays d'Oc,750,12,03351650016147,Vin bl France Languedoc"}]
[188,{"$nulls":7},{"$f":"CONCATENATE(Tableau1[[#This Row],[Code\nArticle]]&\",\"&Tableau1[[#This Row],[Nom du produit]]&\",\"&Tableau1[[#This Row],[Format]]&\",\"&Tableau1[[#This Row],[UVC]]&\",\"&Tableau1[[#This Row],[CUP]]&\",\"&Tableau1[[#This Row],[Catégorie]])","v":",,,,,"}]
[189,11687101,null,{"$f":"VLOOKUP($B197,'Répertoire des produits'!$1:$1048576,4,FALSE)","v":"Palm Bay Lime/Cerise (6x355) canette boisson à la vodka"},{"$f":"VLOOKUP($B197,'Répertoire des produits'!$1:$1048576,5,FALSE)","v":355},{"$f":"VLOOKUP($B197,'Répertoire des produits'!$1:$1048576,6,FALSE)","v":24},{"$f":"VLOOKUP($B197,'Répertoire des produits'!$1:$1048576,3,FALSE)","v":"00779469002473"},{"$f":"VLOOKUP($B197,'Répertoire des produits'!$1:$1048576,2,FALSE)","v":"Cooler"},{"$f":"CONCATENATE(Tableau1[[#This Row],[Code\nArticle]]&\",\"&Tableau1[[#This Row],[Nom du produit]]&\",\"&Tableau1[[#This Row],[Format]]&\",\"&Tableau1[[#This Row],[UVC]]&\",\"&Tableau1[[#This Row],[CUP]]&\",\"&Tableau1[[#This Row],[Catégorie]])","v":"11687101,Palm Bay Lime/Cerise (6x355) canette boisson à la vodka,355,24,00779469002473,Cooler"}]
[190,12884923,null,"Palm Bay Grenade Hibiscus",{"$f":"VLOOKUP($B198,'Répertoire des produits'!$1:$1048576,5,FALSE)","v":{"$error":"#N/A"}},{"$f":"VLOOKUP($B198,'Répertoire des produits'!$1:$1048576,6,FALSE)","v":{"$error":"#N/A"}},{"$f":"VLOOKUP($B198,'Répertoire des produits'!$1:$1048576,3,FALSE)","v":{"$error":"#N/A"}},{"$f":"VLOOKUP($B198,'Répertoire des produits'!$1:$1048576,2,FALSE)","v":{"$error":"#N/A"}},{"$f":"CONCATENATE(Tableau1[[#This Row],[Code\nArticle]]&\",\"&Tableau1[[#This Row],[Nom du produit]]&\",\"&Tableau1[[#This Row],[Format]]&\",\"&Tableau1[[#This Row],[UVC]]&\",\"&Tableau1[[#This Row],[CUP]]&\",\"&Tableau1[[#This Row],[Catégorie]])","v":{"$error":"#N/A"}}]
[191,11440255,null,{"$f":"VLOOKUP($B199,'Répertoire des produits'!$1:$1048576,4,FALSE)","v":"Palm Bay Ananas/Mandarine/ Orange (6x355) canette boisson"},{"$f":"VLOOKUP($B199,'Répertoire des produits'!$1:$1048576,5,FALSE)","v":355},{"$f":"VLOOKUP($B199,'Répertoire des produits'!$1:$1048576,6,FALSE)","v":24},{"$f":"VLOOKUP($B199,'Répertoire des produits'!$1:$1048576,3,FALSE)","v":"00779469002428"},{"$f":"VLOOKUP($B199,'Répertoire des produits'!$1:$1048576,2,FALSE)","v":"Cooler"},{"$f":"CONCATENATE(Tableau1[[#This Row],[Code\nArticle]]&\",\"&Tableau1[[#This Row],[Nom du produit]]&\",\"&Tableau1[[#This Row],[Format]]&\",\"&Tableau1[[#This Row],[UVC]]&\",\"&Tableau1[[#This Row],[CUP]]&\",\"&Tableau1[[#This Row],[Catégorie]])","v":"11440255,Palm Bay Ananas/Mandarine/ Orange (6x355) canette boisson,355,24,00779469002428,Cooler"}]
[192,13248719,null,"Smirnoff green apple",355,24,null,null,{"$f":"CONCATENATE(Tableau1[[#This Row],[Code\nArticle]]&\",\"&Tableau1[[#This Row],[Nom du produit]]&\",\"&Tableau1[[#This Row],[Format]]&\",\"&Tableau1[[#This Row],[UVC]]&\",\"&Tableau1[[#This Row],[CUP]]&\",\"&Tableau1[[#This Row],[Catégorie]])","v":"13248719,Smirnoff green apple,355,24,,"}]
[{"$f":"ROW(C201)-8","v":193},11440221,null,{"$f":"VLOOKUP($B201,'Répertoire des produits'!$1:$1048576,4,FALSE)","v":"Palm Bay Pamplemousse Rose (6x355) canette boisson vodka"},{"$f":"VLOOKUP($B201,'Répertoire des produits'!$1:$1048576,5,FALSE)","v":355},{"$f":"VLOOKUP($B201,'Répertoire des produits'!$1:$1048576,6,FALSE)","v":24},{"$f":"VLOOKUP($B201,'Répertoire des produits'!$1:$1048576,3,FALSE)","v":"00779469002435"},{"$f":"VLOOKUP($B201,'Répertoire des produits'!$1:$1048576,2,FALSE)","v":"Cooler"},{"$f":"CONCATENATE(Tableau1[[#This Row],[Code\nArticle]]&\",\"&Tableau1[[#This Row],[Nom du produit]]&\",\"&Tableau1[[#This Row],[Format]]&\",\"&Tableau1[[#This Row],[UVC]]&\",\"&Tableau1[[#This Row],[CUP]]&\",\"&Tableau1[[#This Row],[Catégorie]])","v":"11440221,Palm Bay Pamplemousse Rose (6x355) canette boisson vodka,355,24,00779469002435,Cooler"}]
[194,11927661,null,{"$f":"VLOOKUP($B202,'Répertoire des produits'!$1:$1048576,4,FALSE)","v":"Smirnoff Ice canette 6x355ml cooler au spiritueux"},{"$f":"VLOOKUP($B202,'Répertoire des produits'!$1:$1048576,5,FALSE)","v":355},{"$f":"VLOOKUP($B202,'Répertoire des produits'!$1:$1048576,6,FALSE)","v":24},{"$f":"VLOOKUP($B202,'Répertoire des produits'!$1:$1048576,3,FALSE)","v":"00776103001113"},{"$f":"VLOOKUP($B202,'Répertoire des produits'!$1:$1048576,2,FALSE)","v":"Cooler"},{"$f":"CONCATENATE(Tableau1[[#This Row],[Code\nArticle]]&\",\"&Tableau1[[#This Row],[Nom du produit]]&\",\"&Tableau1[[#This Row],[Format]]&\",\"&Tableau1[[#This Row],[UVC]]&\",\"&Tableau1[[#This Row],[CUP]]&\",\"&Tableau1[[#This Row],[Catégorie]])","v":"11927661,Smirnoff Ice canette 6x355ml cooler au spiritueux,355,24,00776103001113,Cooler"}]
[195,10934026,null,{"$f":"VLOOKUP($B203,'Répertoire des produits'!$1:$1048576,4,FALSE)","v":"Rockstar canette boisson à la vodka"},{"$f":"VLOOKUP($B203,'Répertoire des produits'!$1:$1048576,5,FALSE)","v":473},{"$f":"VLOOKUP($B203,'Répertoire des produits'!$1:$1048576,6,FALSE)","v":24},{"$f":"VLOOKUP($B203,'Répertoire des produits'!$1:$1048576,3,FALSE)","v":"00779469001971"},{"$f":"VLOOKUP($B203,'Répertoire des produits'!$1:$1048576,2,FALSE)","v":"Cooler"},{"$f":"CONCATENATE(Tableau1[[#This Row],[Code\nArticle]]&\",\"&Tableau1[[#This Row],[Nom du produit]]&\",\"&Tableau1[[#This Row],[Format]]&\",\"&Tableau1[[#This Row],[UVC]]&\",\"&Tableau1[[#This Row],[CUP]]&\",\"&Tableau1[[#This Row],[Catégorie]])","v":"10934026,Rockstar canette boisson à la vodka,473,24,00779469001971,Cooler"}]
[196,10933998,null,{"$f":"VLOOKUP($B204,'Répertoire des produits'!$1:$1048576,4,FALSE)","v":"Mudshake Vanille Française boisson à la vodka (4x270 ml)"},{"$f":"VLOOKUP($B204,'Répertoire des produits'!$1:$1048576,5,FALSE)","v":270},{"$f":"VLOOKUP($B204,'Répertoire des produits'!$1:$1048576,6,FALSE)","v":24},{"$f":"VLOOKUP($B204,'Répertoire des produits'!$1:$1048576,3,FALSE)","v":"09414453929749"},{"$f":"VLOOKUP($B204,'Répertoire des produits'!$1:$1048576,2,FALSE)","v":"Cooler"},{"$f":"CONCATENATE(Tableau1[[#This Row],[Code\nArticle]]&\",\"&Tableau1[[#This Row],[Nom du produit]]&\",\"&Tableau1[[#This Row],[Format]]&\",\"&Tableau1[[#This Row],[UVC]]&\",\"&Tableau1[[#This Row],[CUP]]&\",\"&Tableau1[[#This Row],[Catégorie]])","v":"10933998,Mudshake Vanille Française boisson à la vodka (4x270 ml),270,24,09414453929749,Cooler"}]
[197,569418,null,{"$f":"VLOOKUP($B205,'Répertoire des produits'!$1:$1048576,4,FALSE)","v":"Mott's Clamato Caesar Originale (4 x 355 ml) cooler"},{"$f":"VLOOKUP($B205,'Répertoire des produits'!$1:$1048576,5,FALSE)","v":355},{"$f":"VLOOKUP($B205,'Répertoire des produits'!$1:$1048576,6,FALSE)","v":24},{"$f":"VLOOKUP($B205,'Répertoire des produits'!$1:$1048576,3,FALSE)","v":"00065912006823"},{"$f":"VLOOKUP($B205,'Répertoire des produits'!$1:$1048576,2,FALSE)","v":"Cooler"},{"$f":"CONCATENATE(Tableau1[[#This Row],[Code\nArticle]]&\",\"&Tableau1[[#This Row],[Nom du produit]]&\",\"&Tableau1[[#This Row],[Format]]&\",\"&Tableau1[[#This Row],[UVC]]&\",\"&Tableau1[[#This Row],[CUP]]&\",\"&Tableau1[[#This Row],[Catégorie]])","v":"569418,Mott's Clamato Caesar Originale (4 x 355 ml) cooler,355,24,00065912006823,Cooler"}]
[198,569400,null,{"$f":"VLOOKUP($B206,'Répertoire des produits'!$1:$1048576,4,FALSE)","v":"Mott's Clamato Caesar extra épicé (4 x 355 ml) cooler"},{"$f":"VLOOKUP($B206,'Répertoire des produits'!$1:$1048576,5,FALSE)","v":355},{"$f":"VLOOKUP($B206,'Répertoire des produits'!$1:$1048576,6,FALSE)","v":24},{"$f":"VLOOKUP($B206,'Répertoire des produits'!$1:$1048576,3,FALSE)","v":"00065912006793"},{"$f":"VLOOKUP($B206,'Répertoire des produits'!$1:$1048576,2,FALSE)","v":"Cooler"},{"$f":"CONCATENATE(Tableau1[[#This Row],[Code\nArticle]]&\",\"&Tableau1[[#This Row],[Nom du produit]]&\",\"&Tableau1[[#This Row],[Format]]&\",\"&Tableau1[[#This Row],[UVC]]&\",\"&Tableau1[[#This Row],[CUP]]&\",\"&Tableau1[[#This Row],[Catégorie]])","v":"569400,Mott's Clamato Caesar extra épicé (4 x 355 ml) cooler,355,24,00065912006793,Cooler"}]
[199,231597,null,{"$f":"VLOOKUP($B207,'Répertoire des produits'!$1:$1048576,4,FALSE)","v":"La Chouffe bière ale forte d'Ardenne"},{"$f":"VLOOKUP($B207,'Répertoire des produits'!$1:$1048576,5,FALSE)","v":750},{"$f":"VLOOKUP($B207,'Répertoire des produits'!$1:$1048576,6,FALSE)","v":12},{"$f":"VLOOKUP($B207,'Répertoire des produits'!$1:$1048576,3,FALSE)","v":"05410769100135"},{"$f":"VLOOKUP($B207,'Répertoire des produits'!$1:$1048576,2,FALSE)","v":"Bière"},{"$f":"CONCATENATE(Tableau1[[#This Row],[Code\nArticle]]&\",\"&Tableau1[[#This Row],[Nom du produit]]&\",\"&Tableau1[[#This Row],[Format]]&\",\"&Tableau1[[#This Row],[UVC]]&\",\"&Tableau1[[#This Row],[CUP]]&\",\"&Tableau1[[#This Row],[Catégorie]])","v":"231597,La Chouffe bière ale forte d'Ardenne,750,12,05410769100135,Bière"}]
[200,13248427,null,"palm bay framboise",null,24,null,null,{"$f":"CONCATENATE(Tableau1[[#This Row],[Code\nArticle]]&\",\"&Tableau1[[#This Row],[Nom du produit]]&\",\"&Tableau1[[#This Row],[Format]]&\",\"&Tableau1[[#This Row],[UVC]]&\",\"&Tableau1[[#This Row],[CUP]]&\",\"&Tableau1[[#This Row],[Catégorie]])","v":"13248427,palm bay framboise,,24,,"}]
[201,13586389,null,"palm bay mangue","296ml",24,null,null,{"$f":"CONCATENATE(Tableau1[[#This Row],[Code\nArticle]]&\",\"&Tableau1[[#This Row],[Nom du produit]]&\",\"&Tableau1[[#This Row],[Format]]&\",\"&Tableau1[[#This Row],[UVC]]&\",\"&Tableau1[[#This Row],[CUP]]&\",\"&Tableau1[[#This Row],[Catégorie]])","v":"13586389,palm bay mangue,296ml,24,,"}]
[202,12885387,null,"clamato cesar lime",458,24,null,null,{"$f":"CONCATENATE(Tableau1[[#This Row],[Code\nArticle]]&\",\"&Tableau1[[#This Row],[Nom du produit]]&\",\"&Tableau1[[#This Row],[Format]]&\",\"&Tableau1[[#This Row],[UVC]]&\",\"&Tableau1[[#This Row],[CUP]]&\",\"&Tableau1[[#This Row],[Catégorie]])","v":"12885387,clamato cesar lime,458,24,,"}]
[203,13248312,null,"breezer  ",355,24,null,null,{"$f":"CONCATENATE(Tableau1[[#This Row],[Code\nArticle]]&\",\"&Tableau1[[#This Row],[Nom du produit]]&\",\"&Tableau1[[#This Row],[Format]]&\",\"&Tableau1[[#This Row],[UVC]]&\",\"&Tableau1[[#This Row],[CUP]]&\",\"&Tableau1[[#This Row],[Catégorie]])","v":"13248312,breezer  ,355,24,,"}]
[204,13336136,null,"breezer  orange",355,24,null,null,{"$f":"CONCATENATE(Tableau1[[#This Row],[Code\nArticle]]&\",\"&Tableau1[[#This Row],[Nom du produit]]&\",\"&Tableau1[[#This Row],[Format]]&\",\"&Tableau1[[#This Row],[UVC]]&\",\"&Tableau1[[#This Row],[CUP]]&\",\"&Tableau1[[#This Row],[Catégorie]])","v":"13336136,breezer  orange,355,24,,"}]
[205,13109793,null,"palm bay fruit du dragon","296ml",24,null,null,{"$f":"CONCATENATE(Tableau1[[#This Row],[Code\nArticle]]&\",\"&Tableau1[[#This Row],[Nom du produit]]&\",\"&Tableau1[[#This Row],[Format]]&\",\"&Tableau1[[#This Row],[UVC]]&\",\"&Tableau1[[#This Row],[CUP]]&\",\"&Tableau1[[#This Row],[Catégorie]])","v":"13109793,palm bay fruit du dragon,296ml,24,,"}]
[206,12884940,null,"palm bay lime cerise","296ml",24,null,null,{"$f":"CONCATENATE(Tableau1[[#This Row],[Code\nArticle]]&\",\"&Tableau1[[#This Row],[Nom du produit]]&\",\"&Tableau1[[#This Row],[Format]]&\",\"&Tableau1[[#This Row],[UVC]]&\",\"&Tableau1[[#This Row],[CUP]]&\",\"&Tableau1[[#This Row],[Catégorie]])","v":"12884940,palm bay lime cerise,296ml,24,,"}]
[207,542977,null,{"$f":"VLOOKUP($B215,'Répertoire des produits'!$1:$1048576,4,FALSE)","v":"Rev (4 x 330 ml) boisson à la vodka avec guarana"},{"$f":"VLOOKUP($B215,'Répertoire des produits'!$1:$1048576,5,FALSE)","v":330},{"$f":"VLOOKUP($B215,'Répertoire des produits'!$1:$1048576,6,FALSE)","v":24},{"$f":"VLOOKUP($B215,'Répertoire des produits'!$1:$1048576,3,FALSE)","v":"00620213250209"},{"$f":"VLOOKUP($B215,'Répertoire des produits'!$1:$1048576,2,FALSE)","v":"Cooler"},{"$f":"CONCATENATE(Tableau1[[#This Row],[Code\nArticle]]&\",\"&Tableau1[[#This Row],[Nom du produit]]&\",\"&Tableau1[[#This Row],[Format]]&\",\"&Tableau1[[#This Row],[UVC]]&\",\"&Tableau1[[#This Row],[CUP]]&\",\"&Tableau1[[#This Row],[Catégorie]])","v":"542977,Rev (4 x 330 ml) boisson à la vodka avec guarana,330,24,00620213250209,Cooler"}]
[208,11401133,null,{"$f":"VLOOKUP($B216,'Répertoire des produits'!$1:$1048576,4,FALSE)","v":"Absolut vodka"},{"$f":"VLOOKUP($B216,'Répertoire des produits'!$1:$1048576,5,FALSE)","v":1140},{"$f":"VLOOKUP($B216,'Répertoire des produits'!$1:$1048576,6,FALSE)","v":6},{"$f":"VLOOKUP($B216,'Répertoire des produits'!$1:$1048576,3,FALSE)","v":"00208352290050"},{"$f":"VLOOKUP($B216,'Répertoire des produits'!$1:$1048576,2,FALSE)","v":"Vodka et Alcool"},{"$f":"CONCATENATE(Tableau1[[#This Row],[Code\nArticle]]&\",\"&Tableau1[[#This Row],[Nom du produit]]&\",\"&Tableau1[[#This Row],[Format]]&\",\"&Tableau1[[#This Row],[UVC]]&\",\"&Tableau1[[#This Row],[CUP]]&\",\"&Tableau1[[#This Row],[Catégorie]])","v":"11401133,Absolut vodka,1140,6,00208352290050,Vodka et Alcool"}]
[209,2691,null,{"$f":"VLOOKUP($B217,'Répertoire des produits'!$1:$1048576,4,FALSE)","v":"Tanqueray London dry gin"},{"$f":"VLOOKUP($B217,'Répertoire des produits'!$1:$1048576,5,FALSE)","v":750},{"$f":"VLOOKUP($B217,'Répertoire des produits'!$1:$1048576,6,FALSE)","v":12},{"$f":"VLOOKUP($B217,'Répertoire des produits'!$1:$1048576,3,FALSE)","v":"00622153625048"},{"$f":"VLOOKUP($B217,'Répertoire des produits'!$1:$1048576,2,FALSE)","v":"Gin"},{"$f":"CONCATENATE(Tableau1[[#This Row],[Code\nArticle]]&\",\"&Tableau1[[#This Row],[Nom du produit]]&\",\"&Tableau1[[#This Row],[Format]]&\",\"&Tableau1[[#This Row],[UVC]]&\",\"&Tableau1[[#This Row],[CUP]]&\",\"&Tableau1[[#This Row],[Catégorie]])","v":"2691,Tanqueray London dry gin,750,12,00622153625048,Gin"}]
[210,11584806,null,{"$f":"VLOOKUP($B218,'Répertoire des produits'!$1:$1048576,4,FALSE)","v":"Ron Carioca rhum blanc"},{"$f":"VLOOKUP($B218,'Répertoire des produits'!$1:$1048576,5,FALSE)","v":1140},{"$f":"VLOOKUP($B218,'Répertoire des produits'!$1:$1048576,6,FALSE)","v":8},{"$f":"VLOOKUP($B218,'Répertoire des produits'!$1:$1048576,3,FALSE)","v":"00622153160068"},{"$f":"VLOOKUP($B218,'Répertoire des produits'!$1:$1048576,2,FALSE)","v":"Rhum"},{"$f":"CONCATENATE(Tableau1[[#This Row],[Code\nArticle]]&\",\"&Tableau1[[#This Row],[Nom du produit]]&\",\"&Tableau1[[#This Row],[Format]]&\",\"&Tableau1[[#This Row],[UVC]]&\",\"&Tableau1[[#This Row],[CUP]]&\",\"&Tableau1[[#This Row],[Catégorie]])","v":"11584806,Ron Carioca rhum blanc,1140,8,00622153160068,Rhum"}]
[211,2444,null,{"$f":"VLOOKUP($B219,'Répertoire des produits'!$1:$1048576,4,FALSE)","v":"Ron Carioca rhum blanc"},{"$f":"VLOOKUP($B219,'Répertoire des produits'!$1:$1048576,5,FALSE)","v":750},{"$f":"VLOOKUP($B219,'Répertoire des produits'!$1:$1048576,6,FALSE)","v":12},{"$f":"VLOOKUP($B219,'Répertoire des produits'!$1:$1048576,3,FALSE)","v":"00622153160044"},{"$f":"VLOOKUP($B219,'Répertoire des produits'!$1:$1048576,2,FALSE)","v":"Rhum"},{"$f":"CONCATENATE(Tableau1[[#This Row],[Code\nArticle]]&\",\"&Tableau1[[#This Row],[Nom du produit]]&\",\"&Tableau1[[#This Row],[Format]]&\",\"&Tableau1[[#This Row],[UVC]]&\",\"&Tableau1[[#This Row],[CUP]]&\",\"&Tableau1[[#This Row],[Catégorie]])","v":"2444,Ron Carioca rhum blanc,750,12,00622153160044,Rhum"}]
[212,443903,null,{"$f":"VLOOKUP($B220,'Répertoire des produits'!$1:$1048576,4,FALSE)","v":"Havana Club Anejo Reserva rhum ambré"},{"$f":"VLOOKUP($B220,'Répertoire des produits'!$1:$1048576,5,FALSE)","v":750},{"$f":"VLOOKUP($B220,'Répertoire des produits'!$1:$1048576,6,FALSE)","v":12},{"$f":"VLOOKUP($B220,'Répertoire des produits'!$1:$1048576,3,FALSE)","v":"08501110080644"},{"$f":"VLOOKUP($B220,'Répertoire des produits'!$1:$1048576,2,FALSE)","v":"Rhum"},{"$f":"CONCATENATE(Tableau1[[#This Row],[Code\nArticle]]&\",\"&Tableau1[[#This Row],[Nom du produit]]&\",\"&Tableau1[[#This Row],[Format]]&\",\"&Tableau1[[#This Row],[UVC]]&\",\"&Tableau1[[#This Row],[CUP]]&\",\"&Tableau1[[#This Row],[Catégorie]])","v":"443903,Havana Club Anejo Reserva rhum ambré,750,12,08501110080644,Rhum"}]
[213,177808,null,{"$f":"VLOOKUP($B221,'Répertoire des produits'!$1:$1048576,4,FALSE)","v":"Appleton Estate V/X rhum ambré"},{"$f":"VLOOKUP($B221,'Répertoire des produits'!$1:$1048576,5,FALSE)","v":750},{"$f":"VLOOKUP($B221,'Répertoire des produits'!$1:$1048576,6,FALSE)","v":12},{"$f":"VLOOKUP($B221,'Répertoire des produits'!$1:$1048576,3,FALSE)","v":"00621705110759"},{"$f":"VLOOKUP($B221,'Répertoire des produits'!$1:$1048576,2,FALSE)","v":"Rhum"},{"$f":"CONCATENATE(Tableau1[[#This Row],[Code\nArticle]]&\",\"&Tableau1[[#This Row],[Nom du produit]]&\",\"&Tableau1[[#This Row],[Format]]&\",\"&Tableau1[[#This Row],[UVC]]&\",\"&Tableau1[[#This Row],[CUP]]&\",\"&Tableau1[[#This Row],[Catégorie]])","v":"177808,Appleton Estate V/X rhum ambré,750,12,00621705110759,Rhum"}]
[214,11464257,null,{"$f":"VLOOKUP($B222,'Répertoire des produits'!$1:$1048576,4,FALSE)","v":"Appleton Estate V/X rhum ambré"},{"$f":"VLOOKUP($B222,'Répertoire des produits'!$1:$1048576,5,FALSE)","v":1140},{"$f":"VLOOKUP($B222,'Répertoire des produits'!$1:$1048576,6,FALSE)","v":6},{"$f":"VLOOKUP($B222,'Répertoire des produits'!$1:$1048576,3,FALSE)","v":"00621705111145"},{"$f":"VLOOKUP($B222,'Répertoire des produits'!$1:$1048576,2,FALSE)","v":"Rhum"},{"$f":"CONCATENATE(Tableau1[[#This Row],[Code\nArticle]]&\",\"&Tableau1[[#This Row],[Nom du produit]]&\",\"&Tableau1[[#This Row],[Format]]&\",\"&Tableau1[[#This Row],[UVC]]&\",\"&Tableau1[[#This Row],[CUP]]&\",\"&Tableau1[[#This Row],[Catégorie]])","v":"11464257,Appleton Estate V/X rhum ambré,1140,6,00621705111145,Rhum"}]
[215,11964606,null,{"$f":"VLOOKUP($B223,'Répertoire des produits'!$1:$1048576,4,FALSE)","v":"The Kraken Black Spiced Rhum épicé"},{"$f":"VLOOKUP($B223,'Répertoire des produits'!$1:$1048576,5,FALSE)","v":750},{"$f":"VLOOKUP($B223,'Répertoire des produits'!$1:$1048576,6,FALSE)","v":12},{"$f":"VLOOKUP($B223,'Répertoire des produits'!$1:$1048576,3,FALSE)","v":"07501035047204"},{"$f":"VLOOKUP($B223,'Répertoire des produits'!$1:$1048576,2,FALSE)","v":"Rhum"},{"$f":"CONCATENATE(Tableau1[[#This Row],[Code\nArticle]]&\",\"&Tableau1[[#This Row],[Nom du produit]]&\",\"&Tableau1[[#This Row],[Format]]&\",\"&Tableau1[[#This Row],[UVC]]&\",\"&Tableau1[[#This Row],[CUP]]&\",\"&Tableau1[[#This Row],[Catégorie]])","v":"11964606,The Kraken Black Spiced Rhum épicé,750,12,07501035047204,Rhum"}]
[216,63461,null,{"$f":"VLOOKUP($B224,'Répertoire des produits'!$1:$1048576,4,FALSE)","v":"Gautier Cognac V.S."},{"$f":"VLOOKUP($B224,'Répertoire des produits'!$1:$1048576,5,FALSE)","v":750},{"$f":"VLOOKUP($B224,'Répertoire des produits'!$1:$1048576,6,FALSE)","v":12},{"$f":"VLOOKUP($B224,'Répertoire des produits'!$1:$1048576,3,FALSE)","v":"03269550254913"},{"$f":"VLOOKUP($B224,'Répertoire des produits'!$1:$1048576,2,FALSE)","v":"Brandy et Cognac"},{"$f":"CONCATENATE(Tableau1[[#This Row],[Code\nArticle]]&\",\"&Tableau1[[#This Row],[Nom du produit]]&\",\"&Tableau1[[#This Row],[Format]]&\",\"&Tableau1[[#This Row],[UVC]]&\",\"&Tableau1[[#This Row],[CUP]]&\",\"&Tableau1[[#This Row],[Catégorie]])","v":"63461,Gautier Cognac V.S.,750,12,03269550254913,Brandy et Cognac"}]
[217,8888,null,{"$f":"VLOOKUP($B225,'Répertoire des produits'!$1:$1048576,4,FALSE)","v":"St-Rémy Authentic VSOP brandy"},{"$f":"VLOOKUP($B225,'Répertoire des produits'!$1:$1048576,5,FALSE)","v":750},{"$f":"VLOOKUP($B225,'Répertoire des produits'!$1:$1048576,6,FALSE)","v":12},{"$f":"VLOOKUP($B225,'Répertoire des produits'!$1:$1048576,3,FALSE)","v":"00088352103280"},{"$f":"VLOOKUP($B225,'Répertoire des produits'!$1:$1048576,2,FALSE)","v":"Brandy et Cognac"},{"$f":"CONCATENATE(Tableau1[[#This Row],[Code\nArticle]]&\",\"&Tableau1[[#This Row],[Nom du produit]]&\",\"&Tableau1[[#This Row],[Format]]&\",\"&Tableau1[[#This Row],[UVC]]&\",\"&Tableau1[[#This Row],[CUP]]&\",\"&Tableau1[[#This Row],[Catégorie]])","v":"8888,St-Rémy Authentic VSOP brandy,750,12,00088352103280,Brandy et Cognac"}]
[218,10825920,null,{"$f":"VLOOKUP($B226,'Répertoire des produits'!$1:$1048576,4,FALSE)","v":"Belle de Brillet liqueur de poire et cognac"},{"$f":"VLOOKUP($B226,'Répertoire des produits'!$1:$1048576,5,FALSE)","v":700},{"$f":"VLOOKUP($B226,'Répertoire des produits'!$1:$1048576,6,FALSE)","v":12},{"$f":"VLOOKUP($B226,'Répertoire des produits'!$1:$1048576,3,FALSE)","v":"03380140240854"},{"$f":"VLOOKUP($B226,'Répertoire des produits'!$1:$1048576,2,FALSE)","v":"Liqueur"},{"$f":"CONCATENATE(Tableau1[[#This Row],[Code\nArticle]]&\",\"&Tableau1[[#This Row],[Nom du produit]]&\",\"&Tableau1[[#This Row],[Format]]&\",\"&Tableau1[[#This Row],[UVC]]&\",\"&Tableau1[[#This Row],[CUP]]&\",\"&Tableau1[[#This Row],[Catégorie]])","v":"10825920,Belle de Brillet liqueur de poire et cognac,700,12,03380140240854,Liqueur"}]
[219,1487,null,{"$f":"VLOOKUP($B227,'Répertoire des produits'!$1:$1048576,4,FALSE)","v":"Crown Royal whisky canadien"},{"$f":"VLOOKUP($B227,'Répertoire des produits'!$1:$1048576,5,FALSE)","v":750},{"$f":"VLOOKUP($B227,'Répertoire des produits'!$1:$1048576,6,FALSE)","v":12},{"$f":"VLOOKUP($B227,'Répertoire des produits'!$1:$1048576,3,FALSE)","v":"00087000007253"},{"$f":"VLOOKUP($B227,'Répertoire des produits'!$1:$1048576,2,FALSE)","v":"Whisky"},{"$f":"CONCATENATE(Tableau1[[#This Row],[Code\nArticle]]&\",\"&Tableau1[[#This Row],[Nom du produit]]&\",\"&Tableau1[[#This Row],[Format]]&\",\"&Tableau1[[#This Row],[UVC]]&\",\"&Tableau1[[#This Row],[CUP]]&\",\"&Tableau1[[#This Row],[Catégorie]])","v":"1487,Crown Royal whisky canadien,750,12,00087000007253,Whisky"}]
[220,1784,null,{"$f":"VLOOKUP($B228,'Répertoire des produits'!$1:$1048576,4,FALSE)","v":"Grand Marnier liqueur d'agrumes"},{"$f":"VLOOKUP($B228,'Répertoire des produits'!$1:$1048576,5,FALSE)","v":750},{"$f":"VLOOKUP($B228,'Répertoire des produits'!$1:$1048576,6,FALSE)","v":12},{"$f":"VLOOKUP($B228,'Répertoire des produits'!$1:$1048576,3,FALSE)","v":"03018300000191"},{"$f":"VLOOKUP($B228,'Répertoire des produits'!$1:$1048576,2,FALSE)","v":"Liqueur"},{"$f":"CONCATENATE(Tableau1[[#This Row],[Code\nArticle]]&\",\"&Tableau1[[#This Row],[Nom du produit]]&\",\"&Tableau1[[#This Row],[Format]]&\",\"&Tableau1[[#This Row],[UVC]]&\",\"&Tableau1[[#This Row],[CUP]]&\",\"&Tableau1[[#This Row],[Catégorie]])","v":"1784,Grand Marnier liqueur d'agrumes,750,12,03018300000191,Liqueur"}]
[221,10210651,null,{"$f":"VLOOKUP($B229,'Répertoire des produits'!$1:$1048576,4,FALSE)","v":"Téquila Rose boisson à la crème et fraise"},{"$f":"VLOOKUP($B229,'Répertoire des produits'!$1:$1048576,5,FALSE)","v":750},{"$f":"VLOOKUP($B229,'Répertoire des produits'!$1:$1048576,6,FALSE)","v":12},{"$f":"VLOOKUP($B229,'Répertoire des produits'!$1:$1048576,3,FALSE)","v":"00085592149955"},{"$f":"VLOOKUP($B229,'Répertoire des produits'!$1:$1048576,2,FALSE)","v":"Crème"},{"$f":"CONCATENATE(Tableau1[[#This Row],[Code\nArticle]]&\",\"&Tableau1[[#This Row],[Nom du produit]]&\",\"&Tableau1[[#This Row],[Format]]&\",\"&Tableau1[[#This Row],[UVC]]&\",\"&Tableau1[[#This Row],[CUP]]&\",\"&Tableau1[[#This Row],[Catégorie]])","v":"10210651,Téquila Rose boisson à la crème et fraise,750,12,00085592149955,Crème"}]
[222,10666826,null,{"$f":"VLOOKUP($B230,'Répertoire des produits'!$1:$1048576,4,FALSE)","v":"Baileys l'original boisson à la crème irlandaise"},{"$f":"VLOOKUP($B230,'Répertoire des produits'!$1:$1048576,5,FALSE)","v":1140},{"$f":"VLOOKUP($B230,'Répertoire des produits'!$1:$1048576,6,FALSE)","v":6},{"$f":"VLOOKUP($B230,'Répertoire des produits'!$1:$1048576,3,FALSE)","v":"05011013100095"},{"$f":"VLOOKUP($B230,'Répertoire des produits'!$1:$1048576,2,FALSE)","v":"Crème"},{"$f":"CONCATENATE(Tableau1[[#This Row],[Code\nArticle]]&\",\"&Tableau1[[#This Row],[Nom du produit]]&\",\"&Tableau1[[#This Row],[Format]]&\",\"&Tableau1[[#This Row],[UVC]]&\",\"&Tableau1[[#This Row],[CUP]]&\",\"&Tableau1[[#This Row],[Catégorie]])","v":"10666826,Baileys l'original boisson à la crème irlandaise,1140,6,05011013100095,Crème"}]
[223,11098761,null,{"$f":"VLOOKUP($B231,'Répertoire des produits'!$1:$1048576,4,FALSE)","v":"Frangelico Liqueur boisson à la noisette"},{"$f":"VLOOKUP($B231,'Répertoire des produits'!$1:$1048576,5,FALSE)","v":750},{"$f":"VLOOKUP($B231,'Répertoire des produits'!$1:$1048576,6,FALSE)","v":12},{"$f":"VLOOKUP($B231,'Répertoire des produits'!$1:$1048576,3,FALSE)","v":"08004160681309"},{"$f":"VLOOKUP($B231,'Répertoire des produits'!$1:$1048576,2,FALSE)","v":"Liqueur"},{"$f":"CONCATENATE(Tableau1[[#This Row],[Code\nArticle]]&\",\"&Tableau1[[#This Row],[Nom du produit]]&\",\"&Tableau1[[#This Row],[Format]]&\",\"&Tableau1[[#This Row],[UVC]]&\",\"&Tableau1[[#This Row],[CUP]]&\",\"&Tableau1[[#This Row],[Catégorie]])","v":"11098761,Frangelico Liqueur boisson à la noisette,750,12,08004160681309,Liqueur"}]
[224,5959,null,{"$f":"VLOOKUP($B232,'Répertoire des produits'!$1:$1048576,4,FALSE)","v":"Baileys l'original boisson à la crème irlandaise"},{"$f":"VLOOKUP($B232,'Répertoire des produits'!$1:$1048576,5,FALSE)","v":750},{"$f":"VLOOKUP($B232,'Répertoire des produits'!$1:$1048576,6,FALSE)","v":12},{"$f":"VLOOKUP($B232,'Répertoire des produits'!$1:$1048576,3,FALSE)","v":"05011013100132"},{"$f":"VLOOKUP($B232,'Répertoire des produits'!$1:$1048576,2,FALSE)","v":"Crème"},{"$f":"CONCATENATE(Tableau1[[#This Row],[Code\nArticle]]&\",\"&Tableau1[[#This Row],[Nom du produit]]&\",\"&Tableau1[[#This Row],[Format]]&\",\"&Tableau1[[#This Row],[UVC]]&\",\"&Tableau1[[#This Row],[CUP]]&\",\"&Tableau1[[#This Row],[Catégorie]])","v":"5959,Baileys l'original boisson à la crème irlandaise,750,12,05011013100132,Crème"}]
[225,12821771,null,"AMARUIA",1140,{"$f":"VLOOKUP($B233,'Répertoire des produits'!$1:$1048576,6,FALSE)","v":{"$error":"#N/A"}},null,"CREME",{"$f":"CONCATENATE(Tableau1[[#This Row],[Code\nArticle]]&\",\"&Tableau1[[#This Row],[Nom du produit]]&\",\"&Tableau1[[#This Row],[Format]]&\",\"&Tableau1[[#This Row],[UVC]]&\",\"&Tableau1[[#This Row],[CUP]]&\",\"&Tableau1[[#This Row],[Catégorie]])","v":{"$error":"#N/A"}}]
[226,342246,null,{"$f":"VLOOKUP($B234,'Répertoire des produits'!$1:$1048576,4,FALSE)","v":"Amarula Cream boisson à la crème"},{"$f":"VLOOKUP($B234,'Répertoire des produits'!$1:$1048576,5,FALSE)","v":750},{"$f":"VLOOKUP($B234,'Répertoire des produits'!$1:$1048576,6,FALSE)","v":12},{"$f":"VLOOKUP($B234,'Répertoire des produits'!$1:$1048576,3,FALSE)","v":"06001495062980"},{"$f":"VLOOKUP($B234,'Répertoire des produits'!$1:$1048576,2,FALSE)","v":"Crème"},{"$f":"CONCATENATE(Tableau1[[#This Row],[Code\nArticle]]&\",\"&Tableau1[[#This Row],[Nom du produit]]&\",\"&Tableau1[[#This Row],[Format]]&\",\"&Tableau1[[#This Row],[UVC]]&\",\"&Tableau1[[#This Row],[CUP]]&\",\"&Tableau1[[#This Row],[Catégorie]])","v":"342246,Amarula Cream boisson à la crème,750,12,06001495062980,Crème"}]
[227,12849,null,{"$f":"VLOOKUP($B235,'Répertoire des produits'!$1:$1048576,4,FALSE)","v":"Hakutsuru sake"},{"$f":"VLOOKUP($B235,'Répertoire des produits'!$1:$1048576,5,FALSE)","v":720},{"$f":"VLOOKUP($B235,'Répertoire des produits'!$1:$1048576,6,FALSE)","v":12},{"$f":"VLOOKUP($B235,'Répertoire des produits'!$1:$1048576,3,FALSE)","v":"04902650260536"},{"$f":"VLOOKUP($B235,'Répertoire des produits'!$1:$1048576,2,FALSE)","v":"Vin bl divers pays"},{"$f":"CONCATENATE(Tableau1[[#This Row],[Code\nArticle]]&\",\"&Tableau1[[#This Row],[Nom du produit]]&\",\"&Tableau1[[#This Row],[Format]]&\",\"&Tableau1[[#This Row],[UVC]]&\",\"&Tableau1[[#This Row],[CUP]]&\",\"&Tableau1[[#This Row],[Catégorie]])","v":"12849,Hakutsuru sake,720,12,04902650260536,Vin bl divers pays"}]
[228,11401352,null,{"$f":"VLOOKUP($B236,'Répertoire des produits'!$1:$1048576,4,FALSE)","v":"Martini Rosso vermouth"},{"$f":"VLOOKUP($B236,'Répertoire des produits'!$1:$1048576,5,FALSE)","v":1000},{"$f":"VLOOKUP($B236,'Répertoire des produits'!$1:$1048576,6,FALSE)","v":6},{"$f":"VLOOKUP($B236,'Répertoire des produits'!$1:$1048576,3,FALSE)","v":"00000570210076"},{"$f":"VLOOKUP($B236,'Répertoire des produits'!$1:$1048576,2,FALSE)","v":"Apéritif"},{"$f":"CONCATENATE(Tableau1[[#This Row],[Code\nArticle]]&\",\"&Tableau1[[#This Row],[Nom du produit]]&\",\"&Tableau1[[#This Row],[Format]]&\",\"&Tableau1[[#This Row],[UVC]]&\",\"&Tableau1[[#This Row],[CUP]]&\",\"&Tableau1[[#This Row],[Catégorie]])","v":"11401352,Martini Rosso vermouth,1000,6,00000570210076,Apéritif"}]
[229,11544302,null,{"$f":"VLOOKUP($B237,'Répertoire des produits'!$1:$1048576,4,FALSE)","v":"Martini sec vermouth"},{"$f":"VLOOKUP($B237,'Répertoire des produits'!$1:$1048576,5,FALSE)","v":1000},{"$f":"VLOOKUP($B237,'Répertoire des produits'!$1:$1048576,6,FALSE)","v":6},{"$f":"VLOOKUP($B237,'Répertoire des produits'!$1:$1048576,3,FALSE)","v":"00000570710071"},{"$f":"VLOOKUP($B237,'Répertoire des produits'!$1:$1048576,2,FALSE)","v":"Apéritif"},{"$f":"CONCATENATE(Tableau1[[#This Row],[Code\nArticle]]&\",\"&Tableau1[[#This Row],[Nom du produit]]&\",\"&Tableau1[[#This Row],[Format]]&\",\"&Tableau1[[#This Row],[UVC]]&\",\"&Tableau1[[#This Row],[CUP]]&\",\"&Tableau1[[#This Row],[Catégorie]])","v":"11544302,Martini sec vermouth,1000,6,00000570710071,Apéritif"}]
[230,11408642,null,{"$f":"VLOOKUP($B238,'Répertoire des produits'!$1:$1048576,4,FALSE)","v":"Cinzano Rosso vermouth"},{"$f":"VLOOKUP($B238,'Répertoire des produits'!$1:$1048576,5,FALSE)","v":1000},{"$f":"VLOOKUP($B238,'Répertoire des produits'!$1:$1048576,6,FALSE)","v":6},{"$f":"VLOOKUP($B238,'Répertoire des produits'!$1:$1048576,3,FALSE)","v":"08000020000020"},{"$f":"VLOOKUP($B238,'Répertoire des produits'!$1:$1048576,2,FALSE)","v":"Apéritif"},{"$f":"CONCATENATE(Tableau1[[#This Row],[Code\nArticle]]&\",\"&Tableau1[[#This Row],[Nom du produit]]&\",\"&Tableau1[[#This Row],[Format]]&\",\"&Tableau1[[#This Row],[UVC]]&\",\"&Tableau1[[#This Row],[CUP]]&\",\"&Tableau1[[#This Row],[Catégorie]])","v":"11408642,Cinzano Rosso vermouth,1000,6,08000020000020,Apéritif"}]
[231,{"$nulls":7},{"$f":"CONCATENATE(Tableau1[[#This Row],[Code\nArticle]]&\",\"&Tableau1[[#This Row],[Nom du produit]]&\",\"&Tableau1[[#This Row],[Format]]&\",\"&Tableau1[[#This Row],[UVC]]&\",\"&Tableau1[[#This Row],[CUP]]&\",\"&Tableau1[[#This Row],[Catégorie]])","v":",,,,,"}]
[232,13478679,null,"bacardi superior rhum blanc","1.14l",8,80480007553,{"$f":"VLOOKUP($B240,'Répertoire des produits'!$1:$1048576,2,FALSE)","v":{"$error":"#N/A"}},{"$f":"CONCATENATE(Tableau1[[#This Row],[Code\nArticle]]&\",\"&Tableau1[[#This Row],[Nom du produit]]&\",\"&Tableau1[[#This Row],[Format]]&\",\"&Tableau1[[#This Row],[UVC]]&\",\"&Tableau1[[#This Row],[CUP]]&\",\"&Tableau1[[#This Row],[Catégorie]])","v":{"$error":"#N/A"}}]
[233,117,null,{"$f":"VLOOKUP($B241,'Répertoire des produits'!$1:$1048576,4,FALSE)","v":"Bacardi Superior rhum blanc"},{"$f":"VLOOKUP($B241,'Répertoire des produits'!$1:$1048576,5,FALSE)","v":750},{"$f":"VLOOKUP($B241,'Répertoire des produits'!$1:$1048576,6,FALSE)","v":12},{"$f":"VLOOKUP($B241,'Répertoire des produits'!$1:$1048576,3,FALSE)","v":"00620213015402"},{"$f":"VLOOKUP($B241,'Répertoire des produits'!$1:$1048576,2,FALSE)","v":"Rhum"},{"$f":"CONCATENATE(Tableau1[[#This Row],[Code\nArticle]]&\",\"&Tableau1[[#This Row],[Nom du produit]]&\",\"&Tableau1[[#This Row],[Format]]&\",\"&Tableau1[[#This Row],[UVC]]&\",\"&Tableau1[[#This Row],[CUP]]&\",\"&Tableau1[[#This Row],[Catégorie]])","v":"117,Bacardi Superior rhum blanc,750,12,00620213015402,Rhum"}]
[234,11480054,null,{"$f":"VLOOKUP($B242,'Répertoire des produits'!$1:$1048576,4,FALSE)","v":"Havana Club Anejo Reserva rhum ambré"},{"$f":"VLOOKUP($B242,'Répertoire des produits'!$1:$1048576,5,FALSE)","v":1140},{"$f":"VLOOKUP($B242,'Répertoire des produits'!$1:$1048576,6,FALSE)","v":6},{"$f":"VLOOKUP($B242,'Répertoire des produits'!$1:$1048576,3,FALSE)","v":"08501110080682"},{"$f":"VLOOKUP($B242,'Répertoire des produits'!$1:$1048576,2,FALSE)","v":"Rhum"},{"$f":"CONCATENATE(Tableau1[[#This Row],[Code\nArticle]]&\",\"&Tableau1[[#This Row],[Nom du produit]]&\",\"&Tableau1[[#This Row],[Format]]&\",\"&Tableau1[[#This Row],[UVC]]&\",\"&Tableau1[[#This Row],[CUP]]&\",\"&Tableau1[[#This Row],[Catégorie]])","v":"11480054,Havana Club Anejo Reserva rhum ambré,1140,6,08501110080682,Rhum"}]
[235,11447414,null,{"$f":"VLOOKUP($B243,'Répertoire des produits'!$1:$1048576,4,FALSE)","v":"Tanqueray London dry gin"},{"$f":"VLOOKUP($B243,'Répertoire des produits'!$1:$1048576,5,FALSE)","v":1140},{"$f":"VLOOKUP($B243,'Répertoire des produits'!$1:$1048576,6,FALSE)","v":6},{"$f":"VLOOKUP($B243,'Répertoire des produits'!$1:$1048576,3,FALSE)","v":"00622153625062"},{"$f":"VLOOKUP($B243,'Répertoire des produits'!$1:$1048576,2,FALSE)","v":"Gin"},{"$f":"CONCATENATE(Tableau1[[#This Row],[Code\nArticle]]&\",\"&Tableau1[[#This Row],[Nom du produit]]&\",\"&Tableau1[[#This Row],[Format]]&\",\"&Tableau1[[#This Row],[UVC]]&\",\"&Tableau1[[#This Row],[CUP]]&\",\"&Tableau1[[#This Row],[Catégorie]])","v":"11447414,Tanqueray London dry gin,1140,6,00622153625062,Gin"}]
[236,11584478,null,{"$f":"VLOOKUP($B244,'Répertoire des produits'!$1:$1048576,4,FALSE)","v":"Captain Morgan Original Spiced rhum épicé ambré"},{"$f":"VLOOKUP($B244,'Répertoire des produits'!$1:$1048576,5,FALSE)","v":1140},{"$f":"VLOOKUP($B244,'Répertoire des produits'!$1:$1048576,6,FALSE)","v":8},{"$f":"VLOOKUP($B244,'Répertoire des produits'!$1:$1048576,3,FALSE)","v":"00087000151109"},{"$f":"VLOOKUP($B244,'Répertoire des produits'!$1:$1048576,2,FALSE)","v":"Rhum"},{"$f":"CONCATENATE(Tableau1[[#This Row],[Code\nArticle]]&\",\"&Tableau1[[#This Row],[Nom du produit]]&\",\"&Tableau1[[#This Row],[Format]]&\",\"&Tableau1[[#This Row],[UVC]]&\",\"&Tableau1[[#This Row],[CUP]]&\",\"&Tableau1[[#This Row],[Catégorie]])","v":"11584478,Captain Morgan Original Spiced rhum épicé ambré,1140,8,00087000151109,Rhum"}]
[237,500512,null,{"$f":"VLOOKUP($B245,'Répertoire des produits'!$1:$1048576,4,FALSE)","v":"Captain Morgan Original Spiced rhum épicé ambré"},{"$f":"VLOOKUP($B245,'Répertoire des produits'!$1:$1048576,5,FALSE)","v":750},{"$f":"VLOOKUP($B245,'Répertoire des produits'!$1:$1048576,6,FALSE)","v":12},{"$f":"VLOOKUP($B245,'Répertoire des produits'!$1:$1048576,3,FALSE)","v":"00087000151086"},{"$f":"VLOOKUP($B245,'Répertoire des produits'!$1:$1048576,2,FALSE)","v":"Rhum"},{"$f":"CONCATENATE(Tableau1[[#This Row],[Code\nArticle]]&\",\"&Tableau1[[#This Row],[Nom du produit]]&\",\"&Tableau1[[#This Row],[Format]]&\",\"&Tableau1[[#This Row],[UVC]]&\",\"&Tableau1[[#This Row],[CUP]]&\",\"&Tableau1[[#This Row],[Catégorie]])","v":"500512,Captain Morgan Original Spiced rhum épicé ambré,750,12,00087000151086,Rhum"}]
[238,12362674,null,"CHIC CHOC",750,12,85474500096,"rhum quebecois",{"$f":"CONCATENATE(Tableau1[[#This Row],[Code\nArticle]]&\",\"&Tableau1[[#This Row],[Nom du produit]]&\",\"&Tableau1[[#This Row],[Format]]&\",\"&Tableau1[[#This Row],[UVC]]&\",\"&Tableau1[[#This Row],[CUP]]&\",\"&Tableau1[[#This Row],[Catégorie]])","v":"12362674,CHIC CHOC,750,12,85474500096,rhum quebecois"}]
[239,1206,null,{"$f":"VLOOKUP($B247,'Répertoire des produits'!$1:$1048576,4,FALSE)","v":"Bacardi Gold rhum ambré"},{"$f":"VLOOKUP($B247,'Répertoire des produits'!$1:$1048576,5,FALSE)","v":750},{"$f":"VLOOKUP($B247,'Répertoire des produits'!$1:$1048576,6,FALSE)","v":12},{"$f":"VLOOKUP($B247,'Répertoire des produits'!$1:$1048576,3,FALSE)","v":"00620213025401"},{"$f":"VLOOKUP($B247,'Répertoire des produits'!$1:$1048576,2,FALSE)","v":"Rhum"},{"$f":"CONCATENATE(Tableau1[[#This Row],[Code\nArticle]]&\",\"&Tableau1[[#This Row],[Nom du produit]]&\",\"&Tableau1[[#This Row],[Format]]&\",\"&Tableau1[[#This Row],[UVC]]&\",\"&Tableau1[[#This Row],[CUP]]&\",\"&Tableau1[[#This Row],[Catégorie]])","v":"1206,Bacardi Gold rhum ambré,750,12,00620213025401,Rhum"}]
[240,11156764,null,{"$f":"VLOOKUP($B248,'Répertoire des produits'!$1:$1048576,4,FALSE)","v":"Ungava Dry Gin"},{"$f":"VLOOKUP($B248,'Répertoire des produits'!$1:$1048576,5,FALSE)","v":750},{"$f":"VLOOKUP($B248,'Répertoire des produits'!$1:$1048576,6,FALSE)","v":12},{"$f":"VLOOKUP($B248,'Répertoire des produits'!$1:$1048576,3,FALSE)","v":"00854745000548"},{"$f":"VLOOKUP($B248,'Répertoire des produits'!$1:$1048576,2,FALSE)","v":"Gin"},{"$f":"CONCATENATE(Tableau1[[#This Row],[Code\nArticle]]&\",\"&Tableau1[[#This Row],[Nom du produit]]&\",\"&Tableau1[[#This Row],[Format]]&\",\"&Tableau1[[#This Row],[UVC]]&\",\"&Tableau1[[#This Row],[CUP]]&\",\"&Tableau1[[#This Row],[Catégorie]])","v":"11156764,Ungava Dry Gin,750,12,00854745000548,Gin"}]
[241,3723,null,{"$f":"VLOOKUP($B249,'Répertoire des produits'!$1:$1048576,4,FALSE)","v":"Chemineaud ***** brandy"},{"$f":"VLOOKUP($B249,'Répertoire des produits'!$1:$1048576,5,FALSE)","v":1140},{"$f":"VLOOKUP($B249,'Répertoire des produits'!$1:$1048576,6,FALSE)","v":12},{"$f":"VLOOKUP($B249,'Répertoire des produits'!$1:$1048576,3,FALSE)","v":"00814789003325"},{"$f":"VLOOKUP($B249,'Répertoire des produits'!$1:$1048576,2,FALSE)","v":"Brandy et Cognac"},{"$f":"CONCATENATE(Tableau1[[#This Row],[Code\nArticle]]&\",\"&Tableau1[[#This Row],[Nom du produit]]&\",\"&Tableau1[[#This Row],[Format]]&\",\"&Tableau1[[#This Row],[UVC]]&\",\"&Tableau1[[#This Row],[CUP]]&\",\"&Tableau1[[#This Row],[Catégorie]])","v":"3723,Chemineaud ***** brandy,1140,12,00814789003325,Brandy et Cognac"}]
[242,4440,null,{"$f":"VLOOKUP($B250,'Répertoire des produits'!$1:$1048576,4,FALSE)","v":"Chemineaud ***** brandy"},{"$f":"VLOOKUP($B250,'Répertoire des produits'!$1:$1048576,5,FALSE)","v":750},{"$f":"VLOOKUP($B250,'Répertoire des produits'!$1:$1048576,6,FALSE)","v":12},{"$f":"VLOOKUP($B250,'Répertoire des produits'!$1:$1048576,3,FALSE)","v":"00814789003332"},{"$f":"VLOOKUP($B250,'Répertoire des produits'!$1:$1048576,2,FALSE)","v":"Brandy et Cognac"},{"$f":"CONCATENATE(Tableau1[[#This Row],[Code\nArticle]]&\",\"&Tableau1[[#This Row],[Nom du produit]]&\",\"&Tableau1[[#This Row],[Format]]&\",\"&Tableau1[[#This Row],[UVC]]&\",\"&Tableau1[[#This Row],[CUP]]&\",\"&Tableau1[[#This Row],[Catégorie]])","v":"4440,Chemineaud ***** brandy,750,12,00814789003332,Brandy et Cognac"}]
[243,113233,null,{"$f":"VLOOKUP($B251,'Répertoire des produits'!$1:$1048576,4,FALSE)","v":"Chemineaud ***** brandy"},{"$f":"VLOOKUP($B251,'Répertoire des produits'!$1:$1048576,5,FALSE)","v":1750},{"$f":"VLOOKUP($B251,'Répertoire des produits'!$1:$1048576,6,FALSE)","v":6},{"$f":"VLOOKUP($B251,'Répertoire des produits'!$1:$1048576,3,FALSE)","v":"00814789003318"},{"$f":"VLOOKUP($B251,'Répertoire des produits'!$1:$1048576,2,FALSE)","v":"Brandy et Cognac"},{"$f":"CONCATENATE(Tableau1[[#This Row],[Code\nArticle]]&\",\"&Tableau1[[#This Row],[Nom du produit]]&\",\"&Tableau1[[#This Row],[Format]]&\",\"&Tableau1[[#This Row],[UVC]]&\",\"&Tableau1[[#This Row],[CUP]]&\",\"&Tableau1[[#This Row],[Catégorie]])","v":"113233,Chemineaud ***** brandy,1750,6,00814789003318,Brandy et Cognac"}]
[244,{"$nulls":7},{"$f":"CONCATENATE(Tableau1[[#This Row],[Code\nArticle]]&\",\"&Tableau1[[#This Row],[Nom du produit]]&\",\"&Tableau1[[#This Row],[Format]]&\",\"&Tableau1[[#This Row],[UVC]]&\",\"&Tableau1[[#This Row],[CUP]]&\",\"&Tableau1[[#This Row],[Catégorie]])","v":",,,,,"}]
[245,117101,null,{"$f":"VLOOKUP($B253,'Répertoire des produits'!$1:$1048576,4,FALSE)","v":"Jägermeister liqueur d'herbe"},{"$f":"VLOOKUP($B253,'Répertoire des produits'!$1:$1048576,5,FALSE)","v":750},{"$f":"VLOOKUP($B253,'Répertoire des produits'!$1:$1048576,6,FALSE)","v":6},{"$f":"VLOOKUP($B253,'Répertoire des produits'!$1:$1048576,3,FALSE)","v":"04067700012081"},{"$f":"VLOOKUP($B253,'Répertoire des produits'!$1:$1048576,2,FALSE)","v":"Liqueur"},{"$f":"CONCATENATE(Tableau1[[#This Row],[Code\nArticle]]&\",\"&Tableau1[[#This Row],[Nom du produit]]&\",\"&Tableau1[[#This Row],[Format]]&\",\"&Tableau1[[#This Row],[UVC]]&\",\"&Tableau1[[#This Row],[CUP]]&\",\"&Tableau1[[#This Row],[Catégorie]])","v":"117101,Jägermeister liqueur d'herbe,750,6,04067700012081,Liqueur"}]
[246,195370,null,{"$f":"VLOOKUP($B254,'Répertoire des produits'!$1:$1048576,4,FALSE)","v":"Marie Brizard Blue Curaçao liqueur de fruit"},{"$f":"VLOOKUP($B254,'Répertoire des produits'!$1:$1048576,5,FALSE)","v":750},{"$f":"VLOOKUP($B254,'Répertoire des produits'!$1:$1048576,6,FALSE)","v":12},{"$f":"VLOOKUP($B254,'Répertoire des produits'!$1:$1048576,3,FALSE)","v":"03041311026096"},{"$f":"VLOOKUP($B254,'Répertoire des produits'!$1:$1048576,2,FALSE)","v":"Liqueur"},{"$f":"CONCATENATE(Tableau1[[#This Row],[Code\nArticle]]&\",\"&Tableau1[[#This Row],[Nom du produit]]&\",\"&Tableau1[[#This Row],[Format]]&\",\"&Tableau1[[#This Row],[UVC]]&\",\"&Tableau1[[#This Row],[CUP]]&\",\"&Tableau1[[#This Row],[Catégorie]])","v":"195370,Marie Brizard Blue Curaçao liqueur de fruit,750,12,03041311026096,Liqueur"}]
[247,379032,null,{"$f":"VLOOKUP($B255,'Répertoire des produits'!$1:$1048576,4,FALSE)","v":"O' Casey's boisson à la crème irlandaise"},{"$f":"VLOOKUP($B255,'Répertoire des produits'!$1:$1048576,5,FALSE)","v":750},{"$f":"VLOOKUP($B255,'Répertoire des produits'!$1:$1048576,6,FALSE)","v":12},{"$f":"VLOOKUP($B255,'Répertoire des produits'!$1:$1048576,3,FALSE)","v":"05390424120817"},{"$f":"VLOOKUP($B255,'Répertoire des produits'!$1:$1048576,2,FALSE)","v":"Crème"},{"$f":"CONCATENATE(Tableau1[[#This Row],[Code\nArticle]]&\",\"&Tableau1[[#This Row],[Nom du produit]]&\",\"&Tableau1[[#This Row],[Format]]&\",\"&Tableau1[[#This Row],[UVC]]&\",\"&Tableau1[[#This Row],[CUP]]&\",\"&Tableau1[[#This Row],[Catégorie]])","v":"379032,O' Casey's boisson à la crème irlandaise,750,12,05390424120817,Crème"}]
[248,2253,null,{"$f":"VLOOKUP($B256,'Répertoire des produits'!$1:$1048576,4,FALSE)","v":"Amaretto Disaronno Originale liqueur"},{"$f":"VLOOKUP($B256,'Répertoire des produits'!$1:$1048576,5,FALSE)","v":750},{"$f":"VLOOKUP($B256,'Répertoire des produits'!$1:$1048576,6,FALSE)","v":12},{"$f":"VLOOKUP($B256,'Répertoire des produits'!$1:$1048576,3,FALSE)","v":"00050037014501"},{"$f":"VLOOKUP($B256,'Répertoire des produits'!$1:$1048576,2,FALSE)","v":"Liqueur"},{"$f":"CONCATENATE(Tableau1[[#This Row],[Code\nArticle]]&\",\"&Tableau1[[#This Row],[Nom du produit]]&\",\"&Tableau1[[#This Row],[Format]]&\",\"&Tableau1[[#This Row],[UVC]]&\",\"&Tableau1[[#This Row],[CUP]]&\",\"&Tableau1[[#This Row],[Catégorie]])","v":"2253,Amaretto Disaronno Originale liqueur,750,12,00050037014501,Liqueur"}]
[249,11676487,null,{"$f":"VLOOKUP($B257,'Répertoire des produits'!$1:$1048576,4,FALSE)","v":"Coureur des Bois boisson à la crème et au sirop d'érable"},{"$f":"VLOOKUP($B257,'Répertoire des produits'!$1:$1048576,5,FALSE)","v":1140},{"$f":"VLOOKUP($B257,'Répertoire des produits'!$1:$1048576,6,FALSE)","v":6},{"$f":"VLOOKUP($B257,'Répertoire des produits'!$1:$1048576,3,FALSE)","v":"00854745000739"},{"$f":"VLOOKUP($B257,'Répertoire des produits'!$1:$1048576,2,FALSE)","v":"Crème"},{"$f":"CONCATENATE(Tableau1[[#This Row],[Code\nArticle]]&\",\"&Tableau1[[#This Row],[Nom du produit]]&\",\"&Tableau1[[#This Row],[Format]]&\",\"&Tableau1[[#This Row],[UVC]]&\",\"&Tableau1[[#This Row],[CUP]]&\",\"&Tableau1[[#This Row],[Catégorie]])","v":"11676487,Coureur des Bois boisson à la crème et au sirop d'érable,1140,6,00854745000739,Crème"}]
[250,323972,null,{"$f":"VLOOKUP($B258,'Répertoire des produits'!$1:$1048576,4,FALSE)","v":"Sambuca Ramazzotti liqueur d'anis"},{"$f":"VLOOKUP($B258,'Répertoire des produits'!$1:$1048576,5,FALSE)","v":750},{"$f":"VLOOKUP($B258,'Répertoire des produits'!$1:$1048576,6,FALSE)","v":12},{"$f":"VLOOKUP($B258,'Répertoire des produits'!$1:$1048576,3,FALSE)","v":"08006550943233"},{"$f":"VLOOKUP($B258,'Répertoire des produits'!$1:$1048576,2,FALSE)","v":"Liqueur"},{"$f":"CONCATENATE(Tableau1[[#This Row],[Code\nArticle]]&\",\"&Tableau1[[#This Row],[Nom du produit]]&\",\"&Tableau1[[#This Row],[Format]]&\",\"&Tableau1[[#This Row],[UVC]]&\",\"&Tableau1[[#This Row],[CUP]]&\",\"&Tableau1[[#This Row],[Catégorie]])","v":"323972,Sambuca Ramazzotti liqueur d'anis,750,12,08006550943233,Liqueur"}]
[251,5215,null,{"$f":"VLOOKUP($B259,'Répertoire des produits'!$1:$1048576,4,FALSE)","v":"Triple Sec Meagher liqueur d'agrumes"},{"$f":"VLOOKUP($B259,'Répertoire des produits'!$1:$1048576,5,FALSE)","v":750},{"$f":"VLOOKUP($B259,'Répertoire des produits'!$1:$1048576,6,FALSE)","v":12},{"$f":"VLOOKUP($B259,'Répertoire des produits'!$1:$1048576,3,FALSE)","v":"00048415163088"},{"$f":"VLOOKUP($B259,'Répertoire des produits'!$1:$1048576,2,FALSE)","v":"Liqueur"},{"$f":"CONCATENATE(Tableau1[[#This Row],[Code\nArticle]]&\",\"&Tableau1[[#This Row],[Nom du produit]]&\",\"&Tableau1[[#This Row],[Format]]&\",\"&Tableau1[[#This Row],[UVC]]&\",\"&Tableau1[[#This Row],[CUP]]&\",\"&Tableau1[[#This Row],[Catégorie]])","v":"5215,Triple Sec Meagher liqueur d'agrumes,750,12,00048415163088,Liqueur"}]
[252,6502,null,{"$f":"VLOOKUP($B260,'Répertoire des produits'!$1:$1048576,4,FALSE)","v":"Cointreau liqueur d'agrumes"},{"$f":"VLOOKUP($B260,'Répertoire des produits'!$1:$1048576,5,FALSE)","v":750},{"$f":"VLOOKUP($B260,'Répertoire des produits'!$1:$1048576,6,FALSE)","v":12},{"$f":"VLOOKUP($B260,'Répertoire des produits'!$1:$1048576,3,FALSE)","v":"03035542002004"},{"$f":"VLOOKUP($B260,'Répertoire des produits'!$1:$1048576,2,FALSE)","v":"Liqueur"},{"$f":"CONCATENATE(Tableau1[[#This Row],[Code\nArticle]]&\",\"&Tableau1[[#This Row],[Nom du produit]]&\",\"&Tableau1[[#This Row],[Format]]&\",\"&Tableau1[[#This Row],[UVC]]&\",\"&Tableau1[[#This Row],[CUP]]&\",\"&Tableau1[[#This Row],[Catégorie]])","v":"6502,Cointreau liqueur d'agrumes,750,12,03035542002004,Liqueur"}]
[253,15693,null,{"$f":"VLOOKUP($B261,'Répertoire des produits'!$1:$1048576,4,FALSE)","v":"Ricard pastis de Marseille alcool anisé"},{"$f":"VLOOKUP($B261,'Répertoire des produits'!$1:$1048576,5,FALSE)","v":750},{"$f":"VLOOKUP($B261,'Répertoire des produits'!$1:$1048576,6,FALSE)","v":12},{"$f":"VLOOKUP($B261,'Répertoire des produits'!$1:$1048576,3,FALSE)","v":"03163937836009"},{"$f":"VLOOKUP($B261,'Répertoire des produits'!$1:$1048576,2,FALSE)","v":"Apéritif"},{"$f":"CONCATENATE(Tableau1[[#This Row],[Code\nArticle]]&\",\"&Tableau1[[#This Row],[Nom du produit]]&\",\"&Tableau1[[#This Row],[Format]]&\",\"&Tableau1[[#This Row],[UVC]]&\",\"&Tableau1[[#This Row],[CUP]]&\",\"&Tableau1[[#This Row],[Catégorie]])","v":"15693,Ricard pastis de Marseille alcool anisé,750,12,03163937836009,Apéritif"}]
[254,4655,null,{"$f":"VLOOKUP($B262,'Répertoire des produits'!$1:$1048576,4,FALSE)","v":"St-Raphaël doré apéritif"},{"$f":"VLOOKUP($B262,'Répertoire des produits'!$1:$1048576,5,FALSE)","v":750},{"$f":"VLOOKUP($B262,'Répertoire des produits'!$1:$1048576,6,FALSE)","v":12},{"$f":"VLOOKUP($B262,'Répertoire des produits'!$1:$1048576,3,FALSE)","v":"03394210004123"},{"$f":"VLOOKUP($B262,'Répertoire des produits'!$1:$1048576,2,FALSE)","v":"Apéritif"},{"$f":"CONCATENATE(Tableau1[[#This Row],[Code\nArticle]]&\",\"&Tableau1[[#This Row],[Nom du produit]]&\",\"&Tableau1[[#This Row],[Format]]&\",\"&Tableau1[[#This Row],[UVC]]&\",\"&Tableau1[[#This Row],[CUP]]&\",\"&Tableau1[[#This Row],[Catégorie]])","v":"4655,St-Raphaël doré apéritif,750,12,03394210004123,Apéritif"}]
[255,625756,null,{"$f":"VLOOKUP($B263,'Répertoire des produits'!$1:$1048576,4,FALSE)","v":"Sheridan's Original boisson alcoolique de café superposée"},{"$f":"VLOOKUP($B263,'Répertoire des produits'!$1:$1048576,5,FALSE)","v":750},{"$f":"VLOOKUP($B263,'Répertoire des produits'!$1:$1048576,6,FALSE)","v":6},{"$f":"VLOOKUP($B263,'Répertoire des produits'!$1:$1048576,3,FALSE)","v":"05011013500642"},{"$f":"VLOOKUP($B263,'Répertoire des produits'!$1:$1048576,2,FALSE)","v":"Crème"},{"$f":"CONCATENATE(Tableau1[[#This Row],[Code\nArticle]]&\",\"&Tableau1[[#This Row],[Nom du produit]]&\",\"&Tableau1[[#This Row],[Format]]&\",\"&Tableau1[[#This Row],[UVC]]&\",\"&Tableau1[[#This Row],[CUP]]&\",\"&Tableau1[[#This Row],[Catégorie]])","v":"625756,Sheridan's Original boisson alcoolique de café superposée,750,6,05011013500642,Crème"}]
[256,{"$nulls":7},{"$f":"CONCATENATE(Tableau1[[#This Row],[Code\nArticle]]&\",\"&Tableau1[[#This Row],[Nom du produit]]&\",\"&Tableau1[[#This Row],[Format]]&\",\"&Tableau1[[#This Row],[UVC]]&\",\"&Tableau1[[#This Row],[CUP]]&\",\"&Tableau1[[#This Row],[Catégorie]])","v":",,,,,"}]
[{"$f":"ROW(C265)-8","v":257},1339,null,{"$f":"VLOOKUP($B265,'Répertoire des produits'!$1:$1048576,4,FALSE)","v":"De Kuyper Genièvre"},{"$f":"VLOOKUP($B265,'Répertoire des produits'!$1:$1048576,5,FALSE)","v":750},{"$f":"VLOOKUP($B265,'Répertoire des produits'!$1:$1048576,6,FALSE)","v":12},{"$f":"VLOOKUP($B265,'Répertoire des produits'!$1:$1048576,3,FALSE)","v":"00088004400538"},{"$f":"VLOOKUP($B265,'Répertoire des produits'!$1:$1048576,2,FALSE)","v":"Gin"},{"$f":"CONCATENATE(Tableau1[[#This Row],[Code\nArticle]]&\",\"&Tableau1[[#This Row],[Nom du produit]]&\",\"&Tableau1[[#This Row],[Format]]&\",\"&Tableau1[[#This Row],[UVC]]&\",\"&Tableau1[[#This Row],[CUP]]&\",\"&Tableau1[[#This Row],[Catégorie]])","v":"1339,De Kuyper Genièvre,750,12,00088004400538,Gin"}]
[258,67,null,{"$f":"VLOOKUP($B266,'Répertoire des produits'!$1:$1048576,4,FALSE)","v":"Smirnoff triple distillation vodka"},{"$f":"VLOOKUP($B266,'Répertoire des produits'!$1:$1048576,5,FALSE)","v":750},{"$f":"VLOOKUP($B266,'Répertoire des produits'!$1:$1048576,6,FALSE)","v":12},{"$f":"VLOOKUP($B266,'Répertoire des produits'!$1:$1048576,3,FALSE)","v":"00776103000260"},{"$f":"VLOOKUP($B266,'Répertoire des produits'!$1:$1048576,2,FALSE)","v":"Vodka et Alcool"},{"$f":"CONCATENATE(Tableau1[[#This Row],[Code\nArticle]]&\",\"&Tableau1[[#This Row],[Nom du produit]]&\",\"&Tableau1[[#This Row],[Format]]&\",\"&Tableau1[[#This Row],[UVC]]&\",\"&Tableau1[[#This Row],[CUP]]&\",\"&Tableau1[[#This Row],[Catégorie]])","v":"67,Smirnoff triple distillation vodka,750,12,00776103000260,Vodka et Alcool"}]
[259,3004,null,{"$f":"VLOOKUP($B267,'Répertoire des produits'!$1:$1048576,4,FALSE)","v":"Troika vodka"},{"$f":"VLOOKUP($B267,'Répertoire des produits'!$1:$1048576,5,FALSE)","v":750},{"$f":"VLOOKUP($B267,'Répertoire des produits'!$1:$1048576,6,FALSE)","v":12},{"$f":"VLOOKUP($B267,'Répertoire des produits'!$1:$1048576,3,FALSE)","v":"00622153190041"},{"$f":"VLOOKUP($B267,'Répertoire des produits'!$1:$1048576,2,FALSE)","v":"Vodka et Alcool"},{"$f":"CONCATENATE(Tableau1[[#This Row],[Code\nArticle]]&\",\"&Tableau1[[#This Row],[Nom du produit]]&\",\"&Tableau1[[#This Row],[Format]]&\",\"&Tableau1[[#This Row],[UVC]]&\",\"&Tableau1[[#This Row],[CUP]]&\",\"&Tableau1[[#This Row],[Catégorie]])","v":"3004,Troika vodka,750,12,00622153190041,Vodka et Alcool"}]
[260,11584849,null,{"$f":"VLOOKUP($B268,'Répertoire des produits'!$1:$1048576,4,FALSE)","v":"Troika vodka"},{"$f":"VLOOKUP($B268,'Répertoire des produits'!$1:$1048576,5,FALSE)","v":1140},{"$f":"VLOOKUP($B268,'Répertoire des produits'!$1:$1048576,6,FALSE)","v":8},{"$f":"VLOOKUP($B268,'Répertoire des produits'!$1:$1048576,3,FALSE)","v":"00622153190065"},{"$f":"VLOOKUP($B268,'Répertoire des produits'!$1:$1048576,2,FALSE)","v":"Vodka et Alcool"},{"$f":"CONCATENATE(Tableau1[[#This Row],[Code\nArticle]]&\",\"&Tableau1[[#This Row],[Nom du produit]]&\",\"&Tableau1[[#This Row],[Format]]&\",\"&Tableau1[[#This Row],[UVC]]&\",\"&Tableau1[[#This Row],[CUP]]&\",\"&Tableau1[[#This Row],[Catégorie]])","v":"11584849,Troika vodka,1140,8,00622153190065,Vodka et Alcool"}]
[261,12211180,null,{"$f":"VLOOKUP($B269,'Répertoire des produits'!$1:$1048576,4,FALSE)","v":"Stinger Premixxx liqueur de menthe"},{"$f":"VLOOKUP($B269,'Répertoire des produits'!$1:$1048576,5,FALSE)","v":1140},{"$f":"VLOOKUP($B269,'Répertoire des produits'!$1:$1048576,6,FALSE)","v":8},{"$f":"VLOOKUP($B269,'Répertoire des produits'!$1:$1048576,3,FALSE)","v":"00624177100013"},{"$f":"VLOOKUP($B269,'Répertoire des produits'!$1:$1048576,2,FALSE)","v":"Liqueur"},{"$f":"CONCATENATE(Tableau1[[#This Row],[Code\nArticle]]&\",\"&Tableau1[[#This Row],[Nom du produit]]&\",\"&Tableau1[[#This Row],[Format]]&\",\"&Tableau1[[#This Row],[UVC]]&\",\"&Tableau1[[#This Row],[CUP]]&\",\"&Tableau1[[#This Row],[Catégorie]])","v":"12211180,Stinger Premixxx liqueur de menthe,1140,8,00624177100013,Liqueur"}]
[262,11495424,null,{"$f":"VLOOKUP($B270,'Répertoire des produits'!$1:$1048576,4,FALSE)","v":"Canadian Club whisky canadien"},{"$f":"VLOOKUP($B270,'Répertoire des produits'!$1:$1048576,5,FALSE)","v":1140},{"$f":"VLOOKUP($B270,'Répertoire des produits'!$1:$1048576,6,FALSE)","v":8},{"$f":"VLOOKUP($B270,'Répertoire des produits'!$1:$1048576,3,FALSE)","v":"00080686821311"},{"$f":"VLOOKUP($B270,'Répertoire des produits'!$1:$1048576,2,FALSE)","v":"Whisky"},{"$f":"CONCATENATE(Tableau1[[#This Row],[Code\nArticle]]&\",\"&Tableau1[[#This Row],[Nom du produit]]&\",\"&Tableau1[[#This Row],[Format]]&\",\"&Tableau1[[#This Row],[UVC]]&\",\"&Tableau1[[#This Row],[CUP]]&\",\"&Tableau1[[#This Row],[Catégorie]])","v":"11495424,Canadian Club whisky canadien,1140,8,00080686821311,Whisky"}]
[263,42,null,{"$f":"VLOOKUP($B271,'Répertoire des produits'!$1:$1048576,4,FALSE)","v":"Canadian Club whisky canadien"},{"$f":"VLOOKUP($B271,'Répertoire des produits'!$1:$1048576,5,FALSE)","v":750},{"$f":"VLOOKUP($B271,'Répertoire des produits'!$1:$1048576,6,FALSE)","v":12},{"$f":"VLOOKUP($B271,'Répertoire des produits'!$1:$1048576,3,FALSE)","v":"00080686816157"},{"$f":"VLOOKUP($B271,'Répertoire des produits'!$1:$1048576,2,FALSE)","v":"Whisky"},{"$f":"CONCATENATE(Tableau1[[#This Row],[Code\nArticle]]&\",\"&Tableau1[[#This Row],[Nom du produit]]&\",\"&Tableau1[[#This Row],[Format]]&\",\"&Tableau1[[#This Row],[UVC]]&\",\"&Tableau1[[#This Row],[CUP]]&\",\"&Tableau1[[#This Row],[Catégorie]])","v":"42,Canadian Club whisky canadien,750,12,00080686816157,Whisky"}]
[264,10157,null,{"$f":"VLOOKUP($B272,'Répertoire des produits'!$1:$1048576,4,FALSE)","v":"Jameson whiskey irlandais"},{"$f":"VLOOKUP($B272,'Répertoire des produits'!$1:$1048576,5,FALSE)","v":750},{"$f":"VLOOKUP($B272,'Répertoire des produits'!$1:$1048576,6,FALSE)","v":12},{"$f":"VLOOKUP($B272,'Répertoire des produits'!$1:$1048576,3,FALSE)","v":"00080432500170"},{"$f":"VLOOKUP($B272,'Répertoire des produits'!$1:$1048576,2,FALSE)","v":"Whisky"},{"$f":"CONCATENATE(Tableau1[[#This Row],[Code\nArticle]]&\",\"&Tableau1[[#This Row],[Nom du produit]]&\",\"&Tableau1[[#This Row],[Format]]&\",\"&Tableau1[[#This Row],[UVC]]&\",\"&Tableau1[[#This Row],[CUP]]&\",\"&Tableau1[[#This Row],[Catégorie]])","v":"10157,Jameson whiskey irlandais,750,12,00080432500170,Whisky"}]
[265,11582907,null,{"$f":"VLOOKUP($B273,'Répertoire des produits'!$1:$1048576,4,FALSE)","v":"Jack Daniel's Old No 7 whiskey américain"},{"$f":"VLOOKUP($B273,'Répertoire des produits'!$1:$1048576,5,FALSE)","v":1140},{"$f":"VLOOKUP($B273,'Répertoire des produits'!$1:$1048576,6,FALSE)","v":6},{"$f":"VLOOKUP($B273,'Répertoire des produits'!$1:$1048576,3,FALSE)","v":"00082184080900"},{"$f":"VLOOKUP($B273,'Répertoire des produits'!$1:$1048576,2,FALSE)","v":"Whisky"},{"$f":"CONCATENATE(Tableau1[[#This Row],[Code\nArticle]]&\",\"&Tableau1[[#This Row],[Nom du produit]]&\",\"&Tableau1[[#This Row],[Format]]&\",\"&Tableau1[[#This Row],[UVC]]&\",\"&Tableau1[[#This Row],[CUP]]&\",\"&Tableau1[[#This Row],[Catégorie]])","v":"11582907,Jack Daniel's Old No 7 whiskey américain,1140,6,00082184080900,Whisky"}]
[266,41384,null,{"$f":"VLOOKUP($B274,'Répertoire des produits'!$1:$1048576,4,FALSE)","v":"Jack Daniel's Old No 7 whiskey américain"},{"$f":"VLOOKUP($B274,'Répertoire des produits'!$1:$1048576,5,FALSE)","v":750},{"$f":"VLOOKUP($B274,'Répertoire des produits'!$1:$1048576,6,FALSE)","v":12},{"$f":"VLOOKUP($B274,'Répertoire des produits'!$1:$1048576,3,FALSE)","v":"00082184046357"},{"$f":"VLOOKUP($B274,'Répertoire des produits'!$1:$1048576,2,FALSE)","v":"Whisky"},{"$f":"CONCATENATE(Tableau1[[#This Row],[Code\nArticle]]&\",\"&Tableau1[[#This Row],[Nom du produit]]&\",\"&Tableau1[[#This Row],[Format]]&\",\"&Tableau1[[#This Row],[UVC]]&\",\"&Tableau1[[#This Row],[CUP]]&\",\"&Tableau1[[#This Row],[Catégorie]])","v":"41384,Jack Daniel's Old No 7 whiskey américain,750,12,00082184046357,Whisky"}]
[267,11607684,null,"JACK DANIEL`S MIEL",750,12,null,null,{"$f":"CONCATENATE(Tableau1[[#This Row],[Code\nArticle]]&\",\"&Tableau1[[#This Row],[Nom du produit]]&\",\"&Tableau1[[#This Row],[Format]]&\",\"&Tableau1[[#This Row],[UVC]]&\",\"&Tableau1[[#This Row],[CUP]]&\",\"&Tableau1[[#This Row],[Catégorie]])","v":"11607684,JACK DANIEL`S MIEL,750,12,,"}]
[268,316844,null,{"$f":"VLOOKUP($B276,'Répertoire des produits'!$1:$1048576,4,FALSE)","v":"Bombay Sapphire London dry gin"},{"$f":"VLOOKUP($B276,'Répertoire des produits'!$1:$1048576,5,FALSE)","v":750},{"$f":"VLOOKUP($B276,'Répertoire des produits'!$1:$1048576,6,FALSE)","v":12},{"$f":"VLOOKUP($B276,'Répertoire des produits'!$1:$1048576,3,FALSE)","v":"00620213190000"},{"$f":"VLOOKUP($B276,'Répertoire des produits'!$1:$1048576,2,FALSE)","v":"Gin"},{"$f":"CONCATENATE(Tableau1[[#This Row],[Code\nArticle]]&\",\"&Tableau1[[#This Row],[Nom du produit]]&\",\"&Tableau1[[#This Row],[Format]]&\",\"&Tableau1[[#This Row],[UVC]]&\",\"&Tableau1[[#This Row],[CUP]]&\",\"&Tableau1[[#This Row],[Catégorie]])","v":"316844,Bombay Sapphire London dry gin,750,12,00620213190000,Gin"}]
[269,477836,null,{"$f":"VLOOKUP($B277,'Répertoire des produits'!$1:$1048576,4,FALSE)","v":"Malibu boisson à la noix de coco et rhum"},{"$f":"VLOOKUP($B277,'Répertoire des produits'!$1:$1048576,5,FALSE)","v":750},{"$f":"VLOOKUP($B277,'Répertoire des produits'!$1:$1048576,6,FALSE)","v":12},{"$f":"VLOOKUP($B277,'Répertoire des produits'!$1:$1048576,3,FALSE)","v":"00089540448985"},{"$f":"VLOOKUP($B277,'Répertoire des produits'!$1:$1048576,2,FALSE)","v":"Liqueur"},{"$f":"CONCATENATE(Tableau1[[#This Row],[Code\nArticle]]&\",\"&Tableau1[[#This Row],[Nom du produit]]&\",\"&Tableau1[[#This Row],[Format]]&\",\"&Tableau1[[#This Row],[UVC]]&\",\"&Tableau1[[#This Row],[CUP]]&\",\"&Tableau1[[#This Row],[Catégorie]])","v":"477836,Malibu boisson à la noix de coco et rhum,750,12,00089540448985,Liqueur"}]
[270,11355894,null,{"$f":"VLOOKUP($B278,'Répertoire des produits'!$1:$1048576,4,FALSE)","v":"Tia Maria boisson diverse"},{"$f":"VLOOKUP($B278,'Répertoire des produits'!$1:$1048576,5,FALSE)","v":1140},{"$f":"VLOOKUP($B278,'Répertoire des produits'!$1:$1048576,6,FALSE)","v":6},{"$f":"VLOOKUP($B278,'Répertoire des produits'!$1:$1048576,3,FALSE)","v":"00089540448169"},{"$f":"VLOOKUP($B278,'Répertoire des produits'!$1:$1048576,2,FALSE)","v":"Liqueur"},{"$f":"CONCATENATE(Tableau1[[#This Row],[Code\nArticle]]&\",\"&Tableau1[[#This Row],[Nom du produit]]&\",\"&Tableau1[[#This Row],[Format]]&\",\"&Tableau1[[#This Row],[UVC]]&\",\"&Tableau1[[#This Row],[CUP]]&\",\"&Tableau1[[#This Row],[Catégorie]])","v":"11355894,Tia Maria boisson diverse,1140,6,00089540448169,Liqueur"}]
[271,630913,null,{"$f":"VLOOKUP($B279,'Répertoire des produits'!$1:$1048576,4,FALSE)","v":"Tia Maria boisson diverse"},{"$f":"VLOOKUP($B279,'Répertoire des produits'!$1:$1048576,5,FALSE)","v":750},{"$f":"VLOOKUP($B279,'Répertoire des produits'!$1:$1048576,6,FALSE)","v":12},{"$f":"VLOOKUP($B279,'Répertoire des produits'!$1:$1048576,3,FALSE)","v":"00050037599176"},{"$f":"VLOOKUP($B279,'Répertoire des produits'!$1:$1048576,2,FALSE)","v":"Liqueur"},{"$f":"CONCATENATE(Tableau1[[#This Row],[Code\nArticle]]&\",\"&Tableau1[[#This Row],[Nom du produit]]&\",\"&Tableau1[[#This Row],[Format]]&\",\"&Tableau1[[#This Row],[UVC]]&\",\"&Tableau1[[#This Row],[CUP]]&\",\"&Tableau1[[#This Row],[Catégorie]])","v":"630913,Tia Maria boisson diverse,750,12,00050037599176,Liqueur"}]
[272,522482,null,{"$f":"VLOOKUP($B280,'Répertoire des produits'!$1:$1048576,4,FALSE)","v":"Sortilège whisky canadien et sirop d'érable"},{"$f":"VLOOKUP($B280,'Répertoire des produits'!$1:$1048576,5,FALSE)","v":750},{"$f":"VLOOKUP($B280,'Répertoire des produits'!$1:$1048576,6,FALSE)","v":12},{"$f":"VLOOKUP($B280,'Répertoire des produits'!$1:$1048576,3,FALSE)","v":"00057496522486"},{"$f":"VLOOKUP($B280,'Répertoire des produits'!$1:$1048576,2,FALSE)","v":"Liqueur"},{"$f":"CONCATENATE(Tableau1[[#This Row],[Code\nArticle]]&\",\"&Tableau1[[#This Row],[Nom du produit]]&\",\"&Tableau1[[#This Row],[Format]]&\",\"&Tableau1[[#This Row],[UVC]]&\",\"&Tableau1[[#This Row],[CUP]]&\",\"&Tableau1[[#This Row],[Catégorie]])","v":"522482,Sortilège whisky canadien et sirop d'érable,750,12,00057496522486,Liqueur"}]
[273,105601,null,{"$f":"VLOOKUP($B281,'Répertoire des produits'!$1:$1048576,4,FALSE)","v":"Southern Comfort liqueur de pêche et de bourbon"},{"$f":"VLOOKUP($B281,'Répertoire des produits'!$1:$1048576,5,FALSE)","v":750},{"$f":"VLOOKUP($B281,'Répertoire des produits'!$1:$1048576,6,FALSE)","v":12},{"$f":"VLOOKUP($B281,'Répertoire des produits'!$1:$1048576,3,FALSE)","v":"00088544016770"},{"$f":"VLOOKUP($B281,'Répertoire des produits'!$1:$1048576,2,FALSE)","v":"Liqueur"},{"$f":"CONCATENATE(Tableau1[[#This Row],[Code\nArticle]]&\",\"&Tableau1[[#This Row],[Nom du produit]]&\",\"&Tableau1[[#This Row],[Format]]&\",\"&Tableau1[[#This Row],[UVC]]&\",\"&Tableau1[[#This Row],[CUP]]&\",\"&Tableau1[[#This Row],[Catégorie]])","v":"105601,Southern Comfort liqueur de pêche et de bourbon,750,12,00088544016770,Liqueur"}]
[274,10914877,null,{"$f":"VLOOKUP($B282,'Répertoire des produits'!$1:$1048576,4,FALSE)","v":"Fireball Whisky liqueur diverse"},{"$f":"VLOOKUP($B282,'Répertoire des produits'!$1:$1048576,5,FALSE)","v":750},{"$f":"VLOOKUP($B282,'Répertoire des produits'!$1:$1048576,6,FALSE)","v":12},{"$f":"VLOOKUP($B282,'Répertoire des produits'!$1:$1048576,3,FALSE)","v":"00088004144746"},{"$f":"VLOOKUP($B282,'Répertoire des produits'!$1:$1048576,2,FALSE)","v":"Liqueur"},{"$f":"CONCATENATE(Tableau1[[#This Row],[Code\nArticle]]&\",\"&Tableau1[[#This Row],[Nom du produit]]&\",\"&Tableau1[[#This Row],[Format]]&\",\"&Tableau1[[#This Row],[UVC]]&\",\"&Tableau1[[#This Row],[CUP]]&\",\"&Tableau1[[#This Row],[Catégorie]])","v":"10914877,Fireball Whisky liqueur diverse,750,12,00088004144746,Liqueur"}]
[275,744367,null,{"$f":"VLOOKUP($B283,'Répertoire des produits'!$1:$1048576,4,FALSE)","v":"Neige Première cidre de glace Face Cachée de la Pomme"},{"$f":"VLOOKUP($B283,'Répertoire des produits'!$1:$1048576,5,FALSE)","v":375},{"$f":"VLOOKUP($B283,'Répertoire des produits'!$1:$1048576,6,FALSE)","v":12},{"$f":"VLOOKUP($B283,'Répertoire des produits'!$1:$1048576,3,FALSE)","v":"00841125075074"},{"$f":"VLOOKUP($B283,'Répertoire des produits'!$1:$1048576,2,FALSE)","v":"Produits du Terroir"},{"$f":"CONCATENATE(Tableau1[[#This Row],[Code\nArticle]]&\",\"&Tableau1[[#This Row],[Nom du produit]]&\",\"&Tableau1[[#This Row],[Format]]&\",\"&Tableau1[[#This Row],[UVC]]&\",\"&Tableau1[[#This Row],[CUP]]&\",\"&Tableau1[[#This Row],[Catégorie]])","v":"744367,Neige Première cidre de glace Face Cachée de la Pomme,375,12,00841125075074,Produits du Terroir"}]
[276,10270733,null,{"$f":"VLOOKUP($B284,'Répertoire des produits'!$1:$1048576,4,FALSE)","v":"Cabral Branco Fino Porto blanc"},{"$f":"VLOOKUP($B284,'Répertoire des produits'!$1:$1048576,5,FALSE)","v":750},{"$f":"VLOOKUP($B284,'Répertoire des produits'!$1:$1048576,6,FALSE)","v":12},{"$f":"VLOOKUP($B284,'Répertoire des produits'!$1:$1048576,3,FALSE)","v":"05602660001950"},{"$f":"VLOOKUP($B284,'Répertoire des produits'!$1:$1048576,2,FALSE)","v":"Porto"},{"$f":"CONCATENATE(Tableau1[[#This Row],[Code\nArticle]]&\",\"&Tableau1[[#This Row],[Nom du produit]]&\",\"&Tableau1[[#This Row],[Format]]&\",\"&Tableau1[[#This Row],[UVC]]&\",\"&Tableau1[[#This Row],[CUP]]&\",\"&Tableau1[[#This Row],[Catégorie]])","v":"10270733,Cabral Branco Fino Porto blanc,750,12,05602660001950,Porto"}]
[277,46946,null,{"$f":"VLOOKUP($B285,'Répertoire des produits'!$1:$1048576,4,FALSE)","v":"Taylor Fladgate late bottled vintage"},{"$f":"VLOOKUP($B285,'Répertoire des produits'!$1:$1048576,5,FALSE)","v":750},{"$f":"VLOOKUP($B285,'Répertoire des produits'!$1:$1048576,6,FALSE)","v":12},{"$f":"VLOOKUP($B285,'Répertoire des produits'!$1:$1048576,3,FALSE)","v":"05013626111277"},{"$f":"VLOOKUP($B285,'Répertoire des produits'!$1:$1048576,2,FALSE)","v":"Porto"},{"$f":"CONCATENATE(Tableau1[[#This Row],[Code\nArticle]]&\",\"&Tableau1[[#This Row],[Nom du produit]]&\",\"&Tableau1[[#This Row],[Format]]&\",\"&Tableau1[[#This Row],[UVC]]&\",\"&Tableau1[[#This Row],[CUP]]&\",\"&Tableau1[[#This Row],[Catégorie]])","v":"46946,Taylor Fladgate late bottled vintage,750,12,05013626111277,Porto"}]
[278,157438,null,{"$f":"VLOOKUP($B286,'Répertoire des produits'!$1:$1048576,4,FALSE)","v":"Offley Rei tawny"},{"$f":"VLOOKUP($B286,'Répertoire des produits'!$1:$1048576,5,FALSE)","v":750},{"$f":"VLOOKUP($B286,'Répertoire des produits'!$1:$1048576,6,FALSE)","v":12},{"$f":"VLOOKUP($B286,'Répertoire des produits'!$1:$1048576,3,FALSE)","v":"05601034005501"},{"$f":"VLOOKUP($B286,'Répertoire des produits'!$1:$1048576,2,FALSE)","v":"Porto"},{"$f":"CONCATENATE(Tableau1[[#This Row],[Code\nArticle]]&\",\"&Tableau1[[#This Row],[Nom du produit]]&\",\"&Tableau1[[#This Row],[Format]]&\",\"&Tableau1[[#This Row],[UVC]]&\",\"&Tableau1[[#This Row],[CUP]]&\",\"&Tableau1[[#This Row],[Catégorie]])","v":"157438,Offley Rei tawny,750,12,05601034005501,Porto"}]
[279,277954,null,{"$f":"VLOOKUP($B287,'Répertoire des produits'!$1:$1048576,4,FALSE)","v":"Campari Bitter apéritif amer"},{"$f":"VLOOKUP($B287,'Répertoire des produits'!$1:$1048576,5,FALSE)","v":750},{"$f":"VLOOKUP($B287,'Répertoire des produits'!$1:$1048576,6,FALSE)","v":12},{"$f":"VLOOKUP($B287,'Répertoire des produits'!$1:$1048576,3,FALSE)","v":"00081375100618"},{"$f":"VLOOKUP($B287,'Répertoire des produits'!$1:$1048576,2,FALSE)","v":"Apéritif"},{"$f":"CONCATENATE(Tableau1[[#This Row],[Code\nArticle]]&\",\"&Tableau1[[#This Row],[Nom du produit]]&\",\"&Tableau1[[#This Row],[Format]]&\",\"&Tableau1[[#This Row],[UVC]]&\",\"&Tableau1[[#This Row],[CUP]]&\",\"&Tableau1[[#This Row],[Catégorie]])","v":"277954,Campari Bitter apéritif amer,750,12,00081375100618,Apéritif"}]
[280,24208,null,{"$f":"VLOOKUP($B288,'Répertoire des produits'!$1:$1048576,4,FALSE)","v":"Le Coq d'Or Pineau des Charentes"},{"$f":"VLOOKUP($B288,'Répertoire des produits'!$1:$1048576,5,FALSE)","v":750},{"$f":"VLOOKUP($B288,'Répertoire des produits'!$1:$1048576,6,FALSE)","v":12},{"$f":"VLOOKUP($B288,'Répertoire des produits'!$1:$1048576,3,FALSE)","v":"03104052010158"},{"$f":"VLOOKUP($B288,'Répertoire des produits'!$1:$1048576,2,FALSE)","v":"Apéritif"},{"$f":"CONCATENATE(Tableau1[[#This Row],[Code\nArticle]]&\",\"&Tableau1[[#This Row],[Nom du produit]]&\",\"&Tableau1[[#This Row],[Format]]&\",\"&Tableau1[[#This Row],[UVC]]&\",\"&Tableau1[[#This Row],[CUP]]&\",\"&Tableau1[[#This Row],[Catégorie]])","v":"24208,Le Coq d'Or Pineau des Charentes,750,12,03104052010158,Apéritif"}]
[281,38505,null,{"$f":"VLOOKUP($B289,'Répertoire des produits'!$1:$1048576,4,FALSE)","v":"Smirnoff triple distillation vodka"},{"$f":"VLOOKUP($B289,'Répertoire des produits'!$1:$1048576,5,FALSE)","v":1750},{"$f":"VLOOKUP($B289,'Répertoire des produits'!$1:$1048576,6,FALSE)","v":6},{"$f":"VLOOKUP($B289,'Répertoire des produits'!$1:$1048576,3,FALSE)","v":"00776103000284"},{"$f":"VLOOKUP($B289,'Répertoire des produits'!$1:$1048576,2,FALSE)","v":"Vodka et Alcool"},{"$f":"CONCATENATE(Tableau1[[#This Row],[Code\nArticle]]&\",\"&Tableau1[[#This Row],[Nom du produit]]&\",\"&Tableau1[[#This Row],[Format]]&\",\"&Tableau1[[#This Row],[UVC]]&\",\"&Tableau1[[#This Row],[CUP]]&\",\"&Tableau1[[#This Row],[Catégorie]])","v":"38505,Smirnoff triple distillation vodka,1750,6,00776103000284,Vodka et Alcool"}]
[282,22707,null,{"$f":"VLOOKUP($B290,'Répertoire des produits'!$1:$1048576,4,FALSE)","v":"de Kuyper genièvre"},{"$f":"VLOOKUP($B290,'Répertoire des produits'!$1:$1048576,5,FALSE)","v":1750},{"$f":"VLOOKUP($B290,'Répertoire des produits'!$1:$1048576,6,FALSE)","v":6},{"$f":"VLOOKUP($B290,'Répertoire des produits'!$1:$1048576,3,FALSE)","v":"00088004400514"},{"$f":"VLOOKUP($B290,'Répertoire des produits'!$1:$1048576,2,FALSE)","v":"Gin"},{"$f":"CONCATENATE(Tableau1[[#This Row],[Code\nArticle]]&\",\"&Tableau1[[#This Row],[Nom du produit]]&\",\"&Tableau1[[#This Row],[Format]]&\",\"&Tableau1[[#This Row],[UVC]]&\",\"&Tableau1[[#This Row],[CUP]]&\",\"&Tableau1[[#This Row],[Catégorie]])","v":"22707,de Kuyper genièvre,1750,6,00088004400514,Gin"}]
[283,406,null,{"$f":"VLOOKUP($B291,'Répertoire des produits'!$1:$1048576,4,FALSE)","v":"de Kuyper genièvre"},{"$f":"VLOOKUP($B291,'Répertoire des produits'!$1:$1048576,5,FALSE)","v":1140},{"$f":"VLOOKUP($B291,'Répertoire des produits'!$1:$1048576,6,FALSE)","v":12},{"$f":"VLOOKUP($B291,'Répertoire des produits'!$1:$1048576,3,FALSE)","v":"00088004400507"},{"$f":"VLOOKUP($B291,'Répertoire des produits'!$1:$1048576,2,FALSE)","v":"Gin"},{"$f":"CONCATENATE(Tableau1[[#This Row],[Code\nArticle]]&\",\"&Tableau1[[#This Row],[Nom du produit]]&\",\"&Tableau1[[#This Row],[Format]]&\",\"&Tableau1[[#This Row],[UVC]]&\",\"&Tableau1[[#This Row],[CUP]]&\",\"&Tableau1[[#This Row],[Catégorie]])","v":"406,de Kuyper genièvre,1140,12,00088004400507,Gin"}]
[284,12208765,null,{"$f":"VLOOKUP($B292,'Répertoire des produits'!$1:$1048576,4,FALSE)","v":"Alcool Global 40%"},{"$f":"VLOOKUP($B292,'Répertoire des produits'!$1:$1048576,5,FALSE)","v":1140},{"$f":"VLOOKUP($B292,'Répertoire des produits'!$1:$1048576,6,FALSE)","v":8},{"$f":"VLOOKUP($B292,'Répertoire des produits'!$1:$1048576,3,FALSE)","v":"00057496090022"},{"$f":"VLOOKUP($B292,'Répertoire des produits'!$1:$1048576,2,FALSE)","v":"Vodka et Alcool"},{"$f":"CONCATENATE(Tableau1[[#This Row],[Code\nArticle]]&\",\"&Tableau1[[#This Row],[Nom du produit]]&\",\"&Tableau1[[#This Row],[Format]]&\",\"&Tableau1[[#This Row],[UVC]]&\",\"&Tableau1[[#This Row],[CUP]]&\",\"&Tableau1[[#This Row],[Catégorie]])","v":"12208765,Alcool Global 40%,1140,8,00057496090022,Vodka et Alcool"}]
[285,11584072,null,{"$f":"VLOOKUP($B293,'Répertoire des produits'!$1:$1048576,4,FALSE)","v":"Gordon's London dry gin"},{"$f":"VLOOKUP($B293,'Répertoire des produits'!$1:$1048576,5,FALSE)","v":1140},{"$f":"VLOOKUP($B293,'Répertoire des produits'!$1:$1048576,6,FALSE)","v":9},{"$f":"VLOOKUP($B293,'Répertoire des produits'!$1:$1048576,3,FALSE)","v":"00622153139064"},{"$f":"VLOOKUP($B293,'Répertoire des produits'!$1:$1048576,2,FALSE)","v":"Gin"},{"$f":"CONCATENATE(Tableau1[[#This Row],[Code\nArticle]]&\",\"&Tableau1[[#This Row],[Nom du produit]]&\",\"&Tableau1[[#This Row],[Format]]&\",\"&Tableau1[[#This Row],[UVC]]&\",\"&Tableau1[[#This Row],[CUP]]&\",\"&Tableau1[[#This Row],[Catégorie]])","v":"11584072,Gordon's London dry gin,1140,9,00622153139064,Gin"}]
[286,1040,null,{"$f":"VLOOKUP($B294,'Répertoire des produits'!$1:$1048576,4,FALSE)","v":"Gordon's London dry gin"},{"$f":"VLOOKUP($B294,'Répertoire des produits'!$1:$1048576,5,FALSE)","v":750},{"$f":"VLOOKUP($B294,'Répertoire des produits'!$1:$1048576,6,FALSE)","v":12},{"$f":"VLOOKUP($B294,'Répertoire des produits'!$1:$1048576,3,FALSE)","v":"00622153139040"},{"$f":"VLOOKUP($B294,'Répertoire des produits'!$1:$1048576,2,FALSE)","v":"Gin"},{"$f":"CONCATENATE(Tableau1[[#This Row],[Code\nArticle]]&\",\"&Tableau1[[#This Row],[Nom du produit]]&\",\"&Tableau1[[#This Row],[Format]]&\",\"&Tableau1[[#This Row],[UVC]]&\",\"&Tableau1[[#This Row],[CUP]]&\",\"&Tableau1[[#This Row],[Catégorie]])","v":"1040,Gordon's London dry gin,750,12,00622153139040,Gin"}]
[287,11405679,null,{"$f":"VLOOKUP($B295,'Répertoire des produits'!$1:$1048576,4,FALSE)","v":"Beefeater London dry gin"},{"$f":"VLOOKUP($B295,'Répertoire des produits'!$1:$1048576,5,FALSE)","v":1140},{"$f":"VLOOKUP($B295,'Répertoire des produits'!$1:$1048576,6,FALSE)","v":6},{"$f":"VLOOKUP($B295,'Répertoire des produits'!$1:$1048576,3,FALSE)","v":"05000329002353"},{"$f":"VLOOKUP($B295,'Répertoire des produits'!$1:$1048576,2,FALSE)","v":"Gin"},{"$f":"CONCATENATE(Tableau1[[#This Row],[Code\nArticle]]&\",\"&Tableau1[[#This Row],[Nom du produit]]&\",\"&Tableau1[[#This Row],[Format]]&\",\"&Tableau1[[#This Row],[UVC]]&\",\"&Tableau1[[#This Row],[CUP]]&\",\"&Tableau1[[#This Row],[Catégorie]])","v":"11405679,Beefeater London dry gin,1140,6,05000329002353,Gin"}]
[288,570,null,{"$f":"VLOOKUP($B296,'Répertoire des produits'!$1:$1048576,4,FALSE)","v":"Beefeater London dry gin"},{"$f":"VLOOKUP($B296,'Répertoire des produits'!$1:$1048576,5,FALSE)","v":750},{"$f":"VLOOKUP($B296,'Répertoire des produits'!$1:$1048576,6,FALSE)","v":12},{"$f":"VLOOKUP($B296,'Répertoire des produits'!$1:$1048576,3,FALSE)","v":"05000329002216"},{"$f":"VLOOKUP($B296,'Répertoire des produits'!$1:$1048576,2,FALSE)","v":"Gin"},{"$f":"CONCATENATE(Tableau1[[#This Row],[Code\nArticle]]&\",\"&Tableau1[[#This Row],[Nom du produit]]&\",\"&Tableau1[[#This Row],[Format]]&\",\"&Tableau1[[#This Row],[UVC]]&\",\"&Tableau1[[#This Row],[CUP]]&\",\"&Tableau1[[#This Row],[Catégorie]])","v":"570,Beefeater London dry gin,750,12,05000329002216,Gin"}]
[289,11447393,null,{"$f":"VLOOKUP($B297,'Répertoire des produits'!$1:$1048576,4,FALSE)","v":"Johnnie Walker Red Label scotch blended"},{"$f":"VLOOKUP($B297,'Répertoire des produits'!$1:$1048576,5,FALSE)","v":1140},{"$f":"VLOOKUP($B297,'Répertoire des produits'!$1:$1048576,6,FALSE)","v":6},{"$f":"VLOOKUP($B297,'Répertoire des produits'!$1:$1048576,3,FALSE)","v":"00622153631063"},{"$f":"VLOOKUP($B297,'Répertoire des produits'!$1:$1048576,2,FALSE)","v":"Whisky Ecosse"},{"$f":"CONCATENATE(Tableau1[[#This Row],[Code\nArticle]]&\",\"&Tableau1[[#This Row],[Nom du produit]]&\",\"&Tableau1[[#This Row],[Format]]&\",\"&Tableau1[[#This Row],[UVC]]&\",\"&Tableau1[[#This Row],[CUP]]&\",\"&Tableau1[[#This Row],[Catégorie]])","v":"11447393,Johnnie Walker Red Label scotch blended,1140,6,00622153631063,Whisky Ecosse"}]
[290,1099,null,{"$f":"VLOOKUP($B298,'Répertoire des produits'!$1:$1048576,4,FALSE)","v":"Johnnie Walker Red Label scotch blended"},{"$f":"VLOOKUP($B298,'Répertoire des produits'!$1:$1048576,5,FALSE)","v":750},{"$f":"VLOOKUP($B298,'Répertoire des produits'!$1:$1048576,6,FALSE)","v":12},{"$f":"VLOOKUP($B298,'Répertoire des produits'!$1:$1048576,3,FALSE)","v":"00622153631049"},{"$f":"VLOOKUP($B298,'Répertoire des produits'!$1:$1048576,2,FALSE)","v":"Whisky Ecosse"},{"$f":"CONCATENATE(Tableau1[[#This Row],[Code\nArticle]]&\",\"&Tableau1[[#This Row],[Nom du produit]]&\",\"&Tableau1[[#This Row],[Format]]&\",\"&Tableau1[[#This Row],[UVC]]&\",\"&Tableau1[[#This Row],[CUP]]&\",\"&Tableau1[[#This Row],[Catégorie]])","v":"1099,Johnnie Walker Red Label scotch blended,750,12,00622153631049,Whisky Ecosse"}]
[291,12385,null,{"$f":"VLOOKUP($B299,'Répertoire des produits'!$1:$1048576,4,FALSE)","v":"Glenfiddich 12 ans Highland scotch single malt"},{"$f":"VLOOKUP($B299,'Répertoire des produits'!$1:$1048576,5,FALSE)","v":750},{"$f":"VLOOKUP($B299,'Répertoire des produits'!$1:$1048576,6,FALSE)","v":12},{"$f":"VLOOKUP($B299,'Répertoire des produits'!$1:$1048576,3,FALSE)","v":"05010327000176"},{"$f":"VLOOKUP($B299,'Répertoire des produits'!$1:$1048576,2,FALSE)","v":"Whisky Ecosse"},{"$f":"CONCATENATE(Tableau1[[#This Row],[Code\nArticle]]&\",\"&Tableau1[[#This Row],[Nom du produit]]&\",\"&Tableau1[[#This Row],[Format]]&\",\"&Tableau1[[#This Row],[UVC]]&\",\"&Tableau1[[#This Row],[CUP]]&\",\"&Tableau1[[#This Row],[Catégorie]])","v":"12385,Glenfiddich 12 ans Highland scotch single malt,750,12,05010327000176,Whisky Ecosse"}]
[292,4945,null,{"$f":"VLOOKUP($B300,'Répertoire des produits'!$1:$1048576,4,FALSE)","v":"St-Leger scotch blended"},{"$f":"VLOOKUP($B300,'Répertoire des produits'!$1:$1048576,5,FALSE)","v":1140},{"$f":"VLOOKUP($B300,'Répertoire des produits'!$1:$1048576,6,FALSE)","v":12},{"$f":"VLOOKUP($B300,'Répertoire des produits'!$1:$1048576,3,FALSE)","v":"00814789003226"},{"$f":"VLOOKUP($B300,'Répertoire des produits'!$1:$1048576,2,FALSE)","v":"Whisky Ecosse"},{"$f":"CONCATENATE(Tableau1[[#This Row],[Code\nArticle]]&\",\"&Tableau1[[#This Row],[Nom du produit]]&\",\"&Tableau1[[#This Row],[Format]]&\",\"&Tableau1[[#This Row],[UVC]]&\",\"&Tableau1[[#This Row],[CUP]]&\",\"&Tableau1[[#This Row],[Catégorie]])","v":"4945,St-Leger scotch blended,1140,12,00814789003226,Whisky Ecosse"}]
[293,{"$nulls":7},{"$f":"CONCATENATE(Tableau1[[#This Row],[Code\nArticle]]&\",\"&Tableau1[[#This Row],[Nom du produit]]&\",\"&Tableau1[[#This Row],[Format]]&\",\"&Tableau1[[#This Row],[UVC]]&\",\"&Tableau1[[#This Row],[CUP]]&\",\"&Tableau1[[#This Row],[Catégorie]])","v":",,,,,"}]
[294,2485,null,{"$f":"VLOOKUP($B302,'Répertoire des produits'!$1:$1048576,4,FALSE)","v":"Sauza Silver tequila"},{"$f":"VLOOKUP($B302,'Répertoire des produits'!$1:$1048576,5,FALSE)","v":750},{"$f":"VLOOKUP($B302,'Répertoire des produits'!$1:$1048576,6,FALSE)","v":12},{"$f":"VLOOKUP($B302,'Répertoire des produits'!$1:$1048576,3,FALSE)","v":"00080686832010"},{"$f":"VLOOKUP($B302,'Répertoire des produits'!$1:$1048576,2,FALSE)","v":"Tequila"},{"$f":"CONCATENATE(Tableau1[[#This Row],[Code\nArticle]]&\",\"&Tableau1[[#This Row],[Nom du produit]]&\",\"&Tableau1[[#This Row],[Format]]&\",\"&Tableau1[[#This Row],[UVC]]&\",\"&Tableau1[[#This Row],[CUP]]&\",\"&Tableau1[[#This Row],[Catégorie]])","v":"2485,Sauza Silver tequila,750,12,00080686832010,Tequila"}]
[295,{"$nulls":7},{"$f":"CONCATENATE(Tableau1[[#This Row],[Code\nArticle]]&\",\"&Tableau1[[#This Row],[Nom du produit]]&\",\"&Tableau1[[#This Row],[Format]]&\",\"&Tableau1[[#This Row],[UVC]]&\",\"&Tableau1[[#This Row],[CUP]]&\",\"&Tableau1[[#This Row],[Catégorie]])","v":",,,,,"}]
[296,451161,null,{"$f":"VLOOKUP($B304,'Répertoire des produits'!$1:$1048576,4,FALSE)","v":"Cuervo Especial dorée tequila"},{"$f":"VLOOKUP($B304,'Répertoire des produits'!$1:$1048576,5,FALSE)","v":750},{"$f":"VLOOKUP($B304,'Répertoire des produits'!$1:$1048576,6,FALSE)","v":12},{"$f":"VLOOKUP($B304,'Répertoire des produits'!$1:$1048576,3,FALSE)","v":"00811538010849"},{"$f":"VLOOKUP($B304,'Répertoire des produits'!$1:$1048576,2,FALSE)","v":"Tequila"},{"$f":"CONCATENATE(Tableau1[[#This Row],[Code\nArticle]]&\",\"&Tableau1[[#This Row],[Nom du produit]]&\",\"&Tableau1[[#This Row],[Format]]&\",\"&Tableau1[[#This Row],[UVC]]&\",\"&Tableau1[[#This Row],[CUP]]&\",\"&Tableau1[[#This Row],[Catégorie]])","v":"451161,Cuervo Especial dorée tequila,750,12,00811538010849,Tequila"}]
[297,196204,null,{"$f":"VLOOKUP($B305,'Répertoire des produits'!$1:$1048576,4,FALSE)","v":"Apricot Brandy Meagher liqueur d'abricot"},{"$f":"VLOOKUP($B305,'Répertoire des produits'!$1:$1048576,5,FALSE)","v":750},{"$f":"VLOOKUP($B305,'Répertoire des produits'!$1:$1048576,6,FALSE)","v":12},{"$f":"VLOOKUP($B305,'Répertoire des produits'!$1:$1048576,3,FALSE)","v":"00048415163071"},{"$f":"VLOOKUP($B305,'Répertoire des produits'!$1:$1048576,2,FALSE)","v":"Liqueur"},{"$f":"CONCATENATE(Tableau1[[#This Row],[Code\nArticle]]&\",\"&Tableau1[[#This Row],[Nom du produit]]&\",\"&Tableau1[[#This Row],[Format]]&\",\"&Tableau1[[#This Row],[UVC]]&\",\"&Tableau1[[#This Row],[CUP]]&\",\"&Tableau1[[#This Row],[Catégorie]])","v":"196204,Apricot Brandy Meagher liqueur d'abricot,750,12,00048415163071,Liqueur"}]
[298,196287,null,{"$f":"VLOOKUP($B306,'Répertoire des produits'!$1:$1048576,4,FALSE)","v":"Crème de menthe verte Meagher liqueur de menthe"},{"$f":"VLOOKUP($B306,'Répertoire des produits'!$1:$1048576,5,FALSE)","v":750},{"$f":"VLOOKUP($B306,'Répertoire des produits'!$1:$1048576,6,FALSE)","v":12},{"$f":"VLOOKUP($B306,'Répertoire des produits'!$1:$1048576,3,FALSE)","v":"00048415363396"},{"$f":"VLOOKUP($B306,'Répertoire des produits'!$1:$1048576,2,FALSE)","v":"Liqueur"},{"$f":"CONCATENATE(Tableau1[[#This Row],[Code\nArticle]]&\",\"&Tableau1[[#This Row],[Nom du produit]]&\",\"&Tableau1[[#This Row],[Format]]&\",\"&Tableau1[[#This Row],[UVC]]&\",\"&Tableau1[[#This Row],[CUP]]&\",\"&Tableau1[[#This Row],[Catégorie]])","v":"196287,Crème de menthe verte Meagher liqueur de menthe,750,12,00048415363396,Liqueur"}]
[299,196303,null,{"$f":"VLOOKUP($B307,'Répertoire des produits'!$1:$1048576,4,FALSE)","v":"Crème de menthe blanche Meagher liqueur de menthe"},{"$f":"VLOOKUP($B307,'Répertoire des produits'!$1:$1048576,5,FALSE)","v":750},{"$f":"VLOOKUP($B307,'Répertoire des produits'!$1:$1048576,6,FALSE)","v":12},{"$f":"VLOOKUP($B307,'Répertoire des produits'!$1:$1048576,3,FALSE)","v":"00048415360050"},{"$f":"VLOOKUP($B307,'Répertoire des produits'!$1:$1048576,2,FALSE)","v":"Liqueur"},{"$f":"CONCATENATE(Tableau1[[#This Row],[Code\nArticle]]&\",\"&Tableau1[[#This Row],[Nom du produit]]&\",\"&Tableau1[[#This Row],[Format]]&\",\"&Tableau1[[#This Row],[UVC]]&\",\"&Tableau1[[#This Row],[CUP]]&\",\"&Tableau1[[#This Row],[Catégorie]])","v":"196303,Crème de menthe blanche Meagher liqueur de menthe,750,12,00048415360050,Liqueur"}]
[300,255091,null,{"$f":"VLOOKUP($B308,'Répertoire des produits'!$1:$1048576,4,FALSE)","v":"Crème de menthe blanche De Kuyper liqueur de menthe"},{"$f":"VLOOKUP($B308,'Répertoire des produits'!$1:$1048576,5,FALSE)","v":1140},{"$f":"VLOOKUP($B308,'Répertoire des produits'!$1:$1048576,6,FALSE)","v":12},{"$f":"VLOOKUP($B308,'Répertoire des produits'!$1:$1048576,3,FALSE)","v":"00088004400354"},{"$f":"VLOOKUP($B308,'Répertoire des produits'!$1:$1048576,2,FALSE)","v":"Liqueur"},{"$f":"CONCATENATE(Tableau1[[#This Row],[Code\nArticle]]&\",\"&Tableau1[[#This Row],[Nom du produit]]&\",\"&Tableau1[[#This Row],[Format]]&\",\"&Tableau1[[#This Row],[UVC]]&\",\"&Tableau1[[#This Row],[CUP]]&\",\"&Tableau1[[#This Row],[Catégorie]])","v":"255091,Crème de menthe blanche De Kuyper liqueur de menthe,1140,12,00088004400354,Liqueur"}]
[301,10347921,null,{"$f":"VLOOKUP($B309,'Répertoire des produits'!$1:$1048576,4,FALSE)","v":"Sour Puss framboise boisson de fruit"},{"$f":"VLOOKUP($B309,'Répertoire des produits'!$1:$1048576,5,FALSE)","v":1140},{"$f":"VLOOKUP($B309,'Répertoire des produits'!$1:$1048576,6,FALSE)","v":12},{"$f":"VLOOKUP($B309,'Répertoire des produits'!$1:$1048576,3,FALSE)","v":"00087116035003"},{"$f":"VLOOKUP($B309,'Répertoire des produits'!$1:$1048576,2,FALSE)","v":"Liqueur"},{"$f":"CONCATENATE(Tableau1[[#This Row],[Code\nArticle]]&\",\"&Tableau1[[#This Row],[Nom du produit]]&\",\"&Tableau1[[#This Row],[Format]]&\",\"&Tableau1[[#This Row],[UVC]]&\",\"&Tableau1[[#This Row],[CUP]]&\",\"&Tableau1[[#This Row],[Catégorie]])","v":"10347921,Sour Puss framboise boisson de fruit,1140,12,00087116035003,Liqueur"}]
[302,7286,null,{"$f":"VLOOKUP($B310,'Répertoire des produits'!$1:$1048576,4,FALSE)","v":"St-Georges Sélectionné vin fortifié canadien"},{"$f":"VLOOKUP($B310,'Répertoire des produits'!$1:$1048576,5,FALSE)","v":1000},{"$f":"VLOOKUP($B310,'Répertoire des produits'!$1:$1048576,6,FALSE)","v":12},{"$f":"VLOOKUP($B310,'Répertoire des produits'!$1:$1048576,3,FALSE)","v":"00774336072863"},{"$f":"VLOOKUP($B310,'Répertoire des produits'!$1:$1048576,2,FALSE)","v":"Apéritif"},{"$f":"CONCATENATE(Tableau1[[#This Row],[Code\nArticle]]&\",\"&Tableau1[[#This Row],[Nom du produit]]&\",\"&Tableau1[[#This Row],[Format]]&\",\"&Tableau1[[#This Row],[UVC]]&\",\"&Tableau1[[#This Row],[CUP]]&\",\"&Tableau1[[#This Row],[Catégorie]])","v":"7286,St-Georges Sélectionné vin fortifié canadien,1000,12,00774336072863,Apéritif"}]
[303,3103,null,{"$f":"VLOOKUP($B311,'Répertoire des produits'!$1:$1048576,4,FALSE)","v":"St-Georges Sélectionné vin fortifié blanc canadien"},{"$f":"VLOOKUP($B311,'Répertoire des produits'!$1:$1048576,5,FALSE)","v":1000},{"$f":"VLOOKUP($B311,'Répertoire des produits'!$1:$1048576,6,FALSE)","v":12},{"$f":"VLOOKUP($B311,'Répertoire des produits'!$1:$1048576,3,FALSE)","v":"00774336031037"},{"$f":"VLOOKUP($B311,'Répertoire des produits'!$1:$1048576,2,FALSE)","v":"Apéritif"},{"$f":"CONCATENATE(Tableau1[[#This Row],[Code\nArticle]]&\",\"&Tableau1[[#This Row],[Nom du produit]]&\",\"&Tableau1[[#This Row],[Format]]&\",\"&Tableau1[[#This Row],[UVC]]&\",\"&Tableau1[[#This Row],[CUP]]&\",\"&Tableau1[[#This Row],[Catégorie]])","v":"3103,St-Georges Sélectionné vin fortifié blanc canadien,1000,12,00774336031037,Apéritif"}]
[304,{"$nulls":7},{"$f":"CONCATENATE(Tableau1[[#This Row],[Code\nArticle]]&\",\"&Tableau1[[#This Row],[Nom du produit]]&\",\"&Tableau1[[#This Row],[Format]]&\",\"&Tableau1[[#This Row],[UVC]]&\",\"&Tableau1[[#This Row],[CUP]]&\",\"&Tableau1[[#This Row],[Catégorie]])","v":",,,,,"}]
[305,596,null,{"$f":"VLOOKUP($B313,'Répertoire des produits'!$1:$1048576,4,FALSE)","v":"Ron Bacardi rhum blanc"},{"$f":"VLOOKUP($B313,'Répertoire des produits'!$1:$1048576,5,FALSE)","v":375},{"$f":"VLOOKUP($B313,'Répertoire des produits'!$1:$1048576,6,FALSE)","v":24},{"$f":"VLOOKUP($B313,'Répertoire des produits'!$1:$1048576,3,FALSE)","v":"00620213015600"},{"$f":"VLOOKUP($B313,'Répertoire des produits'!$1:$1048576,2,FALSE)","v":"Spiritueux 200 à 375 ML"},{"$f":"CONCATENATE(Tableau1[[#This Row],[Code\nArticle]]&\",\"&Tableau1[[#This Row],[Nom du produit]]&\",\"&Tableau1[[#This Row],[Format]]&\",\"&Tableau1[[#This Row],[UVC]]&\",\"&Tableau1[[#This Row],[CUP]]&\",\"&Tableau1[[#This Row],[Catégorie]])","v":"596,Ron Bacardi rhum blanc,375,24,00620213015600,Spiritueux 200 à 375 ML"}]
[306,74393,null,{"$f":"VLOOKUP($B314,'Répertoire des produits'!$1:$1048576,4,FALSE)","v":"Baileys l'original boisson à la crème irlandaise"},{"$f":"VLOOKUP($B314,'Répertoire des produits'!$1:$1048576,5,FALSE)","v":375},{"$f":"VLOOKUP($B314,'Répertoire des produits'!$1:$1048576,6,FALSE)","v":12},{"$f":"VLOOKUP($B314,'Répertoire des produits'!$1:$1048576,3,FALSE)","v":"05011013100194"},{"$f":"VLOOKUP($B314,'Répertoire des produits'!$1:$1048576,2,FALSE)","v":"Spiritueux 200 à 375 ML"},{"$f":"CONCATENATE(Tableau1[[#This Row],[Code\nArticle]]&\",\"&Tableau1[[#This Row],[Nom du produit]]&\",\"&Tableau1[[#This Row],[Format]]&\",\"&Tableau1[[#This Row],[UVC]]&\",\"&Tableau1[[#This Row],[CUP]]&\",\"&Tableau1[[#This Row],[Catégorie]])","v":"74393,Baileys l'original boisson à la crème irlandaise,375,12,05011013100194,Spiritueux 200 à 375 ML"}]
[307,110221,null,{"$f":"VLOOKUP($B315,'Répertoire des produits'!$1:$1048576,4,FALSE)","v":"St-Rémy Authentic VSOP brandy"},{"$f":"VLOOKUP($B315,'Répertoire des produits'!$1:$1048576,5,FALSE)","v":375},{"$f":"VLOOKUP($B315,'Répertoire des produits'!$1:$1048576,6,FALSE)","v":24},{"$f":"VLOOKUP($B315,'Répertoire des produits'!$1:$1048576,3,FALSE)","v":"00088352103297"},{"$f":"VLOOKUP($B315,'Répertoire des produits'!$1:$1048576,2,FALSE)","v":"Spiritueux 200 à 375 ML"},{"$f":"CONCATENATE(Tableau1[[#This Row],[Code\nArticle]]&\",\"&Tableau1[[#This Row],[Nom du produit]]&\",\"&Tableau1[[#This Row],[Format]]&\",\"&Tableau1[[#This Row],[UVC]]&\",\"&Tableau1[[#This Row],[CUP]]&\",\"&Tableau1[[#This Row],[Catégorie]])","v":"110221,St-Rémy Authentic VSOP brandy,375,24,00088352103297,Spiritueux 200 à 375 ML"}]
[308,33100,null,{"$f":"VLOOKUP($B316,'Répertoire des produits'!$1:$1048576,4,FALSE)","v":"de Kuyper genièvre"},{"$f":"VLOOKUP($B316,'Répertoire des produits'!$1:$1048576,5,FALSE)","v":375},{"$f":"VLOOKUP($B316,'Répertoire des produits'!$1:$1048576,6,FALSE)","v":24},{"$f":"VLOOKUP($B316,'Répertoire des produits'!$1:$1048576,3,FALSE)","v":"00088004400521"},{"$f":"VLOOKUP($B316,'Répertoire des produits'!$1:$1048576,2,FALSE)","v":"Spiritueux 200 à 375 ML"},{"$f":"CONCATENATE(Tableau1[[#This Row],[Code\nArticle]]&\",\"&Tableau1[[#This Row],[Nom du produit]]&\",\"&Tableau1[[#This Row],[Format]]&\",\"&Tableau1[[#This Row],[UVC]]&\",\"&Tableau1[[#This Row],[CUP]]&\",\"&Tableau1[[#This Row],[Catégorie]])","v":"33100,de Kuyper genièvre,375,24,00088004400521,Spiritueux 200 à 375 ML"}]
[309,7369,null,{"$f":"VLOOKUP($B317,'Répertoire des produits'!$1:$1048576,4,FALSE)","v":"Beefeater London dry gin"},{"$f":"VLOOKUP($B317,'Répertoire des produits'!$1:$1048576,5,FALSE)","v":375},{"$f":"VLOOKUP($B317,'Répertoire des produits'!$1:$1048576,6,FALSE)","v":24},{"$f":"VLOOKUP($B317,'Répertoire des produits'!$1:$1048576,3,FALSE)","v":"05000329002100"},{"$f":"VLOOKUP($B317,'Répertoire des produits'!$1:$1048576,2,FALSE)","v":"Spiritueux 200 à 375 ML"},{"$f":"CONCATENATE(Tableau1[[#This Row],[Code\nArticle]]&\",\"&Tableau1[[#This Row],[Nom du produit]]&\",\"&Tableau1[[#This Row],[Format]]&\",\"&Tableau1[[#This Row],[UVC]]&\",\"&Tableau1[[#This Row],[CUP]]&\",\"&Tableau1[[#This Row],[Catégorie]])","v":"7369,Beefeater London dry gin,375,24,05000329002100,Spiritueux 200 à 375 ML"}]
[310,119743,null,{"$f":"VLOOKUP($B318,'Répertoire des produits'!$1:$1048576,4,FALSE)","v":"Jack Daniel's Old No 7 whiskey américain"},{"$f":"VLOOKUP($B318,'Répertoire des produits'!$1:$1048576,5,FALSE)","v":375},{"$f":"VLOOKUP($B318,'Répertoire des produits'!$1:$1048576,6,FALSE)","v":24},{"$f":"VLOOKUP($B318,'Répertoire des produits'!$1:$1048576,3,FALSE)","v":"00082184080948"},{"$f":"VLOOKUP($B318,'Répertoire des produits'!$1:$1048576,2,FALSE)","v":"Spiritueux 200 à 375 ML"},{"$f":"CONCATENATE(Tableau1[[#This Row],[Code\nArticle]]&\",\"&Tableau1[[#This Row],[Nom du produit]]&\",\"&Tableau1[[#This Row],[Format]]&\",\"&Tableau1[[#This Row],[UVC]]&\",\"&Tableau1[[#This Row],[CUP]]&\",\"&Tableau1[[#This Row],[Catégorie]])","v":"119743,Jack Daniel's Old No 7 whiskey américain,375,24,00082184080948,Spiritueux 200 à 375 ML"}]
[311,4242,null,{"$f":"VLOOKUP($B319,'Répertoire des produits'!$1:$1048576,4,FALSE)","v":"Chemineaud ***** brandy"},{"$f":"VLOOKUP($B319,'Répertoire des produits'!$1:$1048576,5,FALSE)","v":375},{"$f":"VLOOKUP($B319,'Répertoire des produits'!$1:$1048576,6,FALSE)","v":24},{"$f":"VLOOKUP($B319,'Répertoire des produits'!$1:$1048576,3,FALSE)","v":"00814789003349"},{"$f":"VLOOKUP($B319,'Répertoire des produits'!$1:$1048576,2,FALSE)","v":"Spiritueux 200 à 375 ML"},{"$f":"CONCATENATE(Tableau1[[#This Row],[Code\nArticle]]&\",\"&Tableau1[[#This Row],[Nom du produit]]&\",\"&Tableau1[[#This Row],[Format]]&\",\"&Tableau1[[#This Row],[UVC]]&\",\"&Tableau1[[#This Row],[CUP]]&\",\"&Tableau1[[#This Row],[Catégorie]])","v":"4242,Chemineaud ***** brandy,375,24,00814789003349,Spiritueux 200 à 375 ML"}]
[312,31864,null,{"$f":"VLOOKUP($B320,'Répertoire des produits'!$1:$1048576,4,FALSE)","v":"Amaretto Disaronno Originale liqueur"},{"$f":"VLOOKUP($B320,'Répertoire des produits'!$1:$1048576,5,FALSE)","v":375},{"$f":"VLOOKUP($B320,'Répertoire des produits'!$1:$1048576,6,FALSE)","v":12},{"$f":"VLOOKUP($B320,'Répertoire des produits'!$1:$1048576,3,FALSE)","v":"00050037014518"},{"$f":"VLOOKUP($B320,'Répertoire des produits'!$1:$1048576,2,FALSE)","v":"Spiritueux 200 à 375 ML"},{"$f":"CONCATENATE(Tableau1[[#This Row],[Code\nArticle]]&\",\"&Tableau1[[#This Row],[Nom du produit]]&\",\"&Tableau1[[#This Row],[Format]]&\",\"&Tableau1[[#This Row],[UVC]]&\",\"&Tableau1[[#This Row],[CUP]]&\",\"&Tableau1[[#This Row],[Catégorie]])","v":"31864,Amaretto Disaronno Originale liqueur,375,12,00050037014518,Spiritueux 200 à 375 ML"}]
[313,240,null,{"$f":"VLOOKUP($B321,'Répertoire des produits'!$1:$1048576,4,FALSE)","v":"Smirnoff triple distillation vodka"},{"$f":"VLOOKUP($B321,'Répertoire des produits'!$1:$1048576,5,FALSE)","v":375},{"$f":"VLOOKUP($B321,'Répertoire des produits'!$1:$1048576,6,FALSE)","v":24},{"$f":"VLOOKUP($B321,'Répertoire des produits'!$1:$1048576,3,FALSE)","v":"00776103000246"},{"$f":"VLOOKUP($B321,'Répertoire des produits'!$1:$1048576,2,FALSE)","v":"Spiritueux 200 à 375 ML"},{"$f":"CONCATENATE(Tableau1[[#This Row],[Code\nArticle]]&\",\"&Tableau1[[#This Row],[Nom du produit]]&\",\"&Tableau1[[#This Row],[Format]]&\",\"&Tableau1[[#This Row],[UVC]]&\",\"&Tableau1[[#This Row],[CUP]]&\",\"&Tableau1[[#This Row],[Catégorie]])","v":"240,Smirnoff triple distillation vodka,375,24,00776103000246,Spiritueux 200 à 375 ML"}]
[314,410829,null,{"$f":"VLOOKUP($B322,'Répertoire des produits'!$1:$1048576,4,FALSE)","v":"Amarula Cream boisson à la crème"},{"$f":"VLOOKUP($B322,'Répertoire des produits'!$1:$1048576,5,FALSE)","v":375},{"$f":"VLOOKUP($B322,'Répertoire des produits'!$1:$1048576,6,FALSE)","v":24},{"$f":"VLOOKUP($B322,'Répertoire des produits'!$1:$1048576,3,FALSE)","v":"06001495062478"},{"$f":"VLOOKUP($B322,'Répertoire des produits'!$1:$1048576,2,FALSE)","v":"Spiritueux 200 à 375 ML"},{"$f":"CONCATENATE(Tableau1[[#This Row],[Code\nArticle]]&\",\"&Tableau1[[#This Row],[Nom du produit]]&\",\"&Tableau1[[#This Row],[Format]]&\",\"&Tableau1[[#This Row],[UVC]]&\",\"&Tableau1[[#This Row],[CUP]]&\",\"&Tableau1[[#This Row],[Catégorie]])","v":"410829,Amarula Cream boisson à la crème,375,24,06001495062478,Spiritueux 200 à 375 ML"}]
[315,11355923,null,{"$f":"VLOOKUP($B323,'Répertoire des produits'!$1:$1048576,4,FALSE)","v":"Tia Maria boisson diverse"},{"$f":"VLOOKUP($B323,'Répertoire des produits'!$1:$1048576,5,FALSE)","v":375},{"$f":"VLOOKUP($B323,'Répertoire des produits'!$1:$1048576,6,FALSE)","v":12},{"$f":"VLOOKUP($B323,'Répertoire des produits'!$1:$1048576,3,FALSE)","v":"00089540448183"},{"$f":"VLOOKUP($B323,'Répertoire des produits'!$1:$1048576,2,FALSE)","v":"Spiritueux 200 à 375 ML"},{"$f":"CONCATENATE(Tableau1[[#This Row],[Code\nArticle]]&\",\"&Tableau1[[#This Row],[Nom du produit]]&\",\"&Tableau1[[#This Row],[Format]]&\",\"&Tableau1[[#This Row],[UVC]]&\",\"&Tableau1[[#This Row],[CUP]]&\",\"&Tableau1[[#This Row],[Catégorie]])","v":"11355923,Tia Maria boisson diverse,375,12,00089540448183,Spiritueux 200 à 375 ML"}]
[316,466854,null,{"$f":"VLOOKUP($B324,'Répertoire des produits'!$1:$1048576,4,FALSE)","v":"Appleton Estate V/X rhum ambré"},{"$f":"VLOOKUP($B324,'Répertoire des produits'!$1:$1048576,5,FALSE)","v":375},{"$f":"VLOOKUP($B324,'Répertoire des produits'!$1:$1048576,6,FALSE)","v":24},{"$f":"VLOOKUP($B324,'Répertoire des produits'!$1:$1048576,3,FALSE)","v":"00621705110377"},{"$f":"VLOOKUP($B324,'Répertoire des produits'!$1:$1048576,2,FALSE)","v":"Spiritueux 200 à 375 ML"},{"$f":"CONCATENATE(Tableau1[[#This Row],[Code\nArticle]]&\",\"&Tableau1[[#This Row],[Nom du produit]]&\",\"&Tableau1[[#This Row],[Format]]&\",\"&Tableau1[[#This Row],[UVC]]&\",\"&Tableau1[[#This Row],[CUP]]&\",\"&Tableau1[[#This Row],[Catégorie]])","v":"466854,Appleton Estate V/X rhum ambré,375,24,00621705110377,Spiritueux 200 à 375 ML"}]
[317,12195,null,{"$f":"VLOOKUP($B325,'Répertoire des produits'!$1:$1048576,4,FALSE)","v":"Grand Marnier liqueur d'agrumes"},{"$f":"VLOOKUP($B325,'Répertoire des produits'!$1:$1048576,5,FALSE)","v":375},{"$f":"VLOOKUP($B325,'Répertoire des produits'!$1:$1048576,6,FALSE)","v":12},{"$f":"VLOOKUP($B325,'Répertoire des produits'!$1:$1048576,3,FALSE)","v":"03018300003284"},{"$f":"VLOOKUP($B325,'Répertoire des produits'!$1:$1048576,2,FALSE)","v":"Spiritueux 200 à 375 ML"},{"$f":"CONCATENATE(Tableau1[[#This Row],[Code\nArticle]]&\",\"&Tableau1[[#This Row],[Nom du produit]]&\",\"&Tableau1[[#This Row],[Format]]&\",\"&Tableau1[[#This Row],[UVC]]&\",\"&Tableau1[[#This Row],[CUP]]&\",\"&Tableau1[[#This Row],[Catégorie]])","v":"12195,Grand Marnier liqueur d'agrumes,375,12,03018300003284,Spiritueux 200 à 375 ML"}]
[318,11157185,null,"el bon homme",750,12,null,"rouge Espagne",{"$f":"CONCATENATE(Tableau1[[#This Row],[Code\nArticle]]&\",\"&Tableau1[[#This Row],[Nom du produit]]&\",\"&Tableau1[[#This Row],[Format]]&\",\"&Tableau1[[#This Row],[UVC]]&\",\"&Tableau1[[#This Row],[CUP]]&\",\"&Tableau1[[#This Row],[Catégorie]])","v":"11157185,el bon homme,750,12,,rouge Espagne"}]
[319,17897,null,"chablis",750,12,8711311180,null,{"$f":"CONCATENATE(Tableau1[[#This Row],[Code\nArticle]]&\",\"&Tableau1[[#This Row],[Nom du produit]]&\",\"&Tableau1[[#This Row],[Format]]&\",\"&Tableau1[[#This Row],[UVC]]&\",\"&Tableau1[[#This Row],[CUP]]&\",\"&Tableau1[[#This Row],[Catégorie]])","v":"17897,chablis,750,12,8711311180,"}]
[320,10703412,null,"the chocolate black",750,12,74692500118,null,{"$f":"CONCATENATE(Tableau1[[#This Row],[Code\nArticle]]&\",\"&Tableau1[[#This Row],[Nom du produit]]&\",\"&Tableau1[[#This Row],[Format]]&\",\"&Tableau1[[#This Row],[UVC]]&\",\"&Tableau1[[#This Row],[CUP]]&\",\"&Tableau1[[#This Row],[Catégorie]])","v":"10703412,the chocolate black,750,12,74692500118,"}]
[{"$f":"ROW(C329)-8","v":321},10293169,null,"osoyos larose",750,12,87161000155,null,{"$f":"CONCATENATE(Tableau1[[#This Row],[Code\nArticle]]&\",\"&Tableau1[[#This Row],[Nom du produit]]&\",\"&Tableau1[[#This Row],[Format]]&\",\"&Tableau1[[#This Row],[UVC]]&\",\"&Tableau1[[#This Row],[CUP]]&\",\"&Tableau1[[#This Row],[Catégorie]])","v":"10293169,osoyos larose,750,12,87161000155,"}]
[322,518670,null,"SOUR Puss framboise boisson de fruit",750,12,null,null,{"$f":"CONCATENATE(Tableau1[[#This Row],[Code\nArticle]]&\",\"&Tableau1[[#This Row],[Nom du produit]]&\",\"&Tableau1[[#This Row],[Format]]&\",\"&Tableau1[[#This Row],[UVC]]&\",\"&Tableau1[[#This Row],[CUP]]&\",\"&Tableau1[[#This Row],[Catégorie]])","v":"518670,SOUR Puss framboise boisson de fruit,750,12,,"}]
[323,12729827,null,"royal crown apple",750,{"$nulls":3},{"$f":"CONCATENATE(Tableau1[[#This Row],[Code\nArticle]]&\",\"&Tableau1[[#This Row],[Nom du produit]]&\",\"&Tableau1[[#This Row],[Format]]&\",\"&Tableau1[[#This Row],[UVC]]&\",\"&Tableau1[[#This Row],[CUP]]&\",\"&Tableau1[[#This Row],[Catégorie]])","v":"12729827,royal crown apple,750,,,"}]
[324,11629787,null,"kung fu girl",750,12,null,"blanc e.u",{"$f":"CONCATENATE(Tableau1[[#This Row],[Code\nArticle]]&\",\"&Tableau1[[#This Row],[Nom du produit]]&\",\"&Tableau1[[#This Row],[Format]]&\",\"&Tableau1[[#This Row],[UVC]]&\",\"&Tableau1[[#This Row],[CUP]]&\",\"&Tableau1[[#This Row],[Catégorie]])","v":"11629787,kung fu girl,750,12,,blanc e.u"}]
[325,12525120,null,"fonte do nico",750,12,null,null,{"$f":"CONCATENATE(Tableau1[[#This Row],[Code\nArticle]]&\",\"&Tableau1[[#This Row],[Nom du produit]]&\",\"&Tableau1[[#This Row],[Format]]&\",\"&Tableau1[[#This Row],[UVC]]&\",\"&Tableau1[[#This Row],[CUP]]&\",\"&Tableau1[[#This Row],[Catégorie]])","v":"12525120,fonte do nico,750,12,,"}]
[326,11975073,null,"hacienda arancano",750,12,null,null,{"$f":"CONCATENATE(Tableau1[[#This Row],[Code\nArticle]]&\",\"&Tableau1[[#This Row],[Nom du produit]]&\",\"&Tableau1[[#This Row],[Format]]&\",\"&Tableau1[[#This Row],[UVC]]&\",\"&Tableau1[[#This Row],[CUP]]&\",\"&Tableau1[[#This Row],[Catégorie]])","v":"11975073,hacienda arancano,750,12,,"}]
[327,12525234,null,"la sablette blanc",750,12,null,null,{"$f":"CONCATENATE(Tableau1[[#This Row],[Code\nArticle]]&\",\"&Tableau1[[#This Row],[Nom du produit]]&\",\"&Tableau1[[#This Row],[Format]]&\",\"&Tableau1[[#This Row],[UVC]]&\",\"&Tableau1[[#This Row],[CUP]]&\",\"&Tableau1[[#This Row],[Catégorie]])","v":"12525234,la sablette blanc,750,12,,"}]
[328,12382851,null,"chardonnay campagnola veneto",750,12,null,null,{"$f":"CONCATENATE(Tableau1[[#This Row],[Code\nArticle]]&\",\"&Tableau1[[#This Row],[Nom du produit]]&\",\"&Tableau1[[#This Row],[Format]]&\",\"&Tableau1[[#This Row],[UVC]]&\",\"&Tableau1[[#This Row],[CUP]]&\",\"&Tableau1[[#This Row],[Catégorie]])","v":"12382851,chardonnay campagnola veneto,750,12,,"}]
[329,11506120,null,"classique de st-jacques domaine st-jacques",750,12,null,null,{"$f":"CONCATENATE(Tableau1[[#This Row],[Code\nArticle]]&\",\"&Tableau1[[#This Row],[Nom du produit]]&\",\"&Tableau1[[#This Row],[Format]]&\",\"&Tableau1[[#This Row],[UVC]]&\",\"&Tableau1[[#This Row],[CUP]]&\",\"&Tableau1[[#This Row],[Catégorie]])","v":"11506120,classique de st-jacques domaine st-jacques,750,12,,"}]
[330,13151449,null,"grand sud chardenay","1l",12,null,"vin blanc France",{"$f":"CONCATENATE(Tableau1[[#This Row],[Code\nArticle]]&\",\"&Tableau1[[#This Row],[Nom du produit]]&\",\"&Tableau1[[#This Row],[Format]]&\",\"&Tableau1[[#This Row],[UVC]]&\",\"&Tableau1[[#This Row],[CUP]]&\",\"&Tableau1[[#This Row],[Catégorie]])","v":"13151449,grand sud chardenay,1l,12,,vin blanc France"}]
[331,928853,null,"MOUNTAIN VINEYARD NINQUEN",750,12,null,"VIN ROUGE CHILI",{"$f":"CONCATENATE(Tableau1[[#This Row],[Code\nArticle]]&\",\"&Tableau1[[#This Row],[Nom du produit]]&\",\"&Tableau1[[#This Row],[Format]]&\",\"&Tableau1[[#This Row],[UVC]]&\",\"&Tableau1[[#This Row],[CUP]]&\",\"&Tableau1[[#This Row],[Catégorie]])","v":"928853,MOUNTAIN VINEYARD NINQUEN,750,12,,VIN ROUGE CHILI"}]
[332,11409371,null,"MICHEAL DAVID",750,12,null,"VIN ROUGE E.U",{"$f":"CONCATENATE(Tableau1[[#This Row],[Code\nArticle]]&\",\"&Tableau1[[#This Row],[Nom du produit]]&\",\"&Tableau1[[#This Row],[Format]]&\",\"&Tableau1[[#This Row],[UVC]]&\",\"&Tableau1[[#This Row],[CUP]]&\",\"&Tableau1[[#This Row],[Catégorie]])","v":"11409371,MICHEAL DAVID,750,12,,VIN ROUGE E.U"}]
[333,3962,null,"BROLIO CHIANTI CLASSICO",750,12,null,"VIN ROUGE Italie",{"$f":"CONCATENATE(Tableau1[[#This Row],[Code\nArticle]]&\",\"&Tableau1[[#This Row],[Nom du produit]]&\",\"&Tableau1[[#This Row],[Format]]&\",\"&Tableau1[[#This Row],[UVC]]&\",\"&Tableau1[[#This Row],[CUP]]&\",\"&Tableau1[[#This Row],[Catégorie]])","v":"3962,BROLIO CHIANTI CLASSICO,750,12,,VIN ROUGE Italie"}]
[334,12102389,null,"TOTA MARCHESI ALFIERI",750,12,null,"VIN ROUGE ITALIE",{"$f":"CONCATENATE(Tableau1[[#This Row],[Code\nArticle]]&\",\"&Tableau1[[#This Row],[Nom du produit]]&\",\"&Tableau1[[#This Row],[Format]]&\",\"&Tableau1[[#This Row],[UVC]]&\",\"&Tableau1[[#This Row],[CUP]]&\",\"&Tableau1[[#This Row],[Catégorie]])","v":"12102389,TOTA MARCHESI ALFIERI,750,12,,VIN ROUGE ITALIE"}]
[335,12098033,null,"DIALOGO DOURO",750,12,null,"VI ROUGE Portugal",{"$f":"CONCATENATE(Tableau1[[#This Row],[Code\nArticle]]&\",\"&Tableau1[[#This Row],[Nom du produit]]&\",\"&Tableau1[[#This Row],[Format]]&\",\"&Tableau1[[#This Row],[UVC]]&\",\"&Tableau1[[#This Row],[CUP]]&\",\"&Tableau1[[#This Row],[Catégorie]])","v":"12098033,DIALOGO DOURO,750,12,,VI ROUGE Portugal"}]
[336,330803,null,"BOWMORE 12 ANS ISLAY",750,12,null,"WHISKY",{"$f":"CONCATENATE(Tableau1[[#This Row],[Code\nArticle]]&\",\"&Tableau1[[#This Row],[Nom du produit]]&\",\"&Tableau1[[#This Row],[Format]]&\",\"&Tableau1[[#This Row],[UVC]]&\",\"&Tableau1[[#This Row],[CUP]]&\",\"&Tableau1[[#This Row],[Catégorie]])","v":"330803,BOWMORE 12 ANS ISLAY,750,12,,WHISKY"}]
[337,12206891,null,"JACOB`S CREEK MOSCATO",750,12,null,"VIN BLANC AUSTRALIE",{"$f":"CONCATENATE(Tableau1[[#This Row],[Code\nArticle]]&\",\"&Tableau1[[#This Row],[Nom du produit]]&\",\"&Tableau1[[#This Row],[Format]]&\",\"&Tableau1[[#This Row],[UVC]]&\",\"&Tableau1[[#This Row],[CUP]]&\",\"&Tableau1[[#This Row],[Catégorie]])","v":"12206891,JACOB`S CREEK MOSCATO,750,12,,VIN BLANC AUSTRALIE"}]
[338,313825,null,"LOHR SEVEN OAKS PASO CAB-SAUV",750,12,null,"VIN ROUGE E.U",{"$f":"CONCATENATE(Tableau1[[#This Row],[Code\nArticle]]&\",\"&Tableau1[[#This Row],[Nom du produit]]&\",\"&Tableau1[[#This Row],[Format]]&\",\"&Tableau1[[#This Row],[UVC]]&\",\"&Tableau1[[#This Row],[CUP]]&\",\"&Tableau1[[#This Row],[Catégorie]])","v":"313825,LOHR SEVEN OAKS PASO CAB-SAUV,750,12,,VIN ROUGE E.U"}]
[339,560078,null,"FONTANA MORELLA","1L",12,null,"VIN ROUGE Italie",{"$f":"CONCATENATE(Tableau1[[#This Row],[Code\nArticle]]&\",\"&Tableau1[[#This Row],[Nom du produit]]&\",\"&Tableau1[[#This Row],[Format]]&\",\"&Tableau1[[#This Row],[UVC]]&\",\"&Tableau1[[#This Row],[CUP]]&\",\"&Tableau1[[#This Row],[Catégorie]])","v":"560078,FONTANA MORELLA,1L,12,,VIN ROUGE Italie"}]
[340,12098033,null,"DIALOGO DOURO",750,12,null,"VIN ROUGE Portugal",{"$f":"CONCATENATE(Tableau1[[#This Row],[Code\nArticle]]&\",\"&Tableau1[[#This Row],[Nom du produit]]&\",\"&Tableau1[[#This Row],[Format]]&\",\"&Tableau1[[#This Row],[UVC]]&\",\"&Tableau1[[#This Row],[CUP]]&\",\"&Tableau1[[#This Row],[Catégorie]])","v":"12098033,DIALOGO DOURO,750,12,,VIN ROUGE Portugal"}]
[341,12773692,null,"NATUREO SYRAH",750,12,null,"VIN ROUGE Espagne",{"$f":"CONCATENATE(Tableau1[[#This Row],[Code\nArticle]]&\",\"&Tableau1[[#This Row],[Nom du produit]]&\",\"&Tableau1[[#This Row],[Format]]&\",\"&Tableau1[[#This Row],[UVC]]&\",\"&Tableau1[[#This Row],[CUP]]&\",\"&Tableau1[[#This Row],[Catégorie]])","v":"12773692,NATUREO SYRAH,750,12,,VIN ROUGE Espagne"}]
[342,10845701,null,"TOCADO CAMPO DE BORJA",750,12,null,"VIN ROUGE ",{"$f":"CONCATENATE(Tableau1[[#This Row],[Code\nArticle]]&\",\"&Tableau1[[#This Row],[Nom du produit]]&\",\"&Tableau1[[#This Row],[Format]]&\",\"&Tableau1[[#This Row],[UVC]]&\",\"&Tableau1[[#This Row],[CUP]]&\",\"&Tableau1[[#This Row],[Catégorie]])","v":"10845701,TOCADO CAMPO DE BORJA,750,12,,VIN ROUGE "}]
[343,548875,null,"tempranillo los molinos",750,12,null,"vin rouge",{"$f":"CONCATENATE(Tableau1[[#This Row],[Code\nArticle]]&\",\"&Tableau1[[#This Row],[Nom du produit]]&\",\"&Tableau1[[#This Row],[Format]]&\",\"&Tableau1[[#This Row],[UVC]]&\",\"&Tableau1[[#This Row],[CUP]]&\",\"&Tableau1[[#This Row],[Catégorie]])","v":"548875,tempranillo los molinos,750,12,,vin rouge"}]
[344,590836,null,"TSANTALI RAPSANI",750,12,null,"VIN ROUGE DE GRECE",{"$f":"CONCATENATE(Tableau1[[#This Row],[Code\nArticle]]&\",\"&Tableau1[[#This Row],[Nom du produit]]&\",\"&Tableau1[[#This Row],[Format]]&\",\"&Tableau1[[#This Row],[UVC]]&\",\"&Tableau1[[#This Row],[CUP]]&\",\"&Tableau1[[#This Row],[Catégorie]])","v":"590836,TSANTALI RAPSANI,750,12,,VIN ROUGE DE GRECE"}]
[345,13248646,null,"black fly pampl ","400ml",24,null,null,{"$f":"CONCATENATE(Tableau1[[#This Row],[Code\nArticle]]&\",\"&Tableau1[[#This Row],[Nom du produit]]&\",\"&Tableau1[[#This Row],[Format]]&\",\"&Tableau1[[#This Row],[UVC]]&\",\"&Tableau1[[#This Row],[CUP]]&\",\"&Tableau1[[#This Row],[Catégorie]])","v":"13248646,black fly pampl ,400ml,24,,"}]
[346,13298638,null,"black fly citron","400ml",24,null,null,{"$f":"CONCATENATE(Tableau1[[#This Row],[Code\nArticle]]&\",\"&Tableau1[[#This Row],[Nom du produit]]&\",\"&Tableau1[[#This Row],[Format]]&\",\"&Tableau1[[#This Row],[UVC]]&\",\"&Tableau1[[#This Row],[CUP]]&\",\"&Tableau1[[#This Row],[Catégorie]])","v":"13298638,black fly citron,400ml,24,,"}]
[347,11975399,null,"bourbon gin bean",750,{"$nulls":3},{"$f":"CONCATENATE(Tableau1[[#This Row],[Code\nArticle]]&\",\"&Tableau1[[#This Row],[Nom du produit]]&\",\"&Tableau1[[#This Row],[Format]]&\",\"&Tableau1[[#This Row],[UVC]]&\",\"&Tableau1[[#This Row],[CUP]]&\",\"&Tableau1[[#This Row],[Catégorie]])","v":"11975399,bourbon gin bean,750,,,"}]
[348,11589720,null,"SAC",{"$nulls":4},{"$f":"CONCATENATE(Tableau1[[#This Row],[Code\nArticle]]&\",\"&Tableau1[[#This Row],[Nom du produit]]&\",\"&Tableau1[[#This Row],[Format]]&\",\"&Tableau1[[#This Row],[UVC]]&\",\"&Tableau1[[#This Row],[CUP]]&\",\"&Tableau1[[#This Row],[Catégorie]])","v":"11589720,SAC,,,,"}]
[349,12206461,null,"ABERFELDY 12 ANS","750ML",null,null,"SCOTCH HIGHLANDS",{"$f":"CONCATENATE(Tableau1[[#This Row],[Code\nArticle]]&\",\"&Tableau1[[#This Row],[Nom du produit]]&\",\"&Tableau1[[#This Row],[Format]]&\",\"&Tableau1[[#This Row],[UVC]]&\",\"&Tableau1[[#This Row],[CUP]]&\",\"&Tableau1[[#This Row],[Catégorie]])","v":"12206461,ABERFELDY 12 ANS,750ML,,,SCOTCH HIGHLANDS"}]
[350,13601323,null,"jack daniel limonade ","473ml",24,null,null,{"$f":"CONCATENATE(Tableau1[[#This Row],[Code\nArticle]]&\",\"&Tableau1[[#This Row],[Nom du produit]]&\",\"&Tableau1[[#This Row],[Format]]&\",\"&Tableau1[[#This Row],[UVC]]&\",\"&Tableau1[[#This Row],[CUP]]&\",\"&Tableau1[[#This Row],[Catégorie]])","v":"13601323,jack daniel limonade ,473ml,24,,"}]

{"sheet":"Répertoire des produits","index":1,"n_rows":2193,"n_cols":8,"rows_kept":2193}
["Code SAQ","Catégorie","Code CUP","Nom du produit","Format (ml)","Nombre d'unités / caisse (UVC)","Mode d'approvisionnement","Statut"]
[42,"Whisky","00080686816157","Canadian Club whisky canadien",750,12,"Courant achat continu","Article actif"]
[67,"Vodka et Alcool","00776103000260","Smirnoff triple distillation vodka",750,12,"Courant achat continu","Article actif"]
[117,"Rhum","00620213015402","Bacardi Superior rhum blanc",750,12,"Courant achat continu","Article actif"]
[166,"Vin rosé","05601012011500","Mateus rosé",750,12,"Courant achat continu","Article actif"]
[240,"Spiritueux 200 à 375 ML","00776103000246","Smirnoff triple distillation vodka",375,24,"Courant achat continu","Article actif"]
[356,"Apéritif","03163933575001","Dubonnet rouge apéritif",750,12,"Courant achat continu","Article actif"]
[406,"Gin","00088004400507","de Kuyper genièvre",1140,12,"Courant achat continu","Article actif"]
[463,"Spiritueux 200 à 375 ML","00080686816027","Canadian Club whisky canadien",375,24,"Courant achat continu","Article actif"]
[513,"Vin rg France autres régions","03264380027034","Cuvée Saint Pierre Mommessin rouge",750,12,"Courant achat continu","Article actif"]
[570,"Gin","05000329002216","Beefeater London dry gin",750,12,"Courant achat continu","Article actif"]
[596,"Spiritueux 200 à 375 ML","00620213015600","Ron Bacardi rhum blanc",375,24,"Courant achat continu","Article actif"]
[711,"Vin bl Italie autres régions","08001333700010","Fontana di Papa Colli Albani",1000,12,"Courant achat continu","Article actif"]
[935,"Rhum","00082000749974","Captain Morgan rhum blanc",750,12,"Courant achat continu","Article en écoulement"]
[943,"Vin rg France Bordeaux","03262151001757","Mouton Cadet Bordeaux",750,12,"Courant achat continu","Article actif"]
[1016,"Vin rg Italie autres régions","08001333700027","Fontana di Papa Castelli Romani",1000,12,"Courant achat continu","Article actif"]
[1040,"Gin","00622153139040","Gordon's London dry gin",750,12,"Courant achat continu","Article actif"]
[1099,"Whisky Ecosse","00622153631049","Johnnie Walker Red Label scotch blended",750,12,"Courant achat continu","Article actif"]
[1206,"Rhum","00620213025401","Bacardi Gold rhum ambré",750,12,"Courant achat continu","Article actif"]
[1339,"Gin","00088004400538","De Kuyper Genièvre",750,12,"Courant achat continu","Article actif"]
[1487,"Whisky","00087000007253","Crown Royal whisky canadien",750,12,"Courant achat continu","Article actif"]
[1743,"Vin rg Italie Toscane","08001660101757","Ruffino Chianti",750,12,"Courant achat continu","Article actif"]
[1784,"Liqueur","03018300000191","Grand Marnier liqueur d'agrumes",750,12,"Courant achat continu","Article actif"]
[1867,"Liqueur","00010391100753","Drambuie liqueur d'herbe",750,12,"Spécialité achat continu","Article actif"]
[1925,"Brandy et Cognac","03049197110236","Courvoisier Cognac V.S.",750,12,"Courant achat continu","Article actif"]
[2048,"Apéritif","08000440112891","Stock vermouth",1000,12,"Courant achat continu","Article actif"]
[2253,"Liqueur","00050037014501","Amaretto Disaronno Originale liqueur",750,12,"Courant achat continu","Article actif"]
[2337,"Apéritif","03394210004109","St-Raphaël apéritif",750,12,"Courant achat continu","Article actif"]
[2444,"Rhum","00622153160044","Ron Carioca rhum blanc",750,12,"Courant achat continu","Article actif"]
[2485,"Tequila","00080686832010","Sauza Silver tequila",750,12,"Courant achat continu","Article actif"]
[2527,"Vin bl France Bordeaux","00083960144045","Mouton Cadet Bordeaux",750,12,"Courant achat continu","Article actif"]
[2691,"Gin","00622153625048","Tanqueray London dry gin",750,12,"Courant achat continu","Article actif"]
[2881,"Vin rg France Beaujolais","03040072510509","Beaujolais Pisse-Dru Noémie Vernaux",750,12,"Courant achat continu","Article actif"]
[3004,"Vodka et Alcool","00622153190041","Troika vodka",750,12,"Courant achat continu","Article actif"]
[3103,"Apéritif","00774336031037","St-Georges Sélectionné vin fortifié blanc canadien",1000,12,"Courant achat continu","Article actif"]
[3269,"Vin bl divers pays","04003310651104","Hanns Christof Liebfraumilch Qba Rheinhessen",750,12,"Courant achat continu","Article actif"]
[3467,"Spiritueux 200 à 375 ML","00622153631025","Johnnie Walker Red Label scotch blended",375,24,"Courant achat continu","Article actif"]
[3723,"Brandy et Cognac","00814789003325","Chemineaud ***** brandy",1140,12,"Courant achat continu","Article actif"]
[3962,"Vin rg Italie Toscane","00618109027516","Brolio Chianti Classico",750,12,"Courant achat continu","Article actif"]
[4044,"Apéritif","08000440112884","Stock extra sec vermouth",1000,12,"Courant achat continu","Article actif"]
[4069,"Vin rg petits formats","08001660101733","Ruffino Chianti",375,24,"Courant achat continu","Article actif"]
[4077,"Gin","00814789003387","Melchers Maxi Dry dry gin",1140,12,"Courant achat continu","Article actif"]
[4101,"Brandy et Cognac","00087236001162","Rémy Martin Fine Champagne Cognac V.S.O.P.",750,12,"Courant achat continu","Article actif"]
[4242,"Spiritueux 200 à 375 ML","00814789003349","Chemineaud ***** brandy",375,24,"Courant achat continu","Article actif"]
[4390,"Rhum","00048415510813","Lamb's Palm Breeze rhum ambré",1140,12,"Courant achat continu","Article actif"]
[4440,"Brandy et Cognac","00814789003332","Chemineaud ***** brandy",750,12,"Courant achat continu","Article actif"]
[4655,"Apéritif","03394210004123","St-Raphaël doré apéritif",750,12,"Courant achat continu","Article actif"]
[4945,"Whisky Ecosse","00814789003226","St-Leger scotch blended",1140,12,"Courant achat continu","Article actif"]
[5215,"Liqueur","00048415163088","Triple Sec Meagher liqueur d'agrumes",750,12,"Courant achat continu","Article actif"]
[5322,"Vin bl Portugal","05601096213333","Aveleda Vinho verde",750,12,"Courant achat continu","Article actif"]
[5561,"Vin de Dessert","00085976033931","Manischewitz Concord rouge",750,12,"Spécialité achat continu","Article actif"]
[5595,"Vodka et Alcool","04750021000966","Moskovskaya vodka",750,12,"Courant achat continu","Article actif"]
[5959,"Crème","05011013100132","Baileys l'original boisson à la crème irlandaise",750,12,"Courant achat continu","Article actif"]
[6049,"Apéritif","00630637091036","Pernod alcool anisé",750,12,"Spécialité achat continu","Article actif"]
[6502,"Liqueur","03035542002004","Cointreau liqueur d'agrumes",750,12,"Courant achat continu","Article actif"]
[6585,"Vin rg Espagne","08410113003027","Sangre de Toro Torres Catalunya",750,12,"Courant achat continu","Article actif"]
[6932,"Rhum","00048415510820","Lamb's rhum blanc",1140,12,"Courant achat continu","Article actif"]
[7286,"Apéritif","00774336072863","St-Georges Sélectionné vin fortifié canadien",1000,12,"Courant achat continu","Article actif"]
[7369,"Spiritueux 200 à 375 ML","05000329002100","Beefeater London dry gin",375,24,"Courant achat continu","Article actif"]
[7617,"Whisky Ecosse","00080432400395","Chivas Regal 12 ans scotch blended",750,12,"Courant achat continu","Article actif"]
[7880,"Whisky Ecosse","00622153629046","Johnnie Walker Black Label 12 ans scotch blended",750,12,"Courant achat continu","Article actif"]
[8284,"Brandy et Cognac","03245996328616","Hennessy Very Special Cognac V.S.",750,12,"Courant achat continu","Article actif"]
[8888,"Brandy et Cognac","00088352103280","St-Rémy Authentic VSOP brandy",750,12,"Courant achat continu","Article actif"]
[9043,"Spiritueux 200 à 375 ML","00087000007604","Crown Royal whisky canadien",375,24,"Courant achat continu","Article actif"]
[9118,"Mousseux","04003310012363","Henkell Trocken Piccolo mousseux",200,24,"Courant achat continu","Article actif"]
[9373,"Vin bl États-Unis","00085000005866","Sauvignon blanc Gallo Californie",750,12,"Courant achat continu","Article actif"]
[9902,"Brandy et Cognac","03049197210332","Courvoisier Fine Champagne Cognac V.S.O.P.",750,12,"Courant achat continu","Article actif"]
[10132,"Vin bl France Alsace","03225820061308","Sainte-Odile Alsace",750,12,"Courant achat continu","Article actif"]
[10157,"Whisky","00080432500170","Jameson whiskey irlandais",750,12,"Courant achat continu","Article actif"]
[10207,"Vin bl Italie autres régions","08004753006298","Trebbiano/Malvasia Le Contrade Latium IGP",1000,12,"Courant achat continu","Article en écoulement"]
[10579,"Vin rg Italie autres régions","08004753004010","Sangiovese/Merlot Le Contrade Latium IGP",1000,12,"Courant achat continu","Article en écoulement"]
[11452,"Vin bl France Alsace","03442680030057","Riesling Réserve Willm Alsace",750,12,"Courant achat continu","Article actif"]
[12187,"Whisky Ecosse","00814789003233","St-Leger scotch blended",750,12,"Courant achat continu","Article en écoulement"]
[12195,"Spiritueux 200 à 375 ML","03018300003284","Grand Marnier liqueur d'agrumes",375,12,"Courant achat continu","Article actif"]
[12286,"Vin rg France Vallée du Rhône","03217661012519","La Fiole du Pape Châteauneuf- du-Pape",750,12,"Courant achat continu","Article actif"]
[12385,"Whisky Ecosse","05010327000176","Glenfiddich 12 ans Highland scotch single malt",750,12,"Courant achat continu","Article actif"]
[12443,"Vin rg Italie Vénétie","00086785120492","Secco-Bertani Verona i.g.t",750,12,"Courant achat continu","Article actif"]
[12567,"Brandy et Cognac","03253781110018","Gaston de Lagrange Cognac V.S.",750,12,"Courant achat continu","Article actif"]
[12849,"Vin bl divers pays","04902650260536","Hakutsuru sake",720,12,"Courant achat continu","Article actif"]
[12971,"Apéritif","08008513005255","Cremovo à base de marsala Sperone apéritif",750,12,"Spécialité achat continu","Article actif"]
[15693,"Apéritif","03163937836009","Ricard pastis de Marseille alcool anisé",750,12,"Courant achat continu","Article actif"]
[16840,"Vin rg Italie Vénétie","08008960096462","Bolla Valpolicella Classico",750,12,"Courant achat continu","Article actif"]
[17897,"Vin bl France Bourgogne","00087113111809","Chablis Albert Bichot",750,12,"Courant achat continu","Article actif"]
[18234,"Vin rg France Bordeaux","03258691483474","La Terrasse de la Garde Pessac-Léognan",750,12,"Spécialité achat continu","Article actif"]
[18838,"Vin bl Italie autres régions","08001935323204","Campogrande Antinori Orvieto Classico",750,12,"Spécialité achat continu","Article actif"]
[19877,"Vodka et Alcool","00624177198775","Moskova vodka",1140,12,"Courant achat continu","Article en écoulement"]
[19935,"Vin bl petits formats","03442680030088","Riesling Willm Réserve alsace",375,24,"Spécialité achat continu","Article actif"]
[20214,"Vin rg Italie Piémont","08000174200024","Fontanafredda Barolo",750,12,"Courant achat continu","Article actif"]
[20362,"Vodka et Alcool","06412709021301","Finlandia vodka",750,12,"Courant achat continu","Article en écoulement"]
[20412,"Brandy et Cognac","00087236001704","Rémy Martin Very Special Cognac Petite Champagne",750,12,"Courant achat continu","Article actif"]
[21097,"Whisky Ecosse","00080432400630","The Glenlivet 12 ans Highland scotch single malt",750,12,"Courant achat continu","Article actif"]
[22384,"Vin rg France Languedoc","03497120000015","Château de Gourgazaud Minervois",750,12,"Courant achat continu","Article actif"]
[22558,"Miniatures","00080686821915","Canadian Club Premium whisky canadien",50,120,"Spécialité achat continu","Article actif"]
[22707,"Gin","00088004400514","de Kuyper genièvre",1750,6,"Courant achat continu","Article actif"]
[22871,"Vin bl France Bourgogne","00087113114305","Pouilly-Fuissé  Albert Bichot",750,12,"Courant achat continu","Article actif"]
[22889,"Vin rg France Vallée du Rhône","03552510012006","Château de la Gardine Châteauneuf-du-Pape",750,12,"Courant achat continu","Article actif"]
[23358,"Vin rg France Bordeaux","00618726000046","J. Lebègue Saint-Emilion",750,12,"Courant achat continu","Article actif"]
[23465,"Vin rosé","03244085120001","Bouquet de Provence Billette Côtes de Provence rosé",750,12,"Courant achat continu","Article actif"]
[24208,"Apéritif","03104052010158","Le Coq d'Or Pineau des Charentes",750,12,"Courant achat continu","Article actif"]
[24844,"Vin bl Italie autres régions","08000120622221","Melini Orvieto Classico",750,12,"Courant achat continu","Article actif"]
[25007,"Vin bl Italie Vénétie","08008326112157","Bertani Soave Classico",750,12,"Spécialité achat continu","Article actif"]
[26021,"Vin rg Italie Vénétie","08005390065105","Sartori Valpolicella Superiore",750,12,"Courant achat continu","Article actif"]
[26302,"Apéritif","05201023132067","Ouzo Cambas extra dry alcool anisé",750,12,"Spécialité achat continu","Article actif"]
[27102,"Vin bl petits formats","00087113121808","Chablis Albert Bichot",375,24,"Spécialité achat continu","Article actif"]
[27763,"Rhum","03255537507066","Saint James agricole rhum ambré",750,12,"Courant achat continu","Article actif"]
[27888,"Brandy et Cognac","00057496027882","Mont Blanc brandy blanc",1140,12,"Spécialité achat continu","Article actif"]
[28035,"Vin bl Espagne","08410113001146","Vina Sol Torres Catalunya",750,12,"Courant achat continu","Article actif"]
[29645,"Gin","00814789003370","Melchers Maxi Dry dry gin",1750,6,"Courant achat continu","Article actif"]
[29728,"Vin rg Espagne","08410113003089","Tempranillo Coronas Torres Catalunya",750,12,"Courant achat continu","Article actif"]
[29983,"Vin bl France Alsace","03442680020058","Pinot blanc Willm Réserve Alsace",750,12,"Courant achat continu","Article actif"]
[30072,"Vin rg France Bordeaux","03305160001247","Ch.Timberlay Merlot/Cabernet- Sauvignon Bordeaux supérieur",750,12,"Courant achat continu","Article actif"]
[30155,"Vin bl France Bourgogne","00011373001983","Bourgogne Aligoté  Marquis de Jouennes",750,12,"Courant achat continu","Article actif"]
[31062,"Vin bl Italie autres régions","08001660126750","Ruffino Orvieto Classico",750,12,"Courant achat continu","Article actif"]
[31096,"Apéritif","08412449101231","Tesoro Pale Dry extra sec Xérès",750,12,"Spécialité achat continu","Article actif"]
[31112,"Whisky Ecosse","05010327000060","Grant's Family Reserve scotch blended",750,12,"Courant achat continu","Article actif"]
[31278,"Liqueur","03104691024103","Crème de Cassis de Dijon Lejay Lagoute liqueur de fruit",750,12,"Courant achat continu","Article actif"]
[31864,"Spiritueux 200 à 375 ML","00050037014518","Amaretto Disaronno Originale liqueur",375,12,"Courant achat continu","Article actif"]
[32276,"Vin rg France Bourgogne","03473120003829","Bourgogne Passe-tout-grains Prince Philippe Bouchard Ainé",750,12,"Courant achat continu","Article actif"]
[32896,"Apéritif","08412449101248","Tesoro Amontillado medium dry Xérès",750,12,"Spécialité achat continu","Article actif"]
[33100,"Spiritueux 200 à 375 ML","00088004400521","de Kuyper genièvre",375,24,"Courant achat continu","Article actif"]
[33480,"Vin bl France Val de Loire","03273390552054","Domaine la Moussière Sancerre",750,12,"Spécialité achat continu","Article actif"]
[33605,"Vin rg France Bordeaux","03505290101941","Château Puyfromage Côtes de Bordeaux",750,12,"Courant achat continu","Article actif"]
[34124,"Rhum","00622153160075","Ron Carioca rhum blanc",1750,6,"Courant achat continu","Article actif"]
[34439,"Vin rg Italie Sicile Sardaigne","00891006000237","Corvo Duca di Salaparuta Sicilia i.g.t.",750,12,"Courant achat continu","Article actif"]
[34637,"Whisky","00080686816126","Canadian Club whisky canadien",1750,6,"Courant achat continu","Article actif"]
[35840,"Vodka et Alcool","05900343003520","Zubrowka Bison vodka aromatisée",750,12,"Spécialité achat continu","Article actif"]
[35881,"Apéritif","03191010010695","Berger pastis de Marseille alcool anisé",750,12,"Spécialité achat continu","Article actif"]
[36012,"Vin rg France Bordeaux","03326260057378","La Grande Chapelle merlot/ cabernet-sauvignon Bordeaux",750,12,"Courant achat continu","Article actif"]
[36483,"Vin rg Espagne","08410113003119","Cab.-Sauv. Gran Coronas Reserva Torres Penedès",750,12,"Courant achat continu","Article actif"]
[37333,"Spiritueux 200 à 375 ML","03023480110370","Chartreuse verte liqueur à base d'herbes",375,12,"Spécialité achat continu","Article actif"]
[38414,"Brandy et Cognac","03152900051051","Boulard Calvados Pays d'Auge",750,12,"Courant achat continu","Article actif"]
[38505,"Vodka et Alcool","00776103000284","Smirnoff triple distillation vodka",1750,6,"Courant achat continu","Article actif"]
[40501,"Vin bl États-Unis","00086003861862","Sauvignon blanc Mondavi Woodbridge Californie",750,12,"Courant achat continu","Article actif"]
[41327,"Liqueur","00080915078264","Crème de bananes Bols boisson de fruit",750,12,"Spécialité achat continu","Article actif"]
[41350,"Vin rg France Bourgogne","03337690161702","Mâcon Domaine Bouchard Père & Fils",750,12,"Courant achat continu","Article actif"]
[41384,"Whisky","00082184046357","Jack Daniel's Old No 7 whiskey américain",750,12,"Courant achat continu","Article actif"]
[42101,"Vin bl France Alsace","03300370190033","Riesling Hugel Alsace",750,12,"Spécialité achat continu","Article actif"]
[43125,"Vin rg France Bordeaux","03441590000082","Domaine de l'Ile Margaux Bordeaux supérieur",750,12,"Courant achat continu","Article actif"]
[44578,"Apéritif","05201273115209","Vin de Muscat Samos",750,12,"Spécialité achat continu","Article actif"]
[44990,"Brandy et Cognac","03272513020753","Larsen Cognac V.S.O.P.",750,12,"Courant achat continu","Article actif"]
[45195,"Vin rg Italie Toscane","08001660109753","Ducale Riserva Ruffino Chianti Classico",750,12,"Courant achat continu","Article actif"]
[45898,"Rhum","00620213015204","Ron Bacardi rhum blanc",1750,6,"Courant achat continu","Article actif"]
[46888,"Vin bl divers pays","00013791050147","Retsina d'Attique Kourtaki",750,12,"Spécialité achat continu","Article actif"]
[46946,"Porto","05013626111277","Taylor Fladgate late bottled vintage",750,12,"Courant achat continu","Article actif"]
[46953,"Vin rg France Bordeaux","03191740800276","Vieux Château Renaissance Bordeaux",750,12,"Courant achat continu","Article actif"]
[48611,"Vin rg États-Unis","00086003000094","Cabernet-Sauvignon Woodbridge by Robert Mondavi Californie",750,12,"Courant achat continu","Article actif"]
[50096,"Vin rg France Beaujolais","03454140010011","Beaujolais Collin-Bourisset",750,12,"Courant achat continu","Article actif"]
[51540,"Miniatures","00622153631001","Johnnie Walker Red Label scotch blended",50,192,"Spécialité achat continu","Article actif"]
[51953,"Champagne","03260923012000","Pol Roger Brut Champagne",750,12,"Courant achat continu","Article actif"]
[53140,"Rhum","08501110080446","Havana Club 7 ans rhum brun",750,12,"Courant achat continu","Article actif"]
[53546,"Vodka et Alcool","00620213100511","Russian Prince vodka",1140,12,"Courant achat continu","Article actif"]
[54593,"Vodka et Alcool","00622153190072","Troika vodka",1750,6,"Courant achat continu","Article actif"]
[55533,"Vin bl France Bourgogne","03566921001177","Bourgogne Chardonnay Louis Latour",750,12,"Courant achat continu","Article actif"]
[56622,"Gin","05000329002414","Beefeater London dry gin",1750,6,"Courant achat continu","Article en écoulement"]
[60004,"Vin bl divers pays","04003310010420","Deinhard Riesling Qba Rheinhessen",750,12,"Courant achat continu","Article en écoulement"]
[63461,"Brandy et Cognac","03269550254913","Gautier Cognac V.S.",750,12,"Courant achat continu","Article actif"]
[64774,"Vin bl Espagne","08410113001092","Chardonnay Gran Vina Sol Torres Penedès",750,12,"Spécialité achat continu","Article actif"]
[65086,"Vin bl Italie autres régions","08007425000730","Castello di Pomino Frescobaldi Pomino",750,12,"Spécialité achat continu","Article actif"]
[66043,"Apéritif","03304115060001","Château de Beaulon 5 ans Pineau des Charentes",750,12,"Courant achat continu","Article actif"]
[69229,"Miniatures","00000030043947","Grand Marnier Cordon Rouge liqueur d'agrumes",50,120,"Spécialité achat continu","Article actif"]
[70540,"Vin rg France Beaujolais","03351650001662","Brouilly Georges Duboeuf",750,12,"Courant achat continu","Article actif"]
[72009,"Miniatures","00080480016210","Ron Bacardi rhum blanc",50,120,"Spécialité achat continu","Article actif"]
[74393,"Spiritueux 200 à 375 ML","05011013100194","Baileys l'original boisson à la crème irlandaise",375,12,"Courant achat continu","Article actif"]
[76497,"Cooler","08410015700109","Real Sangria Cruz Garcia boisson aromatisée",750,12,"Courant achat continu","Article actif"]
[76521,"Vin rg Italie Toscane","08001935361404","Santa Cristina Antinori Toscana i.g.t. Sangiovese",750,12,"Courant achat continu","Article actif"]
[81471,"Vin bl France Alsace","03499057541005","Riesling Léon Beyer Réserve Alsace",750,12,"Courant achat continu","Article actif"]
[81794,"Vin rg Italie Vénétie","08003503001040","Rustego Montresor Valpolicella",750,12,"Courant achat continu","Article en écoulement"]
[83329,"Mousseux","00057496083321","Brutus Charles Meunier mousseux",750,12,"Courant achat continu","Article actif"]
[83709,"Vin bl France Bordeaux","03338831113109","Ch. Bonnet Sauv.blanc/Sémillon /Muscadelle Entre-Deux-Mers",750,12,"Courant achat continu","Article actif"]
[89292,"Vin bl France Alsace","00087000301344","Pinot blanc Trimbach Alsace",750,12,"Spécialité achat continu","Article actif"]
[90076,"Spiritueux 200 à 375 ML","00057496090077","Alcool Global 94%",375,24,"Courant achat continu","Article actif"]
[90167,"Brandy et Cognac","00057496090169","Global brandy français",1140,12,"Courant achat continu","Article en écoulement"]
[90191,"Spiritueux 200 à 375 ML","00057496090190","Global Cognac V.S.",375,24,"Courant achat continu","Article en écoulement"]
[90225,"Brandy et Cognac","00057496090220","Global Cognac V.S.",750,12,"Courant achat continu","Article actif"]
[90456,"Vodka et Alcool","00057496090459","Kamouraska vodka",1140,12,"Courant achat continu","Article actif"]
[90472,"Vodka et Alcool","00057496090473","Kamouraska vodka",750,12,"Courant achat continu","Article actif"]
[93237,"Apéritif","03280790000016","Muscat des Papes Muscat de Beaumes-de-Venise",750,12,"Spécialité achat continu","Article actif"]
[93401,"Vin bl Australie","00080432124079","Chardonnay Bin 222 Wyndham Estate South Eastern",750,12,"Courant achat continu","Article actif"]
[94052,"Whisky Ecosse","00081753817138","Glenmorangie Original 10 ans Highland scotch single malt",750,12,"Courant achat continu","Article en écoulement"]
[94953,"Mousseux","03062670160344","Sieur d'Arques Première bulle Blanquette de Limoux mousseux",750,12,"Courant achat continu","Article actif"]
[95158,"Mousseux","05450013150103","Cuvée de L'Écusson Brut mousseux",750,12,"Spécialité achat continu","Article actif"]
[101394,"Apéritif","03250510301105","Reynac Pineau des Charentes",750,12,"Courant achat continu","Article actif"]
[103861,"Vin rg Italie autres régions","00008005493001","Citra Montepulciano d'Abruzzo",1000,12,"Courant achat continu","Article actif"]
[103887,"Vin rg Espagne","08410406311006","Marqués de Caceres Vendimia Seleccionada Crianza Rioja",750,12,"Courant achat continu","Article actif"]
[105601,"Liqueur","00088544016770","Southern Comfort liqueur de pêche et de bourbon",750,12,"Courant achat continu","Article actif"]
[105742,"Rhum","00063619100240","Appleton Estate Extra 12 ans rhum Ambré",750,12,"Spécialité achat continu","Article actif"]
[106377,"Vin rg Australie","09300727453112","Shiraz/Cabernet Jacob's Creek South Eastern Australia",750,12,"Courant achat continu","Article actif"]
[106492,"Mousseux","05998815750201","Hungaria Grande Cuvée Brut mousseux",750,12,"Courant achat continu","Article actif"]
[107169,"Brandy et Cognac","03253430105006","Raynal V.S.O.P. brandy",750,12,"Courant achat continu","Article actif"]
[107276,"Vin rg Italie Toscane","08007425000181","Castello Nipozzano Riserva Frescobaldi Chianti Rùfina",750,12,"Courant achat continu","Article actif"]
[108357,"Crème","05011026105292","Carolans boisson à la crème irlandaise",750,12,"Courant achat continu","Article en écoulement"]
[110056,"Vodka et Alcool","00835229000308","Absolut vodka",750,12,"Courant achat continu","Article actif"]
[110221,"Spiritueux 200 à 375 ML","00088352103297","St-Rémy Authentic VSOP brandy",375,24,"Courant achat continu","Article actif"]
[110486,"Vin rg Australie","00080432126073","Cabernet-Sauvignon Bin 444 Wyndham Estate",750,12,"Courant achat continu","Article en écoulement"]
[111021,"Gin","00622153139071","Gordon's London dry gin",1750,6,"Courant achat continu","Article actif"]
[113233,"Brandy et Cognac","00814789003318","Chemineaud ***** brandy",1750,6,"Courant achat continu","Article actif"]
[113381,"Vin rg France Bordeaux","03338836211107","Château de Cruzeau Pessac-Léognan",750,12,"Courant achat continu","Article actif"]
[113407,"Vin rg France Vallée du Rhône","00089806011540","Ortas Tradition Rasteau",750,12,"Courant achat continu","Article actif"]
[114223,"Vin bl France Bourgogne","03292060010045","Chablis Saint-Martin Domaine Laroche",750,12,"Spécialité achat continu","Article actif"]
[116038,"Brandy et Cognac","05202795070755","Metaxa 7* Gold Label brandy",750,12,"Courant achat continu","Article actif"]
[116426,"Vin rg Chili","07804320043203","Cabernet sauvignon Frontera Concha y Toro Valle Central",750,12,"Courant achat continu","Article actif"]
[117101,"Liqueur","04067700012081","Jägermeister liqueur d'herbe",750,6,"Courant achat continu","Article actif"]
[117739,"Miniatures","00082184780961","Jack Daniel's Old No 7 whiskey américain",50,120,"Spécialité achat continu","Article actif"]
[117747,"Miniatures","00080432400340","Chivas Regal 12 ans scotch blended",50,120,"Spécialité achat continu","Article actif"]
[117788,"Miniatures","00087236001117","Rémy Martin Fine Champagne cognac v.s.o.p.",50,120,"Spécialité achat continu","Article actif"]
[119743,"Spiritueux 200 à 375 ML","00082184080948","Jack Daniel's Old No 7 whiskey américain",375,24,"Courant achat continu","Article actif"]
[121749,"Porto","05013626111284","Taylor Fladgate tawny 10 ans",750,12,"Courant achat continu","Article actif"]
[122077,"Vin rg France Beaujolais","03351650000078","Beaujolais Villages Georges Duboeuf",750,12,"Courant achat continu","Article actif"]
[122689,"Mousseux","04003310011625","Henkell Trocken mousseux",750,12,"Courant achat continu","Article actif"]
[123133,"Apéritif","05201003110702","12' Ouzo alcool anisé",750,12,"Spécialité achat continu","Article actif"]
[123778,"Vin rg France Vallée du Rhône","03760168120008","Benjamin Brunel Rasteau Côtes du Rhône Villages",750,12,"Courant achat continu","Article actif"]
[126219,"Vin rg France Bordeaux","03419466180862","Château Bel Orme Tronquoy Lala nde Haut-Médoc cru bourgeois",750,12,"Spécialité achat continu","Article actif"]
[126466,"Whisky","00080686817499","Canadian Club Classic 12 ans whisky canadien",750,12,"Spécialité achat continu","Article actif"]
[130724,"Vin bl France Bourgogne","00087113111205","Bourgogne Aligoté  Albert Bichot",750,12,"Courant achat continu","Article actif"]
[133140,"Vin rg Italie Vénétie","08005390079959","Merlot Sartori Colli Berici",750,12,"Courant achat continu","Article actif"]
[134445,"Vin bl France Val de Loire","03176780102443","La Sablette Muscadet-Sèvre et Maine sur lie",750,12,"Courant achat continu","Article actif"]
[134742,"Vin bl France Bourgogne","03351650001686","Saint-Véran Georges Duboeuf",750,12,"Courant achat continu","Article actif"]
[135566,"Vodka et Alcool","00048415502559","Polar Ice vodka",750,12,"Courant achat continu","Article actif"]
[142117,"Vin bl Australie","00012354081840","Chardonnay Bin 65 Lindemans South Eastern Australia",750,12,"Courant achat continu","Article actif"]
[142448,"Vin rg France Bourgogne","03351000180610","Bourgogne Faiveley",750,12,"Spécialité achat continu","Article actif"]
[143628,"Vin bl France Bourgogne","03260980008046","Bourgogne Aligoté  Prince Philippe Bouchard Ainé & Fils",750,12,"Courant achat continu","Article actif"]
[144493,"Vin rg Espagne","00022851202013","Montecillo Crianza Rioja",750,12,"Courant achat continu","Article actif"]
[144584,"Vin bl divers pays","00013791030149","Kouros Patras Kourtakis",750,12,"Spécialité achat continu","Article actif"]
[144600,"Miniatures","00776103000222","Smirnoff triple distillation vodka",50,120,"Spécialité achat continu","Article actif"]
[145367,"Vin rg Australie","00012354087651","Shiraz Lindemans Bin 50 South Eastern Australia",750,12,"Courant achat continu","Article actif"]
[145680,"Miniatures","00814789003363","Chemineaud ***** brandy",50,120,"Spécialité achat continu","Article actif"]
[149047,"Porto","05013626111291","Taylor Fladgate tawny 20 ans",750,12,"Courant achat continu","Article actif"]
[150920,"Cooler","08410015702509","Real Sangria Cruz Garcia boisson aromatisée",1500,6,"Courant achat continu","Article actif"]
[153197,"Vin bl grands formats","00057496153192","Cuvée Saint-Pierre blanc",4000,4,"Courant achat continu","Article actif"]
[153205,"Vin rg grands formats","00057496153208","Cuvée Saint-Pierre rouge",4000,4,"Courant achat continu","Article actif"]
[153379,"Mousseux","00000570962050","Martini & Rossi Asti mousseux",1500,6,"Spécialité achat continu","Article actif"]
[155051,"Vin rg Italie Vénétie","08002062000068","Campofiorin Masi Veronese i.g.t.",750,12,"Courant achat continu","Article actif"]
[157438,"Porto","05601034005501","Offley Rei tawny",750,12,"Courant achat continu","Article actif"]
[158493,"Mousseux","00033293690009","Segura Viudas Brut Reserva Cava mousseux",750,12,"Courant achat continu","Article actif"]
[158535,"Vin bl États-Unis","00728817199709","Gekkeikan sake",1500,6,"Spécialité achat continu","Article actif"]
[158550,"Champagne","03258438000001","Laurent-Perrier Cuvée Brut rosé Champagne",750,6,"Spécialité achat continu","Article actif"]
[160317,"Vin bl Italie autres régions","08000160615276","Trebbiano/Chardonnay Donini Rubicone i.g.t.",1000,12,"Courant achat continu","Article actif"]
[160358,"Vin rg Italie Vénétie","08000160615214","Merlot Donini Delle Venezie i.g.t.",1000,12,"Courant achat continu","Article actif"]
[163519,"Brandy et Cognac","00088352109114","St-Rémy Authentic VSOP brandy",1140,12,"Courant achat continu","Article actif"]
[164582,"Vin bl France Val de Loire","03018300002553","Château de Sancerre Sancerre",750,12,"Courant achat continu","Article actif"]
[170803,"Mousseux","08410013382031","Codorniu Clasico Seco Cava mousseux",375,12,"Spécialité achat continu","Article actif"]
[177808,"Rhum","00621705110759","Appleton Estate V/X rhum ambré",750,12,"Courant achat continu","Article actif"]
[177956,"Liqueur","00622153220045","Henkes liqueur de melon",750,12,"Spécialité achat continu","Article actif"]
[182931,"Whisky","00082184080894","Jack Daniel's Old No 7 whiskey américain",1750,6,"Courant achat continu","Article actif"]
[183251,"Vodka et Alcool","00835229000605","Absolut vodka",1750,6,"Courant achat continu","Article actif"]
[183392,"Vin bl grands formats","00048162000025","L'Auberge blanc",4000,4,"Courant achat continu","Article actif"]
[183400,"Vin rg grands formats","00048162000018","L'Auberge rouge",4000,4,"Courant achat continu","Article actif"]
[184267,"Vin rg Australie","00012894865313","Pinot noir Rosemount Diamond Label South Eastern Australia",750,12,"Spécialité achat continu","Article actif"]
[184671,"Vin rg grands formats","00056049846710","Sélection Philippe Le Grand vin de pays Bouches-du-Rhône",4000,4,"Courant achat continu","Article actif"]
[185751,"Vin rg grands formats","00057496185759","Les Grands Monuments Bordeaux rouge",4000,4,"Courant achat continu","Article actif"]
[188193,"Vin rg Chili","07804300010638","Cabernet-Sauvignon Gato Negro valle de Lontue",750,12,"Courant achat continu","Article actif"]
[189415,"Vin rg Australie","00080432127070","Shiraz Bin 555 Wyndham Estate South Eastern Australia",750,12,"Courant achat continu","Article actif"]
[191239,"Porto","05010867400092","Graham's late bottled vintage",750,12,"Courant achat continu","Article actif"]
[193490,"Crème","05011013100088","Baileys l'original boisson à la crème irlandaise",1750,6,"Courant achat continu","Article actif"]
[194381,"Vin rg grands formats","00057496194386","Lichette rouge Patriarche",4000,4,"Courant achat continu","Article en écoulement"]
[194431,"Bière","05411681014005","Duvel bière type ale forte",330,24,"Courant achat continu","Article actif"]
[195362,"Liqueur","03041311026041","Marie Brizard liqueur banane",750,12,"Spécialité achat continu","Article actif"]
[195370,"Liqueur","03041311026096","Marie Brizard Blue Curaçao liqueur de fruit",750,12,"Courant achat continu","Article actif"]
[196204,"Liqueur","00048415163071","Apricot Brandy Meagher liqueur d'abricot",750,12,"Courant achat continu","Article actif"]
[196220,"Liqueur","00048415163101","Cherry Brandy Meagher liqueur de cerise",750,12,"Spécialité achat continu","Article actif"]
[196287,"Liqueur","00048415363396","Crème de menthe verte Meagher liqueur de menthe",750,12,"Courant achat continu","Article actif"]
[196303,"Liqueur","00048415360050","Crème de menthe blanche Meagher liqueur de menthe",750,12,"Courant achat continu","Article actif"]
[196329,"Liqueur","00048415360043","Crème de cacao Meagher liqueur de cacao",750,12,"Spécialité achat continu","Article actif"]
[197228,"Vin bl France Alsace","03185130085961","Gewurztraminer Cuvée Bacchus Pfaffenheim Alsace",750,12,"Courant achat continu","Article actif"]
[199141,"Vin bl France Bourgogne","00012086322310","Chablis Joseph Drouhin",750,12,"Spécialité achat continu","Article actif"]
[199174,"Bière","05411681037004","Maredsous bière type ale forte d'abbaye",330,24,"Spécialité achat continu","Article actif"]
[201954,"Vin bl petits formats","03176780102450","La Sablette Muscadet-Sèvre et Maine sur lie",375,24,"Courant achat continu","Article actif"]
[201988,"Vin bl grands formats","00057496201985","Lichette blanc Patriarche",4000,4,"Courant achat continu","Article en écoulement"]
[202259,"Vin bl France Alsace","03225820061315","Riesling Les Cigognes Alsace",750,12,"Courant achat continu","Article en écoulement"]
[202408,"Vin bl petits formats","08000160621376","Melini Orvieto Classico",375,24,"Spécialité achat continu","Article actif"]
[202499,"Vin rg France Languedoc","03357780000414","Château Cazal-Viel vieilles vignes Saint-Chinian",750,12,"Courant achat continu","Article actif"]
[206508,"Porto","05010867410220","Graham's tawny 10 ans",750,12,"Courant achat continu","Article actif"]
[207126,"Whisky Ecosse","00622153617043","Lagavulin 16 ans Islay scotch single malt",750,6,"Spécialité achat continu","Article actif"]
[211169,"Vin rg petits formats","03351650005790","Brouilly Georges Duboeuf",500,12,"Courant achat continu","Article actif"]
[211177,"Vin rg petits formats","03351650000191","Beaujolais-villages Georges Duboeuf",375,24,"Courant achat continu","Article actif"]
[211847,"Mousseux","08002235896252","Chardonnay Ca'Bolani Frizzante Delle Venezie i.g.t. pétillant",750,12,"Spécialité achat continu","Article actif"]
[212480,"Vin rg France Beaujolais","03351650000061","Beaujolais Georges Duboeuf",750,12,"Courant achat continu","Article actif"]
[212993,"Vin rg Chili","00089046666630","Cabernet-Sauvignon Cousino- Macul Antiguas Maipo",750,12,"Courant achat continu","Article actif"]
[213462,"Apéritif","00000570162054","Martini sec vermouth",1500,6,"Courant achat continu","Article actif"]
[213470,"Apéritif","00000570262051","Martini Rosso vermouth",1500,6,"Courant achat continu","Article actif"]
[215483,"Apéritif","05010277010164","Harveys Bristol Cream Xérès",750,12,"Spécialité achat continu","Article actif"]
[219105,"Vin bl Australie","09300727367112","Sémillon/Chardonnay Jacob's Creek South Eastern Australia",750,12,"Courant achat continu","Article actif"]
[219840,"Vin rosé","03461730000017","Château Bellevue La Forêt Fronton rosé",750,12,"Courant achat continu","Article actif"]
[220400,"Mousseux","03377480219992","Domaine de Fourn Blanquette de Limoux mousseux",750,12,"Courant achat continu","Article actif"]
[221218,"Vin rg France Sud-Ouest","03180611046646","Comte André de Monpezat Cahors",750,12,"Courant achat continu","Article actif"]
[221887,"Vin bl États-Unis","00086003351868","Fumé blanc Mondavi Napa Valley Californie",750,12,"Spécialité achat continu","Article actif"]
[223495,"Liqueur","00088004400286","L'Original Long Island Thé Glacé liqueur diverse",1140,12,"Spécialité achat continu","Article actif"]
[223537,"Vin rg France Bordeaux","03394150008717","Sirius Merlot/Cabernet Bordeaux",750,12,"Courant achat continu","Article actif"]
[223552,"Vin rg États-Unis","00085000005002","Cabernet-Sauvignon Gallo Family Vineyards Californie",750,12,"Courant achat continu","Article actif"]
[224881,"Vin rg Chili","07804330211104","Cabernet-Sauvignon Reserva Santa Rita Maipo",750,12,"Courant achat continu","Article actif"]
[228338,"Vin rg grands formats","00057496228333","Raymond Tournier Ventoux rouge",4000,4,"Courant achat continu","Article actif"]
[230987,"Spiritueux 200 à 375 ML","00080432500149","Jameson whiskey irlandais",375,24,"Courant achat continu","Article actif"]
[231597,"Bière","05410769100135","La Chouffe bière ale forte d'Ardenne",750,12,"Courant achat continu","Article actif"]
[234203,"Brandy et Cognac","03035540000064","St-Rémy Authentic VSOP brandy",1750,6,"Courant achat continu","Article en écoulement"]
[236653,"Vin rg France Bordeaux","03192040363010","La Fleur Anne Saint-Emilion",750,12,"Courant achat continu","Article actif"]
[237834,"Vin rg Espagne","08410351118002","Cosme Palacio Rioja D.O.C.",750,12,"Courant achat continu","Article actif"]
[237875,"Vin rg France Bourgogne","03700061600207","Bourgogne Pinot noir Réserve Chèvre noire Boisseaux-Estivan",750,12,"Courant achat continu","Article actif"]
[237909,"Vin bl France Bourgogne","03193411850979","Pouilly-Fuissé  Les Souvelles Marnay-Sorelles",750,12,"Courant achat continu","Article actif"]
[238097,"Whisky Ecosse","00622153610044","Dalwhinnie 15 ans Highland scotch single malt",750,6,"Spécialité achat continu","Article actif"]
[240382,"Vin bl France Bourgogne","03330540502014","Bourgogne Aligoté  Louis Roche",750,12,"Courant achat continu","Article actif"]
[240416,"Vin rg Italie Vénétie","08003503000555","Montresor Amarone della Valpolicella",750,12,"Courant achat continu","Article actif"]
[245241,"Vin rg Italie Toscane","00709067107096","San Felice  Chianti Classico",750,12,"Courant achat continu","Article actif"]
[245316,"Produits du Terroir","00773253001017","Crémant de pomme du Minot cidre mousseux",750,12,"Courant achat continu","Article actif"]
[246603,"Whisky","00087000007789","Crown Royal Edition Limitée whisky canadien",750,12,"Spécialité achat continu","Article actif"]
[249680,"Whisky Ecosse","00622153624041","Talisker 10 ans Isle of Skye scotch single malt",750,6,"Spécialité achat continu","Article actif"]
[250548,"Vin rg Portugal","05601129034249","Meia Encosta Dâo",750,12,"Courant achat continu","Article actif"]
[251876,"Vin rg Australie","00098137335355","Cabernet-Sauvignon Wolf Blass Yellow Label South Australia",750,12,"Courant achat continu","Article actif"]
[254946,"Bière","04001982097763","Dab Original bière type lager (canette)",500,24,"Courant achat continu","Article actif"]
[255091,"Liqueur","00088004400354","Crème de menthe blanche De Kuyper liqueur de menthe",1140,12,"Courant achat continu","Article actif"]
[255448,"Vin bl États-Unis","00082896710270","Fumé blanc Fetzer Valley Oaks Californie",750,12,"Courant achat continu","Article actif"]
[257238,"Vodka et Alcool","00835229001305","Absolut Citron vodka aromatisée",750,12,"Courant achat continu","Article actif"]
[257683,"Bière","00081706000075","Chimay Trappistes Grande Réser ve extra forte bière type ale",750,12,"Spécialité achat continu","Article actif"]
[258582,"Whisky Ecosse","05000299298442","Aberlour 10 ans Highland scotch single malt",750,12,"Spécialité achat continu","Article actif"]
[259721,"Vin rg France Vallée du Rhône","03536650501002","Guigal Côtes du Rhône",750,12,"Courant achat continu","Article actif"]
[260091,"Porto","05601034008502","Offley Baron de Forrester tawny 10 ans",750,12,"Courant achat continu","Article actif"]
[262717,"Vin rg Chili","00089046777312","Cabernet-Sauvignon Errazuriz Vallee de Aconcagua",750,12,"Courant achat continu","Article actif"]
[263640,"Vin rg France Vallée du Rhône","00631470000018","La Vieille Ferme Côtes du Ventoux",750,12,"Courant achat continu","Article actif"]
[265199,"Spiritueux 200 à 375 ML","00835229000209","Absolut vodka",375,24,"Courant achat continu","Article actif"]
[265439,"Apéritif","08004445110708","Carlo Pellegrino Fine I.P. Marsala",750,12,"Spécialité achat continu","Article actif"]
[266064,"Vin bl France Languedoc","03186127768690","Ormarine Picpoul de Pinet Coteaux du Languedoc",750,12,"Courant achat continu","Article actif"]
[266502,"Vin rosé","00089419007428","Cabernet-Sauvignon Santa Rita 120 valle del Maipo rosé",750,12,"Courant achat continu","Article actif"]
[268714,"Liqueur","00623384192316","Peachtree Schnapps liqueur de fruit",750,12,"Courant achat continu","Article actif"]
[268722,"Liqueur","00048415419734","Peachtree Schnapps liqueur de fruit",1140,12,"Courant achat continu","Article actif"]
[268771,"Champagne","03114080116050","Roederer Brut Premier Champagne",750,6,"Courant achat continu","Article actif"]
[270272,"Vin rosé","03244081500005","Listel-Gris Grain de Gris vin des Sables i.g.p.",750,12,"Courant achat continu","Article actif"]
[270363,"Vin rg Espagne","08414837010118","Castillo de Almansa Reserva Almansa",750,12,"Courant achat continu","Article actif"]
[270488,"Spiritueux 200 à 375 ML","00814789003356","Chemineaud ***** brandy",200,48,"Courant achat continu","Article en écoulement"]
[271338,"Spiritueux 200 à 375 ML","00620213015709","Ron Bacardi rhum blanc",200,48,"Courant achat continu","Article en écoulement"]
[274720,"Vin bl divers pays","04002410427206","Vi-No-Ze-Ro Müller-Thurgau tafelwein",750,12,"Spécialité achat continu","Article actif"]
[276436,"Vin bl France Bourgogne","03443620009263","Chablis Les Champs Royaux William Fèvre",750,12,"Courant achat continu","Article actif"]
[276683,"Vin rg France Bordeaux","00633966000014","Château Cap de Merle Lussac-Saint-Emilion",750,12,"Courant achat continu","Article actif"]
[276691,"Vin bl petits formats","00011373002775","Bourgogne Aligoté  Marquis de Jouennes",375,24,"Courant achat continu","Article actif"]
[277954,"Apéritif","00081375100618","Campari Bitter apéritif amer",750,12,"Courant achat continu","Article actif"]
[278416,"Vin rg Chili","07804320303178","Cabernet-Sauvignon Casillero del Diablo Concha y Toro Maipo",750,12,"Courant achat continu","Article actif"]
[280461,"Champagne","03185370522295","Moët & Chandon Dom Pérignon Brut avec coffret Champagne",750,6,"Courant achat continu","Article actif"]
[283754,"Vin bl Argentine","00877997084333","Torrontes Etchart Cafayate",750,12,"Courant achat continu","Article actif"]
[284216,"Porto","-","Graham's tawny 20 ans",750,12,"Courant achat continu","Article en écoulement"]
[285544,"Vin rg Australie","00012354071445","Shiraz/Cabernet Koonunga Hill Penfolds South Australia",750,12,"Courant achat continu","Article actif"]
[285585,"Vin rg Italie Vénétie","08002062000037","Bonacosta Masi Valpolicella Classico",750,12,"Courant achat continu","Article actif"]
[285767,"Vin rosé","00085000007839","White Zinfandel Ernest & Julio Gallo Californie rosé",750,12,"Courant achat continu","Article actif"]
[290296,"Vin bl France Vallée du Rhône","03536650591003","Guigal Côtes du Rhône",750,12,"Courant achat continu","Article actif"]
[292904,"Vin rg France Bordeaux","03258691243115","Croix Saint-Martin Bordeaux",750,12,"Courant achat continu","Article actif"]
[293068,"Spiritueux 200 à 375 ML","00088544019139","Southern Comfort liqueur de pêche et de bourbon",375,24,"Courant achat continu","Article actif"]
[294181,"Mousseux","00097546102008","Roederer Brut Anderson Valley Californie mousseux",750,12,"Spécialité achat continu","Article actif"]
[298505,"Vin bl France Vallée du Rhône","00631470000049","La Vieille Ferme Luberon",750,12,"Courant achat continu","Article actif"]
[300301,"Vin bl Canada","00776545995889","Pinot blanc Five Vineyards Mission Hill Okanagan Valley",750,12,"Courant achat continu","Article actif"]
[302380,"Vin bl Italie autres régions","08004305000088","Pinot grigio Mezzacorona Vigneti delle Dolomiti i.g.t.",750,12,"Spécialité achat continu","Article actif"]
[303511,"Vin bl France Val de Loire","03365910002214","Les Baronnes Sancerre",750,12,"Courant achat continu","Article actif"]
[303529,"Vin rg France Sud-Ouest","03180611029175","Château St-Didier-Parnac Cahors",750,12,"Courant achat continu","Article actif"]
[304113,"Apéritif","03260422212758","Kérisac Cuvée Spéciale cidre pétillant",750,12,"Spécialité achat continu","Article actif"]
[308056,"Champagne","00633438103816","Mumm Cordon Rouge Brut Champagne",750,6,"Courant achat continu","Article actif"]
[308155,"Whisky Ecosse","00088076177666","Johnnie Walker Blue Label scotch blended",750,6,"Spécialité achat continu","Article actif"]
[308460,"Vin rosé","00085000007846","White Zinfandel Ernest & Julio Gallo sierra valley rosé",1500,6,"Courant achat continu","Article actif"]
[308999,"Vin rg États-Unis","00769434201260","Big House Red Californie",750,12,"Courant achat continu","Article actif"]
[311795,"Vin rg Australie","09312088000652","Shiraz/cabernet-sauvignon Wolf Blass Red Label South Eastern",750,12,"Courant achat continu","Article actif"]
[313825,"Vin rg États-Unis","00089121288122","Cabernet-Sauvignon J. Lohr Seven Oaks Paso Robles",750,12,"Courant achat continu","Article actif"]
[315697,"Vin rg France Sud-Ouest","03275843291022","Les Comtes de Cahors Cahors",750,12,"Courant achat continu","Article actif"]
[316570,"Vin bl Nouvelle-Zélande","09415549802601","Sauvignon blanc Oyster Bay Marlborough",750,12,"Courant achat continu","Article actif"]
[316620,"Vin rg France Languedoc","03289720023514","Château du Grand Caumont Corbières",750,12,"Courant achat continu","Article actif"]
[316844,"Gin","00620213190000","Bombay Sapphire London dry gin",750,12,"Courant achat continu","Article actif"]
[317057,"Vin rg Italie Vénétie","08002062000051","Costasera Masi Amarone della Valpolicella Classico",750,12,"Courant achat continu","Article actif"]
[318071,"Miniatures","05000329003022","Beefeater London dry gin",50,120,"Spécialité achat continu","Article actif"]
[318196,"Liqueur","00776103000451","Lemon Gin Collins liqueur de fruit",750,12,"Spécialité achat continu","Article actif"]
[318741,"Vin bl Chili","00608057106043","Chardonnay Errazuriz Valle de Casablanca",750,12,"Courant achat continu","Article actif"]
[319111,"Vin rg France Vallée du Rhône","03351650000566","Gamay Georges Duboeuf vin de pays l'Ardèche",750,12,"Courant achat continu","Article actif"]
[319905,"Vin bl Portugal","00600470120002","Vinho regional Peninsula de Setúbal Albis J.M. Fonseca",750,12,"Courant achat continu","Article actif"]
[321943,"Vin bl Australie","00012354071339","Chardonnay Koonunga Hill Penfolds South Australia",750,12,"Courant achat continu","Article actif"]
[323105,"Vin bl petits formats","00083960144052","Mouton Cadet Bordeaux",375,12,"Courant achat continu","Article actif"]
[323113,"Vin rg petits formats","00083960144021","Mouton Cadet Bordeaux",375,12,"Courant achat continu","Article actif"]
[323295,"Vin rg Argentine","07790240072785","Cabernet-Sauvignon Trapiche réserve fût de chêne Mendoza",750,12,"Courant achat continu","Article actif"]
[323972,"Liqueur","08006550943233","Sambuca Ramazzotti liqueur d'anis",750,12,"Courant achat continu","Article actif"]
[329110,"Vin rg États-Unis","00086003901902","Zinfandel Woodbridge by Robert Mondavi Californie",750,12,"Courant achat continu","Article actif"]
[329235,"Vin bl France Alsace","03300370180034","Gewurztraminer Hugel Alsace",750,12,"Spécialité achat continu","Article actif"]
[329532,"Vin rg France Val de Loire","03510170000030","Gamay Domaine de La Charmoise Touraine",750,12,"Spécialité achat continu","Article actif"]
[330621,"Spiritueux 200 à 375 ML","00057496330623","Chicoutai liqueur de mûre des marais",375,6,"Spécialité achat continu","Article actif"]
[330803,"Whisky Ecosse","05010496001615","Bowmore 12 ans Islay scotch single malt",750,6,"Courant achat continu","Article actif"]
[331090,"Vin rg France Vallée du Rhône","03260980006110","Grande Réserve des Challières Côtes du Ventoux",750,12,"Courant achat continu","Article actif"]
[332304,"Vin rg France Vallée du Rhône","03105714150120","Parallèle 45 Paul Jaboulet Aîné Côtes du Rhône",750,12,"Courant achat continu","Article actif"]
[333575,"Mousseux","03416140120091","Jaillance Cuvée Impériale Clairette de Die mousseux",750,12,"Spécialité achat continu","Article actif"]
[334771,"Porto","05601292171529","Messias tawny colheita",750,6,"Spécialité achat continu","Article actif"]
[334987,"Bière","05410769200125","McChouffe forte bière type ale",750,12,"Spécialité achat continu","Article actif"]
[335174,"Vin rg Chili","00089046777336","Cabernet-Sauvignon Errazuriz Max Reserva Aconcagua",750,12,"Courant achat continu","Article actif"]
[335901,"Whisky Ecosse","00080432400661","The Glenlivet 18 ans Highland scotch single malt",750,6,"Spécialité achat continu","Article actif"]
[336503,"Vin bl divers pays","00785859701024","Black Tower Qba Deutscher Landwein Rhein Rivan",750,12,"Courant achat continu","Article actif"]
[336974,"Vin rg États-Unis","00082896700134","Cabernet-Sauvignon Fetzer Californie",750,12,"Courant achat continu","Article actif"]
[340406,"Vin bl divers pays","06001496301200","Chardonnay Fleur du Cap Western cape",750,12,"Courant achat continu","Article actif"]
[340414,"Vin rg Afrique du Sud","06001496311100","Merlot Fleur du Cap Western Cape",750,12,"Courant achat continu","Article actif"]
[340679,"Champagne","03258431000008","Laurent-Perrier Brut Champagne",750,6,"Courant achat continu","Article actif"]
[342246,"Crème","06001495062980","Amarula Cream boisson à la crème",750,12,"Courant achat continu","Article actif"]
[342428,"Vin rg États-Unis","00082896780402","Cabernet-Sauvignon Bonterra Mendocino",750,12,"Courant achat continu","Article actif"]
[343145,"Liqueur","07610263030305","Goldschlager schnapps cannelle liqueur diverse",750,12,"Courant achat continu","Article actif"]
[346106,"Champagne","00694190003059","Pommery Brut Royal Champagne",750,6,"Courant achat continu","Article actif"]
[346148,"Vin rg France Languedoc","00057496002605","Boussac Languedoc",750,12,"Courant achat continu","Article actif"]
[347484,"Liqueur","08006550943134","Ramazzotti Black liqueur d'anis",750,12,"Spécialité achat continu","Article actif"]
[349662,"Mousseux","08016104237503","Nino Franco Prosecco di Valdobbiadene mousseux",750,12,"Spécialité achat continu","Article actif"]
[356105,"Vin rg Italie Piémont","08002365026109","Le Orme Barbera d'Asti Superiore",750,12,"Courant achat continu","Article actif"]
[357244,"Bière","00081706000013","Chimay Rouge Pères Trappistes bière forte type ale",330,24,"Spécialité achat continu","Article actif"]
[363457,"Vin rg France Vallée du Rhône","00631470000131","Perrin Réserve Côtes du Rhône",750,12,"Courant achat continu","Article actif"]
[364133,"Spiritueux 200 à 375 ML","00057496364130","Sortilège whisky canadien et sirop d'érable",375,6,"Courant achat continu","Article actif"]
[365627,"Liqueur","08008148000625","Limoncello Di Leva liqueur de citron",500,12,"Courant achat continu","Article actif"]
[365890,"Vin bl France Val de Loire","00642268000981","Chéreau-Carré Muscadet-Sèvre et Maine sur lie",750,12,"Courant achat continu","Article actif"]
[365924,"Vin rg France Beaujolais","03535923001003","Beaujolais Villages Combe aux Jacques Louis Jadot",750,12,"Courant achat continu","Article actif"]
[366054,"Vin bl Italie autres régions","08003015700479","Chardonnay Farnito Carpineto Toscana i.g.t.",750,6,"Spécialité achat continu","Article actif"]
[366088,"Bière","00737398018200","Aventinus forte rousse bière type ale",500,20,"Spécialité achat continu","Article actif"]
[367284,"Vin bl France Alsace","03300370111038","Gentil Hugel Alsace",750,12,"Courant achat continu","Article actif"]
[367631,"Vin rg France Bourgogne","03337690155329","Bourgogne Passe-tout-grains Bouchard Père & Fils",750,12,"Courant achat continu","Article actif"]
[369405,"Vin rg France Bordeaux","03328150018056","Christian Moueix Merlot Bordeaux",750,12,"Courant achat continu","Article actif"]
[370676,"Vin bl France Alsace","03442680040056","Pinot gris Willm Réserve Alsace",750,12,"Courant achat continu","Article actif"]
[371401,"Vin rg France Bordeaux","03760014700309","Château des Laurets Puisseguin Saint-Emilion",750,12,"Courant achat continu","Article actif"]
[377994,"Whisky","00082184038765","Gentleman Jack Jack Daniel's whiskey américain",750,12,"Spécialité achat continu","Article actif"]
[379032,"Crème","05390424120817","O' Casey's boisson à la crème irlandaise",750,12,"Courant achat continu","Article actif"]
[379180,"Vin bl États-Unis","00086003461925","Chardonnay Private Selection Mondavi Central Coast",750,12,"Spécialité achat continu","Article actif"]
[387035,"Vin rg France Vallée du Rhône","03760034420010","Château des Tourelles Costières de Nîmes",750,12,"Courant achat continu","Article actif"]
[387068,"Brandy et Cognac","-","Global Cognac V.S.",1140,12,"Courant achat continu","Article en écoulement"]
[387316,"Whisky Ecosse","05010327505138","The Balvenie Double Wood 12 ans scotch single malt",750,6,"Courant achat continu","Article actif"]
[389056,"Champagne","03049610004203","Veuve Clicquot Ponsardin Brut Champagne",375,12,"Courant achat continu","Article actif"]
[390260,"Rhum","00621705111756","Appleton Estate V/X rhum ambré",1750,6,"Courant achat continu","Article actif"]
[391565,"Vin rosé","00057496002629","Réserve de la Grange Languedoc rosé",750,12,"Courant achat continu","Article en écoulement"]
[392225,"Vin rg États-Unis","00086003061910","Cabernet-Sauvignon Private Selection Mondavi Californie",750,12,"Spécialité achat continu","Article actif"]
[394890,"Vin rg petits formats","09312088413889","Cabernet-Sauvignon Wolf Blass Yellow Label South Australia",375,12,"Courant achat continu","Article actif"]
[396119,"Spiritueux 200 à 375 ML","00057496396117","L'Orléane liqueur de cassis de l'Ile d'Orléans",375,6,"Spécialité achat continu","Article actif"]
[397497,"Vin rg États-Unis","00087356953457","Cab-Sauvignon Clos du Bois Californie",750,12,"Courant achat continu","Article actif"]
[398552,"Rhum","00080480980252","Bacardi Limon boisson au rhum (citron-lime) rhum blanc",750,12,"Spécialité achat continu","Article actif"]
[400747,"Liqueur","08000353006683","Limoncello Luxardo liqueur de citron",750,6,"Courant achat continu","Article actif"]
[400754,"Vodka et Alcool","00627098163341","Iceberg vodka",750,12,"Courant achat continu","Article actif"]
[403980,"Vin rg Italie Toscane","08001935064503","Badia a Passignano Riserva Antinori Chianti Classico",750,6,"Spécialité achat continu","Article actif"]
[407528,"Vin bl France Languedoc","00083960707721","Chardonnay Baron Philippe de Rothschild vin de pays d'Oc",750,12,"Courant achat continu","Article actif"]
[407544,"Vin rg France Languedoc","00083960707707","Merlot Baron Philippe de Rothschild vin de pays d'Oc",750,12,"Courant achat continu","Article actif"]
[407551,"Vin rg France Languedoc","00083960707783","Cabernet-Sauv. Baron Philippe Rothschild vin de pays d'Oc",750,12,"Courant achat continu","Article actif"]
[409888,"Vin rg Italie Vénétie","08008863004076","Bottero Veneto i.g.t.",1000,12,"Courant achat continu","Article actif"]
[409896,"Vin rg Italie Toscane","08007425003618","Pater Frescobaldi Toscana i.g.t.",750,12,"Courant achat continu","Article actif"]
[410415,"Vodka et Alcool","00721059007504","Skyy vodka",750,12,"Courant achat continu","Article en écoulement"]
[410829,"Spiritueux 200 à 375 ML","06001495062478","Amarula Cream boisson à la crème",375,24,"Courant achat continu","Article actif"]
[411892,"Vin rg Italie autres régions","08013417000015","Taurino Riserva Salice Salentino",750,12,"Spécialité achat continu","Article actif"]
[412338,"Vin bl Portugal","05601085900060","Coroa d'Ouro Pocas Douro",750,12,"Spécialité achat continu","Article actif"]
[425272,"Vin rg États-Unis","00089121128527","Syrah J. Lohr South Ridge Paso Robles Californie",750,12,"Spécialité achat continu","Article actif"]
[425488,"Vin rg Italie Sicile Sardaigne","08006725100256","Sella & Mosca Riserva Cannonau di Sardegna",750,12,"Courant achat continu","Article actif"]
[425496,"Vin rosé","03458200004101","Pétale de Rose Côtes de Provence rosé",750,12,"Courant achat continu","Article actif"]
[427021,"Vin rg États-Unis","00715826101908","Zinfandel Ravenswood Vintners Blend Californie",750,12,"Courant achat continu","Article actif"]
[427153,"Vin rg États-Unis","00081584013174","Cabernet-Sauvignon Kendall- Jackson Reserve Californie",750,12,"Spécialité achat continu","Article actif"]
[427518,"Vin rg France Languedoc","03760016290013","La Bergerie de l'Hortus Pic St-Loup Coteaux du Languedoc",750,12,"Spécialité achat continu","Article actif"]
[427625,"Vin rosé","00690604000065","Buti Nages Costières de Nîmes rosé",750,12,"Courant achat continu","Article actif"]
[429761,"Vin rg divers pays","07501053160060","Petite Sirah L.A. Cetto Valle de Guadalupe",750,12,"Courant achat continu","Article actif"]
[430462,"Vin bl Italie Vénétie","08008863004083","Bottero Di Cello Bianco Veneto i.g.t.",1000,12,"Courant achat continu","Article actif"]
[430611,"Vin rg Argentine","07790240072808","Malbec Trapiche fût de chêne réserve Mendoza",750,12,"Courant achat continu","Article actif"]
[430751,"Mousseux","06672202410594","Château Moncontour Brut Vouvray mousseux",750,12,"Courant achat continu","Article actif"]
[431338,"Vin rg France Bordeaux","03251093006531","Marquis de Chasse Bordeaux Merlot/Cab. sauv./Cab. franc",750,12,"Courant achat continu","Article en écoulement"]
[432641,"Produits du Terroir","00609780005016","Michel Jodoin Cuvée Blanc de Pépin cidre fort",750,12,"Spécialité achat continu","Article actif"]
[434993,"Vin rg France Languedoc","00083729002463","Merlot Réserve Maison Nicolas Pays d`Oc IGP",750,12,"Courant achat continu","Article actif"]
[435016,"Vin rg France Languedoc","00083729002470","Cabernet-Sauvignon Réservé Maison Nicolas vin pays d'Oc",750,12,"Courant achat continu","Article actif"]
[435487,"Spiritueux 200 à 375 ML","00057496435489","Fine Sève eau-de-vie de sirop d'érable vieillie",375,6,"Spécialité achat continu","Article actif"]
[435917,"Bière","05412186000098","Delirium Tremens extra forte bière type ale",330,24,"Spécialité achat continu","Article actif"]
[437772,"Vodka et Alcool","00081753822248","Belvedere vodka",750,12,"Courant achat continu","Article actif"]
[442392,"Vin rg France Bordeaux","03258691463469","Château Pey La Tour Réserve du Bordeaux supérieur",750,12,"Courant achat continu","Article actif"]
[443036,"Vin rg Italie autres régions","08032610310547","Sangiovese Giacondi Rubicone i.g.t.",1000,12,"Courant achat continu","Article actif"]
[443069,"Vin bl Italie autres régions","08032610310608","Trebbiano Giacondi Rubicone i.g.t.",1000,12,"Courant achat continu","Article actif"]
[443317,"Vin rg divers pays","05281004111113","Château Kefraya Les Bretèches vallée de Bekaa",750,12,"Spécialité achat continu","Article actif"]
[443721,"Vin rg divers pays","05281022542944","Château Ksara Réserve du Couvent vallée du Bekaa",750,12,"Spécialité achat continu","Article actif"]
[443903,"Rhum","08501110080644","Havana Club Anejo Reserva rhum ambré",750,12,"Courant achat continu","Article actif"]
[443911,"Vin rg grands formats","00059578119126","Cabernet-Sauvignon Caballero de Chile Valle Central",4000,4,"Courant achat continu","Article actif"]
[444273,"Vin bl grands formats","00774336442734","Jouvenceau Cuvée Héritage blanc",4000,4,"Courant achat continu","Article actif"]
[446179,"Vin bl France Val de Loire","03450090000065","Chardonnay Marquis de Goulaine Papillon Val de Loire IGT",750,12,"Courant achat continu","Article en écoulement"]
[447334,"Vin rg grands formats","00774336473349","Merlot Antoine Bonet vin de pays d'Oc",4000,4,"Courant achat continu","Article actif"]
[448258,"Vin rg grands formats","00774336482587","Jouvenceau Cuvée Héritage rouge",4000,4,"Courant achat continu","Article actif"]
[448498,"Vin rg France Languedoc","03233960052063","Saveurs Oubliées Côtes du Roussillon Villages",750,12,"Courant achat continu","Article actif"]
[449884,"Vodka et Alcool","00057496449882","Kamouraska vodka épicée",1140,12,"Spécialité achat continu","Article actif"]
[451161,"Tequila","00811538010849","Cuervo Especial dorée tequila",750,12,"Courant achat continu","Article actif"]
[453076,"Champagne","03185370000021","Moët & Chandon Impérial Champagne",375,12,"Courant achat continu","Article actif"]
[453084,"Champagne","03185370000335","Moët & Chandon Impérial Champagne",750,6,"Courant achat continu","Article actif"]
[456095,"Vodka et Alcool","00085156275014","Ketel One vodka",750,12,"Courant achat continu","Article actif"]
[456244,"Vin bl France Alsace","03185130071025","Pinot gris Pfaff Alsace",750,12,"Courant achat continu","Article actif"]
[457614,"Spiritueux 200 à 375 ML","00057496457610","Amour en Cage liqueur de cerise de terre",375,6,"Spécialité achat continu","Article actif"]
[458661,"Vin rg Australie","00012354081864","Pinot noir Bin 99 Lindemans South Eastern Australia",750,12,"Courant achat continu","Article actif"]
[459362,"Liqueur","00048415408479","DK Butter caramel écossais cocktail au spiritueux",750,12,"Spécialité achat continu","Article en écoulement"]
[464388,"Vin rg Portugal","05601012414509","Vila Regia Douro",750,12,"Courant achat continu","Article actif"]
[464594,"Vin bl France Bourgogne","03337690155220","Bourgogne Aligoté  Bouchard Père & Fils",750,12,"Courant achat continu","Article actif"]
[464602,"Vin rosé","03495860911233","Domaine de Gournier vin de pays de Cévennes rosé",750,12,"Courant achat continu","Article actif"]
[464651,"Vin bl Italie Vénétie","08008863005370","Pinot blanc Vivolo di Sasso Veneto i.g.t.",750,12,"Courant achat continu","Article actif"]
[464669,"Vin rg petits formats","03179070184013","Cellier des Dauphins Prestige Côtes du Rhône",250,24,"Courant achat continu","Article actif"]
[465435,"Vin rg États-Unis","00086003091931","Pinot noir Mondavi Private Selection Californie",750,12,"Spécialité achat continu","Article actif"]
[466029,"Vin rg Italie autres régions","08028003000515","Vitiano Falesco Umbria i.g.t.",750,12,"Spécialité achat continu","Article actif"]
[466656,"Vin rg France Sud-Ouest","03372220001516","Torus Madiran",750,12,"Courant achat continu","Article actif"]
[466664,"Tequila","-","Bang Bang tequila",1140,12,"Courant achat continu","Article en écoulement"]
[466854,"Spiritueux 200 à 375 ML","00621705110377","Appleton Estate V/X rhum ambré",375,24,"Courant achat continu","Article actif"]
[467969,"Vin bl Argentine","07794450008077","Chardonnay Alamos Mendoza",750,12,"Spécialité achat continu","Article actif"]
[468173,"Vin bl petits formats","04902650260581","Hakutsuru Draft sake",300,20,"Spécialité achat continu","Article actif"]
[468181,"Bière","05411364151119","Duchesse de Bourgogne bière type ale",330,24,"Spécialité achat continu","Article actif"]
[469494,"Liqueur","08000400203782","Amaro Siciliano Averna liqueur amère",700,12,"Spécialité achat continu","Article actif"]
[473132,"Vin rg France Languedoc","03300261730065","Comtes Rocquefeuil Montpeyroux Coteaux du Languedoc",750,12,"Courant achat continu","Article actif"]
[475103,"Produits du Terroir","00063829999047","Benoîte Intermiel hydromel",750,12,"Spécialité achat continu","Article actif"]
[476846,"Vin rg France Vallée du Rhône","03391181111331","Belleruche Côtes du Rhône",750,12,"Courant achat continu","Article actif"]
[477257,"Vin bl France Bordeaux","03760022500014","Château des Matards Blaye Côtes de Bordeaux",750,12,"Courant achat continu","Article actif"]
[477836,"Liqueur","00089540448985","Malibu boisson à la noix de coco et rhum",750,12,"Courant achat continu","Article actif"]
[478727,"Vin rg Argentine","07794450008053","Malbec Catena Mendoza",750,12,"Spécialité achat continu","Article actif"]
[478743,"Vin rg Espagne","08423309033005","Ijalba Reserva Rioja",750,12,"Spécialité achat continu","Article actif"]
[478891,"Vin rg Italie Toscane","08003015700363","Carpineto Chianti Classico",750,12,"Courant achat continu","Article actif"]
[480285,"Vin bl France Bourgogne","03452460000934","Chablis premier cru Vaulignot Louis Moreau",750,12,"Spécialité achat continu","Article actif"]
[480616,"Whisky","00082184087008","Jack Daniel's Single Barrel Tennessee whiskey américain",750,6,"Spécialité achat continu","Article actif"]
[482026,"Champagne","03185370537220","Moët & Chandon Brut Impérial rosé Champagne",750,6,"Spécialité achat continu","Article actif"]
[482240,"Vin rg France Sud-Ouest","03422920094025","Château la Coustarelle Grande Cuvée Prestige Cahors",750,12,"Spécialité achat continu","Article actif"]
[483024,"Porto","05601034211506","Offley late bottled vintage",750,12,"Courant achat continu","Article actif"]
[484139,"Vin bl France Sud-Ouest","03359880123314","Sauvignon blanc Domaine du Tariquet Côtes de Gascogne",750,12,"Courant achat continu","Article actif"]
[485557,"Vin rg France Languedoc","03500610014789","Merlot/Cabernet J.P. Chenet vin de pays d'Oc",750,12,"Courant achat continu","Article actif"]
[485565,"Vin rg Italie Vénétie","08008863004113","Merlot Vivolo di Sasso Veneto i.g.t.",750,12,"Courant achat continu","Article actif"]
[487017,"Vin rg Chili","00083300097550","Merlot Carmen Reserva Valle de Colchagua",750,12,"Courant achat continu","Article en écoulement"]
[488171,"Vin rg France Languedoc","03548601995013","Château Sainte-Eulalie Plaisir D'Eulalie Minervois",750,12,"Spécialité achat continu","Article actif"]
[488726,"Vin rg France Languedoc","03308440023380","La Cuvée Mythique vin de pays d'Oc",750,12,"Courant achat continu","Article actif"]
[488742,"Vin rg France Sud-Ouest","03270310608433","Château Peyros vielles vignes Madiran",750,12,"Spécialité achat continu","Article actif"]
[492397,"Vin rg États-Unis","00016697000650","Zinfandel De Loach Héritage réserve Californie",750,12,"Spécialité achat continu","Article actif"]
[494393,"Vin rg Italie Vénétie","08004645402108","Tommasi Amarone della Valpolicella Classico",750,12,"Spécialité achat continu","Article actif"]
[494492,"Vin rg États-Unis","00086003000490","Merlot Woodbridge by Robert Mondavi Californie",750,12,"Courant achat continu","Article actif"]
[496349,"Vin bl petits formats","03179070188011","Cellier des Dauphins Prestige Côtes du Rhône",250,24,"Courant achat continu","Article actif"]
[499145,"Porto","05013521100901","Fonseca tawny",750,12,"Courant achat continu","Article en écoulement"]
[500132,"Produits du Terroir","00622837006071","Le Vire Crêpe Cidrerie St- Nicolas cidre léger",750,12,"Spécialité achat continu","Article actif"]
[500512,"Rhum","00087000151086","Captain Morgan Original Spiced rhum épicé ambré",750,12,"Courant achat continu","Article actif"]
[501551,"Vin rg Argentine","07790240017045","Malbec Trapiche",750,12,"Courant achat continu","Article actif"]
[503490,"Mousseux","08410013381010","Codorniu Clasico Brut Cava mousseux",750,6,"Courant achat continu","Article actif"]
[506824,"Vin rg Italie Piémont","08000192005502","Costalunga Bersano Barbera d'Asti",750,12,"Courant achat continu","Article actif"]
[508150,"Liqueur","08716000966537","Galliano 1896 liqueur de vanille",500,12,"Spécialité achat continu","Article actif"]
[508879,"Vin rg France Sud-Ouest","03586610000441","Carrelot des Amants Côtes du Brulhois",750,12,"Courant achat continu","Article actif"]
[511956,"Produits du Terroir","00773253001031","La Bolée du Minot Réserve cidre tranquille",750,12,"Spécialité achat continu","Article actif"]
[515841,"Vin rg France Beaujolais","03535923010005","Brouilly Sous les Balloquets Louis Jadot",750,12,"Courant achat continu","Article actif"]
[516252,"Bière","05201309608071","Mythos Hellenic bière type lager",330,24,"Spécialité achat continu","Article actif"]
[516443,"Vin bl Argentine","07791728000900","Chardonnay/Viognier Zuccardi Série A Mendoza",750,12,"Spécialité achat continu","Article actif"]
[517706,"Vin rg Italie Vénétie","08008863004120","Bottero Veneto i.g.t.",1500,6,"Courant achat continu","Article actif"]
[517722,"Vin rg France Bordeaux","03500610015274","Réserve de Louis Eschenauer Bordeaux",750,12,"Courant achat continu","Article actif"]
[518670,"Liqueur","00087116035126","Sour Puss framboise boisson de fruit",750,12,"Courant achat continu","Article actif"]
[518712,"Vin rg Italie autres régions","08008235000194","\"M\" Montepulciano d'Abruzzo",1000,12,"Courant achat continu","Article actif"]
[521518,"Vin bl France Sud-Ouest","03359880100018","Domaine du Tariquet Classic vdp Gascogne",750,12,"Courant achat continu","Article actif"]
[522482,"Liqueur","00057496522486","Sortilège whisky canadien et sirop d'érable",750,12,"Courant achat continu","Article actif"]
[522771,"Vin bl Chili","07804335002660","Chardonnay Carmen Casablanca Valley",750,12,"Courant achat continu","Article actif"]
[523142,"Vin rg Italie Piémont","08005415000005","Canti Barbera d'Asti superiore",750,12,"Courant achat continu","Article actif"]
[523274,"Vin rg France Languedoc","03394150027176","Château Trillol Corbières",750,12,"Spécialité achat continu","Article actif"]
[524926,"Vin rg Australie","09311789200958","Shiraz/Viognier The Guardian Yalumba Eden Valley",750,12,"Spécialité achat continu","Article actif"]
[527499,"Vin bl Italie autres régions","08008235000200","Miglianico Trebbiano d'Abruzzo",1000,12,"Courant achat continu","Article actif"]
[527838,"Bière","03334751008839","Bière au Cognac X.O. forte bière type lager",330,24,"Spécialité achat continu","Article actif"]
[528687,"Vin bl France Val de Loire","03490960130102","Pascal Jolivet Sancerre",750,12,"Spécialité achat continu","Article actif"]
[530907,"Vin rg Argentine","07790240072150","Cabernet-Sauvignon Trapiche",750,12,"Courant achat continu","Article actif"]
[533026,"Vin rg Italie Vénétie","08002062001522","Modello Masi Delle Venezie i.g.t.",750,12,"Courant achat continu","Article actif"]
[534768,"Vin rosé","03760022532114","Roseline Prestige Côtes de Provence rosé",750,12,"Courant achat continu","Article actif"]
[535849,"Vin rg France Vallée du Rhône","00714320135006","Héritages Ogier Côtes du Rhône",750,12,"Courant achat continu","Article actif"]
[537852,"Spiritueux 200 à 375 ML","00057496537855","Minaki apéritif de bleuets",375,6,"Spécialité achat continu","Article actif"]
[539320,"Vin rg Espagne","08410310603907","Bobal/Shiraz Castillo de Liria Valencia",750,12,"Courant achat continu","Article actif"]
[539528,"Vin rg Espagne","08412075030233","Monasterio de Las Vinas Crianza Carinena",750,12,"Courant achat continu","Article actif"]
[540930,"Produits du Terroir","00622837006040","Le Cidre St-Nicolas Rosé cidre aromatisé pétillant",750,12,"Spécialité achat continu","Article actif"]
[541250,"Vin bl Chili","00608057000051","Fumé blanc Errazuriz Valle de Aconcagua",750,12,"Courant achat continu","Article actif"]
[541888,"Vin rg États-Unis","00739958974100","Merlot Blue Label Francis Coppola Diamond Collection",750,12,"Spécialité achat continu","Article actif"]
[542977,"Cooler","00620213250209","Rev (4 x 330 ml) boisson à la vodka avec guarana",330,24,"Courant achat continu","Article actif"]
[543934,"Vin rg France Vallée du Rhône","03105714450121","Les Traverses Ventoux",750,12,"Spécialité achat continu","Article actif"]
[545772,"Vin rg Italie autres régions","08007880542004","Sangiovese Pasqua Puglia i.g.t",750,12,"Courant achat continu","Article actif"]
[546309,"Vin rg Portugal","05601078005277","Duque de Viseu Dâo",750,12,"Courant achat continu","Article actif"]
[548644,"Vin rg Australie","09300727488114","Shiraz Jacob's Creek South Eastern Australia",750,12,"Courant achat continu","Article actif"]
[548875,"Vin rg Espagne","08410702001267","Tempranillo Los Molinos Valdepeñas",750,12,"Courant achat continu","Article actif"]
[548883,"Vin bl France Sud-Ouest","03372220000243","Gros Manseng/Sauvignon Brumont vin pays des Côtes de Gascogne",750,12,"Courant achat continu","Article actif"]
[550749,"Vodka et Alcool","00835229002302","Absolut Mandrin vodka aromatisée",750,12,"Spécialité achat continu","Article actif"]
[551085,"Vin de Dessert","00620654110018","Inniskillin Icewine Vidal Niagara Peninsula VQA",375,6,"Spécialité achat continu","Article actif"]
[552000,"Vin rg Australie","00012894150037","Cab-Sauv./Merlot Rosemount Estate Australia",750,12,"Courant achat continu","Article en écoulement"]
[552075,"Vin rg Australie","00098137000215","Cabernet/Merlot Greg Norman Limestone Coast",750,12,"Courant achat continu","Article actif"]
[552505,"Vin rg France Languedoc","03379430000674","Terrasses de Mayline Saint-Chinian",750,12,"Courant achat continu","Article actif"]
[552513,"Vin bl Italie autres régions","08005493001444","Chardonnay Citra Terre di Chieti i.g.t.",1000,12,"Courant achat continu","Article actif"]
[554139,"Vin rg divers pays","00787544101164","Pinot noir Chevalier de Dyonis Dealu Mare",750,12,"Courant achat continu","Article actif"]
[554204,"Miniatures","00000053997173","Baileys l'original boisson à la crème irlandaise",50,80,"Spécialité achat continu","Article actif"]
[555219,"Vin rg Italie Toscane","08020465025129","Moro Fattoria Montellori Toscana i.g.t.",750,12,"Spécialité achat continu","Article actif"]
[556746,"Vin bl Argentine","00635335364017","Pinot gris Bodega François Lurton Mendoza",750,12,"Spécialité achat continu","Article actif"]
[557108,"Brandy et Cognac","00088352118062","St-Rémy Authentic XO brandy",750,12,"Courant achat continu","Article actif"]
[560060,"Vin bl Italie autres régions","08010158113417","Fontana Morella Cerveteri",1000,12,"Courant achat continu","Article actif"]
[560078,"Vin rg Italie autres régions","08010158111352","Fontana Morella vino da tavola",1000,12,"Courant achat continu","Article actif"]
[560524,"Vin bl Italie Vénétie","08000160611179","Pinot grigio Santepietre Lamberti Delle Venezie i.g.t.",750,12,"Courant achat continu","Article actif"]
[560722,"Vin rg France Sud-Ouest","03750026020014","Chatons du Cèdre Cahors",750,12,"Courant achat continu","Article actif"]
[560748,"Vin rg France Sud-Ouest","03468000013982","La Vieille Église Côtes du Marmandais",750,12,"Courant achat continu","Article actif"]
[560755,"Vin rg France Languedoc","03454781060000","Château Pennautier Cabardès",750,12,"Courant achat continu","Article actif"]
[560763,"Vin bl France Bourgogne","03379680000066","Chablis La Vigne de la Reine Château de Maligny",750,12,"Spécialité achat continu","Article actif"]
[560797,"Vin rg Italie Vénétie","08004645304105","Tommasi Valpolicella Classico",750,12,"Courant achat continu","Article actif"]
[560821,"Vin rg Australie","00636662057320","Shiraz Deakin Estate Victoria",750,12,"Courant achat continu","Article actif"]
[561274,"Vin bl France Sud-Ouest","03359880100025","Premières Grives Domaine du Tariquet vdp Côtes de Gascogne",750,12,"Spécialité achat continu","Article actif"]
[561308,"Vin rg France Languedoc","03483080001261","Seigneur de  Baccou Saint-Chinian",750,12,"Courant achat continu","Article actif"]
[561316,"Vin bl France Sud-Ouest","03359880700058","Chardonnay/sauv. Côté Domaine Tariquet vdp Côtes de Gascogne",750,12,"Spécialité achat continu","Article actif"]
[563338,"Champagne","03049614133534","Veuve Clicquot Ponsardin Brut Champagne",750,6,"Courant achat continu","Article actif"]
[564237,"Vin rg France Languedoc","03045710029061","Château Arnaud Minervois",750,12,"Courant achat continu","Article actif"]
[564674,"Vin bl Italie Vénétie","08002062008132","Modello Masi Delle Venezie i.g.t. blanc",750,12,"Courant achat continu","Article actif"]
[565283,"Vin rg Italie autres régions","08032853720479","Medoro Umani Ronchi Marche i.g.t.",750,12,"Courant achat continu","Article actif"]
[565598,"Vin bl France Bourgogne","03332418000349","Chablis La Sereine Chablisienne",750,12,"Courant achat continu","Article actif"]
[565648,"Produits du Terroir","00622837006026","Crémant St-Nicolas cidre mousseux",750,12,"Spécialité achat continu","Article actif"]
[565663,"Vin rg France Beaujolais","03441910000518","Brouilly Château de La Chaize",750,12,"Courant achat continu","Article actif"]
[566182,"Vodka et Alcool","00082000724308","Smirnoff Twist of Raspberry vodka aromatisée",750,12,"Courant achat continu","Article actif"]
[567420,"Vin rg États-Unis","00089819059041","Pinot noir Château St-Jean Sonoma Californie",750,12,"Spécialité achat continu","Article actif"]
[567891,"Vin bl France Sud-Ouest","03359884180016","Domaine La Hitaire Les Tours vin de pays Côtes de Gascogne",750,12,"Courant achat continu","Article actif"]
[568410,"Vodka et Alcool","00624177684100","Moskova vodka",1750,6,"Courant achat continu","Article actif"]
[569400,"Cooler","00065912006793","Mott's Clamato Caesar extra épicé (4 x 355 ml) cooler",355,24,"Courant achat continu","Article actif"]
[569418,"Cooler","00065912006823","Mott's Clamato Caesar Originale (4 x 355 ml) cooler",355,24,"Courant achat continu","Article actif"]
[570036,"Vin rg France Bourgogne","03309280016570","Bourgogne grand ordinaire La Princesse Maudite Labouré-Roi",750,12,"Courant achat continu","Article actif"]
[571539,"Vin rg Italie Toscane","08003545993280","Villa Cafaggio Chianti Classico",750,12,"Spécialité achat continu","Article actif"]
[571604,"Porto","05601007001516","Ferreira Porto blanc",750,12,"Spécialité achat continu","Article actif"]
[572313,"Bière","00038766302601","Asahi Super Dry bière type lager (canette)",500,24,"Spécialité achat continu","Article actif"]
[572586,"Champagne","03049610004500","Veuve Clicquot Ponsardin Brut Champagne",1500,3,"Courant achat continu","Article actif"]
[572636,"Vin bl France Languedoc","03546680013963","Chardonnay De La Chevalière vin de pays d'Oc",750,12,"Courant achat continu","Article actif"]
[572651,"Vin rg France Languedoc","03298026004998","Merlot/Syrah Moulin Claude Cabardès",750,12,"Courant achat continu","Article en écoulement"]
[574582,"Crème","06001495062669","Amarula Cream boisson à la crème",1140,12,"Courant achat continu","Article actif"]
[574863,"Champagne","00694190006159","Pommery Pop Champagne",200,24,"Courant achat continu","Article actif"]
[576272,"Vin rg États-Unis","00087110320570","Syrah RH Phillips Californie",750,12,"Courant achat continu","Article actif"]
[577122,"Vin bl France Languedoc","00083729002494","Chardonnay Réservé Maison Nicolas vin de pays d'Oc",750,12,"Courant achat continu","Article actif"]
[577155,"Vin rg Chili","00812485000013","Escudo Rojo Rothschild Valle Central",750,12,"Spécialité achat continu","Article actif"]
[577601,"Produits du Terroir","00609780006013","Calijo de Rougemont brandy de pommes Cidrerie Michel Jodoin",700,6,"Spécialité achat continu","Article actif"]
[577957,"Liqueur","00089540454061","Kahlua boisson diverse",750,12,"Courant achat continu","Article actif"]
[578187,"Champagne","03282946006835","Nicolas Feuillatte Brut Réserve Champagne",750,12,"Courant achat continu","Article actif"]
[579862,"Vin rg Portugal","05010867203969","Altano Douro",750,12,"Courant achat continu","Article actif"]
[582205,"Whisky Ecosse","00080432400487","Chivas Regal 18 ans scotch blended",750,6,"Spécialité achat continu","Article actif"]
[583468,"Brandy et Cognac","00087236002336","Rémy Martin Excellence Cognac X.O.",750,6,"Spécialité achat continu","Article actif"]
[585422,"Vin bl Italie Vénétie","00687004000610","San Vincenzo Anselmi Veneto i.g.t.",750,12,"Courant achat continu","Article actif"]
[586149,"Vin rg Afrique du Sud","06002039005845","Shiraz Robertson Winery Robertson",750,12,"Courant achat continu","Article actif"]
[587824,"Porto","05602660001837","Cabral Branco Fino Porto blanc",375,12,"Spécialité achat continu","Article actif"]
[588004,"Vin bl Argentine","07790240072181","Chardonnay Trapiche",750,12,"Courant achat continu","Article actif"]
[589606,"Vin rosé","08008235000149","MiglianicoCerasuolo d'Abruzzo rosé",1000,12,"Courant achat continu","Article actif"]
[590836,"Vin rg divers pays","05201021688757","Tsantali Rapsani",750,12,"Courant achat continu","Article actif"]
[591271,"Vin rg France Languedoc","03045710012230","Merlot Héritage de Marquisat vin de pays d'Oc IGP",750,12,"Courant achat continu","Article actif"]
[591289,"Mousseux","08003095000254","Carpene Malvolti Cuvée Brut Pr osecco di Conegliano mousseux",750,12,"Courant achat continu","Article actif"]
[591297,"Produits du Terroir","00813319000018","Pomme de glace Clos St-Denis cidre de glace",375,6,"Courant achat continu","Article actif"]
[591826,"Liqueur","03376375756000","Prunelle de Bourgogne Védrenne liqueur de prunelle",700,12,"Spécialité achat continu","Article actif"]
[594341,"Vin bl États-Unis","00087110310571","Chardonnay EXP Californie",750,12,"Courant achat continu","Article actif"]
[594457,"Vin bl États-Unis","00087110300572","Chardonnay RH Phillips Californie",750,12,"Courant achat continu","Article actif"]
[597534,"Eau-de-vie","08012915000282","Grappa Monovitigno di Prosecco De Negri",700,12,"Courant achat continu","Article actif"]
[597559,"Vin bl petits formats","03251092204297","Marquis de Chasse Bordeaux Sauvignon blanc/Sémillon",250,24,"Spécialité achat continu","Article actif"]
[597567,"Vin rg petits formats","03251092610609","Marquis de Chasse Bordeaux Merlot/Cab. sauv./Cab. franc",250,24,"Courant achat continu","Article actif"]
[597591,"Vin bl France Bourgogne","03535927020000","Saint-Véran Combe aux Jacques Louis Jadot",750,12,"Courant achat continu","Article actif"]
[598623,"Vin rg Australie","00057496598627","Shiraz/Cabernet-Sauv.Settler's Cove South Eastern Australia",750,12,"Courant achat continu","Article actif"]
[599654,"Porto","05602660001769","Cabral tawny 10 ans",375,12,"Spécialité achat continu","Article actif"]
[602342,"Vin rg Italie Vénétie","08007880542905","Sagramoso Pasqua Valpolicella Superiore Classico",750,12,"Spécialité achat continu","Article actif"]
[602888,"Bière","05411656020611","Mort Subite Framboise bière type lambic",375,20,"Spécialité achat continu","Article actif"]
[605261,"Vin rg France Languedoc","03454781500490","L'Orangerie de Pennautier vin-pays Cité de Carcassonne",750,12,"Courant achat continu","Article actif"]
[605287,"Vin rg France autres régions","03760015200013","Château La Lieue Coteaux Varois en Provence",750,12,"Courant achat continu","Article actif"]
[606376,"Liqueur","-","Amaretto Monalisa liqueur d'amande",1140,12,"Courant achat continu","Article en écoulement"]
[606988,"Vin rg petits formats","03263286324216","Cabernet-Sauvignon/Syrah J.P. Chenet vin de pays d'Oc",250,24,"Courant achat continu","Article actif"]
[609529,"Bière","00000080328629","Birra Menabrea bière type lager",330,24,"Spécialité achat continu","Article actif"]
[610188,"Vin rg Espagne","00022851801018","Tempranillo/Cab.-Sauv. Solaz vino de la tierra de Castilla",750,12,"Courant achat continu","Article actif"]
[610204,"Vin rg Italie autres régions","08007880547009","Primitivo Lapaccio Pasqua Salento i.g.t.",750,12,"Courant achat continu","Article actif"]
[611251,"Vin rg Italie Piémont","00632738100471","Beni di Batasiolo Langhe",750,12,"Spécialité achat continu","Article actif"]
[611756,"Produits du Terroir","00609780008024","Michel Jodoin eau-de-vie de pommes",375,6,"Spécialité achat continu","Article en écoulement"]
[612531,"Vin rg États-Unis","00085000010587","Cabernet-Sauvignon Redwood Creek Frei Brothers Californie",750,12,"Courant achat continu","Article actif"]
[613208,"Vin bl Italie autres régions","08002010689635","Catarratto/Chardonnay Rapitala Terre Siciliane i.g.t.",750,12,"Spécialité achat continu","Article actif"]
[615658,"Produits du Terroir","00055054824041","Cuvée Versant Sud Cidrerie Verger Léo Boutin cidre léger",750,12,"Spécialité achat continu","Article actif"]
[620617,"Vin rg France Languedoc","03760067771011","Merlot Domaine de Moulines vin de pays de l'Hérault",750,12,"Courant achat continu","Article actif"]
[620674,"Vin rg Espagne","08410388101473","Tempranillo/Cab.-Sauv. Agarena Utiel-Requena",750,12,"Courant achat continu","Article actif"]
[620682,"Vin rosé","03586610000304","Carrelot des Amants Côtes du Brulhois rosé",750,12,"Courant achat continu","Article actif"]
[623678,"Crème","05011026105278","Carolan's Finest boisson à la crème",1140,6,"Courant achat continu","Article actif"]
[624262,"Gin","00057496624265","City dry gin",1140,12,"Spécialité achat continu","Article actif"]
[624296,"Vin rg Espagne","03378630306227","Garnacha Castillo de Monseran Carinena",750,12,"Courant achat continu","Article actif"]
[624304,"Vin rg France Bordeaux","03412910114437","Lalande Bellevue Blaye Côtes de Bordeaux",750,12,"Courant achat continu","Article actif"]
[625756,"Crème","05011013500642","Sheridan's Original boisson alcoolique de café superposée",750,6,"Courant achat continu","Article actif"]
[625871,"Porto","05602660001219","Cabral Reserva Especial tawny",750,12,"Courant achat continu","Article actif"]
[625921,"Rhum","00057496625927","Global rhum blanc",1140,12,"Courant achat continu","Article en écoulement"]
[626481,"Vin bl France Languedoc","03263286329006","Chardonnay J.P. Chenet vin de pays d'Oc",750,12,"Courant achat continu","Article actif"]
[626499,"Vin bl Portugal","05601271034005","Marquês de Marialva Bairrada Colheita Seleccionada",750,12,"Spécialité achat continu","Article actif"]
[626507,"Vin rg Portugal","05601271038423","Marquês de Marialva Reserva Bairrada",750,12,"Courant achat continu","Article actif"]
[628123,"Vin rg France Beaujolais","03257651018886","Brouilly Mignot",750,12,"Courant achat continu","Article actif"]
[630749,"Liqueur","-","Stinger Premixxx liqueur de menthe",1140,12,"Courant achat continu","Article en écoulement"]
[630913,"Liqueur","00050037599176","Tia Maria boisson diverse",750,12,"Courant achat continu","Article actif"]
[635250,"Vin bl grands formats","00774336352507","Chardonnay/Viognier Antoine Bonet vin de pays d'Oc",4000,4,"Courant achat continu","Article actif"]
[637058,"Spiritueux 200 à 375 ML","00620213180902","Bombay Sapphire London dry gin",375,12,"Courant achat continu","Article actif"]
[637850,"Vin bl France Languedoc","03760026480572","Les Jardins de Meyrac vin de Pays d`Oc IGP",750,12,"Courant achat continu","Article actif"]
[637876,"Vin rg Argentine","07790240026344","Merlot/Malbec Astica Trapiche Cuyo",750,12,"Courant achat continu","Article actif"]
[638486,"Vin rg Espagne","08435053362041","Casa de la Ermita Crianza Jumilla",750,12,"Courant achat continu","Article actif"]
[639542,"Vin rg Espagne","08410419218033","Tempranillo Castillo Turis Valencia",750,12,"Spécialité achat continu","Article en écoulement"]
[640177,"Vin rg France Bordeaux","03549920000297","Château Nénine Premières Côtes de Bordeaux",750,12,"Spécialité achat continu","Article actif"]
[640193,"Vin rosé","03399600112709","Domaine du Vieil Aven Tavel rosé",750,12,"Courant achat continu","Article actif"]
[642504,"Vin rosé","03379430000438","Col de l'Orb Saint-Chinian rosé",750,12,"Courant achat continu","Article actif"]
[642538,"Vin rg Espagne","08427154011225","Mas Collet Montsant",750,12,"Spécialité achat continu","Article actif"]
[642561,"Vin rg Italie Toscane","08006030002412","Cecchi Chianti",750,12,"Courant achat continu","Article actif"]
[642660,"Vin rg France Languedoc","03546680018135","3 Grappes Rouges De La Chevalière vin de pays d'Oc",750,12,"Courant achat continu","Article actif"]
[642744,"Vin bl Italie Vénétie","08002235019415","Il Giangio Zonin Gambellara",750,12,"Spécialité achat continu","Article actif"]
[642827,"Vin bl France Languedoc","00650298010115","Sauvignon blanc Les Jamelles vin de pays d'Oc",750,12,"Courant achat continu","Article actif"]
[643106,"Vin rg Italie autres régions","08032610311322","Merlot primitivo Trevini Primo Pouilles  i.g.t.",750,12,"Courant achat continu","Article actif"]
[643544,"Vin rg Italie autres régions","08000942081169","Primitivo Luigi Leonardo Salento i.g.t.",750,12,"Courant achat continu","Article actif"]
[643700,"Vin bl France Sud-Ouest","00635335961957","Sauvignon bl. Fumées Blanches Cotes de Gascog IGP",750,12,"Courant achat continu","Article actif"]
[695056,"Porto","05602660001820","Cabral Carácter Reserva",375,12,"Spécialité achat continu","Article actif"]
[697169,"Cooler","05024993727138","WKD Vodka Blue (4 x 330 ml) cooler au spiritueux",330,24,"Courant achat continu","Article actif"]
[697334,"Cooler","00620213250018","Bacardi Breezer Ananas (4x 330 ml) cooler au spiritueux",330,24,"Courant achat continu","Article actif"]
[703363,"Vin rg Italie Toscane","00709067110096","Riserva Il Grigio San Felice Riserva Chianti Classico",750,12,"Spécialité achat continu","Article actif"]
[704221,"Vin bl Québec","00827924004019","L'Orpailleur Vignoble de l'Orpailleur vin blanc",750,12,"Spécialité achat continu","Article actif"]
[704817,"Vin rg France Bordeaux","03192040420454","Côtes Rocheuses Saint-Emilion grand cru",750,12,"Spécialité achat continu","Article actif"]
[706218,"Vin rg France Languedoc","03760026480459","L'Esprit de Château Capendu Corbières",750,12,"Courant achat continu","Article actif"]
[707190,"Vin bl France Bordeaux","03486730030215","Château Bertinerie Premières Côtes de Blaye",750,12,"Spécialité achat continu","Article actif"]
[708677,"Vin rg États-Unis","00009865250024","Zinfandel Cline Lodi AVA",750,12,"Spécialité achat continu","Article actif"]
[709451,"Vin rg Italie autres régions","08013417000039","Notarpanaro Taurino Salento i.g.t.",750,12,"Spécialité achat continu","Article actif"]
[709469,"Vin rg France Bordeaux","03760088890739","Château le Puy Bordeaux Côtes de Francs",750,12,"Spécialité achat continu","Article actif"]
[710426,"Vin rg France Val de Loire","03382250000243","St-Florent Saumur",750,12,"Spécialité achat continu","Article actif"]
[710442,"Vin rg France Val de Loire","03279870015019","Château de Fesles vieilles vignes Anjou",750,12,"Spécialité achat continu","Article actif"]
[710731,"Vin rg Afrique du Sud","06001497413100","Cabernet-Sauvignon Le Bonheur simonsberg-stellenbosch",750,12,"Spécialité achat continu","Article actif"]
[710780,"Vin bl divers pays","06001497413209","Chardonnay Le Bonheur simonsberg-stellenbosch",750,12,"Spécialité achat continu","Article actif"]
[713263,"Vin rg France Languedoc","03438190004015","Ch. Rouquette sur Mer La Clape Cuv.Amarante Coteaux Languedoc",750,12,"Courant achat continu","Article actif"]
[713495,"Vin bl France autres régions","03424560010007","Beaujolais Chardonnay Jean-Paul Brun",750,12,"Spécialité achat continu","Article actif"]
[713602,"Vin rg divers pays","05201021613759","Tsantali neméa",750,12,"Spécialité achat continu","Article actif"]
[715086,"Vin bl Italie autres régions","08001666751031","Regaleali Bianco Tasca d'Almerita Sicilia D.O.C",750,12,"Spécialité achat continu","Article actif"]
[717413,"Vin rg divers pays","03180280401562","Domaine de Sahari Cuvée du Soleil",750,12,"Spécialité achat continu","Article actif"]
[717579,"Produits du Terroir","00773253001024","Crémant de pomme du Minot cidre mousseux rosé",750,12,"Spécialité achat continu","Article actif"]
[719104,"Vin rg France Bourgogne","03760041970751","Bourgogne Pinot noir vieilles vignes Dieu Nicolas Potel",750,12,"Spécialité achat continu","Article actif"]
[719393,"Vin rg France Beaujolais","03372370102347","Morgon Château de Pizay",750,12,"Courant achat continu","Article actif"]
[719443,"Vin bl États-Unis","00657891700214","Chardonnay Liberty School Central Coast Californie",750,12,"Courant achat continu","Article actif"]
[719971,"Produits du Terroir","00827924003043","Givrée d'Ardoise Domaine des Côtes d'Ardoise vin de glace",375,12,"Spécialité achat continu","Article en écoulement"]
[721134,"Vin rg France Bourgogne","03192100120843","Bourgogne Pinot noir Domaine Champs Perdrix",750,12,"Spécialité achat continu","Article actif"]
[721282,"Vin rg France Sud-Ouest","03558501001004","Château Eugénie Cahors",750,12,"Spécialité achat continu","Article actif"]
[721373,"Vin rg France Bourgogne","03193411397009","Bourgogne Pinot noir Réserve vieilles vignes Pierre André",750,12,"Spécialité achat continu","Article actif"]
[721431,"Vin rg France Bordeaux","03192040456224","Château Haute-Nauve Saint-Emilion grand cru",750,12,"Spécialité achat continu","Article actif"]
[722991,"Vin rg France Vallée du Rhône","03760098130375","Les Cranilles Les Vins de Vienne Côtes du Rhône",750,12,"Spécialité achat continu","Article actif"]
[726984,"Vin rg France Vallée du Rhône","00325113005125","Camille Cayran Antique Côtes du Rhône Villages",750,12,"Courant achat continu","Article actif"]
[727198,"Vin bl Espagne","00635335205020","Verdejo Hermanos Lurton Rueda",750,12,"Spécialité achat continu","Article actif"]
[732099,"Mousseux","03221240050007","Wolfberger Crémant d'Alsace mousseux",750,12,"Spécialité achat continu","Article actif"]
[733188,"Produits du Terroir","00841125075067","Neige Première cidre de glace Face Cachée de la Pomme",200,12,"Courant achat continu","Article actif"]
[733261,"Mousseux","08004810554083","Lambrusco Concerto Reggiano pétillant",750,6,"Spécialité achat continu","Article actif"]
[733386,"Produits du Terroir","00773253001048","Du Minot Brut cidre Bouché sur Lie Mousseux",750,12,"Spécialité achat continu","Article actif"]
[733394,"Produits du Terroir","00609780001025","Michel Jodoin cidre léger rosé mousseux",750,12,"Courant achat continu","Article actif"]
[733402,"Produits du Terroir","00609780008154","Michel Jodoin Fine Caroline liqueur de pomme",700,6,"Spécialité achat continu","Article actif"]
[733410,"Produits du Terroir","00622837006064","Pom'Or Tradition Cidrerie St- Nicolas cidre léger pétillant",750,12,"Spécialité achat continu","Article actif"]
[733436,"Produits du Terroir","00622837006118","L'Esprit des Vergers St-Nicolas cidre fort",750,12,"Spécialité achat continu","Article actif"]
[733477,"Produits du Terroir","00622837000901","Moût de pomme pétillant St-Nicolas",750,12,"Spécialité achat continu","Article actif"]
[733576,"Produits du Terroir","00841125073018","Cidrérable Vergers Lafrance cidre aromatisé à l'érable",500,12,"Spécialité achat continu","Article actif"]
[733600,"Produits du Terroir","00841125075029","Domaine Lafrance cidre de glace",375,12,"Courant achat continu","Article actif"]
[733634,"Produits du Terroir","00841125074015","Le Tonnelet Vergers Lafrance cidre apéritif",500,12,"Spécialité achat continu","Article actif"]
[733683,"Produits du Terroir","00841125071151","La Ruée vers L'Or Verger Clément Larivière cidre fort",750,12,"Spécialité achat continu","Article actif"]
[733725,"Vin bl Québec","00827924022013","Voile de la Mariée Vignoble Sainte-Pétronille vin blanc",750,12,"Spécialité achat continu","Article actif"]
[733758,"Produits du Terroir","00061013001101","Vieux Moulin hydromel aux framboises",750,12,"Spécialité achat continu","Article actif"]
[733931,"Produits du Terroir","00896680003758","Le Valentin Louis Hébert mistelle fraises et framboises",375,12,"Spécialité achat continu","Article actif"]
[734129,"Produits du Terroir","00827924038014","Tourbillon 365 Artisans du Terroir vin apéritif",500,12,"Spécialité achat continu","Article en écoulement"]
[734152,"Produits du Terroir","00827924028060","La Dernière Danse La Roche des Brises vin apéritif",500,12,"Spécialité achat continu","Article en écoulement"]
[734178,"Produits du Terroir","00890086000021","Fleur de Lys Le Cep d'Argent vin arômatisé",750,12,"Spécialité achat continu","Article actif"]
[734194,"Produits du Terroir","00850507001105","La Bise des Prés blanc Vignoble Nordet vin apéritif",375,12,"Spécialité achat continu","Article en écoulement"]
[734244,"Vin rg France Sud-Ouest","03760005530014","Château Les Hauts d'Aglan Cahors",750,12,"Spécialité achat continu","Article actif"]
[734269,"Produits du Terroir","00854745000142","Domaine Pinnacle cidre de glace",375,12,"Courant achat continu","Article actif"]
[734301,"Produits du Terroir","00841125071038","Le St-Laurent Cidrerie La Pomme du St-Laurent cidre fort",750,12,"Spécialité achat continu","Article actif"]
[734335,"Produits du Terroir","00841125071076","Les Vergers Petit et Fils cidre léger",750,12,"Spécialité achat continu","Article actif"]
[734533,"Produits du Terroir","00827924004040","L'Apérid'Or La Mistelle de L'Orpailleur",500,12,"Spécialité achat continu","Article actif"]
[734640,"Produits du Terroir","00890086000038","L'Archer Vignobles Le Cep D'Argent vin fortifié",500,12,"Spécialité achat continu","Article actif"]
[734699,"Champagne","03469380630219","Drappier Carte D'Or Brut Champagne",750,6,"Spécialité achat continu","Article actif"]
[734780,"Produits du Terroir","00827924004033","La Marquise de L'Orpailleur vin apéritif",500,12,"Spécialité achat continu","Article actif"]
[734814,"Produits du Terroir","00827924043063","Lafortune Domaine de l'Ile Ronde 5 ans vin rouge fortifié",500,12,"Spécialité achat continu","Article en écoulement"]
[734848,"Produits du Terroir","00827924043049","Lafortune Domaine de l'Ile Ronde 5 ans vin blanc fortifié",500,12,"Spécialité achat continu","Article en écoulement"]
[734871,"Vin bl Québec","00827924003012","La Maredoise Domaine des Côtes d'Ardoise vin blanc",750,12,"Spécialité achat continu","Article actif"]
[734889,"Vin rg Québec","00827924003036","Côte D'Ardoise Domaine des Côtes d'Ardoise vin rouge",750,12,"Spécialité achat continu","Article actif"]
[734921,"Produits du Terroir","00063829999054","Rosée Intermiel hydromel canneberges & pétales de roses",750,12,"Spécialité achat continu","Article actif"]
[734962,"Produits du Terroir","00772039001043","Le Cidre du Verger La Cidrerie du Village cidre fort",750,12,"Spécialité achat continu","Article actif"]
[735001,"Produits du Terroir","00827924036010","Cuvée Glacée des Laurentides vendanges tardives vin blanc",375,12,"Spécialité achat continu","Article actif"]
[735076,"Produits du Terroir","00897286000011","Cuvée Blé Noir Le Clos des Brumes hydromel",500,12,"Spécialité achat continu","Article actif"]
[735084,"Produits du Terroir","00622837006125","Baiser Volé Cidrerie St-Nicolas cidre léger",750,12,"Spécialité achat continu","Article actif"]
[739243,"Vin rg France Vallée du Rhône","03536650801003","E. Guigal Crozes-Hermitage",750,12,"Spécialité achat continu","Article actif"]
[739623,"Vin rg France Bordeaux","03328150018278","Jean-Pierre Moueix Pomerol",750,12,"Spécialité achat continu","Article actif"]
[739680,"Vin rg Portugal","05601157210714","Catedral Caves Velhas Signature Dâo",750,12,"Courant achat continu","Article actif"]
[740084,"Vin bl États-Unis","00049331002222","Chardonnay La Crema Sonoma Coast Californie",750,12,"Spécialité achat continu","Article actif"]
[740316,"Vin rg petits formats","00057496740316","Syrah Reserva de Perón mendoza",250,24,"Spécialité achat continu","Article actif"]
[740324,"Vin bl petits formats","00057496740323","Torrontes reserva de Perón mendoza",250,24,"Spécialité achat continu","Article actif"]
[741108,"Vin rg Espagne","08413472050954","Lan Crianza Rioja",750,12,"Spécialité achat continu","Article actif"]
[741173,"Vin rg Québec","00827924039011","Domaine De Lavoie Rouge",750,12,"Spécialité achat continu","Article actif"]
[741181,"Vin bl Québec","00890086000014","Domaine Le Cep d'Argent vin blanc",750,12,"Spécialité achat continu","Article actif"]
[741231,"Vin bl Québec","00827924039202","Domaine De Lavoie Blanc",750,12,"Spécialité achat continu","Article actif"]
[741264,"Vin bl Italie autres régions","08020735001006","La Segreta Planeta Sicilia",750,12,"Spécialité achat continu","Article actif"]
[741272,"Vin rg Italie Toscane","08002153995464","Burchino Castellani Chianti superiore",750,12,"Spécialité achat continu","Article actif"]
[741579,"Vin rg divers pays","05201021654752","Tsantali Reserve Rapsani",750,12,"Spécialité achat continu","Article actif"]
[741702,"Vin rosé Québec","00827924037048","Champs de Florence Domaine du Ridge vin rosé",750,12,"Spécialité achat continu","Article actif"]
[742254,"Vin de Dessert","08004445454109","Carlo Pellegrino Passito di Pantelleria",750,12,"Spécialité achat continu","Article actif"]
[742593,"Produits du Terroir","00837294000108","Fraîcheur d'été Miel Nature hydromel",750,12,"Spécialité achat continu","Article actif"]
[742627,"Produits du Terroir","00841125075104","Neige Récolte d'Hiver La Face Cachée de la Pomme cidre glace",375,12,"Spécialité achat continu","Article actif"]
[742676,"Produits du Terroir","00055054821019","Mont de Glace Cidrerie Léo Boutin cidre de glace",375,12,"Spécialité achat continu","Article en écoulement"]
[743252,"Vin rg Portugal","05601085900299","Coroa d'Ouro Pocas Douro",750,12,"Spécialité achat continu","Article actif"]
[743377,"Vin rg France Sud-Ouest","03760086290012","Lo Sang del Païs Marcillac",750,12,"Spécialité achat continu","Article actif"]
[743559,"Vin rg Québec","00827924004026","L'Orpailleur Vignoble de l'Orpailleur vin rouge",750,12,"Spécialité achat continu","Article actif"]
[743567,"Produits du Terroir","00890086000052","Mistral Cep d'Argent mistelle de raisin et petits fruits",500,12,"Spécialité achat continu","Article actif"]
[743856,"Mousseux","08016104233703","Nino Franco Prosecco di Valdobbiadene mousseux",375,12,"Spécialité achat continu","Article actif"]
[743872,"Produits du Terroir","00841125075012","Domaine Lafrance cidre de glace",200,12,"Spécialité achat continu","Article actif"]
[743989,"Vin rg Québec","00827924036065","William vin rouge",750,12,"Spécialité achat continu","Article actif"]
[744169,"Vin bl Québec","00827924036058","William vin blanc",750,12,"Spécialité achat continu","Article actif"]
[744359,"Produits du Terroir","00827924036072","L'Adélard vin blanc au sirop d'érable",500,12,"Spécialité achat continu","Article actif"]
[744367,"Produits du Terroir","00841125075074","Neige Première cidre de glace Face Cachée de la Pomme",375,12,"Courant achat continu","Article actif"]
[744805,"Vin rg Portugal","05603792001399","Quinta dos Roques Dâo",750,12,"Spécialité achat continu","Article actif"]
[747816,"Vin rg France Sud-Ouest","03515780000128","Château Laffitte-Teston vieilles vignes Madiran",750,12,"Spécialité achat continu","Article actif"]
[851600,"Vin rg France Languedoc","03248840303098","Domaine Cazes Marie-Gabrielle Côtes du Roussillon",750,12,"Spécialité achat continu","Article actif"]
[852129,"Vin rg France Bordeaux","03760086380027","Château Puy-Landry Castillon Côtes de Bordeaux",750,12,"Spécialité achat continu","Article actif"]
[852434,"Vin bl France Val de Loire","03453560101002","Morogues Menetou-Salon",750,12,"Spécialité achat continu","Article actif"]
[853390,"Vin rg Chili","07804320510163","Pinot noir Casillero del Diablo Casablanca/Rappel",750,12,"Courant achat continu","Article actif"]
[853408,"Vin bl Chili","07804320143965","Chardonnay/Pinot gr./Pinot bl. Trio Reserva Valle Casablanca",750,12,"Spécialité achat continu","Article actif"]
[854422,"Vin rg Espagne","08412075050231","Monasterio de Las Vinas Reserva Carinena",750,12,"Courant achat continu","Article actif"]
[854489,"Vin bl France Val de Loire","00642268000974","Ch.Chasseloir Ceps Centenaires Muscadet-Sèvre et Maine sur li",750,12,"Spécialité achat continu","Article actif"]
[854562,"Vin bl Italie autres régions","08015674910663","Chardonnay/Sauvignon  Fumaio Banfi Toscana i.g.t.",750,12,"Spécialité achat continu","Article actif"]
[855007,"Vin rg Espagne","08414542100104","Muga Reserva Rioja",750,12,"Spécialité achat continu","Article actif"]
[855833,"Produits du Terroir","00063829999016","Bouquet Printanier Intermiel hydromel",750,12,"Spécialité achat continu","Article actif"]
[856484,"Vin rg Italie Toscane","08016118121058","Fonterutoli Mazzei Chianti Classico",750,12,"Spécialité achat continu","Article actif"]
[856567,"Vin rg États-Unis","00657891700207","Cabernet-Sauvignon Liberty School Paso Robles Californie",750,12,"Courant achat continu","Article actif"]
[856575,"Vin rg France Sud-Ouest","03372220100004","Château Bouscassé Madiran",750,12,"Spécialité achat continu","Article actif"]
[856997,"Vin rg France autres régions","03279983030091","Cuvée Gastronomie Jean Perrier Pinot noir Vin de Savoie",750,12,"Spécialité achat continu","Article actif"]
[857177,"Vin rg France Sud-Ouest","03499290000017","Clos la Coutale Cahors",750,12,"Courant achat continu","Article actif"]
[858209,"Whisky Ecosse","05016817002040","Té Bheag unchilfiltered Gaelic scotch blended",700,6,"Spécialité achat continu","Article actif"]
[858324,"Vin bl France Sud-Ouest","03760090284212","Château Tour des Gendres Cuvée des Conti Bergerac sec",750,12,"Spécialité achat continu","Article actif"]
[858886,"Vin bl France Val de Loire","03484932222452","Domaine des Aubuisières Cuvée de Silex Vouvray",750,12,"Spécialité achat continu","Article actif"]
[859157,"Vin rg États-Unis","00081908635471","Petite Sirah Conservancy Concannon Livermore Valley",750,12,"Spécialité achat continu","Article actif"]
[860189,"Vin bl Espagne","08414542040134","Muga Rioja",750,12,"Spécialité achat continu","Article actif"]
[860429,"Vin rg Argentine","07792319968944","Malbec Bodega Norton Barrel Select Mendoza",750,12,"Courant achat continu","Article actif"]
[860627,"Vin rg Italie Toscane","08002366100938","Lucente La Vite Toscana i.g.t.",750,12,"Spécialité achat continu","Article actif"]
[860668,"Vin bl divers pays","05998830730431","Furmint Tokaji Château Pajzos",750,12,"Spécialité achat continu","Article actif"]
[860890,"Vin rg États-Unis","00049331002307","Pinot noir La Crema Sonoma Coast Californie",750,12,"Spécialité achat continu","Article actif"]
[861575,"Vin bl France Val de Loire","03476980000038","Clos de La Briderie Touraine Mesland",750,12,"Spécialité achat continu","Article actif"]
[861856,"Vin bl divers pays","05201021640755","Agioritikos Tsantali vins de pays Thessalikos",750,6,"Spécialité achat continu","Article actif"]
[862078,"Vin rg Italie autres régions","08032853729113","Jorio Umani Ronchi Montepulciano d'Abruzzo",750,12,"Courant achat continu","Article actif"]
[862086,"Vin rg France Bordeaux","03358251220003","Château Bujan côtes-de-bourg Côtes de Bourg",750,12,"Spécialité achat continu","Article actif"]
[862110,"Vin rg Italie Vénétie","08004645305102","Tommasi Ripasso Valpolicella Superiore Classico",750,12,"Courant achat continu","Article actif"]
[862904,"Vin rg France Sud-Ouest","03372961900901","Château Lamartine Cuvée Particulière Cahors",750,12,"Spécialité achat continu","Article actif"]
[862953,"Vin rg États-Unis","00010986007436","Cabernet-Sauvignon Kenwood Yulupa Sonoma Californie",750,12,"Spécialité achat continu","Article actif"]
[863654,"Vin rg États-Unis","00739958974001","Cab.-Sauv. Claret Coppola Diamond Black Label",750,12,"Courant achat continu","Article actif"]
[864249,"Vin rg France Bordeaux","03760070900040","Château Montaiguillon Montagne-Saint-Emilion",750,12,"Spécialité achat continu","Article actif"]
[864546,"Vin rg France Languedoc","03294910512426","Château Les Pins Côtes du Roussillon Villages",750,12,"Spécialité achat continu","Article actif"]
[864678,"Vin rg Chili","00608057104919","Syrah Max Reserva Errazuriz valle de Aconcagua",750,12,"Courant achat continu","Article actif"]
[864801,"Vin rg États-Unis","00087110312773","Syrah EXP Californie",750,12,"Courant achat continu","Article actif"]
[866400,"Vin rg France Bordeaux","03760041211069","Château La Papeterie Montagne-Saint-Emilion",750,12,"Spécialité achat continu","Article actif"]
[868729,"Vin rg Espagne","08420347292494","Baron de Ley Reserva Rioja",750,12,"Spécialité achat continu","Article actif"]
[869784,"Vin bl France Bourgogne","03760002911120","Bourgogne Hautes Côtes de Beaune Clos de la Chaise Dieu",750,12,"Courant achat continu","Article actif"]
[869800,"Vin rg France Bourgogne","03760002915128","Mercurey premier cru Les Puillets Philippe-le-Hardi",750,12,"Spécialité achat continu","Article actif"]
[871277,"Mousseux","03342000117515","Prestige Moingeon Brut Crémant de Bourgogne mousseux",750,12,"Spécialité achat continu","Article actif"]
[871939,"Produits du Terroir","00622837006057","St-Nicolas Cidrerie St-Nicolas cidre de glace",375,12,"Spécialité achat continu","Article actif"]
[872796,"Vin rg France Vallée du Rhône","03338693320028","Montirius Le Village Vacqueyras",750,12,"Spécialité achat continu","Article actif"]
[873257,"Vin rg France Val de Loire","03760089874103","Expression Alain Lorieux Chinon",750,12,"Spécialité achat continu","Article actif"]
[874891,"Vin rg Chili","07804320753300","Pinot noir Cono Sur Reserve valle de Casablanca",750,12,"Courant achat continu","Article actif"]
[875088,"Vin rg États-Unis","00657891709101","Treana Paso Robles Californie",750,6,"Spécialité achat continu","Article actif"]
[875096,"Vin bl États-Unis","00657891710114","Marsanne/Viognier Treana Central Coast Californie",750,6,"Spécialité achat continu","Article actif"]
[879445,"Vin rg Italie Vénétie","00641734000012","Zenato Amarone della Valpolicella Classico",750,12,"Spécialité achat continu","Article actif"]
[882381,"Vin bl France Bourgogne","03760089470015","Mâcon Uchizy G. & P. Talmard",750,12,"Spécialité achat continu","Article actif"]
[882696,"Vin rg Portugal","05601157224810","Vinho regional Terras do Dao D. Fuas Reserva",750,12,"Spécialité achat continu","Article actif"]
[882761,"Vin rg Espagne","00745641055001","Conde de Valdemar Reserva Rioja",750,12,"Spécialité achat continu","Article actif"]
[883033,"Vin bl Espagne","08423309011003","Genoli Rioja",750,12,"Spécialité achat continu","Article actif"]
[883942,"Produits du Terroir","00841125071014","Légende d'Automne Les Vergers Lafrance cidre tranquille",750,12,"Courant achat continu","Article actif"]
[884270,"Mousseux","08005829383206","Bottega moscato Petalo Il Vino dell'Amore mousseux",750,12,"Spécialité achat continu","Article actif"]
[884551,"Produits du Terroir","00859810000126","MarieClos Ferme Apicole Desrochers hydromel framboises",750,12,"Spécialité achat continu","Article actif"]
[884569,"Produits du Terroir","00859810000218","Envolée Ferme Apicole Desrochers hydromel",750,12,"Spécialité achat continu","Article actif"]
[884882,"Produits du Terroir","00858666000014","Ferme Guy Rivest mistelle de fraise",375,12,"Spécialité achat continu","Article actif"]
[888578,"Vin rg France Bordeaux","03760066210030","Château La Raz Caman Premières Côtes de Blaye",750,12,"Spécialité achat continu","Article actif"]
[889899,"Vin rg France Bordeaux","03760089150108","Château des Tourtes Blaye Côtes de Bordeaux",750,12,"Spécialité achat continu","Article actif"]
[892406,"Vin rg France Bordeaux","03391263012013","Château Treytins Lalande-de-Pomerol",750,12,"Spécialité achat continu","Article actif"]
[892695,"Vin rg France Bordeaux","03576711012214","Château des Seigneurs de Pommyers Bordeaux",750,12,"Spécialité achat continu","Article actif"]
[895946,"Vin bl France Languedoc","03357780000421","Viognier Domaine Cazal Viel Pays d'Oc IGP",750,12,"Spécialité achat continu","Article actif"]
[896233,"Vin rg France Languedoc","03352264371141","Pont Neuf vin de pays du Gard",750,12,"Spécialité achat continu","Article actif"]
[896282,"Vin rg France Bordeaux","03245456345344","Château L'Escart 'Julien' Bordeaux supérieur",750,12,"Spécialité achat continu","Article actif"]
[896308,"Vin rg France Languedoc","03569401000516","Domaine La Croix d'Aline Saint-Chinian",750,12,"Spécialité achat continu","Article actif"]
[896514,"Vin rg France Languedoc","03367091031120","Château Étang des Colombes Bois des Dames Corbières",750,6,"Spécialité achat continu","Article actif"]
[896720,"Vin bl France autres régions","00814320000011","Château de Ripaille Vin de Savoie",750,12,"Spécialité achat continu","Article actif"]
[897124,"Vin rg États-Unis","00690171001090","Syrah Terre Rouge Les Côtes de l'Ouest Californie",750,12,"Spécialité achat continu","Article actif"]
[897132,"Vin rg États-Unis","00690171101080","Zinfandel Terre Rouge Easton Amador County  Californie",750,12,"Spécialité achat continu","Article actif"]
[897215,"Vin bl États-Unis","00089819055098","Chardonnay Château St-Jean Sonoma Californie",750,12,"Courant achat continu","Article actif"]
[897512,"Vin rg Portugal","05604424104037","Quinta das Setencostas Alenquer",750,12,"Courant achat continu","Article actif"]
[897686,"Vin rg Italie Vénétie","08006150000350","Rosso del Camul Veneto i.g.t.",750,12,"Spécialité achat continu","Article actif"]
[898296,"Vin rg Italie Sicile Sardaigne","08020735007008","La Segreta Planeta Sicilia i.g.t.",750,12,"Spécialité achat continu","Article actif"]
[898502,"Vin rg Australie","09300727140517","Shiraz Reserve Jacob's Creek Barossa",750,12,"Courant achat continu","Article actif"]
[898809,"Vin rg Espagne","08420455122201","Campillo Reserva Rioja",750,12,"Spécialité achat continu","Article actif"]
[902353,"Vin rg Australie","09311789081847","Grenache Yalumba Bush Vine Barossa",750,12,"Spécialité achat continu","Article actif"]
[902965,"Vin rg Espagne","08437000100034","Laguna de la Nava Gran Reserva Valdepeñas",750,12,"Courant achat continu","Article actif"]
[902973,"Vin rg Espagne","08437000100003","Tempranillo Laguna de la Nava Reserva Valdepeñas",750,12,"Spécialité achat continu","Article actif"]
[903005,"Vin rg États-Unis","00017444000213","Cabernet-Sauvignon Pepperwood Grove Californie",750,12,"Courant achat continu","Article actif"]
[903013,"Vin rg États-Unis","00017444000275","Merlot Pepperwood Grove Californie",750,12,"Spécialité achat continu","Article actif"]
[903112,"Vin bl États-Unis","00710909710107","Chardonnay Mer Soleil Californie",750,12,"Spécialité achat continu","Article actif"]
[903245,"Vin rg États-Unis","00089819001972","Pinot noir Beringer Founders' Estate Californie",750,12,"Courant achat continu","Article actif"]
[903567,"Vin rg petits formats","00089121288115","Cabernet-Sauvignon J. Lohr Seven Oaks Paso Robles",375,12,"Courant achat continu","Article actif"]
[904102,"Vin rg divers pays","05285000380795","Massaya Sélection de Tanail vallée de Bekaa",750,12,"Spécialité achat continu","Article actif"]
[907477,"Vin rg Italie Vénétie","08015822000178","Palazzo della Torre Allegrini Veronese i.g.t.",750,12,"Spécialité achat continu","Article actif"]
[907543,"Vin rg Italie Vénétie","00641734000081","Zenato Bardolino",750,12,"Spécialité achat continu","Article actif"]
[907568,"Vin rg petits formats","08007425000150","Nipozzano Riserva Frescobaldi Chianti Rùfina",375,12,"Spécialité achat continu","Article actif"]
[908004,"Vin bl Italie Vénétie","08029001000149","Inama Soave Classico",750,12,"Spécialité achat continu","Article actif"]
[908186,"Vin rg Italie Vénétie","00641734000074","Zenato Valpolicella Superiore",750,12,"Courant achat continu","Article actif"]
[908269,"Vin rg Italie Vénétie","00745163232102","Montecorna Ripasso Farina Valpolicella Classico Superior",750,12,"Spécialité achat continu","Article actif"]
[908954,"Vin rg Italie autres régions","08028938012089","La Cuvée dell'Abate Zaccagnini Montepulciano d'Abruzzo",750,12,"Spécialité achat continu","Article actif"]
[909473,"Produits du Terroir","00890086000045","Cep d'argent Mistral+Fleur de lys+Archer (3x250ml) empilable",750,6,"Spécialité achat continu","Article actif"]
[912311,"Vin rg France Languedoc","03186127769819","Devois des Agneaux d'Aumelas Coteaux du Languedoc",750,12,"Spécialité achat continu","Article actif"]
[912469,"Vin bl France Languedoc","03497120000107","Viognier Château de Gourgazaud vin de pays d'Oc",750,12,"Spécialité achat continu","Article actif"]
[912816,"Vin rg France Languedoc","03527610000024","Chemin de Roubia Grotti Mestre Minervois",750,12,"Spécialité achat continu","Article actif"]
[912824,"Vin bl petits formats","03185130071070","Pinot gris Pfaffenheim alsace",375,12,"Spécialité achat continu","Article actif"]
[913186,"Vin rg France Languedoc","03760040420394","Château Paul Mas Clos des Mûres Coteaux du Languedoc",750,12,"Spécialité achat continu","Article actif"]
[913434,"Vin rg France Languedoc","00057496002643","La Réserve de Bubas Corbières",750,12,"Courant achat continu","Article actif"]
[913970,"Vin de Dessert","03433813002003","Château Jolys Cuvée Jean Jurançon",750,12,"Spécialité achat continu","Article actif"]
[914127,"Vin rg France Sud-Ouest","03540320130751","Château Montauriol tradition Fronton",750,12,"Courant achat continu","Article actif"]
[914200,"Vin rg France Languedoc","03352560000103","La Sauvageonne Les Ruffes Coteaux du Languedoc",750,12,"Spécialité achat continu","Article actif"]
[914218,"Vin rg France Languedoc","03760037011482","Ponant vin de pays des Côtes de Thongue",750,12,"Spécialité achat continu","Article actif"]
[914275,"Vin rg France Languedoc","03496650000052","Château Coupe Roses Les Plots Minervois",750,12,"Spécialité achat continu","Article actif"]
[914408,"Vin rg petits formats","03760070900057","Château Montaiguillon Montagne-Saint-Emilion",375,12,"Spécialité achat continu","Article actif"]
[914424,"Vin bl France Alsace","03185130055964","Riesling Cuvée Jupiter Pfaffenheim Alsace",750,12,"Courant achat continu","Article actif"]
[917823,"Vin rg France Vallée du Rhône","00838541000322","Château Signac Combe d'Enfer Côtes du Rhône Villages",750,12,"Spécialité achat continu","Article actif"]
[918243,"Vin bl France Val de Loire","03149070021830","Louis Roche Saumur",750,12,"Spécialité achat continu","Article actif"]
[919316,"Vin rg France Bordeaux","03760135980017","Château Gaillard Saint-Emilion grand cru",750,12,"Spécialité achat continu","Article actif"]
[919324,"Vin rg France Sud-Ouest","03365584137519","Château de Gaudou Tradition Cahors",750,12,"Spécialité achat continu","Article actif"]
[919373,"Vin rg France Bordeaux","03760035962113","Château Cailleteau Bergeron Premières Côtes de Blaye",750,12,"Spécialité achat continu","Article actif"]
[927707,"Vin rg Italie autres régions","-","Sangiovese/Cab.-Sauv. Liano Umberto Cesari Rubicone i.g.t.",750,6,"Courant achat continu","Article en écoulement"]
[927814,"Vin rg divers pays","05281108010015","Clos St-Thomas Les Gourmets Vallée de Bekaa",750,12,"Spécialité achat continu","Article actif"]
[927822,"Vin rg divers pays","05281108010046","Clos St-Thomas Les Émirs vallée de Bekaa",750,12,"Spécialité achat continu","Article actif"]
[928440,"Vin rg Espagne","00022851208015","Montecillo Reserva Rioja",750,12,"Spécialité achat continu","Article actif"]
[928523,"Vin bl Québec","00827924037024","Vent d'Ouest Domaine du Ridge Vignoble St-Armand vin blanc",750,12,"Spécialité achat continu","Article actif"]
[928739,"Vin rg Italie Sicile Sardaigne","08002010689925","Nero d'Avola Rapitala Sicilia i.g.t.",750,12,"Spécialité achat continu","Article actif"]
[928853,"Vin rg Chili","07804407000105","Ninquen Moutain Vineyard Colchagua",750,6,"Spécialité achat continu","Article actif"]
[935833,"Vin bl divers pays","06001660003824","Chardonnay Boschendal Western Cape",750,12,"Spécialité achat continu","Article actif"]
[947184,"Vin rg France Sud-Ouest","03275843090021","Château de Haute-Serre Cahors",750,12,"Spécialité achat continu","Article actif"]
[950378,"Produits du Terroir","00063829999030","Verge d'Or Intermiel hydromel",750,12,"Spécialité achat continu","Article actif"]
[952705,"Vin rg France Vallée du Rhône","00664605310034","Cave de Rasteau Prestige Ortas Rasteau Côtes du Rhône Village",750,12,"Spécialité achat continu","Article actif"]
[953091,"Apéritif","00087236411015","Lillet apéritif à base de vin blanc",750,12,"Spécialité achat continu","Article actif"]
[961185,"Vin rg France Beaujolais","03454100262412","Morgon Les Charmes Louis Tête",750,12,"Spécialité achat continu","Article actif"]
[962316,"Vin bl France Val de Loire","03382250000458","St-Florent Domaine Langlois- Château Saumur",750,12,"Spécialité achat continu","Article actif"]
[962589,"Vin rg France Bourgogne","00011373002799","Mercurey Château de Chamirey Marquis de Jouennes",750,12,"Spécialité achat continu","Article actif"]
[963355,"Vin bl France Val de Loire","03281769875017","Domaine des Fines Caillottes Pouilly-Fumé",750,12,"Spécialité achat continu","Article actif"]
[963389,"Vin rg Italie Toscane","08003015700127","Cabernet-Sauvignon Farnito Carpineto Toscana i.g.t.",750,6,"Courant achat continu","Article actif"]
[964569,"Vin rg Italie Vénétie","08016963000041","Campolieti Ripasso Valpo Superiore Classico",750,12,"Spécialité achat continu","Article actif"]
[964593,"Vin rg Italie autres régions","08004305000071","Mezzacorona Reserva Teroldego Rotaliano",750,12,"Spécialité achat continu","Article actif"]
[964601,"Vin bl Italie autres régions","00632987111112","Pinot grigio Santa Margherita Valdadige",750,12,"Courant achat continu","Article actif"]
[966135,"Vin rg France Languedoc","03292770799810","Château Dona Baissas v.v. Côtes du Roussillon Villages",750,12,"Spécialité achat continu","Article actif"]
[966804,"Vin rg France Bourgogne","03535923060000","Pinot noir Bourgogne Couvent des Jacobins Louis Jadot",750,12,"Spécialité achat continu","Article actif"]
[966937,"Vin rg France Vallée du Rhône","03583273753332","Château de l'Isolette Côtes du Lubéron",750,12,"Spécialité achat continu","Article actif"]
[967307,"Vin rg France Bordeaux","03539301094113","Château Lamothe de Haux Côtes de Bordeaux",750,12,"Spécialité achat continu","Article actif"]
[968214,"Vin bl France Alsace","03499057550007","Pinot gris Léon Beyer Alsace",750,12,"Spécialité achat continu","Article actif"]
[969097,"Vin rg Afrique du Sud","06001496309541","Cabernet-Sauvignon Fleur du Cap Coastal Region",750,12,"Courant achat continu","Article actif"]
[972216,"Vin rg Italie Vénétie","08019171000056","Capitel San Rocco Tedeschi Valpolicella Ripasso Superiore",750,12,"Spécialité achat continu","Article actif"]
[972489,"Vin rg France Sud-Ouest","03242160381170","Château Les Bouysses Cahors",750,12,"Spécialité achat continu","Article actif"]
[972646,"Vin rg France Languedoc","03497120000213","Château de Gourgazaud Réserve Minervois-La Livinière",750,12,"Spécialité achat continu","Article actif"]
[972661,"Vin rg France Languedoc","03119460000295","Château de Jau Côtes du Roussillon Villages",750,12,"Courant achat continu","Article actif"]
[973057,"Vin rg France Bordeaux","03448940002284","Château La Croix des Moines Lalande-de-Pomerol",750,12,"Spécialité achat continu","Article actif"]
[974477,"Vin bl France Val de Loire","03507921200115","Chavet Menetou-Salon",750,12,"Spécialité achat continu","Article actif"]
[974741,"Vin rg Italie Vénétie","00641734000036","Ripassa Zenato Valpolicella Superiore",750,12,"Courant achat continu","Article actif"]
[976183,"Vin rg Italie Vénétie","08016963000010","Luigi Righetti Amarone della Valpolicella Classico",750,12,"Spécialité achat continu","Article actif"]
[977025,"Vin rg France Val de Loire","03476980000014","Clos de La Briderie Touraine Mesland",750,12,"Spécialité achat continu","Article actif"]
[977769,"Vin bl France Val de Loire","03515250001112","Domaine du Salvard Cheverny",750,12,"Spécialité achat continu","Article actif"]
[978072,"Vin rg France Bordeaux","03391262012014","Château Garraud Lalande-de-Pomerol",750,12,"Spécialité achat continu","Article actif"]
[978189,"Vin rg France Languedoc","03289720023507","Château du Grand Caumont Impatience Corbières",750,12,"Spécialité achat continu","Article actif"]
[978387,"Vin rg Espagne","08410310602757","Tempranillo Hoya de Cadenas Reserva Utiel-Requena",750,12,"Courant achat continu","Article actif"]
[978866,"Vin rg Espagne","08423339965338","Condado de Haza Ribera del Duero",750,12,"Spécialité achat continu","Article actif"]
[978874,"Vin rg Italie Toscane","08003015700530","Dogajolo Carpineto Toscana i.g.t.",750,12,"Courant achat continu","Article actif"]
[979062,"Vin de Dessert","08002365014311","Nivole Michele Chiarlo Moscato d'Asti",375,12,"Courant achat continu","Article actif"]
[10202095,"Vin rg Italie Vénétie","08002062001690","Serego Alighieri Possessioni Masi rosso del Veronese i.g.t.",750,12,"Courant achat continu","Article actif"]
[10210651,"Crème","00085592149955","Téquila Rose boisson à la crème et fraise",750,12,"Courant achat continu","Article actif"]
[10214133,"Produits du Terroir","00837294000122","Rose et épines vin de miel mûres et pétales de rose",750,12,"Spécialité achat continu","Article actif"]
[10220269,"Produits du Terroir","00827924004057","L'Orpailleur Vignoble de l'Orpailleur vin de glace",200,12,"Spécialité achat continu","Article actif"]
[10220373,"Vin rg Québec","00827924037062","Clos du Maréchal Domaine du Ridge vin rouge",750,12,"Spécialité achat continu","Article actif"]
[10220411,"Produits du Terroir","00827924041052","La Mission Vignoble La Mission vin de glace",375,12,"Spécialité achat continu","Article en écoulement"]
[10220445,"Produits du Terroir","00841125075128","Le Glacé Les Vergers de la Colline cidre de glace",375,12,"Spécialité achat continu","Article actif"]
[10230555,"Vin bl Italie Vénétie","08004645365106","Pinot grigio Le Rosse Delle Venezie i.g.t.",750,12,"Spécialité achat continu","Article actif"]
[10230643,"Produits du Terroir","00841125075135","Verger de glace Cidrerie Pomme du St-Laurent cidre de glace",375,12,"Spécialité achat continu","Article actif"]
[10231128,"Produits du Terroir","00871830001013","Cassius Ferme Pérignon crème de cassis",500,12,"Spécialité achat continu","Article actif"]
[10233027,"Produits du Terroir","00840904010022","Frasil Ferme Nord-Vie mistelle de fraise",375,12,"Spécialité achat continu","Article actif"]
[10233060,"Produits du Terroir","00840904010015","Fragaria Ferme Nord-Vie apéritif de fraise",500,12,"Spécialité achat continu","Article actif"]
[10233861,"Produits du Terroir","00772039002040","Joie d'automne Dubé Cidrerie du Village cidre mousseux",750,12,"Spécialité achat continu","Article actif"]
[10234151,"Produits du Terroir","00841125071083","Les Vergers Petit & Fils cidre tranquille",750,12,"Spécialité achat continu","Article actif"]
[10234353,"Produits du Terroir","00628378000028","Grand Esprit boisson alcoolique au sirop d'érable",500,12,"Spécialité achat continu","Article actif"]
[10237458,"Vin rg Portugal","05601332007238","Duas Quintas Ramos-Pinto Douro",750,12,"Courant achat continu","Article actif"]
[10240075,"Cooler","00620213270009","Bacardi Breezer Orange Smoothie (4 x 330 ml) cooler",330,24,"Courant achat continu","Article actif"]
[10240956,"Bière","05741000193006","Faxe Premium bière type lager (canette)",500,24,"Courant achat continu","Article actif"]
[10240972,"Bière","05741000007624","Faxe Extra Strong bière type lager (canette)",500,24,"Courant achat continu","Article actif"]
[10242839,"Vin rg grands formats","00057496242834","Merlot Murari Delle Venezie i.g.t. rouge",4000,4,"Courant achat continu","Article actif"]
[10243938,"Produits du Terroir","00063829999092","Gélinotte Intermiel boisson alcoolique d'érable",750,12,"Spécialité achat continu","Article en écoulement"]
[10249061,"Vin bl divers pays","05204222575017","Domaine Gerovassiliou vin de pays d'Epanomi",750,12,"Spécialité achat continu","Article actif"]
[10251348,"Vin rg Italie Toscane","00088586002755","Villa Antinori Toscana i.g.t.",750,12,"Courant achat continu","Article actif"]
[10251786,"Apéritif","05285000010555","Arak Al Shallal alcool anisé",750,12,"Spécialité achat continu","Article actif"]
[10253351,"Vin rg États-Unis","00769434122268","Zinfandel Cardinal Zin Californie",750,12,"Courant achat continu","Article actif"]
[10253440,"Vin rg Italie Toscane","00618109777510","Rocca Guicciarda Riserva Chianti Classico",750,12,"Spécialité achat continu","Article actif"]
[10253651,"Vin rg Espagne","08437001429301","Tempranillo/Cab.-Sauv. Fontal Crianza La Mancha",750,12,"Spécialité achat continu","Article actif"]
[10254012,"Gin","00083664990436","Hendrick's dry gin",750,12,"Courant achat continu","Article actif"]
[10254039,"Eau-de-vie","07802110840254","Pisco Capel Reservado Moai eau-de-vie de fruit",750,6,"Spécialité achat continu","Article actif"]
[10255939,"Vin rg France Vallée du Rhône","03760149591018","Château Pesquié Terrasses Ventoux",750,12,"Spécialité achat continu","Article actif"]
[10258486,"Vin rg France Bordeaux","03569190000971","Château de Seguin Cuvée Prestige Bordeaux supérieur",750,12,"Spécialité achat continu","Article actif"]
[10258638,"Vin bl France Sud-Ouest","03584692330067","Château Calabre Montravel",750,12,"Spécialité achat continu","Article actif"]
[10258937,"Vin rg France Bordeaux","00083729003583","Château La Grange Clinet Premières Côtes de Bordeaux",750,12,"Spécialité achat continu","Article actif"]
[10259753,"Vin rg France Vallée du Rhône","03760087400038","Château Mourgues Grès Galets Rouges Costières de Nîmes",750,12,"Spécialité achat continu","Article actif"]
[10259788,"Vin rg France Vallée du Rhône","03345120613196","Jérôme Quiot  du Vieux Lazaret Ventoux",750,12,"Spécialité achat continu","Article actif"]
[10259876,"Vin rg France Vallée du Rhône","03391181031233","Les Meysonniers Chapoutier Crozes-Hermitage",750,12,"Spécialité achat continu","Article actif"]
[10263242,"Vin rosé","08410406611007","Marqués de Caceres Rioja rosé",750,12,"Courant achat continu","Article actif"]
[10263592,"Vin rosé","00878448000087","Le rosé de Mouton Cadet Bordeaux rosé",750,12,"Courant achat continu","Article en écoulement"]
[10263891,"Whisky","00080244009236","Buffalo Trace Kentucky Bourbon whisky américain",750,12,"Courant achat continu","Article actif"]
[10264018,"Vin bl Espagne","08420759900017","Basa Rueda",750,12,"Spécialité achat continu","Article actif"]
[10264860,"Vin rg France Bordeaux","03760086380089","Vieux Château Champs de Mars Côtes de Castillon",750,12,"Spécialité achat continu","Article actif"]
[10265061,"Vin bl France Languedoc","00635335110836","Viognier Domaine les Salices vin de pays d'Oc",750,12,"Spécialité achat continu","Article actif"]
[10267809,"Vin bl France Val de Loire","03443094211308","Marc Brédif Vouvray",750,12,"Spécialité achat continu","Article actif"]
[10268588,"Vin rg France Languedoc","03455840613021","Bronzinelle Coteaux du Languedoc",750,12,"Spécialité achat continu","Article actif"]
[10269151,"Vin bl France Bordeaux","03468178931026","Château Sainte-Marie vieilles vignes Entre-Deux-Mers",750,12,"Spécialité achat continu","Article actif"]
[10269388,"Vin rg Portugal","05604424178007","Vinho regional Lisboa Quinta de Bons-Ventos",750,12,"Courant achat continu","Article actif"]
[10269572,"Bière","05411276100502","Floreffe Double bière type ale",330,24,"Spécialité achat continu","Article actif"]
[10269599,"Bière","04006770119054","Fürstenberg Weizen Hefe Dunkel bière",500,20,"Spécialité achat continu","Article actif"]
[10269652,"Bière","05411676800408","Blanche de Bruxelles bière blanche",330,24,"Spécialité achat continu","Article actif"]
[10269783,"Bière","05411676301707","1/2 Mètre de bière: 8 bières belges de 330 ml",2640,3,"Spécialité achat continu","Article actif"]
[10270434,"Vin bl États-Unis","00089121068823","Chardonnay Riverstone J. Lohr Arroyo Seco Monterey",750,12,"Courant achat continu","Article actif"]
[10270442,"Vin rg Italie Vénétie","08000160632402","Folonari Valpolicella",750,12,"Courant achat continu","Article actif"]
[10270477,"Vin rg petits formats","08000160632419","Folonari Valpolicella",375,24,"Courant achat continu","Article actif"]
[10270717,"Porto","05602660001967","Cabral Carácter Reserva",750,12,"Courant achat continu","Article actif"]
[10270733,"Porto","05602660001950","Cabral Branco Fino Porto blanc",750,12,"Courant achat continu","Article actif"]
[10270741,"Porto","05602660001974","Cabral tawny 10 ans",750,12,"Courant achat continu","Article actif"]
[10270881,"Vin rg Espagne","08410869450014","Marqués de Riscal Reserva Rioja",750,12,"Spécialité achat continu","Article actif"]
[10270928,"Vin rg Italie Toscane","08001935001607","Peppoli Antinori Chianti Classico",750,12,"Spécialité achat continu","Article actif"]
[10271904,"Vin rg Italie Vénétie","00400009959109","Farina Amarone della Valpolicella Classico",750,12,"Spécialité achat continu","Article actif"]
[10271939,"Vin rg Italie Toscane","08003015700936","Dogajolo Carpineto Toscana i.g.t.",1500,6,"Spécialité achat continu","Article actif"]
[10272510,"Vin rg Chili","07804414001171","Cab.-Sauv. Luis Felipe Edwards Gran Reserva Colchagua",750,12,"Courant achat continu","Article actif"]
[10272755,"Vin rg France Languedoc","00829190101089","Château des Estanilles Faugères",750,12,"Spécialité achat continu","Article actif"]
[10273416,"Vin rg France Languedoc","03760040420028","Dom.Paul Mas Cab.-Sauv./Syrah Vignes de Nicole pays d'Oc",750,12,"Spécialité achat continu","Article actif"]
[10274700,"Vin bl Portugal","05600897380039","Morgado de Sta.Catherina Bucelas",750,6,"Spécialité achat continu","Article actif"]
[10276342,"Vin bl Nouvelle-Zélande","09414505957010","Sauvignon blanc Stoneleigh Marlborough",750,12,"Courant achat continu","Article actif"]
[10276692,"Bière","04014388000213","Radeberger Pilsner bière de type lager",500,24,"Spécialité achat continu","Article actif"]
[10285708,"Rhum","00636191113405","Appleton Estate Reserve rhum ambré",750,12,"Courant achat continu","Article en écoulement"]
[10289670,"Produits du Terroir","00622837006156","Le Cidre St-Nicolas Brut cidre fort pétillant",750,12,"Spécialité achat continu","Article actif"]
[10291008,"Produits du Terroir","00859810000072","Cuvée de la Diable Desrochers hydromel liquoreux",375,12,"Spécialité achat continu","Article actif"]
[10293169,"Vin rg Canada","00871610001554","Osoyoos Larose Le Grand Vin Okanagan Valley",750,6,"Spécialité achat continu","Article actif"]
[10304041,"Vin rg Italie Sicile Sardaigne","08003545995482","Nero d'Avola Lamura Terre Siciliane i.g.t.",750,12,"Courant achat continu","Article en écoulement"]
[10304673,"Produits du Terroir","00897286000035","Elie-Anne Domaine Le Clos des Brumes hydromel",500,12,"Spécialité achat continu","Article actif"]
[10311662,"Vin bl États-Unis","00728817199600","Black & Gold Gekkeikan sake",750,6,"Spécialité achat continu","Article actif"]
[10312235,"Produits du Terroir","00854745000173","Domaine Pinnacle cidre de glace",50,48,"Spécialité achat continu","Article actif"]
[10312382,"Vin bl États-Unis","00739958984208","Chardonnay Francis Coppola Diamond Collection",750,12,"Spécialité achat continu","Article actif"]
[10317415,"Produits du Terroir","00609870006077","Michel Jodoin cidre de glace",375,12,"Spécialité achat continu","Article actif"]
[10318160,"Vin rg Argentine","07790240090154","Malbec Broquel Trapiche Mendoza",750,12,"Courant achat continu","Article actif"]
[10319040,"Produits du Terroir","00827924041076","La Mission Vignoble La Mission Vidal vin de glace",200,12,"Spécialité achat continu","Article actif"]
[10320972,"Produits du Terroir","00841125075197","Les Vergers Petit et Fils cidre de glace",375,12,"Spécialité achat continu","Article actif"]
[10321449,"Vin rg petits formats","03760053560025","Clos la Coutale Cahors",375,24,"Spécialité achat continu","Article actif"]
[10322388,"Bière","05011885003647","Fuller's London Pride bière type ale",500,12,"Spécialité achat continu","Article actif"]
[10322396,"Bière","05011885003661","Fuller's Extra Special ESB Champion Ale bière forte",500,12,"Spécialité achat continu","Article actif"]
[10322409,"Bière","05011885008338","Fuller's London Porter bière",500,12,"Spécialité achat continu","Article actif"]
[10323049,"Rhum","00026964823967","Flor de Cana Centenaire 12 ans rhum ambré",750,12,"Spécialité achat continu","Article actif"]
[10323111,"Whisky","00081128001506","Woodford Kentucky Straight Bourbon whiskey américain",750,6,"Spécialité achat continu","Article actif"]
[10324543,"Vin rg Italie Toscane","08002305008271","Rocca delle Macìe Riserva Chianti Classico",750,12,"Courant achat continu","Article en écoulement"]
[10324615,"Vin bl France Languedoc","03546680019149","3 Grappes Blanches De La Chevalière Pays d'Oc IGP",750,12,"Courant achat continu","Article actif"]
[10324623,"Vin rg Espagne","08412423120036","Borsao Seleccion Campo de Borja",750,12,"Courant achat continu","Article actif"]
[10326004,"Champagne","03185370288672","Ruinart Brut Champagne",750,6,"Spécialité achat continu","Article actif"]
[10327373,"Vin rg Espagne","08429168009106","Tempranillo Canforrales Campos Reales La Mancha",750,12,"Courant achat continu","Article actif"]
[10327630,"Vin rg États-Unis","00088232002610","Cabernet-Sauvignon Sebastiani Sonoma County Californie",750,12,"Spécialité achat continu","Article actif"]
[10327672,"Vin bl Chili","07804320037875","Sauvignon blanc Trio Reserva Concha Toro Casablanca valley",750,12,"Spécialité achat continu","Article actif"]
[10327701,"Vin bl Nouvelle-Zélande","09419227006275","Sauvignon blanc Kim Crawford Marlborough",750,12,"Courant achat continu","Article actif"]
[10327963,"Vin rg Chili","00605913012494","Cabernet-Sauvignon/Merlot La Capitana vallée de Cachapoal",750,12,"Spécialité achat continu","Article actif"]
[10330214,"Liqueur","00057496001004","Caribou boisson apéritive",750,12,"Spécialité achat continu","Article actif"]
[10330337,"Produits du Terroir","00841125075227","Neige Première cidre de glace Face Cachée de la Pomme",50,48,"Spécialité achat continu","Article actif"]
[10330759,"Produits du Terroir","00063829999108","Gélinotte Intermiel boisson alcoolique eau de vie d'érable",375,12,"Spécialité achat continu","Article actif"]
[10331778,"Porto","03147699102435","Cruz Special Reserve ruby",750,12,"Courant achat continu","Article actif"]
[10341247,"Produits du Terroir","00854745000203","Domaine Pinnacle cidre de glace mousseux",375,12,"Courant achat continu","Article actif"]
[10342389,"Vin rg Australie","00012354010062","Merlot The Little Penguin South Eastern Australia",750,12,"Courant achat continu","Article actif"]
[10344675,"Vin rg Australie","00080432344071","Cabernet-Sauvignon Jacob's Creek South Eastern Australia",750,12,"Courant achat continu","Article en écoulement"]
[10345707,"Vin rg Australie","09311910102069","Shiraz/Cab.-S./Merlot Clancy's Peter Lehmann Barossa",750,12,"Courant achat continu","Article actif"]
[10347921,"Liqueur","00087116035003","Sour Puss framboise boisson de fruit",1140,12,"Courant achat continu","Article actif"]
[10348334,"Vin rosé","00087752002544","White Zinfandel Baron Herzog Californie rosé",750,12,"Courant achat continu","Article actif"]
[10348369,"Vin bl États-Unis","00087752002537","Chenin blanc Baron Herzog Clarksburg Californie",750,12,"Spécialité achat continu","Article actif"]
[10348781,"Produits du Terroir","00827924039509","Le Domaine De Lavoie cidre de glace",375,12,"Spécialité achat continu","Article actif"]
[10349839,"Produits du Terroir","00837294000238","Miel-Érable boisson au vin de miel + sirop d'érable hydromel",375,12,"Spécialité achat continu","Article actif"]
[10354005,"Vin bl États-Unis","00769434207200","Big House White Californie",750,12,"Spécialité achat continu","Article actif"]
[10355358,"Vin rg États-Unis","00087110310977","Cabernet-Sauvignon RH Phillips Californie",750,12,"Courant achat continu","Article actif"]
[10355454,"Vin rg États-Unis","00657891799225","Syrah Liberty School Californie",750,12,"Courant achat continu","Article actif"]
[10355526,"Vin rg États-Unis","00739958984406","Syrah Francis Coppola Diamond Series Californie",750,12,"Spécialité achat continu","Article actif"]
[10357329,"Vin bl Espagne","08410113001139","Vina Esmeralda Torres Catalunya",750,12,"Courant achat continu","Article actif"]
[10357994,"Vin rg Espagne","08414756010022","Tempranillo Campobarro Ribera del Guadiana",750,12,"Courant achat continu","Article actif"]
[10359156,"Vin rg Espagne","08412075032350","Monasterio de Las Vinas Gran Reserva Carinena",750,12,"Courant achat continu","Article actif"]
[10359201,"Vin rg Espagne","08411976112109","Laderas de El Seque Alicante",750,12,"Spécialité achat continu","Article actif"]
[10360261,"Vin rg Espagne","08423309213001","Graciano Ijalba Rioja",750,12,"Spécialité achat continu","Article actif"]
[10360317,"Vin rg Espagne","08411580034583","La Vendimia Palacios Remondo Rioja",750,12,"Spécialité achat continu","Article actif"]
[10362380,"Vin rg Espagne","08412423126090","Garnacha Tres Picos Borsao Campo de Borja",750,6,"Spécialité achat continu","Article actif"]
[10368221,"Vin rg France Beaujolais","03424560040004","Beaujolais L'Ancien Terres Dorées",750,12,"Spécialité achat continu","Article actif"]
[10374997,"Vin rg France Languedoc","03546680019415","Pinot noir De La Chevalière vin de pays d'Oc",750,12,"Courant achat continu","Article actif"]
[10379624,"Produits du Terroir","00827924039608","Domaine De Lavoie cidre fort",500,12,"Spécialité achat continu","Article actif"]
[10381661,"Produits du Terroir","00814258000220","Cassis Monna & filles crème de cassis de l'Ile d'Orléans",375,12,"Spécialité achat continu","Article actif"]
[10382081,"Vin rg Italie Toscane","08003545000421","Fontella Chianti",750,12,"Courant achat continu","Article actif"]
[10382639,"Vin bl Nouvelle-Zélande","09418076000304","Sauvignon blanc Saint Clair Marlborough",750,12,"Courant achat continu","Article actif"]
[10383113,"Vin rg Italie autres régions","08032790762105","Podere Castorani Montepulciano Riserva d'Abruzzo Riserva",750,12,"Spécialité achat continu","Article actif"]
[10383691,"Vin bl Nouvelle-Zélande","09415549801604","Chardonnay Oyster Bay Marlborough",750,12,"Courant achat continu","Article actif"]
[10384802,"Bière","00040063175017","Kirin Ichiban Special Premium Reserve bière type lager",650,15,"Spécialité achat continu","Article actif"]
[10387114,"Vin rosé","00063657013670","Jackson-Triggs Proprietors' Selection rosé",750,12,"Courant achat continu","Article actif"]
[10388601,"Vin rg France Bordeaux","03760035961130","Château Cailleteau Bergeron Tradition 1ères Côtes de Blaye",750,12,"Spécialité achat continu","Article actif"]
[10390233,"Vin rg divers pays","07501053160084","Nebbiolo L.A. Cetto Reserva Privada Valle Guadaloupe",750,6,"Spécialité achat continu","Article actif"]
[10390989,"Produits du Terroir","00827924038038","Frio vin blanc doux",375,12,"Spécialité achat continu","Article actif"]
[10394533,"Vin bl Argentine","07790240090277","Sauvignon blanc Astica Trapiche Cuyo",750,12,"Courant achat continu","Article actif"]
[10394664,"Vin rg Argentine","03258691254579","Clos de los Siete Mendoza",750,12,"Spécialité achat continu","Article actif"]
[10394955,"Vin rg Argentine","07791728018134","Shiraz/Malbec Fuzion Zuccardi Mendoza",750,12,"Courant achat continu","Article actif"]
[10395149,"Vin rg France Bordeaux","03371231975038","Château Suau Côtes de Bordeaux",750,12,"Courant achat continu","Article actif"]
[10395309,"Vin rg Argentine","08002062001607","Malbec/Corvina Passo Doble Masi Valle de Uco",750,12,"Courant achat continu","Article actif"]
[10398374,"Vin rg Argentine","00082100113507","Tempranillo Marcus James Mendoza",750,12,"Courant achat continu","Article actif"]
[10398905,"Bière","00652634000019","Orval bière type trappiste",330,24,"Spécialité achat continu","Article actif"]
[10398913,"Bière","00737398016206","Schneider Weisse original bière type ale",500,20,"Spécialité achat continu","Article actif"]
[10400788,"Bière","04006770010276","Fürstenberg Premium Pilsener bière type lager",500,24,"Courant achat continu","Article actif"]
[10400892,"Bière","05411276200905","Floreffe Triple bière d'abbaye",750,12,"Spécialité achat continu","Article actif"]
[10401705,"Vin rg Argentine","07798068480362","Syrah/Bonarda Crios Mendoza",750,12,"Spécialité achat continu","Article actif"]
[10401801,"Produits du Terroir","00896039000926","Domaine Ives Hill Apéritif de cassis boisson cassis",500,12,"Spécialité achat continu","Article actif"]
[10401908,"Produits du Terroir","00840904010039","Racine Barbare Ferme Nord-Vie mistelle de fraise et rhubarbe",375,12,"Spécialité achat continu","Article actif"]
[10403410,"Vin rg Portugal","05603790001193","Chaminé Cortes de Cima Vinho regional Alentejano rouge",750,12,"Courant achat continu","Article actif"]
[10405010,"Vin rg France Languedoc","03760119322048","Le loup blanc Le régal Minervois",750,12,"Spécialité achat continu","Article actif"]
[10419614,"Produits du Terroir","00827924036126","Monde Vignoble Rivière du Chêne vin de glace",375,12,"Spécialité achat continu","Article actif"]
[10427163,"Vin rg Australie","00839743000011","Shiraz Yellow Tail South Eastern Australia",750,12,"Courant achat continu","Article actif"]
[10427171,"Vin bl Australie","00839743000028","Chardonnay Yellow Tail South Eastern Australia",750,12,"Courant achat continu","Article en écoulement"]
[10432376,"Vin rg Portugal","05603016193459","Fontanário de Pegoes Palmela",750,12,"Spécialité achat continu","Article actif"]
[10438727,"Produits du Terroir","00837294000245","Bleu du Québec boisson au vin de miel sirop d'érable bleuets",375,12,"Spécialité achat continu","Article actif"]
[10438778,"Produits du Terroir","00841125075234","Domaine Lafrance Cuvée Spéciale cidre de glace",375,12,"Spécialité achat continu","Article actif"]
[10439404,"Vin bl Italie Vénétie","08002062001652","Pinot grigio Verduzzo Masianco Veneto i.g.t.",750,12,"Courant achat continu","Article actif"]
[10440608,"Produits du Terroir","00841125076033","L'Éden Verger Clément Larivière mistelle de pommes",500,12,"Spécialité achat continu","Article actif"]
[10446962,"Vin rg Italie autres régions","00818276000248","Sangiovese Tauleto Cesari Rubicone i.g.t.",750,6,"Spécialité achat continu","Article actif"]
[10454882,"Liqueur","08008310072702","Fragoli avec fraises de bois Toschi liqueur de fruit",500,12,"Spécialité achat continu","Article actif"]
[10457303,"Vodka et Alcool","00057496000496","Kamouraska vodka",1750,6,"Courant achat continu","Article en écoulement"]
[10457426,"Brandy et Cognac","00057496000380","Global cognac V.S.",1750,6,"Spécialité achat continu","Article en écoulement"]
[10457928,"Produits du Terroir","00841125075272","Domaine Lafrance cidre de glace",50,24,"Spécialité achat continu","Article actif"]
[10463631,"Vin rg Espagne","08412423120487","Borsao Crianza Campo de Borja",750,12,"Courant achat continu","Article actif"]
[10472386,"Produits du Terroir","00841125076026","L'Ensorceleuse mistelle de pomme",375,12,"Spécialité achat continu","Article actif"]
[10472482,"Produits du Terroir","00841125075319","Domaine Leduc-Piedimonte cidre de glace",375,12,"Spécialité achat continu","Article actif"]
[10472888,"Vin rg Espagne","08411789060116","Monte Ducay Gran Reserva Carinena",750,12,"Spécialité achat continu","Article actif"]
[10483405,"Vin rg Italie Toscane","08032937311203","Insoglio del Cinghiale Campo di Sasso Bibbona Toscana i.g.t",750,6,"Spécialité achat continu","Article actif"]
[10489743,"Vin rg Afrique du Sud","05028267008800","Merlot/Pinotage Kumala Western cape",750,12,"Courant achat continu","Article actif"]
[10494702,"Produits du Terroir","00697642150035","Fleur de Bacchus Orléans liqueur de pomme et framboise",375,12,"Spécialité achat continu","Article actif"]
[10496812,"Produits du Terroir","00772039003047","Folie de glace La Cidrerie du Village cidre de glace",375,12,"Spécialité achat continu","Article actif"]
[10498121,"Vin rg Espagne","08437003444951","Syrah Finca Antigua La Mancha",750,12,"Spécialité achat continu","Article actif"]
[10498973,"Mousseux","03760072420126","Laurens Clos des Demoiselles T ête de Cuvée Crémant de Limoux",750,12,"Spécialité achat continu","Article actif"]
[10499634,"Produits du Terroir","00841125075302","Lacroix de Glace Verger Lacroix cidre de glace",350,12,"Spécialité achat continu","Article en écoulement"]
[10502469,"Produits du Terroir","00813319000087","Fine Pomme de glace Clos Saint-Denis cidre de glace",375,6,"Spécialité achat continu","Article actif"]
[10503963,"Vin rg Italie Toscane","08031822030120","Tre La Brancaia Toscana i.g.t.",750,12,"Spécialité achat continu","Article actif"]
[10505854,"Bière","06901035601030","Tsingtao bière type lager",330,24,"Courant achat continu","Article actif"]
[10507104,"Vin rg France Languedoc","03760144930089","Terres de Méditerranée Dupéré Barrera vin de pays d'Oc",750,12,"Spécialité achat continu","Article actif"]
[10507121,"Vin rg France Languedoc","03258691483320","Château de Sérame Corbières",750,12,"Spécialité achat continu","Article actif"]
[10507219,"Vin rg France Languedoc","03760040420783","Les Faïsses Coteaux du Languedoc",750,12,"Spécialité achat continu","Article actif"]
[10510143,"Mousseux","03500610034442","JP Chenet mousseux rosé",750,12,"Courant achat continu","Article actif"]
[10510151,"Vin rosé","08003545992825","Lamura Casa Girelli Terre Siciliane i.g.t. rosé",750,12,"Courant achat continu","Article actif"]
[10512190,"Liqueur","03018300007589","Grand Marnier liqueur d'agrumes",1140,6,"Courant achat continu","Article actif"]
[10513184,"Vin bl Portugal","05603016000795","Vinho regional Vale da Judia Terras do Sado",750,12,"Spécialité achat continu","Article actif"]
[10516414,"Champagne","03259456004453","Duval-Leroy Cuvée Design Paris Brut Champagne",750,12,"Courant achat continu","Article actif"]
[10517759,"Vin rg Italie Toscane","00839343000411","La Massa Toscana i.g.t.",750,12,"Spécialité achat continu","Article actif"]
[10518962,"Vin de Dessert","00087752005644","Moscato Bartenura Provincia di Pavia i.g.t.",750,12,"Spécialité achat continu","Article actif"]
[10522540,"Vin bl Québec","00827924059132","Domaine Les Brome Vidal Courville vin blanc",750,12,"Spécialité achat continu","Article actif"]
[10529910,"Vin rg Afrique du Sud","06001108001085","Shiraz Two Oceans Western Cape",750,12,"Courant achat continu","Article actif"]
[10529936,"Vin bl Nouvelle-Zélande","00082100736300","Sauvignon Blanc Monkey Bay Marlborough",750,12,"Courant achat continu","Article actif"]
[10530283,"Vin rg Chili","00812485000143","Cabernet-Sauvignon/Carmenère Mapu Valle Central",750,12,"Courant achat continu","Article actif"]
[10530380,"Produits du Terroir","00773253001093","Crémant de glace du Minot cidre de glace mousseux",375,12,"Spécialité achat continu","Article actif"]
[10530507,"Produits du Terroir","00697642150028","Sève d'Automne Le Domaine Orléans cidre apéritif",375,12,"Spécialité achat continu","Article en écoulement"]
[10534284,"Apéritif","03163937084981","Ricard pastis de Marseille alcool anisé",200,24,"Spécialité achat continu","Article actif"]
[10536757,"Vin rg France Languedoc","03263286301323","Cab.-Sauv./Syrah J.P. Chenet vin de pays d'Oc",750,12,"Courant achat continu","Article actif"]
[10540721,"Mousseux","08002235024129","Prosecco Zonin Cuvée 1821 Brut mousseux",750,12,"Courant achat continu","Article actif"]
[10540730,"Mousseux","08008863014341","Santi Nello Prosecco mousseux",750,12,"Courant achat continu","Article actif"]
[10540748,"Mousseux","03500610034589","J.P. Chenet Brut blanc de blancs mousseux",750,12,"Courant achat continu","Article actif"]
[10542137,"Vin bl Italie autres régions","08000852000113","Anthìlia Donnafugata Sicilia i.g.t.",750,12,"Spécialité achat continu","Article actif"]
[10542225,"Vin rg Italie Sicile Sardaigne","08016118461055","Zisola Sicilia i.g.t.",750,6,"Spécialité achat continu","Article actif"]
[10542647,"Vin rg Italie autres régions","00666056000090","Il Brecciarolo Rosso Piceno superiore",750,12,"Courant achat continu","Article actif"]
[10543287,"Vin rg France Languedoc","03263286345518","Merlot Grand Sud pays d'Oc  i.g.p.",1000,6,"Courant achat continu","Article actif"]
[10544693,"Vin rg Italie Vénétie","08002062001751","Modello Masi Delle Venezie i.g.t.",1500,6,"Courant achat continu","Article actif"]
[10544714,"Vin bl États-Unis","00087512913257","Chardonnay Rodney Strong Sonoma County Californie",750,12,"Courant achat continu","Article actif"]
[10544722,"Crème","00854745000210","Crème au cidre de glace Domaine Pinnacle",750,12,"Spécialité achat continu","Article actif"]
[10544749,"Vin rg Canada","00776545985545","Cabernet/Merlot Five Vineyards Mission Hill Okanagan Valley",750,12,"Courant achat continu","Article actif"]
[10544781,"Vin rg Italie autres régions","00818276000170","Moma Umberto Cesari Rubicone i.g.t. rouge",750,12,"Courant achat continu","Article actif"]
[10544811,"Vin rg États-Unis","00081434500267","Pinot noir Blackstone Californie",750,12,"Courant achat continu","Article actif"]
[10550823,"Produits du Terroir","00609780006112","Michel Jodoin cidre de glace rosé",375,12,"Spécialité achat continu","Article actif"]
[10551471,"Vin rg Espagne","08437004566775","Petalos Bierzo",750,12,"Spécialité achat continu","Article actif"]
[10556993,"Vin rg Espagne","08411580035863","La Montesa Rioja",750,12,"Courant achat continu","Article actif"]
[10559166,"Vin rg France Languedoc","03379431111546","Les Fiefs d'Aupenac Saint-Chinian",750,12,"Spécialité achat continu","Article actif"]
[10559174,"Vin bl France Languedoc","03379431181020","Les Fiefs d'Aupenac Saint-Chinian",750,12,"Spécialité achat continu","Article actif"]
[10651755,"Vin rg Portugal","05601271038706","Baga Marquês de Marialva Reserva Bairrada",750,12,"Spécialité achat continu","Article actif"]
[10652539,"Whisky Ecosse","00080432100783","The Glenlivet French Oak Reser ve 15 ans Scotch Single Malt",750,6,"Spécialité achat continu","Article actif"]
[10661486,"Produits du Terroir","00841125071069","Dégel cidre tranquille",750,12,"Courant achat continu","Article actif"]
[10666084,"Mousseux","03274893303587","Antech Cuvée Expression Crémant de Limoux mousseux",750,12,"Spécialité achat continu","Article actif"]
[10666826,"Crème","05011013100095","Baileys l'original boisson à la crème irlandaise",1140,6,"Courant achat continu","Article actif"]
[10667255,"Vin rg France Languedoc","03525490012755","Syrah Les Jamelles vin de pays d'Oc",750,12,"Courant achat continu","Article actif"]
[10667319,"Vin bl France Sud-Ouest","03270040010346","Les Vignes Retrouvées Saint-Mont",750,12,"Courant achat continu","Article actif"]
[10667351,"Vin bl Portugal","05601012045505","Gazela Vinho verde",750,12,"Courant achat continu","Article actif"]
[10667423,"Vin bl France Bourgogne","03443200032049","Mâcon Villages Chardonnay Blason de Bourgogne",750,12,"Courant achat continu","Article actif"]
[10667474,"Vin rg France Bourgogne","00087113110918","Bourgogne Pinot noir vieilles vignes Albert Bichot",750,12,"Courant achat continu","Article actif"]
[10669058,"Vin bl États-Unis","00041985442270","Chardonnay Gray Fox Vineyards Californie",750,12,"Courant achat continu","Article actif"]
[10669189,"Vin rg Italie Vénétie","08000160631955","Ripasso Folonari Valpolicella Superiore Classico",750,12,"Courant achat continu","Article actif"]
[10669197,"Vin bl Italie Vénétie","08032610314804","Chardonnay/Pinot gris Trevini Primo Delle Venetie i.g.t.",750,12,"Courant achat continu","Article actif"]
[10669242,"Vin rg Italie Vénétie","08005390008058","Ripasso Sartori Valpolicella Superiore",750,12,"Courant achat continu","Article actif"]
[10669365,"Vin rg États-Unis","00041985441877","Cabernet-Sauvignon Gray Fox Vineyards Californie",750,12,"Courant achat continu","Article actif"]
[10669445,"Vin rg Afrique du Sud","06001497600579","Cab.Sauv./Merlot Two Oceans western cape/cap occidental",750,12,"Courant achat continu","Article actif"]
[10669470,"Vin bl Nouvelle-Zélande","09419227005148","Chardonnay Unoaked Kim Crawford East Coast",750,12,"Courant achat continu","Article actif"]
[10669533,"Vin rg Argentine","07790240021608","Pinot noir Trapiche réserve fût de chêne Mendoza",750,12,"Courant achat continu","Article actif"]
[10669787,"Vin rg Italie autres régions","08000268750213","Riparosso Illuminati Montepulciano d'Abruzzo",750,12,"Courant achat continu","Article actif"]
[10669816,"Vin rg Chili","07809625200078","Carmenère PKNT Terraustral Valle Central",750,12,"Courant achat continu","Article actif"]
[10669832,"Vin rg Argentine","07790470080222","Malbec Finca Flichman Mendoza",750,12,"Courant achat continu","Article actif"]
[10669883,"Vin rg Argentine","07793440700502","Malbec Reserva Nieto Senetiner Mendoza",750,12,"Courant achat continu","Article actif"]
[10671617,"Rhum","05014396001065","El Dorado Original Dark Superior Demerara rhum brun",750,12,"Courant achat continu","Article actif"]
[10671730,"Vin rg Espagne","00056049017394","Bodegas de Nobella Rouge Yecla",1000,12,"Courant achat continu","Article actif"]
[10671756,"Vin bl Espagne","00056049017400","Bodegas de Nobella Blanc Yecla",1000,12,"Courant achat continu","Article actif"]
[10673541,"Vin bl Italie autres régions","00056049017417","Trebbiano Vittori Bartolo Mazzi Rubicone i.g.t.",1000,12,"Courant achat continu","Article actif"]
[10673559,"Vin rg Italie autres régions","00056049017424","Vittori Bartolo Mazzi Montepulciano d'Abruzzo",1000,12,"Courant achat continu","Article actif"]
[10675001,"Vin rg France Sud-Ouest","03760037012069","Le Combal Cahors",750,12,"Spécialité achat continu","Article actif"]
[10675466,"Vin rg Italie autres régions","08000715000502","Il Falcone Riserva Castel del Monte",750,6,"Spécialité achat continu","Article actif"]
[10675589,"Liqueur","00050037151404","Amaretto Disaronno Originale liqueur",1140,6,"Courant achat continu","Article actif"]
[10675693,"Vin rg Italie Sicile Sardaigne","08032679443064","Nero d'Avola/Merlot Ramione Sicilia i.g.t.",750,12,"Spécialité achat continu","Article actif"]
[10675706,"Vin rg Italie Sicile Sardaigne","08032610315313","Syrah Itynera Sicilia i.g.t.",750,12,"Courant achat continu","Article actif"]
[10676910,"Produits du Terroir","00827924041045","La Mission Vidal Vendange Tardive Brome-Missisquoi",375,12,"Spécialité achat continu","Article actif"]
[10677550,"Vin rg France Bordeaux","00658936161014","Château Clarke Listrac-Médoc cru bourgeois",750,12,"Spécialité achat continu","Article actif"]
[10678464,"Vin rg Afrique du Sud","00746925000564","The Wolftrap Western Cape",750,12,"Spécialité achat continu","Article actif"]
[10678510,"Vin rg Afrique du Sud","00746925000786","Syrah Porcupine Ridge",750,12,"Courant achat continu","Article actif"]
[10678931,"Vin rg divers pays","00087752008072","Cabernet-Sauvignon Segal's Special Reserve Galilée height",750,12,"Spécialité achat continu","Article actif"]
[10680118,"Vin rg Québec","00827924059101","Cuvée Julien Domaine Les Brome vin rouge",750,12,"Spécialité achat continu","Article actif"]
[10682615,"Vin rg France Languedoc","03760054340312","Domaine La Madura Tradition Saint-Chinian",750,12,"Spécialité achat continu","Article actif"]
[10682623,"Porto","05602660002377","Cabral tawny 20 ans",750,12,"Courant achat continu","Article actif"]
[10685251,"Vin bl divers pays","00183103000013","Dr.L Loosen Bros Riesling Qba Mosel",750,12,"Spécialité achat continu","Article actif"]
[10689681,"Vin rg France Val de Loire","03149070021854","Louis Roche Saumur Rouge",750,12,"Spécialité achat continu","Article actif"]
[10689981,"Tequila","00721733000029","Silver Patron tequila",750,6,"Courant achat continu","Article actif"]
[10690404,"Vin bl France Val de Loire","03760090860058","Domaine Bellevue Sauvignon blanc Touraine",750,12,"Spécialité achat continu","Article actif"]
[10690501,"Vin bl France Val de Loire","03412251018012","Chardonnay Domaine Ragotière Val de Loire IGP",750,12,"Spécialité achat continu","Article actif"]
[10694093,"Vin bl Chili","07804414001430","Chardonnay Luis Felipe Edwards Gran Reserva Casablanca",750,12,"Courant achat continu","Article actif"]
[10694376,"Vin rg Chili","07804320127538","Carmenère/Cabernet-Sauvignon Cono Sur valle de Colchagua",750,12,"Spécialité achat continu","Article actif"]
[10694510,"Vin rg Chili","07804320143941","Merlot/Carmenère/Syrah Trio Concha y Toro valle de Rapel",750,12,"Spécialité achat continu","Article actif"]
[10694528,"Vin rg Chili","07804320143958","Cab.-Sauv./Shiraz/Cab.-f. Trio Reserva valle del Maipo",750,12,"Spécialité achat continu","Article actif"]
[10699644,"Vin rg petits formats","03552651993110","Merlot Just vin de pays d'Oc",250,24,"Courant achat continu","Article actif"]
[10699652,"Vin bl petits formats","03525490013233","Sauvignon blanc Les Jamelles vin de pays d'Oc",250,24,"Courant achat continu","Article actif"]
[10700764,"Vin rg divers pays","05285000380115","Massaya Classic vallée de la Bekaa",750,12,"Spécialité achat continu","Article actif"]
[10702997,"Vin bl divers pays","06009607660369","Chenin blanc Petit Ken Forrester Western Cape",750,12,"Spécialité achat continu","Article actif"]
[10703332,"Vin rg Afrique du Sud","00746925000625","Shiraz Number One Constitution Road Robertson",750,6,"Spécialité achat continu","Article actif"]
[10703412,"Vin rg Afrique du Sud","00746925001189","The Chocolate Block Western Cape",750,6,"Spécialité achat continu","Article actif"]
[10703834,"Vin rg Italie Vénétie","08000834312005","Mara Valpolicella Ripasso Superiore Classico",750,12,"Spécialité achat continu","Article actif"]
[10704010,"Vin rg Italie Vénétie","08005276066783","Salvalai Monile Ripasso Valpolicella Superiore D.O.C",750,12,"Spécialité achat continu","Article actif"]
[10705055,"Vin bl Italie Vénétie","00641734000029","Zenato San Benedetto Lugana",750,12,"Courant achat continu","Article actif"]
[10705098,"Vin rg petits formats","08008863015737","Merlot Vivolo di Sasso Veneto i.g.t.",375,24,"Spécialité achat continu","Article actif"]
[10705178,"Vin rg Italie Vénétie","08003503000616","Capitel della Crosara ripasso Valpolicella Classico",750,12,"Courant achat continu","Article actif"]
[10705776,"Produits du Terroir","00841125075388","Bonhomme Hiver cidre de glace",375,12,"Spécialité achat continu","Article actif"]
[10707456,"Produits du Terroir","00854745000296","Domaine Pinnacle cidre de glace pétillant",1500,4,"Spécialité achat continu","Article en écoulement"]
[10709021,"Vin rg États-Unis","00657891703239","Zinfandel Liberty School Paso Robles Californie",750,12,"Courant achat continu","Article actif"]
[10709152,"Vin rg États-Unis","00099988071096","Ménage à Trois Folie à Deux Californie rouge",750,12,"Courant achat continu","Article actif"]
[10709988,"Vin bl États-Unis","00099988071058","Ménage à Trois Folie à Deux Californie blanc",750,12,"Courant achat continu","Article actif"]
[10744695,"Vin rg États-Unis","00690171101141","Easton House Californie",750,12,"Spécialité achat continu","Article actif"]
[10748400,"Vin bl Australie","09311832015003","The Stump Jump d'Arenberg McLaren Vale",750,12,"Spécialité achat continu","Article actif"]
[10748418,"Vin rg Australie","09311832314007","Grenache/Shiraz/Mourvèdre The Stump Jump McLaren Vale",750,12,"Spécialité achat continu","Article actif"]
[10749795,"Whisky","00048415000307","Wiser's de Luxe whisky canadien",750,12,"Courant achat continu","Article actif"]
[10753874,"Whisky","05010103918381","Bushmills Original whiskey irlandais",750,12,"Spécialité achat continu","Article actif"]
[10754084,"Vin bl États-Unis","00089636190002","Chardonnay Morning Fog Wente Vineyards Livermore Valley",750,12,"Spécialité achat continu","Article actif"]
[10754148,"Vin rg États-Unis","00717888640029","Zinfandel Artezin Californie",750,12,"Spécialité achat continu","Article actif"]
[10754181,"Vin rg Chili","07804414000273","Shiraz Luis Felipe Edwards Reserva vallée de Colchagua",750,12,"Courant achat continu","Article actif"]
[10754199,"Vin bl Argentine","07791728017366","Chenin blanc/Torrontes Fuzion Mendoza",750,12,"Courant achat continu","Article actif"]
[10754201,"Vin rosé","08412423120739","Borsao Rosado Seleccion Campo de Borja rosé",750,12,"Courant achat continu","Article actif"]
[10754228,"Vin bl divers pays","00746925000779","Chenin blanc Robertson Winery Robertson",750,12,"Courant achat continu","Article actif"]
[10754244,"Vin rg divers pays","09419227005193","Pinot noir Kim Crawford South Island",750,12,"Courant achat continu","Article actif"]
[10754279,"Vin rg Italie Toscane","00089819501458","Gabbiano Chianti",750,12,"Courant achat continu","Article actif"]
[10754586,"Vin rg Australie","09311043007750","Shiraz/cabernet-sauv. Hardys Stamp South Eastern Australia",750,12,"Courant achat continu","Article actif"]
[10754607,"Vin bl Australie","00085000013144","Riesling McWilliams Hanwood Estate South Eastern Australia",750,12,"Courant achat continu","Article actif"]
[10754797,"Cooler","00776103001373","Smirnoff Caesar Classic (4 x 330 ml) boisson à la vodka",330,24,"Courant achat continu","Article actif"]
[10757074,"Vin bl petits formats","04902650024718","Hakutsuru Supérieur Junmai Ginjo sake",300,12,"Spécialité achat continu","Article actif"]
[10757103,"Vin bl petits formats","04902650024183","Sayuri Nigori sake",300,12,"Spécialité achat continu","Article actif"]
[10757154,"Liqueur","04901777035614","Midori boisson au melon",750,12,"Courant achat continu","Article actif"]
[10758325,"Vin rg Espagne","08437005068070","Monastrell Juan Gil Jumilla",750,12,"Spécialité achat continu","Article actif"]
[10771407,"Vin rg France Bordeaux","03760086380034","Château Pelan Bellevue Bordeaux Côtes de Francs",750,12,"Spécialité achat continu","Article actif"]
[10771431,"Whisky Ecosse","05010327322001","Glenfiddich 12 ans Highland scotch single malt",1140,6,"Courant achat continu","Article actif"]
[10774923,"Vin rg petits formats","00818276000194","Sangiovese/Cab.-Sauv. Liano Umberto Cesari Rubicone i.g.t.",375,12,"Courant achat continu","Article actif"]
[10780311,"Vin rg Italie autres régions","08004305000057","Pinot noir Mezzacorona Vigneti delle Dolomiti i.g.t.",750,12,"Spécialité achat continu","Article actif"]
[10780338,"Vin rg Italie autres régions","00818276000644","Umberto Cesari Riserva Sangiovese di Romagna",750,12,"Courant achat continu","Article actif"]
[10780397,"Vin bl Italie autres régions","08002235216050","Pinot grigio Ca'Bolani Friuli Aquileia",750,6,"Spécialité achat continu","Article actif"]
[10781971,"Vin bl Italie autres régions","08001935650102","Chardonnay Bramìto del Cervo Castello della Sala Umbria igt",750,6,"Spécialité achat continu","Article actif"]
[10783088,"Vin rg France Vallée du Rhône","03760144930058","Dupéré Barrera Côtes du Rhône Villages",750,12,"Spécialité achat continu","Article actif"]
[10788911,"Vin rg Italie autres régions","08032790761177","Coste delle Plaie Montepulciano d'Abruzzo",750,12,"Courant achat continu","Article actif"]
[10799629,"Spiritueux 200 à 375 ML","00080480280031","Grey Goose vodka",375,12,"Courant achat continu","Article actif"]
[10800431,"Produits du Terroir","00841125074039","Feu Sacré Verger Lacroix cidre apéritif",375,12,"Spécialité achat continu","Article actif"]
[10802832,"Vin rg Afrique du Sud","06009669350413","Cabernet-Sauvignon Man Family Wines Coastal Region",750,12,"Courant achat continu","Article actif"]
[10802867,"Mousseux","00089819776344","White Zinfandel Beringer Californie mousseux rosé",750,12,"Courant achat continu","Article actif"]
[10802875,"Vin bl France Languedoc","00057496002674","Chardonnay Lulu B. Pays d'Oc i.g.p.",750,12,"Courant achat continu","Article actif"]
[10802904,"Vin rg France Languedoc","03525490013240","Pinot noir Les Jamelles vin de pays d'Oc",750,12,"Courant achat continu","Article actif"]
[10803034,"Vin rg Italie Sicile Sardaigne","08032610316235","Nero d'Avola Giacondi Sicilia i.g.t.",750,12,"Courant achat continu","Article actif"]
[10803051,"Vin rg Portugal","05607645077555","Vinho regional Alentejano Herdade das Albernoas",750,12,"Courant achat continu","Article actif"]
[10803114,"Vin bl Italie Vénétie","00021893795088","Pinot grigio Voga Delle Venezie i.g.t.",750,12,"Courant achat continu","Article actif"]
[10817090,"Vin rosé Québec","00827924036171","Le Rosé Gabrielle Vignoble Rivière-du-Chêne vin rosé",750,12,"Spécialité achat continu","Article actif"]
[10817807,"Whisky","00085246139431","Maker's Mark Kentucky Bourbon whiskey américain",750,12,"Spécialité achat continu","Article actif"]
[10825920,"Liqueur","03380140240854","Belle de Brillet liqueur de poire et cognac",700,12,"Courant achat continu","Article actif"]
[10826105,"Vin rg divers pays","09415549809679","Pinot noir Oyster Bay Marlborough",750,12,"Spécialité achat continu","Article actif"]
[10826113,"Vin rg divers pays","09415549814635","Merlot Oyster Bay Hawkes Bay",750,12,"Courant achat continu","Article actif"]
[10826578,"Vin rg France Languedoc","03040072467681","Pinot noir Patriarche vin de pays d'Oc",750,12,"Courant achat continu","Article actif"]
[10829031,"Vin rg Australie","09311910103905","Shiraz Peter Lehmann Barossa",750,12,"Spécialité achat continu","Article actif"]
[10829648,"Vin rg États-Unis","00088232003648","Zinfandel Sebastiani Sonoma County Californie",750,12,"Spécialité achat continu","Article actif"]
[10838579,"Vin rg Portugal","05604123001101","Flor de Crasto Douro",750,12,"Spécialité achat continu","Article actif"]
[10838616,"Vin rg Portugal","05601989996206","Esporao Reserva Alentejo",750,6,"Spécialité achat continu","Article actif"]
[10838801,"Vin bl Portugal","05603016000160","Vinho regional Peninsula de Setubal Adega de Pegoes",750,12,"Spécialité achat continu","Article actif"]
[10838982,"Vin rg Portugal","05010867505261","Vale do Bomfim Douro",750,12,"Spécialité achat continu","Article actif"]
[10839168,"Mousseux","08000872031012","Crede Bisol Prosecco Superiore Valdobbiadene",750,12,"Spécialité achat continu","Article actif"]
[10841161,"Vin rg Portugal","05605567203113","Cistus Douro",750,12,"Spécialité achat continu","Article actif"]
[10841188,"Vin rg Portugal","00817339014505","Barco Negro Douro",750,12,"Spécialité achat continu","Article actif"]
[10843298,"Vin rg Italie Toscane","00089819503223","Castello di Gabbiano Riserva Chianti Classico",750,12,"Courant achat continu","Article actif"]
[10843327,"Vin rg Italie Toscane","08025205000039","San Fabiano Calcinaia Chianti Classico",750,6,"Spécialité achat continu","Article actif"]
[10845357,"Vin bl France Bourgogne","00087113111359","Bourgogne Chardonnay vieilles vignes Albert Bichot",750,12,"Courant achat continu","Article actif"]
[10845681,"Vin rg États-Unis","00085000012277","Pinot noir Mirassou Californie",750,12,"Courant achat continu","Article actif"]
[10845701,"Vin rg Espagne","08412423120647","Tocado Campo de Borja",750,12,"Courant achat continu","Article actif"]
[10845808,"Vin rosé","00089819006526","White Zinfandel Beringer California Collection",750,12,"Courant achat continu","Article actif"]
[10845883,"Champagne","00892714001516","Forget Brimont Brut Rosé Premier Cru Champagne",750,6,"Courant achat continu","Article actif"]
[10845971,"Vin bl Australie","09311043053351","Chardonnay/Sémillon Hardys Stamp South Eastern Australia",750,12,"Courant achat continu","Article en écoulement"]
[10846026,"Vin rg France Languedoc","00087113115227","Pinot noir/Syrah C'Est La Vie vin de pays d'Oc",750,12,"Courant achat continu","Article actif"]
[10846641,"Vin rg États-Unis","00080438012936","Merlot Washington Hills",750,12,"Spécialité achat continu","Article actif"]
[10850156,"Produits du Terroir","00854745000340","Pinnacle Réserve 1859 cidre apéritif",500,6,"Spécialité achat continu","Article actif"]
[10850551,"Produits du Terroir","00854745000623","Verger Sud Domaine Pinnacle cidre tranquille",750,12,"Spécialité achat continu","Article actif"]
[10850560,"Produits du Terroir","00854745000630","Verger Sud Domaine Pinnacle cidre pétillant",750,12,"Spécialité achat continu","Article actif"]
[10850615,"Vin rosé Québec","00827924012052","Brise Vignoble de la Bauge vin rosé",750,12,"Spécialité achat continu","Article actif"]
[10853189,"Produits du Terroir","00827924012069","Novembre vendange tardive vin blanc",375,12,"Spécialité achat continu","Article actif"]
[10856161,"Vin bl Espagne","08412423120746","Borsao blanco Campo de Borja",750,12,"Spécialité achat continu","Article actif"]
[10856241,"Vin rg Espagne","00805109445031","Saulo Espelt Empordá",750,12,"Spécialité achat continu","Article actif"]
[10856427,"Vin rg Espagne","08437004254030","Blés  Ecologico Crianza Aranleon Valencia",750,12,"Courant achat continu","Article actif"]
[10856777,"Vin rg Italie Piémont","00632738100013","Beni di Batasiolo Barolo",750,12,"Spécialité achat continu","Article actif"]
[10856873,"Vin rg Espagne","08437005068230","Atteca vieilles vignes Calatayud",750,12,"Spécialité achat continu","Article actif"]
[10857497,"Vin rg Espagne","08410441412065","Faustino V Reserva Rioja",750,12,"Spécialité achat continu","Article actif"]
[10857569,"Vin rg Espagne","08410537050126","Coto de Imaz Reserva Rioja",750,12,"Spécialité achat continu","Article actif"]
[10858086,"Vin rg Espagne","08437005068001","Monastrell Juan Gil vieilles vignes Jumilla",750,12,"Spécialité achat continu","Article actif"]
[10858123,"Vin rg Italie autres régions","08000268750237","Ilico Illuminati Montepulciano d'Abruzzo",750,12,"Spécialité achat continu","Article actif"]
[10858158,"Vin rg Espagne","08436005760014","Luzon Jumilla",750,12,"Spécialité achat continu","Article actif"]
[10861808,"Vin bl France Val de Loire","03539221105012","Sylvain Bailly Terroirs Sancerre",750,12,"Spécialité achat continu","Article actif"]
[10863774,"Vin rg Italie autres régions","08033140750018","Masciarelli Montepulciano d'Abruzzo",750,12,"Spécialité achat continu","Article actif"]
[10864700,"Liqueur","00080432316672","Soho boisson alcoolique à saveur de litchi",750,12,"Courant achat continu","Article actif"]
[10865227,"Vin rg Portugal","05605063119093","Caldas Douro",750,12,"Spécialité achat continu","Article actif"]
[10865307,"Vin rg France Bordeaux","03760027482117","Château la Mothe du Barry Bordeaux supérieur",750,12,"Spécialité achat continu","Article actif"]
[10884612,"Vin rg France autres régions","03345120000064","Domaine Houchart Côtes de Provence",750,12,"Spécialité achat continu","Article actif"]
[10892292,"Produits du Terroir","00063829999146","Geai Bleu boisson alcoolique à l'eau de vie érable et bleuets",375,12,"Spécialité achat continu","Article actif"]
[10894431,"Vin rg Argentine","07790189040036","Syrah Don David Reserve Vallée de Cafayate",750,12,"Spécialité achat continu","Article actif"]
[10895565,"Vin rg Argentine","07790762050117","Cabernet-Sauvignon La Mascota Santa Ana Mendoza",750,12,"Spécialité achat continu","Article actif"]
[10896365,"Mousseux","08410439034354","Parés Baltà Brut Cava mousseux",750,12,"Spécialité achat continu","Article actif"]
[10902841,"Vin rg Espagne","08411976110129","Garnacha Artazuri Navarra",750,12,"Spécialité achat continu","Article actif"]
[10904409,"Rhum","00026964852745","Flor de Cana Grand Reserve 7 ans rhum ambré",750,12,"Spécialité achat continu","Article actif"]
[10904652,"Rhum","08715151250731","Demerara El Dorado 12 ans rhum brun",750,12,"Courant achat continu","Article actif"]
[10913495,"Eau-de-vie","03443210401002","Leblon Cachaça Superior eau-de-vie de canne à sucre",700,12,"Spécialité achat continu","Article actif"]
[10914738,"Miniatures","09414453931018","B52 Shots (4 x 30 ml) boisson diverse",30,72,"Spécialité achat continu","Article actif"]
[10914746,"Miniatures","09414453931049","Vodka Twisted Shotz Butter scotch & Vanilla (4 x 30 ml)",30,72,"Spécialité achat continu","Article actif"]
[10914877,"Liqueur","00088004144746","Fireball Whisky liqueur diverse",750,12,"Courant achat continu","Article actif"]
[10915001,"Vin rg Australie","00085000013199","Shiraz/Cabernet J.J. McWilliam South Eastern Australia",750,12,"Courant achat continu","Article actif"]
[10915010,"Vin bl États-Unis","00085000014448","Pinot grigio Barefoot California",750,12,"Courant achat continu","Article actif"]
[10915036,"Vin rg États-Unis","00018341751130","Shiraz Barefoot California",750,12,"Courant achat continu","Article actif"]
[10915052,"Vin rg Chili","07804320087016","Carmenère Casillero del Diablo Reserva Vallé de Rappel",750,12,"Courant achat continu","Article en écoulement"]
[10915108,"Vin bl Italie Vénétie","08000160632693","Pinot grigio Folonari Delle Venezie i.g.t.",750,12,"Courant achat continu","Article actif"]
[10915247,"Vin rg France Languedoc","00083960150169","Pinot noir Baron Philippe de Rothschild vin de pays d'Oc",750,12,"Courant achat continu","Article actif"]
[10915263,"Vin rg France Bordeaux","03573420305316","Château Saint-Antoine Réserve du Château Bordeaux supérieur",750,12,"Courant achat continu","Article actif"]
[10915271,"Vin rg Argentine","00057496001240","Syrah Sargento de Argentina Mendoza",1000,12,"Courant achat continu","Article actif"]
[10915298,"Vin bl France Languedoc","00087113112158","Chardonnay/Sauvignon C'est la Vie vin de pays d'Oc",750,12,"Courant achat continu","Article actif"]
[10915327,"Vin bl France Alsace","03432021417500","Riesling Rieflé Bonheur Convivial Alsace",750,12,"Courant achat continu","Article actif"]
[10919723,"Vin bl Québec","00827924059118","Domaine Les Brome Réserve St-Pépin",750,12,"Spécialité achat continu","Article actif"]
[10921073,"Vin bl États-Unis","00017224850106","Conundrum Californie",750,12,"Spécialité achat continu","Article actif"]
[10921276,"Vin rg Italie autres régions","08019873001016","Casale Vecchio Farnese Montepulciano d'Abruzzo",750,12,"Courant achat continu","Article actif"]
[10930800,"Bière","05010549304953","Belhaven Twisted Thistle IPA bière forte type ale",500,12,"Spécialité achat continu","Article en écoulement"]
[10930922,"Bière","05391500600032","O'Hara's Irish Stout bière type ale",500,12,"Spécialité achat continu","Article actif"]
[10933867,"Cooler","00085000002711","Wild Vines Fraise White Zinfandel boisson au vin",750,12,"Courant achat continu","Article actif"]
[10933883,"Cooler","00085000004104","Wild Vines Framboise Zinfandel boisson au vin",750,12,"Courant achat continu","Article en écoulement"]
[10933998,"Cooler","09414453929749","Mudshake Vanille Française boisson à la vodka (4x270 ml)",270,24,"Courant achat continu","Article actif"]
[10934026,"Cooler","00779469001971","Rockstar canette boisson à la vodka",473,24,"Courant achat continu","Article actif"]
[10938684,"Vin rg Italie Toscane","00877397000421","Le Volte Ornellaia Toscana i.g.t.",750,12,"Spécialité achat continu","Article actif"]
[10938861,"Vin rosé","00099988371080","Ménage à Trois rosé Folie à Deux",750,12,"Courant achat continu","Article actif"]
[10944187,"Vin rg Chili","00715126600019","Pinot noir Montes Sélection Limitée valle de Casablanca",750,12,"Spécialité achat continu","Article actif"]
[10944208,"Vin rg États-Unis","00855165005076","Pinot noir Belle Glos Meiomi",750,12,"Spécialité achat continu","Article actif"]
[10944380,"Vin rg Portugal","05603790001315","Cortes de Cima Vinho regional Alentejano",750,12,"Spécialité achat continu","Article actif"]
[10946123,"Vin rg France Languedoc","00057496002681","Pinot noir Lulu B. vin de pays d'Oc",750,12,"Courant achat continu","Article actif"]
[10951571,"Produits du Terroir","00841125072127","McKeown Cidre de la Montagne Rouge cidre léger pétillant",750,12,"Spécialité achat continu","Article actif"]
[10959725,"Vin rg Australie","09329666020995","Shiraz Lackey Kilikanoon South Australia",750,12,"Spécialité achat continu","Article actif"]
[10960697,"Vin rg Portugal","05603790001865","Syrah Cortes de Cima Vinho regional Alentejano",750,6,"Spécialité achat continu","Article actif"]
[10960777,"Vin rg Italie Sicile Sardaigne","08028262000158","Syrah Cusumano Sicilia i.g.t.",750,12,"Spécialité achat continu","Article actif"]
[10966651,"Vin rg Espagne","00067311766032","Tempranillo Bistro Mundo Valdepenas",1000,12,"Courant achat continu","Article en écoulement"]
[10966765,"Vin rg Italie autres régions","08032790763096","Scià Castorani Sangiovese Puglia i.g.t.",750,12,"Courant achat continu","Article actif"]
[10966888,"Vin rg Italie Sicile Sardaigne","08002235000574","Sangiovese/Merlot Primo Amore Zonin Terre Siciliane i.g.t.",750,12,"Courant achat continu","Article actif"]
[10967303,"Vin bl divers pays","06001497600616","Sauvignon blanc Two Oceans Western Cape",750,12,"Courant achat continu","Article actif"]
[10967389,"Vin rg États-Unis","00081054354479","Merlot Sea Ridge California",750,12,"Courant achat continu","Article actif"]
[10967397,"Vin rg États-Unis","00089819796861","Cabernet-Sauvignon Château St-Jean California",750,12,"Courant achat continu","Article actif"]
[10967434,"Vin rg Chili","00608057104971","Cabernet-Sauvignon Arboleda Valle de Aconcagua",750,12,"Courant achat continu","Article actif"]
[10967442,"Vin bl États-Unis","00728817199501","Haiku Gekkeikan Premium Select sake",750,12,"Spécialité achat continu","Article actif"]
[10967514,"Vin bl France Bordeaux","03159560012262","Calvet Edition Limitée Sauvignon blanc Bordeaux",750,12,"Courant achat continu","Article en écoulement"]
[10967611,"Vin rg Argentine","07791728022148","Malbec/Tempranillo Fuzion Alta Reserva Mendoza",750,12,"Courant achat continu","Article en écoulement"]
[10967645,"Vin rg Chili","00677758901554","Carmenère Carmen Valle de Colchagua",750,12,"Courant achat continu","Article actif"]
[10968453,"Produits du Terroir","00063829999153","Macle Intermiel cidre de glace",375,12,"Spécialité achat continu","Article actif"]
[10968744,"Vin bl Nouvelle-Zélande","09415305122011","Sauvignon blanc Matua Marlborough",750,12,"Courant achat continu","Article actif"]
[10977202,"Produits du Terroir","00773253001109","Du Minot des Glaces cidre de glace",200,12,"Spécialité achat continu","Article actif"]
[10977211,"Produits du Terroir","00773253001116","Crémant de Glace Tête de Cuvée Minot cidre de glace mousseux",375,12,"Spécialité achat continu","Article actif"]
[10977616,"Produits du Terroir","00815126002735","Le Brochu Vallée de Framboise liqueur framboises et cassis",375,12,"Spécialité achat continu","Article actif"]
[10985780,"Vin rg Espagne","08436005760700","Monastrell Luzon Organic Jumilla",750,12,"Spécialité achat continu","Article actif"]
[10990415,"Produits du Terroir","00837294000337","Chocofolie Miel Nature hydromel chocolat et cassis",375,12,"Spécialité achat continu","Article actif"]
[10994782,"Produits du Terroir","00841125072134","Domaine Lafrance cidre mousseux gazéifié",750,12,"Courant achat continu","Article actif"]
[10999938,"Whisky Ecosse","05010019636614","Laphroaig Quarter Cask Islay scotch single malt",750,6,"Spécialité achat continu","Article actif"]
[11002423,"Produits du Terroir","00609780003081","La Grande Tentation Michel Jodoin 4x330ml cidre pétillant",330,24,"Spécialité achat continu","Article actif"]
[11002626,"Produits du Terroir","00841125075531","Cryomalus Antolino Brongo cidre de glace",375,12,"Spécialité achat continu","Article actif"]
[11002941,"Vin rg Italie Toscane","08033315790146","Volpolo Podere Sapaio Bolgheri",750,6,"Spécialité achat continu","Article actif"]
[11003338,"Eau-de-vie","08014115000123","Grappa Di Bassano Poli",500,6,"Spécialité achat continu","Article actif"]
[11004023,"Produits du Terroir","00850507001129","La Bise des Prés rouge Vignoble Nordet vin apéritif",375,12,"Spécialité achat continu","Article en écoulement"]
[11004031,"Produits du Terroir","00841125075449","Magie de Glace Domaine des Glaces cidre de glace",375,12,"Spécialité achat continu","Article en écoulement"]
[11004488,"Vin rg Québec","01627843123032","Venice Cabernet Severnyi Vignoble Carone vin rouge",750,12,"Spécialité achat continu","Article actif"]
[11004550,"Vin rg Québec","01627843122974","Bin 33 Carone vin rouge",750,12,"Spécialité achat continu","Article actif"]
[11015671,"Vin rg Italie autres régions","08003545998070","Pinot noir Canaletto Provincia di Pavia i.g.t.",750,12,"Courant achat continu","Article actif"]
[11015718,"Vin rg Argentine","07790577040372","Tempranillo Trumpeter Rutini Wines Reserve",750,12,"Courant achat continu","Article en écoulement"]
[11015726,"Vin rg Argentine","07794450091338","Malbec Alamos Seleccion Mendoza",750,12,"Courant achat continu","Article actif"]
[11015793,"Vin bl France Bordeaux","03371232750009","Château Suau Sauvignon/ Sémillon/Muscadelle Bordeaux",750,12,"Courant achat continu","Article actif"]
[11015970,"Vin rg grands formats","08032610319540","Nero d'Avola Giacondi Sicilia i.g.t.",3000,4,"Courant achat continu","Article actif"]
[11016016,"Vin rg France Languedoc","03569840208016","Les Sorcières du Clos des Fées Côtes du Roussillon",750,12,"Spécialité achat continu","Article actif"]
[11018679,"Whisky Ecosse","05010327000305","Grant's Family Reserve scotch blended",1140,6,"Courant achat continu","Article actif"]
[11019831,"Vin rg Italie autres régions","08032869822020","Scabi San Valentino Sangiovese di Romagna Superiore",750,12,"Spécialité achat continu","Article actif"]
[11019997,"Vin rg Italie Toscane","08033237020468","Cabernet-Sauvignon Secondo Me Superiore",750,12,"Spécialité achat continu","Article actif"]
[11025617,"Vodka et Alcool","05010677850209","Grey Goose vodka",750,12,"Courant achat continu","Article actif"]
[11027031,"Whisky Ecosse","05010327325125","Glenfiddich Solera 15 ans Highland scotch single malt",750,6,"Spécialité achat continu","Article actif"]
[11028148,"Vin bl Italie Vénétie","08003503010660","Capitel Alto Montresor Soave Classico",750,12,"Courant achat continu","Article en écoulement"]
[11028156,"Vin rg Italie Vénétie","08019171000155","Capitel dei Nicalo Tedeschi Appassimento i.g.t",750,12,"Courant achat continu","Article actif"]
[11034644,"Vin rg Espagne","08437005241893","Can Blau Montsant",750,12,"Spécialité achat continu","Article actif"]
[11036156,"Vodka et Alcool","00080480280000","Grey Goose vodka",1750,6,"Courant achat continu","Article actif"]
[11036172,"Vodka et Alcool","05010677860307","Grey Goose L'Orange vodka aromatisée",750,6,"Courant achat continu","Article actif"]
[11036519,"Vin rg États-Unis","00087754001873","Cabernet-Sauvignon Genesis Columbia Valley Washington",750,12,"Spécialité achat continu","Article actif"]
[11039787,"Vin rg Italie autres régions","-","Sangiovese/Merlot Yemula Umberto Cesari Rubicone i.g.t.",750,6,"Spécialité achat continu","Article en écoulement"]
[11040892,"Vin rg petits formats","03045710025995","Merlot Héritage de Marquisat vin de pays d'Oc IGP",500,12,"Spécialité achat continu","Article actif"]
[11046936,"Produits du Terroir","00838113001160","Givré Félibre cidre de glace",375,6,"Spécialité achat continu","Article actif"]
[11057475,"Produits du Terroir","00827924036195","Monde vin de glace",200,12,"Spécialité achat continu","Article actif"]
[11057491,"Produits du Terroir","00827924036188","Cuvée Glacée des Laurentides vendanges tardives vin blanc",200,12,"Spécialité achat continu","Article actif"]
[11067930,"Vin rg petits formats","08002062001744","Campofiorin Masi Veronese i.g.t.",375,12,"Courant achat continu","Article actif"]
[11072851,"Vin bl Italie autres régions","00818276000842","Moma Umberto Cesari Blanc IGT",750,12,"Courant achat continu","Article actif"]
[11072886,"Vin rg Italie Sicile Sardaigne","00021893795385","Voga Quattro Sicilia i.g.t.",750,12,"Courant achat continu","Article actif"]
[11072907,"Vin rg Italie Toscane","08002305003320","Sangiovese/Syrah Sasyr Rocca delle Macie Toscana i.g.t.",750,12,"Courant achat continu","Article actif"]
[11073361,"Vin rg France Languedoc","03119460000530","Syrah Le Jaja de Jau vin de pays d'Oc",750,12,"Courant achat continu","Article actif"]
[11073379,"Vin rg France Vallée du Rhône","03179071003351","Le Clocher Vinsobres",750,12,"Courant achat continu","Article en écoulement"]
[11073424,"Vin rg France Bordeaux","03479210004868","Château Grand Jean Réserve Bordeaux supérieur",750,12,"Courant achat continu","Article actif"]
[11073539,"Bière","00698614020899","Red Stripe bière type lager",330,24,"Courant achat continu","Article actif"]
[11073918,"Vin rosé","00087113115258","Syrah Rosé C'Est la Vie vin de pays d'Oc",750,12,"Courant achat continu","Article actif"]
[11073926,"Vin rg Australie","09311347065401","Shiraz BVE E Minor Barossa Valley",750,12,"Courant achat continu","Article en écoulement"]
[11073969,"Vin bl États-Unis","00088692860256","Chardonnay Sterling Vintner's Collection Central Coast",750,12,"Courant achat continu","Article actif"]
[11073985,"Vin rg États-Unis","05010103913188","Cab.-Sauv. Sterling Vintner's Collection Central Coast",750,12,"Courant achat continu","Article actif"]
[11074021,"Vin bl États-Unis","00724826071319","Symphony Ironstone Obsession Californie",750,12,"Courant achat continu","Article actif"]
[11082283,"Produits du Terroir","00841125071168","Rose Les Vergers de la Colline cidre léger rosé",750,12,"Spécialité achat continu","Article actif"]
[11086014,"Produits du Terroir","00841125072066","Bulle No 1 La Face Cachée de la Pomme cidre mousseux",750,12,"Spécialité achat continu","Article actif"]
[11089864,"Vin bl États-Unis","00088232002627","Chardonnay Sebastiani Sonoma County Californie",750,12,"Spécialité achat continu","Article actif"]
[11089899,"Vin rg États-Unis","00088232005093","Pinot noir Sebastiani Sonoma Coast Californie",750,12,"Spécialité achat continu","Article actif"]
[11091796,"Vin rg États-Unis","00088232002634","Merlot Sebastiani Sonoma County Californie",750,12,"Spécialité achat continu","Article actif"]
[11091833,"Vin rg États-Unis","00870731000071","Zinfandel Napa Cellars Napa Valley",750,12,"Spécialité achat continu","Article actif"]
[11091921,"Crème","00854745000432","Coureur des Bois boisson à la crème et au sirop d'érable",750,12,"Courant achat continu","Article actif"]
[11092078,"Vin bl Canada","00776545995391","Chardonnay Mission Hill Family Estate Reserve Okanagan Valley",750,12,"Courant achat continu","Article actif"]
[11094815,"Vin bl France Bourgogne","03292060017914","Petit Chablis Laroche",750,12,"Courant achat continu","Article actif"]
[11095949,"Vin rg France Vallée du Rhône","03760038251214","Dom. La Montagnette Signargues Côtes du Rhône Villages",750,12,"Spécialité achat continu","Article actif"]
[11096693,"Produits du Terroir","00899002000015","Val Caudalies cidre liquoreux",375,12,"Spécialité achat continu","Article actif"]
[11096765,"Produits du Terroir","00899002000022","Réserve Val Caudalies cidre de glace",375,12,"Spécialité achat continu","Article actif"]
[11096888,"Vin rg divers pays","00087752008157","Cabernet-Sauvignon Ben Ami Galil",750,12,"Spécialité achat continu","Article actif"]
[11097101,"Vin bl Italie autres régions","08028262000066","Insolia/Chardonnay Angimbé Cusumano Sicilia i.g.t.",750,12,"Spécialité achat continu","Article actif"]
[11097477,"Vin bl divers pays","05200323010600","Assyrt./Athiri/Aidani Atlantis Argyros Santorini vdp Cyclades",750,12,"Spécialité achat continu","Article actif"]
[11097485,"Vin bl divers pays","05203875010005","Moschofilero Tselepos Mantinia",750,12,"Spécialité achat continu","Article actif"]
[11097549,"Vin rg divers pays","05285000952695","Cave Kouroum Petit Noir vallée de la Bekaa",750,12,"Spécialité achat continu","Article actif"]
[11097995,"Liqueur","03760144180019","Girl Pink liqueur de litchi et framboise",700,6,"Spécialité achat continu","Article actif"]
[11098761,"Liqueur","08004160681309","Frangelico Liqueur boisson à la noisette",750,12,"Courant achat continu","Article actif"]
[11098808,"Produits du Terroir","00827924039806","le Domaine De Lavoie Poiré de glace vin de poire",375,12,"Spécialité achat continu","Article actif"]
[11106290,"Cooler","00080480015176","Bacardi Mojito Classique cocktail au spiritueux",750,12,"Courant achat continu","Article actif"]
[11106396,"Cooler","00085000002728","Wild Vines Mûre Merlot boisson au vin",750,12,"Courant achat continu","Article actif"]
[11106661,"Vin bl Québec","00827924059019","Domaine Les Brome Cuvée Charlotte vin blanc",750,12,"Spécialité achat continu","Article actif"]
[11106724,"Bière","05411656010612","Mort Subite Kriek Cerise bière type lambic",375,20,"Spécialité achat continu","Article actif"]
[11106767,"Bière","00627619411111","Midnight Sun Espresso Stout Yukon bière forte type ale",341,24,"Spécialité achat continu","Article actif"]
[11106775,"Bière","00037398027227","Wiesen Edel-Weisse bière forte ale",500,20,"Spécialité achat continu","Article actif"]
[11106791,"Bière","05410693100652","Karmeliet Tripel bière forte type ale",330,24,"Spécialité achat continu","Article actif"]
[11106804,"Bière","05410769300108","Houblon Chouffe Double IPA Tripel bière extra forte ale",750,12,"Spécialité achat continu","Article actif"]
[11113191,"Bière","00701467114100","Super Bock bière type ale",330,24,"Spécialité achat continu","Article actif"]
[11113490,"Bière","05011885008420","Fullers Organic Honey Dew bière type ale",500,12,"Spécialité achat continu","Article actif"]
[11115073,"Vin rg Portugal","05603196002534","Castelinho Reserva Douro",750,12,"Spécialité achat continu","Article actif"]
[11127234,"Champagne","03469380630011","Drappier Brut Nature Pinot noir Zéro Dosage Champagne",750,6,"Spécialité achat continu","Article actif"]
[11130231,"Liqueur","00083300034531","Chambord boisson de framboise",750,12,"Spécialité achat continu","Article actif"]
[11131778,"Vin rg Italie autres régions","08032790768176","Amorino Castorani Montepulciano Abruzzo Casauria",750,12,"Courant achat continu","Article actif"]
[11133036,"Vin rg Australie","00056049021599","Cabernet/Shiraz Cliff 79 South Eastern Australia",750,12,"Courant achat continu","Article actif"]
[11133108,"Vin rg Espagne","08410310601781","Hoya de Cadenas Reserva Privada Utiel-Requena",750,12,"Courant achat continu","Article actif"]
[11133124,"Vin bl États-Unis","00089819760091","Pinot grigio Beringer Collection California",750,12,"Courant achat continu","Article actif"]
[11133132,"Vin rg États-Unis","00089819068227","Cabernet-Sauvignon Beringer Collection California",750,12,"Courant achat continu","Article actif"]
[11133141,"Vin bl Italie Vénétie","00089819116621","Pinot grigio Gabbiano Promessa Delle Venezie",750,12,"Courant achat continu","Article actif"]
[11133167,"Vin bl États-Unis","00086003001640","Pinot grigio Woodbridge by Robert Mondavi Californie",750,12,"Courant achat continu","Article actif"]
[11133175,"Vin rg États-Unis","00018341751093","Zinfandel Barefoot Lodi Californie",750,12,"Courant achat continu","Article actif"]
[11133204,"Vin rg Italie Toscane","08001660108756","Il Ducale Ruffino Toscana i.g.t.",750,12,"Courant achat continu","Article actif"]
[11133212,"Vin rg Italie Vénétie","08000160632594","Folonari Verona Provincia di Verona i.g.t.",750,12,"Courant achat continu","Article en écoulement"]
[11133221,"Produits du Terroir","00627843005391","Clos Saragnat Avalanche Explorage cidre de glace",200,12,"Spécialité achat continu","Article actif"]
[11133239,"Vin rg Portugal","05601815421216","Animus Douro",750,12,"Courant achat continu","Article actif"]
[11133263,"Vin rg France Bordeaux","03192371104078","Château Picoron Côtes de Castillon",750,12,"Courant achat continu","Article actif"]
[11133327,"Vin rg France Bourgogne","00087113113407","Mercurey Albert Bichot",750,12,"Courant achat continu","Article en écoulement"]
[11133386,"Tequila","00744607069205","El Jimador 100% Agave Reposado tequila",750,12,"Courant achat continu","Article actif"]
[11133394,"Whisky Ecosse","03147699100639","Label 5 Classic Black scotch blend",750,12,"Courant achat continu","Article en écoulement"]
[11133765,"Vin rg France Bordeaux","03272810304112","Château du Bois Chantant Cuvée Laurence H Bordeaux supérieur",750,12,"Courant achat continu","Article actif"]
[11133811,"Vin bl Australie","09311789475974","Viognier Yalumba The Y Series South Australie",750,12,"Courant achat continu","Article actif"]
[11137352,"Produits du Terroir","00841125075395","Domaine Lafrance Cuvée Spéciale cidre de glace",200,12,"Spécialité achat continu","Article en écoulement"]
[11140674,"Mousseux","05450013151100","Cuvée de l'Ecusson Bernard- Massard Brut vin mousseux rosé",750,12,"Spécialité achat continu","Article actif"]
[11153264,"Vin rg France Bourgogne","08026080001425","Bourgogne Pinot noir Le Chapitre suivant René Bouvier",750,12,"Spécialité achat continu","Article actif"]
[11154822,"Vin rg France Sud-Ouest","03586610001721","Le Vin Noir Côtes du Brulhois",750,12,"Spécialité achat continu","Article actif"]
[11155665,"Vin bl Italie autres régions","00666056000205","Velenosi Verdicchio dei Castelli di Jesi Classico",750,12,"Spécialité achat continu","Article actif"]
[11156115,"Vin rg États-Unis","00099988071447","Zinfandel Folie à Deux Sonoma county Californie",750,12,"Spécialité achat continu","Article actif"]
[11156238,"Vin bl Portugal","05603790004200","Chaminé Cortes de Cima Vinho regional Alentejano blanc",750,12,"Courant achat continu","Article actif"]
[11156764,"Gin","00854745000548","Ungava Dry Gin",750,12,"Courant achat continu","Article actif"]
[11156887,"Spiritueux 200 à 375 ML","00795652200327","Chamisul Soju Classic Chamjin isulro boisson alcoolisée",375,24,"Spécialité achat continu","Article actif"]
[11156895,"Vin rg Argentine","00890464460034","Alma Negra M Blend Mendoza",750,12,"Spécialité achat continu","Article actif"]
[11157185,"Vin rg Espagne","08437006989046","El Bonhomme Valencia",750,12,"Spécialité achat continu","Article actif"]
[11165353,"Produits du Terroir","00854745000456","Coureur des Bois Domaine Pinnacle cidre apéritif érable",375,12,"Spécialité achat continu","Article actif"]
[11172254,"Produits du Terroir","00627843011040","Domaine des Salamandres Poiré de glace",200,12,"Spécialité achat continu","Article actif"]
[11172300,"Produits du Terroir","00627843011064","Domaine des Salamandres Poiré de glace Edition Limitée",200,12,"Spécialité achat continu","Article actif"]
[11178461,"Vin rg France autres régions","03249381012890","Merlot Bonne Nouvelle vin désalcoolisé",750,6,"Spécialité achat continu","Article actif"]
[11178605,"Vin bl France autres régions","03249381012913","Chardonnay  Bonne Nouvelle vin désalcoolisé",750,6,"Spécialité achat continu","Article actif"]
[11180342,"Vin rg Espagne","08410113003904","Tempranillo Ibéricos Crianza Torres Rioja",750,12,"Courant achat continu","Article actif"]
[11184861,"Vin rg France Languedoc","03525490014391","Les Jamelles G.S.M. Sélection Spéciale vin de pays d'Oc",750,12,"Courant achat continu","Article en écoulement"]
[11184896,"Liqueur","04067700012265","Jägermeister liqueur d'herbe",1140,6,"Courant achat continu","Article actif"]
[11184909,"Gin","00620213190307","Bombay Sapphire London dry gin",1750,6,"Courant achat continu","Article actif"]
[11184925,"Vin bl petits formats","07791728023114","Chenin blanc/Torrontes Fuzion Mendoza",375,24,"Courant achat continu","Article actif"]
[11184933,"Vin rg petits formats","07791728023107","Shiraz/Malbec Fuzion Zuccardi Mendoza",375,24,"Courant achat continu","Article actif"]
[11184968,"Vin rg Italie Toscane","08002235023313","Le Focaie Rocca di Montemassi Maremma Toscana i.g.t.",750,12,"Courant achat continu","Article actif"]
[11184976,"Vin rg Italie Piémont","08002365019606","La Vespa Michele Chiarlo Monferrato",750,12,"Courant achat continu","Article actif"]
[11184992,"Vin bl Nouvelle-Zélande","00087000408784","Sauvignon blanc New Harbor Marlborough",750,12,"Courant achat continu","Article actif"]
[11191826,"Vin rg Italie Toscane","08033210761210","Greppicante Bolgheri",750,12,"Courant achat continu","Article actif"]
[11192095,"Vin rg Chili","00608057104988","Pinot Noir Errazuriz Max Reserva Aconcagua Costa",750,12,"Courant achat continu","Article actif"]
[11193194,"Vin rg France Languedoc","03379431141277","Chemin des Olivettes Roquebrun Languedoc",750,12,"Courant achat continu","Article actif"]
[11201385,"Rhum","00088291100050","Ron Abuelo Anejo Varela Reserva Especial rhum ambré",750,12,"Spécialité achat continu","Article actif"]
[11202361,"Rhum","07461323129398","Ron Barcelo Gran Anejo rhum ambré",750,12,"Spécialité achat continu","Article actif"]
[11208561,"Vin rg États-Unis","00184745000072","Syrah Boom Boom Charles Smith Columbia Valley Washington",750,12,"Spécialité achat continu","Article actif"]
[11208747,"Vin rg Italie Vénétie","08015822000017","Allegrini Valpolicella",750,12,"Courant achat continu","Article actif"]
[11211428,"Produits du Terroir","00841125075289","Lacroix de Glace Verger Lacroix cidre de glace",50,24,"Spécialité achat continu","Article en écoulement"]
[11211436,"Produits du Terroir","00841125075296","Lacroix de Glace Verger Lacroix cidre de glace",200,12,"Spécialité achat continu","Article en écoulement"]
[11211452,"Produits du Terroir","00841125072080","Lacroix cocktail au cidre à la framboise pétillant gazéifié",750,12,"Spécialité achat continu","Article en écoulement"]
[11213600,"Produits du Terroir","00827924079017","Domaine St-Jacques vin de glace rouge",200,12,"Spécialité achat continu","Article actif"]
[11219761,"Produits du Terroir","00859810000300","Blizz Ferme Apicole Desrochers hydromel",750,12,"Spécialité achat continu","Article actif"]
[11222039,"Produits du Terroir","00841125071212","La Traversée Verger Joe Giguère cidre fort",750,12,"Spécialité achat continu","Article actif"]
[11222901,"Vin rg Espagne","08437004945396","Pago de Cirsus de Inaki Nunez Navarra",750,12,"Courant achat continu","Article actif"]
[11232149,"Mousseux","03174470080187","Louis Bouillot Perle d'Aurore Crémant de Bourgogne rosé",750,12,"Courant achat continu","Article actif"]
[11253564,"Vin bl France Sud-Ouest","03760094280135","Pyrène Cuvée Marine vin de pays des Côtes de Gascogne",750,12,"Courant achat continu","Article actif"]
[11253599,"Vin rg France Sud-Ouest","03760025958256","Château Lecusse Cuvée Spéciale Gaillac",750,12,"Courant achat continu","Article actif"]
[11253695,"Spiritueux 200 à 375 ML","00087000003446","Captain Morgan Original Spiced rhum épicé ambré",375,24,"Courant achat continu","Article actif"]
[11253708,"Spiritueux 200 à 375 ML","00736040012856","Hpnotiq boisson de fruit",375,12,"Courant achat continu","Article actif"]
[11253724,"Tequila","00080686835325","Hornitos Plata Sauza tequila",750,12,"Courant achat continu","Article en écoulement"]
[11253759,"Vin rg France Vallée du Rhône","03760036078516","Syrah Les Piliers Michel Gassier Costières de Nîmes",750,12,"Courant achat continu","Article actif"]
[11253960,"Vin rg Italie autres régions","08032430000444","Negroamaro Tenute del Sole Salento",750,12,"Courant achat continu","Article en écoulement"]
[11254065,"Vin bl divers pays","00088474022407","Riesling Relax Schmitt Söhne Qba Mosel",750,12,"Courant achat continu","Article actif"]
[11254188,"Vin rg Espagne","08410537200422","El Coto Crianza Rioja",750,12,"Courant achat continu","Article actif"]
[11254268,"Vin rg Italie Sicile Sardaigne","08006725101611","Capocaccia Sella & Mosca Sardegna Alghero",750,12,"Courant achat continu","Article actif"]
[11254313,"Vin rg Italie Vénétie","08008863026078","Pinot noir Santi nello Delle Venezie i.g.t.",750,12,"Courant achat continu","Article actif"]
[11254452,"Vin rg Italie autres régions","05010134009317","Negroamaro Mezzo Mondo Puglia IGT",750,12,"Courant achat continu","Article actif"]
[11254495,"Vin bl Italie Vénétie","00892339002172","Si Soave",750,12,"Courant achat continu","Article actif"]
[11254583,"Vin rg Italie Vénétie","08008863026085","Conte di Lucca Il Passo Veronese i.g.t.",750,12,"Courant achat continu","Article en écoulement"]
[11254604,"Vin rg Italie Vénétie","08002062001867","Modellissimo Masi Delle Venezie i.g.t.",750,12,"Courant achat continu","Article actif"]
[11254680,"Vin bl petits formats","00689352009925","Sauvignon blanc Kim Crawford Marlborough",375,12,"Courant achat continu","Article actif"]
[11259296,"Produits du Terroir","00063829999207","Médiéval Réserve Intermiel hydromel liquoreux",750,12,"Courant achat continu","Article actif"]
[11276336,"Bière","08410793333179","Damm Inedit bière type lager",750,12,"Courant achat continu","Article actif"]
[11276352,"Bière","05411676301301","Barbar Bok bière forte type ale",330,24,"Spécialité achat continu","Article actif"]
[11276395,"Bière","04037458000012","Aecht Schlenkerla Rauchbier Märzen bière fumée type ale",500,20,"Spécialité achat continu","Article actif"]
[11276408,"Bière","00839288002037","Samson Dark Original Czeck bière type lager noire",500,20,"Spécialité achat continu","Article actif"]
[11280757,"Cooler","00080480980870","Bacardi Fraises Daiquiri cocktail au spiritueux",750,12,"Courant achat continu","Article en écoulement"]
[11288484,"Vin rosé","00089819038428","White Zinfandel Beringer Collection California",1500,6,"Courant achat continu","Article actif"]
[11293646,"Produits du Terroir","00837294000405","Le Chevalier Miel Nature hydromel",350,12,"Spécialité achat continu","Article actif"]
[11293689,"Produits du Terroir","00841125072226","La Brunante Domaine Leduc- Piedimonte cidre mousseux",750,12,"Spécialité achat continu","Article actif"]
[11293697,"Produits du Terroir","00841125072202","La Brunante Domaine Leduc- Piedimonte cidre mousseux",375,12,"Spécialité achat continu","Article actif"]
[11298404,"Vin rg Italie autres régions","08000154000019","Prugneto Poderi dal Nespoli Sangiovese di Romagna Superior",750,12,"Spécialité achat continu","Article actif"]
[11305580,"Vin rg Italie Toscane","08033269000018","Caburnio Tenuta Monteti Toscana i.g.t",750,12,"Spécialité achat continu","Article actif"]
[11310151,"Bière","08006890622942","Birra Moretti bière type lager",330,24,"Courant achat continu","Article actif"]
[11314822,"Vin rg France Bordeaux","00878448000179","Mouton Cadet Réserve Saint-Emilion",750,12,"Courant achat continu","Article actif"]
[11314953,"Vin bl France Bordeaux","00878448000278","Mouton Cadet Réserve Graves",750,12,"Courant achat continu","Article en écoulement"]
[11314970,"Vin rg France Languedoc","03391181381239","Les Vignes de Bila-Haut Côtes du Roussillon Villages",750,12,"Courant achat continu","Article actif"]
[11315008,"Vin bl France Languedoc","03760029210053","Chardonnay La Belle Terrasse Maurel Vedeau vin de pays d'Oc",750,12,"Courant achat continu","Article en écoulement"]
[11315024,"Vin rg Italie Piémont","08000174004127","Briccotondo Fontanafredda Barbera Piemonte",750,12,"Courant achat continu","Article actif"]
[11315032,"Vin rg France Languedoc","03258691378008","Syrah/Cab.-Sauv. Domaine de Sérame Réserve vin pays d'Oc",750,12,"Courant achat continu","Article en écoulement"]
[11315075,"Vin rg grands formats","00057496003046","Cabernet/Merlot Lulu B. pays d'Oc IGP",3000,4,"Courant achat continu","Article actif"]
[11315083,"Rhum","00083664869718","Sailor Jerry rhum épicé ambré",750,12,"Courant achat continu","Article actif"]
[11315147,"Vin bl Espagne","00084159011230","Sauv. blanc Camino San Pablo vino de tierra Castilla-y-leon",750,12,"Courant achat continu","Article en écoulement"]
[11315155,"Vin rg Chili","07804350000320","Syrah Santa Carolina Reserva Valle del Rapel",750,12,"Courant achat continu","Article en écoulement"]
[11315171,"Vin rg divers pays","05281022045902","Clos St-Alphonse Château Ksara vallée de Bekaa",750,12,"Spécialité achat continu","Article actif"]
[11315411,"Vin rg Italie Toscane","08001935002789","Santa Cristina Chianti Superiore",750,12,"Courant achat continu","Article actif"]
[11315446,"Vin rg Italie Piémont","00851241000577","Ricossa Barbera d'Asti",750,12,"Courant achat continu","Article actif"]
[11315454,"Vin rg Afrique du Sud","00057496003404","Shiraz/Cab.-Sauv. Mopaya Stellenbosch",750,12,"Courant achat continu","Article actif"]
[11315489,"Vin bl États-Unis","00085000013595","Riesling Mirassou Californie",750,12,"Courant achat continu","Article actif"]
[11315497,"Vin rg États-Unis","00085000017746","Apothic Red Californie",750,12,"Courant achat continu","Article actif"]
[11317185,"Crème","08005829577001","Gianduia Crema boisson à la crème au chocolat et grappa",500,12,"Courant achat continu","Article actif"]
[11331737,"Vin rg Chili","07804407000143","Montgras Quatro valle de Colchagua",750,12,"Spécialité achat continu","Article actif"]
[11334161,"Vin rg États-Unis","00012086965319","Pinot noir Cloudline Willemette Valley Oregon",750,12,"Spécialité achat continu","Article actif"]
[11334794,"Vin bl Espagne","08410113001924","Muscat Natureo Torres",750,12,"Spécialité achat continu","Article actif"]
[11337910,"Vin rg Espagne","00896612001012","Giné Giné Buil & Giné Priorat",750,12,"Spécialité achat continu","Article actif"]
[11341855,"Mousseux","08003015031054","Chardonnay Carpineto Farnito Brut",750,6,"Spécialité achat continu","Article actif"]
[11342049,"Rhum","00087000151116","Captain Morgan Original Spiced rhum épicé ambré",1750,6,"Courant achat continu","Article actif"]
[11345258,"Vin rg Québec","01627843123018","Pinot noir Venice Carone",750,12,"Spécialité achat continu","Article actif"]
[11345291,"Produits du Terroir","00841125075678","Neige Méthode Traditionnelle cidre de glace pétillant",375,6,"Spécialité achat continu","Article actif"]
[11345645,"Vodka et Alcool","00688299666666","M.A. Signature Vodka Infusée au curcuma",750,12,"Spécialité achat continu","Article actif"]
[11345653,"Vodka et Alcool","00627040411414","Crystal Head vodka",750,6,"Spécialité achat continu","Article actif"]
[11347018,"Vin rg Italie Toscane","08001935002079","Il Bruciato Tenuta Guado al Tasso Bolgheri",750,12,"Spécialité achat continu","Article actif"]
[11355886,"Vin rg Italie Vénétie","08000834395008","Bosan Ripasso Cesari Valpolicella Superiore",750,6,"Spécialité achat continu","Article actif"]
[11355894,"Liqueur","00089540448169","Tia Maria boisson diverse",1140,6,"Courant achat continu","Article actif"]
[11355923,"Spiritueux 200 à 375 ML","00089540448183","Tia Maria boisson diverse",375,12,"Courant achat continu","Article actif"]
[11356441,"Whisky Ecosse","05010196066426","Whyte & Mackay Special scotch blended",1140,6,"Courant achat continu","Article actif"]
[11365531,"Crème","09421001291906","Caramilk boisson alcoolique à la crème",750,12,"Courant achat continu","Article en écoulement"]
[11368821,"Vin bl États-Unis","00049331021094","Chardonnay La Crema Monterey County Californie",750,12,"Spécialité achat continu","Article actif"]
[11372766,"Vin rosé","03186127750855","Le Pive Gris de Grande Camargue",750,12,"Courant achat continu","Article actif"]
[11372782,"Vin rg Portugal","00600470225004","Domingos Douro",750,12,"Courant achat continu","Article actif"]
[11372791,"Vin bl États-Unis","00081308592077","Chardonnay Cupcake Central Coast Californie",750,12,"Courant achat continu","Article actif"]
[11372811,"Vin rg États-Unis","00081308591872","Cabernet-Sauvignon Cupcake Central Coast Californie",750,12,"Courant achat continu","Article actif"]
[11372838,"Vin rg États-Unis","00089819539567","Pinot noir Santa Barbara Wine Company Californie",750,12,"Courant achat continu","Article en écoulement"]
[11373232,"Vin rg Argentine","07798116200621","Cabernet-Sauvignon Zolo Mendoza",750,12,"Courant achat continu","Article actif"]
[11373275,"Produits du Terroir","00841125073070","Rosé des Appalaches cidre aromatisé à la canneberge",750,12,"Spécialité achat continu","Article actif"]
[11374251,"Champagne","03554560011145","Lallier Grande Réserve Brut Champagne grand cru",750,6,"Courant achat continu","Article actif"]
[11374286,"Whisky Ecosse","05010496000427","McClellands Islay scotch single malt",750,12,"Courant achat continu","Article actif"]
[11374294,"Vin rg France Bordeaux","03258691384733","Dourthe la Grande Cuvée Montagne-Saint-Emilion",750,12,"Courant achat continu","Article en écoulement"]
[11374382,"Vin rg France Vallée du Rhône","03391182741230","La Ciboise Chapoutier Lubéron",750,12,"Courant achat continu","Article en écoulement"]
[11374391,"Vin rg France Languedoc","03564732005094","Terre à Terre Corbières",750,12,"Courant achat continu","Article actif"]
[11374411,"Vin rg France Languedoc","03564732007029","La Garnotte Corbières",750,12,"Courant achat continu","Article actif"]
[11375596,"Vin rg Argentine","00635335450826","Cabernet-Sauvignon Gran Lurton Reserva Mendoza",750,12,"Spécialité achat continu","Article actif"]
[11375692,"Vin rg divers pays","00087752006108","Cabernet-Sauvignon Barkan classic Galil",750,12,"Spécialité achat continu","Article actif"]
[11377049,"Vin bl France Languedoc","03263280107563","Chardonnay Grand Sud vin de France",1000,6,"Courant achat continu","Article actif"]
[11383473,"Vin rg États-Unis","00652935100012","Zinfandel 7 Deadly Zins Lodi Californie",750,12,"Spécialité achat continu","Article actif"]
[11383545,"Vin rg États-Unis","00739958057001","Cabernet Sauvignon Directors Cut Alexander Valley",750,12,"Spécialité achat continu","Article actif"]
[11383617,"Vin rg Italie Piémont","08025022005002","Nebbiolo Produttori del Barbaresco Langhe",750,12,"Spécialité achat continu","Article actif"]
[11386877,"Vin rg Chili","07804320227382","Pinot Noir Cono Sur Organico Valle de Colchagua",750,12,"Spécialité achat continu","Article actif"]
[11386885,"Vin rg Chili","07804407001829","Cab.-Sauv/Carmenère Antu Ninquen Valle de Colchagua",750,12,"Spécialité achat continu","Article actif"]
[11387298,"Vin rg Espagne","08437011078254","Otazu Premium Cuvée",750,12,"Spécialité achat continu","Article actif"]
[11387327,"Vin rg Espagne","00819451003900","Volver La Mancha",750,12,"Spécialité achat continu","Article actif"]
[11398253,"Produits du Terroir","00841125072295","Bulle de Neige La Face Cachée de la Pomme cidre mousseux",750,12,"Courant achat continu","Article actif"]
[11398270,"Vin rg Québec","00827924014018","Tinello Vignoble Gagliano",750,12,"Spécialité achat continu","Article actif"]
[11398317,"Produits du Terroir","00827924017064","Vidal Vignoble du Marathonien vin de glace",375,12,"Spécialité achat continu","Article actif"]
[11398325,"Vin bl Québec","00827924017019","Seyval Blanc Vignoble du Marathonien vin blanc",750,12,"Spécialité achat continu","Article actif"]
[11398368,"Produits du Terroir","00627843083962","Pommes Tardives Verger Gervais et Labelle cidre liquoreux",375,12,"Spécialité achat continu","Article actif"]
[11398405,"Produits du Terroir","-","Signature Réserve spéciale Dom. Pinnacle cidre de glace",200,12,"Spécialité achat continu","Article en écoulement"]
[11401133,"Vodka et Alcool","00208352290050","Absolut vodka",1140,6,"Courant achat continu","Article actif"]
[11401352,"Apéritif","00000570210076","Martini Rosso vermouth",1000,6,"Courant achat continu","Article actif"]
[11401547,"Vin rg France Bordeaux","03760055223201","Château de Carolle Graves",750,12,"Courant achat continu","Article actif"]
[11405652,"Whisky Ecosse","00080432402689","Chivas Regal 12 ans scotch blended",1140,6,"Courant achat continu","Article actif"]
[11405661,"Whisky Ecosse","05010106111833","Ballantine's scotch blended",1140,6,"Courant achat continu","Article actif"]
[11405679,"Gin","05000329002353","Beefeater London dry gin",1140,6,"Courant achat continu","Article actif"]
[11406081,"Liqueur","00089540454085","Kahlua boisson diverse",1140,6,"Courant achat continu","Article en écoulement"]
[11408642,"Apéritif","08000020000020","Cinzano Rosso vermouth",1000,6,"Courant achat continu","Article actif"]
[11409371,"Vin rg États-Unis","00652935100098","Syrah Sixth Sense Lodi Californie",750,12,"Spécialité achat continu","Article actif"]
[11414145,"Vin rg Espagne","08413472059421","Lan Reserva Rioja",750,12,"Spécialité achat continu","Article actif"]
[11416335,"Rhum","00856981000290","Ron Barcelo Imperial rhum ambré",750,6,"Spécialité achat continu","Article actif"]
[11426980,"Liqueur","08006550643003","Sambuca Ramazzotti liqueur d'anis",1140,6,"Courant achat continu","Article actif"]
[11427544,"Vin rosé Québec","00827924079048","Domaine St-Jacques Rosé",750,12,"Spécialité achat continu","Article actif"]
[11435181,"Brandy et Cognac","08000440112914","Stock 84 Vieille Réserve brandy",1140,6,"Courant achat continu","Article actif"]
[11439772,"Whisky Ecosse","05024546356679","Grand Macnish scotch blended",1140,6,"Courant achat continu","Article actif"]
[11440221,"Cooler","00779469002435","Palm Bay Pamplemousse Rose (6x355) canette boisson vodka",355,24,"Courant achat continu","Article actif"]
[11440255,"Cooler","00779469002428","Palm Bay Ananas/Mandarine/ Orange (6x355) canette boisson",355,24,"Courant achat continu","Article actif"]
[11440271,"Cooler","09421001291944","Caramilk cooler (4 x 270 ml) boisson crémeuse à la vodka",270,24,"Courant achat continu","Article en écoulement"]
[11440343,"Produits du Terroir","00627843011095","Domaine des Salamandres Poiré de glace",375,12,"Spécialité achat continu","Article actif"]
[11440351,"Produits du Terroir","00827924012083","Les Folies du Vigneron Vignoble de la Bauge vermouth",500,12,"Spécialité achat continu","Article actif"]
[11440378,"Produits du Terroir","00827924012090","Vignoble de la Bauge La Flambée vin rouge fortifié",500,12,"Spécialité achat continu","Article actif"]
[11440394,"Vin bl Québec","00827924022020","Vignoble de Sainte-Petronille Réserve du bout de l'île",750,12,"Spécialité achat continu","Article actif"]
[11440407,"Produits du Terroir","00827924036232","Eraporteros vin fortifié aromatisé au sirop d'érable",500,12,"Spécialité achat continu","Article actif"]
[11440423,"Produits du Terroir","00841125075579","Signature Verger Lacroix cidre de glace mousseux",375,12,"Spécialité achat continu","Article actif"]
[11440431,"Produits du Terroir","00827924003074","Riesling Givrée d'Ardoise vin de glace",375,12,"Spécialité achat continu","Article en écoulement"]
[11440440,"Produits du Terroir","00827924003067","Givrée d'Ardoise vin de glace rosé",375,12,"Spécialité achat continu","Article en écoulement"]
[11441338,"Produits du Terroir","00827924080013","Zéphyr Domaine Mont-Vézeau vin de fraise",500,12,"Spécialité achat continu","Article actif"]
[11441389,"Produits du Terroir","00827924071035","Domaine L'ange Gardien vin blanc fortifié",375,12,"Spécialité achat continu","Article actif"]
[11441400,"Vin rg Québec","00827924073015","Terratabac Vignoble le Mernois",750,12,"Spécialité achat continu","Article actif"]
[11441418,"Produits du Terroir","00841125075685","Le Fruit Défendu La Pommeraie du Suroît cidre de glace",375,12,"Spécialité achat continu","Article actif"]
[11442672,"Mousseux","00852832000174","Mumm Napa Californie mousseux rosé",750,6,"Courant achat continu","Article actif"]
[11442701,"Mousseux","00852832000150","Mumm Napa Brut Prestige Californie mousseux",750,6,"Courant achat continu","Article actif"]
[11445566,"Vin rosé","00871131110308","Bourgogne Pinot noir Albert Bichot rosé",750,12,"Courant achat continu","Article actif"]
[11446622,"Vodka et Alcool","04600659111155","Moskovskaya vodka",1140,6,"Courant achat continu","Article actif"]
[11447393,"Whisky Ecosse","00622153631063","Johnnie Walker Red Label scotch blended",1140,6,"Courant achat continu","Article actif"]
[11447406,"Whisky Ecosse","00622153629060","Johnnie Walker Black Label 12 ans scotch blended",1140,6,"Courant achat continu","Article actif"]
[11447414,"Gin","00622153625062","Tanqueray London dry gin",1140,6,"Courant achat continu","Article actif"]
[11450824,"Bière","04600682511014","Baltika 7 bière type lager",500,20,"Spécialité achat continu","Article actif"]
[11450832,"Bière","04054500525811","Valentins Hefeweissbier bière type ale canette",500,24,"Spécialité achat continu","Article actif"]
[11450841,"Bière","00780369919242","Shipyard IPA bière forte type ale",355,24,"Spécialité achat continu","Article actif"]
[11450859,"Bière","00081706000037","Chimay Bleue Pères Trappistes bière extra forte type ale",330,24,"Spécialité achat continu","Article actif"]
[11450891,"Bière","00085725115086","Samuel Smith's Nut Brown bière tyle ale",550,12,"Spécialité achat continu","Article actif"]
[11450904,"Bière","05411616000059","Martens Pilsener bière type lager canette",500,24,"Spécialité achat continu","Article actif"]
[11450912,"Bière","00082054133316","Warsteiner Premium Dunkel bière type lager canette",500,24,"Spécialité achat continu","Article actif"]
[11450921,"Bière","00737398027172","Schneider Hopfen Weisse bière forte type ale",500,20,"Spécialité achat continu","Article actif"]
[11451835,"Tequila","00811538010795","José Cuervo Especial Silver tequila",1140,6,"Courant achat continu","Article actif"]
[11456863,"Brandy et Cognac","00088110153052","Hennessy Cognac X.O.",750,6,"Spécialité achat continu","Article actif"]
[11459247,"Vin rg France Languedoc","03233960009432","Terroir Catalan Côtes du Roussillon Villages Caramany",750,12,"Courant achat continu","Article en écoulement"]
[11459386,"Vin rg Australie","09311659000572","Shiraz Clare Valley Wakefield",750,12,"Courant achat continu","Article actif"]
[11459482,"Vin rg France Beaujolais","03351650014488","Beaujolais Fun Georges Duboeuf",750,12,"Courant achat continu","Article actif"]
[11459677,"Vin bl France Alsace","03185130031029","Pinot blanc Pfaffenheim Grande Réserve Alsace",750,12,"Courant achat continu","Article actif"]
[11459693,"Vin bl France Sud-Ouest","03119460000844","Sauvignon blanc Le Jaja de Jau Côtes de Gascogne",750,12,"Courant achat continu","Article actif"]
[11459722,"Rhum","00689768871314","Barbancourt *** 4 ans rhum ambré",750,12,"Courant achat continu","Article actif"]
[11459731,"Rhum","00082000741756","Captain Morgan Private Stock rhum épicé",750,12,"Courant achat continu","Article actif"]
[11459765,"Whisky Ecosse","05010103800440","J. & B. Rare Old scotch blended",1140,6,"Courant achat continu","Article actif"]
[11459790,"Spiritueux 200 à 375 ML","00080686832607","Sauza Silver tequila",375,24,"Courant achat continu","Article actif"]
[11461988,"Vin rg États-Unis","00085000016220","Merlot Ghost Pines Winemaker's Blend Californie",750,12,"Courant achat continu","Article actif"]
[11462008,"Vin rg Italie autres régions","00892339002233","Negroamaro Nero Giorgio & Gianni Salento i.g.t.",750,12,"Courant achat continu","Article actif"]
[11462024,"Vin rg Italie autres régions","00748132106015","Bacchus Montepulciano d'Abruzzo",750,12,"Courant achat continu","Article en écoulement"]
[11462059,"Vin rg grands formats","05601129244242","Meia Encosta Dâo",3000,4,"Courant achat continu","Article actif"]
[11462083,"Vin rg Italie Vénétie","00641734000210","Corvina/Merlot Cormi Zenato Veneto i.g.t",750,12,"Spécialité achat continu","Article actif"]
[11462104,"Vin rg grands formats","00056049026105","Cabernet/Shiraz Cliff 79 South Eastern Australia",3000,4,"Courant achat continu","Article actif"]
[11462112,"Vin rg Canada","00063657019900","Merlot Jackson-Triggs Black Reserve VQA Niagara",750,12,"Courant achat continu","Article actif"]
[11462147,"Vin de Dessert","00085000019030","Moscato McWilliam's Hanwood Estate South Eastern Australia",750,12,"Courant achat continu","Article actif"]
[11462171,"Vin rg grands formats","00056049026082","Syrah RH Phillips Californie",3000,4,"Courant achat continu","Article actif"]
[11462227,"Vin rg Espagne","08410702024693","Tempranillo Los Molinos Seleccion",1000,12,"Courant achat continu","Article en écoulement"]
[11462382,"Vin rg Espagne","08437005068858","Garnacha Honoro Vera Bodegas Ateca vieillesvignes Calatayud",750,12,"Courant achat continu","Article actif"]
[11462391,"Vin bl Italie Vénétie","08008960246010","Pinot Grigio Bolla Delle Venezie i.g.t.",750,12,"Courant achat continu","Article actif"]
[11462403,"Vin rg États-Unis","00085000011638","Cabernet-Sauvignon Louis M. Martini Sonoma Californie",750,12,"Courant achat continu","Article en écoulement"]
[11462411,"Vin bl grands formats","00081308000848","Big House White Californie",3000,3,"Courant achat continu","Article actif"]
[11462420,"Vin rg grands formats","00081308000831","Big House Red Californie",3000,3,"Courant achat continu","Article actif"]
[11462446,"Vin rg Espagne","08410302121006","Campo Viejo Rioja",750,12,"Courant achat continu","Article actif"]
[11463828,"Vin bl France Val de Loire","03490960130003","Sauvign.blanc Attitude Pascal Jolivet IGP Val de Loire",750,12,"Spécialité achat continu","Article actif"]
[11464257,"Rhum","00621705111145","Appleton Estate V/X rhum ambré",1140,6,"Courant achat continu","Article actif"]
[11470593,"Brandy et Cognac","00088004400316","D'Eaubonne V.S.O.P. brandy",1140,8,"Courant achat continu","Article actif"]
[11472337,"Vin rg Italie Toscane","08002235020121","Castello d'Albola Chianti Classico",750,12,"Courant achat continu","Article actif"]
[11479521,"Bière","00815833002417","Czechvar Premium bière type lager",500,24,"Spécialité achat continu","Article actif"]
[11479539,"Bière","05010549305745","Old Speckled Hen bière type ale canette",500,24,"Spécialité achat continu","Article actif"]
[11480054,"Rhum","08501110080682","Havana Club Anejo Reserva rhum ambré",1140,6,"Courant achat continu","Article actif"]
[11495168,"Vodka et Alcool","00048415345927","Polar Ice vodka",1140,9,"Courant achat continu","Article actif"]
[11495230,"Rhum","08501110080859","Havana Club Anejo Blanco rhum blanc",1140,6,"Courant achat continu","Article en écoulement"]
[11495424,"Whisky","00080686821311","Canadian Club whisky canadien",1140,8,"Courant achat continu","Article actif"]
[11495512,"Whisky","00080686002147","Jim Beam Sour Mash Kentucky Bourbon whiskey américain",1140,8,"Spécialité achat continu","Article actif"]
[11495555,"Tequila","00080686831037","Sauza Gold tequila",1140,9,"Spécialité achat continu","Article actif"]
[11495571,"Tequila","00080686832034","Sauza Silver tequila",1140,9,"Courant achat continu","Article actif"]
[11495601,"Whisky Ecosse","00622153612062","Dewar's White Label scotch blended",1140,6,"Courant achat continu","Article actif"]
[11506120,"Vin bl Québec","00827924079024","Classique de St-Jacques Domaine St-Jacques",750,12,"Spécialité achat continu","Article actif"]
[11506306,"Vin rg Québec","00827924079062","Sélection de St-Jacques Domaine St-Jacques",750,12,"Spécialité achat continu","Article actif"]
[11506331,"Produits du Terroir","00827924079093","Domaine St-Jacques vin de glace de St-Jacques",200,12,"Spécialité achat continu","Article actif"]
[11506365,"Vin rg Québec","00827924079079","Réserve de St-Jacques Domaine St-Jacques",750,12,"Spécialité achat continu","Article actif"]
[11506390,"Vin bl Québec","00827924079031","Réserve de St-Jacques Domaine St-Jacques blanc",750,12,"Spécialité achat continu","Article actif"]
[11506541,"Produits du Terroir","00827924037109","Vidal Bise d'Automne Vendanges Tardives Domaine du Ridge",375,12,"Spécialité achat continu","Article actif"]
[11506605,"Vin rg Québec","00827924014063","Frontenac Noir Vignoble Gagliano",750,12,"Spécialité achat continu","Article actif"]
[11506630,"Vin rg Québec","01627843122998","Double Barrel Anthony Carone",750,12,"Spécialité achat continu","Article actif"]
[11506672,"Produits du Terroir","00609780003104","Grande Tentation Rosé Michel Jodoin4x330ml cidre pétillant",330,24,"Spécialité achat continu","Article actif"]
[11506779,"Produits du Terroir","00609780002053","Michel Jodoin cidre mousseux méthode traditionnelle",750,12,"Spécialité achat continu","Article actif"]
[11506955,"Produits du Terroir","00841125075364","Réserve Privé Leduc-Piedimonte cidre de glace",375,6,"Spécialité achat continu","Article actif"]
[11509857,"Vin rg France Vallée du Rhône","03760169470584","Daumen Côtes-du-Rhône",750,12,"Spécialité achat continu","Article actif"]
[11518761,"Vin bl Portugal","05601237001102","Vinho regional Catarina Peninsula de Setubal",750,12,"Spécialité achat continu","Article actif"]
[11529591,"Vin bl Australie","00056049028918","Chardonnay Cliff 79 South East Australia",750,12,"Courant achat continu","Article actif"]
[11530795,"Vin rg Chili","07804603660653","Syrah Reserva Vina Chocalan valle del Maipo",750,12,"Spécialité achat continu","Article actif"]
[11530841,"Gin","00620213190208","Bombay Sapphire London dry gin",1140,6,"Courant achat continu","Article actif"]
[11541890,"Apéritif","00622153621040","Pimm's No.1 Original apéritif à base de gin",750,12,"Spécialité achat continu","Article actif"]
[11542121,"Liqueur","00721733800032","Patron X.O. liqueur de café",750,6,"Spécialité achat continu","Article actif"]
[11543369,"Crème","05011013510597","Baileys l'original boisson à la crème de noisette",750,12,"Courant achat continu","Article actif"]
[11544257,"Vodka et Alcool","00081753822262","Belvedere vodka",1750,6,"Spécialité achat continu","Article actif"]
[11544302,"Apéritif","00000570710071","Martini sec vermouth",1000,6,"Courant achat continu","Article actif"]
[11544337,"Mousseux","00000570965815","Martini & Rossi Asti mousseux",750,6,"Courant achat continu","Article actif"]
[11551254,"Vodka et Alcool","00721059011143","Skyy vodka",1140,6,"Courant achat continu","Article actif"]
[11556901,"Vin rg France Bordeaux","03258691474151","Château de Ricaud Cadillac Côtes de Bordeaux",750,12,"Courant achat continu","Article actif"]
[11557007,"Vodka et Alcool","00082000734833","Smirnoff vodka",750,12,"Courant achat continu","Article actif"]
[11557445,"Vin bl Argentine","00852832105565","Pinot grigio Graffigna Centenario San Juan",750,12,"Courant achat continu","Article actif"]
[11557453,"Vin rg Argentine","00852832105527","Malbec Graffigna Centenario San Juan",750,12,"Courant achat continu","Article en écoulement"]
[11557509,"Vin rg Espagne","08437009337714","Vina Bujanda Crianza Rioja",750,12,"Courant achat continu","Article actif"]
[11557517,"Vin rg Italie Vénétie","08008863032550","Malbech Vivolo di Sasso Veneto i.g.t.",750,12,"Courant achat continu","Article en écoulement"]
[11558763,"Rhum","00057496003381","Black Cove Supérieur Spiced rhum épicé ambré",750,12,"Courant achat continu","Article actif"]
[11565007,"Mousseux","00085155000402","Chandon mousseux rosé",750,6,"Courant achat continu","Article actif"]
[11565955,"Vin rg Italie autres régions","00818276000347","Sangiovese/Cab.-Sauv. Liano Umberto Cesari Rubicone i.g.t.",1500,6,"Spécialité achat continu","Article actif"]
[11570682,"Vin rg Italie Vénétie","08008960684478","Bolla Valpolicella Ripasso Classico Superiore",750,12,"Courant achat continu","Article actif"]
[11575619,"Produits du Terroir","00827924082116","Du Tremblay vin fortifié",750,12,"Spécialité achat continu","Article actif"]
[11575627,"Produits du Terroir","00841125072448","Le Cuivré Les Vergers de la Colline cidre mousseux",750,12,"Spécialité achat continu","Article actif"]
[11575635,"Produits du Terroir","00837294000566","Signature Hydromel Cuvée réserve",750,12,"Spécialité achat continu","Article actif"]
[11575643,"Produits du Terroir","00061013001156","Vieux Moulin hydromel de bleuet",750,12,"Spécialité achat continu","Article actif"]
[11575651,"Produits du Terroir","00061013001163","Vieux Moulin hydromel doux",750,12,"Spécialité achat continu","Article actif"]
[11575678,"Produits du Terroir","00827924014032","Frontenac gris Vignoble Gagliano vin de glace",200,12,"Spécialité achat continu","Article actif"]
[11575731,"Vin bl Québec","00827924014070","Frontenac gris Vignoble Gagliano",750,12,"Spécialité achat continu","Article actif"]
[11575774,"Produits du Terroir","00841125075654","Reserve Pomum Gélidus Domaine des Glaces cidre de glace",375,12,"Spécialité achat continu","Article en écoulement"]
[11575811,"Vin bl Québec","00827924071042","Domaine L'ange Gardien vin blanc",750,12,"Spécialité achat continu","Article actif"]
[11575918,"Produits du Terroir","08279240960142","Monartik vin de glace",200,12,"Spécialité achat continu","Article actif"]
[11576275,"Vin rg Québec","00827924076016","Cuvée Alexandra Les Vents d'Ange Saint-Joseph-du-Lac",750,12,"Spécialité achat continu","Article actif"]
[11581373,"Vin rg Italie Sicile Sardaigne","00057496003725","Cab.-Sauv/Sangiovese Strada Alta Sicilia i.g.t.",750,12,"Courant achat continu","Article en écoulement"]
[11581390,"Vin rg Espagne","00057496003732","Cab/Tempranillo Campo de la Taranta Crianza La Mancha",750,12,"Courant achat continu","Article en écoulement"]
[11581429,"Vin rg France Languedoc","00056049028901","Cabernet-Sauvignon/Syrah Etienne Marceau vin pays d'Oc",1000,12,"Courant achat continu","Article actif"]
[11582659,"Rhum","00087000150331","Captain Morgan rhum brun",1140,8,"Courant achat continu","Article actif"]
[11582907,"Whisky","00082184080900","Jack Daniel's Old No 7 whiskey américain",1140,6,"Courant achat continu","Article actif"]
[11582940,"Liqueur","00088544016756","Southern Comfort liqueur de pêche et de bourbon",1140,6,"Courant achat continu","Article actif"]
[11582958,"Vodka et Alcool","00627098163358","Iceberg vodka",1140,9,"Courant achat continu","Article actif"]
[11584013,"Whisky","00087000010383","Crown Royal whisky canadien",1140,9,"Courant achat continu","Article actif"]
[11584072,"Gin","00622153139064","Gordon's London dry gin",1140,9,"Courant achat continu","Article actif"]
[11584136,"Whisky","00087000010345","Seagram's V.O. whisky canadien",1140,8,"Courant achat continu","Article actif"]
[11584321,"Rhum","00087000150300","Captain Morgan rhum blanc",1140,8,"Courant achat continu","Article actif"]
[11584478,"Rhum","00087000151109","Captain Morgan Original Spiced rhum épicé ambré",1140,8,"Courant achat continu","Article actif"]
[11584486,"Vodka et Alcool","00776103000277","Smirnoff triple distillation vodka",1140,8,"Courant achat continu","Article actif"]
[11584806,"Rhum","00622153160068","Ron Carioca rhum blanc",1140,8,"Courant achat continu","Article actif"]
[11584849,"Vodka et Alcool","00622153190065","Troika vodka",1140,8,"Courant achat continu","Article actif"]
[11585075,"Liqueur","00089540520278","Malibu Black boisson au rhum et noix de coco",750,12,"Spécialité achat continu","Article actif"]
[11588196,"Rhum","00627040065044","Le célèbre Newfoundland Screech rhum ambré",750,12,"Spécialité achat continu","Article actif"]
[11588348,"Vin rg France Bordeaux","03523150120062","Château de la Rivière Fronsac",750,12,"Spécialité achat continu","Article actif"]
[11588381,"Champagne","03277762104971","Devaux Blanc de Noirs Brut Champagne",750,6,"Spécialité achat continu","Article actif"]
[11603288,"Whisky Ecosse","05010493008754","Cutty Sark scotch blended",1140,6,"Courant achat continu","Article en écoulement"]
[11603510,"Vin rg États-Unis","00894509008502","Cabernet-Sauvignon The Show Californie",750,12,"Courant achat continu","Article actif"]
[11604889,"Vodka et Alcool","06412709021141","Finlandia vodka",1140,6,"Courant achat continu","Article actif"]
[11607351,"Bière","04004866222237","Hacker-Pschorr Weisse bière type ale",500,18,"Spécialité achat continu","Article actif"]
[11607609,"Vin rg divers pays","03800213971954","Merlot/Mavrud St. Ilia Estate Edoardo Thracian Valley",750,6,"Spécialité achat continu","Article actif"]
[11607684,"Liqueur","00082184000328","Jack Daniel's Tennessee Honey liqueur de miel",750,12,"Courant achat continu","Article actif"]
[11621144,"Vin bl Italie Vénétie","00057496003947","Pinot grigio Villa Di Ponticello Delle Venezie i.g.t",750,12,"Courant achat continu","Article actif"]
[11629787,"Vin bl États-Unis","01847450004443","Riesling Kung Fu Girl Washington State",750,12,"Spécialité achat continu","Article actif"]
[11633073,"Produits du Terroir","00827924014094","Donna Livia Vignoble Gagliano vin mousseux rosé",750,12,"Spécialité achat continu","Article actif"]
[11633129,"Produits du Terroir","00827924014087","Vignoble Gagliano Donna Livia vin mousseux",750,12,"Spécialité achat continu","Article actif"]
[11633153,"Produits du Terroir","00813319004146","Pomme de glace Verger St-Denis cidre de glace",500,6,"Spécialité achat continu","Article en écoulement"]
[11633161,"Vin rg Québec","00827924037116","Le bâtonnier Domaine du Ridge",750,12,"Spécialité achat continu","Article actif"]
[11638333,"Rhum","00699013000550","Ron Zacapa 23 Solera Gran Reserva",750,6,"Spécialité achat continu","Article actif"]
[11639070,"Apéritif","00086785900001","Aperol boisson amère alcoolisé",750,6,"Spécialité achat continu","Article actif"]
[11649147,"Rhum","00620213015105","Bacardi Superior rhum blanc",1140,8,"Courant achat continu","Article actif"]
[11661761,"Vin bl Italie autres régions","00818276001160","Chard./sauv.blanc Liano Umberto Cesari rubicone i.g.t.",750,6,"Spécialité achat continu","Article actif"]
[11662683,"Rhum","07460855202197","Brugal Ron Anejo rhum ambré",750,12,"Courant achat continu","Article actif"]
[11669148,"Vin rg Italie Piémont","08016001000682","Mompertone Prunotto Monferrato",750,12,"Courant achat continu","Article actif"]
[11674529,"Champagne","03113841004001","Ayala Majeur Champagne rosé",750,6,"Courant achat continu","Article actif"]
[11674764,"Vin rg États-Unis","00056049030829","Merlot/Zinfandel/Syrah Exp Liaison California",750,12,"Courant achat continu","Article actif"]
[11675505,"Vin rg Argentine","07790168000563","Shiraz Graffigna Centenario Reserve San Juan",750,12,"Courant achat continu","Article actif"]
[11675572,"Vin rg États-Unis","00057496004685","Red Velvet Cupcake Vineyards California",750,12,"Courant achat continu","Article actif"]
[11675652,"Vin rg Chili","00831573000193","Malbec Tributo Caliterra Single Vineyard Colchagua",750,12,"Courant achat continu","Article actif"]
[11675679,"Vin bl France Alsace","03263530020512","Pinot gris Pierre Sparr Reserve Alsace",750,12,"Courant achat continu","Article actif"]
[11675708,"Vin bl France Bourgogne","03260980001573","Pouilly-Fuissé Jean-Claude Boisset",750,12,"Courant achat continu","Article actif"]
[11675871,"Vin bl France Sud-Ouest","03586610002032","Carrelot des Amants Côtes Gascogne blanc",750,12,"Courant achat continu","Article actif"]
[11675927,"Vin rg France Beaujolais","03264380076490","Domaine du Prieuré Saint- Romain Moulin-à-Vent",750,12,"Courant achat continu","Article en écoulement"]
[11675994,"Vin bl France Languedoc","03351650016147","Chardonnay Fun Reserve Georges Duboeuf vin de pays d'Oc",750,12,"Courant achat continu","Article actif"]
[11676006,"Vin rg France Bourgogne","00087113112608","Côte-de-Nuits-Villages Albert Bichot",750,12,"Spécialité achat continu","Article actif"]
[11676022,"Vin rg France Languedoc","00083729006690","Cab-sauvignon/Syrah Castel Sans-Façon Pays d'Oc i.g.p.",750,12,"Courant achat continu","Article actif"]
[11676111,"Vin rg Argentine","00718742006005","Malbec Pascual Toso Édition Limitée Mendoza",750,12,"Courant achat continu","Article actif"]
[11676137,"Vin bl France Languedoc","00083729006706","Chardonnay/viognier Castel Sans-Façon vin de pays d'Oc",750,12,"Courant achat continu","Article actif"]
[11676145,"Vin rg France Languedoc","03514124231037","Grenache/Syrah Gérard Bertrand Grand Terroir C.d.R. Tautavel",750,12,"Courant achat continu","Article actif"]
[11676161,"Vin rg Argentine","07791728004939","Cabernet/malbec Zuccardi Serie A Mendoza",750,12,"Courant achat continu","Article actif"]
[11676313,"Vin rg Afrique du Sud","06001108018014","Cabernet-sauvignon Nederburg Manor House",750,12,"Courant achat continu","Article actif"]
[11676364,"Vin rg Australie","09311043018879","Shiraz/Sangiovese Hardy's No.3 Chronicle Butcher's Gold",750,12,"Courant achat continu","Article actif"]
[11676381,"Vin rg France Languedoc","03760040426259","Vignobles Paul Mas Cabernet de Cabernet Pays d'Oc",750,12,"Courant achat continu","Article actif"]
[11676436,"Vin rg France Languedoc","03298020265470","Syrah Foncalieu Le Versant Pays d`Oc IGP",750,12,"Courant achat continu","Article actif"]
[11676452,"Vin rg Australie","00085000019955","Red Blend McWilliams Hanwood Estate South Eastern Australia",750,12,"Courant achat continu","Article en écoulement"]
[11676461,"Vin rg Australie","09311910103103","Shiraz/Tempranil./mourv./gren. Layers Peter Lehmann Barossa",750,12,"Courant achat continu","Article actif"]
[11676479,"Crème","00057496004050","Sortilège Crème d'Érable boisson à la crème au whisky",1140,12,"Courant achat continu","Article actif"]
[11676487,"Crème","00854745000739","Coureur des Bois boisson à la crème et au sirop d'érable",1140,6,"Courant achat continu","Article actif"]
[11676495,"Vin rg France Sud-Ouest","03242160101273","Malbec Tarani Réserve Cahors",750,12,"Courant achat continu","Article actif"]
[11676567,"Vin rg Italie Piémont","08002235022095","Castello del Poggio Barbera d'Asti",750,12,"Courant achat continu","Article actif"]
[11676591,"Vin de Dessert","08002235807555","Castello del Poggio Moscato d'Asti",750,12,"Courant achat continu","Article actif"]
[11676604,"Vin rg Italie autres régions","08019873724540","Sangiovese/Cabernet-Sauvignon Farnese Soluna Terre du Chieti",750,12,"Courant achat continu","Article actif"]
[11676647,"Vin rg Espagne","08425045000792","Tempranillo Vega Ibor vino de la tierra de Castilla",750,12,"Courant achat continu","Article en écoulement"]
[11676655,"Vin rg France Vallée du Rhône","03260980027658","Bonpas Grande Exception Silbertus Vacqueyras",750,12,"Spécialité achat continu","Article actif"]
[11676671,"Vin rg Espagne","08422443001802","Monastrell Hecula Castano Yecla",750,12,"Courant achat continu","Article actif"]
[11676680,"Vin rg Espagne","08410310606670","Bobal Vicente Gandia Bo Utiel- Requena",750,12,"Courant achat continu","Article actif"]
[11676727,"Mousseux","00727760501584","Mionetto Sergio vin mousseux rosé",750,12,"Courant achat continu","Article en écoulement"]
[11676735,"Rhum","05014396301097","El Dorado Demerara rhum épicé brun",1140,12,"Courant achat continu","Article en écoulement"]
[11676778,"Vin rg Italie Vénétie","08008863033403","Corvina Divici Veronese i.g.t.",750,12,"Courant achat continu","Article en écoulement"]
[11676794,"Vin rg Italie Sicile Sardaigne","08030423001072","Merlot Montalto Collezione di Famiglia Sicilia i.g.t.",750,12,"Courant achat continu","Article actif"]
[11676815,"Rhum","00620213200006","Oakheart Bacardi rhum épicé ambré",750,12,"Courant achat continu","Article en écoulement"]
[11677092,"Vin rg Italie Sicile Sardaigne","08034115191164","Nero d'Avola Miopasso Sicilia i.g.t.",750,12,"Courant achat continu","Article actif"]
[11677421,"Vin bl Canada","00063657006955","Sauvignon blanc Jackson-Triggs Reserve VQA Niagara Peninsula",750,12,"Courant achat continu","Article actif"]
[11677691,"Vin bl Australie","09300727135513","Chardonnay Jacob's Creek Reserve Adelaide Hills",750,12,"Courant achat continu","Article actif"]
[11677877,"Vodka et Alcool","04603400001224","Russian Standard vodka",1140,6,"Courant achat continu","Article actif"]
[11679119,"Produits du Terroir","00827924022068","Vignoble de Sainte-Pétronille Vandal vin de glace",200,12,"Spécialité achat continu","Article actif"]
[11679135,"Vin bl Québec","00827924037123","Vidal du Ridge Domaine du Ridge",750,12,"Spécialité achat continu","Article actif"]
[11679231,"Vin bl Québec","00827924070014","Les Petits Cailloux vin blanc",500,12,"Spécialité achat continu","Article actif"]
[11679629,"Produits du Terroir","00827924070045","Les petit cailloux vin passerillé glacé blanc",200,12,"Spécialité achat continu","Article actif"]
[11679670,"Produits du Terroir","00827924070052","Les Petits Cailloux vin passerillé glacé rouge",200,12,"Spécialité achat continu","Article actif"]
[11679944,"Vin rg Québec","00827924070038","Les petits cailloux vin rouge",750,12,"Spécialité achat continu","Article actif"]
[11679952,"Vin rosé Québec","00827924070021","Les Petits Cailloux vin rosé",500,12,"Spécialité achat continu","Article actif"]
[11680101,"Produits du Terroir","00162784316767","Rouge Berry Vignoble d'Oka vin de fraise et framboise",375,12,"Spécialité achat continu","Article actif"]
[11680321,"Produits du Terroir","00661799383417","Rêve Bleu Boisson alcoolisée à base de Bleuet",200,12,"Spécialité achat continu","Article actif"]
[11680435,"Produits du Terroir","00661799383400","L'apéribleu Le Rêve Bleu vin de bleuet",500,12,"Spécialité achat continu","Article actif"]
[11680460,"Produits du Terroir","00859670001523","Coteau Rougemont Réserve cidre de glace",375,12,"Spécialité achat continu","Article actif"]
[11680515,"Produits du Terroir","00859670001516","Coteau Rougemont cidre de glace",375,12,"Spécialité achat continu","Article actif"]
[11680523,"Produits du Terroir","00859670001356","Frontenac Gris Vendange Tardive Coteau Rougemont",375,12,"Spécialité achat continu","Article actif"]
[11685201,"Crème","05011013927968","Baileys Biscotti boisson à la crème",750,12,"Courant achat continu","Article actif"]
[11685720,"Rhum","00620213025104","Bacardi Gold rhum ambré",1140,8,"Courant achat continu","Article actif"]
[11686626,"Vin rosé Québec","00827924059156","Domaine les Brome Détente vin rosé",750,12,"Spécialité achat continu","Article actif"]
[11687101,"Cooler","00779469002473","Palm Bay Lime/Cerise (6x355) canette boisson à la vodka",355,24,"Courant achat continu","Article actif"]
[11687127,"Cooler","00779469002442","Palm Bay Fraise/Ananas (6X355ML) cooler au spiritueux",355,24,"Courant achat continu","Article actif"]
[11687143,"Cooler","00080686110040","Skinnygirl Margarita cocktail au spiritueux",750,12,"Courant achat continu","Article actif"]
[11689131,"Vin de Dessert","00085000016688","Moscato Barefoot",750,12,"Spécialité achat continu","Article actif"]
[11690385,"Cooler","08427221038834","Fresh Sangria.cat boisson aromatisée",3000,4,"Courant achat continu","Article actif"]
[11695063,"Gin","08712436104598","Sloane's Dry Gin",750,6,"Spécialité achat continu","Article actif"]
[11700934,"Bière","00629151313014","Cascades spéciale Simple Malt pale ale américaine bière fort",500,20,"Spécialité achat continu","Article actif"]
[11701347,"Bière","05413023000264","Scotch Silly bière forte type ale",330,24,"Spécialité achat continu","Article actif"]
[11701515,"Bière","00629151314011","Simple Malt Scottish spéciale bière forte de type ale",500,20,"Spécialité achat continu","Article actif"]
[11711810,"Bière","08850999113005","Singha The Original Thai Beer type lager canette",330,24,"Spécialité achat continu","Article actif"]
[11712935,"Bière","05411551922119","Dubuisson Scaldis bière extra forte",330,24,"Spécialité achat continu","Article actif"]
[11714295,"Bière","08033355850077","Brùton Bianca bière",750,6,"Spécialité achat continu","Article actif"]
[11724979,"Liqueur","00854745000722","Coureur des Bois whisky canadien et sirop d'érable",750,12,"Courant achat continu","Article actif"]
[11738609,"Produits du Terroir","00827924039448","Domaine de Lavoie Bulles d'Automne cidre mousseux",750,12,"Spécialité achat continu","Article actif"]
[11738844,"Vin rg Québec","00827924039400","Domaine de Lavoie Tourelle vin rouge",750,12,"Spécialité achat continu","Article actif"]
[11741285,"Vin rg Espagne","08410113003508","Celeste Ribera del Duero",750,12,"Courant achat continu","Article actif"]
[11741390,"Rhum","00082000759409","Captain Morgan Black Spiced rhum épicé ambré",750,12,"Courant achat continu","Article actif"]
[11745067,"Produits du Terroir","00827924039431","Domaine de Lavoie Vin de glace",375,12,"Spécialité achat continu","Article actif"]
[11745542,"Produits du Terroir","00813319004207","Pomme de glace original Clos St-Denis cidre de glace",200,6,"Spécialité achat continu","Article en écoulement"]
[11745788,"Produits du Terroir","00827924017095","Vidal Vignoble du Marathonien vin de glace",200,12,"Spécialité achat continu","Article actif"]
[11745876,"Produits du Terroir","00841125071243","Les vergers Petit et Fils Cidre fort rosé",750,12,"Spécialité achat continu","Article actif"]
[11745892,"Produits du Terroir","00841125075746","Petit et Fils cidre de glace pétillant",375,12,"Spécialité achat continu","Article actif"]
[11749551,"Produits du Terroir","00841125075890","Petit Frisson Petit et Fils cidre de glace",375,12,"Spécialité achat continu","Article actif"]
[11766351,"Vin bl Italie autres régions","08007890000976","Gewurztraminer Bottega Vinai Cavit Trentino",750,12,"Courant achat continu","Article en écoulement"]
[11766520,"Vin rg Chili","07804407002895","Cabernet-Sauvignon Intriga valle del Maipo",750,12,"Spécialité achat continu","Article actif"]
[11766562,"Vin bl Italie autres régions","08006031075835","Chard./Müller. La Vis Intaglio Vigneti delle Dolomiti i.g.t.",750,12,"Courant achat continu","Article en écoulement"]
[11766571,"Champagne","06353340121176","Chanoine Grande Réserve Brut Champagne",750,6,"Courant achat continu","Article actif"]
[11766597,"Champagne","03527801100106","Paul Goerg Blanc de Blancs Brut Champagne premier cru",750,6,"Courant achat continu","Article actif"]
[11766600,"Vin rg France Vallée du Rhône","03179077469212","Cellier des Dauphins Signature vieilles vignes Côtes du Rhône",750,12,"Courant achat continu","Article actif"]
[11766714,"Vin rg Italie Sicile Sardaigne","08017630750023","I Fiori Pala Monica di Sardegna",750,12,"Courant achat continu","Article actif"]
[11766917,"Vin rg Italie autres régions","00818276001191","Sangiovese/Merlot Iove Umberto Cesari Rubicone i.g.t.",750,12,"Courant achat continu","Article actif"]
[11767426,"Vodka et Alcool","00087116019126","Prairie Organic Vodka",750,6,"Spécialité achat continu","Article actif"]
[11767442,"Vin rg Portugal","00600470205006","Periquita Reserva Vinho regional Peninsula de Setúbal",750,12,"Courant achat continu","Article actif"]
[11767645,"Vin bl Italie Vénétie","08005390042410","Sartori Soave",750,12,"Courant achat continu","Article actif"]
[11767768,"Vin bl France Languedoc","03760040426204","Domaines Paul Mas Vignes de Nicole Vin de pays d'Oc",750,12,"Courant achat continu","Article actif"]
[11767856,"Vin bl Chili","00677758000004","Fumé blanc Carmen Gran Reserva",750,12,"Courant achat continu","Article actif"]
[11767881,"Vin bl Chili","00089419007138","Sauvignon blanc Santa Rita Reserva",750,12,"Courant achat continu","Article en écoulement"]
[11767987,"Vin rg France Vallée du Rhône","03760042790419","Château Valcombe Cuvée Grand Valcombe Costières de Nîmes",750,12,"Courant achat continu","Article actif"]
[11768171,"Vin rg Italie Vénétie","08007880541106","Famiglia Pasqua Black Label Amarone della Valpolicella",750,12,"Courant achat continu","Article actif"]
[11768541,"Vin bl France Sud-Ouest","03295890165619","Sauvignon Blanc Entrecoeur Maison Bouey Côtes-de-Gascogne",750,12,"Courant achat continu","Article actif"]
[11768568,"Vin bl États-Unis","00087356510124","Chardonnay Clos du Bois North Coast",750,12,"Courant achat continu","Article actif"]
[11768584,"Vin bl États-Unis","00085000018125","Chardonnay William Hill Estate",750,12,"Courant achat continu","Article actif"]
[11768744,"Vin bl grands formats","00057496004555","Pinot Grigio Villa di Ponticello Delle Venezie i.g.t",3000,4,"Courant achat continu","Article actif"]
[11768795,"Vin rg Italie Toscane","08002793790009","Piccini Chianti Classico Riserva",750,12,"Courant achat continu","Article actif"]
[11769261,"Vin rg Argentine","07798039593503","Trivento Amado sur Malbec Mendoza",750,12,"Courant achat continu","Article en écoulement"]
[11769317,"Vin rg Argentine","07790577006668","Cabernet-Sauvignon/Malbec Rutini",750,12,"Courant achat continu","Article actif"]
[11769384,"Spiritueux 200 à 375 ML","00082184000656","Jack Daniel's Tennessee Honey Liqueur de miel",375,24,"Courant achat continu","Article actif"]
[11769616,"Vin rg France Languedoc","03495863311115","Domaine de Gournier Cuvée Prestige Cévennes IGP",750,12,"Courant achat continu","Article actif"]
[11769739,"Vin rg France Bordeaux","03326262079712","Antoine Moueix Saint-Emilion grand cru",750,12,"Courant achat continu","Article actif"]
[11770060,"Vin bl France Bordeaux","03479210009269","Château Grand Jean Bordeaux",750,12,"Courant achat continu","Article actif"]
[11770123,"Vin rg France Bourgogne","00087113211004","Pinot Noir Lupé-Cholet Comte de Lupé Bourgogne",750,12,"Courant achat continu","Article actif"]
[11770140,"Vin bl France autres régions","00690604000256","Sauvignon Blanc Les Piliers Michel Gassier vin de France",750,12,"Courant achat continu","Article actif"]
[11770220,"Vin rg France Bordeaux","03211209133544","Château de Göelane Bordeaux supérieur",750,12,"Courant achat continu","Article actif"]
[11770553,"Vin rg États-Unis","00082242294935","Zinfandel Old vine Gnarly head",750,12,"Courant achat continu","Article actif"]
[11770756,"Vin rg Italie Vénétie","08004645000205","Tommasi Palanca Rosso Delle Venezie i.g.t",750,12,"Courant achat continu","Article actif"]
[11770836,"Vin rg Italie Vénétie","08004645317105","Tommasi Arele Appassimento",750,12,"Courant achat continu","Article actif"]
[11791848,"Vin de Dessert","08002365013000","Nivole Michele Chiarlo Moscato d'asti",750,12,"Spécialité achat continu","Article actif"]
[11795961,"Liqueur","00057496004661","Sortilège Prestige",750,6,"Spécialité achat continu","Article actif"]
[11801137,"Bière","05011876000358","Young's Double Chocolate Stout bière type ale",500,12,"Spécialité achat continu","Article actif"]
[11808822,"Vin rg France Vallée du Rhône","03345120119810","Domaine du Vieux Lazaret Châteauneuf-du-Pape",750,12,"Spécialité achat continu","Article actif"]
[11814704,"Vin rg Italie Toscane","08003015704804","Farnito Carpineto Camponibbio Toscana i.g.t.",750,6,"Spécialité achat continu","Article actif"]
[11818300,"Vin rg États-Unis","00184745001123","Cabernet-Sauvignon Château Smith Columbia Valley",750,12,"Spécialité achat continu","Article actif"]
[11830165,"Vin rg Australie","09311220002905","Vin Parfait Adelaide",750,12,"Courant achat continu","Article actif"]
[11832427,"Produits du Terroir","00841125075807","Eros Verger Biologique Maniadakis  cidre de glace",375,12,"Spécialité achat continu","Article actif"]
[11833323,"Vin bl Italie autres régions","08030423002642","Viognier Montalto Collezione di famiglia Sicilia i.g.t.",750,12,"Courant achat continu","Article actif"]
[11833340,"Vin rg Espagne","08410419100352","Turis Castillo Gran Seleccion Valencia",750,12,"Courant achat continu","Article actif"]
[11833374,"Vin rg Italie Sicile Sardaigne","08000254000117","Bonera Mandrarossa Sicilia i.g.t.",750,6,"Courant achat continu","Article en écoulement"]
[11833411,"Vin bl Espagne","08410310609213","Verdejo Fusta Nova Valencia",750,12,"Spécialité achat continu","Article actif"]
[11833518,"Vin bl Australie","00057496004739","Sémillon Chardonnay Settler's Cove South Eastern Australia",750,12,"Courant achat continu","Article actif"]
[11833622,"Vin rg France Bourgogne","03271360040297","Antonin Rodet Coteaux Bourguignons Pinot Noir",750,12,"Courant achat continu","Article actif"]
[11833649,"Vin rg France Languedoc","03035131118024","B & G Domaine de la Gardie Cab. Sauv. IGP Pays d'Oc",750,12,"Courant achat continu","Article actif"]
[11833657,"Produits du Terroir","00628313020029","François Digestif Ferme Bourda ges vin de fraise fortifié",375,12,"Spécialité achat continu","Article actif"]
[11833665,"Produits du Terroir","00628313020012","Alexis Apéro Ferme Bourdages vin de fraise",375,12,"Spécialité achat continu","Article actif"]
[11833681,"Produits du Terroir","00841125075722","Union Libre cidre de glace",375,12,"Spécialité achat continu","Article actif"]
[11833690,"Vin bl Québec","00827924076023","Cuvée Catherine Les Vents d'Ange vin blanc",750,12,"Spécialité achat continu","Article actif"]
[11833711,"Produits du Terroir","00838113001184","Givré fortifié Domaine Félibre cidre apéritif",375,6,"Spécialité achat continu","Article actif"]
[11833737,"Produits du Terroir","00827924072094","Le Miraculé La Halte des Pèlerins vin apéritif rosé",500,12,"Spécialité achat continu","Article actif"]
[11833745,"Vin bl Québec","00827924072018","La Halte des Pèlerins vin blanc",750,12,"Spécialité achat continu","Article actif"]
[11833753,"Vin rosé Québec","00827924072025","La Halte des Pèlerins vin rosé",750,12,"Spécialité achat continu","Article actif"]
[11833761,"Vin bl Québec","00827924072056","Le Voyageur La Halte des Pèlerins vin blanc",750,12,"Spécialité achat continu","Article actif"]
[11833770,"Vin rg Québec","00827924072049","Le Prestige La Halte des Pèlerins vin rouge",750,12,"Spécialité achat continu","Article actif"]
[11833796,"Produits du Terroir","00827924072070","Le Graal La Halte des Pèlerins vin de glace rouge",200,12,"Spécialité achat continu","Article actif"]
[11836364,"Vin rg Italie Vénétie","08002062001546","Brolo Campofiorin Masi Veronese i.g.t.",750,12,"Courant achat continu","Article actif"]
[11840347,"Whisky","00721059000185","Wild Turkey 81 Kentucky Bourbon whiskey américain",750,12,"Courant achat continu","Article actif"]
[11869457,"Porto","05010867101982","Warre's Otima tawny 10 ans",500,12,"Courant achat continu","Article actif"]
[11869625,"Vin rg Espagne","03760114003270","Herencia del Padri Bernard Magrez",750,6,"Spécialité achat continu","Article actif"]
[11885377,"Vin rg divers pays","03800213972777","Pinot Noir Soli Thracian Valley Bulgarie",750,12,"Spécialité achat continu","Article actif"]
[11886783,"Mousseux","08410384003016","Freixenet  Legero vin mousseux désalcoolisé",750,6,"Spécialité achat continu","Article actif"]
[11898549,"Vin bl grands formats","00057496003565","Chardonnay Lulu B. Pays d'Oc i.g.p.",3000,4,"Spécialité achat continu","Article actif"]
[11899314,"Produits du Terroir","00841125072547","Darragon dit Lafrance Cidre pétillant 4x330ml",330,24,"Spécialité achat continu","Article actif"]
[11899322,"Produits du Terroir","00837294000351","Miel Nature Hydromel aux poires",200,12,"Spécialité achat continu","Article actif"]
[11899331,"Produits du Terroir","00890086000229","Le Cep D'Argent vin de glace",200,12,"Spécialité achat continu","Article actif"]
[11899349,"Produits du Terroir","00827924072087","Le confessionnal La Halte des Pèlerins vin fortifié",500,12,"Spécialité achat continu","Article actif"]
[11899533,"Produits du Terroir","00627843195375","Entre Pierre Et Terre vin de bleuet",750,12,"Spécialité achat continu","Article actif"]
[11900611,"Produits du Terroir","00837294000368","Impérial vin de miel fortifié au whisky canadien",500,12,"Spécialité achat continu","Article actif"]
[11903627,"Vin bl Espagne","00858669000714","Las Brisas Rueda",750,12,"Courant achat continu","Article actif"]
[11904321,"Mousseux","00085155000129","Domaine Chandon Réserve Brut mousseux",750,6,"Courant achat continu","Article actif"]
[11904339,"Rhum","00057496004869","X-isle Black Cove rhum blanc épicé",1140,8,"Courant achat continu","Article en écoulement"]
[11904355,"Vin rosé","08032790761306","Coste delle Plaie Cerasuolo d'Abruzzo rosé",750,12,"Courant achat continu","Article actif"]
[11904363,"Whisky Ecosse","00084279981505","Glen Moray 12 ans scotch single malt",750,6,"Courant achat continu","Article actif"]
[11904427,"Spiritueux 200 à 375 ML","00082000724315","Smirnoff Raspberry vodka aromatisée",375,12,"Courant achat continu","Article actif"]
[11904435,"Tequila","00080686839033","Sauza Blue Silver tequila",750,12,"Courant achat continu","Article actif"]
[11904443,"Mousseux","08003625091103","Voga Prosecco mousseux",750,12,"Courant achat continu","Article actif"]
[11904460,"Vin de Dessert","07804414002604","Luis Felipe Edwards Late Harvest",375,12,"Courant achat continu","Article actif"]
[11905606,"Vin rg Italie Piémont","08000174180029","Raimonda Fontanafredda Barbera d'Alba",750,12,"Courant achat continu","Article actif"]
[11905673,"Vin rg France Languedoc","03352260119808","Saint-Saturnin Réserve les Montalis Vielles Vignes",750,12,"Courant achat continu","Article actif"]
[11905690,"Vin rg France Languedoc","03258691480046","Château de Lengoust Minervois",750,12,"Courant achat continu","Article actif"]
[11905737,"Vin bl France Val de Loire","03176780033822","Sauvignon Blanc Marquis de Goulaine Réserve Val de Loire",750,12,"Courant achat continu","Article actif"]
[11905745,"Vin rg États-Unis","00085000010532","Frei Brothers Cabernet Sauvignon Reserve",750,12,"Courant achat continu","Article actif"]
[11905761,"Vin rg Australie","09310194001792","Cab/Merlot Valley of the Giant Western Australia",750,12,"Courant achat continu","Article actif"]
[11905770,"Vin bl Nouvelle-Zélande","09418579070019","Sauvignon Blanc Whitehaven Marlborough",750,12,"Courant achat continu","Article actif"]
[11905788,"Vin bl Chili","00831573000278","Sauvignon Blanc Tributo Caliterra Valle de Leyda",750,12,"Courant achat continu","Article actif"]
[11905796,"Vin bl Italie autres régions","08007890912545","Sauvignon Blanc Bottega Vinai Trentino",750,12,"Courant achat continu","Article en écoulement"]
[11905809,"Vin rg Italie Sicile Sardaigne","08002815405706","Nero d'Avola/Petit Verdot Nari Firriato Sicilia IGT",750,12,"Courant achat continu","Article actif"]
[11905841,"Vin bl Australie","09311910102977","Layers Peter Lehmann Adelaide",750,12,"Courant achat continu","Article actif"]
[11905905,"Vin bl Nouvelle-Zélande","09414024361237","Brancott Estate Letter Series B Marlborough Sauvignon Blanc",750,6,"Courant achat continu","Article actif"]
[11906107,"Vin rg France Bordeaux","00603568288110","Château Bois du fil Médoc",750,12,"Courant achat continu","Article actif"]
[11912494,"Mousseux","08410036802080","Freixenet Elyssia grande Cuvée Cava mousseux Reserva",750,6,"Courant achat continu","Article actif"]
[11915038,"Vin rg Italie Toscane","08033011200123","Crognolo Toscana i.g.t.",750,12,"Spécialité achat continu","Article actif"]
[11927661,"Cooler","00776103001113","Smirnoff Ice canette 6x355ml cooler au spiritueux",355,24,"Courant achat continu","Article actif"]
[11927670,"Cooler","00776103001489","Smirnoff Ice (24 x 330 ml) cooler au spiritueux",330,24,"Courant achat continu","Article actif"]
[11927688,"Cooler","00400119276882","Smirnoff Ice (12 x 330 ml) cooler au spiritueux",330,24,"Courant achat continu","Article actif"]
[11927709,"Cooler","00082000752936","Smirnoff Bleuet et Limonade (4x330 ml) boisson à la vodka",330,24,"Courant achat continu","Article en écoulement"]
[11927733,"Cooler","00082000752950","Smirnoff Canneberge et Lime (4x330ml) cooler au spiritueux",330,24,"Courant achat continu","Article actif"]
[11927741,"Cooler","00776103001366","Smirnoff Ice (4 x 330 ml) cooler au spiritueux",330,24,"Courant achat continu","Article actif"]
[11927750,"Cooler","00082000754633","Smirnoff Ice Light (4 x 330 ml) cooler au spiritueux",330,24,"Courant achat continu","Article actif"]
[11927784,"Cooler","00082000757672","Smirnoff Screwdriver l'orange (4x330ml) cooler au spiritueux",330,24,"Courant achat continu","Article actif"]
[11944402,"Bière","05411551210513","Dubuisson Cuvée des Trolls triple bière type ale",750,6,"Spécialité achat continu","Article actif"]
[11944411,"Bière","05901559130000","Zywiec bière type lager",500,20,"Spécialité achat continu","Article actif"]
[11944429,"Bière","08033355850046","Bruton Momus bière forte type ale",750,6,"Spécialité achat continu","Article actif"]
[11945384,"Cooler","03147699111246","Saint-James Mojito Imperial cooler au spiritueux",750,12,"Courant achat continu","Article actif"]
[11945501,"Cooler","00080480981204","Bacardi Oakheart Rhum épicé & Cola cooler au spiritueux",473,24,"Courant achat continu","Article actif"]
[11945536,"Cooler","00779469102272","Palm Bay Sélection Soleil (12 x 355ml) cooler",355,24,"Courant achat continu","Article actif"]
[11947030,"Bière","01805191002074","L'Alchimiste Pilsner Blonde bière type lager",341,24,"Spécialité achat continu","Article actif"]
[11947048,"Bière","01805191003132","L'Alchimiste Witbier Blanche bière type ale",341,24,"Spécialité achat continu","Article actif"]
[11947056,"Bière","01805191001916","L'Alchimiste Pale Ale Rousse bière type ale",341,24,"Spécialité achat continu","Article actif"]
[11947072,"Bière","00681248800210","L'Amoszus Blanche bière type ale",750,12,"Spécialité achat continu","Article actif"]
[11947081,"Bière","00681248800203","L'Amoszus Blonde bière type ale",750,12,"Spécialité achat continu","Article actif"]
[11948868,"Whisky Ecosse","05010494560183","Glenmorangie Original 10 ans Highland scotch single malt",750,6,"Courant achat continu","Article actif"]
[11949158,"Vin rg Italie autres régions","08017193000900","Pan Montepulciano d'Abruzzo",750,12,"Spécialité achat continu","Article actif"]
[11950597,"Gin","00627843183167","Piger Henricus Dry Gin",500,6,"Spécialité achat continu","Article actif"]
[11957043,"Produits du Terroir","00627843195399","Dandy sexy dog Entre Pierre et Terre cidre mousseux",750,12,"Spécialité achat continu","Article actif"]
[11957051,"Vin bl Québec","00859670001226","Versant Blanc Coteau Rougemont",750,12,"Spécialité achat continu","Article actif"]
[11957060,"Produits du Terroir","00841125071281","Eros cidre tranquille",750,12,"Spécialité achat continu","Article actif"]
[11957158,"Produits du Terroir","00859670001615","Coteau Rougemont Poire de glace",200,12,"Spécialité achat continu","Article actif"]
[11957191,"Produits du Terroir","00627843195405","Entre Pierre et Terre cidre de glace",200,12,"Spécialité achat continu","Article actif"]
[11957203,"Vin bl Québec","00827924033019","Le 1535 Vignoble Isle de Bacchus",750,12,"Spécialité achat continu","Article actif"]
[11957211,"Produits du Terroir","00773253001079","La Bolée Pétillante du Minot cidre pétillant",250,24,"Spécialité achat continu","Article actif"]
[11957238,"Vin rg Québec","00627843167679","Mystère Rouge Vignoble d'Oka",750,12,"Spécialité achat continu","Article actif"]
[11957297,"Produits du Terroir","00067311794592","Cuvée Fameuse Mont-Rouge Cidre de glace",375,6,"Spécialité achat continu","Article actif"]
[11964606,"Rhum","07501035047204","The Kraken Black Spiced Rhum épicé",750,12,"Courant achat continu","Article actif"]
[11968172,"Vin bl États-Unis","00085000019733","Apothic White Californie",750,12,"Courant achat continu","Article actif"]
[11974901,"Vin bl grands formats","00056049032366","Chardonnay Cliff 79",3000,4,"Courant achat continu","Article actif"]
[11974927,"Vin rg Australie","09300727313102","Cabernet-Sauvignon Jacob's Creek Reserve Coonawarra",750,12,"Courant achat continu","Article actif"]
[11974943,"Vin rg grands formats","00067311771197","Primitivo The Little Traveler Puglia i.g.t.",3000,4,"Courant achat continu","Article actif"]
[11974951,"Vin bl Nouvelle-Zélande","09414416305528","Sauvignon blanc Villa Maria Estate Private Bin Marlborough",750,12,"Courant achat continu","Article actif"]
[11974960,"Vin rg Afrique du Sud","05010186020315","Cab-Sauv/Merlot Flagstone Treaty Tree Western Cape",750,12,"Courant achat continu","Article actif"]
[11975049,"Vin rg Afrique du Sud","06009650560609","Dragon Tree Flagstone",750,12,"Courant achat continu","Article actif"]
[11975073,"Vin rg Chili","00635335382011","Syrah Hacienda Araucano Reserva Lurton Valle del Lolol",750,12,"Courant achat continu","Article actif"]
[11975090,"Vin rg États-Unis","00085000020425","Cabernet-Sauvignon Carnivor Californie",750,12,"Courant achat continu","Article actif"]
[11975102,"Vin rg États-Unis","00082100780020","Crush The Dreaming Tree North Coast",750,12,"Courant achat continu","Article actif"]
[11975188,"Vin rg France Bordeaux","03500610077951","Dulong Réserve Bordeaux",750,12,"Courant achat continu","Article actif"]
[11975196,"Vin rg France Languedoc","03391181600057","Grenache/Syrah Marius by Michel Chapoutier Pays d'OC",750,12,"Courant achat continu","Article actif"]
[11975209,"Vin rg France Languedoc","06592641160006","Les Jardins de Bagatelle Saint-Chinian",750,12,"Courant achat continu","Article actif"]
[11975225,"Vin rg France Languedoc","03233960026507","Grenache/Merlot Divinum Vignerons Catalans Pays d'OC",750,12,"Courant achat continu","Article actif"]
[11975233,"Vin rg France Languedoc","03760034420829","Mas des Tourelles Grande Cuvée Pays d'Oc",750,12,"Courant achat continu","Article actif"]
[11975241,"Cooler","00620213700452","Bacardi Real JUS Canne./Grenade (4 X 355 ML)",355,24,"Courant achat continu","Article en écoulement"]
[11975268,"Cooler","00620213700438","Bacardi Real JUS Pamplemousse rouge (4 X355 ML)",355,24,"Courant achat continu","Article en écoulement"]
[11975276,"Liqueur","09421027893344","Woodstock Hot Licks bourbon & liqueur de cannelle",750,12,"Courant achat continu","Article actif"]
[11975284,"Rhum","00082000759416","Captain Morgan Silver Rhum blanc épicé",750,12,"Courant achat continu","Article actif"]
[11975313,"Spiritueux 200 à 375 ML","00082000726319","Smirnoff Pomme Verte vodka aromatisé",375,12,"Courant achat continu","Article actif"]
[11975381,"Whisky","00082000750437","Crown Royal Black whisky canadien",750,12,"Courant achat continu","Article actif"]
[11975399,"Whisky","00080686001409","Jim Beam Bourbon whiskey américain",750,12,"Courant achat continu","Article actif"]
[11975401,"Whisky Ecosse","05010314102104","The Macallan 1824 Amber scotch single malt",750,12,"Courant achat continu","Article actif"]
[11975436,"Vin rg Italie autres régions","08010158114124","Tertium Rosso Lazio i.g.t",750,12,"Courant achat continu","Article actif"]
[11975495,"Vin rg Italie Vénétie","08002235025515","Zonin Velluto Veneto i.g.t",750,12,"Courant achat continu","Article actif"]
[11975532,"Vin rg France Bordeaux","03251091105540","Château La Branne Médoc cru bourgeois",750,12,"Courant achat continu","Article actif"]
[11979242,"Vin rg France Bourgogne","03566921000729","Bourgogne Gamay Louis Latour",750,12,"Courant achat continu","Article actif"]
[11981596,"Cooler","00620213700124","Bacardi Breezer Framboise Agrumes (4X330ML) cooler",330,24,"Courant achat continu","Article actif"]
[11981609,"Cooler","00620213271020","Bacardi Breezer Ananas des îles (2X1L) cooler spiritueux",1000,12,"Courant achat continu","Article en écoulement"]
[12023550,"Spiritueux 200 à 375 ML","00080480981327","Bacardi Oakheart rhum épicé",375,12,"Courant achat continu","Article actif"]
[12029994,"Produits du Terroir","00859670001394","Coteau Rougemont Vidal vin de glace",200,12,"Spécialité achat continu","Article actif"]
[12030021,"Produits du Terroir","00827924037093","Fado Domaine du Ridge vin fortifié",375,12,"Spécialité achat continu","Article actif"]
[12030055,"Produits du Terroir","00899002000060","Val Caudalies cidre pétillant aromatisé à la framboise",750,12,"Spécialité achat continu","Article actif"]
[12030063,"Vin bl Québec","00859670001240","Saint-Pépin Coteau Rougemont",750,12,"Spécialité achat continu","Article actif"]
[12030101,"Produits du Terroir","00841125075708","Les Vergers Petit et Fils cidre pétillant (4X355ML)",355,24,"Spécialité achat continu","Article actif"]
[12030127,"Produits du Terroir","00837294000375","Les Vikings Miel Nature hydromel aromatisé au malt",750,12,"Spécialité achat continu","Article actif"]
[12030135,"Produits du Terroir","00841125072417","Les Vergers Petit et Fils cidre pétillant",750,12,"Spécialité achat continu","Article actif"]
[12030178,"Produits du Terroir","00841125072394","Vergers Petit et Fils Cidre rosé pétillant",750,12,"Spécialité achat continu","Article actif"]
[12030223,"Produits du Terroir","00841125075210","Vergers Petit et Fils Cidre rosé pétillant (4X355ML)",355,24,"Spécialité achat continu","Article actif"]
[12030291,"Produits du Terroir","00627843195382","Cidre à la canneberge Entre Pierre et Terre cidre mousseux",750,12,"Spécialité achat continu","Article actif"]
[12030346,"Vin bl Québec","00827924115012","Tesoro Vignoble Centaure vin doux",750,12,"Spécialité achat continu","Article actif"]
[12030354,"Produits du Terroir","00827924090012","Gentilhomme Clos Lambert vin aromatisé",750,12,"Spécialité achat continu","Article actif"]
[12041707,"Vodka et Alcool","00088076178731","Cîroc Pêche Boisson à base de spiritueux",750,12,"Courant achat continu","Article actif"]
[12041731,"Vodka et Alcool","00088076178748","Cîroc Baies rouges Boisson à base de spiritueux",750,12,"Spécialité achat continu","Article actif"]
[12042603,"Vin rg Italie autres régions","00818276000217","Sangiovese/Cab.-Sauv. Liano Umberto Cesari Rubicone i.g.t.",750,12,"Courant achat continu","Article actif"]
[12051331,"Vodka et Alcool","00080480283339","Grey Goose La Poire vodka aromatisée",750,6,"Courant achat continu","Article actif"]
[12051382,"Rhum","00083664871384","Sailor Jerry rhum épicé ambré",1140,8,"Spécialité achat continu","Article actif"]
[12068070,"Vin rg France Bordeaux","00814299000043","Chartier Créateur d'harmonies Fronsac",750,12,"Spécialité achat continu","Article actif"]
[12068096,"Vin rg France Vallée du Rhône","00814299000036","Chartier Créateur d'harmonies Côtes-du-Rhône",750,12,"Spécialité achat continu","Article actif"]
[12068109,"Vin rg Italie Toscane","00814299000029","Chartier Créateur d'harmonies Toscana i.g.t.",750,12,"Spécialité achat continu","Article actif"]
[12068117,"Vin bl France autres régions","00814299000012","Chartier Créateur d'harmonies Pays d'OC",750,12,"Spécialité achat continu","Article actif"]
[12073910,"Vin rg États-Unis","00087447552071","R Collection Raymond Field blend Californie",750,12,"Courant achat continu","Article actif"]
[12073928,"Vin rg France Languedoc","03351650016116","Cabernet-Sauvignon Fun Réserve Georges Duboeuf Pays d'Oc IGP",750,12,"Courant achat continu","Article actif"]
[12073944,"Vin rg France Beaujolais","03340180008302","Beaujolais Villages Prince Philippe Bouchard Ainé & Fils",750,12,"Courant achat continu","Article actif"]
[12073952,"Vin rg France Beaujolais","03516500002767","Morgon Georges Duboeuf",750,12,"Courant achat continu","Article actif"]
[12073961,"Vin rg Australie","09300727007438","Syrah George Wyndham Founder's Reserve Langhorne Creek",750,6,"Courant achat continu","Article actif"]
[12073979,"Vin rg Chili","07804414001928","Pinot Noir Luis Felipe Edwards Gran Reserva Valle de Leyda",750,12,"Courant achat continu","Article actif"]
[12073987,"Vin rg Italie Toscane","08016118211117","Poggio Badiola Toscane i.g.t.",750,12,"Courant achat continu","Article actif"]
[12073995,"Vin rg Australie","09311220003490","19 Crimes Barossa Valley",750,12,"Courant achat continu","Article actif"]
[12074007,"Vin rg Afrique du Sud","00746925001592","Shiraz Mourvèdre Viognier Robertson Winery",750,12,"Courant achat continu","Article actif"]
[12074349,"Liqueur","00088100134900","Black Velvet Toasted Caramel whisky",750,12,"Courant achat continu","Article actif"]
[12074550,"Vin rg France Sud-Ouest","03180611039211","Château Bovila Les 4 églises Malbec Cahors",750,12,"Courant achat continu","Article actif"]
[12074621,"Mousseux","03221580055175","Royal de Neuville Cuvée de Prestige vin mousseux rosé",750,12,"Courant achat continu","Article actif"]
[12074648,"Vin rg France Bordeaux","03251091300921","Château Rauzan Despagne Reserve Bordeaux",750,12,"Courant achat continu","Article actif"]
[12074672,"Vin rosé","00057496005453","Lulu B. Languedoc Rosé",750,12,"Courant achat continu","Article actif"]
[12074699,"Cooler","00620213310316","Bacardi Breezer Strawberry Daiquiri 4x330ml",330,24,"Courant achat continu","Article actif"]
[12074710,"Vin bl France Bordeaux","03412911014552","Lalande Bellevue Bordeaux",750,12,"Courant achat continu","Article actif"]
[12074728,"Vin bl divers pays","04003310654914","Deinhard Riesling Green Label Qba Moselle",750,12,"Courant achat continu","Article actif"]
[12074736,"Vin bl États-Unis","00082896000326","Quartz Fetzer Californie",750,12,"Courant achat continu","Article actif"]
[12074859,"Vin rg Espagne","08414048195758","Candidato Estrella Castilla La Mancha",1000,12,"Courant achat continu","Article actif"]
[12076352,"Vin rg Argentine","07790240094725","Trapiche Extravaganza Red Blend",750,12,"Courant achat continu","Article actif"]
[12093486,"Vin rg Australie","00098137333436","Shiraz Wolf Blass Gold Label Barossa",750,12,"Courant achat continu","Article actif"]
[12098033,"Vin rg Portugal","05602840078659","Dialogo Douro",750,12,"Spécialité achat continu","Article actif"]
[12102389,"Vin rg Italie Piémont","08032611640032","La Tota Marchesi Alfieri Barbera d'Asti",750,12,"Spécialité achat continu","Article actif"]
[12109986,"Vin rg États-Unis","00812485010463","Curious Beasts Californie",750,12,"Courant achat continu","Article actif"]
[12117513,"Vin rg Espagne","08410113006684","Laudis Torres Priorat",750,6,"Spécialité achat continu","Article actif"]
[12118541,"Vin rg Québec","00827924012045","Vignoble de la Bauge Terro",750,12,"Spécialité achat continu","Article actif"]
[12118559,"Produits du Terroir","00841125074091","Union Libre cidre de feu",375,12,"Spécialité achat continu","Article actif"]
[12118567,"Produits du Terroir","00827924012106","Vignoble de la Bauge SNO-Vidal vin de glace",200,12,"Spécialité achat continu","Article actif"]
[12118575,"Produits du Terroir","00841125074060","Union Libre cidre apéritif",375,12,"Spécialité achat continu","Article actif"]
[12118874,"Vin bl Québec","00827924037147","Vidal du Ridge Domaine du Ridge",375,12,"Spécialité achat continu","Article actif"]
[12120552,"Produits du Terroir","00627843195429","Entre Pierre et Terre cidre de glace",375,12,"Spécialité achat continu","Article actif"]
[12120561,"Produits du Terroir","00627843195450","Entre Pierre Et Terre vin de cassis",750,12,"Spécialité achat continu","Article actif"]
[12120579,"Produits du Terroir","00627843195443","Entre Pierre et Terre vin de poire mousseux",750,12,"Spécialité achat continu","Article actif"]
[12123649,"Vin rg Québec","00827924037130","Le bâtonnier Domaine du Ridge",375,12,"Spécialité achat continu","Article actif"]
[12123657,"Vin rosé Québec","00827924076030","Cuvée Marie-Rose Les Vents d'Ange vin rosé",750,12,"Spécialité achat continu","Article actif"]
[12132983,"Vin rg Italie autres régions","00818276001290","Sangiovese/Merlot Yemula Umberto Cesari Rubicone i.g.t.",750,12,"Spécialité achat continu","Article actif"]
[12139456,"Crème","00057496522400","Sortilège Crème d'Érable boisson à la crème au whisky",750,12,"Courant achat continu","Article actif"]
[12152247,"Vin rg Chili","07804320561431","Devil's Collection Red Valle de Colchagua",750,12,"Courant achat continu","Article actif"]
[12162947,"Vin rg grands formats","00057496005699","Murari Valpolicella",3000,4,"Courant achat continu","Article actif"]
[12166809,"Vin bl États-Unis","00056049132554","Revolution White Californie",750,12,"Courant achat continu","Article actif"]
[12166825,"Vin rg Australie","09310415011548","Shiraz Private Bin McGuigan Adelaide",750,12,"Courant achat continu","Article actif"]
[12166892,"Vin rg États-Unis","00056049132547","Revolution Red Californie",750,12,"Courant achat continu","Article actif"]
[12167211,"Vin rg France autres régions","03263280111270","Vive la vie",750,12,"Courant achat continu","Article actif"]
[12167246,"Vin rg France Languedoc","03760026481654","Les Jardins de Meyrac Pays d'Oc IGP",750,12,"Courant achat continu","Article actif"]
[12171691,"Brandy et Cognac","00057496387061","Global Cognac V.S.",1140,8,"Courant achat continu","Article actif"]
[12171801,"Tequila","00057496466667","Bang Bang tequila",1140,8,"Courant achat continu","Article actif"]
[12171923,"Blanc -Cat. Inv. tournant 41/8","-","Global brandy français vrac",1140,8,"Courant achat continu","Article en écoulement"]
[12171940,"Liqueur","00624177063769","Amaretto Monalisa liqueur d'amande",1140,8,"Courant achat continu","Article actif"]
[12204060,"Produits du Terroir","00827924017057","Vignoble du Marathonien Vendange Tardive",375,12,"Spécialité achat continu","Article actif"]
[12204078,"Produits du Terroir","00773253002014","Cidrerie du Minot cidre désalcoolisé mousseux",750,12,"Spécialité achat continu","Article actif"]
[12204086,"Vin rg Québec","00859670001288","Versant Rouge Coteau Rougemont",750,12,"Spécialité achat continu","Article actif"]
[12204115,"Produits du Terroir","00827924033071","Le Kir de l Île Vignoble Isle de Bacchus vin apéritif",500,12,"Spécialité achat continu","Article actif"]
[12204131,"Produits du Terroir","00827924111014","Jardin D'Emmanuel cidre apéritif",750,6,"Spécialité achat continu","Article actif"]
[12204781,"Produits du Terroir","00841352022056","Domaine LaBranche cidre tranquille",500,12,"Spécialité achat continu","Article actif"]
[12204852,"Produits du Terroir","00841352024043","Domaine LaBranche cidre de feu",375,12,"Spécialité achat continu","Article actif"]
[12204908,"Produits du Terroir","00841352021042","Domaine LaBranche cidre de glace",375,12,"Spécialité achat continu","Article actif"]
[12204916,"Produits du Terroir","00841352011043","Domaine LaBranche vin d'érable liquoreux",375,12,"Spécialité achat continu","Article actif"]
[12204924,"Produits du Terroir","00841352012057","Domaine LaBranche vin d' érable",500,12,"Spécialité achat continu","Article actif"]
[12204932,"Produits du Terroir","00841352025064","Domaine LaBranche cidre pétillant",750,12,"Spécialité achat continu","Article actif"]
[12204959,"Vin bl Québec","00827924033026","Jardin de Givre Isle de Bacchus vin de glace",200,12,"Spécialité achat continu","Article actif"]
[12206461,"Whisky Ecosse","05000277003457","Aberfeldy 12 ans Highlands scotch single malt",750,6,"Courant achat continu","Article actif"]
[12206604,"Vodka et Alcool","00835229001138","Absolut Pêche vodka aromatisée",750,12,"Courant achat continu","Article actif"]
[12206647,"Cooler","00085000021156","Barefoot Crisp White cooler au vin",750,12,"Courant achat continu","Article actif"]
[12206671,"Mousseux","08410013990571","Codorniu Selección Raventós Brut Cava mousseux",750,6,"Courant achat continu","Article actif"]
[12206891,"Vin de Dessert","09300727013187","Jacob's Creek Moscato",750,12,"Courant achat continu","Article actif"]
[12206962,"Vin bl France Bourgogne","03485851511115","Bourgogne Chardonnay Beaucharme Louis Max",750,12,"Courant achat continu","Article actif"]
[12206971,"Vin bl France Bordeaux","00603568242129","Fleur de Sauvignon Bordeaux Sauvignon blanc/Sémillon",750,12,"Courant achat continu","Article actif"]
[12206997,"Vin rg France Bourgogne","00087113112486","Bourgogne Côteaux Bourguignons Albert Bichot",750,12,"Courant achat continu","Article actif"]
[12207009,"Vin bl France Val de Loire","03760036855001","Domaine de Lévêque Touraine",750,12,"Courant achat continu","Article actif"]
[12207025,"Vin rg France Vallée du Rhône","03391186111237","Côtes du Rhône Bio",750,12,"Courant achat continu","Article actif"]
[12207050,"Vin rg France Vallée du Rhône","03351650017861","Côtes du Rhône Réserve Georges Duboeuf",750,12,"Courant achat continu","Article actif"]
[12207252,"Vin rg Argentine","07798078230025","Malbec Septima Mendoza",750,12,"Courant achat continu","Article actif"]
[12207404,"Vin bl Nouvelle-Zélande","00085000016602","Sauvignon Blanc Starborough Marlborough",750,12,"Courant achat continu","Article actif"]
[12207421,"Vin rg Argentine","07790265060330","Malbec Raza Reserva Rioja",750,12,"Courant achat continu","Article actif"]
[12207527,"Vin rg Italie Vénétie","08003503010608","Castelliere Primo Ripasso Valpolicella superiore",750,12,"Courant achat continu","Article actif"]
[12207535,"Vin rg Italie Toscane","00618109307519","Barone Ricasoli Terra di Brolo Toscane",750,12,"Courant achat continu","Article actif"]
[12207543,"Vin rg Italie Vénétie","08008960682504","Bolla Retro Verona Rosso i.g.t.",750,12,"Courant achat continu","Article actif"]
[12207594,"Vin rg Espagne","08426427005565","Garnacha Ballad Carinena",750,12,"Courant achat continu","Article actif"]
[12207691,"Vin rg Italie Toscane","08004645603604","Tommasi Poggio al Tufo Toscana i.g.t.",750,12,"Courant achat continu","Article actif"]
[12207703,"Vin rg Australie","00012354087705","Cabernet-Sauvignon Bin 45 Lindeman's",750,12,"Courant achat continu","Article actif"]
[12207746,"Vin bl grands formats","00067311771210","The Little Traveler Pier #7",3000,4,"Courant achat continu","Article actif"]
[12207754,"Vin rg Italie Sicile Sardaigne","00057496005231","Cristiano Mazzaro Intensita Terre Siciliane i.g.t.",750,12,"Courant achat continu","Article actif"]
[12207771,"Vin rg Espagne","00819451003955","Tempranillo Paso a Paso Organic",750,12,"Courant achat continu","Article actif"]
[12207800,"Vin bl Australie","09311043018442","Chardonnay/Pinot gris Hardys The Gamble Chronicle No. 2",750,12,"Courant achat continu","Article actif"]
[12207914,"Vin rg Italie Sicile Sardaigne","08033765258418","Nero d'avola/Cab. Sauvignon Vento di Mare Terre Siciliane",750,12,"Courant achat continu","Article actif"]
[12208765,"Vodka et Alcool","00057496090022","Alcool Global 40%",1140,8,"Courant achat continu","Article actif"]
[12209012,"Vodka et Alcool","00057496090107","Alcool Global 94%",1140,8,"Courant achat continu","Article actif"]
[12211180,"Liqueur","00624177100013","Stinger Premixxx liqueur de menthe",1140,8,"Courant achat continu","Article actif"]
[12212220,"Vin rg divers pays","05200363506125","Domaine Thymiopoulos Jeunes Vignes de Xinomavro Naoussa",750,12,"Spécialité achat continu","Article actif"]
[12228361,"Mousseux","00085000019658","Barefoot Bubbly Pink Moscato vin mousseux rosé",750,12,"Spécialité achat continu","Article actif"]
[12231658,"Vin bl divers pays","06001108072689","Sauv. Blanc Ricardo Larrivée Vins du monde Coastal Region",750,12,"Courant achat continu","Article actif"]
[12231682,"Vin rg Afrique du Sud","06001108072672","Shiraz Ricardo Larrivée Vins du monde Coastal Region",750,12,"Courant achat continu","Article actif"]
[12234808,"Cooler","00779469302405","Mike's Hard Lemonade cooler (6x355 ml)",355,24,"Courant achat continu","Article actif"]
[12235510,"Cooler","00008500019993","Madria Sangria apéritif à base de vin",750,12,"Courant achat continu","Article actif"]
[12246622,"Vin rg Espagne","00814299000050","Chartier Créateur d'Harmonies Ribera del Duero",750,12,"Spécialité achat continu","Article actif"]
[12251691,"Cooler","00620213700360","Bacardi Breezer Spritzer Lime cooler au spiritueux 4x330ml",330,24,"Courant achat continu","Article actif"]
[12251974,"Cooler","00082184069455","Jack Daniel's Country Cocktail Lynchburg Lemonade 6x296ml",296,24,"Courant achat continu","Article actif"]
[12253591,"Vin bl divers pays","05998815733501","Torley Riesling Jaszberenyi",750,12,"Spécialité achat continu","Article actif"]
[12253611,"Vin rg divers pays","05998815733518","Kékfrancos Szekszardi Voros",750,12,"Spécialité achat continu","Article actif"]
[12260475,"Vodka et Alcool","00080480002831","Grey Goose Cherry Noir vodka aromatisée",750,6,"Courant achat continu","Article actif"]
[12263043,"Produits du Terroir","00627843195412","Entre Pierre et Terre poiré de glace",200,12,"Spécialité achat continu","Article actif"]
[12263369,"Produits du Terroir","00841125075913","Domaine Cartier-Potelle cidre de glace",375,12,"Spécialité achat continu","Article actif"]
[12263385,"Produits du Terroir","00841125075920","Domaine Cartier-Potelle cidre de glace réserve",375,12,"Spécialité achat continu","Article actif"]
[12263422,"Vin rg Québec","00827924072032","La Halte des Pèlerins vin rouge",750,12,"Spécialité achat continu","Article actif"]
[12263449,"Produits du Terroir","00627843195436","Entre Pierre et Terre réserve personnelle poiré de glace",200,12,"Spécialité achat continu","Article actif"]
[12265858,"Gin","00088076168640","Tanqueray Rangpur London dry gin",750,12,"Spécialité achat continu","Article actif"]
[12265882,"Liqueur","00057496005828","Sortilège Noix Épicé whisky canadiens et sirop d'érable",750,12,"Spécialité achat continu","Article actif"]
[12265954,"Vodka et Alcool","00057496005781","Kamouraska Vodka Crème glacée",750,12,"Spécialité achat continu","Article actif"]
[12265971,"Spiritueux 200 à 375 ML","00082000737421","Smirnoff Lime vodka aromatisée",375,12,"Spécialité achat continu","Article actif"]
[12266922,"Whisky Ecosse","05000267116297","Johnnie Walker Double Black scotch blended",750,6,"Spécialité achat continu","Article actif"]
[12266931,"Vodka et Alcool","00082000740698","Smirnoff Blueberry vodka aromatisée",750,12,"Courant achat continu","Article actif"]
[12266957,"Whisky Ecosse","00088076178199","Cardhu Speyside 12 ans Single malt Scotch whisky",750,6,"Spécialité achat continu","Article actif"]
[12266965,"Vodka et Alcool","00085156211005","Ketel One Vodka",1140,6,"Courant achat continu","Article actif"]
[12270471,"Vin bl Italie Vénétie","08001660197156","Pinot Grigio Lumina Ruffino Delle Venezie i.g.t.",750,12,"Courant achat continu","Article actif"]
[12270489,"Mousseux","08001660198351","Prosecco Ruffino mousseux",750,6,"Courant achat continu","Article actif"]
[12270913,"Vin bl États-Unis","00082100738779","Everyday The Dreaming Tree Central Coast Californie",750,12,"Courant achat continu","Article actif"]
[12270921,"Vin rg États-Unis","00851718000048","Pinot Noir Mark West Sonoma California",750,12,"Courant achat continu","Article actif"]
[12270930,"Whisky","00081128005085","Old Forester Bourbon whisky américain",750,12,"Spécialité achat continu","Article actif"]
[12270964,"Vin bl Nouvelle-Zélande","09419227005162","Pinot gris Kim Crawford Malborough",750,12,"Spécialité achat continu","Article actif"]
[12270972,"Vin rosé","00056049132806","Cliff 79 South Eastern Australia rosé",750,12,"Courant achat continu","Article actif"]
[12270981,"Vin rg grands formats","00056049132813","Cabernet-Sauvignon/syrah Étienne Marceau Pays d'Oc",4000,4,"Courant achat continu","Article actif"]
[12274404,"Brandy et Cognac","00814789003608","Chemineaud ***** Fine Brandy Épicé",750,12,"Courant achat continu","Article actif"]
[12274615,"Tequila","00080480981082","Cazadores Blanco Tequila",750,12,"Courant achat continu","Article actif"]
[12274720,"Rhum","00620213200013","Bacardi Oakheart rhum épicé",1140,8,"Courant achat continu","Article actif"]
[12275124,"Rhum","08501110080248","Havana Club Anejo 3 ans rhum blanc",750,12,"Courant achat continu","Article actif"]
[12275221,"Whisky","05011007017552","Jameson Irish Whiskey",1140,6,"Courant achat continu","Article actif"]
[12275280,"Whisky Ecosse","00080432101377","The Glenlivet 12 ans d'âge Single Malt Scotch Whisky",1140,6,"Courant achat continu","Article actif"]
[12275360,"Vin rg Espagne","08410302107697","Campo Viejo Reserva Rioja",750,12,"Courant achat continu","Article actif"]
[12275394,"Mousseux","08000020005285","Cinzano Prosecco mousseux",750,6,"Courant achat continu","Article actif"]
[12275538,"Liqueur","08000353001510","Luxardo Espresso Liqueur de café",750,12,"Spécialité achat continu","Article actif"]
[12275861,"Gin","00080480981426","Bombay Sapphire East London dry gin",750,12,"Courant achat continu","Article actif"]
[12276303,"Crème","03035540005229","St-Rémy À la Crème",750,12,"Courant achat continu","Article actif"]
[12283685,"Vin rg Espagne","00057496005545","Tempranillo Elogia Valencia",750,12,"Courant achat continu","Article actif"]
[12283722,"Vin rg Italie Sicile Sardaigne","08003545801370","Merlot La Borgata Terre Siciliane i.g.t.",750,12,"Courant achat continu","Article actif"]
[12283731,"Vin rg Italie autres régions","08002235025539","Velluto Zonin Puglia i.g.t.",750,12,"Courant achat continu","Article actif"]
[12283773,"Vin rg Italie autres régions","08004645802809","Surani Ares Tommasi Puglia i.g.t.",750,12,"Courant achat continu","Article actif"]
[12284258,"Vin rg Argentine","07791728007473","Shiraz Cabernet El Bar Argentino Mendoza",750,12,"Courant achat continu","Article actif"]
[12284303,"Vin rg France Sud-Ouest","03372220090190","Tour Bouscassé Alain Brumont Madiran",750,12,"Courant achat continu","Article actif"]
[12284346,"Vin rg Argentine","07791728000146","Cabernet Sauvignon Santa Julia Mendoza",750,12,"Courant achat continu","Article actif"]
[12284709,"Vin bl France Bourgogne","03760212400117","Mâcon Villages Chardonnay Dom. Perraud L'oeuvre de Perraud",750,12,"Courant achat continu","Article actif"]
[12284717,"Vin rg France Bordeaux","03474900027851","Be Bordô Château Capville Le Red Côtes de Bordeaux",750,12,"Courant achat continu","Article actif"]
[12284725,"Vin rg France Languedoc","03525490014407","Mourvèdre Les Jamelles Réserve Personnelle Pays d'Oc",750,12,"Courant achat continu","Article actif"]
[12284741,"Vin bl France Languedoc","03443660001722","Chardonnay Domaine Cibadiès Pays d'Oc i.g.p.",750,12,"Courant achat continu","Article actif"]
[12284792,"Vin bl France Alsace","03221249345050","Riesling/Muscat/Pinot gris W3 Wolfberger Alsace",750,12,"Courant achat continu","Article actif"]
[12284813,"Vin bl France Alsace","03225820063692","Pinot blanc / Muscat Bestheim Alsace",750,12,"Courant achat continu","Article actif"]
[12285218,"Vin rg Australie","09300727014580","Simply Red Jacob's Creek Barossa",750,12,"Courant achat continu","Article actif"]
[12285429,"Vin rg France Bordeaux","03192371104283","Le Petit Grand Yvon Mau Bordeaux",750,12,"Courant achat continu","Article actif"]
[12290615,"Liqueur","00057496005842","Premixxx Volcano",1140,8,"Courant achat continu","Article actif"]
[12299610,"Porto","05010867410329","Graham's tawny 20 ans",750,6,"Spécialité achat continu","Article actif"]
[12318593,"Vin rg France Beaujolais","03351650000443","Côte de Brouilly Georges Duboeuf",750,12,"Courant achat continu","Article actif"]
[12330365,"Vodka et Alcool","00088076179202","Cîroc Coconut vodka aromatisée",750,12,"Spécialité achat continu","Article actif"]
[12352185,"Produits du Terroir","00627843195467","Entre Pierre et Terre poiré de glace",375,12,"Spécialité achat continu","Article actif"]
[12353989,"Vodka et Alcool","00094922962416","Pur Ultra Premium vodka",750,8,"Courant achat continu","Article actif"]
[12355061,"Produits du Terroir","00063829999245","Chouchen'n signé Macle Hydromel aromatisé à la pomme",750,12,"Spécialité achat continu","Article actif"]
[12355431,"Vin bl Argentine","08002062001768","Pinot Grigio/Torontes Passo Blanco Masi Tupungato",750,12,"Spécialité achat continu","Article actif"]
[12356389,"Vin rg Québec","00827924080020","Noroit Domaine Mont Vezeau",750,12,"Spécialité achat continu","Article actif"]
[12356581,"Produits du Terroir","00841125071335","Domaine Cartier-Potelle Cidre fort",750,12,"Spécialité achat continu","Article actif"]
[12356590,"Produits du Terroir","00627843402428","L'Orée des Bois Crème de camerise",200,12,"Spécialité achat continu","Article actif"]
[12357390,"Produits du Terroir","00827924074029","Le Verglas Vignoble du Mitan vin de glace",200,12,"Spécialité achat continu","Article actif"]
[12357453,"Produits du Terroir","00799705518209","Château de cartes vin mousseux rosé",750,12,"Spécialité achat continu","Article actif"]
[12357550,"Produits du Terroir","00799705518186","Château de cartes cidre de glace",200,12,"Spécialité achat continu","Article actif"]
[12357648,"Vin rg Québec","00890086000151","La réserve Vignoble Le Cep d'Argent vin rouge",750,12,"Spécialité achat continu","Article actif"]
[12358157,"Produits du Terroir","00628313030035","Julia Ferme Bourdages Tradition rosé",750,12,"Spécialité achat continu","Article actif"]
[12358173,"Produits du Terroir","00859670001585","Rose Framboise Coteau Rougemont cidre aromatisé",750,12,"Spécialité achat continu","Article actif"]
[12358181,"Vin bl Québec","00859670001233","Côteau Rougemont Chardonnay La Côte vin blanc",750,12,"Spécialité achat continu","Article actif"]
[12358190,"Vin rg Québec","00859670001295","Côteau Rougemont Le Grand Côteau vin rouge",750,12,"Spécialité achat continu","Article actif"]
[12358237,"Produits du Terroir","00827924039219","Domaine de Lavoie vin mousseux",750,12,"Spécialité achat continu","Article actif"]
[12358245,"Produits du Terroir","00827924039905","Domaine de Lavoie vin mousseux rosé",750,12,"Spécialité achat continu","Article actif"]
[12358958,"Cooler","00082000766766","Smirnoff Ice Light Cerise Noire et Soda 4x355ml",355,24,"Courant achat continu","Article actif"]
[12359871,"Produits du Terroir","00827924036256","Rivière du Chêne Monde les Bulles vin mousseux",750,12,"Spécialité achat continu","Article actif"]
[12380012,"Vin rg États-Unis","00812485010852","Paper Boy Red Blend Californie",750,12,"Courant achat continu","Article actif"]
[12382501,"Vin bl Italie autres régions","08007890229247","Pinot Grigio Cavit Collection",750,12,"Courant achat continu","Article actif"]
[12382510,"Vin rg Italie Vénétie","08008863042061","Tor Del Colle Rosso Veronese",1000,12,"Courant achat continu","Article actif"]
[12382552,"Vin bl Italie autres régions","08007425001751","Pian di Remole Toscana I.G.T",750,12,"Courant achat continu","Article actif"]
[12382587,"Vin bl Espagne","08410849001489","Verdejo Penascal",750,12,"Courant achat continu","Article actif"]
[12382632,"Vin bl Australie","00839743000844","R.est Yellow Tail",750,12,"Courant achat continu","Article actif"]
[12382641,"Vin bl divers pays","04003310011564","Riesling Muscat Deinhard 1794",750,12,"Courant achat continu","Article actif"]
[12382683,"Vin rg grands formats","00081308001456","Zinfandel Cardinal Zin Californie",3000,3,"Courant achat continu","Article actif"]
[12382851,"Vin bl Italie Vénétie","08002645651069","Chardonnay Campagnola Veneto i.g.t.",750,12,"Courant achat continu","Article actif"]
[12382982,"Vin rg Espagne","08414837040115","Piqueras Black Label Almansa",750,12,"Courant achat continu","Article actif"]
[12383109,"Vin rg Italie Vénétie","00838547000180","Monte Del Fra Bardolino",750,12,"Courant achat continu","Article actif"]
[12383205,"Vin bl Italie autres régions","08004753000104","Osé Italia",750,12,"Courant achat continu","Article actif"]
[12383213,"Vin rg Italie autres régions","08004753000111","Osé Italia",750,12,"Courant achat continu","Article actif"]
[12383221,"Vin rg Espagne","08410406000122","Excellens Marqués de Cáceres",750,12,"Courant achat continu","Article actif"]
[12383248,"Vin rg Afrique du Sud","06001812010007","Cabernet Sauvignon Douglas Green Coastal Region",750,12,"Courant achat continu","Article actif"]
[12383256,"Vin rg France Languedoc","03525490010201","Grenache / Syrah / Merlot Patisserie du Vin Pays d'Oc",750,12,"Courant achat continu","Article actif"]
[12383264,"Vin rg États-Unis","00089819001705","Cabernet Sauvignon Beringer Founders Estate",750,12,"Courant achat continu","Article actif"]
[12383344,"Vin rg Chili","00086785470740","Carmenère Terra Andina Scandalous Valle del Maipo",750,12,"Courant achat continu","Article actif"]
[12383352,"Vin rg France Vallée du Rhône","03260980029607","Bonpas Grande Réserve des Challières Côtes du Rhône",750,12,"Courant achat continu","Article actif"]
[12383619,"Vin rg France Vallée du Rhône","03035131120096","Barton & Guestier Passeport Côtes-du-Rhône",750,12,"Courant achat continu","Article actif"]
[12383707,"Vin rg Italie Toscane","08002305009766","Rubizzo Rocca delle Macie",750,12,"Courant achat continu","Article actif"]
[12383766,"Vin rg Argentine","00852832106517","Graffigna Elevation Red Blend Réserve San Juan",750,12,"Courant achat continu","Article actif"]
[12384478,"Vin rg France Vallée du Rhône","03179077470195","Les Dauphins Côtes du Rhône Réserve",750,12,"Courant achat continu","Article actif"]
[12386334,"Vin bl Italie Vénétie","08003625071822","Lady Lola Delle Venezie i.g.t.",750,12,"Courant achat continu","Article actif"]
[12392232,"Vin bl France Bordeaux","03500610030659","Louis Eschenauer Bordeaux Sauvignon Blanc",750,12,"Courant achat continu","Article actif"]
[12427837,"Produits du Terroir","00854745000654","Signature Réserve spéciale Dom. Pinnacle cidre de glace",200,6,"Spécialité achat continu","Article actif"]
[12445074,"Vin rg Québec","00827924036249","Phénix vin rouge",750,12,"Spécialité achat continu","Article actif"]
[12479872,"Vin rg Australie","00057496005569","Cabernet Sauvignon Smoky Bay",750,12,"Courant achat continu","Article actif"]
[12493877,"Vodka et Alcool","00082000770138","Smirnoff Double Black",750,12,"Courant achat continu","Article actif"]