{"text_format":"3","workbook":"xlsx","n_sheets":4,"sheets":["Macro1","Sheet1","Feuil1","Matin"],"not_rendered":{"images":1,"macros":1},"unopened":[{"sheet":"Macro1","index":0,"reason":"not_a_worksheet"}],"read":"whole","date_system":"1900"}

{"sheet":"Sheet1","index":1,"n_rows":3008,"n_cols":28,"rows_kept":3008}
["#","Numéro d'article","Description article","Numéro de lot","Colonne1","Magasin","Qté","Emplacement","Magasin2","Qté3","Qté4","Qté5","Qté6","Qté7","Qté8","Box's","Produits","THEO","PHYS","DIFF","DDP","01er lot","PPA","Colonne2","2éme lot","3ème lot","4ème lot","Qtt 2éme lot"]
[1,"MD004021","ABASAGLAR 100 KWIKPEN SOL INJ SC 100 UI/ML B/5 STYLOS","INSULINE GLARGINE","D112953C","01.05.2021","MG/EXP1",5,"MG/EXP1-BOX6",null,0,null,"GLAC",6281.35,"BIOPHARM SPA",{"$f":"IFERROR(IF(Q2=\"\",\"-\",INDEX(I:I,MATCH(Q2,C:C,0))),\"-\")","v":"MG/EXP1-D-006"},"DEPRISOLE 20MG COMP OROD B/20",{"$f":"SUMIF(Tableau1[Description article],Tableau1[Produits],Tableau1[Emplacement])","v":158},null,{"$f":"Sheet1!$S2-Sheet1!$R2","v":-158},{"$f":"IFERROR(IF(Q2=\"\",\"-\",INDEX(F:F,MATCH(Q2,C:C,0))),\"-\")","v":"01.11.2021"},{"$f":"IFERROR(IF(Q2=\"\",\"-\",INDEX(E:E,MATCH(Q2,C:C,0))),\"-\")","v":"053"},{"$f":"IFERROR(IF(Q2=\"\",\"-\",INDEX(N:N,MATCH(Q2,C:C,0))),\"-\")","v":388.5},{"$f":"IFERROR(Tableau1[[#This Row],[THEO]]-Tableau1[[#This Row],[Qtt 2éme lot]],\"-\")","v":"-"},{"$f":"IF(IF(Q2=\"\",\"-\",INDEX(E:E,MATCH(Q2,C:C,0)))=IF(Q2=\"\",\"-\",INDEX(E:E,MATCH(Q2,C:C,1))),\"-\",IF(Q2=\"\",\"-\",INDEX(E:E,MATCH(Q2,C:C,1))))","v":"-"},{"$f":"IF(Tableau1[[#This Row],[2éme lot]]=\"-\",\"-\",IFERROR(IF(Q2=\"\",\"-\",INDEX(I:I,MATCH(Q2,C:C,0)+1)),\"-\"))","v":"-"},{"$f":"IFERROR(IF(Y2=\"\",\"-\",INDEX(N:N,MATCH(Y2,E:E,0))),\"-\")","v":"-"},{"$f":"IFERROR(IF(AA2=\"\",\"-\",INDEX(H:H,MATCH(Y2,E:E,0))),\"-\")","v":"-"}]
[4,"MD004200","ABDIFLY 10MG  B/28","ARIPIPRAZOLE","001","01.06.2021","MG/EXP1",46,"MG/EXP1-BOX6-PSY-015",null,0,null,"CHER",5252.28,"ABDI IBRAHIM REMED PHARMA SPA","MG/EXP1-D-003","MAALOX MAUX D'ESTOMAC 3,5G/4G/100ML SUSP.BUV. B/01 FL/250ML",{"$f":"SUMIF(Tableau1[Description article],Tableau1[Produits],Tableau1[Emplacement])","v":73},null,{"$f":"Sheet1!$S3-Sheet1!$R3","v":-73},"01.06.2022","19LOX066",180,{"$f":"IFERROR(Tableau1[[#This Row],[THEO]]-Tableau1[[#This Row],[Qtt 2éme lot]],\"-\")","v":"-"},"-",{"$f":"IF(Tableau1[[#This Row],[2éme lot]]=\"-\",\"-\",IFERROR(IF(Q3=\"\",\"-\",INDEX(I:I,MATCH(Q3,C:C,0)+1)),\"-\"))","v":"-"},"-","-"]
[6,"MD004201","ABDIFLY 15MG  B/28","ARIPIPRAZOLE","001","01.06.2021","MG/EXP1",59,"MG/EXP1-BOX6-PSY-015",null,0,null,"CHER",5252.28,"ABDI IBRAHIM REMED PHARMA SPA","MG/EXP1-D-056","METAGYL 125MG/5ML SUSP.BUV. B/01 FL/125ML + GBL.DOSEUR",{"$f":"SUMIF(Tableau1[Description article],Tableau1[Produits],Tableau1[Emplacement])","v":121},null,{"$f":"Sheet1!$S4-Sheet1!$R4","v":-121},"30.11.2020","8A18",163.67,{"$f":"IFERROR(Tableau1[[#This Row],[THEO]]-Tableau1[[#This Row],[Qtt 2éme lot]],\"-\")","v":17},"8A19",{"$f":"IF(Tableau1[[#This Row],[2éme lot]]=\"-\",\"-\",IFERROR(IF(Q4=\"\",\"-\",INDEX(I:I,MATCH(Q4,C:C,0)+1)),\"-\"))","v":"MG/EXP1-D-064"},163.67,104]
[7,"MD004201","ABDIFLY 15MG  B/28","ARIPIPRAZOLE","001","01.06.2021","MG/EXP1",4,"MG/EXP1-BOX6-PSY-021",null,0,null,"CHER",5252.28,"ABDI IBRAHIM REMED PHARMA SPA","MG/EXP1-BOX6","PUREGON PEN",{"$f":"SUMIF(Tableau1[Description article],Tableau1[Produits],Tableau1[Emplacement])","v":31},null,{"$f":"Sheet1!$S5-Sheet1!$R5","v":-31},"01.05.2021","S013944",0,{"$f":"IFERROR(Tableau1[[#This Row],[THEO]]-Tableau1[[#This Row],[Qtt 2éme lot]],\"-\")","v":29},"R008428**",{"$f":"IF(Tableau1[[#This Row],[2éme lot]]=\"-\",\"-\",IFERROR(IF(Q5=\"\",\"-\",INDEX(I:I,MATCH(Q5,C:C,0)+1)),\"-\"))","v":"MG/EXP1-BOX6"},0,2]
[8,"MD000032","ABILIZOLE 10MG COMP.PELLI. B/30","ARIPIPRAZOLE","192803","01.12.2021","MG/EXP1",512,"MG/EXP1-BOX6-PSY-015",null,0,null,"CHER",5627.66,"EL KENDI INDUSTRIE DE MEDICAMENTS SPA","MG/EXP1-D-026","ABUFENE 400MG COMP. B/30",{"$f":"SUMIF(Tableau1[Description article],Tableau1[Produits],Tableau1[Emplacement])","v":35},null,{"$f":"Sheet1!$S6-Sheet1!$R6","v":-35},"01.04.2022","19138",348,{"$f":"IFERROR(Tableau1[[#This Row],[THEO]]-Tableau1[[#This Row],[Qtt 2éme lot]],\"-\")","v":"-"},"-",{"$f":"IF(Tableau1[[#This Row],[2éme lot]]=\"-\",\"-\",IFERROR(IF(Q6=\"\",\"-\",INDEX(I:I,MATCH(Q6,C:C,0)+1)),\"-\"))","v":"-"},"-","-"]
[9,"MD000033","ABILIZOLE 15MG COMP.PELLI. B/30","ARIPIPRAZOLE","192804","01.01.2021","MG/EXP1",738,"MG/EXP1-BOX6-PSY",null,0,null,"CHER",5627.6,"EL KENDI INDUSTRIE DE MEDICAMENTS SPA","MG/EXP1-C-006","ACTICARBINE 14MG/70MG COMP.DRAGEIFIES B/42",{"$f":"SUMIF(Tableau1[Description article],Tableau1[Produits],Tableau1[Emplacement])","v":143},null,{"$f":"Sheet1!$S7-Sheet1!$R7","v":-143},"01.01.2024","Y9001",420,{"$f":"IFERROR(Tableau1[[#This Row],[THEO]]-Tableau1[[#This Row],[Qtt 2éme lot]],\"-\")","v":"-"},"-",{"$f":"IF(Tableau1[[#This Row],[2éme lot]]=\"-\",\"-\",IFERROR(IF(Q7=\"\",\"-\",INDEX(I:I,MATCH(Q7,C:C,0)+1)),\"-\"))","v":"-"},"-","-"]
[12,"MD000026","ABUFENE 400MG COMP. B/30","BETA ALANINE","19138","01.04.2022","MG/EXP1",35,"MG/EXP1-D-026",null,0,null,null,348,"BIOPHARM SPA","-",null,{"$f":"SUMIF(Tableau1[Description article],Tableau1[Produits],Tableau1[Emplacement])","v":0},null,{"$f":"Sheet1!$S8-Sheet1!$R8","v":0},"-","-","-",{"$f":"IFERROR(Tableau1[[#This Row],[THEO]]-Tableau1[[#This Row],[Qtt 2éme lot]],\"-\")","v":"-"},"-",{"$f":"IF(Tableau1[[#This Row],[2éme lot]]=\"-\",\"-\",IFERROR(IF(Q8=\"\",\"-\",INDEX(I:I,MATCH(Q8,C:C,0)+1)),\"-\"))","v":"-"},"-","-"]
[13,"MD000051","ACARLYSE 50MG COMP. B/30","ACARBOSE","018","01.01.2021","MG/EXP1",54,"MG/EXP1-G-029",null,0,null,null,408.78,"PROVIVO SPA","-",null,{"$f":"SUMIF(Tableau1[Description article],Tableau1[Produits],Tableau1[Emplacement])","v":0},null,{"$f":"Sheet1!$S9-Sheet1!$R9","v":0},"-","-","-",{"$f":"IFERROR(Tableau1[[#This Row],[THEO]]-Tableau1[[#This Row],[Qtt 2éme lot]],\"-\")","v":"-"},"-",{"$f":"IF(Tableau1[[#This Row],[2éme lot]]=\"-\",\"-\",IFERROR(IF(Q9=\"\",\"-\",INDEX(I:I,MATCH(Q9,C:C,0)+1)),\"-\"))","v":"-"},"-","-"]
[15,"MD003839","ACIFUDAL 0,02 CR.DERM. T/15G","ACIDE FUSIDIQUE","142","01.03.2021","MG/EXP1",360,"MG/EXP1-D-015",null,0,null,null,164.15,"SAIDAL UNITE CENTRE","-",null,{"$f":"SUMIF(Tableau1[Description article],Tableau1[Produits],Tableau1[Emplacement])","v":0},null,{"$f":"Sheet1!$S10-Sheet1!$R10","v":0},"-","-","-",{"$f":"IFERROR(Tableau1[[#This Row],[THEO]]-Tableau1[[#This Row],[Qtt 2éme lot]],\"-\")","v":"-"},"-",{"$f":"IF(Tableau1[[#This Row],[2éme lot]]=\"-\",\"-\",IFERROR(IF(Q10=\"\",\"-\",INDEX(I:I,MATCH(Q10,C:C,0)+1)),\"-\"))","v":"-"},"-","-"]
[20,"MD002145","ACTICARBINE 14MG/70MG COMP.DRAGEIFIES B/42","PAPAVERINE CHLORHYDRATE/CHARBON ACTIVE","Y9001","01.01.2024","MG/EXP1",143,"MG/EXP1-C-006",null,0,null,null,420,"MAGPHARM LABORATOIRES SARL","-",null,{"$f":"SUMIF(Tableau1[Description article],Tableau1[Produits],Tableau1[Emplacement])","v":0},null,{"$f":"Sheet1!$S11-Sheet1!$R11","v":0},"-","-","-",{"$f":"IFERROR(Tableau1[[#This Row],[THEO]]-Tableau1[[#This Row],[Qtt 2éme lot]],\"-\")","v":"-"},"-",{"$f":"IF(Tableau1[[#This Row],[2éme lot]]=\"-\",\"-\",IFERROR(IF(Q11=\"\",\"-\",INDEX(I:I,MATCH(Q11,C:C,0)+1)),\"-\"))","v":"-"},"-","-"]
[21,"MD003818","ACUITEL 20MG COMP.ENRO.SEC. B/28","QUINAPRIL","X34225","28.02.2021","MG/EXP1",44,"MG/EXP1-A-009",null,0,null,null,1153.12,"PFIZER PHARM ALGERIE SPA","-",null,{"$f":"SUMIF(Tableau1[Description article],Tableau1[Produits],Tableau1[Emplacement])","v":0},null,{"$f":"Sheet1!$S12-Sheet1!$R12","v":0},"-","-","-",{"$f":"IFERROR(Tableau1[[#This Row],[THEO]]-Tableau1[[#This Row],[Qtt 2éme lot]],\"-\")","v":"-"},"-",{"$f":"IF(Tableau1[[#This Row],[2éme lot]]=\"-\",\"-\",IFERROR(IF(Q12=\"\",\"-\",INDEX(I:I,MATCH(Q12,C:C,0)+1)),\"-\"))","v":"-"},"-","-"]
[22,"MD002150","ACUPAN 10MG/ML SOL.INJ.IM.\\IV. B/05 AMP/2ML","NEFOPAM CHLORHYDRATE","D714","31.03.2022","MG/EXP1",19,"MG/EXP1-E-060",null,0,null,null,355.11,"AT PHARMA SPA","-",null,{"$f":"SUMIF(Tableau1[Description article],Tableau1[Produits],Tableau1[Emplacement])","v":0},null,{"$f":"Sheet1!$S13-Sheet1!$R13","v":0},"-","-","-",{"$f":"IFERROR(Tableau1[[#This Row],[THEO]]-Tableau1[[#This Row],[Qtt 2éme lot]],\"-\")","v":"-"},"-",{"$f":"IF(Tableau1[[#This Row],[2éme lot]]=\"-\",\"-\",IFERROR(IF(Q13=\"\",\"-\",INDEX(I:I,MATCH(Q13,C:C,0)+1)),\"-\"))","v":"-"},"-","-"]
[23,"PP00386","ADANT 1 X 2.5 ML SOL.INJ. B/1","HYALURONATE DE SODIUM","M-2","01.06.2021","MG/EXP1",55,"MG/EXP1-BOX6",null,0,null,"GLAC",5999.99,"PROVIVO SPA","-",null,{"$f":"SUMIF(Tableau1[Description article],Tableau1[Produits],Tableau1[Emplacement])","v":0},null,{"$f":"Sheet1!$S14-Sheet1!$R14","v":0},"-","-","-",{"$f":"IFERROR(Tableau1[[#This Row],[THEO]]-Tableau1[[#This Row],[Qtt 2éme lot]],\"-\")","v":"-"},"-",{"$f":"IF(Tableau1[[#This Row],[2éme lot]]=\"-\",\"-\",IFERROR(IF(Q14=\"\",\"-\",INDEX(I:I,MATCH(Q14,C:C,0)+1)),\"-\"))","v":"-"},"-","-"]
[24,"PP00367","ADDITIVA OSTEOGARD VITAMINE D3 800UI COMP. B/200","COMPLEMENT ALIMENTAIRE","L8274","01.04.2021","MG/EXP1",44,"MG/EXP1-G-030",null,0,null,null,675.65,"VECOPHARM SARL","-",null,{"$f":"SUMIF(Tableau1[Description article],Tableau1[Produits],Tableau1[Emplacement])","v":0},null,{"$f":"Sheet1!$S15-Sheet1!$R15","v":0},"-","-","-",{"$f":"IFERROR(Tableau1[[#This Row],[THEO]]-Tableau1[[#This Row],[Qtt 2éme lot]],\"-\")","v":"-"},"-",{"$f":"IF(Tableau1[[#This Row],[2éme lot]]=\"-\",\"-\",IFERROR(IF(Q15=\"\",\"-\",INDEX(I:I,MATCH(Q15,C:C,0)+1)),\"-\"))","v":"-"},"-","-"]
[26,"MD003819","ADEPAL 0,15MG/0,03MG(BLCS.) & 0,20MG/0,04MG(RSE.ORGE.) COMP. B/3X21 (7BLCS. + 14RSE.ORGE.)","LEVONORGESTREL / ETHINYLESTRADIOL","X34549","30.06.2021","MG/EXP1",164,"MG/EXP1-A-032",null,0,null,null,259.6,"PFIZER PHARM ALGERIE SPA","-",null,{"$f":"SUMIF(Tableau1[Description article],Tableau1[Produits],Tableau1[Emplacement])","v":0},null,{"$f":"Sheet1!$S16-Sheet1!$R16","v":0},"-","-","-",{"$f":"IFERROR(Tableau1[[#This Row],[THEO]]-Tableau1[[#This Row],[Qtt 2éme lot]],\"-\")","v":"-"},"-",{"$f":"IF(Tableau1[[#This Row],[2éme lot]]=\"-\",\"-\",IFERROR(IF(Q16=\"\",\"-\",INDEX(I:I,MATCH(Q16,C:C,0)+1)),\"-\"))","v":"-"},"-","-"]
[27,"MD003819","ADEPAL 0,15MG/0,03MG(BLCS.) & 0,20MG/0,04MG(RSE.ORGE.) COMP. B/3X21 (7BLCS. + 14RSE.ORGE.)","LEVONORGESTREL / ETHINYLESTRADIOL","X34549","30.06.2021","MG/EXP1",19,"MG/EXP1-A-046",null,0,null,null,259.6,"PFIZER PHARM ALGERIE SPA","-",null,{"$f":"SUMIF(Tableau1[Description article],Tableau1[Produits],Tableau1[Emplacement])","v":0},null,{"$f":"Sheet1!$S17-Sheet1!$R17","v":0},"-","-","-",{"$f":"IFERROR(Tableau1[[#This Row],[THEO]]-Tableau1[[#This Row],[Qtt 2éme lot]],\"-\")","v":"-"},"-",{"$f":"IF(Tableau1[[#This Row],[2éme lot]]=\"-\",\"-\",IFERROR(IF(Q17=\"\",\"-\",INDEX(I:I,MATCH(Q17,C:C,0)+1)),\"-\"))","v":"-"},"-","-"]
[28,"MD003789","ADEX LP 1,5MG COMP.PELLI.LP. B/30","INDAPAMIDE","9268","31.03.2022","MG/EXP1",1,"MG/EXP1-B-027",null,0,null,null,598.5,"INPHA MEDIS SPA","-",null,{"$f":"SUMIF(Tableau1[Description article],Tableau1[Produits],Tableau1[Emplacement])","v":0},null,{"$f":"Sheet1!$S18-Sheet1!$R18","v":0},"-","-","-",{"$f":"IFERROR(Tableau1[[#This Row],[THEO]]-Tableau1[[#This Row],[Qtt 2éme lot]],\"-\")","v":"-"},"-",{"$f":"IF(Tableau1[[#This Row],[2éme lot]]=\"-\",\"-\",IFERROR(IF(Q18=\"\",\"-\",INDEX(I:I,MATCH(Q18,C:C,0)+1)),\"-\"))","v":"-"},"-","-"]
[29,"PP00423","ADRAGYN GEL VAGINAL .B/14 STICKS","SERRAGE VAGINAL","002","01.03.2021","MG/EXP1",2,"MG/EXP1-BOX6-021",null,0,null,null,1980,"BIOPHARM SPA","-",null,{"$f":"SUMIF(Tableau1[Description article],Tableau1[Produits],Tableau1[Emplacement])","v":0},null,{"$f":"Sheet1!$S19-Sheet1!$R19","v":0},"-","-","-",{"$f":"IFERROR(Tableau1[[#This Row],[THEO]]-Tableau1[[#This Row],[Qtt 2éme lot]],\"-\")","v":"-"},"-",{"$f":"IF(Tableau1[[#This Row],[2éme lot]]=\"-\",\"-\",IFERROR(IF(Q19=\"\",\"-\",INDEX(I:I,MATCH(Q19,C:C,0)+1)),\"-\"))","v":"-"},"-","-"]
[33,"MD000035","AIRDITINE 0,5MG/ML SRP. B/01 FL/120ML+ BCHN.DOSEUR GRAD.","DESLORATADINE","191429","01.06.2021","MG/EXP1",133,"MG/EXP1-E-040",null,0,null,null,369.3,"EL KENDI INDUSTRIE DE MEDICAMENTS SPA","-",null,{"$f":"SUMIF(Tableau1[Description article],Tableau1[Produits],Tableau1[Emplacement])","v":0},null,{"$f":"Sheet1!$S20-Sheet1!$R20","v":0},"-","-","-",{"$f":"IFERROR(Tableau1[[#This Row],[THEO]]-Tableau1[[#This Row],[Qtt 2éme lot]],\"-\")","v":"-"},"-",{"$f":"IF(Tableau1[[#This Row],[2éme lot]]=\"-\",\"-\",IFERROR(IF(Q20=\"\",\"-\",INDEX(I:I,MATCH(Q20,C:C,0)+1)),\"-\"))","v":"-"},"-","-"]
[36,"MD000036","AIRDITINE 5MG COMP.PELLI. B/10","DESLORATADINE","191805","01.08.2021","MG/EXP1",20,"MG/EXP1-C-037",null,0,null,null,299.64,"EL KENDI INDUSTRIE DE MEDICAMENTS SPA","-",null,{"$f":"SUMIF(Tableau1[Description article],Tableau1[Produits],Tableau1[Emplacement])","v":0},null,{"$f":"Sheet1!$S21-Sheet1!$R21","v":0},"-","-","-",{"$f":"IFERROR(Tableau1[[#This Row],[THEO]]-Tableau1[[#This Row],[Qtt 2éme lot]],\"-\")","v":"-"},"-",{"$f":"IF(Tableau1[[#This Row],[2éme lot]]=\"-\",\"-\",IFERROR(IF(Q21=\"\",\"-\",INDEX(I:I,MATCH(Q21,C:C,0)+1)),\"-\"))","v":"-"},"-","-"]
[40,"MD003806","AKARYD 10MG COMP.PELLI. B/20","LORATADINE","M11004R","01.04.2022","MG/EXP1",49,"MG/EXP1-C-029",null,0,null,null,237.6,"MERINAL LABORATOIRES","-",null,{"$f":"SUMIF(Tableau1[Description article],Tableau1[Produits],Tableau1[Emplacement])","v":0},null,{"$f":"Sheet1!$S22-Sheet1!$R22","v":0},"-","-","-",{"$f":"IFERROR(Tableau1[[#This Row],[THEO]]-Tableau1[[#This Row],[Qtt 2éme lot]],\"-\")","v":"-"},"-",{"$f":"IF(Tableau1[[#This Row],[2éme lot]]=\"-\",\"-\",IFERROR(IF(Q22=\"\",\"-\",INDEX(I:I,MATCH(Q22,C:C,0)+1)),\"-\"))","v":"-"},"-","-"]
[41,"PP00006","AKTIV  MULTIVITAMINES POUR ELLE .CP EFFERV .B/15",null,"223994*","01.06.2020","MG/EXP1",3,"MG/EXP1-G-001",null,0,null,null,866.97,"BIOREAL PHARM SPA","-",null,{"$f":"SUMIF(Tableau1[Description article],Tableau1[Produits],Tableau1[Emplacement])","v":0},null,{"$f":"Sheet1!$S23-Sheet1!$R23","v":0},"-","-","-",{"$f":"IFERROR(Tableau1[[#This Row],[THEO]]-Tableau1[[#This Row],[Qtt 2éme lot]],\"-\")","v":"-"},"-",{"$f":"IF(Tableau1[[#This Row],[2éme lot]]=\"-\",\"-\",IFERROR(IF(Q23=\"\",\"-\",INDEX(I:I,MATCH(Q23,C:C,0)+1)),\"-\"))","v":"-"},"-","-"]
[42,"PP00013","AKTIV COMPLEXE B CP .B/30  - 8 VIT B -",null,"L170127","01.12.2020","MG/EXP1",5,"MG/EXP1-F-034",null,0,null,null,1195.22,"BIOREAL PHARM SPA","-",null,{"$f":"SUMIF(Tableau1[Description article],Tableau1[Produits],Tableau1[Emplacement])","v":0},null,{"$f":"Sheet1!$S24-Sheet1!$R24","v":0},"-","-","-",{"$f":"IFERROR(Tableau1[[#This Row],[THEO]]-Tableau1[[#This Row],[Qtt 2éme lot]],\"-\")","v":"-"},"-",{"$f":"IF(Tableau1[[#This Row],[2éme lot]]=\"-\",\"-\",IFERROR(IF(Q24=\"\",\"-\",INDEX(I:I,MATCH(Q24,C:C,0)+1)),\"-\"))","v":"-"},"-","-"]
[44,"PP00027","AKTIV PROSTACALM  GELULES .B/30",null,"080067","01.06.2020","MG/EXP1",1,"MG/EXP1-G-017",null,0,null,null,1558.64,"BIOREAL PHARM SPA","-",null,{"$f":"SUMIF(Tableau1[Description article],Tableau1[Produits],Tableau1[Emplacement])","v":0},null,{"$f":"Sheet1!$S25-Sheet1!$R25","v":0},"-","-","-",{"$f":"IFERROR(Tableau1[[#This Row],[THEO]]-Tableau1[[#This Row],[Qtt 2éme lot]],\"-\")","v":"-"},"-",{"$f":"IF(Tableau1[[#This Row],[2éme lot]]=\"-\",\"-\",IFERROR(IF(Q25=\"\",\"-\",INDEX(I:I,MATCH(Q25,C:C,0)+1)),\"-\"))","v":"-"},"-","-"]
[45,"PP00464","AKTIV VITAMINE B12 75µG COMP. B/30","VITAMINE B12","120067","01.06.2020","MG/EXP1",2,"MG/EXP1-D-017",null,0,null,null,1101.82,"BIOREAL PHARM SPA","-",null,{"$f":"SUMIF(Tableau1[Description article],Tableau1[Produits],Tableau1[Emplacement])","v":0},null,{"$f":"Sheet1!$S26-Sheet1!$R26","v":0},"-","-","-",{"$f":"IFERROR(Tableau1[[#This Row],[THEO]]-Tableau1[[#This Row],[Qtt 2éme lot]],\"-\")","v":"-"},"-",{"$f":"IF(Tableau1[[#This Row],[2éme lot]]=\"-\",\"-\",IFERROR(IF(Q26=\"\",\"-\",INDEX(I:I,MATCH(Q26,C:C,0)+1)),\"-\"))","v":"-"},"-","-"]
[46,"MD003882","ALDOMET 250MG COMP.PELLI. B/30","METHYLDOPA","M25009R","31.08.2022","MG/EXP1",137,"MG/EXP1-B-020",null,0,null,null,302.5,"MERINAL LABORATOIRES","-",null,{"$f":"SUMIF(Tableau1[Description article],Tableau1[Produits],Tableau1[Emplacement])","v":0},null,{"$f":"Sheet1!$S27-Sheet1!$R27","v":0},"-","-","-",{"$f":"IFERROR(Tableau1[[#This Row],[THEO]]-Tableau1[[#This Row],[Qtt 2éme lot]],\"-\")","v":"-"},"-",{"$f":"IF(Tableau1[[#This Row],[2éme lot]]=\"-\",\"-\",IFERROR(IF(Q27=\"\",\"-\",INDEX(I:I,MATCH(Q27,C:C,0)+1)),\"-\"))","v":"-"},"-","-"]
[49,"MD003841","ALLERTINE 10MG COMP. B/20","LORATADINE","009","01.10.2021","MG/EXP1",160,"MG/EXP1-A-018",null,0,null,null,198.5,"SAIDAL UNITE CENTRE","-",null,{"$f":"SUMIF(Tableau1[Description article],Tableau1[Produits],Tableau1[Emplacement])","v":0},null,{"$f":"Sheet1!$S28-Sheet1!$R28","v":0},"-","-","-",{"$f":"IFERROR(Tableau1[[#This Row],[THEO]]-Tableau1[[#This Row],[Qtt 2éme lot]],\"-\")","v":"-"},"-",{"$f":"IF(Tableau1[[#This Row],[2éme lot]]=\"-\",\"-\",IFERROR(IF(Q28=\"\",\"-\",INDEX(I:I,MATCH(Q28,C:C,0)+1)),\"-\"))","v":"-"},"-","-"]
[50,"MD002168","ALLERTINE 1MG/ML SRP. FL/60ML","LORATADINE","AL030718","01.07.2021","MG/EXP1",90,"MG/EXP1-D-035",null,0,null,null,93.5,"SAIDAL UNITE CENTRE","-",null,{"$f":"SUMIF(Tableau1[Description article],Tableau1[Produits],Tableau1[Emplacement])","v":0},null,{"$f":"Sheet1!$S29-Sheet1!$R29","v":0},"-","-","-",{"$f":"IFERROR(Tableau1[[#This Row],[THEO]]-Tableau1[[#This Row],[Qtt 2éme lot]],\"-\")","v":"-"},"-",{"$f":"IF(Tableau1[[#This Row],[2éme lot]]=\"-\",\"-\",IFERROR(IF(Q29=\"\",\"-\",INDEX(I:I,MATCH(Q29,C:C,0)+1)),\"-\"))","v":"-"},"-","-"]
[52,"MD003855","ALPROFEN 100MG SUPP. B/10","KETOPROFENE","9R068","01.12.2021","MG/EXP1",26,"MG/EXP1-A-036",null,0,null,null,200,"SALEM LABORATOIRES SARL","-",null,{"$f":"SUMIF(Tableau1[Description article],Tableau1[Produits],Tableau1[Emplacement])","v":0},null,{"$f":"Sheet1!$S30-Sheet1!$R30","v":0},"-","-","-",{"$f":"IFERROR(Tableau1[[#This Row],[THEO]]-Tableau1[[#This Row],[Qtt 2éme lot]],\"-\")","v":"-"},"-",{"$f":"IF(Tableau1[[#This Row],[2éme lot]]=\"-\",\"-\",IFERROR(IF(Q30=\"\",\"-\",INDEX(I:I,MATCH(Q30,C:C,0)+1)),\"-\"))","v":"-"},"-","-"]
[54,"PP00040","ALVITYL - SP .F/150 ML",null,"76669","01.09.2021","MG/EXP1",47,"MG/EXP1-F-003",null,0,null,null,1200,"UNILAB PHARMACEUTICALS SARL","-",null,{"$f":"SUMIF(Tableau1[Description article],Tableau1[Produits],Tableau1[Emplacement])","v":0},null,{"$f":"Sheet1!$S31-Sheet1!$R31","v":0},"-","-","-",{"$f":"IFERROR(Tableau1[[#This Row],[THEO]]-Tableau1[[#This Row],[Qtt 2éme lot]],\"-\")","v":"-"},"-",{"$f":"IF(Tableau1[[#This Row],[2éme lot]]=\"-\",\"-\",IFERROR(IF(Q31=\"\",\"-\",INDEX(I:I,MATCH(Q31,C:C,0)+1)),\"-\"))","v":"-"},"-","-"]
[55,"PP00462","ALVITYL A CROQUER COMP.CROQ. B/20","MULTIVITAMINE / MINERAUX/OLIGO ELEMENTS","F145464","01.06.2021","MG/EXP1",15,"MG/EXP1-E-057",null,0,null,null,1200,"UNILAB PHARMACEUTICALS SARL","-",null,{"$f":"SUMIF(Tableau1[Description article],Tableau1[Produits],Tableau1[Emplacement])","v":0},null,{"$f":"Sheet1!$S32-Sheet1!$R32","v":0},"-","-","-",{"$f":"IFERROR(Tableau1[[#This Row],[THEO]]-Tableau1[[#This Row],[Qtt 2éme lot]],\"-\")","v":"-"},"-",{"$f":"IF(Tableau1[[#This Row],[2éme lot]]=\"-\",\"-\",IFERROR(IF(Q32=\"\",\"-\",INDEX(I:I,MATCH(Q32,C:C,0)+1)),\"-\"))","v":"-"},"-","-"]
[57,"PP00042","ALVITYL APPETIT SIROP 100 ML",null,"221344","01.07.2021","MG/EXP1",56,"MG/EXP1-G-021",null,0,null,null,1200,"UNILAB PHARMACEUTICALS SARL","-",null,{"$f":"SUMIF(Tableau1[Description article],Tableau1[Produits],Tableau1[Emplacement])","v":0},null,{"$f":"Sheet1!$S33-Sheet1!$R33","v":0},"-","-","-",{"$f":"IFERROR(Tableau1[[#This Row],[THEO]]-Tableau1[[#This Row],[Qtt 2éme lot]],\"-\")","v":"-"},"-",{"$f":"IF(Tableau1[[#This Row],[2éme lot]]=\"-\",\"-\",IFERROR(IF(Q33=\"\",\"-\",INDEX(I:I,MATCH(Q33,C:C,0)+1)),\"-\"))","v":"-"},"-","-"]
[58,"PP00435","ALVITYL CONCENTRATION SIROP 150 ML","OMEGA03+FER+VIT B3+VITD+VIT E","060170","01.08.2021","MG/EXP1",146,"MG/EXP1-A-044",null,0,null,null,1700,"UNILAB PHARMACEUTICALS SARL","-",null,{"$f":"SUMIF(Tableau1[Description article],Tableau1[Produits],Tableau1[Emplacement])","v":0},null,{"$f":"Sheet1!$S34-Sheet1!$R34","v":0},"-","-","-",{"$f":"IFERROR(Tableau1[[#This Row],[THEO]]-Tableau1[[#This Row],[Qtt 2éme lot]],\"-\")","v":"-"},"-",{"$f":"IF(Tableau1[[#This Row],[2éme lot]]=\"-\",\"-\",IFERROR(IF(Q34=\"\",\"-\",INDEX(I:I,MATCH(Q34,C:C,0)+1)),\"-\"))","v":"-"},"-","-"]
[59,"PP00434","ALVITYL DEFENSES SIROP 150 ML","ECHINACEES+PROPOLIS+VIT C+VIT D","59615","01.06.2021","MG/EXP1",265,"MG/EXP1-C-022",null,0,null,null,1300,"UNILAB PHARMACEUTICALS SARL","-",null,{"$f":"SUMIF(Tableau1[Description article],Tableau1[Produits],Tableau1[Emplacement])","v":0},null,{"$f":"Sheet1!$S35-Sheet1!$R35","v":0},"-","-","-",{"$f":"IFERROR(Tableau1[[#This Row],[THEO]]-Tableau1[[#This Row],[Qtt 2éme lot]],\"-\")","v":"-"},"-",{"$f":"IF(Tableau1[[#This Row],[2éme lot]]=\"-\",\"-\",IFERROR(IF(Q35=\"\",\"-\",INDEX(I:I,MATCH(Q35,C:C,0)+1)),\"-\"))","v":"-"},"-","-"]
[60,"PP00364","ALVITYL TONUS B/10 CP EFFERV",null,"217714","01.11.2021","MG/EXP1",86,"MG/EXP1-C-018",null,0,null,null,900,"UNILAB PHARMACEUTICALS SARL","-",null,{"$f":"SUMIF(Tableau1[Description article],Tableau1[Produits],Tableau1[Emplacement])","v":0},null,{"$f":"Sheet1!$S36-Sheet1!$R36","v":0},"-","-","-",{"$f":"IFERROR(Tableau1[[#This Row],[THEO]]-Tableau1[[#This Row],[Qtt 2éme lot]],\"-\")","v":"-"},"-",{"$f":"IF(Tableau1[[#This Row],[2éme lot]]=\"-\",\"-\",IFERROR(IF(Q36=\"\",\"-\",INDEX(I:I,MATCH(Q36,C:C,0)+1)),\"-\"))","v":"-"},"-","-"]
[62,"MD004123","ALZHANTINE 5MG COMP.PELLI. B/60","MEMANTINE CHLOHYDRATE","190983","01.04.2021","MG/EXP1",32,"MG/EXP1-BOX6-001",null,0,null,null,1724.42,"EL KENDI INDUSTRIE DE MEDICAMENTS SPA","-",null,{"$f":"SUMIF(Tableau1[Description article],Tableau1[Produits],Tableau1[Emplacement])","v":0},null,{"$f":"Sheet1!$S37-Sheet1!$R37","v":0},"-","-","-",{"$f":"IFERROR(Tableau1[[#This Row],[THEO]]-Tableau1[[#This Row],[Qtt 2éme lot]],\"-\")","v":"-"},"-",{"$f":"IF(Tableau1[[#This Row],[2éme lot]]=\"-\",\"-\",IFERROR(IF(Q37=\"\",\"-\",INDEX(I:I,MATCH(Q37,C:C,0)+1)),\"-\"))","v":"-"},"-","-"]
[63,"MD003780","AMAPIRIDE HUP 1MG COMP.SEC. B/30","GLIMEPIRIDE","022","01.06.2022","MG/EXP1",141,"MG/EXP1-E-047",null,0,null,null,248.3,"HUP.P PHARMA SARL","-",null,{"$f":"SUMIF(Tableau1[Description article],Tableau1[Produits],Tableau1[Emplacement])","v":0},null,{"$f":"Sheet1!$S38-Sheet1!$R38","v":0},"-","-","-",{"$f":"IFERROR(Tableau1[[#This Row],[THEO]]-Tableau1[[#This Row],[Qtt 2éme lot]],\"-\")","v":"-"},"-",{"$f":"IF(Tableau1[[#This Row],[2éme lot]]=\"-\",\"-\",IFERROR(IF(Q38=\"\",\"-\",INDEX(I:I,MATCH(Q38,C:C,0)+1)),\"-\"))","v":"-"},"-","-"]
[69,"MD003859","AMAREL 1MG COMP. B/30","GLIMEPIRIDE","AD007AP","01.08.2022","MG/EXP1",142,"MG/EXP1-B-060",null,0,null,null,248.3,"SANOFI AVENTIS ALGERIE SPA","-",null,{"$f":"SUMIF(Tableau1[Description article],Tableau1[Produits],Tableau1[Emplacement])","v":0},null,{"$f":"Sheet1!$S39-Sheet1!$R39","v":0},"-","-","-",{"$f":"IFERROR(Tableau1[[#This Row],[THEO]]-Tableau1[[#This Row],[Qtt 2éme lot]],\"-\")","v":"-"},"-",{"$f":"IF(Tableau1[[#This Row],[2éme lot]]=\"-\",\"-\",IFERROR(IF(Q39=\"\",\"-\",INDEX(I:I,MATCH(Q39,C:C,0)+1)),\"-\"))","v":"-"},"-","-"]
[70,"MD003860","AMAREL 2MG COMP. B/30","GLIMEPIRIDE","AM016A","01.10.2022","MG/EXP1",5,"MG/EXP1-D-001",null,0,null,null,470.92,"SANOFI AVENTIS ALGERIE SPA","-",null,{"$f":"SUMIF(Tableau1[Description article],Tableau1[Produits],Tableau1[Emplacement])","v":0},null,{"$f":"Sheet1!$S40-Sheet1!$R40","v":0},"-","-","-",{"$f":"IFERROR(Tableau1[[#This Row],[THEO]]-Tableau1[[#This Row],[Qtt 2éme lot]],\"-\")","v":"-"},"-",{"$f":"IF(Tableau1[[#This Row],[2éme lot]]=\"-\",\"-\",IFERROR(IF(Q40=\"\",\"-\",INDEX(I:I,MATCH(Q40,C:C,0)+1)),\"-\"))","v":"-"},"-","-"]
[71,"MD003861","AMAREL 3MG COMP. B/30","GLIMEPIRIDE","AR013A","01.10.2022","MG/EXP1",593,"MG/EXP1-C-019",null,0,null,null,630.17,"SANOFI AVENTIS ALGERIE SPA","-",null,{"$f":"SUMIF(Tableau1[Description article],Tableau1[Produits],Tableau1[Emplacement])","v":0},null,{"$f":"Sheet1!$S41-Sheet1!$R41","v":0},"-","-","-",{"$f":"IFERROR(Tableau1[[#This Row],[THEO]]-Tableau1[[#This Row],[Qtt 2éme lot]],\"-\")","v":"-"},"-",{"$f":"IF(Tableau1[[#This Row],[2éme lot]]=\"-\",\"-\",IFERROR(IF(Q41=\"\",\"-\",INDEX(I:I,MATCH(Q41,C:C,0)+1)),\"-\"))","v":"-"},"-","-"]
[72,"MD003862","AMAREL 4MG COMP. B/30","GLIMEPIRIDE","AL009A","01.06.2022","MG/EXP1",329,"MG/EXP1-A-061",null,0,null,null,747.5,"SANOFI AVENTIS ALGERIE SPA","-",null,{"$f":"SUMIF(Tableau1[Description article],Tableau1[Produits],Tableau1[Emplacement])","v":0},null,{"$f":"Sheet1!$S42-Sheet1!$R42","v":0},"-","-","-",{"$f":"IFERROR(Tableau1[[#This Row],[THEO]]-Tableau1[[#This Row],[Qtt 2éme lot]],\"-\")","v":"-"},"-",{"$f":"IF(Tableau1[[#This Row],[2éme lot]]=\"-\",\"-\",IFERROR(IF(Q42=\"\",\"-\",INDEX(I:I,MATCH(Q42,C:C,0)+1)),\"-\"))","v":"-"},"-","-"]
[74,"MD003863","AMAREL 6MG COMP.SEC. B/30","GLIMEPIRIDE","AS014A","01.11.2021","MG/EXP1",200,"MG/EXP1-D-019",null,0,null,null,917.5,"SANOFI AVENTIS ALGERIE SPA","-",null,{"$f":"SUMIF(Tableau1[Description article],Tableau1[Produits],Tableau1[Emplacement])","v":0},null,{"$f":"Sheet1!$S43-Sheet1!$R43","v":0},"-","-","-",{"$f":"IFERROR(Tableau1[[#This Row],[THEO]]-Tableau1[[#This Row],[Qtt 2éme lot]],\"-\")","v":"-"},"-",{"$f":"IF(Tableau1[[#This Row],[2éme lot]]=\"-\",\"-\",IFERROR(IF(Q43=\"\",\"-\",INDEX(I:I,MATCH(Q43,C:C,0)+1)),\"-\"))","v":"-"},"-","-"]
[76,"MD003863","AMAREL 6MG COMP.SEC. B/30","GLIMEPIRIDE","AS012A","01.09.2021","MG/EXP1",5,"MG/EXP1-B-019",null,0,null,null,917.5,"SANOFI AVENTIS ALGERIE SPA","-",null,{"$f":"SUMIF(Tableau1[Description article],Tableau1[Produits],Tableau1[Emplacement])","v":0},null,{"$f":"Sheet1!$S44-Sheet1!$R44","v":0},"-","-","-",{"$f":"IFERROR(Tableau1[[#This Row],[THEO]]-Tableau1[[#This Row],[Qtt 2éme lot]],\"-\")","v":"-"},"-",{"$f":"IF(Tableau1[[#This Row],[2éme lot]]=\"-\",\"-\",IFERROR(IF(Q44=\"\",\"-\",INDEX(I:I,MATCH(Q44,C:C,0)+1)),\"-\"))","v":"-"},"-","-"]
[78,"PP00048","AMINOFORTE FORTIFIANT  AMPOULES .B/20",null,"3038UAA","01.11.2020","MG/EXP1",46,"MG/EXP1-C-025",null,0,null,null,1297.39,"BIOREAL PHARM SPA","-",null,{"$f":"SUMIF(Tableau1[Description article],Tableau1[Produits],Tableau1[Emplacement])","v":0},null,{"$f":"Sheet1!$S45-Sheet1!$R45","v":0},"-","-","-",{"$f":"IFERROR(Tableau1[[#This Row],[THEO]]-Tableau1[[#This Row],[Qtt 2éme lot]],\"-\")","v":"-"},"-",{"$f":"IF(Tableau1[[#This Row],[2éme lot]]=\"-\",\"-\",IFERROR(IF(Q45=\"\",\"-\",INDEX(I:I,MATCH(Q45,C:C,0)+1)),\"-\"))","v":"-"},"-","-"]
[79,"MD003784","AMIODARONE HUP 200MG COMP.SEC. B/30","AMIODARONE","023","01.09.2021","MG/EXP1",355,"MG/EXP1-E-018",null,0,null,null,527.5,"HUP.P PHARMA SARL","-",null,{"$f":"SUMIF(Tableau1[Description article],Tableau1[Produits],Tableau1[Emplacement])","v":0},null,{"$f":"Sheet1!$S46-Sheet1!$R46","v":0},"-","-","-",{"$f":"IFERROR(Tableau1[[#This Row],[THEO]]-Tableau1[[#This Row],[Qtt 2éme lot]],\"-\")","v":"-"},"-",{"$f":"IF(Tableau1[[#This Row],[2éme lot]]=\"-\",\"-\",IFERROR(IF(Q46=\"\",\"-\",INDEX(I:I,MATCH(Q46,C:C,0)+1)),\"-\"))","v":"-"},"-","-"]
[80,"MD000008","AMISULPRIDE BEKER 200MG COMP.SEC. B/30","AMISULPRIDE","040119","03.04.2022","MG/EXP1",3,"MG/EXP1-BOX6-PSY-015",null,0,null,"CHER",2059.2,"BEKER LABORATOIRES","-",null,{"$f":"SUMIF(Tableau1[Description article],Tableau1[Produits],Tableau1[Emplacement])","v":0},null,{"$f":"Sheet1!$S47-Sheet1!$R47","v":0},"-","-","-",{"$f":"IFERROR(Tableau1[[#This Row],[THEO]]-Tableau1[[#This Row],[Qtt 2éme lot]],\"-\")","v":"-"},"-",{"$f":"IF(Tableau1[[#This Row],[2éme lot]]=\"-\",\"-\",IFERROR(IF(Q47=\"\",\"-\",INDEX(I:I,MATCH(Q47,C:C,0)+1)),\"-\"))","v":"-"},"-","-"]
[81,"MD000008","AMISULPRIDE BEKER 200MG COMP.SEC. B/30","AMISULPRIDE","041019","01.04.2022","MG/EXP1",107,"MG/EXP1-BOX6-PSY-015",null,0,null,"CHER",2059.2,"BEKER LABORATOIRES","-",null,{"$f":"SUMIF(Tableau1[Description article],Tableau1[Produits],Tableau1[Emplacement])","v":0},null,{"$f":"Sheet1!$S48-Sheet1!$R48","v":0},"-","-","-",{"$f":"IFERROR(Tableau1[[#This Row],[THEO]]-Tableau1[[#This Row],[Qtt 2éme lot]],\"-\")","v":"-"},"-",{"$f":"IF(Tableau1[[#This Row],[2éme lot]]=\"-\",\"-\",IFERROR(IF(Q48=\"\",\"-\",INDEX(I:I,MATCH(Q48,C:C,0)+1)),\"-\"))","v":"-"},"-","-"]
[82,"MD000009","AMISULPRIDE BEKER 400MG COMP.PELLI.SEC. B/30","AMISULPRIDE","041219","01.04.2021","MG/EXP1",35,"MG/EXP1-BOX6-015",null,0,null,"CHER",3479.9,"BEKER LABORATOIRES","-",null,{"$f":"SUMIF(Tableau1[Description article],Tableau1[Produits],Tableau1[Emplacement])","v":0},null,{"$f":"Sheet1!$S49-Sheet1!$R49","v":0},"-","-","-",{"$f":"IFERROR(Tableau1[[#This Row],[THEO]]-Tableau1[[#This Row],[Qtt 2éme lot]],\"-\")","v":"-"},"-",{"$f":"IF(Tableau1[[#This Row],[2éme lot]]=\"-\",\"-\",IFERROR(IF(Q49=\"\",\"-\",INDEX(I:I,MATCH(Q49,C:C,0)+1)),\"-\"))","v":"-"},"-","-"]
[83,"MD000037","AMITRAL 100MG COMP.DISPER. B/30","LAMOTRIGINE","191769","01.08.2021","MG/EXP1",71,"MG/EXP1-BOX6-PSY-015",null,0,null,null,1940.89,"EL KENDI INDUSTRIE DE MEDICAMENTS SPA","-",null,{"$f":"SUMIF(Tableau1[Description article],Tableau1[Produits],Tableau1[Emplacement])","v":0},null,{"$f":"Sheet1!$S50-Sheet1!$R50","v":0},"-","-","-",{"$f":"IFERROR(Tableau1[[#This Row],[THEO]]-Tableau1[[#This Row],[Qtt 2éme lot]],\"-\")","v":"-"},"-",{"$f":"IF(Tableau1[[#This Row],[2éme lot]]=\"-\",\"-\",IFERROR(IF(Q50=\"\",\"-\",INDEX(I:I,MATCH(Q50,C:C,0)+1)),\"-\"))","v":"-"},"-","-"]
[85,"MD000037","AMITRAL 100MG COMP.DISPER. B/30","LAMOTRIGINE","182098","01.11.2020","MG/EXP1",1,"MG/EXP1-BOX6-PSY-015",null,0,null,null,1940.89,"EL KENDI INDUSTRIE DE MEDICAMENTS SPA","-",null,{"$f":"SUMIF(Tableau1[Description article],Tableau1[Produits],Tableau1[Emplacement])","v":0},null,{"$f":"Sheet1!$S51-Sheet1!$R51","v":0},"-","-","-",{"$f":"IFERROR(Tableau1[[#This Row],[THEO]]-Tableau1[[#This Row],[Qtt 2éme lot]],\"-\")","v":"-"},"-",{"$f":"IF(Tableau1[[#This Row],[2éme lot]]=\"-\",\"-\",IFERROR(IF(Q51=\"\",\"-\",INDEX(I:I,MATCH(Q51,C:C,0)+1)),\"-\"))","v":"-"},"-","-"]
[87,"MD000038","AMITRAL 25MG COMP.DISPER. B/30","LAMOTRIGINE","182095","01.11.2020","MG/EXP1",53,"MG/EXP1-BOX6-PSY-015",null,0,null,null,739.74,"EL KENDI INDUSTRIE DE MEDICAMENTS SPA","-",null,{"$f":"SUMIF(Tableau1[Description article],Tableau1[Produits],Tableau1[Emplacement])","v":0},null,{"$f":"Sheet1!$S52-Sheet1!$R52","v":0},"-","-","-",{"$f":"IFERROR(Tableau1[[#This Row],[THEO]]-Tableau1[[#This Row],[Qtt 2éme lot]],\"-\")","v":"-"},"-",{"$f":"IF(Tableau1[[#This Row],[2éme lot]]=\"-\",\"-\",IFERROR(IF(Q52=\"\",\"-\",INDEX(I:I,MATCH(Q52,C:C,0)+1)),\"-\"))","v":"-"},"-","-"]
[91,"MD000039","AMITRAL 5MG COMP.DISPER. B/30","LAMOTRIGINE","190969","01.08.2021","MG/EXP1",265,"MG/EXP1-BOX6-PSY-015",null,0,null,null,415.55,"EL KENDI INDUSTRIE DE MEDICAMENTS SPA","-",null,{"$f":"SUMIF(Tableau1[Description article],Tableau1[Produits],Tableau1[Emplacement])","v":0},null,{"$f":"Sheet1!$S53-Sheet1!$R53","v":0},"-","-","-",{"$f":"IFERROR(Tableau1[[#This Row],[THEO]]-Tableau1[[#This Row],[Qtt 2éme lot]],\"-\")","v":"-"},"-",{"$f":"IF(Tableau1[[#This Row],[2éme lot]]=\"-\",\"-\",IFERROR(IF(Q53=\"\",\"-\",INDEX(I:I,MATCH(Q53,C:C,0)+1)),\"-\"))","v":"-"},"-","-"]
[93,"MD003857","AMLIBON 5MG COMP. B/30","AMLODIPINE","JV8590","31.05.2021","MG/EXP1",211,"MG/EXP1-E-041",null,0,null,null,609.8,"SANDOZ SPA","-",null,{"$f":"SUMIF(Tableau1[Description article],Tableau1[Produits],Tableau1[Emplacement])","v":0},null,{"$f":"Sheet1!$S54-Sheet1!$R54","v":0},"-","-","-",{"$f":"IFERROR(Tableau1[[#This Row],[THEO]]-Tableau1[[#This Row],[Qtt 2éme lot]],\"-\")","v":"-"},"-",{"$f":"IF(Tableau1[[#This Row],[2éme lot]]=\"-\",\"-\",IFERROR(IF(Q54=\"\",\"-\",INDEX(I:I,MATCH(Q54,C:C,0)+1)),\"-\"))","v":"-"},"-","-"]
[94,"MD000010","AMLODIPINE BEKER 10MG GLES. B/30","AMLODIPINE","042419","01.04.2022","MG/EXP1",106,"MG/EXP1-A-033",null,0,null,null,660.5,"BEKER LABORATOIRES","-",null,{"$f":"SUMIF(Tableau1[Description article],Tableau1[Produits],Tableau1[Emplacement])","v":0},null,{"$f":"Sheet1!$S55-Sheet1!$R55","v":0},"-","-","-",{"$f":"IFERROR(Tableau1[[#This Row],[THEO]]-Tableau1[[#This Row],[Qtt 2éme lot]],\"-\")","v":"-"},"-",{"$f":"IF(Tableau1[[#This Row],[2éme lot]]=\"-\",\"-\",IFERROR(IF(Q55=\"\",\"-\",INDEX(I:I,MATCH(Q55,C:C,0)+1)),\"-\"))","v":"-"},"-","-"]
[96,"MD000011","AMLODIPINE BEKER 5MG GLES. B/30","AMLODIPINE","042119","01.04.2022","MG/EXP1",108,"MG/EXP1-E-034",null,0,null,null,486.5,"BEKER LABORATOIRES","-",null,{"$f":"SUMIF(Tableau1[Description article],Tableau1[Produits],Tableau1[Emplacement])","v":0},null,{"$f":"Sheet1!$S56-Sheet1!$R56","v":0},"-","-","-",{"$f":"IFERROR(Tableau1[[#This Row],[THEO]]-Tableau1[[#This Row],[Qtt 2éme lot]],\"-\")","v":"-"},"-",{"$f":"IF(Tableau1[[#This Row],[2éme lot]]=\"-\",\"-\",IFERROR(IF(Q56=\"\",\"-\",INDEX(I:I,MATCH(Q56,C:C,0)+1)),\"-\"))","v":"-"},"-","-"]
[98,"MD003812","AMLODIPINE MM 5MG COMP.PELLI. B/30","AMLODIPINE","036","01.07.2020","MG/EXP1",21,"MG/EXP1-G-016",null,0,null,null,486.51,"MM LABORATOIRE MM SARL","-",null,{"$f":"SUMIF(Tableau1[Description article],Tableau1[Produits],Tableau1[Emplacement])","v":0},null,{"$f":"Sheet1!$S57-Sheet1!$R57","v":0},"-","-","-",{"$f":"IFERROR(Tableau1[[#This Row],[THEO]]-Tableau1[[#This Row],[Qtt 2éme lot]],\"-\")","v":"-"},"-",{"$f":"IF(Tableau1[[#This Row],[2éme lot]]=\"-\",\"-\",IFERROR(IF(Q57=\"\",\"-\",INDEX(I:I,MATCH(Q57,C:C,0)+1)),\"-\"))","v":"-"},"-","-"]
[99,"MD003802","AMLODIPINE+VALS ARTAN LDM 10MG/160MG COMP.PELLI. B/30","AMLODIPINE 10 / VALSARTAN 160","8330","01.08.2020","MG/EXP1",29,"MG/EXP1-A-017",null,0,null,null,1497.5,"LDM LABORATOIRES DE DIAGNOSTIC MAGHREBINS","-",null,{"$f":"SUMIF(Tableau1[Description article],Tableau1[Produits],Tableau1[Emplacement])","v":0},null,{"$f":"Sheet1!$S58-Sheet1!$R58","v":0},"-","-","-",{"$f":"IFERROR(Tableau1[[#This Row],[THEO]]-Tableau1[[#This Row],[Qtt 2éme lot]],\"-\")","v":"-"},"-",{"$f":"IF(Tableau1[[#This Row],[2éme lot]]=\"-\",\"-\",IFERROR(IF(Q58=\"\",\"-\",INDEX(I:I,MATCH(Q58,C:C,0)+1)),\"-\"))","v":"-"},"-","-"]
[100,"MD002205","AMLORIDAL 5MG GLES. B/30","AMLODIPINE BESYLATE EXPRIME EN AMLODIPINE","012","01.02.2021","MG/EXP1",30,"MG/EXP1-D-023",null,0,null,null,609.8,"SAIDAL UNITE CENTRE","-",null,{"$f":"SUMIF(Tableau1[Description article],Tableau1[Produits],Tableau1[Emplacement])","v":0},null,{"$f":"Sheet1!$S59-Sheet1!$R59","v":0},"-","-","-",{"$f":"IFERROR(Tableau1[[#This Row],[THEO]]-Tableau1[[#This Row],[Qtt 2éme lot]],\"-\")","v":"-"},"-",{"$f":"IF(Tableau1[[#This Row],[2éme lot]]=\"-\",\"-\",IFERROR(IF(Q59=\"\",\"-\",INDEX(I:I,MATCH(Q59,C:C,0)+1)),\"-\"))","v":"-"},"-","-"]
[101,"MD002205","AMLORIDAL 5MG GLES. B/30","AMLODIPINE BESYLATE EXPRIME EN AMLODIPINE","011","28.02.2021","MG/EXP1",8,"MG/EXP1-B-051",null,0,null,null,609.8,"SAIDAL UNITE CENTRE","-",null,{"$f":"SUMIF(Tableau1[Description article],Tableau1[Produits],Tableau1[Emplacement])","v":0},null,{"$f":"Sheet1!$S60-Sheet1!$R60","v":0},"-","-","-",{"$f":"IFERROR(Tableau1[[#This Row],[THEO]]-Tableau1[[#This Row],[Qtt 2éme lot]],\"-\")","v":"-"},"-",{"$f":"IF(Tableau1[[#This Row],[2éme lot]]=\"-\",\"-\",IFERROR(IF(Q60=\"\",\"-\",INDEX(I:I,MATCH(Q60,C:C,0)+1)),\"-\"))","v":"-"},"-","-"]
[102,"MD003773","AMOCLAN 8:1 100MG/12,5MG/ML PDRE.P.SUSP.BUV.NRS/ENF B/01 FL/30ML NRS. + PIPT. GRAD.","AMOXICILL  100MG + ACIDE CLAVULANI 12.5","02208","01.11.2021","MG/EXP1",233,"MG/EXP1-A-028",null,0,null,null,294.2,"HIKMA PHARMA ALGERIA SARL","-",null,{"$f":"SUMIF(Tableau1[Description article],Tableau1[Produits],Tableau1[Emplacement])","v":0},null,{"$f":"Sheet1!$S61-Sheet1!$R61","v":0},"-","-","-",{"$f":"IFERROR(Tableau1[[#This Row],[THEO]]-Tableau1[[#This Row],[Qtt 2éme lot]],\"-\")","v":"-"},"-",{"$f":"IF(Tableau1[[#This Row],[2éme lot]]=\"-\",\"-\",IFERROR(IF(Q61=\"\",\"-\",INDEX(I:I,MATCH(Q61,C:C,0)+1)),\"-\"))","v":"-"},"-","-"]
[105,"MD003772","AMOCLAN 8:1 100MG/12,5MG/ML PDRE.P.SUSP.BUV.NRS/ENF B/01 FL/60ML ENF. + PIPT. GRAD.","AMOXICILL  100MG + ACIDE CLAVULANI 12.5","02016","01.04.2021","MG/EXP1",219,"MG/EXP1-G-045",null,0,null,null,590.9,"HIKMA PHARMA ALGERIA SARL","-",null,{"$f":"SUMIF(Tableau1[Description article],Tableau1[Produits],Tableau1[Emplacement])","v":0},null,{"$f":"Sheet1!$S62-Sheet1!$R62","v":0},"-","-","-",{"$f":"IFERROR(Tableau1[[#This Row],[THEO]]-Tableau1[[#This Row],[Qtt 2éme lot]],\"-\")","v":"-"},"-",{"$f":"IF(Tableau1[[#This Row],[2éme lot]]=\"-\",\"-\",IFERROR(IF(Q62=\"\",\"-\",INDEX(I:I,MATCH(Q62,C:C,0)+1)),\"-\"))","v":"-"},"-","-"]
[106,"MD003774","AMOCLAN 8:1 1G/125MG/SACH. PDRE.SUSP.BUV. B/14 SACH.","AMOXICILLINE  1G + ACIDE CLAVULANIQU 125","02089","01.06.2021","MG/EXP1",198,"MG/EXP1-G-042",null,0,null,null,913.66,"HIKMA PHARMA ALGERIA SARL","-",null,{"$f":"SUMIF(Tableau1[Description article],Tableau1[Produits],Tableau1[Emplacement])","v":0},null,{"$f":"Sheet1!$S63-Sheet1!$R63","v":0},"-","-","-",{"$f":"IFERROR(Tableau1[[#This Row],[THEO]]-Tableau1[[#This Row],[Qtt 2éme lot]],\"-\")","v":"-"},"-",{"$f":"IF(Tableau1[[#This Row],[2éme lot]]=\"-\",\"-\",IFERROR(IF(Q63=\"\",\"-\",INDEX(I:I,MATCH(Q63,C:C,0)+1)),\"-\"))","v":"-"},"-","-"]
[108,"MD003775","AMOCLAN 8:1 500MG/62,5MG PDRE.SUSP.BUV. B/14 SACH.","AMOXICILL  500MG + ACIDE CLAVULANI 62","02087","01.06.2021","MG/EXP1",3,"MG/EXP1-B-066",null,0,null,null,455.58,"HIKMA PHARMA ALGERIA SARL","-",null,{"$f":"SUMIF(Tableau1[Description article],Tableau1[Produits],Tableau1[Emplacement])","v":0},null,{"$f":"Sheet1!$S64-Sheet1!$R64","v":0},"-","-","-",{"$f":"IFERROR(Tableau1[[#This Row],[THEO]]-Tableau1[[#This Row],[Qtt 2éme lot]],\"-\")","v":"-"},"-",{"$f":"IF(Tableau1[[#This Row],[2éme lot]]=\"-\",\"-\",IFERROR(IF(Q64=\"\",\"-\",INDEX(I:I,MATCH(Q64,C:C,0)+1)),\"-\"))","v":"-"},"-","-"]
[109,"MD003775","AMOCLAN 8:1 500MG/62,5MG PDRE.SUSP.BUV. B/14 SACH.","AMOXICILL  500MG + ACIDE CLAVULANI 62","02105","01.07.2021","MG/EXP1",364,"MG/EXP1-G-022",null,0,null,null,455.58,"HIKMA PHARMA ALGERIA SARL","-",null,{"$f":"SUMIF(Tableau1[Description article],Tableau1[Produits],Tableau1[Emplacement])","v":0},null,{"$f":"Sheet1!$S65-Sheet1!$R65","v":0},"-","-","-",{"$f":"IFERROR(Tableau1[[#This Row],[THEO]]-Tableau1[[#This Row],[Qtt 2éme lot]],\"-\")","v":"-"},"-",{"$f":"IF(Tableau1[[#This Row],[2éme lot]]=\"-\",\"-\",IFERROR(IF(Q65=\"\",\"-\",INDEX(I:I,MATCH(Q65,C:C,0)+1)),\"-\"))","v":"-"},"-","-"]
[112,"MD003778","AMOCLAN BID 400MG/57MG/5ML PDRE.SUSP.BUV. B/01 FL/70ML + PIPT.GRAD.","AMOXICILLINE  TRIHYD+ ACIDE CLAVULANIQUE","9101","01.10.2021","MG/EXP1",211,"MG/EXP1-D-032",null,0,null,null,689.8,"HIKMA PHARMA ALGERIA SARL",{"$f":"IFERROR(IF(Q66=\"\",\"-\",INDEX(I:I,MATCH(Q66,C:C,0))),\"-\")","v":"-"},null,{"$f":"SUMIF(Tableau1[Description article],Tableau1[Produits],Tableau1[Emplacement])","v":0},null,{"$f":"Sheet1!$S66-Sheet1!$R66","v":0},{"$f":"IFERROR(IF(Q66=\"\",\"-\",INDEX(F:F,MATCH(Q66,C:C,0))),\"-\")","v":"-"},{"$f":"IFERROR(IF(Q66=\"\",\"-\",INDEX(E:E,MATCH(Q66,C:C,0))),\"-\")","v":"-"},{"$f":"IFERROR(IF(Q66=\"\",\"-\",INDEX(N:N,MATCH(Q66,C:C,0))),\"-\")","v":"-"},{"$f":"IFERROR(Tableau1[[#This Row],[THEO]]-Tableau1[[#This Row],[Qtt 2éme lot]],\"-\")","v":"-"},{"$f":"IF(IF(Q66=\"\",\"-\",INDEX(E:E,MATCH(Q66,C:C,0)))=IF(Q66=\"\",\"-\",INDEX(E:E,MATCH(Q66,C:C,1))),\"-\",IF(Q66=\"\",\"-\",INDEX(E:E,MATCH(Q66,C:C,1))))","v":"-"},{"$f":"IF(Tableau1[[#This Row],[2éme lot]]=\"-\",\"-\",IFERROR(IF(Q66=\"\",\"-\",INDEX(I:I,MATCH(Q66,C:C,0)+1)),\"-\"))","v":"-"},{"$f":"IFERROR(IF(Y66=\"\",\"-\",INDEX(N:N,MATCH(Y66,E:E,0))),\"-\")","v":"-"},{"$f":"IFERROR(IF(AA66=\"\",\"-\",INDEX(H:H,MATCH(Y66,E:E,0))),\"-\")","v":"-"}]
[115,"MD003776","AMOCLAN BID 875MG/125MG COMP.PELLI. PILUL/10","AMOXICILLINE  TRIHYD+ ACIDE CLAVULANIQUE","8385","01.10.2020","MG/EXP1",272,"MG/EXP1-E-008",null,0,null,null,570.1,"HIKMA PHARMA ALGERIA SARL","-",null,{"$f":"SUMIF(Tableau1[Description article],Tableau1[Produits],Tableau1[Emplacement])","v":0},null,{"$f":"Sheet1!$S67-Sheet1!$R67","v":0},"-","-","-",{"$f":"IFERROR(Tableau1[[#This Row],[THEO]]-Tableau1[[#This Row],[Qtt 2éme lot]],\"-\")","v":"-"},"-",{"$f":"IF(Tableau1[[#This Row],[2éme lot]]=\"-\",\"-\",IFERROR(IF(Q67=\"\",\"-\",INDEX(I:I,MATCH(Q67,C:C,0)+1)),\"-\"))","v":"-"},"-","-"]
[117,"MD003891","AMOXAL 250MG/5ML PDRE.SUSP.BUV. B/01 FL.SUSP.BUV/60ML + GB L.DOSEUR","AMOXICILLINE TRIHYDRATE - ANHYDRE-","035011","30.06.2020","MG/EXP1",82,"MG/EXP1-E-016",null,0,null,null,129.5,"SOPHAL SOCIETE PHARMACEUTIQUE ALGERIENNE","-",null,{"$f":"SUMIF(Tableau1[Description article],Tableau1[Produits],Tableau1[Emplacement])","v":0},null,{"$f":"Sheet1!$S68-Sheet1!$R68","v":0},"-","-","-",{"$f":"IFERROR(Tableau1[[#This Row],[THEO]]-Tableau1[[#This Row],[Qtt 2éme lot]],\"-\")","v":"-"},"-",{"$f":"IF(Tableau1[[#This Row],[2éme lot]]=\"-\",\"-\",IFERROR(IF(Q68=\"\",\"-\",INDEX(I:I,MATCH(Q68,C:C,0)+1)),\"-\"))","v":"-"},"-","-"]
[120,"MD003785","AMOXICILLINE EG 125MG/5ML PDRE.SUSP.BUV. FL/60ML","AMOXICILLINE TRIHYDRATE","SBA310","01.09.2022","MG/EXP1",195,"MG/EXP1-C-012",null,0,null,null,182,"HUP.P PHARMA SARL","-",null,{"$f":"SUMIF(Tableau1[Description article],Tableau1[Produits],Tableau1[Emplacement])","v":0},null,{"$f":"Sheet1!$S69-Sheet1!$R69","v":0},"-","-","-",{"$f":"IFERROR(Tableau1[[#This Row],[THEO]]-Tableau1[[#This Row],[Qtt 2éme lot]],\"-\")","v":"-"},"-",{"$f":"IF(Tableau1[[#This Row],[2éme lot]]=\"-\",\"-\",IFERROR(IF(Q69=\"\",\"-\",INDEX(I:I,MATCH(Q69,C:C,0)+1)),\"-\"))","v":"-"},"-","-"]
[121,"MD003785","AMOXICILLINE EG 125MG/5ML PDRE.SUSP.BUV. FL/60ML","AMOXICILLINE TRIHYDRATE","SBA306","01.04.2022","MG/EXP1",2,"MG/EXP1-C-044",null,0,null,null,182,"HUP.P PHARMA SARL","-",null,{"$f":"SUMIF(Tableau1[Description article],Tableau1[Produits],Tableau1[Emplacement])","v":0},null,{"$f":"Sheet1!$S70-Sheet1!$R70","v":0},"-","-","-",{"$f":"IFERROR(Tableau1[[#This Row],[THEO]]-Tableau1[[#This Row],[Qtt 2éme lot]],\"-\")","v":"-"},"-",{"$f":"IF(Tableau1[[#This Row],[2éme lot]]=\"-\",\"-\",IFERROR(IF(Q70=\"\",\"-\",INDEX(I:I,MATCH(Q70,C:C,0)+1)),\"-\"))","v":"-"},"-","-"]
[123,"MD003786","AMOXICILLINE EG 1G COMP.DISPER. B/14","AMOXICILLINE TRIHYDRATE - ANHYDRE-","1671","01.12.2022","MG/EXP1",564,"MG/EXP1-A-027",null,0,null,null,397.4,"HUP.P PHARMA SARL","-",null,{"$f":"SUMIF(Tableau1[Description article],Tableau1[Produits],Tableau1[Emplacement])","v":0},null,{"$f":"Sheet1!$S71-Sheet1!$R71","v":0},"-","-","-",{"$f":"IFERROR(Tableau1[[#This Row],[THEO]]-Tableau1[[#This Row],[Qtt 2éme lot]],\"-\")","v":"-"},"-",{"$f":"IF(Tableau1[[#This Row],[2éme lot]]=\"-\",\"-\",IFERROR(IF(Q71=\"\",\"-\",INDEX(I:I,MATCH(Q71,C:C,0)+1)),\"-\"))","v":"-"},"-","-"]
[125,"MD003787","AMOXICILLINE EG 250MG/5ML PDRE.SUSP.BUV. B/01 FL/60ML + C.M.","AMOXICILLINE TRIHYDRATE - ANHYDRE-","SBA1181","01.03.2022","MG/EXP1",495,"MG/EXP1-D-062",null,0,null,null,197.4,"HUP.P PHARMA SARL","-",null,{"$f":"SUMIF(Tableau1[Description article],Tableau1[Produits],Tableau1[Emplacement])","v":0},null,{"$f":"Sheet1!$S72-Sheet1!$R72","v":0},"-","-","-",{"$f":"IFERROR(Tableau1[[#This Row],[THEO]]-Tableau1[[#This Row],[Qtt 2éme lot]],\"-\")","v":"-"},"-",{"$f":"IF(Tableau1[[#This Row],[2éme lot]]=\"-\",\"-\",IFERROR(IF(Q72=\"\",\"-\",INDEX(I:I,MATCH(Q72,C:C,0)+1)),\"-\"))","v":"-"},"-","-"]
[127,"MD003843","AMOXYPEN 125MG/5ML PDRE.SUSP.BUV. FL/60ML","AMOXICILLINE TRIHYDRATE","238","01.02.2022","MG/EXP1",165,"MG/EXP1-C-036",null,0,null,null,129.5,"SAIDAL UNITE CENTRE","-",null,{"$f":"SUMIF(Tableau1[Description article],Tableau1[Produits],Tableau1[Emplacement])","v":0},null,{"$f":"Sheet1!$S73-Sheet1!$R73","v":0},"-","-","-",{"$f":"IFERROR(Tableau1[[#This Row],[THEO]]-Tableau1[[#This Row],[Qtt 2éme lot]],\"-\")","v":"-"},"-",{"$f":"IF(Tableau1[[#This Row],[2éme lot]]=\"-\",\"-\",IFERROR(IF(Q73=\"\",\"-\",INDEX(I:I,MATCH(Q73,C:C,0)+1)),\"-\"))","v":"-"},"-","-"]
[128,"MD003846","AMOXYPEN 1G COMP.DISPER. B/14","AMOXICILLINE TRIHYDRATE - ANHYDRE-","589","01.05.2021","MG/EXP1",247,"MG/EXP1-A-038",null,0,null,null,314.32,"SAIDAL UNITE CENTRE","-",null,{"$f":"SUMIF(Tableau1[Description article],Tableau1[Produits],Tableau1[Emplacement])","v":0},null,{"$f":"Sheet1!$S74-Sheet1!$R74","v":0},"-","-","-",{"$f":"IFERROR(Tableau1[[#This Row],[THEO]]-Tableau1[[#This Row],[Qtt 2éme lot]],\"-\")","v":"-"},"-",{"$f":"IF(Tableau1[[#This Row],[2éme lot]]=\"-\",\"-\",IFERROR(IF(Q74=\"\",\"-\",INDEX(I:I,MATCH(Q74,C:C,0)+1)),\"-\"))","v":"-"},"-","-"]
[130,"MD003845","AMOXYPEN 1G COMP.DISPER. B/16","AMOXICILLINE TRIHYDRATE - ANHYDRE-","396","01.04.2021","MG/EXP1",480,"MG/EXP1-C-017",null,0,null,null,359.58,"SAIDAL UNITE CENTRE","-",null,{"$f":"SUMIF(Tableau1[Description article],Tableau1[Produits],Tableau1[Emplacement])","v":0},null,{"$f":"Sheet1!$S75-Sheet1!$R75","v":0},"-","-","-",{"$f":"IFERROR(Tableau1[[#This Row],[THEO]]-Tableau1[[#This Row],[Qtt 2éme lot]],\"-\")","v":"-"},"-",{"$f":"IF(Tableau1[[#This Row],[2éme lot]]=\"-\",\"-\",IFERROR(IF(Q75=\"\",\"-\",INDEX(I:I,MATCH(Q75,C:C,0)+1)),\"-\"))","v":"-"},"-","-"]
[132,"MD003844","AMOXYPEN 1G PDRE.P.SOL.INJ.IM.(SOLV.LIDOCA.) & IM.\\IV. (SS.SOLV.) B/01 FL.PDRE. + 01 AMP.SOLV/5ML","AMOXICILLINE - SELS DE NA-","854/5","01.12.2021","MG/EXP1",11,"MG/EXP1-A-064",null,0,null,null,127.5,"SAIDAL UNITE CENTRE","-",null,{"$f":"SUMIF(Tableau1[Description article],Tableau1[Produits],Tableau1[Emplacement])","v":0},null,{"$f":"Sheet1!$S76-Sheet1!$R76","v":0},"-","-","-",{"$f":"IFERROR(Tableau1[[#This Row],[THEO]]-Tableau1[[#This Row],[Qtt 2éme lot]],\"-\")","v":"-"},"-",{"$f":"IF(Tableau1[[#This Row],[2éme lot]]=\"-\",\"-\",IFERROR(IF(Q76=\"\",\"-\",INDEX(I:I,MATCH(Q76,C:C,0)+1)),\"-\"))","v":"-"},"-","-"]
[135,"MD003844","AMOXYPEN 1G PDRE.P.SOL.INJ.IM.(SOLV.LIDOCA.) & IM.\\IV. (SS.SOLV.) B/01 FL.PDRE. + 01 AMP.SOLV/5ML","AMOXICILLINE - SELS DE NA-","852/2","01.12.2021","MG/EXP1",140,"MG/EXP1-A-063",null,0,null,null,127.5,"SAIDAL UNITE CENTRE","-",null,{"$f":"SUMIF(Tableau1[Description article],Tableau1[Produits],Tableau1[Emplacement])","v":0},null,{"$f":"Sheet1!$S77-Sheet1!$R77","v":0},"-","-","-",{"$f":"IFERROR(Tableau1[[#This Row],[THEO]]-Tableau1[[#This Row],[Qtt 2éme lot]],\"-\")","v":"-"},"-",{"$f":"IF(Tableau1[[#This Row],[2éme lot]]=\"-\",\"-\",IFERROR(IF(Q77=\"\",\"-\",INDEX(I:I,MATCH(Q77,C:C,0)+1)),\"-\"))","v":"-"},"-","-"]
[136,"MD003847","AMOXYPEN 250MG/5ML PDRE.SUSP.BUV. FL/60ML","AMOXICILLINE TRIHYDRATE - ANHYDRE-","055","01.03.2022","MG/EXP1",195,"MG/EXP1-E-004",null,0,null,null,130.72,"SAIDAL UNITE CENTRE","-",null,{"$f":"SUMIF(Tableau1[Description article],Tableau1[Produits],Tableau1[Emplacement])","v":0},null,{"$f":"Sheet1!$S78-Sheet1!$R78","v":0},"-","-","-",{"$f":"IFERROR(Tableau1[[#This Row],[THEO]]-Tableau1[[#This Row],[Qtt 2éme lot]],\"-\")","v":"-"},"-",{"$f":"IF(Tableau1[[#This Row],[2éme lot]]=\"-\",\"-\",IFERROR(IF(Q78=\"\",\"-\",INDEX(I:I,MATCH(Q78,C:C,0)+1)),\"-\"))","v":"-"},"-","-"]
[137,"MD003849","AMOXYPEN 500MG/5ML PDRE.SUSP.BUV. FL/60ML","AMOXICILLINE TRIHYDRATE - ANHYDRE-","314","01.12.2021","MG/EXP1",143,"MG/EXP1-D-031",null,0,null,null,202.7,"SAIDAL UNITE CENTRE","-",null,{"$f":"SUMIF(Tableau1[Description article],Tableau1[Produits],Tableau1[Emplacement])","v":0},null,{"$f":"Sheet1!$S79-Sheet1!$R79","v":0},"-","-","-",{"$f":"IFERROR(Tableau1[[#This Row],[THEO]]-Tableau1[[#This Row],[Qtt 2éme lot]],\"-\")","v":"-"},"-",{"$f":"IF(Tableau1[[#This Row],[2éme lot]]=\"-\",\"-\",IFERROR(IF(Q79=\"\",\"-\",INDEX(I:I,MATCH(Q79,C:C,0)+1)),\"-\"))","v":"-"},"-","-"]
[139,"MD003850","AMOXYPEN 500MG/FL.PDRE. PDRE.P.SOL.INJ.IM.(SOLV.LIDOCA.) & IM.\\IV. (SS.SOLV.) B/01 FL.PDRE.+SOLV/5ML","AMOXICILLINE -SELS DE NA-","217/1","01.12.2021","MG/EXP1",68,"MG/EXP1-G-025",null,0,null,null,112.5,"SAIDAL UNITE CENTRE","-",null,{"$f":"SUMIF(Tableau1[Description article],Tableau1[Produits],Tableau1[Emplacement])","v":0},null,{"$f":"Sheet1!$S80-Sheet1!$R80","v":0},"-","-","-",{"$f":"IFERROR(Tableau1[[#This Row],[THEO]]-Tableau1[[#This Row],[Qtt 2éme lot]],\"-\")","v":"-"},"-",{"$f":"IF(Tableau1[[#This Row],[2éme lot]]=\"-\",\"-\",IFERROR(IF(Q80=\"\",\"-\",INDEX(I:I,MATCH(Q80,C:C,0)+1)),\"-\"))","v":"-"},"-","-"]
[140,"MD003852","AMPILINE 1G/FL.PDRE. PDRE.SOL.INJ. B/01 FL.PDRE. + 01 AMP.SOLV/5ML","AMPICILLINE","247/2","01.01.2021","MG/EXP1",177,"MG/EXP1-A-038",null,0,null,null,114.13,"SAIDAL UNITE CENTRE","-",null,{"$f":"SUMIF(Tableau1[Description article],Tableau1[Produits],Tableau1[Emplacement])","v":0},null,{"$f":"Sheet1!$S81-Sheet1!$R81","v":0},"-","-","-",{"$f":"IFERROR(Tableau1[[#This Row],[THEO]]-Tableau1[[#This Row],[Qtt 2éme lot]],\"-\")","v":"-"},"-",{"$f":"IF(Tableau1[[#This Row],[2éme lot]]=\"-\",\"-\",IFERROR(IF(Q81=\"\",\"-\",INDEX(I:I,MATCH(Q81,C:C,0)+1)),\"-\"))","v":"-"},"-","-"]
[141,"MD000020","AMPINAX 250MG/5ML PDRE.SUSP.BUV. FL/60ML ET FL/100ML","AMPICILLINE","3821902","01.03.2022","MG/EXP1",269,"MG/EXP1-E-062",null,0,null,null,155.2,"BIOCARE SARL","-",null,{"$f":"SUMIF(Tableau1[Description article],Tableau1[Produits],Tableau1[Emplacement])","v":0},null,{"$f":"Sheet1!$S82-Sheet1!$R82","v":0},"-","-","-",{"$f":"IFERROR(Tableau1[[#This Row],[THEO]]-Tableau1[[#This Row],[Qtt 2éme lot]],\"-\")","v":"-"},"-",{"$f":"IF(Tableau1[[#This Row],[2éme lot]]=\"-\",\"-\",IFERROR(IF(Q82=\"\",\"-\",INDEX(I:I,MATCH(Q82,C:C,0)+1)),\"-\"))","v":"-"},"-","-"]
[143,"MD004115","ANCEFAL 01 GR CP PELL B/06","CEFALEXINE","018/19","30.04.2021","MG/EXP1",224,"MG/EXP1-A-013",null,0,null,null,255.36,"PHARMALLIANCE EURL","-",null,{"$f":"SUMIF(Tableau1[Description article],Tableau1[Produits],Tableau1[Emplacement])","v":0},null,{"$f":"Sheet1!$S83-Sheet1!$R83","v":0},"-","-","-",{"$f":"IFERROR(Tableau1[[#This Row],[THEO]]-Tableau1[[#This Row],[Qtt 2éme lot]],\"-\")","v":"-"},"-",{"$f":"IF(Tableau1[[#This Row],[2éme lot]]=\"-\",\"-\",IFERROR(IF(Q83=\"\",\"-\",INDEX(I:I,MATCH(Q83,C:C,0)+1)),\"-\"))","v":"-"},"-","-"]
[145,"MD004182","ANCEFAL 250MG/5ML SUSP.BUV. FL/60 ML","CEFALEXINE","052/19","01.03.2021","MG/EXP1",60,"MG/EXP1-B-070",null,0,null,null,257.45,"PHARMALLIANCE EURL","-",null,{"$f":"SUMIF(Tableau1[Description article],Tableau1[Produits],Tableau1[Emplacement])","v":0},null,{"$f":"Sheet1!$S84-Sheet1!$R84","v":0},"-","-","-",{"$f":"IFERROR(Tableau1[[#This Row],[THEO]]-Tableau1[[#This Row],[Qtt 2éme lot]],\"-\")","v":"-"},"-",{"$f":"IF(Tableau1[[#This Row],[2éme lot]]=\"-\",\"-\",IFERROR(IF(Q84=\"\",\"-\",INDEX(I:I,MATCH(Q84,C:C,0)+1)),\"-\"))","v":"-"},"-","-"]
[146,"MD004182","ANCEFAL 250MG/5ML SUSP.BUV. FL/60 ML","CEFALEXINE","044/19","01.03.2021","MG/EXP1",18,"MG/EXP1-B-072",null,0,null,null,257.45,"PHARMALLIANCE EURL","-",null,{"$f":"SUMIF(Tableau1[Description article],Tableau1[Produits],Tableau1[Emplacement])","v":0},null,{"$f":"Sheet1!$S85-Sheet1!$R85","v":0},"-","-","-",{"$f":"IFERROR(Tableau1[[#This Row],[THEO]]-Tableau1[[#This Row],[Qtt 2éme lot]],\"-\")","v":"-"},"-",{"$f":"IF(Tableau1[[#This Row],[2éme lot]]=\"-\",\"-\",IFERROR(IF(Q85=\"\",\"-\",INDEX(I:I,MATCH(Q85,C:C,0)+1)),\"-\"))","v":"-"},"-","-"]
[148,"MD004113","ANCEFAL 500MG CP PELL B/10","CEFALEXINE","003/18","31.08.2020","MG/EXP1",433,"MG/EXP1-C-020",null,0,null,null,274.56,"PHARMALLIANCE EURL","-",null,{"$f":"SUMIF(Tableau1[Description article],Tableau1[Produits],Tableau1[Emplacement])","v":0},null,{"$f":"Sheet1!$S86-Sheet1!$R86","v":0},"-","-","-",{"$f":"IFERROR(Tableau1[[#This Row],[THEO]]-Tableau1[[#This Row],[Qtt 2éme lot]],\"-\")","v":"-"},"-",{"$f":"IF(Tableau1[[#This Row],[2éme lot]]=\"-\",\"-\",IFERROR(IF(Q86=\"\",\"-\",INDEX(I:I,MATCH(Q86,C:C,0)+1)),\"-\"))","v":"-"},"-","-"]
[150,"MD002236","ANDRIOL TESTOCAPS 40MG CAPS. B/30","TESTOSTERONE UNDECANOATE","S000458","31.07.2021","MG/EXP1",63,"MG/EXP1-BOX6-002",null,0,null,null,1000.43,"AT PHARMA SPA","-",null,{"$f":"SUMIF(Tableau1[Description article],Tableau1[Produits],Tableau1[Emplacement])","v":0},null,{"$f":"Sheet1!$S87-Sheet1!$R87","v":0},"-","-","-",{"$f":"IFERROR(Tableau1[[#This Row],[THEO]]-Tableau1[[#This Row],[Qtt 2éme lot]],\"-\")","v":"-"},"-",{"$f":"IF(Tableau1[[#This Row],[2éme lot]]=\"-\",\"-\",IFERROR(IF(Q87=\"\",\"-\",INDEX(I:I,MATCH(Q87,C:C,0)+1)),\"-\"))","v":"-"},"-","-"]
[151,"MD000007","ANDROCUR 50MG COMP.SEC. B/20","CYPROTERONE ACETATE","83374B","01.07.2023","MG/EXP1",265,"MG/EXP1-BOX6-002",null,0,null,null,1742.21,"BIOPHARM SPA","-",null,{"$f":"SUMIF(Tableau1[Description article],Tableau1[Produits],Tableau1[Emplacement])","v":0},null,{"$f":"Sheet1!$S88-Sheet1!$R88","v":0},"-","-","-",{"$f":"IFERROR(Tableau1[[#This Row],[THEO]]-Tableau1[[#This Row],[Qtt 2éme lot]],\"-\")","v":"-"},"-",{"$f":"IF(Tableau1[[#This Row],[2éme lot]]=\"-\",\"-\",IFERROR(IF(Q88=\"\",\"-\",INDEX(I:I,MATCH(Q88,C:C,0)+1)),\"-\"))","v":"-"},"-","-"]
[152,"MD002225","ANGIOSAR 10MG/160MG COMP.PELLI. B/30","AMLODIPINE 10 / VALSARTAN 160","AA78","01.05.2021","MG/EXP1",45,"MG/EXP1-G-040",null,0,null,null,1497.5,"DAR AL DAWA SARL","-",null,{"$f":"SUMIF(Tableau1[Description article],Tableau1[Produits],Tableau1[Emplacement])","v":0},null,{"$f":"Sheet1!$S89-Sheet1!$R89","v":0},"-","-","-",{"$f":"IFERROR(Tableau1[[#This Row],[THEO]]-Tableau1[[#This Row],[Qtt 2éme lot]],\"-\")","v":"-"},"-",{"$f":"IF(Tableau1[[#This Row],[2éme lot]]=\"-\",\"-\",IFERROR(IF(Q89=\"\",\"-\",INDEX(I:I,MATCH(Q89,C:C,0)+1)),\"-\"))","v":"-"},"-","-"]
[153,"MD002224","ANGIOSAR 5MG/160MG COMP.PELLI. B/30","AMLODIPINE / VALSARTAN","AA73","01.05.2021","MG/EXP1",45,"MG/EXP1-F-040",null,0,null,null,1497.5,"DAR AL DAWA SARL","-",null,{"$f":"SUMIF(Tableau1[Description article],Tableau1[Produits],Tableau1[Emplacement])","v":0},null,{"$f":"Sheet1!$S90-Sheet1!$R90","v":0},"-","-","-",{"$f":"IFERROR(Tableau1[[#This Row],[THEO]]-Tableau1[[#This Row],[Qtt 2éme lot]],\"-\")","v":"-"},"-",{"$f":"IF(Tableau1[[#This Row],[2éme lot]]=\"-\",\"-\",IFERROR(IF(Q90=\"\",\"-\",INDEX(I:I,MATCH(Q90,C:C,0)+1)),\"-\"))","v":"-"},"-","-"]
[154,"MD002240","ANTADINE 100MG COMP.ENRO. B/20","FLURBIPROFENE","190402/FAB","01.09.2022","MG/EXP1",70,"MG/EXP1-D-046",null,0,null,null,249.59,"S.A.N.A.M.E.D","-",null,{"$f":"SUMIF(Tableau1[Description article],Tableau1[Produits],Tableau1[Emplacement])","v":0},null,{"$f":"Sheet1!$S91-Sheet1!$R91","v":0},"-","-","-",{"$f":"IFERROR(Tableau1[[#This Row],[THEO]]-Tableau1[[#This Row],[Qtt 2éme lot]],\"-\")","v":"-"},"-",{"$f":"IF(Tableau1[[#This Row],[2éme lot]]=\"-\",\"-\",IFERROR(IF(Q91=\"\",\"-\",INDEX(I:I,MATCH(Q91,C:C,0)+1)),\"-\"))","v":"-"},"-","-"]
[155,"MD003829","ANTALFEN 200MG COMP.PELLI. B/15","IBUPROFENE","015/18","31.08.2021","MG/EXP1",105,"MG/EXP1-F-019",null,0,null,null,95.79,"PHARMALLIANCE EURL","-",null,{"$f":"SUMIF(Tableau1[Description article],Tableau1[Produits],Tableau1[Emplacement])","v":0},null,{"$f":"Sheet1!$S92-Sheet1!$R92","v":0},"-","-","-",{"$f":"IFERROR(Tableau1[[#This Row],[THEO]]-Tableau1[[#This Row],[Qtt 2éme lot]],\"-\")","v":"-"},"-",{"$f":"IF(Tableau1[[#This Row],[2éme lot]]=\"-\",\"-\",IFERROR(IF(Q92=\"\",\"-\",INDEX(I:I,MATCH(Q92,C:C,0)+1)),\"-\"))","v":"-"},"-","-"]
[157,"MD003828","ANTALFEN 20MG/ML SUSP.BUV. FL/200ML + PIP.GRAD.","IBUPROFENE","063/19","01.11.2022","MG/EXP1",390,"MG/EXP1-H-005",null,0,null,null,194.2,"PHARMALLIANCE EURL","-",null,{"$f":"SUMIF(Tableau1[Description article],Tableau1[Produits],Tableau1[Emplacement])","v":0},null,{"$f":"Sheet1!$S93-Sheet1!$R93","v":0},"-","-","-",{"$f":"IFERROR(Tableau1[[#This Row],[THEO]]-Tableau1[[#This Row],[Qtt 2éme lot]],\"-\")","v":"-"},"-",{"$f":"IF(Tableau1[[#This Row],[2éme lot]]=\"-\",\"-\",IFERROR(IF(Q93=\"\",\"-\",INDEX(I:I,MATCH(Q93,C:C,0)+1)),\"-\"))","v":"-"},"-","-"]
[160,"MD003830","ANTALFEN 400MG COMP.PELLI. B/20","IBUPROFENE","032/18","31.07.2021","MG/EXP1",177,"MG/EXP1-D-031",null,0,null,null,167.09,"PHARMALLIANCE EURL","-",null,{"$f":"SUMIF(Tableau1[Description article],Tableau1[Produits],Tableau1[Emplacement])","v":0},null,{"$f":"Sheet1!$S94-Sheet1!$R94","v":0},"-","-","-",{"$f":"IFERROR(Tableau1[[#This Row],[THEO]]-Tableau1[[#This Row],[Qtt 2éme lot]],\"-\")","v":"-"},"-",{"$f":"IF(Tableau1[[#This Row],[2éme lot]]=\"-\",\"-\",IFERROR(IF(Q94=\"\",\"-\",INDEX(I:I,MATCH(Q94,C:C,0)+1)),\"-\"))","v":"-"},"-","-"]
[162,"MD003831","ANTALFEN 600MG COMP.PELLI. B/10","IBUPROFENE","023/18","31.08.2020","MG/EXP1",152,"MG/EXP1-A-057",null,0,null,null,108.59,"PHARMALLIANCE EURL","-",null,{"$f":"SUMIF(Tableau1[Description article],Tableau1[Produits],Tableau1[Emplacement])","v":0},null,{"$f":"Sheet1!$S95-Sheet1!$R95","v":0},"-","-","-",{"$f":"IFERROR(Tableau1[[#This Row],[THEO]]-Tableau1[[#This Row],[Qtt 2éme lot]],\"-\")","v":"-"},"-",{"$f":"IF(Tableau1[[#This Row],[2éme lot]]=\"-\",\"-\",IFERROR(IF(Q95=\"\",\"-\",INDEX(I:I,MATCH(Q95,C:C,0)+1)),\"-\"))","v":"-"},"-","-"]
[163,"MD003831","ANTALFEN 600MG COMP.PELLI. B/10","IBUPROFENE","008/18","30.04.2020","MG/EXP1",14,"MG/EXP1-A-049",null,0,null,null,108.59,"PHARMALLIANCE EURL","-",null,{"$f":"SUMIF(Tableau1[Description article],Tableau1[Produits],Tableau1[Emplacement])","v":0},null,{"$f":"Sheet1!$S96-Sheet1!$R96","v":0},"-","-","-",{"$f":"IFERROR(Tableau1[[#This Row],[THEO]]-Tableau1[[#This Row],[Qtt 2éme lot]],\"-\")","v":"-"},"-",{"$f":"IF(Tableau1[[#This Row],[2éme lot]]=\"-\",\"-\",IFERROR(IF(Q96=\"\",\"-\",INDEX(I:I,MATCH(Q96,C:C,0)+1)),\"-\"))","v":"-"},"-","-"]
[164,"MD002365","ANTALFEN 600MG COMP.PELLI. B/30","IBUPROFENE","010/19","01.06.2021","MG/EXP1",92,"MG/EXP1-E-043",null,0,null,null,235.49,"PHARMALLIANCE EURL","-",null,{"$f":"SUMIF(Tableau1[Description article],Tableau1[Produits],Tableau1[Emplacement])","v":0},null,{"$f":"Sheet1!$S97-Sheet1!$R97","v":0},"-","-","-",{"$f":"IFERROR(Tableau1[[#This Row],[THEO]]-Tableau1[[#This Row],[Qtt 2éme lot]],\"-\")","v":"-"},"-",{"$f":"IF(Tableau1[[#This Row],[2éme lot]]=\"-\",\"-\",IFERROR(IF(Q97=\"\",\"-\",INDEX(I:I,MATCH(Q97,C:C,0)+1)),\"-\"))","v":"-"},"-","-"]
[167,"MD003832","ANTAPROFENE 100MG COMP.PELLI. B/20","FLURBIPROFENE","001/19","01.05.2022","MG/EXP1",165,"MG/EXP1-C-055",null,0,null,null,177.7,"PHARMALLIANCE EURL","-",null,{"$f":"SUMIF(Tableau1[Description article],Tableau1[Produits],Tableau1[Emplacement])","v":0},null,{"$f":"Sheet1!$S98-Sheet1!$R98","v":0},"-","-","-",{"$f":"IFERROR(Tableau1[[#This Row],[THEO]]-Tableau1[[#This Row],[Qtt 2éme lot]],\"-\")","v":"-"},"-",{"$f":"IF(Tableau1[[#This Row],[2éme lot]]=\"-\",\"-\",IFERROR(IF(Q98=\"\",\"-\",INDEX(I:I,MATCH(Q98,C:C,0)+1)),\"-\"))","v":"-"},"-","-"]
[169,"MD002468","ANTIUM 20MG GLES. B/28","ESOMEPRAZOLE","9451901","01.06.2021","MG/EXP1",154,"MG/EXP1-G-044",null,0,null,null,850.26,"BIOPHARM SPA","-",null,{"$f":"SUMIF(Tableau1[Description article],Tableau1[Produits],Tableau1[Emplacement])","v":0},null,{"$f":"Sheet1!$S99-Sheet1!$R99","v":0},"-","-","-",{"$f":"IFERROR(Tableau1[[#This Row],[THEO]]-Tableau1[[#This Row],[Qtt 2éme lot]],\"-\")","v":"-"},"-",{"$f":"IF(Tableau1[[#This Row],[2éme lot]]=\"-\",\"-\",IFERROR(IF(Q99=\"\",\"-\",INDEX(I:I,MATCH(Q99,C:C,0)+1)),\"-\"))","v":"-"},"-","-"]
[170,"MD002469","ANTIUM 40MG GLES. B/28","ESOMEPRAZOLE","9521901","01.06.2021","MG/EXP1",154,"MG/EXP1-E-050",null,0,null,null,900.27,"BIOPHARM SPA","-",null,{"$f":"SUMIF(Tableau1[Description article],Tableau1[Produits],Tableau1[Emplacement])","v":0},null,{"$f":"Sheet1!$S100-Sheet1!$R100","v":0},"-","-","-",{"$f":"IFERROR(Tableau1[[#This Row],[THEO]]-Tableau1[[#This Row],[Qtt 2éme lot]],\"-\")","v":"-"},"-",{"$f":"IF(Tableau1[[#This Row],[2éme lot]]=\"-\",\"-\",IFERROR(IF(Q100=\"\",\"-\",INDEX(I:I,MATCH(Q100,C:C,0)+1)),\"-\"))","v":"-"},"-","-"]
[171,"PP00449","APAISA-CICA POMMADE.TUDE DE 15 GRAM.","BETA-SITOSTEROL","002*","01.06.2020","MG/EXP1",74,"MG/EXP1-C-013",null,0,null,null,600,"BIOPHARM SPA","-",null,{"$f":"SUMIF(Tableau1[Description article],Tableau1[Produits],Tableau1[Emplacement])","v":0},null,{"$f":"Sheet1!$S101-Sheet1!$R101","v":0},"-","-","-",{"$f":"IFERROR(Tableau1[[#This Row],[THEO]]-Tableau1[[#This Row],[Qtt 2éme lot]],\"-\")","v":"-"},"-",{"$f":"IF(Tableau1[[#This Row],[2éme lot]]=\"-\",\"-\",IFERROR(IF(Q101=\"\",\"-\",INDEX(I:I,MATCH(Q101,C:C,0)+1)),\"-\"))","v":"-"},"-","-"]
[173,"MD003911","APAP CAFEINE BEKER 500MG/65MG COMP. B/20","PARACÉTAMOL/PSEUDOÉPHÉDRIN/CHLORPHÉNAMIN","065019","01.06.2021","MG/EXP1",87,"MG/EXP1-C-001",null,0,null,null,143.25,"BEKER LABORATOIRES","-",null,{"$f":"SUMIF(Tableau1[Description article],Tableau1[Produits],Tableau1[Emplacement])","v":0},null,{"$f":"Sheet1!$S102-Sheet1!$R102","v":0},"-","-","-",{"$f":"IFERROR(Tableau1[[#This Row],[THEO]]-Tableau1[[#This Row],[Qtt 2éme lot]],\"-\")","v":"-"},"-",{"$f":"IF(Tableau1[[#This Row],[2éme lot]]=\"-\",\"-\",IFERROR(IF(Q102=\"\",\"-\",INDEX(I:I,MATCH(Q102,C:C,0)+1)),\"-\"))","v":"-"},"-","-"]
[175,"MD002371","APHRODIL 50MG COMP.PELLI. B/04","SILDENAFIL CITRATE","AA37","01.06.2020","MG/EXP1",9,"MG/EXP1-C-031",null,0,null,null,517.52,"DAR AL DAWA SARL","-",null,{"$f":"SUMIF(Tableau1[Description article],Tableau1[Produits],Tableau1[Emplacement])","v":0},null,{"$f":"Sheet1!$S103-Sheet1!$R103","v":0},"-","-","-",{"$f":"IFERROR(Tableau1[[#This Row],[THEO]]-Tableau1[[#This Row],[Qtt 2éme lot]],\"-\")","v":"-"},"-",{"$f":"IF(Tableau1[[#This Row],[2éme lot]]=\"-\",\"-\",IFERROR(IF(Q103=\"\",\"-\",INDEX(I:I,MATCH(Q103,C:C,0)+1)),\"-\"))","v":"-"},"-","-"]
[177,"MD003864","APIDRA 100UI/ML SOL.INJ.SC. B/05 CRTCH/3ML","INSULINE GLULISINE","9F918A","01.05.2021","MG/EXP1",35,"MG/EXP1-BOX6",null,0,null,"GLAC",4118.2,"SANOFI AVENTIS ALGERIE SPA","-",null,{"$f":"SUMIF(Tableau1[Description article],Tableau1[Produits],Tableau1[Emplacement])","v":0},null,{"$f":"Sheet1!$S104-Sheet1!$R104","v":0},"-","-","-",{"$f":"IFERROR(Tableau1[[#This Row],[THEO]]-Tableau1[[#This Row],[Qtt 2éme lot]],\"-\")","v":"-"},"-",{"$f":"IF(Tableau1[[#This Row],[2éme lot]]=\"-\",\"-\",IFERROR(IF(Q104=\"\",\"-\",INDEX(I:I,MATCH(Q104,C:C,0)+1)),\"-\"))","v":"-"},"-","-"]
[178,"PP00051","APPETI KID F/200ML - SP",null,"AS-1912","30.09.2022","MG/EXP1",79,"MG/EXP1-E-040",null,0,null,null,600,"MAGPHARM LABORATOIRES SARL","-",null,{"$f":"SUMIF(Tableau1[Description article],Tableau1[Produits],Tableau1[Emplacement])","v":0},null,{"$f":"Sheet1!$S105-Sheet1!$R105","v":0},"-","-","-",{"$f":"IFERROR(Tableau1[[#This Row],[THEO]]-Tableau1[[#This Row],[Qtt 2éme lot]],\"-\")","v":"-"},"-",{"$f":"IF(Tableau1[[#This Row],[2éme lot]]=\"-\",\"-\",IFERROR(IF(Q105=\"\",\"-\",INDEX(I:I,MATCH(Q105,C:C,0)+1)),\"-\"))","v":"-"},"-","-"]
[179,"MD000040","APROSART 150MG COMP. B/30","IRBESARTAN","190924","01.04.2022","MG/EXP1",62,"MG/EXP1-BOX6-001",null,0,null,null,1287.5,"EL KENDI INDUSTRIE DE MEDICAMENTS SPA","-",null,{"$f":"SUMIF(Tableau1[Description article],Tableau1[Produits],Tableau1[Emplacement])","v":0},null,{"$f":"Sheet1!$S106-Sheet1!$R106","v":0},"-","-","-",{"$f":"IFERROR(Tableau1[[#This Row],[THEO]]-Tableau1[[#This Row],[Qtt 2éme lot]],\"-\")","v":"-"},"-",{"$f":"IF(Tableau1[[#This Row],[2éme lot]]=\"-\",\"-\",IFERROR(IF(Q106=\"\",\"-\",INDEX(I:I,MATCH(Q106,C:C,0)+1)),\"-\"))","v":"-"},"-","-"]
[183,"MD003865","APROVASC 150MG/5MG COMP.PELLI. B/30","IRBESARTAN / AMLODIPINE","AP012A","01.06.2022","MG/EXP1",93,"MG/EXP1-BOX6-001",null,0,null,null,1497.5,"SANOFI AVENTIS ALGERIE SPA","-",null,{"$f":"SUMIF(Tableau1[Description article],Tableau1[Produits],Tableau1[Emplacement])","v":0},null,{"$f":"Sheet1!$S107-Sheet1!$R107","v":0},"-","-","-",{"$f":"IFERROR(Tableau1[[#This Row],[THEO]]-Tableau1[[#This Row],[Qtt 2éme lot]],\"-\")","v":"-"},"-",{"$f":"IF(Tableau1[[#This Row],[2éme lot]]=\"-\",\"-\",IFERROR(IF(Q107=\"\",\"-\",INDEX(I:I,MATCH(Q107,C:C,0)+1)),\"-\"))","v":"-"},"-","-"]
[184,"MD003866","APROVASC 300MG/10MG COMP.PELLI.SEC. B/30","IRBESARTAN / AMLODIPINE","AC019A","01.04.2022","MG/EXP1",126,"MG/EXP1-BOX6-002",null,0,null,null,1497.5,"SANOFI AVENTIS ALGERIE SPA","-",null,{"$f":"SUMIF(Tableau1[Description article],Tableau1[Produits],Tableau1[Emplacement])","v":0},null,{"$f":"Sheet1!$S108-Sheet1!$R108","v":0},"-","-","-",{"$f":"IFERROR(Tableau1[[#This Row],[THEO]]-Tableau1[[#This Row],[Qtt 2éme lot]],\"-\")","v":"-"},"-",{"$f":"IF(Tableau1[[#This Row],[2éme lot]]=\"-\",\"-\",IFERROR(IF(Q108=\"\",\"-\",INDEX(I:I,MATCH(Q108,C:C,0)+1)),\"-\"))","v":"-"},"-","-"]
[186,"MD003867","APROVASC 300MG/5MG COMP.PELLI. B/30","IRBESARTAN / AMLODIPINE","PC037A","01.05.2022","MG/EXP1",149,"MG/EXP1-BOX6-002",null,0,null,null,1497.5,"SANOFI AVENTIS ALGERIE SPA","-",null,{"$f":"SUMIF(Tableau1[Description article],Tableau1[Produits],Tableau1[Emplacement])","v":0},null,{"$f":"Sheet1!$S109-Sheet1!$R109","v":0},"-","-","-",{"$f":"IFERROR(Tableau1[[#This Row],[THEO]]-Tableau1[[#This Row],[Qtt 2éme lot]],\"-\")","v":"-"},"-",{"$f":"IF(Tableau1[[#This Row],[2éme lot]]=\"-\",\"-\",IFERROR(IF(Q109=\"\",\"-\",INDEX(I:I,MATCH(Q109,C:C,0)+1)),\"-\"))","v":"-"},"-","-"]
[188,"MD003868","APROVEL 150MG COMP.PELLI. B/28","IRBESARTAN","AT014A","01.09.2021","MG/EXP1",318,"MG/EXP1-BOX6-001",null,0,null,null,1201.5,"SANOFI AVENTIS ALGERIE SPA","-",null,{"$f":"SUMIF(Tableau1[Description article],Tableau1[Produits],Tableau1[Emplacement])","v":0},null,{"$f":"Sheet1!$S110-Sheet1!$R110","v":0},"-","-","-",{"$f":"IFERROR(Tableau1[[#This Row],[THEO]]-Tableau1[[#This Row],[Qtt 2éme lot]],\"-\")","v":"-"},"-",{"$f":"IF(Tableau1[[#This Row],[2éme lot]]=\"-\",\"-\",IFERROR(IF(Q110=\"\",\"-\",INDEX(I:I,MATCH(Q110,C:C,0)+1)),\"-\"))","v":"-"},"-","-"]
[191,"MD003869","APROVEL 300MG COMP.PELLI. B/28","IRBESARTAN","AE014A","01.09.2021","MG/EXP1",70,"MG/EXP1-BOX6-001",null,0,null,null,1201.5,"SANOFI AVENTIS ALGERIE SPA","-",null,{"$f":"SUMIF(Tableau1[Description article],Tableau1[Produits],Tableau1[Emplacement])","v":0},null,{"$f":"Sheet1!$S111-Sheet1!$R111","v":0},"-","-","-",{"$f":"IFERROR(Tableau1[[#This Row],[THEO]]-Tableau1[[#This Row],[Qtt 2éme lot]],\"-\")","v":"-"},"-",{"$f":"IF(Tableau1[[#This Row],[2éme lot]]=\"-\",\"-\",IFERROR(IF(Q111=\"\",\"-\",INDEX(I:I,MATCH(Q111,C:C,0)+1)),\"-\"))","v":"-"},"-","-"]
[194,"PP00468","AQUALARM INTENSIVE UD 0,5ML SOL.OPHT. B/30","ACIDE HYALURONIQUE 0.2%","764458","01.08.2020","MG/EXP1",46,"MG/EXP1-G-018",null,0,null,null,1250,"E.P.DIS EURAPHARMA SPA","-",null,{"$f":"SUMIF(Tableau1[Description article],Tableau1[Produits],Tableau1[Emplacement])","v":0},null,{"$f":"Sheet1!$S112-Sheet1!$R112","v":0},"-","-","-",{"$f":"IFERROR(Tableau1[[#This Row],[THEO]]-Tableau1[[#This Row],[Qtt 2éme lot]],\"-\")","v":"-"},"-",{"$f":"IF(Tableau1[[#This Row],[2éme lot]]=\"-\",\"-\",IFERROR(IF(Q112=\"\",\"-\",INDEX(I:I,MATCH(Q112,C:C,0)+1)),\"-\"))","v":"-"},"-","-"]
[196,"PP00467","AQUALARM U.P. INTENSIVE SOL.OPHT. FL/10ML","ACIDE HYALURONIQUE 0.24%","178","01.07.2020","MG/EXP1",158,"MG/EXP1-B-050",null,0,null,null,1250,"E.P.DIS EURAPHARMA SPA","-",null,{"$f":"SUMIF(Tableau1[Description article],Tableau1[Produits],Tableau1[Emplacement])","v":0},null,{"$f":"Sheet1!$S113-Sheet1!$R113","v":0},"-","-","-",{"$f":"IFERROR(Tableau1[[#This Row],[THEO]]-Tableau1[[#This Row],[Qtt 2éme lot]],\"-\")","v":"-"},"-",{"$f":"IF(Tableau1[[#This Row],[2éme lot]]=\"-\",\"-\",IFERROR(IF(Q113=\"\",\"-\",INDEX(I:I,MATCH(Q113,C:C,0)+1)),\"-\"))","v":"-"},"-","-"]
[197,"MD003811","ARADEX 300 300MG COMP. B/30","IRBESARTAN","M62001R","31.03.2022","MG/EXP1",50,"MG/EXP1-BOX6-002",null,0,null,null,1287.5,"MERINAL LABORATOIRES","-",null,{"$f":"SUMIF(Tableau1[Description article],Tableau1[Produits],Tableau1[Emplacement])","v":0},null,{"$f":"Sheet1!$S114-Sheet1!$R114","v":0},"-","-","-",{"$f":"IFERROR(Tableau1[[#This Row],[THEO]]-Tableau1[[#This Row],[Qtt 2éme lot]],\"-\")","v":"-"},"-",{"$f":"IF(Tableau1[[#This Row],[2éme lot]]=\"-\",\"-\",IFERROR(IF(Q114=\"\",\"-\",INDEX(I:I,MATCH(Q114,C:C,0)+1)),\"-\"))","v":"-"},"-","-"]
[198,"MD003811","ARADEX 300 300MG COMP. B/30","IRBESARTAN","M52001R","31.03.2022","MG/EXP1",34,"MG/EXP1-BOX6-002",null,0,null,null,1287.5,"MERINAL LABORATOIRES","-",null,{"$f":"SUMIF(Tableau1[Description article],Tableau1[Produits],Tableau1[Emplacement])","v":0},null,{"$f":"Sheet1!$S115-Sheet1!$R115","v":0},"-","-","-",{"$f":"IFERROR(Tableau1[[#This Row],[THEO]]-Tableau1[[#This Row],[Qtt 2éme lot]],\"-\")","v":"-"},"-",{"$f":"IF(Tableau1[[#This Row],[2éme lot]]=\"-\",\"-\",IFERROR(IF(Q115=\"\",\"-\",INDEX(I:I,MATCH(Q115,C:C,0)+1)),\"-\"))","v":"-"},"-","-"]
[199,"MD003811","ARADEX 300 300MG COMP. B/30","IRBESARTAN","M52002P","31.10.2021","MG/EXP1",6,"MG/EXP1-BOX6-002",null,0,null,null,1287.5,"MERINAL LABORATOIRES","-",null,{"$f":"SUMIF(Tableau1[Description article],Tableau1[Produits],Tableau1[Emplacement])","v":0},null,{"$f":"Sheet1!$S116-Sheet1!$R116","v":0},"-","-","-",{"$f":"IFERROR(Tableau1[[#This Row],[THEO]]-Tableau1[[#This Row],[Qtt 2éme lot]],\"-\")","v":"-"},"-",{"$f":"IF(Tableau1[[#This Row],[2éme lot]]=\"-\",\"-\",IFERROR(IF(Q116=\"\",\"-\",INDEX(I:I,MATCH(Q116,C:C,0)+1)),\"-\"))","v":"-"},"-","-"]
[200,"MD000023","ARBOSE 50MG CP .B/30","ACARBOSE","991804","01.06.2020","MG/EXP1",47,"MG/EXP1-E-035",null,0,null,null,408.78,"BIOCARE SARL","-",null,{"$f":"SUMIF(Tableau1[Description article],Tableau1[Produits],Tableau1[Emplacement])","v":0},null,{"$f":"Sheet1!$S117-Sheet1!$R117","v":0},"-","-","-",{"$f":"IFERROR(Tableau1[[#This Row],[THEO]]-Tableau1[[#This Row],[Qtt 2éme lot]],\"-\")","v":"-"},"-",{"$f":"IF(Tableau1[[#This Row],[2éme lot]]=\"-\",\"-\",IFERROR(IF(Q117=\"\",\"-\",INDEX(I:I,MATCH(Q117,C:C,0)+1)),\"-\"))","v":"-"},"-","-"]
[202,"MD004071","ARICLARE 500MG COMP PELL B/14",null,"192145","01.10.2021","MG/EXP1",63,"MG/EXP1-G-014",null,0,null,null,571.51,"GENERICLAB SARL","-",null,{"$f":"SUMIF(Tableau1[Description article],Tableau1[Produits],Tableau1[Emplacement])","v":0},null,{"$f":"Sheet1!$S118-Sheet1!$R118","v":0},"-","-","-",{"$f":"IFERROR(Tableau1[[#This Row],[THEO]]-Tableau1[[#This Row],[Qtt 2éme lot]],\"-\")","v":"-"},"-",{"$f":"IF(Tableau1[[#This Row],[2éme lot]]=\"-\",\"-\",IFERROR(IF(Q118=\"\",\"-\",INDEX(I:I,MATCH(Q118,C:C,0)+1)),\"-\"))","v":"-"},"-","-"]
[203,"MD000003","ARIMIDEX 1MG COMP.ENRO. B/28","ANASTROZOLE","RB198","31.03.2024","MG/EXP1",46,"MG/EXP1-BOX6-021",null,0,null,"CHER",6553.09,"BIOPHARM SPA","-",null,{"$f":"SUMIF(Tableau1[Description article],Tableau1[Produits],Tableau1[Emplacement])","v":0},null,{"$f":"Sheet1!$S119-Sheet1!$R119","v":0},"-","-","-",{"$f":"IFERROR(Tableau1[[#This Row],[THEO]]-Tableau1[[#This Row],[Qtt 2éme lot]],\"-\")","v":"-"},"-",{"$f":"IF(Tableau1[[#This Row],[2éme lot]]=\"-\",\"-\",IFERROR(IF(Q119=\"\",\"-\",INDEX(I:I,MATCH(Q119,C:C,0)+1)),\"-\"))","v":"-"},"-","-"]
[204,"MD000012","ARIPIPRAZOLE BEKER 10MG COMP. B/30","ARIPIPRAZOLE","075318***","06.08.2020","MG/EXP1",27,"MG/EXP1-BOX6-PSY-015",null,0,null,"CHER",5627.6,"BEKER LABORATOIRES","-",null,{"$f":"SUMIF(Tableau1[Description article],Tableau1[Produits],Tableau1[Emplacement])","v":0},null,{"$f":"Sheet1!$S120-Sheet1!$R120","v":0},"-","-","-",{"$f":"IFERROR(Tableau1[[#This Row],[THEO]]-Tableau1[[#This Row],[Qtt 2éme lot]],\"-\")","v":"-"},"-",{"$f":"IF(Tableau1[[#This Row],[2éme lot]]=\"-\",\"-\",IFERROR(IF(Q120=\"\",\"-\",INDEX(I:I,MATCH(Q120,C:C,0)+1)),\"-\"))","v":"-"},"-","-"]
[205,"MD000013","ARIPIPRAZOLE BEKER 15MG COMP. B/30","ARIPIPRAZOLE","090619","01.10.2021","MG/EXP1",238,"MG/EXP1-BOX6-PSY-015",null,0,null,"CHER",5627.6,"BEKER LABORATOIRES","-",null,{"$f":"SUMIF(Tableau1[Description article],Tableau1[Produits],Tableau1[Emplacement])","v":0},null,{"$f":"Sheet1!$S121-Sheet1!$R121","v":0},"-","-","-",{"$f":"IFERROR(Tableau1[[#This Row],[THEO]]-Tableau1[[#This Row],[Qtt 2éme lot]],\"-\")","v":"-"},"-",{"$f":"IF(Tableau1[[#This Row],[2éme lot]]=\"-\",\"-\",IFERROR(IF(Q121=\"\",\"-\",INDEX(I:I,MATCH(Q121,C:C,0)+1)),\"-\"))","v":"-"},"-","-"]
[206,"MD000014","ARIPIPRAZOLE BEKER 20MG COMP. B/30","ARIPIPRAZOLE","076418","20.08.2020","MG/EXP1",50,"MG/EXP1-BOX6-PSY-015",null,0,null,"CHER",6507.49,"BEKER LABORATOIRES","-",null,{"$f":"SUMIF(Tableau1[Description article],Tableau1[Produits],Tableau1[Emplacement])","v":0},null,{"$f":"Sheet1!$S122-Sheet1!$R122","v":0},"-","-","-",{"$f":"IFERROR(Tableau1[[#This Row],[THEO]]-Tableau1[[#This Row],[Qtt 2éme lot]],\"-\")","v":"-"},"-",{"$f":"IF(Tableau1[[#This Row],[2éme lot]]=\"-\",\"-\",IFERROR(IF(Q122=\"\",\"-\",INDEX(I:I,MATCH(Q122,C:C,0)+1)),\"-\"))","v":"-"},"-","-"]
[208,"MD003825","AROMASINE 25MG COMP.ENRO. B/30","EXEMESTANE","CD3861","28.02.2022","MG/EXP1",40,"MG/EXP1-BOX6-021",null,0,null,"CHER",5012.37,"PFIZER PHARM ALGERIE SPA","-",null,{"$f":"SUMIF(Tableau1[Description article],Tableau1[Produits],Tableau1[Emplacement])","v":0},null,{"$f":"Sheet1!$S123-Sheet1!$R123","v":0},"-","-","-",{"$f":"IFERROR(Tableau1[[#This Row],[THEO]]-Tableau1[[#This Row],[Qtt 2éme lot]],\"-\")","v":"-"},"-",{"$f":"IF(Tableau1[[#This Row],[2éme lot]]=\"-\",\"-\",IFERROR(IF(Q123=\"\",\"-\",INDEX(I:I,MATCH(Q123,C:C,0)+1)),\"-\"))","v":"-"},"-","-"]
[210,"MD000042","AROVAN 10MG COMP.PELLI. B/30","ATORVASTATINE","190816","01.03.2021","MG/EXP1",82,"MG/EXP1-E-039",null,0,null,null,835.1,"EL KENDI INDUSTRIE DE MEDICAMENTS SPA","-",null,{"$f":"SUMIF(Tableau1[Description article],Tableau1[Produits],Tableau1[Emplacement])","v":0},null,{"$f":"Sheet1!$S124-Sheet1!$R124","v":0},"-","-","-",{"$f":"IFERROR(Tableau1[[#This Row],[THEO]]-Tableau1[[#This Row],[Qtt 2éme lot]],\"-\")","v":"-"},"-",{"$f":"IF(Tableau1[[#This Row],[2éme lot]]=\"-\",\"-\",IFERROR(IF(Q124=\"\",\"-\",INDEX(I:I,MATCH(Q124,C:C,0)+1)),\"-\"))","v":"-"},"-","-"]
[212,"MD000043","AROVAN 20MG COMP.PELLI. B/30","ATORVASTATINE","190483","01.02.2021","MG/EXP1",99,"MG/EXP1-A-018",null,0,null,null,1062.49,"EL KENDI INDUSTRIE DE MEDICAMENTS SPA","-",null,{"$f":"SUMIF(Tableau1[Description article],Tableau1[Produits],Tableau1[Emplacement])","v":0},null,{"$f":"Sheet1!$S125-Sheet1!$R125","v":0},"-","-","-",{"$f":"IFERROR(Tableau1[[#This Row],[THEO]]-Tableau1[[#This Row],[Qtt 2éme lot]],\"-\")","v":"-"},"-",{"$f":"IF(Tableau1[[#This Row],[2éme lot]]=\"-\",\"-\",IFERROR(IF(Q125=\"\",\"-\",INDEX(I:I,MATCH(Q125,C:C,0)+1)),\"-\"))","v":"-"},"-","-"]
[214,"MD000044","AROVAN 40MG COMP.PELLI. B/30","ATORVASTATINE","190498","01.02.2022","MG/EXP1",223,"MG/EXP1-G-010",null,0,null,null,1977.5,"EL KENDI INDUSTRIE DE MEDICAMENTS SPA","-",null,{"$f":"SUMIF(Tableau1[Description article],Tableau1[Produits],Tableau1[Emplacement])","v":0},null,{"$f":"Sheet1!$S126-Sheet1!$R126","v":0},"-","-","-",{"$f":"IFERROR(Tableau1[[#This Row],[THEO]]-Tableau1[[#This Row],[Qtt 2éme lot]],\"-\")","v":"-"},"-",{"$f":"IF(Tableau1[[#This Row],[2éme lot]]=\"-\",\"-\",IFERROR(IF(Q126=\"\",\"-\",INDEX(I:I,MATCH(Q126,C:C,0)+1)),\"-\"))","v":"-"},"-","-"]
[217,"MD000045","AROVAN 80MG COMP.PELLI. B/30","ATORVASTATINE","181611","01.08.2021","MG/EXP1",209,"MG/EXP1-A-065",null,0,null,null,2037.5,"EL KENDI INDUSTRIE DE MEDICAMENTS SPA","-",null,{"$f":"SUMIF(Tableau1[Description article],Tableau1[Produits],Tableau1[Emplacement])","v":0},null,{"$f":"Sheet1!$S127-Sheet1!$R127","v":0},"-","-","-",{"$f":"IFERROR(Tableau1[[#This Row],[THEO]]-Tableau1[[#This Row],[Qtt 2éme lot]],\"-\")","v":"-"},"-",{"$f":"IF(Tableau1[[#This Row],[2éme lot]]=\"-\",\"-\",IFERROR(IF(Q127=\"\",\"-\",INDEX(I:I,MATCH(Q127,C:C,0)+1)),\"-\"))","v":"-"},"-","-"]
[219,"MD000027","ARTELAC 3,20MG/ML COLLY. FL/10ML","HYPROMELLOSE (SUPPLEANCE LACRYMALE)","139","30.09.2022","MG/EXP1",1194,"MG/EXP1-H-001",null,0,null,null,254.23,"E.P.DIS EURAPHARMA SPA","-",null,{"$f":"SUMIF(Tableau1[Description article],Tableau1[Produits],Tableau1[Emplacement])","v":0},null,{"$f":"Sheet1!$S128-Sheet1!$R128","v":0},"-","-","-",{"$f":"IFERROR(Tableau1[[#This Row],[THEO]]-Tableau1[[#This Row],[Qtt 2éme lot]],\"-\")","v":"-"},"-",{"$f":"IF(Tableau1[[#This Row],[2éme lot]]=\"-\",\"-\",IFERROR(IF(Q128=\"\",\"-\",INDEX(I:I,MATCH(Q128,C:C,0)+1)),\"-\"))","v":"-"},"-","-"]
[220,"PP00052","ARTICOSAMINE  500MG GLES B/30(GLUCOSAMINE)",null,"0109*","01.07.2024","MG/EXP1",13,"MG/EXP1-A-017",null,0,null,null,254.67,"PROVIVO SPA","-",null,{"$f":"SUMIF(Tableau1[Description article],Tableau1[Produits],Tableau1[Emplacement])","v":0},null,{"$f":"Sheet1!$S129-Sheet1!$R129","v":0},"-","-","-",{"$f":"IFERROR(Tableau1[[#This Row],[THEO]]-Tableau1[[#This Row],[Qtt 2éme lot]],\"-\")","v":"-"},"-",{"$f":"IF(Tableau1[[#This Row],[2éme lot]]=\"-\",\"-\",IFERROR(IF(Q129=\"\",\"-\",INDEX(I:I,MATCH(Q129,C:C,0)+1)),\"-\"))","v":"-"},"-","-"]
[221,"PP00053","ARTICOSAMINE B/90 GLES  500MG (GLUCOSAMINE)",null,"0107","01.04.2024","MG/EXP1",33,"MG/EXP1-G-007",null,0,null,null,636.68,"PROVIVO SPA",{"$f":"IFERROR(IF(Q130=\"\",\"-\",INDEX(I:I,MATCH(Q130,C:C,0))),\"-\")","v":"-"},null,{"$f":"SUMIF(Tableau1[Description article],Tableau1[Produits],Tableau1[Emplacement])","v":0},null,{"$f":"Sheet1!$S130-Sheet1!$R130","v":0},{"$f":"IFERROR(IF(Q130=\"\",\"-\",INDEX(F:F,MATCH(Q130,C:C,0))),\"-\")","v":"-"},{"$f":"IFERROR(IF(Q130=\"\",\"-\",INDEX(E:E,MATCH(Q130,C:C,0))),\"-\")","v":"-"},{"$f":"IFERROR(IF(Q130=\"\",\"-\",INDEX(N:N,MATCH(Q130,C:C,0))),\"-\")","v":"-"},{"$f":"IFERROR(Tableau1[[#This Row],[THEO]]-Tableau1[[#This Row],[Qtt 2éme lot]],\"-\")","v":"-"},{"$f":"IF(IF(Q130=\"\",\"-\",INDEX(E:E,MATCH(Q130,C:C,0)))=IF(Q130=\"\",\"-\",INDEX(E:E,MATCH(Q130,C:C,1))),\"-\",IF(Q130=\"\",\"-\",INDEX(E:E,MATCH(Q130,C:C,1))))","v":"-"},{"$f":"IF(Tableau1[[#This Row],[2éme lot]]=\"-\",\"-\",IFERROR(IF(Q130=\"\",\"-\",INDEX(I:I,MATCH(Q130,C:C,0)+1)),\"-\"))","v":"-"},{"$f":"IFERROR(IF(Y130=\"\",\"-\",INDEX(N:N,MATCH(Y130,E:E,0))),\"-\")","v":"-"},{"$f":"IFERROR(IF(AA130=\"\",\"-\",INDEX(H:H,MATCH(Y130,E:E,0))),\"-\")","v":"-"}]
[224,"MD000046","ARTIZ 10MG COMP.PELLI. B/10","CETIRIZINE ANTI ALLERGY","190492","01.02.2021","MG/EXP1",199,"MG/EXP1-A-057",null,0,null,null,108.5,"EL KENDI INDUSTRIE DE MEDICAMENTS SPA","-",null,{"$f":"SUMIF(Tableau1[Description article],Tableau1[Produits],Tableau1[Emplacement])","v":0},null,{"$f":"Sheet1!$S131-Sheet1!$R131","v":0},"-","-","-",{"$f":"IFERROR(Tableau1[[#This Row],[THEO]]-Tableau1[[#This Row],[Qtt 2éme lot]],\"-\")","v":"-"},"-",{"$f":"IF(Tableau1[[#This Row],[2éme lot]]=\"-\",\"-\",IFERROR(IF(Q131=\"\",\"-\",INDEX(I:I,MATCH(Q131,C:C,0)+1)),\"-\"))","v":"-"},"-","-"]
[227,"MD000047","ARTIZ SOL BUV EN GTTES 10MG/ML FLC.30 ML+PIPETTE GRADUEE","CETIRIZINE","190729","01.06.2021","MG/EXP1",149,"MG/EXP1-D-010",null,0,null,null,478.8,"EL KENDI INDUSTRIE DE MEDICAMENTS SPA","-",null,{"$f":"SUMIF(Tableau1[Description article],Tableau1[Produits],Tableau1[Emplacement])","v":0},null,{"$f":"Sheet1!$S132-Sheet1!$R132","v":0},"-","-","-",{"$f":"IFERROR(Tableau1[[#This Row],[THEO]]-Tableau1[[#This Row],[Qtt 2éme lot]],\"-\")","v":"-"},"-",{"$f":"IF(Tableau1[[#This Row],[2éme lot]]=\"-\",\"-\",IFERROR(IF(Q132=\"\",\"-\",INDEX(I:I,MATCH(Q132,C:C,0)+1)),\"-\"))","v":"-"},"-","-"]
[230,"MD003835","ASCALOL 25G/100G SOL.P.APPL.LOC. FL/125ML","BENZOATE DE BENZYLE","132001","01.01.2022","MG/EXP1",122,"MG/EXP1-E-036",null,0,null,null,268.36,"PHARMIDAL SARL","-",null,{"$f":"SUMIF(Tableau1[Description article],Tableau1[Produits],Tableau1[Emplacement])","v":0},null,{"$f":"Sheet1!$S133-Sheet1!$R133","v":0},"-","-","-",{"$f":"IFERROR(Tableau1[[#This Row],[THEO]]-Tableau1[[#This Row],[Qtt 2éme lot]],\"-\")","v":"-"},"-",{"$f":"IF(Tableau1[[#This Row],[2éme lot]]=\"-\",\"-\",IFERROR(IF(Q133=\"\",\"-\",INDEX(I:I,MATCH(Q133,C:C,0)+1)),\"-\"))","v":"-"},"-","-"]
[233,"MD003904","ASIATICOSID 0,02 PDRE. FL/2G","ASIATICOSIDE","180167","01.03.2023","MG/EXP1",109,"MG/EXP1-A-010",null,0,null,null,185.68,"GENERICLAB SARL","-",null,{"$f":"SUMIF(Tableau1[Description article],Tableau1[Produits],Tableau1[Emplacement])","v":0},null,{"$f":"Sheet1!$S134-Sheet1!$R134","v":0},"-","-","-",{"$f":"IFERROR(Tableau1[[#This Row],[THEO]]-Tableau1[[#This Row],[Qtt 2éme lot]],\"-\")","v":"-"},"-",{"$f":"IF(Tableau1[[#This Row],[2éme lot]]=\"-\",\"-\",IFERROR(IF(Q134=\"\",\"-\",INDEX(I:I,MATCH(Q134,C:C,0)+1)),\"-\"))","v":"-"},"-","-"]
[235,"MD000015","ASPEC 100MG COMP.SEC. B/98","ACIDE ACETYLSALICYLIQUE","107119","01.04.2021","MG/EXP1",2,"MG/EXP1-A-014",null,0,null,null,259.7,"BEKER LABORATOIRES","-",null,{"$f":"SUMIF(Tableau1[Description article],Tableau1[Produits],Tableau1[Emplacement])","v":0},null,{"$f":"Sheet1!$S135-Sheet1!$R135","v":0},"-","-","-",{"$f":"IFERROR(Tableau1[[#This Row],[THEO]]-Tableau1[[#This Row],[Qtt 2éme lot]],\"-\")","v":"-"},"-",{"$f":"IF(Tableau1[[#This Row],[2éme lot]]=\"-\",\"-\",IFERROR(IF(Q135=\"\",\"-\",INDEX(I:I,MATCH(Q135,C:C,0)+1)),\"-\"))","v":"-"},"-","-"]
[237,"MD003875","ASPEGIC 500 500MG PDRE.P.SOL.BUV. B/20 SACH.","ACETYLSALICYLATE/ LYSINE","CM0483","01.11.2021","MG/EXP1",308,"MG/EXP1-A-003",null,0,null,null,179.06,"SANOFI AVENTIS ALGERIE SPA","-",null,{"$f":"SUMIF(Tableau1[Description article],Tableau1[Produits],Tableau1[Emplacement])","v":0},null,{"$f":"Sheet1!$S136-Sheet1!$R136","v":0},"-","-","-",{"$f":"IFERROR(Tableau1[[#This Row],[THEO]]-Tableau1[[#This Row],[Qtt 2éme lot]],\"-\")","v":"-"},"-",{"$f":"IF(Tableau1[[#This Row],[2éme lot]]=\"-\",\"-\",IFERROR(IF(Q136=\"\",\"-\",INDEX(I:I,MATCH(Q136,C:C,0)+1)),\"-\"))","v":"-"},"-","-"]
[241,"MD003872","ASPEGIC ADULTE 1G PDRE.P.SOL.BUV. B/20 SACH.","ACIDE ACETYLSALICYLIQUE","CM0747","01.03.2022","MG/EXP1",240,"MG/EXP1-G-036",null,0,null,null,283.75,"SANOFI AVENTIS ALGERIE SPA","-",null,{"$f":"SUMIF(Tableau1[Description article],Tableau1[Produits],Tableau1[Emplacement])","v":0},null,{"$f":"Sheet1!$S137-Sheet1!$R137","v":0},"-","-","-",{"$f":"IFERROR(Tableau1[[#This Row],[THEO]]-Tableau1[[#This Row],[Qtt 2éme lot]],\"-\")","v":"-"},"-",{"$f":"IF(Tableau1[[#This Row],[2éme lot]]=\"-\",\"-\",IFERROR(IF(Q137=\"\",\"-\",INDEX(I:I,MATCH(Q137,C:C,0)+1)),\"-\"))","v":"-"},"-","-"]
[243,"MD003873","ASPEGIC NOURRISSON 100MG PDRE.P.SOL.BUV. B/20 SACH.","ACETYLSALICYLATE","CM0501","01.06.2021","MG/EXP1",151,"MG/EXP1-B-004",null,0,null,null,145.92,"SANOFI AVENTIS ALGERIE SPA","-",null,{"$f":"SUMIF(Tableau1[Description article],Tableau1[Produits],Tableau1[Emplacement])","v":0},null,{"$f":"Sheet1!$S138-Sheet1!$R138","v":0},"-","-","-",{"$f":"IFERROR(Tableau1[[#This Row],[THEO]]-Tableau1[[#This Row],[Qtt 2éme lot]],\"-\")","v":"-"},"-",{"$f":"IF(Tableau1[[#This Row],[2éme lot]]=\"-\",\"-\",IFERROR(IF(Q138=\"\",\"-\",INDEX(I:I,MATCH(Q138,C:C,0)+1)),\"-\"))","v":"-"},"-","-"]
[245,"MD002275","ASPEVASC 100 100MG COMP. B/30","ACIDE ACETYLSALICYLIQUE","9M244","09.11.2021","MG/EXP1",324,"MG/EXP1-A-057",null,0,null,null,79.5,"SALEM LABORATOIRES SARL","-",null,{"$f":"SUMIF(Tableau1[Description article],Tableau1[Produits],Tableau1[Emplacement])","v":0},null,{"$f":"Sheet1!$S139-Sheet1!$R139","v":0},"-","-","-",{"$f":"IFERROR(Tableau1[[#This Row],[THEO]]-Tableau1[[#This Row],[Qtt 2éme lot]],\"-\")","v":"-"},"-",{"$f":"IF(Tableau1[[#This Row],[2éme lot]]=\"-\",\"-\",IFERROR(IF(Q139=\"\",\"-\",INDEX(I:I,MATCH(Q139,C:C,0)+1)),\"-\"))","v":"-"},"-","-"]
[247,"MD003906","ASPIGAL 900 500MG/FL.PDRE. PDRE.& SOLV.P.SOL.INJ.IM.\\IV. B/01 FL.PDRE.+01 AMP.SOLV/5ML","ACETYLSALICYLATE DE LYSINE","108","28.02.2021","MG/EXP1",373,"MG/EXP1-C-013",null,0,null,null,100.98,"SOPHAL SOCIETE PHARMACEUTIQUE ALGERIENNE","-",null,{"$f":"SUMIF(Tableau1[Description article],Tableau1[Produits],Tableau1[Emplacement])","v":0},null,{"$f":"Sheet1!$S140-Sheet1!$R140","v":0},"-","-","-",{"$f":"IFERROR(Tableau1[[#This Row],[THEO]]-Tableau1[[#This Row],[Qtt 2éme lot]],\"-\")","v":"-"},"-",{"$f":"IF(Tableau1[[#This Row],[2éme lot]]=\"-\",\"-\",IFERROR(IF(Q140=\"\",\"-\",INDEX(I:I,MATCH(Q140,C:C,0)+1)),\"-\"))","v":"-"},"-","-"]
[251,"MD002274","ASPIRINE CARDIO 100MG COMP. PILUL/90","ACIDE ACETYLSALICYLIQUE","161","01.07.2021","MG/EXP1",228,"MG/EXP1-F-005",null,0,null,null,315,"BIOPHARM SPA","-",null,{"$f":"SUMIF(Tableau1[Description article],Tableau1[Produits],Tableau1[Emplacement])","v":0},null,{"$f":"Sheet1!$S141-Sheet1!$R141","v":0},"-","-","-",{"$f":"IFERROR(Tableau1[[#This Row],[THEO]]-Tableau1[[#This Row],[Qtt 2éme lot]],\"-\")","v":"-"},"-",{"$f":"IF(Tableau1[[#This Row],[2éme lot]]=\"-\",\"-\",IFERROR(IF(Q141=\"\",\"-\",INDEX(I:I,MATCH(Q141,C:C,0)+1)),\"-\"))","v":"-"},"-","-"]
[253,"MD003905","ASPIRINE UPSA VITAMINE C TAMPONNEE EFFERVESCENTE 330MG/200MG COMP.EFF. B/20","ACIDE ACETYLSALICYLIQUE+ACIDE ASCORBIQUE","E9043","01.12.2021","MG/EXP1",143,"MG/EXP1-A-016",null,0,null,null,152.95,"PROPHARMAL SPA","-",null,{"$f":"SUMIF(Tableau1[Description article],Tableau1[Produits],Tableau1[Emplacement])","v":0},null,{"$f":"Sheet1!$S142-Sheet1!$R142","v":0},"-","-","-",{"$f":"IFERROR(Tableau1[[#This Row],[THEO]]-Tableau1[[#This Row],[Qtt 2éme lot]],\"-\")","v":"-"},"-",{"$f":"IF(Tableau1[[#This Row],[2éme lot]]=\"-\",\"-\",IFERROR(IF(Q142=\"\",\"-\",INDEX(I:I,MATCH(Q142,C:C,0)+1)),\"-\"))","v":"-"},"-","-"]
[255,"MD003905","ASPIRINE UPSA VITAMINE C TAMPONNEE EFFERVESCENTE 330MG/200MG COMP.EFF. B/20","ACIDE ACETYLSALICYLIQUE+ACIDE ASCORBIQUE","20E002","01.01.2022","MG/EXP1",480,"MG/EXP1-A-015",null,0,null,null,152.95,"PROPHARMAL SPA","-",null,{"$f":"SUMIF(Tableau1[Description article],Tableau1[Produits],Tableau1[Emplacement])","v":0},null,{"$f":"Sheet1!$S143-Sheet1!$R143","v":0},"-","-","-",{"$f":"IFERROR(Tableau1[[#This Row],[THEO]]-Tableau1[[#This Row],[Qtt 2éme lot]],\"-\")","v":"-"},"-",{"$f":"IF(Tableau1[[#This Row],[2éme lot]]=\"-\",\"-\",IFERROR(IF(Q143=\"\",\"-\",INDEX(I:I,MATCH(Q143,C:C,0)+1)),\"-\"))","v":"-"},"-","-"]
[256,"MD003909","ASTHALIN 100PG/BOUFFEE SOL.INHAL.BUCC. FL/200 DSE.","SALBUTAMOL","GB91026","01.04.2021","MG/EXP1",294,"MG/EXP1-E-048",null,0,null,null,214.06,"BIOPHARM SPA","-",null,{"$f":"SUMIF(Tableau1[Description article],Tableau1[Produits],Tableau1[Emplacement])","v":0},null,{"$f":"Sheet1!$S144-Sheet1!$R144","v":0},"-","-","-",{"$f":"IFERROR(Tableau1[[#This Row],[THEO]]-Tableau1[[#This Row],[Qtt 2éme lot]],\"-\")","v":"-"},"-",{"$f":"IF(Tableau1[[#This Row],[2éme lot]]=\"-\",\"-\",IFERROR(IF(Q144=\"\",\"-\",INDEX(I:I,MATCH(Q144,C:C,0)+1)),\"-\"))","v":"-"},"-","-"]
[258,"MD003910","ASTHALIN 5MG/ML SOL.INHAL.P. NEBULISEUR FL/15ML","SALBUTAMOL","IC90792","01.08.2021","MG/EXP1",1,"MG/EXP1-D-054",null,0,null,null,177.59,"BIOPHARM SPA","-",null,{"$f":"SUMIF(Tableau1[Description article],Tableau1[Produits],Tableau1[Emplacement])","v":0},null,{"$f":"Sheet1!$S145-Sheet1!$R145","v":0},"-","-","-",{"$f":"IFERROR(Tableau1[[#This Row],[THEO]]-Tableau1[[#This Row],[Qtt 2éme lot]],\"-\")","v":"-"},"-",{"$f":"IF(Tableau1[[#This Row],[2éme lot]]=\"-\",\"-\",IFERROR(IF(Q145=\"\",\"-\",INDEX(I:I,MATCH(Q145,C:C,0)+1)),\"-\"))","v":"-"},"-","-"]
[259,"MD000017","ATABEK 16MG COMP.SEC. B/30","CANDESARTAN CILEXETIL","010519","13.02.2022","MG/EXP1",35,"MG/EXP1-BOX6-001",null,0,null,null,1287.5,"BEKER LABORATOIRES","-",null,{"$f":"SUMIF(Tableau1[Description article],Tableau1[Produits],Tableau1[Emplacement])","v":0},null,{"$f":"Sheet1!$S146-Sheet1!$R146","v":0},"-","-","-",{"$f":"IFERROR(Tableau1[[#This Row],[THEO]]-Tableau1[[#This Row],[Qtt 2éme lot]],\"-\")","v":"-"},"-",{"$f":"IF(Tableau1[[#This Row],[2éme lot]]=\"-\",\"-\",IFERROR(IF(Q146=\"\",\"-\",INDEX(I:I,MATCH(Q146,C:C,0)+1)),\"-\"))","v":"-"},"-","-"]
[261,"MD000018","ATABEK 8MG COMP.SEC. B/30","CANDESARTAN CILEXETIL","086319","01.10.2021","MG/EXP1",64,"MG/EXP1-A-060",null,0,null,null,1287.5,"BEKER LABORATOIRES","-",null,{"$f":"SUMIF(Tableau1[Description article],Tableau1[Produits],Tableau1[Emplacement])","v":0},null,{"$f":"Sheet1!$S147-Sheet1!$R147","v":0},"-","-","-",{"$f":"IFERROR(Tableau1[[#This Row],[THEO]]-Tableau1[[#This Row],[Qtt 2éme lot]],\"-\")","v":"-"},"-",{"$f":"IF(Tableau1[[#This Row],[2éme lot]]=\"-\",\"-\",IFERROR(IF(Q147=\"\",\"-\",INDEX(I:I,MATCH(Q147,C:C,0)+1)),\"-\"))","v":"-"},"-","-"]
[263,"MD000004","ATACAND 16MG COMP.SEC. B/30","CANDESARTAN CILEXETIL","032","28.02.2022","MG/EXP1",88,"MG/EXP1-BOX6-001",null,0,null,null,1287.5,"BIOPHARM SPA","-",null,{"$f":"SUMIF(Tableau1[Description article],Tableau1[Produits],Tableau1[Emplacement])","v":0},null,{"$f":"Sheet1!$S148-Sheet1!$R148","v":0},"-","-","-",{"$f":"IFERROR(Tableau1[[#This Row],[THEO]]-Tableau1[[#This Row],[Qtt 2éme lot]],\"-\")","v":"-"},"-",{"$f":"IF(Tableau1[[#This Row],[2éme lot]]=\"-\",\"-\",IFERROR(IF(Q148=\"\",\"-\",INDEX(I:I,MATCH(Q148,C:C,0)+1)),\"-\"))","v":"-"},"-","-"]
[266,"MD000006","ATACAND 8MG COMP.SEC. B/30","CANDESARTAN CILEXETIL","065*","01.02.2022","MG/EXP1",268,"MG/EXP1-C-043",null,0,null,null,1201.5,"BIOPHARM SPA","-",null,{"$f":"SUMIF(Tableau1[Description article],Tableau1[Produits],Tableau1[Emplacement])","v":0},null,{"$f":"Sheet1!$S149-Sheet1!$R149","v":0},"-","-","-",{"$f":"IFERROR(Tableau1[[#This Row],[THEO]]-Tableau1[[#This Row],[Qtt 2éme lot]],\"-\")","v":"-"},"-",{"$f":"IF(Tableau1[[#This Row],[2éme lot]]=\"-\",\"-\",IFERROR(IF(Q149=\"\",\"-\",INDEX(I:I,MATCH(Q149,C:C,0)+1)),\"-\"))","v":"-"},"-","-"]
[271,"MD000057","ATENOR 100MG COMP.SEC. B/30","ATENOLOL","028/19","01.09.2022","MG/EXP1",4,"MG/EXP1-D-021",null,0,null,null,314.9,"PHARMALLIANCE EURL","-",null,{"$f":"SUMIF(Tableau1[Description article],Tableau1[Produits],Tableau1[Emplacement])","v":0},null,{"$f":"Sheet1!$S150-Sheet1!$R150","v":0},"-","-","-",{"$f":"IFERROR(Tableau1[[#This Row],[THEO]]-Tableau1[[#This Row],[Qtt 2éme lot]],\"-\")","v":"-"},"-",{"$f":"IF(Tableau1[[#This Row],[2éme lot]]=\"-\",\"-\",IFERROR(IF(Q150=\"\",\"-\",INDEX(I:I,MATCH(Q150,C:C,0)+1)),\"-\"))","v":"-"},"-","-"]
[275,"MD000057","ATENOR 100MG COMP.SEC. B/30","ATENOLOL","026/19","01.09.2022","MG/EXP1",392,"MG/EXP1-D-020",null,0,null,null,314.9,"PHARMALLIANCE EURL","-",null,{"$f":"SUMIF(Tableau1[Description article],Tableau1[Produits],Tableau1[Emplacement])","v":0},null,{"$f":"Sheet1!$S151-Sheet1!$R151","v":0},"-","-","-",{"$f":"IFERROR(Tableau1[[#This Row],[THEO]]-Tableau1[[#This Row],[Qtt 2éme lot]],\"-\")","v":"-"},"-",{"$f":"IF(Tableau1[[#This Row],[2éme lot]]=\"-\",\"-\",IFERROR(IF(Q151=\"\",\"-\",INDEX(I:I,MATCH(Q151,C:C,0)+1)),\"-\"))","v":"-"},"-","-"]
[278,"MD000060","ATHYROZOL 5MG COMP.SEC. B/50","NEUMERCAZOLE","062***","01.12.2020","MG/EXP1",227,"MG/EXP1-D-029",null,0,null,null,194.92,"GENERICLAB SARL","-",null,{"$f":"SUMIF(Tableau1[Description article],Tableau1[Produits],Tableau1[Emplacement])","v":0},null,{"$f":"Sheet1!$S152-Sheet1!$R152","v":0},"-","-","-",{"$f":"IFERROR(Tableau1[[#This Row],[THEO]]-Tableau1[[#This Row],[Qtt 2éme lot]],\"-\")","v":"-"},"-",{"$f":"IF(Tableau1[[#This Row],[2éme lot]]=\"-\",\"-\",IFERROR(IF(Q152=\"\",\"-\",INDEX(I:I,MATCH(Q152,C:C,0)+1)),\"-\"))","v":"-"},"-","-"]
[279,"MD000061","ATOR 10MG 10MG COMP.PELLI.SEC. B/28","ATORVASTATINE","7676*","30.11.2020","MG/EXP1",49,"MG/EXP1-B-005",null,0,null,null,779.26,"INPHA MEDIS SPA","-",null,{"$f":"SUMIF(Tableau1[Description article],Tableau1[Produits],Tableau1[Emplacement])","v":0},null,{"$f":"Sheet1!$S153-Sheet1!$R153","v":0},"-","-","-",{"$f":"IFERROR(Tableau1[[#This Row],[THEO]]-Tableau1[[#This Row],[Qtt 2éme lot]],\"-\")","v":"-"},"-",{"$f":"IF(Tableau1[[#This Row],[2éme lot]]=\"-\",\"-\",IFERROR(IF(Q153=\"\",\"-\",INDEX(I:I,MATCH(Q153,C:C,0)+1)),\"-\"))","v":"-"},"-","-"]
[280,"MD000063","ATOR 40MG 40MG COMP.PELLI.SEC. B/28","ATORVASTATINE","8623*","01.12.2021","MG/EXP1",1,"MG/EXP1-BOX6-001",null,0,null,null,1845.5,"INPHA MEDIS SPA","-",null,{"$f":"SUMIF(Tableau1[Description article],Tableau1[Produits],Tableau1[Emplacement])","v":0},null,{"$f":"Sheet1!$S154-Sheet1!$R154","v":0},"-","-","-",{"$f":"IFERROR(Tableau1[[#This Row],[THEO]]-Tableau1[[#This Row],[Qtt 2éme lot]],\"-\")","v":"-"},"-",{"$f":"IF(Tableau1[[#This Row],[2éme lot]]=\"-\",\"-\",IFERROR(IF(Q154=\"\",\"-\",INDEX(I:I,MATCH(Q154,C:C,0)+1)),\"-\"))","v":"-"},"-","-"]
[282,"MD000064","ATOR 80MG COMP.PELLI. B/28","ATORVASTATINE","9003","31.01.2021","MG/EXP1",71,"MG/EXP1-BOX6-001",null,0,null,null,1901.5,"INPHA MEDIS SPA","-",null,{"$f":"SUMIF(Tableau1[Description article],Tableau1[Produits],Tableau1[Emplacement])","v":0},null,{"$f":"Sheet1!$S155-Sheet1!$R155","v":0},"-","-","-",{"$f":"IFERROR(Tableau1[[#This Row],[THEO]]-Tableau1[[#This Row],[Qtt 2éme lot]],\"-\")","v":"-"},"-",{"$f":"IF(Tableau1[[#This Row],[2éme lot]]=\"-\",\"-\",IFERROR(IF(Q155=\"\",\"-\",INDEX(I:I,MATCH(Q155,C:C,0)+1)),\"-\"))","v":"-"},"-","-"]
[284,"MD000065","ATORIN 10MG 10MG COMP.PELLI. B/30","ATORVASTATINE","027919","01.03.2021","MG/EXP1",233,"MG/EXP1-BOX6-001",null,0,null,null,835.1,"BEKER LABORATOIRES","-",null,{"$f":"SUMIF(Tableau1[Description article],Tableau1[Produits],Tableau1[Emplacement])","v":0},null,{"$f":"Sheet1!$S156-Sheet1!$R156","v":0},"-","-","-",{"$f":"IFERROR(Tableau1[[#This Row],[THEO]]-Tableau1[[#This Row],[Qtt 2éme lot]],\"-\")","v":"-"},"-",{"$f":"IF(Tableau1[[#This Row],[2éme lot]]=\"-\",\"-\",IFERROR(IF(Q156=\"\",\"-\",INDEX(I:I,MATCH(Q156,C:C,0)+1)),\"-\"))","v":"-"},"-","-"]
[285,"MD000066","ATORIN 20MG 20MG COMP.PELLI. B/30","ATORVASTATINE","030219","01.03.2021","MG/EXP1",274,"MG/EXP1-C-014",null,0,null,null,1244.89,"BEKER LABORATOIRES","-",null,{"$f":"SUMIF(Tableau1[Description article],Tableau1[Produits],Tableau1[Emplacement])","v":0},null,{"$f":"Sheet1!$S157-Sheet1!$R157","v":0},"-","-","-",{"$f":"IFERROR(Tableau1[[#This Row],[THEO]]-Tableau1[[#This Row],[Qtt 2éme lot]],\"-\")","v":"-"},"-",{"$f":"IF(Tableau1[[#This Row],[2éme lot]]=\"-\",\"-\",IFERROR(IF(Q157=\"\",\"-\",INDEX(I:I,MATCH(Q157,C:C,0)+1)),\"-\"))","v":"-"},"-","-"]
[287,"MD000068","ATORIN 40MG 40MG COMP.PELLI. B/30","ATORVASTATINE","026719","01.03.2021","MG/EXP1",158,"MG/EXP1-G-010",null,0,null,null,1977.5,"BEKER LABORATOIRES","-",null,{"$f":"SUMIF(Tableau1[Description article],Tableau1[Produits],Tableau1[Emplacement])","v":0},null,{"$f":"Sheet1!$S158-Sheet1!$R158","v":0},"-","-","-",{"$f":"IFERROR(Tableau1[[#This Row],[THEO]]-Tableau1[[#This Row],[Qtt 2éme lot]],\"-\")","v":"-"},"-",{"$f":"IF(Tableau1[[#This Row],[2éme lot]]=\"-\",\"-\",IFERROR(IF(Q158=\"\",\"-\",INDEX(I:I,MATCH(Q158,C:C,0)+1)),\"-\"))","v":"-"},"-","-"]
[288,"MD000069","ATORIN 80MG 80MG COMP.PELLI. B/30","ATORVASTATINE","025519","01.03.2021","MG/EXP1",48,"MG/EXP1-BOX6-001",null,0,null,null,2037.5,"BEKER LABORATOIRES","-",null,{"$f":"SUMIF(Tableau1[Description article],Tableau1[Produits],Tableau1[Emplacement])","v":0},null,{"$f":"Sheet1!$S159-Sheet1!$R159","v":0},"-","-","-",{"$f":"IFERROR(Tableau1[[#This Row],[THEO]]-Tableau1[[#This Row],[Qtt 2éme lot]],\"-\")","v":"-"},"-",{"$f":"IF(Tableau1[[#This Row],[2éme lot]]=\"-\",\"-\",IFERROR(IF(Q159=\"\",\"-\",INDEX(I:I,MATCH(Q159,C:C,0)+1)),\"-\"))","v":"-"},"-","-"]
[290,"MD000072","ATORVASTATINE LDM 20MG COMP.PELLI. B/30","ATORVASTATINE","9066","31.01.2021","MG/EXP1",69,"MG/EXP1-F-037",null,0,null,null,1244.9,"LDM LABORATOIRES DE DIAGNOSTIC MAGHREBINS","-",null,{"$f":"SUMIF(Tableau1[Description article],Tableau1[Produits],Tableau1[Emplacement])","v":0},null,{"$f":"Sheet1!$S160-Sheet1!$R160","v":0},"-","-","-",{"$f":"IFERROR(Tableau1[[#This Row],[THEO]]-Tableau1[[#This Row],[Qtt 2éme lot]],\"-\")","v":"-"},"-",{"$f":"IF(Tableau1[[#This Row],[2éme lot]]=\"-\",\"-\",IFERROR(IF(Q160=\"\",\"-\",INDEX(I:I,MATCH(Q160,C:C,0)+1)),\"-\"))","v":"-"},"-","-"]
[291,"MD000074","ATORVASTATINE LDM 40MG COMP.PELLI. B/30","ATORVASTATINE","9074","01.02.2021","MG/EXP1",18,"MG/EXP1-C-035",null,0,null,null,1977.5,"LDM LABORATOIRES DE DIAGNOSTIC MAGHREBINS","-",null,{"$f":"SUMIF(Tableau1[Description article],Tableau1[Produits],Tableau1[Emplacement])","v":0},null,{"$f":"Sheet1!$S161-Sheet1!$R161","v":0},"-","-","-",{"$f":"IFERROR(Tableau1[[#This Row],[THEO]]-Tableau1[[#This Row],[Qtt 2éme lot]],\"-\")","v":"-"},"-",{"$f":"IF(Tableau1[[#This Row],[2éme lot]]=\"-\",\"-\",IFERROR(IF(Q161=\"\",\"-\",INDEX(I:I,MATCH(Q161,C:C,0)+1)),\"-\"))","v":"-"},"-","-"]
[292,"MD000075","ATORVASTATINE MM 10MG COMP.PELLI. B/30","ATORVASTATINE","044","01.07.2020","MG/EXP1",46,"MG/EXP1-E-014",null,0,null,null,835.1,"MM LABORATOIRE MM SARL","-",null,{"$f":"SUMIF(Tableau1[Description article],Tableau1[Produits],Tableau1[Emplacement])","v":0},null,{"$f":"Sheet1!$S162-Sheet1!$R162","v":0},"-","-","-",{"$f":"IFERROR(Tableau1[[#This Row],[THEO]]-Tableau1[[#This Row],[Qtt 2éme lot]],\"-\")","v":"-"},"-",{"$f":"IF(Tableau1[[#This Row],[2éme lot]]=\"-\",\"-\",IFERROR(IF(Q162=\"\",\"-\",INDEX(I:I,MATCH(Q162,C:C,0)+1)),\"-\"))","v":"-"},"-","-"]
[294,"MD000077","ATRYLINE 25MG COMP.ENRO. B/60","AMITRIPTYLINE","038","01.12.2021","MG/EXP1",395,"MG/EXP1-BOX6-PSY-015",null,0,null,null,282.5,"GENERICLAB SARL","-",null,{"$f":"SUMIF(Tableau1[Description article],Tableau1[Produits],Tableau1[Emplacement])","v":0},null,{"$f":"Sheet1!$S163-Sheet1!$R163","v":0},"-","-","-",{"$f":"IFERROR(Tableau1[[#This Row],[THEO]]-Tableau1[[#This Row],[Qtt 2éme lot]],\"-\")","v":"-"},"-",{"$f":"IF(Tableau1[[#This Row],[2éme lot]]=\"-\",\"-\",IFERROR(IF(Q163=\"\",\"-\",INDEX(I:I,MATCH(Q163,C:C,0)+1)),\"-\"))","v":"-"},"-","-"]
[298,"MD000078","ATRYLINE 4% (40MG/ML) GTTES.BUV. FL/20ML COMPT.GTTES.","AMITRIPTYLINE","0085","30.08.2021","MG/EXP1",62,"MG/EXP1-BOX6-PSY-015",null,0,null,null,117.81,"GENERICLAB SARL","-",null,{"$f":"SUMIF(Tableau1[Description article],Tableau1[Produits],Tableau1[Emplacement])","v":0},null,{"$f":"Sheet1!$S164-Sheet1!$R164","v":0},"-","-","-",{"$f":"IFERROR(Tableau1[[#This Row],[THEO]]-Tableau1[[#This Row],[Qtt 2éme lot]],\"-\")","v":"-"},"-",{"$f":"IF(Tableau1[[#This Row],[2éme lot]]=\"-\",\"-\",IFERROR(IF(Q164=\"\",\"-\",INDEX(I:I,MATCH(Q164,C:C,0)+1)),\"-\"))","v":"-"},"-","-"]
[299,"MD001291","ATUSSINE ADULTES 0,2G/0,2G/100ML SRP. FL/125ML","BROMHYDRATE DEXTROMETHORPHANE MALEATE","05512","01.03.2022","MG/EXP1",3,"MG/EXP1-A-007",null,0,null,null,167.32,"UPC SARL","-",null,{"$f":"SUMIF(Tableau1[Description article],Tableau1[Produits],Tableau1[Emplacement])","v":0},null,{"$f":"Sheet1!$S165-Sheet1!$R165","v":0},"-","-","-",{"$f":"IFERROR(Tableau1[[#This Row],[THEO]]-Tableau1[[#This Row],[Qtt 2éme lot]],\"-\")","v":"-"},"-",{"$f":"IF(Tableau1[[#This Row],[2éme lot]]=\"-\",\"-\",IFERROR(IF(Q165=\"\",\"-\",INDEX(I:I,MATCH(Q165,C:C,0)+1)),\"-\"))","v":"-"},"-","-"]
[301,"MD001290","ATUSSINE ENFANTS 0,1G/0,1G/0,4G/100M L SRP. FL/125ML","BROMHYDRATE DEXTROMETHORPHANE MALEATE","04911","01.02.2022","MG/EXP1",2,"MG/EXP1-D-024",null,0,null,null,146.38,"UPC SARL","-",null,{"$f":"SUMIF(Tableau1[Description article],Tableau1[Produits],Tableau1[Emplacement])","v":0},null,{"$f":"Sheet1!$S166-Sheet1!$R166","v":0},"-","-","-",{"$f":"IFERROR(Tableau1[[#This Row],[THEO]]-Tableau1[[#This Row],[Qtt 2éme lot]],\"-\")","v":"-"},"-",{"$f":"IF(Tableau1[[#This Row],[2éme lot]]=\"-\",\"-\",IFERROR(IF(Q166=\"\",\"-\",INDEX(I:I,MATCH(Q166,C:C,0)+1)),\"-\"))","v":"-"},"-","-"]
[303,"MD000084","AUGMENTIN ADULTE 1G/125MG/SACH. PDRE.SUSP.BUV. B/12 SACH.","AMOXICILLINE  1G + ACIDE CLAVULANIQU 125","907208","01.05.2021","MG/EXP1",691,"MG/EXP1-A-013",null,0,null,null,785.57,"GlaxoSmithKline","-",null,{"$f":"SUMIF(Tableau1[Description article],Tableau1[Produits],Tableau1[Emplacement])","v":0},null,{"$f":"Sheet1!$S167-Sheet1!$R167","v":0},"-","-","-",{"$f":"IFERROR(Tableau1[[#This Row],[THEO]]-Tableau1[[#This Row],[Qtt 2éme lot]],\"-\")","v":"-"},"-",{"$f":"IF(Tableau1[[#This Row],[2éme lot]]=\"-\",\"-\",IFERROR(IF(Q167=\"\",\"-\",INDEX(I:I,MATCH(Q167,C:C,0)+1)),\"-\"))","v":"-"},"-","-"]
[305,"MD000080","AUGMENTIN ENFANT 100MG/12,5MG/ML PDRE.SUSP.BUV. B/01 FL/60ML + SERING.P.ADMINISTRA.ORA.","AMOXICILL  100MG + ACIDE CLAVULANI 12.5","903090","01.03.2021","MG/EXP1",70,"MG/EXP1-H-001",null,0,null,null,590.88,"GlaxoSmithKline","-",null,{"$f":"SUMIF(Tableau1[Description article],Tableau1[Produits],Tableau1[Emplacement])","v":0},null,{"$f":"Sheet1!$S168-Sheet1!$R168","v":0},"-","-","-",{"$f":"IFERROR(Tableau1[[#This Row],[THEO]]-Tableau1[[#This Row],[Qtt 2éme lot]],\"-\")","v":"-"},"-",{"$f":"IF(Tableau1[[#This Row],[2éme lot]]=\"-\",\"-\",IFERROR(IF(Q168=\"\",\"-\",INDEX(I:I,MATCH(Q168,C:C,0)+1)),\"-\"))","v":"-"},"-","-"]
[306,"MD000080","AUGMENTIN ENFANT 100MG/12,5MG/ML PDRE.SUSP.BUV. B/01 FL/60ML + SERING.P.ADMINISTRA.ORA.","AMOXICILL  100MG + ACIDE CLAVULANI 12.5","903089","01.03.2021","MG/EXP1",1149,"MG/EXP1-H-001",null,0,null,null,590.88,"GlaxoSmithKline","-",null,{"$f":"SUMIF(Tableau1[Description article],Tableau1[Produits],Tableau1[Emplacement])","v":0},null,{"$f":"Sheet1!$S169-Sheet1!$R169","v":0},"-","-","-",{"$f":"IFERROR(Tableau1[[#This Row],[THEO]]-Tableau1[[#This Row],[Qtt 2éme lot]],\"-\")","v":"-"},"-",{"$f":"IF(Tableau1[[#This Row],[2éme lot]]=\"-\",\"-\",IFERROR(IF(Q169=\"\",\"-\",INDEX(I:I,MATCH(Q169,C:C,0)+1)),\"-\"))","v":"-"},"-","-"]
[308,"MD000081","AUGMENTIN NOURRISSON 100MG/12,5MG/ML PDRE.SUSP.BUV. B/01 FL/30ML + SERING.P.ADMINISTRA.ORA.","AMOXICILL  100MG + ACIDE CLAVULANI 12.5","004001","01.08.2021","MG/EXP1",165,"MG/EXP1-B-048",null,0,null,null,294.2,"GlaxoSmithKline","-",null,{"$f":"SUMIF(Tableau1[Description article],Tableau1[Produits],Tableau1[Emplacement])","v":0},null,{"$f":"Sheet1!$S170-Sheet1!$R170","v":0},"-","-","-",{"$f":"IFERROR(Tableau1[[#This Row],[THEO]]-Tableau1[[#This Row],[Qtt 2éme lot]],\"-\")","v":"-"},"-",{"$f":"IF(Tableau1[[#This Row],[2éme lot]]=\"-\",\"-\",IFERROR(IF(Q170=\"\",\"-\",INDEX(I:I,MATCH(Q170,C:C,0)+1)),\"-\"))","v":"-"},"-","-"]
[309,"MD000089","AVONEX 30PG/0,5ML\\6MUI/0,5ML SOL.INJ.IM. B/04 SERING.PREREMPL/0,5ML","INTERFERON BETA 1 A","1425042","30.01.2022","MG/EXP1",8,"MG/EXP1-BOX6",null,0,null,"GLAC",81825.5,"VAPROPHARM SARL","-",null,{"$f":"SUMIF(Tableau1[Description article],Tableau1[Produits],Tableau1[Emplacement])","v":0},null,{"$f":"Sheet1!$S171-Sheet1!$R171","v":0},"-","-","-",{"$f":"IFERROR(Tableau1[[#This Row],[THEO]]-Tableau1[[#This Row],[Qtt 2éme lot]],\"-\")","v":"-"},"-",{"$f":"IF(Tableau1[[#This Row],[2éme lot]]=\"-\",\"-\",IFERROR(IF(Q171=\"\",\"-\",INDEX(I:I,MATCH(Q171,C:C,0)+1)),\"-\"))","v":"-"},"-","-"]
[310,"MD002267","AZITHRAL 500MG COMP.PELLI.SEC. B/03","AZITHROMYCINE","061004","31.01.2021","MG/EXP1",218,"MG/EXP1-F-035",null,0,null,null,545.5,"SOPHAL SOCIETE PHARMACEUTIQUE ALGERIENNE","-",null,{"$f":"SUMIF(Tableau1[Description article],Tableau1[Produits],Tableau1[Emplacement])","v":0},null,{"$f":"Sheet1!$S172-Sheet1!$R172","v":0},"-","-","-",{"$f":"IFERROR(Tableau1[[#This Row],[THEO]]-Tableau1[[#This Row],[Qtt 2éme lot]],\"-\")","v":"-"},"-",{"$f":"IF(Tableau1[[#This Row],[2éme lot]]=\"-\",\"-\",IFERROR(IF(Q172=\"\",\"-\",INDEX(I:I,MATCH(Q172,C:C,0)+1)),\"-\"))","v":"-"},"-","-"]
[311,"MD000091","AZITHROM HUP 500MG COMP.PELLI.SEC. B/03","AZITHROMYCINE","022","01.05.2022","MG/EXP1",28,"MG/EXP1-C-007",null,0,null,null,547.46,"HUP.P PHARMA SARL","-",null,{"$f":"SUMIF(Tableau1[Description article],Tableau1[Produits],Tableau1[Emplacement])","v":0},null,{"$f":"Sheet1!$S173-Sheet1!$R173","v":0},"-","-","-",{"$f":"IFERROR(Tableau1[[#This Row],[THEO]]-Tableau1[[#This Row],[Qtt 2éme lot]],\"-\")","v":"-"},"-",{"$f":"IF(Tableau1[[#This Row],[2éme lot]]=\"-\",\"-\",IFERROR(IF(Q173=\"\",\"-\",INDEX(I:I,MATCH(Q173,C:C,0)+1)),\"-\"))","v":"-"},"-","-"]
[314,"MD000092","AZITHROMYCINE BEKER 500MG COMP.PELLI.SEC. B/03","AZITHROMYCINE","074319","01.02.2022","MG/EXP1",272,"MG/EXP1-C-040",null,0,null,null,547.46,"BEKER LABORATOIRES","-",null,{"$f":"SUMIF(Tableau1[Description article],Tableau1[Produits],Tableau1[Emplacement])","v":0},null,{"$f":"Sheet1!$S174-Sheet1!$R174","v":0},"-","-","-",{"$f":"IFERROR(Tableau1[[#This Row],[THEO]]-Tableau1[[#This Row],[Qtt 2éme lot]],\"-\")","v":"-"},"-",{"$f":"IF(Tableau1[[#This Row],[2éme lot]]=\"-\",\"-\",IFERROR(IF(Q174=\"\",\"-\",INDEX(I:I,MATCH(Q174,C:C,0)+1)),\"-\"))","v":"-"},"-","-"]
[315,"MD004003","AZITHROMYCINE NS 500MG COMP.PELLI.SEC. B/03","AZITHROMYCINE","S13903","01.05.2021","MG/EXP1",248,"MG/EXP1-A-019",null,0,null,null,549.94,"PHARMIDAL SARL","-",null,{"$f":"SUMIF(Tableau1[Description article],Tableau1[Produits],Tableau1[Emplacement])","v":0},null,{"$f":"Sheet1!$S175-Sheet1!$R175","v":0},"-","-","-",{"$f":"IFERROR(Tableau1[[#This Row],[THEO]]-Tableau1[[#This Row],[Qtt 2éme lot]],\"-\")","v":"-"},"-",{"$f":"IF(Tableau1[[#This Row],[2éme lot]]=\"-\",\"-\",IFERROR(IF(Q175=\"\",\"-\",INDEX(I:I,MATCH(Q175,C:C,0)+1)),\"-\"))","v":"-"},"-","-"]
[316,"PP00479","B-CALYPTOL FL/100ML","EXTRAIT D'EUCALYPTUS","B001","01.11.2021","MG/EXP1",78,"MG/EXP1-D-003",null,0,null,null,420,"OLEA SENS laboratoire","-",null,{"$f":"SUMIF(Tableau1[Description article],Tableau1[Produits],Tableau1[Emplacement])","v":0},null,{"$f":"Sheet1!$S176-Sheet1!$R176","v":0},"-","-","-",{"$f":"IFERROR(Tableau1[[#This Row],[THEO]]-Tableau1[[#This Row],[Qtt 2éme lot]],\"-\")","v":"-"},"-",{"$f":"IF(Tableau1[[#This Row],[2éme lot]]=\"-\",\"-\",IFERROR(IF(Q176=\"\",\"-\",INDEX(I:I,MATCH(Q176,C:C,0)+1)),\"-\"))","v":"-"},"-","-"]
[318,"PP00059","BABY MASK NEW   POUR NOURRISON",null,"60J17013","31.03.2022","MG/EXP1",57,"MG/EXP1-C-061",null,0,null,null,1200,"BIOPHARM SPA","-",null,{"$f":"SUMIF(Tableau1[Description article],Tableau1[Produits],Tableau1[Emplacement])","v":0},null,{"$f":"Sheet1!$S177-Sheet1!$R177","v":0},"-","-","-",{"$f":"IFERROR(Tableau1[[#This Row],[THEO]]-Tableau1[[#This Row],[Qtt 2éme lot]],\"-\")","v":"-"},"-",{"$f":"IF(Tableau1[[#This Row],[2éme lot]]=\"-\",\"-\",IFERROR(IF(Q177=\"\",\"-\",INDEX(I:I,MATCH(Q177,C:C,0)+1)),\"-\"))","v":"-"},"-","-"]
[319,"PP00060","BABYGAZ SIROP .F/100ML (V.R)",null,"BG-1916","01.07.2022","MG/EXP1",103,"MG/EXP1-A-048",null,0,null,null,430,"MAGPHARM LABORATOIRES SARL","-",null,{"$f":"SUMIF(Tableau1[Description article],Tableau1[Produits],Tableau1[Emplacement])","v":0},null,{"$f":"Sheet1!$S178-Sheet1!$R178","v":0},"-","-","-",{"$f":"IFERROR(Tableau1[[#This Row],[THEO]]-Tableau1[[#This Row],[Qtt 2éme lot]],\"-\")","v":"-"},"-",{"$f":"IF(Tableau1[[#This Row],[2éme lot]]=\"-\",\"-\",IFERROR(IF(Q178=\"\",\"-\",INDEX(I:I,MATCH(Q178,C:C,0)+1)),\"-\"))","v":"-"},"-","-"]
[321,"MD000096","BACLON 10MG COMP. SEC B/50","BACLOFENE","BAC014","01.01.2022","MG/EXP1",27,"MG/EXP1-BOX6-PSY-015",null,0,null,null,435,"NEOMEDIC LABORATOIRE","-",null,{"$f":"SUMIF(Tableau1[Description article],Tableau1[Produits],Tableau1[Emplacement])","v":0},null,{"$f":"Sheet1!$S179-Sheet1!$R179","v":0},"-","-","-",{"$f":"IFERROR(Tableau1[[#This Row],[THEO]]-Tableau1[[#This Row],[Qtt 2éme lot]],\"-\")","v":"-"},"-",{"$f":"IF(Tableau1[[#This Row],[2éme lot]]=\"-\",\"-\",IFERROR(IF(Q179=\"\",\"-\",INDEX(I:I,MATCH(Q179,C:C,0)+1)),\"-\"))","v":"-"},"-","-"]
[322,"PP00430","BARRAD  CREME TUBE/120 ML.",null,"0065","01.04.2021","MG/EXP1",5,"MG/EXP1-G-011",null,0,null,null,458,"EXPENSIMED SARL","-",null,{"$f":"SUMIF(Tableau1[Description article],Tableau1[Produits],Tableau1[Emplacement])","v":0},null,{"$f":"Sheet1!$S180-Sheet1!$R180","v":0},"-","-","-",{"$f":"IFERROR(Tableau1[[#This Row],[THEO]]-Tableau1[[#This Row],[Qtt 2éme lot]],\"-\")","v":"-"},"-",{"$f":"IF(Tableau1[[#This Row],[2éme lot]]=\"-\",\"-\",IFERROR(IF(Q180=\"\",\"-\",INDEX(I:I,MATCH(Q180,C:C,0)+1)),\"-\"))","v":"-"},"-","-"]
[324,"MD000102","BASALOG ONE 100 IU/100ML SOL INJ PRE-FILLED PEN","INSULINE GLARGINE","BF18004656","01.09.2021","MG/EXP1",10,"MG/EXP1-BOX6",null,0,null,"GLAC",5981.18,"ABDI IBRAHIM REMED PHARMA SPA","-",null,{"$f":"SUMIF(Tableau1[Description article],Tableau1[Produits],Tableau1[Emplacement])","v":0},null,{"$f":"Sheet1!$S181-Sheet1!$R181","v":0},"-","-","-",{"$f":"IFERROR(Tableau1[[#This Row],[THEO]]-Tableau1[[#This Row],[Qtt 2éme lot]],\"-\")","v":"-"},"-",{"$f":"IF(Tableau1[[#This Row],[2éme lot]]=\"-\",\"-\",IFERROR(IF(Q181=\"\",\"-\",INDEX(I:I,MATCH(Q181,C:C,0)+1)),\"-\"))","v":"-"},"-","-"]
[327,"MD000106","BEKERDIS 40MG COMP. B/30","TELMISARTAN","076519","01.08.2022","MG/EXP1",131,"MG/EXP1-G-013",null,0,null,null,1287.5,"BEKER LABORATOIRES","-",null,{"$f":"SUMIF(Tableau1[Description article],Tableau1[Produits],Tableau1[Emplacement])","v":0},null,{"$f":"Sheet1!$S182-Sheet1!$R182","v":0},"-","-","-",{"$f":"IFERROR(Tableau1[[#This Row],[THEO]]-Tableau1[[#This Row],[Qtt 2éme lot]],\"-\")","v":"-"},"-",{"$f":"IF(Tableau1[[#This Row],[2éme lot]]=\"-\",\"-\",IFERROR(IF(Q182=\"\",\"-\",INDEX(I:I,MATCH(Q182,C:C,0)+1)),\"-\"))","v":"-"},"-","-"]
[329,"MD000107","BEKERDIS 80MG COMP. B/30","TELMISARTAN","077219","01.08.2021","MG/EXP1",101,"MG/EXP1-B-033",null,0,null,null,1287.49,"BEKER LABORATOIRES","-",null,{"$f":"SUMIF(Tableau1[Description article],Tableau1[Produits],Tableau1[Emplacement])","v":0},null,{"$f":"Sheet1!$S183-Sheet1!$R183","v":0},"-","-","-",{"$f":"IFERROR(Tableau1[[#This Row],[THEO]]-Tableau1[[#This Row],[Qtt 2éme lot]],\"-\")","v":"-"},"-",{"$f":"IF(Tableau1[[#This Row],[2éme lot]]=\"-\",\"-\",IFERROR(IF(Q183=\"\",\"-\",INDEX(I:I,MATCH(Q183,C:C,0)+1)),\"-\"))","v":"-"},"-","-"]
[331,"MD000108","BEKTAL 100MG COMP.PELLI. B/30","LOSARTAN POTASSIUM","049819","24.04.2022","MG/EXP1",239,"MG/EXP1-F-006",null,0,null,null,1287.5,"BEKER LABORATOIRES","-",null,{"$f":"SUMIF(Tableau1[Description article],Tableau1[Produits],Tableau1[Emplacement])","v":0},null,{"$f":"Sheet1!$S184-Sheet1!$R184","v":0},"-","-","-",{"$f":"IFERROR(Tableau1[[#This Row],[THEO]]-Tableau1[[#This Row],[Qtt 2éme lot]],\"-\")","v":"-"},"-",{"$f":"IF(Tableau1[[#This Row],[2éme lot]]=\"-\",\"-\",IFERROR(IF(Q184=\"\",\"-\",INDEX(I:I,MATCH(Q184,C:C,0)+1)),\"-\"))","v":"-"},"-","-"]
[332,"MD000109","BEKTAL 50MG COMP.PELLI.SEC. B/30","LOSARTAN","049119","01.04.2022","MG/EXP1",343,"MG/EXP1-D-033",null,0,null,null,1287.5,"BEKER LABORATOIRES","-",null,{"$f":"SUMIF(Tableau1[Description article],Tableau1[Produits],Tableau1[Emplacement])","v":0},null,{"$f":"Sheet1!$S185-Sheet1!$R185","v":0},"-","-","-",{"$f":"IFERROR(Tableau1[[#This Row],[THEO]]-Tableau1[[#This Row],[Qtt 2éme lot]],\"-\")","v":"-"},"-",{"$f":"IF(Tableau1[[#This Row],[2éme lot]]=\"-\",\"-\",IFERROR(IF(Q185=\"\",\"-\",INDEX(I:I,MATCH(Q185,C:C,0)+1)),\"-\"))","v":"-"},"-","-"]
[333,"PP00064","BEPANTHENE T/100G. PDE",null,"GP01EH1","31.07.2020","MG/EXP1",26,"MG/EXP1-B-034",null,0,null,null,1359.89,"BIOPHARM SPA","-",null,{"$f":"SUMIF(Tableau1[Description article],Tableau1[Produits],Tableau1[Emplacement])","v":0},null,{"$f":"Sheet1!$S186-Sheet1!$R186","v":0},"-","-","-",{"$f":"IFERROR(Tableau1[[#This Row],[THEO]]-Tableau1[[#This Row],[Qtt 2éme lot]],\"-\")","v":"-"},"-",{"$f":"IF(Tableau1[[#This Row],[2éme lot]]=\"-\",\"-\",IFERROR(IF(Q186=\"\",\"-\",INDEX(I:I,MATCH(Q186,C:C,0)+1)),\"-\"))","v":"-"},"-","-"]
[336,"MD002409","BERTOCIL 5MG/ML COLLY.SOL. FL/5ML","BETAXOLOL CHLORHYDRATE","190570","01.11.2021","MG/EXP1",206,"MG/EXP1-C-029",null,0,null,null,319.53,"AT PHARMA SPA","-",null,{"$f":"SUMIF(Tableau1[Description article],Tableau1[Produits],Tableau1[Emplacement])","v":0},null,{"$f":"Sheet1!$S187-Sheet1!$R187","v":0},"-","-","-",{"$f":"IFERROR(Tableau1[[#This Row],[THEO]]-Tableau1[[#This Row],[Qtt 2éme lot]],\"-\")","v":"-"},"-",{"$f":"IF(Tableau1[[#This Row],[2éme lot]]=\"-\",\"-\",IFERROR(IF(Q187=\"\",\"-\",INDEX(I:I,MATCH(Q187,C:C,0)+1)),\"-\"))","v":"-"},"-","-"]
[337,"PP00065","BESITEROL POMMADE 0.225% .T/30G",null,"191437","01.06.2021","MG/EXP1",189,"MG/EXP1-G-010",null,0,null,null,926.64,"EL KENDI INDUSTRIE DE MEDICAMENTS SPA","-",null,{"$f":"SUMIF(Tableau1[Description article],Tableau1[Produits],Tableau1[Emplacement])","v":0},null,{"$f":"Sheet1!$S188-Sheet1!$R188","v":0},"-","-","-",{"$f":"IFERROR(Tableau1[[#This Row],[THEO]]-Tableau1[[#This Row],[Qtt 2éme lot]],\"-\")","v":"-"},"-",{"$f":"IF(Tableau1[[#This Row],[2éme lot]]=\"-\",\"-\",IFERROR(IF(Q188=\"\",\"-\",INDEX(I:I,MATCH(Q188,C:C,0)+1)),\"-\"))","v":"-"},"-","-"]
[338,"MD004042","BETABIO 0.05% SOL BUV GTTES FLC30ML -----BIOGALENIC-----","betamethasone","007","01.02.2021","MG/EXP1",8,"MG/EXP1-C-063",null,0,null,null,167.5,"BIO-GALENIC SARL","-",null,{"$f":"SUMIF(Tableau1[Description article],Tableau1[Produits],Tableau1[Emplacement])","v":0},null,{"$f":"Sheet1!$S189-Sheet1!$R189","v":0},"-","-","-",{"$f":"IFERROR(Tableau1[[#This Row],[THEO]]-Tableau1[[#This Row],[Qtt 2éme lot]],\"-\")","v":"-"},"-",{"$f":"IF(Tableau1[[#This Row],[2éme lot]]=\"-\",\"-\",IFERROR(IF(Q189=\"\",\"-\",INDEX(I:I,MATCH(Q189,C:C,0)+1)),\"-\"))","v":"-"},"-","-"]
[340,"MD000112","BETABIO 2MG COMP.DISPERS.SEC.B/20","BETAMETHASONE","016","01.09.2021","MG/EXP1",118,"MG/EXP1-G-027",null,0,null,null,317.5,"BIO-GALENIC SARL","-",null,{"$f":"SUMIF(Tableau1[Description article],Tableau1[Produits],Tableau1[Emplacement])","v":0},null,{"$f":"Sheet1!$S190-Sheet1!$R190","v":0},"-","-","-",{"$f":"IFERROR(Tableau1[[#This Row],[THEO]]-Tableau1[[#This Row],[Qtt 2éme lot]],\"-\")","v":"-"},"-",{"$f":"IF(Tableau1[[#This Row],[2éme lot]]=\"-\",\"-\",IFERROR(IF(Q190=\"\",\"-\",INDEX(I:I,MATCH(Q190,C:C,0)+1)),\"-\"))","v":"-"},"-","-"]
[342,"MD000113","BETACROVIS 0,5MG/ML SOL.BUV.GTTES. FL/40ML","BETAMETHASONE","0125","30.10.2021","MG/EXP1",5,"MG/EXP1-A-060",null,0,null,null,202.17,"GENERICLAB SARL","-",null,{"$f":"SUMIF(Tableau1[Description article],Tableau1[Produits],Tableau1[Emplacement])","v":0},null,{"$f":"Sheet1!$S191-Sheet1!$R191","v":0},"-","-","-",{"$f":"IFERROR(Tableau1[[#This Row],[THEO]]-Tableau1[[#This Row],[Qtt 2éme lot]],\"-\")","v":"-"},"-",{"$f":"IF(Tableau1[[#This Row],[2éme lot]]=\"-\",\"-\",IFERROR(IF(Q191=\"\",\"-\",INDEX(I:I,MATCH(Q191,C:C,0)+1)),\"-\"))","v":"-"},"-","-"]
[343,"MD000113","BETACROVIS 0,5MG/ML SOL.BUV.GTTES. FL/40ML","BETAMETHASONE","0128","01.11.2021","MG/EXP1",297,"MG/EXP1-A-010",null,0,null,null,202.17,"GENERICLAB SARL","-",null,{"$f":"SUMIF(Tableau1[Description article],Tableau1[Produits],Tableau1[Emplacement])","v":0},null,{"$f":"Sheet1!$S192-Sheet1!$R192","v":0},"-","-","-",{"$f":"IFERROR(Tableau1[[#This Row],[THEO]]-Tableau1[[#This Row],[Qtt 2éme lot]],\"-\")","v":"-"},"-",{"$f":"IF(Tableau1[[#This Row],[2éme lot]]=\"-\",\"-\",IFERROR(IF(Q192=\"\",\"-\",INDEX(I:I,MATCH(Q192,C:C,0)+1)),\"-\"))","v":"-"},"-","-"]
[345,"MD000114","BETACYL 0,05G%/3G% PDE.DERM. T/15G","BETAMETHASONE/ACIDE SALICYLIQUE","792","01.12.2022","MG/EXP1",315,"MG/EXP1-E-002",null,0,null,null,116.45,"SAIDAL UNITE CENTRE","-",null,{"$f":"SUMIF(Tableau1[Description article],Tableau1[Produits],Tableau1[Emplacement])","v":0},null,{"$f":"Sheet1!$S193-Sheet1!$R193","v":0},"-","-","-",{"$f":"IFERROR(Tableau1[[#This Row],[THEO]]-Tableau1[[#This Row],[Qtt 2éme lot]],\"-\")","v":"-"},"-",{"$f":"IF(Tableau1[[#This Row],[2éme lot]]=\"-\",\"-\",IFERROR(IF(Q193=\"\",\"-\",INDEX(I:I,MATCH(Q193,C:C,0)+1)),\"-\"))","v":"-"},"-","-"]
[346,"MD002298","BETAHIST 24MG COMP. B/60","BETAHISTINE","192403/FAB","01.09.2021","MG/EXP1",24,"MG/EXP1-G-001",null,0,null,null,925.75,"S.A.N.A.M.E.D",{"$f":"IFERROR(IF(Q194=\"\",\"-\",INDEX(I:I,MATCH(Q194,C:C,0))),\"-\")","v":"-"},null,{"$f":"SUMIF(Tableau1[Description article],Tableau1[Produits],Tableau1[Emplacement])","v":0},null,{"$f":"Sheet1!$S194-Sheet1!$R194","v":0},{"$f":"IFERROR(IF(Q194=\"\",\"-\",INDEX(F:F,MATCH(Q194,C:C,0))),\"-\")","v":"-"},{"$f":"IFERROR(IF(Q194=\"\",\"-\",INDEX(E:E,MATCH(Q194,C:C,0))),\"-\")","v":"-"},{"$f":"IFERROR(IF(Q194=\"\",\"-\",INDEX(N:N,MATCH(Q194,C:C,0))),\"-\")","v":"-"},{"$f":"IFERROR(Tableau1[[#This Row],[THEO]]-Tableau1[[#This Row],[Qtt 2éme lot]],\"-\")","v":"-"},{"$f":"IF(IF(Q194=\"\",\"-\",INDEX(E:E,MATCH(Q194,C:C,0)))=IF(Q194=\"\",\"-\",INDEX(E:E,MATCH(Q194,C:C,1))),\"-\",IF(Q194=\"\",\"-\",INDEX(E:E,MATCH(Q194,C:C,1))))","v":"-"},{"$f":"IF(Tableau1[[#This Row],[2éme lot]]=\"-\",\"-\",IFERROR(IF(Q194=\"\",\"-\",INDEX(I:I,MATCH(Q194,C:C,0)+1)),\"-\"))","v":"-"},{"$f":"IFERROR(IF(Y194=\"\",\"-\",INDEX(N:N,MATCH(Y194,E:E,0))),\"-\")","v":"-"},{"$f":"IFERROR(IF(AA194=\"\",\"-\",INDEX(H:H,MATCH(Y194,E:E,0))),\"-\")","v":"-"}]
[348,"MD000117","BETAMETHASONE 0.05% POMMADE -*SAIDAL*- T/15G","BETAMETHASONE","978*","01.12.2022","MG/EXP1",883,"MG/EXP1-F-060",null,0,null,null,117.5,"SAIDAL UNITE CENTRE","-",null,{"$f":"SUMIF(Tableau1[Description article],Tableau1[Produits],Tableau1[Emplacement])","v":0},null,{"$f":"Sheet1!$S195-Sheet1!$R195","v":0},"-","-","-",{"$f":"IFERROR(Tableau1[[#This Row],[THEO]]-Tableau1[[#This Row],[Qtt 2éme lot]],\"-\")","v":"-"},"-",{"$f":"IF(Tableau1[[#This Row],[2éme lot]]=\"-\",\"-\",IFERROR(IF(Q195=\"\",\"-\",INDEX(I:I,MATCH(Q195,C:C,0)+1)),\"-\"))","v":"-"},"-","-"]
[350,"MD002345","BETAPROSONE 0,05% PDE.DERM. T/15G","BETAMETHASONE DIPROPIONATE EXPRIME EN BETAMETHASONE","0446","01.02.2022","MG/EXP1",162,"MG/EXP1-C-001",null,0,null,null,139.91,"PHARMAGHREB","-",null,{"$f":"SUMIF(Tableau1[Description article],Tableau1[Produits],Tableau1[Emplacement])","v":0},null,{"$f":"Sheet1!$S196-Sheet1!$R196","v":0},"-","-","-",{"$f":"IFERROR(Tableau1[[#This Row],[THEO]]-Tableau1[[#This Row],[Qtt 2éme lot]],\"-\")","v":"-"},"-",{"$f":"IF(Tableau1[[#This Row],[2éme lot]]=\"-\",\"-\",IFERROR(IF(Q196=\"\",\"-\",INDEX(I:I,MATCH(Q196,C:C,0)+1)),\"-\"))","v":"-"},"-","-"]
[352,"MD000119","BETASERC 24MG COMP. B/60","BETAHISTINE","9278","31.08.2022","MG/EXP1",182,"MG/EXP1-B-003",null,0,null,null,1011.48,"LDM LABORATOIRES DE DIAGNOSTIC MAGHREBINS","-",null,{"$f":"SUMIF(Tableau1[Description article],Tableau1[Produits],Tableau1[Emplacement])","v":0},null,{"$f":"Sheet1!$S197-Sheet1!$R197","v":0},"-","-","-",{"$f":"IFERROR(Tableau1[[#This Row],[THEO]]-Tableau1[[#This Row],[Qtt 2éme lot]],\"-\")","v":"-"},"-",{"$f":"IF(Tableau1[[#This Row],[2éme lot]]=\"-\",\"-\",IFERROR(IF(Q197=\"\",\"-\",INDEX(I:I,MATCH(Q197,C:C,0)+1)),\"-\"))","v":"-"},"-","-"]
[353,"MD000118","BETASONE 0,1% PDE.DERM. T/15G","BETAMETHASONE","022","01.11.2022","MG/EXP1",800,"MG/EXP1-A-051",null,0,null,null,147.5,"SAIDAL UNITE CENTRE","-",null,{"$f":"SUMIF(Tableau1[Description article],Tableau1[Produits],Tableau1[Emplacement])","v":0},null,{"$f":"Sheet1!$S198-Sheet1!$R198","v":0},"-","-","-",{"$f":"IFERROR(Tableau1[[#This Row],[THEO]]-Tableau1[[#This Row],[Qtt 2éme lot]],\"-\")","v":"-"},"-",{"$f":"IF(Tableau1[[#This Row],[2éme lot]]=\"-\",\"-\",IFERROR(IF(Q198=\"\",\"-\",INDEX(I:I,MATCH(Q198,C:C,0)+1)),\"-\"))","v":"-"},"-","-"]
[355,"MD003967","BETASTENE 0.05% SOLUTION BUVABLE","BETAMETHASONE 0.5MG/ML","18001","01.05.2020","MG/EXP1",79,"MG/EXP1-C-046",null,0,null,null,150.04,"AFRO PHARM SPA","-",null,{"$f":"SUMIF(Tableau1[Description article],Tableau1[Produits],Tableau1[Emplacement])","v":0},null,{"$f":"Sheet1!$S199-Sheet1!$R199","v":0},"-","-","-",{"$f":"IFERROR(Tableau1[[#This Row],[THEO]]-Tableau1[[#This Row],[Qtt 2éme lot]],\"-\")","v":"-"},"-",{"$f":"IF(Tableau1[[#This Row],[2éme lot]]=\"-\",\"-\",IFERROR(IF(Q199=\"\",\"-\",INDEX(I:I,MATCH(Q199,C:C,0)+1)),\"-\"))","v":"-"},"-","-"]
[356,"PP00481","BEXERYL CR. T/200G","GLYCEROL / VASELINE / PARAFFINE LIQUIDE","DEX001","01.11.2022","MG/EXP1",4,"MG/EXP1-F-003",null,0,null,null,595,"OLEA SENS laboratoire","-",null,{"$f":"SUMIF(Tableau1[Description article],Tableau1[Produits],Tableau1[Emplacement])","v":0},null,{"$f":"Sheet1!$S200-Sheet1!$R200","v":0},"-","-","-",{"$f":"IFERROR(Tableau1[[#This Row],[THEO]]-Tableau1[[#This Row],[Qtt 2éme lot]],\"-\")","v":"-"},"-",{"$f":"IF(Tableau1[[#This Row],[2éme lot]]=\"-\",\"-\",IFERROR(IF(Q200=\"\",\"-\",INDEX(I:I,MATCH(Q200,C:C,0)+1)),\"-\"))","v":"-"},"-","-"]
[357,"MD000123","BIAFINE 0,670G/100G EMULS.P.APPL.CUT. T/186G (200ML)","TROLAMINE","2899VA","01.09.2022","MG/EXP1",321,"MG/EXP1-H-001",null,0,null,null,524.52,"E.P.DIS EURAPHARMA SPA","-",null,{"$f":"SUMIF(Tableau1[Description article],Tableau1[Produits],Tableau1[Emplacement])","v":0},null,{"$f":"Sheet1!$S201-Sheet1!$R201","v":0},"-","-","-",{"$f":"IFERROR(Tableau1[[#This Row],[THEO]]-Tableau1[[#This Row],[Qtt 2éme lot]],\"-\")","v":"-"},"-",{"$f":"IF(Tableau1[[#This Row],[2éme lot]]=\"-\",\"-\",IFERROR(IF(Q201=\"\",\"-\",INDEX(I:I,MATCH(Q201,C:C,0)+1)),\"-\"))","v":"-"},"-","-"]
[362,"MD000126","BILAXTEN 20MG COMP.SEC. B/10","BILASTINE","05314","01.07.2022","MG/EXP1",172,"MG/EXP1-C-044",null,0,null,null,496.32,"HIKMA PHARMA ALGERIA SARL","-",null,{"$f":"SUMIF(Tableau1[Description article],Tableau1[Produits],Tableau1[Emplacement])","v":0},null,{"$f":"Sheet1!$S202-Sheet1!$R202","v":0},"-","-","-",{"$f":"IFERROR(Tableau1[[#This Row],[THEO]]-Tableau1[[#This Row],[Qtt 2éme lot]],\"-\")","v":"-"},"-",{"$f":"IF(Tableau1[[#This Row],[2éme lot]]=\"-\",\"-\",IFERROR(IF(Q202=\"\",\"-\",INDEX(I:I,MATCH(Q202,C:C,0)+1)),\"-\"))","v":"-"},"-","-"]
[364,"MD003963","BILAXTEN 20MG COMP.SEC. B/20","BILASTINE","05350","01.08.2022","MG/EXP1",129,"MG/EXP1-A-059",null,0,null,null,998.5,"HIKMA PHARMA ALGERIA SARL","-",null,{"$f":"SUMIF(Tableau1[Description article],Tableau1[Produits],Tableau1[Emplacement])","v":0},null,{"$f":"Sheet1!$S203-Sheet1!$R203","v":0},"-","-","-",{"$f":"IFERROR(Tableau1[[#This Row],[THEO]]-Tableau1[[#This Row],[Qtt 2éme lot]],\"-\")","v":"-"},"-",{"$f":"IF(Tableau1[[#This Row],[2éme lot]]=\"-\",\"-\",IFERROR(IF(Q203=\"\",\"-\",INDEX(I:I,MATCH(Q203,C:C,0)+1)),\"-\"))","v":"-"},"-","-"]
[365,"MD000127","BINOZYT 200MG/5ML PDRE.SOL.BUV. FL/15ML","AZITHROMYCINE 200MG/5ML","JR4402","31.03.2022","MG/EXP1",12,"MG/EXP1-B-060",null,0,null,null,594,"SANDOZ SPA","-",null,{"$f":"SUMIF(Tableau1[Description article],Tableau1[Produits],Tableau1[Emplacement])","v":0},null,{"$f":"Sheet1!$S204-Sheet1!$R204","v":0},"-","-","-",{"$f":"IFERROR(Tableau1[[#This Row],[THEO]]-Tableau1[[#This Row],[Qtt 2éme lot]],\"-\")","v":"-"},"-",{"$f":"IF(Tableau1[[#This Row],[2éme lot]]=\"-\",\"-\",IFERROR(IF(Q204=\"\",\"-\",INDEX(I:I,MATCH(Q204,C:C,0)+1)),\"-\"))","v":"-"},"-","-"]
[366,"MD000129","BINOZYT 500MG COMP.ENRO. B/03","AZITHROMYCINE","JH8868*","31.10.2021","MG/EXP1",105,"MG/EXP1-A-017",null,0,null,null,547.27,"SANDOZ SPA","-",null,{"$f":"SUMIF(Tableau1[Description article],Tableau1[Produits],Tableau1[Emplacement])","v":0},null,{"$f":"Sheet1!$S205-Sheet1!$R205","v":0},"-","-","-",{"$f":"IFERROR(Tableau1[[#This Row],[THEO]]-Tableau1[[#This Row],[Qtt 2éme lot]],\"-\")","v":"-"},"-",{"$f":"IF(Tableau1[[#This Row],[2éme lot]]=\"-\",\"-\",IFERROR(IF(Q205=\"\",\"-\",INDEX(I:I,MATCH(Q205,C:C,0)+1)),\"-\"))","v":"-"},"-","-"]
[367,"PP00347","BIO POUX SHAMPOING",null,"SB004","01.09.2021","MG/EXP1",34,"MG/EXP1-B-047",null,0,null,null,680,"DERMO SENS SARL","-",null,{"$f":"SUMIF(Tableau1[Description article],Tableau1[Produits],Tableau1[Emplacement])","v":0},null,{"$f":"Sheet1!$S206-Sheet1!$R206","v":0},"-","-","-",{"$f":"IFERROR(Tableau1[[#This Row],[THEO]]-Tableau1[[#This Row],[Qtt 2éme lot]],\"-\")","v":"-"},"-",{"$f":"IF(Tableau1[[#This Row],[2éme lot]]=\"-\",\"-\",IFERROR(IF(Q206=\"\",\"-\",INDEX(I:I,MATCH(Q206,C:C,0)+1)),\"-\"))","v":"-"},"-","-"]
[368,"PP00342","BIOCADE SHAMPOING -FLC/200 ML",null,"SC003","01.01.2021","MG/EXP1",91,"MG/EXP1-D-028",null,0,null,null,780,"DERMO SENS SARL","-",null,{"$f":"SUMIF(Tableau1[Description article],Tableau1[Produits],Tableau1[Emplacement])","v":0},null,{"$f":"Sheet1!$S207-Sheet1!$R207","v":0},"-","-","-",{"$f":"IFERROR(Tableau1[[#This Row],[THEO]]-Tableau1[[#This Row],[Qtt 2éme lot]],\"-\")","v":"-"},"-",{"$f":"IF(Tableau1[[#This Row],[2éme lot]]=\"-\",\"-\",IFERROR(IF(Q207=\"\",\"-\",INDEX(I:I,MATCH(Q207,C:C,0)+1)),\"-\"))","v":"-"},"-","-"]
[369,"MD000136","BIOCLAV 8:1 1G/125MG/SACH. PDRE.SUSP.BUV. B/12 SACH.","AMOXICILLINE  1G + ACIDE CLAVULANIQU 125","59718303","01.11.2020","MG/EXP1",83,"MG/EXP1-A-001",null,0,null,null,737.35,"BIOCARE SARL","-",null,{"$f":"SUMIF(Tableau1[Description article],Tableau1[Produits],Tableau1[Emplacement])","v":0},null,{"$f":"Sheet1!$S208-Sheet1!$R208","v":0},"-","-","-",{"$f":"IFERROR(Tableau1[[#This Row],[THEO]]-Tableau1[[#This Row],[Qtt 2éme lot]],\"-\")","v":"-"},"-",{"$f":"IF(Tableau1[[#This Row],[2éme lot]]=\"-\",\"-\",IFERROR(IF(Q208=\"\",\"-\",INDEX(I:I,MATCH(Q208,C:C,0)+1)),\"-\"))","v":"-"},"-","-"]
[371,"MD000137","BIOCLAV 8:1 500MG/62,5MG PDRE.SUSP.BUV. B/12 SACH.","AMOXICILL  500MG + ACIDE CLAVULANI 62","5801911*","01.08.2020","MG/EXP1",150,"MG/EXP1-C-015",null,0,null,null,390.14,"BIOCARE SARL","-",null,{"$f":"SUMIF(Tableau1[Description article],Tableau1[Produits],Tableau1[Emplacement])","v":0},null,{"$f":"Sheet1!$S209-Sheet1!$R209","v":0},"-","-","-",{"$f":"IFERROR(Tableau1[[#This Row],[THEO]]-Tableau1[[#This Row],[Qtt 2éme lot]],\"-\")","v":"-"},"-",{"$f":"IF(Tableau1[[#This Row],[2éme lot]]=\"-\",\"-\",IFERROR(IF(Q209=\"\",\"-\",INDEX(I:I,MATCH(Q209,C:C,0)+1)),\"-\"))","v":"-"},"-","-"]
[372,"MD000137","BIOCLAV 8:1 500MG/62,5MG PDRE.SUSP.BUV. B/12 SACH.","AMOXICILL  500MG + ACIDE CLAVULANI 62","5801911","01.08.2020","MG/EXP1",1,"MG/EXP1-C-015",null,0,null,null,390.14,"BIOCARE SARL","-",null,{"$f":"SUMIF(Tableau1[Description article],Tableau1[Produits],Tableau1[Emplacement])","v":0},null,{"$f":"Sheet1!$S210-Sheet1!$R210","v":0},"-","-","-",{"$f":"IFERROR(Tableau1[[#This Row],[THEO]]-Tableau1[[#This Row],[Qtt 2éme lot]],\"-\")","v":"-"},"-",{"$f":"IF(Tableau1[[#This Row],[2éme lot]]=\"-\",\"-\",IFERROR(IF(Q210=\"\",\"-\",INDEX(I:I,MATCH(Q210,C:C,0)+1)),\"-\"))","v":"-"},"-","-"]
[375,"MD002331","BIOCLAV ADULTES 8:1 500MG/62,5MG COMP.PELLI. B/16","AMOXICILLINE  TRIHYD+ ACIDE CLAVULANIQUE","5661924","01.08.2021","MG/EXP1",38,"MG/EXP1-F-009",null,0,null,null,522.72,"BIOCARE SARL","-",null,{"$f":"SUMIF(Tableau1[Description article],Tableau1[Produits],Tableau1[Emplacement])","v":0},null,{"$f":"Sheet1!$S211-Sheet1!$R211","v":0},"-","-","-",{"$f":"IFERROR(Tableau1[[#This Row],[THEO]]-Tableau1[[#This Row],[Qtt 2éme lot]],\"-\")","v":"-"},"-",{"$f":"IF(Tableau1[[#This Row],[2éme lot]]=\"-\",\"-\",IFERROR(IF(Q211=\"\",\"-\",INDEX(I:I,MATCH(Q211,C:C,0)+1)),\"-\"))","v":"-"},"-","-"]
[376,"MD000138","BIODAZOLE 500MG COMP.PELLI. B/20","METRONIDAZOLE","034","01.02.2021","MG/EXP1",205,"MG/EXP1-E-044",null,0,null,null,173.29,"BIOPHARM SPA","-",null,{"$f":"SUMIF(Tableau1[Description article],Tableau1[Produits],Tableau1[Emplacement])","v":0},null,{"$f":"Sheet1!$S212-Sheet1!$R212","v":0},"-","-","-",{"$f":"IFERROR(Tableau1[[#This Row],[THEO]]-Tableau1[[#This Row],[Qtt 2éme lot]],\"-\")","v":"-"},"-",{"$f":"IF(Tableau1[[#This Row],[2éme lot]]=\"-\",\"-\",IFERROR(IF(Q212=\"\",\"-\",INDEX(I:I,MATCH(Q212,C:C,0)+1)),\"-\"))","v":"-"},"-","-"]
[378,"MD000139","BIOFENAC 0,01 GEL DERM. T/50G","DICLOFENAC","936","01.08.2022","MG/EXP1",70,"MG/EXP1-A-022",null,0,null,null,152.95,"BIOPHARM SPA","-",null,{"$f":"SUMIF(Tableau1[Description article],Tableau1[Produits],Tableau1[Emplacement])","v":0},null,{"$f":"Sheet1!$S213-Sheet1!$R213","v":0},"-","-","-",{"$f":"IFERROR(Tableau1[[#This Row],[THEO]]-Tableau1[[#This Row],[Qtt 2éme lot]],\"-\")","v":"-"},"-",{"$f":"IF(Tableau1[[#This Row],[2éme lot]]=\"-\",\"-\",IFERROR(IF(Q213=\"\",\"-\",INDEX(I:I,MATCH(Q213,C:C,0)+1)),\"-\"))","v":"-"},"-","-"]
[382,"MD000143","BIOFENAC 100MG COMP.PELLI.LP. B/20","DICLOFENAC","031","01.03.2021","MG/EXP1",609,"MG/EXP1-A-050",null,0,null,null,278.49,"BIOPHARM SPA","-",null,{"$f":"SUMIF(Tableau1[Description article],Tableau1[Produits],Tableau1[Emplacement])","v":0},null,{"$f":"Sheet1!$S214-Sheet1!$R214","v":0},"-","-","-",{"$f":"IFERROR(Tableau1[[#This Row],[THEO]]-Tableau1[[#This Row],[Qtt 2éme lot]],\"-\")","v":"-"},"-",{"$f":"IF(Tableau1[[#This Row],[2éme lot]]=\"-\",\"-\",IFERROR(IF(Q214=\"\",\"-\",INDEX(I:I,MATCH(Q214,C:C,0)+1)),\"-\"))","v":"-"},"-","-"]
[384,"MD000140","BIOFENAC 100MG SUPP. B/10","DICLOFENAC","340","01.04.2022","MG/EXP1",228,"MG/EXP1-B-010",null,0,null,null,107.4,"BIOPHARM SPA","-",null,{"$f":"SUMIF(Tableau1[Description article],Tableau1[Produits],Tableau1[Emplacement])","v":0},null,{"$f":"Sheet1!$S215-Sheet1!$R215","v":0},"-","-","-",{"$f":"IFERROR(Tableau1[[#This Row],[THEO]]-Tableau1[[#This Row],[Qtt 2éme lot]],\"-\")","v":"-"},"-",{"$f":"IF(Tableau1[[#This Row],[2éme lot]]=\"-\",\"-\",IFERROR(IF(Q215=\"\",\"-\",INDEX(I:I,MATCH(Q215,C:C,0)+1)),\"-\"))","v":"-"},"-","-"]
[386,"MD000141","BIOFENAC 50MG COMP.PELLI.GASTRORESIST B/30","DICLOFENAC","039*","30.08.2020","MG/EXP1",49,"MG/EXP1-B-007",null,0,null,null,178.5,"BIOPHARM SPA","-",null,{"$f":"SUMIF(Tableau1[Description article],Tableau1[Produits],Tableau1[Emplacement])","v":0},null,{"$f":"Sheet1!$S216-Sheet1!$R216","v":0},"-","-","-",{"$f":"IFERROR(Tableau1[[#This Row],[THEO]]-Tableau1[[#This Row],[Qtt 2éme lot]],\"-\")","v":"-"},"-",{"$f":"IF(Tableau1[[#This Row],[2éme lot]]=\"-\",\"-\",IFERROR(IF(Q216=\"\",\"-\",INDEX(I:I,MATCH(Q216,C:C,0)+1)),\"-\"))","v":"-"},"-","-"]
[390,"MD003959","BIOFENAC FAST 50 MG SACHETS.B/10","DICLOFENAC POTASSIQUE","014","01.07.2021","MG/EXP1",41,"MG/EXP1-C-065",null,0,null,null,293.5,"BIOPHARM SPA","-",null,{"$f":"SUMIF(Tableau1[Description article],Tableau1[Produits],Tableau1[Emplacement])","v":0},null,{"$f":"Sheet1!$S217-Sheet1!$R217","v":0},"-","-","-",{"$f":"IFERROR(Tableau1[[#This Row],[THEO]]-Tableau1[[#This Row],[Qtt 2éme lot]],\"-\")","v":"-"},"-",{"$f":"IF(Tableau1[[#This Row],[2éme lot]]=\"-\",\"-\",IFERROR(IF(Q217=\"\",\"-\",INDEX(I:I,MATCH(Q217,C:C,0)+1)),\"-\"))","v":"-"},"-","-"]
[391,"MD000142","BIOFENAC LP 75MG COMP.PELLI.LP. B/30","DICLOFENAC DE SODIUM","085","01.10.2020","MG/EXP1",117,"MG/EXP1-D-017",null,0,null,null,365.1,"BIOPHARM SPA","-",null,{"$f":"SUMIF(Tableau1[Description article],Tableau1[Produits],Tableau1[Emplacement])","v":0},null,{"$f":"Sheet1!$S218-Sheet1!$R218","v":0},"-","-","-",{"$f":"IFERROR(Tableau1[[#This Row],[THEO]]-Tableau1[[#This Row],[Qtt 2éme lot]],\"-\")","v":"-"},"-",{"$f":"IF(Tableau1[[#This Row],[2éme lot]]=\"-\",\"-\",IFERROR(IF(Q218=\"\",\"-\",INDEX(I:I,MATCH(Q218,C:C,0)+1)),\"-\"))","v":"-"},"-","-"]
[394,"MD004137","BIOFORGE 05/80 MG  COMP.PELLI. B/30","AMLODIPINE/VALSARTAN","851802*","01.08.2020","MG/EXP1",722,"MG/EXP1-E-005",null,0,null,null,1497.49,"BIOCARE SARL","-",null,{"$f":"SUMIF(Tableau1[Description article],Tableau1[Produits],Tableau1[Emplacement])","v":0},null,{"$f":"Sheet1!$S219-Sheet1!$R219","v":0},"-","-","-",{"$f":"IFERROR(Tableau1[[#This Row],[THEO]]-Tableau1[[#This Row],[Qtt 2éme lot]],\"-\")","v":"-"},"-",{"$f":"IF(Tableau1[[#This Row],[2éme lot]]=\"-\",\"-\",IFERROR(IF(Q219=\"\",\"-\",INDEX(I:I,MATCH(Q219,C:C,0)+1)),\"-\"))","v":"-"},"-","-"]
[396,"PP00411","BIOGEL GEL GINGIVAL","PREMIERE POUSSEE DENTAIRE","BG001*","01.10.2020","MG/EXP1",16,"MG/EXP1-F-031",null,0,null,null,380,"DERMO SENS SARL","-",null,{"$f":"SUMIF(Tableau1[Description article],Tableau1[Produits],Tableau1[Emplacement])","v":0},null,{"$f":"Sheet1!$S220-Sheet1!$R220","v":0},"-","-","-",{"$f":"IFERROR(Tableau1[[#This Row],[THEO]]-Tableau1[[#This Row],[Qtt 2éme lot]],\"-\")","v":"-"},"-",{"$f":"IF(Tableau1[[#This Row],[2éme lot]]=\"-\",\"-\",IFERROR(IF(Q220=\"\",\"-\",INDEX(I:I,MATCH(Q220,C:C,0)+1)),\"-\"))","v":"-"},"-","-"]
[397,"MD004100","BIOLAM 100MG COMP.DISPER. B/30","LAMOTRIGINE","7611801","01.06.2020","MG/EXP1",141,"MG/EXP1-BOX6-PSY-016",null,0,null,"PSY",1997.5,"BIOCARE SARL","-",null,{"$f":"SUMIF(Tableau1[Description article],Tableau1[Produits],Tableau1[Emplacement])","v":0},null,{"$f":"Sheet1!$S221-Sheet1!$R221","v":0},"-","-","-",{"$f":"IFERROR(Tableau1[[#This Row],[THEO]]-Tableau1[[#This Row],[Qtt 2éme lot]],\"-\")","v":"-"},"-",{"$f":"IF(Tableau1[[#This Row],[2éme lot]]=\"-\",\"-\",IFERROR(IF(Q221=\"\",\"-\",INDEX(I:I,MATCH(Q221,C:C,0)+1)),\"-\"))","v":"-"},"-","-"]
[398,"MD004101","BIOLAM 25MG COMP.DISPER. B/30","LAMOTRIGINE","7471801","01.06.2020","MG/EXP1",41,"MG/EXP1-BOX6-PSY-015",null,0,null,"PSY",851.9,"BIOCARE SARL","-",null,{"$f":"SUMIF(Tableau1[Description article],Tableau1[Produits],Tableau1[Emplacement])","v":0},null,{"$f":"Sheet1!$S222-Sheet1!$R222","v":0},"-","-","-",{"$f":"IFERROR(Tableau1[[#This Row],[THEO]]-Tableau1[[#This Row],[Qtt 2éme lot]],\"-\")","v":"-"},"-",{"$f":"IF(Tableau1[[#This Row],[2éme lot]]=\"-\",\"-\",IFERROR(IF(Q222=\"\",\"-\",INDEX(I:I,MATCH(Q222,C:C,0)+1)),\"-\"))","v":"-"},"-","-"]
[399,"MD002332","BIOLECT 1MG COMP. B/30","RASAGILINE MESILATE","002","01.04.2020","MG/EXP1",2,"MG/EXP1-BOX6-PSY-016",null,0,null,"CHER",5228.65,"BIOPHARM SPA","-",null,{"$f":"SUMIF(Tableau1[Description article],Tableau1[Produits],Tableau1[Emplacement])","v":0},null,{"$f":"Sheet1!$S223-Sheet1!$R223","v":0},"-","-","-",{"$f":"IFERROR(Tableau1[[#This Row],[THEO]]-Tableau1[[#This Row],[Qtt 2éme lot]],\"-\")","v":"-"},"-",{"$f":"IF(Tableau1[[#This Row],[2éme lot]]=\"-\",\"-\",IFERROR(IF(Q223=\"\",\"-\",INDEX(I:I,MATCH(Q223,C:C,0)+1)),\"-\"))","v":"-"},"-","-"]
[400,"PP00070","BIOLUTEINA COMP .B/60 - COMPL ALIMENTAIRE -",null,"1901062","31.12.2020","MG/EXP1",10,"MG/EXP1-BOX6",null,0,null,"CHER",3624.4,"E.P.DIS EURAPHARMA SPA","-",null,{"$f":"SUMIF(Tableau1[Description article],Tableau1[Produits],Tableau1[Emplacement])","v":0},null,{"$f":"Sheet1!$S224-Sheet1!$R224","v":0},"-","-","-",{"$f":"IFERROR(Tableau1[[#This Row],[THEO]]-Tableau1[[#This Row],[Qtt 2éme lot]],\"-\")","v":"-"},"-",{"$f":"IF(Tableau1[[#This Row],[2éme lot]]=\"-\",\"-\",IFERROR(IF(Q224=\"\",\"-\",INDEX(I:I,MATCH(Q224,C:C,0)+1)),\"-\"))","v":"-"},"-","-"]
[402,"MD004152","BIOMLA 5% CREME T/30G","LIDOCAINE/PRILLOCAINE","020","22.05.2021","MG/EXP1",88,"MG/EXP1-BOX6-002",null,0,null,null,1098.5,"BIOPHARM SPA","-",null,{"$f":"SUMIF(Tableau1[Description article],Tableau1[Produits],Tableau1[Emplacement])","v":0},null,{"$f":"Sheet1!$S225-Sheet1!$R225","v":0},"-","-","-",{"$f":"IFERROR(Tableau1[[#This Row],[THEO]]-Tableau1[[#This Row],[Qtt 2éme lot]],\"-\")","v":"-"},"-",{"$f":"IF(Tableau1[[#This Row],[2éme lot]]=\"-\",\"-\",IFERROR(IF(Q225=\"\",\"-\",INDEX(I:I,MATCH(Q225,C:C,0)+1)),\"-\"))","v":"-"},"-","-"]
[404,"PP00343","BIOMYRTE SHAMPOING FLC/200ML",null,"SM003","01.01.2021","MG/EXP1",50,"MG/EXP1-B-012",null,0,null,null,679.99,"DERMO SENS SARL","-",null,{"$f":"SUMIF(Tableau1[Description article],Tableau1[Produits],Tableau1[Emplacement])","v":0},null,{"$f":"Sheet1!$S226-Sheet1!$R226","v":0},"-","-","-",{"$f":"IFERROR(Tableau1[[#This Row],[THEO]]-Tableau1[[#This Row],[Qtt 2éme lot]],\"-\")","v":"-"},"-",{"$f":"IF(Tableau1[[#This Row],[2éme lot]]=\"-\",\"-\",IFERROR(IF(Q226=\"\",\"-\",INDEX(I:I,MATCH(Q226,C:C,0)+1)),\"-\"))","v":"-"},"-","-"]
[405,"PP00071","BIONIME  LECTEUR GLYCEMIE",null,"211951003*","01.05.2021","MG/EXP1",7,"MG/EXP1-BOX6-023",null,0,null,null,0,"EXPENSIMED SARL","-",null,{"$f":"SUMIF(Tableau1[Description article],Tableau1[Produits],Tableau1[Emplacement])","v":0},null,{"$f":"Sheet1!$S227-Sheet1!$R227","v":0},"-","-","-",{"$f":"IFERROR(Tableau1[[#This Row],[THEO]]-Tableau1[[#This Row],[Qtt 2éme lot]],\"-\")","v":"-"},"-",{"$f":"IF(Tableau1[[#This Row],[2éme lot]]=\"-\",\"-\",IFERROR(IF(Q227=\"\",\"-\",INDEX(I:I,MATCH(Q227,C:C,0)+1)),\"-\"))","v":"-"},"-","-"]
[407,"MD004077","BIONORM  2MG CP B/30","REPAGLINIDE","008","01.02.2021","MG/EXP1",76,"MG/EXP1-G-014",null,0,null,null,387.5,"BIOPHARM SPA","-",null,{"$f":"SUMIF(Tableau1[Description article],Tableau1[Produits],Tableau1[Emplacement])","v":0},null,{"$f":"Sheet1!$S228-Sheet1!$R228","v":0},"-","-","-",{"$f":"IFERROR(Tableau1[[#This Row],[THEO]]-Tableau1[[#This Row],[Qtt 2éme lot]],\"-\")","v":"-"},"-",{"$f":"IF(Tableau1[[#This Row],[2éme lot]]=\"-\",\"-\",IFERROR(IF(Q228=\"\",\"-\",INDEX(I:I,MATCH(Q228,C:C,0)+1)),\"-\"))","v":"-"},"-","-"]
[408,"MD004107","BIONORM 0.5MG CP B/30","REPAGLINIDE","009","01.07.2020","MG/EXP1",66,"MG/EXP1-E-045",null,0,null,null,353.3,"BIOPHARM SPA","-",null,{"$f":"SUMIF(Tableau1[Description article],Tableau1[Produits],Tableau1[Emplacement])","v":0},null,{"$f":"Sheet1!$S229-Sheet1!$R229","v":0},"-","-","-",{"$f":"IFERROR(Tableau1[[#This Row],[THEO]]-Tableau1[[#This Row],[Qtt 2éme lot]],\"-\")","v":"-"},"-",{"$f":"IF(Tableau1[[#This Row],[2éme lot]]=\"-\",\"-\",IFERROR(IF(Q229=\"\",\"-\",INDEX(I:I,MATCH(Q229,C:C,0)+1)),\"-\"))","v":"-"},"-","-"]
[409,"MD004108","BIONORM 1MG CP B/30",null,"005","30.07.2020","MG/EXP1",61,"MG/EXP1-A-018",null,0,null,null,368.3,"BIOPHARM SPA","-",null,{"$f":"SUMIF(Tableau1[Description article],Tableau1[Produits],Tableau1[Emplacement])","v":0},null,{"$f":"Sheet1!$S230-Sheet1!$R230","v":0},"-","-","-",{"$f":"IFERROR(Tableau1[[#This Row],[THEO]]-Tableau1[[#This Row],[Qtt 2éme lot]],\"-\")","v":"-"},"-",{"$f":"IF(Tableau1[[#This Row],[2éme lot]]=\"-\",\"-\",IFERROR(IF(Q230=\"\",\"-\",INDEX(I:I,MATCH(Q230,C:C,0)+1)),\"-\"))","v":"-"},"-","-"]
[411,"MD000146","BIOPAMOX 250MG/5ML PDRE.SUSP.BUV. FL/60ML","AMOXICILLINE TRIHYDRATE - ANHYDRE-","3991915","01.02.2022","MG/EXP1",335,"MG/EXP1-E-052",null,0,null,null,168.25,"BIOCARE SARL","-",null,{"$f":"SUMIF(Tableau1[Description article],Tableau1[Produits],Tableau1[Emplacement])","v":0},null,{"$f":"Sheet1!$S231-Sheet1!$R231","v":0},"-","-","-",{"$f":"IFERROR(Tableau1[[#This Row],[THEO]]-Tableau1[[#This Row],[Qtt 2éme lot]],\"-\")","v":"-"},"-",{"$f":"IF(Tableau1[[#This Row],[2éme lot]]=\"-\",\"-\",IFERROR(IF(Q231=\"\",\"-\",INDEX(I:I,MATCH(Q231,C:C,0)+1)),\"-\"))","v":"-"},"-","-"]
[413,"MD000147","BIOPAMOX 500MG/5ML PDRE.SUSP.BUV. B/01 FL.SUSP.BUV/60ML + BCHON. DOSEUR GRAD.","AMOXICILLINE TRIHYDRATE - ANHYDRE-","6411909","01.12.2020","MG/EXP1",492,"MG/EXP1-F-014",null,0,null,null,202.71,"BIOCARE SARL","-",null,{"$f":"SUMIF(Tableau1[Description article],Tableau1[Produits],Tableau1[Emplacement])","v":0},null,{"$f":"Sheet1!$S232-Sheet1!$R232","v":0},"-","-","-",{"$f":"IFERROR(Tableau1[[#This Row],[THEO]]-Tableau1[[#This Row],[Qtt 2éme lot]],\"-\")","v":"-"},"-",{"$f":"IF(Tableau1[[#This Row],[2éme lot]]=\"-\",\"-\",IFERROR(IF(Q232=\"\",\"-\",INDEX(I:I,MATCH(Q232,C:C,0)+1)),\"-\"))","v":"-"},"-","-"]
[415,"MD002471","BIORAVA 10MG COMP.PELLI. B/30","LEFLUNOMIDE","6481901","01.09.2021","MG/EXP1",100,"MG/EXP1-G-010",null,0,null,null,2107.1,"BIOPHARM SPA","-",null,{"$f":"SUMIF(Tableau1[Description article],Tableau1[Produits],Tableau1[Emplacement])","v":0},null,{"$f":"Sheet1!$S233-Sheet1!$R233","v":0},"-","-","-",{"$f":"IFERROR(Tableau1[[#This Row],[THEO]]-Tableau1[[#This Row],[Qtt 2éme lot]],\"-\")","v":"-"},"-",{"$f":"IF(Tableau1[[#This Row],[2éme lot]]=\"-\",\"-\",IFERROR(IF(Q233=\"\",\"-\",INDEX(I:I,MATCH(Q233,C:C,0)+1)),\"-\"))","v":"-"},"-","-"]
[416,"MD002473","BIORAVA 20MG COMP.PELLI. B/30","LEFLUNOMIDE","6311901","01.10.2021","MG/EXP1",200,"MG/EXP1-B-001",null,0,null,null,2195.01,"BIOPHARM SPA","-",null,{"$f":"SUMIF(Tableau1[Description article],Tableau1[Produits],Tableau1[Emplacement])","v":0},null,{"$f":"Sheet1!$S234-Sheet1!$R234","v":0},"-","-","-",{"$f":"IFERROR(Tableau1[[#This Row],[THEO]]-Tableau1[[#This Row],[Qtt 2éme lot]],\"-\")","v":"-"},"-",{"$f":"IF(Tableau1[[#This Row],[2éme lot]]=\"-\",\"-\",IFERROR(IF(Q234=\"\",\"-\",INDEX(I:I,MATCH(Q234,C:C,0)+1)),\"-\"))","v":"-"},"-","-"]
[417,"PP00366","BIOROMARIN SHAMPOING FL/200 (anti-chute)",null,"SR003","01.01.2021","MG/EXP1",58,"MG/EXP1-D-044",null,0,null,null,780,"DERMO SENS SARL","-",null,{"$f":"SUMIF(Tableau1[Description article],Tableau1[Produits],Tableau1[Emplacement])","v":0},null,{"$f":"Sheet1!$S235-Sheet1!$R235","v":0},"-","-","-",{"$f":"IFERROR(Tableau1[[#This Row],[THEO]]-Tableau1[[#This Row],[Qtt 2éme lot]],\"-\")","v":"-"},"-",{"$f":"IF(Tableau1[[#This Row],[2éme lot]]=\"-\",\"-\",IFERROR(IF(Q235=\"\",\"-\",INDEX(I:I,MATCH(Q235,C:C,0)+1)),\"-\"))","v":"-"},"-","-"]
[418,"PP00409","BIOSTAR GINSENG-SAUGE PASTILLE .B/24",null,"1814402","01.04.2020","MG/EXP1",11,"MG/EXP1-BOX6-002",null,0,null,null,648,"BIOPHARM SPA","-",null,{"$f":"SUMIF(Tableau1[Description article],Tableau1[Produits],Tableau1[Emplacement])","v":0},null,{"$f":"Sheet1!$S236-Sheet1!$R236","v":0},"-","-","-",{"$f":"IFERROR(Tableau1[[#This Row],[THEO]]-Tableau1[[#This Row],[Qtt 2éme lot]],\"-\")","v":"-"},"-",{"$f":"IF(Tableau1[[#This Row],[2éme lot]]=\"-\",\"-\",IFERROR(IF(Q236=\"\",\"-\",INDEX(I:I,MATCH(Q236,C:C,0)+1)),\"-\"))","v":"-"},"-","-"]
[419,"PP00408","BIOSTAR PROPOLIS-EUCALYPTUS-GINGEMBRE PASTILLE .B/24",null,"1814205","01.04.2020","MG/EXP1",5,"MG/EXP1-A-019",null,0,null,null,648,"BIOPHARM SPA","-",null,{"$f":"SUMIF(Tableau1[Description article],Tableau1[Produits],Tableau1[Emplacement])","v":0},null,{"$f":"Sheet1!$S237-Sheet1!$R237","v":0},"-","-","-",{"$f":"IFERROR(Tableau1[[#This Row],[THEO]]-Tableau1[[#This Row],[Qtt 2éme lot]],\"-\")","v":"-"},"-",{"$f":"IF(Tableau1[[#This Row],[2éme lot]]=\"-\",\"-\",IFERROR(IF(Q237=\"\",\"-\",INDEX(I:I,MATCH(Q237,C:C,0)+1)),\"-\"))","v":"-"},"-","-"]
[420,"PP00406","BIOSTAR PROPOLIS-MIEL-GINGEMBRE PASTILLE .B/24",null,"1814202","01.04.2020","MG/EXP1",10,"MG/EXP1-D-038",null,0,null,null,648,"BIOPHARM SPA","-",null,{"$f":"SUMIF(Tableau1[Description article],Tableau1[Produits],Tableau1[Emplacement])","v":0},null,{"$f":"Sheet1!$S238-Sheet1!$R238","v":0},"-","-","-",{"$f":"IFERROR(Tableau1[[#This Row],[THEO]]-Tableau1[[#This Row],[Qtt 2éme lot]],\"-\")","v":"-"},"-",{"$f":"IF(Tableau1[[#This Row],[2éme lot]]=\"-\",\"-\",IFERROR(IF(Q238=\"\",\"-\",INDEX(I:I,MATCH(Q238,C:C,0)+1)),\"-\"))","v":"-"},"-","-"]
[421,"PP00407","BIOSTAR PROPOLIS-VIT C-ZINC-MIEL PASTILLE .B/24",null,"1814101","01.04.2020","MG/EXP1",10,"MG/EXP1-C-027",null,0,null,null,648,"BIOPHARM SPA","-",null,{"$f":"SUMIF(Tableau1[Description article],Tableau1[Produits],Tableau1[Emplacement])","v":0},null,{"$f":"Sheet1!$S239-Sheet1!$R239","v":0},"-","-","-",{"$f":"IFERROR(Tableau1[[#This Row],[THEO]]-Tableau1[[#This Row],[Qtt 2éme lot]],\"-\")","v":"-"},"-",{"$f":"IF(Tableau1[[#This Row],[2éme lot]]=\"-\",\"-\",IFERROR(IF(Q239=\"\",\"-\",INDEX(I:I,MATCH(Q239,C:C,0)+1)),\"-\"))","v":"-"},"-","-"]
[422,"MD000149","BIOVEX 500MG/200MG/25MG SOL.BUV. B/08 SACH.","PARACETAMOL /PHENIRAMINE/ AC ASCORBIQUE","63418230","01.09.2020","MG/EXP1",3,"MG/EXP1-F-001",null,0,null,null,250.6,"BIOCARE SARL","-",null,{"$f":"SUMIF(Tableau1[Description article],Tableau1[Produits],Tableau1[Emplacement])","v":0},null,{"$f":"Sheet1!$S240-Sheet1!$R240","v":0},"-","-","-",{"$f":"IFERROR(Tableau1[[#This Row],[THEO]]-Tableau1[[#This Row],[Qtt 2éme lot]],\"-\")","v":"-"},"-",{"$f":"IF(Tableau1[[#This Row],[2éme lot]]=\"-\",\"-\",IFERROR(IF(Q240=\"\",\"-\",INDEX(I:I,MATCH(Q240,C:C,0)+1)),\"-\"))","v":"-"},"-","-"]
[423,"MD000150","BIPRETERAX ARGININE 5MG/1,25MG COMP.PELLI. PILUL/30","PERINDOPRIL ARGENINE + INDAPAMIDE","8235","31.05.2021","MG/EXP1",30,"MG/EXP1-E-033",null,0,null,null,524.62,"LDM LABORATOIRES DE DIAGNOSTIC MAGHREBINS","-",null,{"$f":"SUMIF(Tableau1[Description article],Tableau1[Produits],Tableau1[Emplacement])","v":0},null,{"$f":"Sheet1!$S241-Sheet1!$R241","v":0},"-","-","-",{"$f":"IFERROR(Tableau1[[#This Row],[THEO]]-Tableau1[[#This Row],[Qtt 2éme lot]],\"-\")","v":"-"},"-",{"$f":"IF(Tableau1[[#This Row],[2éme lot]]=\"-\",\"-\",IFERROR(IF(Q241=\"\",\"-\",INDEX(I:I,MATCH(Q241,C:C,0)+1)),\"-\"))","v":"-"},"-","-"]
[425,"MD000151","BIPROTENS 10MG COMP.ENRO. B/30","BISOPROLOL","190125","01.01.2022","MG/EXP1",170,"MG/EXP1-A-071",null,0,null,null,582.5,"EL KENDI INDUSTRIE DE MEDICAMENTS SPA","-",null,{"$f":"SUMIF(Tableau1[Description article],Tableau1[Produits],Tableau1[Emplacement])","v":0},null,{"$f":"Sheet1!$S242-Sheet1!$R242","v":0},"-","-","-",{"$f":"IFERROR(Tableau1[[#This Row],[THEO]]-Tableau1[[#This Row],[Qtt 2éme lot]],\"-\")","v":"-"},"-",{"$f":"IF(Tableau1[[#This Row],[2éme lot]]=\"-\",\"-\",IFERROR(IF(Q242=\"\",\"-\",INDEX(I:I,MATCH(Q242,C:C,0)+1)),\"-\"))","v":"-"},"-","-"]
[427,"MD000152","BIPROTENS 5MG COMP.ENRO. B/30","BISOPROLOL","191686","01.07.2023","MG/EXP1",150,"MG/EXP1-D-016",null,0,null,null,287.6,"EL KENDI INDUSTRIE DE MEDICAMENTS SPA","-",null,{"$f":"SUMIF(Tableau1[Description article],Tableau1[Produits],Tableau1[Emplacement])","v":0},null,{"$f":"Sheet1!$S243-Sheet1!$R243","v":0},"-","-","-",{"$f":"IFERROR(Tableau1[[#This Row],[THEO]]-Tableau1[[#This Row],[Qtt 2éme lot]],\"-\")","v":"-"},"-",{"$f":"IF(Tableau1[[#This Row],[2éme lot]]=\"-\",\"-\",IFERROR(IF(Q243=\"\",\"-\",INDEX(I:I,MATCH(Q243,C:C,0)+1)),\"-\"))","v":"-"},"-","-"]
[429,"MD000154","BIROVIT HUP 250MG/250MG COMP.PELLI. B/20","VITAMINE B1/B6","052","01.02.2021","MG/EXP1",165,"MG/EXP1-G-032",null,0,null,null,217.8,"HUP.P PHARMA SARL","-",null,{"$f":"SUMIF(Tableau1[Description article],Tableau1[Produits],Tableau1[Emplacement])","v":0},null,{"$f":"Sheet1!$S244-Sheet1!$R244","v":0},"-","-","-",{"$f":"IFERROR(Tableau1[[#This Row],[THEO]]-Tableau1[[#This Row],[Qtt 2éme lot]],\"-\")","v":"-"},"-",{"$f":"IF(Tableau1[[#This Row],[2éme lot]]=\"-\",\"-\",IFERROR(IF(Q244=\"\",\"-\",INDEX(I:I,MATCH(Q244,C:C,0)+1)),\"-\"))","v":"-"},"-","-"]
[430,"MD000155","BISOPROLOL BEKER 10MG COMP.PELLI.SEC. B/30","BISOPROLOL","017119","25.02.2022","MG/EXP1",284,"MG/EXP1-B-063",null,0,null,null,582.49,"BEKER LABORATOIRES","-",null,{"$f":"SUMIF(Tableau1[Description article],Tableau1[Produits],Tableau1[Emplacement])","v":0},null,{"$f":"Sheet1!$S245-Sheet1!$R245","v":0},"-","-","-",{"$f":"IFERROR(Tableau1[[#This Row],[THEO]]-Tableau1[[#This Row],[Qtt 2éme lot]],\"-\")","v":"-"},"-",{"$f":"IF(Tableau1[[#This Row],[2éme lot]]=\"-\",\"-\",IFERROR(IF(Q245=\"\",\"-\",INDEX(I:I,MATCH(Q245,C:C,0)+1)),\"-\"))","v":"-"},"-","-"]
[431,"MD000156","BISOPROLOL BEKER 5MG COMP.PELLI. B/30","BISOPROLOL","087119","01.10.2021","MG/EXP1",244,"MG/EXP1-A-041",null,0,null,null,287.6,"BEKER LABORATOIRES","-",null,{"$f":"SUMIF(Tableau1[Description article],Tableau1[Produits],Tableau1[Emplacement])","v":0},null,{"$f":"Sheet1!$S246-Sheet1!$R246","v":0},"-","-","-",{"$f":"IFERROR(Tableau1[[#This Row],[THEO]]-Tableau1[[#This Row],[Qtt 2éme lot]],\"-\")","v":"-"},"-",{"$f":"IF(Tableau1[[#This Row],[2éme lot]]=\"-\",\"-\",IFERROR(IF(Q246=\"\",\"-\",INDEX(I:I,MATCH(Q246,C:C,0)+1)),\"-\"))","v":"-"},"-","-"]
[433,"MD000157","BISOPROLOL HUP 10MG COMP.PELLI.SEC. B/30","BISOPROLOL","041","01.08.2021","MG/EXP1",162,"MG/EXP1-F-020",null,0,null,null,582.5,"HUP.P PHARMA SARL","-",null,{"$f":"SUMIF(Tableau1[Description article],Tableau1[Produits],Tableau1[Emplacement])","v":0},null,{"$f":"Sheet1!$S247-Sheet1!$R247","v":0},"-","-","-",{"$f":"IFERROR(Tableau1[[#This Row],[THEO]]-Tableau1[[#This Row],[Qtt 2éme lot]],\"-\")","v":"-"},"-",{"$f":"IF(Tableau1[[#This Row],[2éme lot]]=\"-\",\"-\",IFERROR(IF(Q247=\"\",\"-\",INDEX(I:I,MATCH(Q247,C:C,0)+1)),\"-\"))","v":"-"},"-","-"]
[434,"MD002396","BISOPROLOL HUP 5MG COMP.PELLI.SEC. B/30","BISOPROLOL FUMARATE","005","01.06.2021","MG/EXP1",192,"MG/EXP1-F-007",null,0,null,null,287.59,"HUP.P PHARMA SARL","-",null,{"$f":"SUMIF(Tableau1[Description article],Tableau1[Produits],Tableau1[Emplacement])","v":0},null,{"$f":"Sheet1!$S248-Sheet1!$R248","v":0},"-","-","-",{"$f":"IFERROR(Tableau1[[#This Row],[THEO]]-Tableau1[[#This Row],[Qtt 2éme lot]],\"-\")","v":"-"},"-",{"$f":"IF(Tableau1[[#This Row],[2éme lot]]=\"-\",\"-\",IFERROR(IF(Q248=\"\",\"-\",INDEX(I:I,MATCH(Q248,C:C,0)+1)),\"-\"))","v":"-"},"-","-"]
[435,"MD000159","BISOPROLOL MM 5MG COMP.PELLI. B/30","BISOPROLOL","013","01.05.2020","MG/EXP1",408,"MG/EXP1-E-048",null,0,null,null,287.6,"MM LABORATOIRE MM SARL","-",null,{"$f":"SUMIF(Tableau1[Description article],Tableau1[Produits],Tableau1[Emplacement])","v":0},null,{"$f":"Sheet1!$S249-Sheet1!$R249","v":0},"-","-","-",{"$f":"IFERROR(Tableau1[[#This Row],[THEO]]-Tableau1[[#This Row],[Qtt 2éme lot]],\"-\")","v":"-"},"-",{"$f":"IF(Tableau1[[#This Row],[2éme lot]]=\"-\",\"-\",IFERROR(IF(Q249=\"\",\"-\",INDEX(I:I,MATCH(Q249,C:C,0)+1)),\"-\"))","v":"-"},"-","-"]
[438,"MD000163","BLOPRESS 16 PLUS 16MG/12,5MG COMP.SEC. B/28","CANDESARTAN CILEXETIL/HYDROCHLOROTHIAZID","956060","01.03.2022","MG/EXP1",56,"MG/EXP1-G-020",null,0,null,null,1618.32,"HIKMA PHARMA ALGERIA SARL","-",null,{"$f":"SUMIF(Tableau1[Description article],Tableau1[Produits],Tableau1[Emplacement])","v":0},null,{"$f":"Sheet1!$S250-Sheet1!$R250","v":0},"-","-","-",{"$f":"IFERROR(Tableau1[[#This Row],[THEO]]-Tableau1[[#This Row],[Qtt 2éme lot]],\"-\")","v":"-"},"-",{"$f":"IF(Tableau1[[#This Row],[2éme lot]]=\"-\",\"-\",IFERROR(IF(Q250=\"\",\"-\",INDEX(I:I,MATCH(Q250,C:C,0)+1)),\"-\"))","v":"-"},"-","-"]
[440,"MD000161","BLOPRESS 16MG COMP.SEC. B/28","CANDESARTAN CILEXETIL","956118","01.05.2022","MG/EXP1",260,"MG/EXP1-B-049",null,0,null,null,1201.5,"HIKMA PHARMA ALGERIA SARL","-",null,{"$f":"SUMIF(Tableau1[Description article],Tableau1[Produits],Tableau1[Emplacement])","v":0},null,{"$f":"Sheet1!$S251-Sheet1!$R251","v":0},"-","-","-",{"$f":"IFERROR(Tableau1[[#This Row],[THEO]]-Tableau1[[#This Row],[Qtt 2éme lot]],\"-\")","v":"-"},"-",{"$f":"IF(Tableau1[[#This Row],[2éme lot]]=\"-\",\"-\",IFERROR(IF(Q251=\"\",\"-\",INDEX(I:I,MATCH(Q251,C:C,0)+1)),\"-\"))","v":"-"},"-","-"]
[443,"MD000164","BLOPRESS 8 PLUS 8MG/12,5MG COMP.SEC. B/28","CANDESARTAN CILEXETIL/HYDROCHLOROTHIAZID","95604","01.02.2022","MG/EXP1",78,"MG/EXP1-BOX6-002",null,0,null,null,1478.4,"HIKMA PHARMA ALGERIA SARL","-",null,{"$f":"SUMIF(Tableau1[Description article],Tableau1[Produits],Tableau1[Emplacement])","v":0},null,{"$f":"Sheet1!$S252-Sheet1!$R252","v":0},"-","-","-",{"$f":"IFERROR(Tableau1[[#This Row],[THEO]]-Tableau1[[#This Row],[Qtt 2éme lot]],\"-\")","v":"-"},"-",{"$f":"IF(Tableau1[[#This Row],[2éme lot]]=\"-\",\"-\",IFERROR(IF(Q252=\"\",\"-\",INDEX(I:I,MATCH(Q252,C:C,0)+1)),\"-\"))","v":"-"},"-","-"]
[444,"MD000162","BLOPRESS 8MG 8MG COMP.SEC. B/28","CANDESARTAN CILEXETIL","956032","01.02.2022","MG/EXP1",193,"MG/EXP1-C-007",null,0,null,null,1201.5,"HIKMA PHARMA ALGERIA SARL","-",null,{"$f":"SUMIF(Tableau1[Description article],Tableau1[Produits],Tableau1[Emplacement])","v":0},null,{"$f":"Sheet1!$S253-Sheet1!$R253","v":0},"-","-","-",{"$f":"IFERROR(Tableau1[[#This Row],[THEO]]-Tableau1[[#This Row],[Qtt 2éme lot]],\"-\")","v":"-"},"-",{"$f":"IF(Tableau1[[#This Row],[2éme lot]]=\"-\",\"-\",IFERROR(IF(Q253=\"\",\"-\",INDEX(I:I,MATCH(Q253,C:C,0)+1)),\"-\"))","v":"-"},"-","-"]
[448,"MD000165","BONACOR 10MG COMP.PELLI.SEC. B/30","BISOPROLOL","05095*","01.01.2022","MG/EXP1",22,"MG/EXP1-B-039",null,0,null,null,582.5,"HIKMA PHARMA ALGERIA SARL","-",null,{"$f":"SUMIF(Tableau1[Description article],Tableau1[Produits],Tableau1[Emplacement])","v":0},null,{"$f":"Sheet1!$S254-Sheet1!$R254","v":0},"-","-","-",{"$f":"IFERROR(Tableau1[[#This Row],[THEO]]-Tableau1[[#This Row],[Qtt 2éme lot]],\"-\")","v":"-"},"-",{"$f":"IF(Tableau1[[#This Row],[2éme lot]]=\"-\",\"-\",IFERROR(IF(Q254=\"\",\"-\",INDEX(I:I,MATCH(Q254,C:C,0)+1)),\"-\"))","v":"-"},"-","-"]
[450,"MD000166","BONACOR 5MG COMP.PELLI.SEC. B/30","BISOPROLOL","049092","01.09.2021","MG/EXP1",153,"MG/EXP1-D-053",null,0,null,null,287.5,"HIKMA PHARMA ALGERIA SARL","-",null,{"$f":"SUMIF(Tableau1[Description article],Tableau1[Produits],Tableau1[Emplacement])","v":0},null,{"$f":"Sheet1!$S255-Sheet1!$R255","v":0},"-","-","-",{"$f":"IFERROR(Tableau1[[#This Row],[THEO]]-Tableau1[[#This Row],[Qtt 2éme lot]],\"-\")","v":"-"},"-",{"$f":"IF(Tableau1[[#This Row],[2éme lot]]=\"-\",\"-\",IFERROR(IF(Q255=\"\",\"-\",INDEX(I:I,MATCH(Q255,C:C,0)+1)),\"-\"))","v":"-"},"-","-"]
[452,"MD003920","BREQUAL 50µg/100µg mcg caps.de.poudre.a inhal. Bte.60.caps","Salmétrol-fluticasone","19C986","01.04.2021","MG/EXP1",11,"MG/EXP1-BOX6-022",null,0,null,null,1178.91,"ABDI IBRAHIM REMED PHARMA SPA","-",null,{"$f":"SUMIF(Tableau1[Description article],Tableau1[Produits],Tableau1[Emplacement])","v":0},null,{"$f":"Sheet1!$S256-Sheet1!$R256","v":0},"-","-","-",{"$f":"IFERROR(Tableau1[[#This Row],[THEO]]-Tableau1[[#This Row],[Qtt 2éme lot]],\"-\")","v":"-"},"-",{"$f":"IF(Tableau1[[#This Row],[2éme lot]]=\"-\",\"-\",IFERROR(IF(Q256=\"\",\"-\",INDEX(I:I,MATCH(Q256,C:C,0)+1)),\"-\"))","v":"-"},"-","-"]
[453,"MD003919","BREQUAL 50µg/250µg mcg caps.de.poudre.a inhal. Bte.60.caps","Salmétrol-fluticasone","19F439","01.06.2021","MG/EXP1",71,"MG/EXP1-B-051",null,0,null,null,1692.17,"ABDI IBRAHIM REMED PHARMA SPA","-",null,{"$f":"SUMIF(Tableau1[Description article],Tableau1[Produits],Tableau1[Emplacement])","v":0},null,{"$f":"Sheet1!$S257-Sheet1!$R257","v":0},"-","-","-",{"$f":"IFERROR(Tableau1[[#This Row],[THEO]]-Tableau1[[#This Row],[Qtt 2éme lot]],\"-\")","v":"-"},"-",{"$f":"IF(Tableau1[[#This Row],[2éme lot]]=\"-\",\"-\",IFERROR(IF(Q257=\"\",\"-\",INDEX(I:I,MATCH(Q257,C:C,0)+1)),\"-\"))","v":"-"},"-","-"]
[454,"MD003918","BREQUAL 50µg/500µg mcg caps.de.poudre.a inhal. Bte.60.caps","Salmétrol-fluticasone","19E640","01.05.2021","MG/EXP1",105,"MG/EXP1-BOX6-022",null,0,null,null,2193.78,"ABDI IBRAHIM REMED PHARMA SPA",{"$f":"IFERROR(IF(Q258=\"\",\"-\",INDEX(I:I,MATCH(Q258,C:C,0))),\"-\")","v":"-"},null,{"$f":"SUMIF(Tableau1[Description article],Tableau1[Produits],Tableau1[Emplacement])","v":0},null,{"$f":"Sheet1!$S258-Sheet1!$R258","v":0},{"$f":"IFERROR(IF(Q258=\"\",\"-\",INDEX(F:F,MATCH(Q258,C:C,0))),\"-\")","v":"-"},{"$f":"IFERROR(IF(Q258=\"\",\"-\",INDEX(E:E,MATCH(Q258,C:C,0))),\"-\")","v":"-"},{"$f":"IFERROR(IF(Q258=\"\",\"-\",INDEX(N:N,MATCH(Q258,C:C,0))),\"-\")","v":"-"},{"$f":"IFERROR(Tableau1[[#This Row],[THEO]]-Tableau1[[#This Row],[Qtt 2éme lot]],\"-\")","v":"-"},{"$f":"IF(IF(Q258=\"\",\"-\",INDEX(E:E,MATCH(Q258,C:C,0)))=IF(Q258=\"\",\"-\",INDEX(E:E,MATCH(Q258,C:C,1))),\"-\",IF(Q258=\"\",\"-\",INDEX(E:E,MATCH(Q258,C:C,1))))","v":"-"},{"$f":"IF(Tableau1[[#This Row],[2éme lot]]=\"-\",\"-\",IFERROR(IF(Q258=\"\",\"-\",INDEX(I:I,MATCH(Q258,C:C,0)+1)),\"-\"))","v":"-"},{"$f":"IFERROR(IF(Y258=\"\",\"-\",INDEX(N:N,MATCH(Y258,E:E,0))),\"-\")","v":"-"},{"$f":"IFERROR(IF(AA258=\"\",\"-\",INDEX(H:H,MATCH(Y258,E:E,0))),\"-\")","v":"-"}]
[457,"MD000168","BRICANYL TURBUHALER 0,5MG/DSE PDRE.P.INHAL.BUCC. FL/100 DSE.","TERBUTALINE","BBNS*","30.06.2021","MG/EXP1",36,"MG/EXP1-BOX6-012",null,0,null,null,649.49,"BIOPHARM SPA","-",null,{"$f":"SUMIF(Tableau1[Description article],Tableau1[Produits],Tableau1[Emplacement])","v":0},null,{"$f":"Sheet1!$S259-Sheet1!$R259","v":0},"-","-","-",{"$f":"IFERROR(Tableau1[[#This Row],[THEO]]-Tableau1[[#This Row],[Qtt 2éme lot]],\"-\")","v":"-"},"-",{"$f":"IF(Tableau1[[#This Row],[2éme lot]]=\"-\",\"-\",IFERROR(IF(Q259=\"\",\"-\",INDEX(I:I,MATCH(Q259,C:C,0)+1)),\"-\"))","v":"-"},"-","-"]
[459,"PP00480","BRONCHOLE FL/100ML","EXTRAIT DE PLANTES MEDICINALES","BR001","01.11.2021","MG/EXP1",177,"MG/EXP1-D-048",null,0,null,null,400,"OLEA SENS laboratoire","-",null,{"$f":"SUMIF(Tableau1[Description article],Tableau1[Produits],Tableau1[Emplacement])","v":0},null,{"$f":"Sheet1!$S260-Sheet1!$R260","v":0},"-","-","-",{"$f":"IFERROR(Tableau1[[#This Row],[THEO]]-Tableau1[[#This Row],[Qtt 2éme lot]],\"-\")","v":"-"},"-",{"$f":"IF(Tableau1[[#This Row],[2éme lot]]=\"-\",\"-\",IFERROR(IF(Q260=\"\",\"-\",INDEX(I:I,MATCH(Q260,C:C,0)+1)),\"-\"))","v":"-"},"-","-"]
[461,"PP00073","BRONCHONET F/100ML -SP",null,"BS-1906","01.02.2022","MG/EXP1",226,"MG/EXP1-B-044",null,0,null,null,400,"MAGPHARM LABORATOIRES SARL","-",null,{"$f":"SUMIF(Tableau1[Description article],Tableau1[Produits],Tableau1[Emplacement])","v":0},null,{"$f":"Sheet1!$S261-Sheet1!$R261","v":0},"-","-","-",{"$f":"IFERROR(Tableau1[[#This Row],[THEO]]-Tableau1[[#This Row],[Qtt 2éme lot]],\"-\")","v":"-"},"-",{"$f":"IF(Tableau1[[#This Row],[2éme lot]]=\"-\",\"-\",IFERROR(IF(Q261=\"\",\"-\",INDEX(I:I,MATCH(Q261,C:C,0)+1)),\"-\"))","v":"-"},"-","-"]
[464,"PP00329","BRONCHONET F/100ML -SP SANS SUCRE",null,"BF1906","01.03.2022","MG/EXP1",61,"MG/EXP1-A-036",null,0,null,null,495,"MAGPHARM LABORATOIRES SARL","-",null,{"$f":"SUMIF(Tableau1[Description article],Tableau1[Produits],Tableau1[Emplacement])","v":0},null,{"$f":"Sheet1!$S262-Sheet1!$R262","v":0},"-","-","-",{"$f":"IFERROR(Tableau1[[#This Row],[THEO]]-Tableau1[[#This Row],[Qtt 2éme lot]],\"-\")","v":"-"},"-",{"$f":"IF(Tableau1[[#This Row],[2éme lot]]=\"-\",\"-\",IFERROR(IF(Q262=\"\",\"-\",INDEX(I:I,MATCH(Q262,C:C,0)+1)),\"-\"))","v":"-"},"-","-"]
[465,"PP00476","BRONCHOPAN 7MG SRP. FL/100ML","EXTRAIT SEC DE FEUILLES DE LIERRE","8881","01.10.2020","MG/EXP1",52,"MG/EXP1-E-036",null,0,null,null,512.77,"INPHA MEDIS SPA","-",null,{"$f":"SUMIF(Tableau1[Description article],Tableau1[Produits],Tableau1[Emplacement])","v":0},null,{"$f":"Sheet1!$S263-Sheet1!$R263","v":0},"-","-","-",{"$f":"IFERROR(Tableau1[[#This Row],[THEO]]-Tableau1[[#This Row],[Qtt 2éme lot]],\"-\")","v":"-"},"-",{"$f":"IF(Tableau1[[#This Row],[2éme lot]]=\"-\",\"-\",IFERROR(IF(Q263=\"\",\"-\",INDEX(I:I,MATCH(Q263,C:C,0)+1)),\"-\"))","v":"-"},"-","-"]
[466,"MD000177","BUDECORT- 200 200PG/DSE AERO.BUCC. FL/200 DSE.","BUDESONIDE","KJ90295","01.07.2021","MG/EXP1",8,"MG/EXP1-A-064",null,0,null,null,847.87,"BIOPHARM SPA","-",null,{"$f":"SUMIF(Tableau1[Description article],Tableau1[Produits],Tableau1[Emplacement])","v":0},null,{"$f":"Sheet1!$S264-Sheet1!$R264","v":0},"-","-","-",{"$f":"IFERROR(Tableau1[[#This Row],[THEO]]-Tableau1[[#This Row],[Qtt 2éme lot]],\"-\")","v":"-"},"-",{"$f":"IF(Tableau1[[#This Row],[2éme lot]]=\"-\",\"-\",IFERROR(IF(Q264=\"\",\"-\",INDEX(I:I,MATCH(Q264,C:C,0)+1)),\"-\"))","v":"-"},"-","-"]
[468,"MD000178","BUFEN 20MG/ML SUSP.BUV. FL/125ML","IBUPROFENE","1805/48","01.03.2021","MG/EXP1",1,"MG/EXP1-F-019",null,0,null,null,195,"GROUPE SANTE LABORATOIRE","-",null,{"$f":"SUMIF(Tableau1[Description article],Tableau1[Produits],Tableau1[Emplacement])","v":0},null,{"$f":"Sheet1!$S265-Sheet1!$R265","v":0},"-","-","-",{"$f":"IFERROR(Tableau1[[#This Row],[THEO]]-Tableau1[[#This Row],[Qtt 2éme lot]],\"-\")","v":"-"},"-",{"$f":"IF(Tableau1[[#This Row],[2éme lot]]=\"-\",\"-\",IFERROR(IF(Q265=\"\",\"-\",INDEX(I:I,MATCH(Q265,C:C,0)+1)),\"-\"))","v":"-"},"-","-"]
[469,"MD000178","BUFEN 20MG/ML SUSP.BUV. FL/125ML","IBUPROFENE","1805/48**","01.03.2021","MG/EXP1",60,"MG/EXP1-F-012",null,0,null,null,195,"GROUPE SANTE LABORATOIRE","-",null,{"$f":"SUMIF(Tableau1[Description article],Tableau1[Produits],Tableau1[Emplacement])","v":0},null,{"$f":"Sheet1!$S266-Sheet1!$R266","v":0},"-","-","-",{"$f":"IFERROR(Tableau1[[#This Row],[THEO]]-Tableau1[[#This Row],[Qtt 2éme lot]],\"-\")","v":"-"},"-",{"$f":"IF(Tableau1[[#This Row],[2éme lot]]=\"-\",\"-\",IFERROR(IF(Q266=\"\",\"-\",INDEX(I:I,MATCH(Q266,C:C,0)+1)),\"-\"))","v":"-"},"-","-"]
[472,"MD000181","BYZOLEX 10MG COMP.SEC. B/30","BISOPROLOL","M29001R","01.01.2022","MG/EXP1",290,"MG/EXP1-C-024",null,0,null,null,582.5,"MERINAL LABORATOIRES","-",null,{"$f":"SUMIF(Tableau1[Description article],Tableau1[Produits],Tableau1[Emplacement])","v":0},null,{"$f":"Sheet1!$S267-Sheet1!$R267","v":0},"-","-","-",{"$f":"IFERROR(Tableau1[[#This Row],[THEO]]-Tableau1[[#This Row],[Qtt 2éme lot]],\"-\")","v":"-"},"-",{"$f":"IF(Tableau1[[#This Row],[2éme lot]]=\"-\",\"-\",IFERROR(IF(Q267=\"\",\"-\",INDEX(I:I,MATCH(Q267,C:C,0)+1)),\"-\"))","v":"-"},"-","-"]
[473,"MD002268","BYZOLEX 5 5MG COMP.QUADRISEC. B/30","BISOPROLOL","M102004R","28.02.2021","MG/EXP1",385,"MG/EXP1-F-020",null,0,null,null,287.6,"MERINAL LABORATOIRES","-",null,{"$f":"SUMIF(Tableau1[Description article],Tableau1[Produits],Tableau1[Emplacement])","v":0},null,{"$f":"Sheet1!$S268-Sheet1!$R268","v":0},"-","-","-",{"$f":"IFERROR(Tableau1[[#This Row],[THEO]]-Tableau1[[#This Row],[Qtt 2éme lot]],\"-\")","v":"-"},"-",{"$f":"IF(Tableau1[[#This Row],[2éme lot]]=\"-\",\"-\",IFERROR(IF(Q268=\"\",\"-\",INDEX(I:I,MATCH(Q268,C:C,0)+1)),\"-\"))","v":"-"},"-","-"]
[474,"MD002268","BYZOLEX 5 5MG COMP.QUADRISEC. B/30","BISOPROLOL","M102008R","30.06.2021","MG/EXP1",4,"MG/EXP1-F-014",null,0,null,null,287.6,"MERINAL LABORATOIRES","-",null,{"$f":"SUMIF(Tableau1[Description article],Tableau1[Produits],Tableau1[Emplacement])","v":0},null,{"$f":"Sheet1!$S269-Sheet1!$R269","v":0},"-","-","-",{"$f":"IFERROR(Tableau1[[#This Row],[THEO]]-Tableau1[[#This Row],[Qtt 2éme lot]],\"-\")","v":"-"},"-",{"$f":"IF(Tableau1[[#This Row],[2éme lot]]=\"-\",\"-\",IFERROR(IF(Q269=\"\",\"-\",INDEX(I:I,MATCH(Q269,C:C,0)+1)),\"-\"))","v":"-"},"-","-"]
[479,"MD000182","CABERNEX 0.5MG CP .B/8","CABERGOLINE","1051902****","01.02.2021","MG/EXP1",260,"MG/EXP1-BOX6-PSY-014",null,0,null,null,2188.5,"BIOCARE SARL","-",null,{"$f":"SUMIF(Tableau1[Description article],Tableau1[Produits],Tableau1[Emplacement])","v":0},null,{"$f":"Sheet1!$S270-Sheet1!$R270","v":0},"-","-","-",{"$f":"IFERROR(Tableau1[[#This Row],[THEO]]-Tableau1[[#This Row],[Qtt 2éme lot]],\"-\")","v":"-"},"-",{"$f":"IF(Tableau1[[#This Row],[2éme lot]]=\"-\",\"-\",IFERROR(IF(Q270=\"\",\"-\",INDEX(I:I,MATCH(Q270,C:C,0)+1)),\"-\"))","v":"-"},"-","-"]
[480,"MD000185","CALCIBRONAT 2G COMP.EFF. B/20","BROMO-GALACTOGLUCONATE","M2249","01.07.2022","MG/EXP1",43,"MG/EXP1-B-048",null,0,null,null,367.07,"AT PHARMA SPA","-",null,{"$f":"SUMIF(Tableau1[Description article],Tableau1[Produits],Tableau1[Emplacement])","v":0},null,{"$f":"Sheet1!$S271-Sheet1!$R271","v":0},"-","-","-",{"$f":"IFERROR(Tableau1[[#This Row],[THEO]]-Tableau1[[#This Row],[Qtt 2éme lot]],\"-\")","v":"-"},"-",{"$f":"IF(Tableau1[[#This Row],[2éme lot]]=\"-\",\"-\",IFERROR(IF(Q271=\"\",\"-\",INDEX(I:I,MATCH(Q271,C:C,0)+1)),\"-\"))","v":"-"},"-","-"]
[483,"MD000186","CALCIDOSE 500MG/SACH.DSE. PDRE.SUSP.BUV. B/30","CALCIUM ELEMENT","M14039R","31.10.2021","MG/EXP1",319,"MG/EXP1-C-050",null,0,null,null,400,"MERINAL LABORATOIRES","-",null,{"$f":"SUMIF(Tableau1[Description article],Tableau1[Produits],Tableau1[Emplacement])","v":0},null,{"$f":"Sheet1!$S272-Sheet1!$R272","v":0},"-","-","-",{"$f":"IFERROR(Tableau1[[#This Row],[THEO]]-Tableau1[[#This Row],[Qtt 2éme lot]],\"-\")","v":"-"},"-",{"$f":"IF(Tableau1[[#This Row],[2éme lot]]=\"-\",\"-\",IFERROR(IF(Q272=\"\",\"-\",INDEX(I:I,MATCH(Q272,C:C,0)+1)),\"-\"))","v":"-"},"-","-"]
[484,"MD000187","CALCIDOSE VITAMINE D 400UI/500MG/SACH. PDRE.ORA. B/30 SACH.","CHOLECALCIFEROL/CALCIUM ELEMENT","M15063R","30.11.2021","MG/EXP1",75,"MG/EXP1-A-020",null,0,null,null,430,"MERINAL LABORATOIRES","-",null,{"$f":"SUMIF(Tableau1[Description article],Tableau1[Produits],Tableau1[Emplacement])","v":0},null,{"$f":"Sheet1!$S273-Sheet1!$R273","v":0},"-","-","-",{"$f":"IFERROR(Tableau1[[#This Row],[THEO]]-Tableau1[[#This Row],[Qtt 2éme lot]],\"-\")","v":"-"},"-",{"$f":"IF(Tableau1[[#This Row],[2éme lot]]=\"-\",\"-\",IFERROR(IF(Q273=\"\",\"-\",INDEX(I:I,MATCH(Q273,C:C,0)+1)),\"-\"))","v":"-"},"-","-"]
[486,"MD000187","CALCIDOSE VITAMINE D 400UI/500MG/SACH. PDRE.ORA. B/30 SACH.","CHOLECALCIFEROL/CALCIUM ELEMENT","M15064R","30.11.2021","MG/EXP1",192,"MG/EXP1-A-021",null,0,null,null,430,"MERINAL LABORATOIRES","-",null,{"$f":"SUMIF(Tableau1[Description article],Tableau1[Produits],Tableau1[Emplacement])","v":0},null,{"$f":"Sheet1!$S274-Sheet1!$R274","v":0},"-","-","-",{"$f":"IFERROR(Tableau1[[#This Row],[THEO]]-Tableau1[[#This Row],[Qtt 2éme lot]],\"-\")","v":"-"},"-",{"$f":"IF(Tableau1[[#This Row],[2éme lot]]=\"-\",\"-\",IFERROR(IF(Q274=\"\",\"-\",INDEX(I:I,MATCH(Q274,C:C,0)+1)),\"-\"))","v":"-"},"-","-"]
[487,"MD000188","CALCIFORE 67,5MG/5ML SRP. FL/125ML","PIDOLATE DE CALCIUM","23-82","01.12.2021","MG/EXP1",210,"MG/EXP1-G-044",null,0,null,null,320,"L.A.D.PHARMA SARL","-",null,{"$f":"SUMIF(Tableau1[Description article],Tableau1[Produits],Tableau1[Emplacement])","v":0},null,{"$f":"Sheet1!$S275-Sheet1!$R275","v":0},"-","-","-",{"$f":"IFERROR(Tableau1[[#This Row],[THEO]]-Tableau1[[#This Row],[Qtt 2éme lot]],\"-\")","v":"-"},"-",{"$f":"IF(Tableau1[[#This Row],[2éme lot]]=\"-\",\"-\",IFERROR(IF(Q275=\"\",\"-\",INDEX(I:I,MATCH(Q275,C:C,0)+1)),\"-\"))","v":"-"},"-","-"]
[489,"MD000190","CALCIUM D3 IVAL 400UI/500MG COMP.CROQ. B/60","CARBONATE DE CALCIUM 1.250G COLECALCIFER","180049","01.06.2021","MG/EXP1",67,"MG/EXP1-A-011",null,0,null,null,749.99,"AT PHARMA SPA","-",null,{"$f":"SUMIF(Tableau1[Description article],Tableau1[Produits],Tableau1[Emplacement])","v":0},null,{"$f":"Sheet1!$S276-Sheet1!$R276","v":0},"-","-","-",{"$f":"IFERROR(Tableau1[[#This Row],[THEO]]-Tableau1[[#This Row],[Qtt 2éme lot]],\"-\")","v":"-"},"-",{"$f":"IF(Tableau1[[#This Row],[2éme lot]]=\"-\",\"-\",IFERROR(IF(Q276=\"\",\"-\",INDEX(I:I,MATCH(Q276,C:C,0)+1)),\"-\"))","v":"-"},"-","-"]
[492,"MD004013","CALCIUM D3 SOPHAL B/ 60 CPS A CROQUER","CARBONATE EXPRIME EN CALCIUM ELEMENT","531253","01.07.2021","MG/EXP1",13,"MG/EXP1-G-030",null,0,null,null,810,"SOPHAL SOCIETE PHARMACEUTIQUE ALGERIENNE","-",null,{"$f":"SUMIF(Tableau1[Description article],Tableau1[Produits],Tableau1[Emplacement])","v":0},null,{"$f":"Sheet1!$S277-Sheet1!$R277","v":0},"-","-","-",{"$f":"IFERROR(Tableau1[[#This Row],[THEO]]-Tableau1[[#This Row],[Qtt 2éme lot]],\"-\")","v":"-"},"-",{"$f":"IF(Tableau1[[#This Row],[2éme lot]]=\"-\",\"-\",IFERROR(IF(Q277=\"\",\"-\",INDEX(I:I,MATCH(Q277,C:C,0)+1)),\"-\"))","v":"-"},"-","-"]
[494,"MD000195","CALCO 50UI/ML SOL.INJ. B/05 AMP/1ML","CALCITONINE DE SAUMON","80313","01.06.2020","MG/EXP1",17,"MG/EXP1-BOX6",null,0,null,"GLAC",996.76,"GB PHARMA SARL","-",null,{"$f":"SUMIF(Tableau1[Description article],Tableau1[Produits],Tableau1[Emplacement])","v":0},null,{"$f":"Sheet1!$S278-Sheet1!$R278","v":0},"-","-","-",{"$f":"IFERROR(Tableau1[[#This Row],[THEO]]-Tableau1[[#This Row],[Qtt 2éme lot]],\"-\")","v":"-"},"-",{"$f":"IF(Tableau1[[#This Row],[2éme lot]]=\"-\",\"-\",IFERROR(IF(Q278=\"\",\"-\",INDEX(I:I,MATCH(Q278,C:C,0)+1)),\"-\"))","v":"-"},"-","-"]
[495,"PP00076","CALMIDERM crème  T/ 40g",null,"S104","30.09.2023","MG/EXP1",379,"MG/EXP1-F-009",null,0,null,null,620,"MAGPHARM LABORATOIRES SARL","-",null,{"$f":"SUMIF(Tableau1[Description article],Tableau1[Produits],Tableau1[Emplacement])","v":0},null,{"$f":"Sheet1!$S279-Sheet1!$R279","v":0},"-","-","-",{"$f":"IFERROR(Tableau1[[#This Row],[THEO]]-Tableau1[[#This Row],[Qtt 2éme lot]],\"-\")","v":"-"},"-",{"$f":"IF(Tableau1[[#This Row],[2éme lot]]=\"-\",\"-\",IFERROR(IF(Q279=\"\",\"-\",INDEX(I:I,MATCH(Q279,C:C,0)+1)),\"-\"))","v":"-"},"-","-"]
[497,"MD000196","CALMOFEN SUSP.BUV.10MG/ML FLC125ML+PIPETTE GRADUEE","IBUPROFENE","8727","31.08.2020","MG/EXP1",2,"MG/EXP1-E-023",null,0,null,null,136.5,"INPHA MEDIS SPA","-",null,{"$f":"SUMIF(Tableau1[Description article],Tableau1[Produits],Tableau1[Emplacement])","v":0},null,{"$f":"Sheet1!$S280-Sheet1!$R280","v":0},"-","-","-",{"$f":"IFERROR(Tableau1[[#This Row],[THEO]]-Tableau1[[#This Row],[Qtt 2éme lot]],\"-\")","v":"-"},"-",{"$f":"IF(Tableau1[[#This Row],[2éme lot]]=\"-\",\"-\",IFERROR(IF(Q280=\"\",\"-\",INDEX(I:I,MATCH(Q280,C:C,0)+1)),\"-\"))","v":"-"},"-","-"]
[499,"MD000198","CAMPHOBIOTIC ENFANT 0,04G/0,05G/0,02G/0,08G SUPP. B/08","CAMPHRE / EUCALYPTOL / GAIACOL / GAIACOL GLYCOLATE D'ETHYL","093","01.12.2022","MG/EXP1",299,"MG/EXP1-E-045",null,0,null,null,62.64,"SAIDAL UNITE CENTRE","-",null,{"$f":"SUMIF(Tableau1[Description article],Tableau1[Produits],Tableau1[Emplacement])","v":0},null,{"$f":"Sheet1!$S281-Sheet1!$R281","v":0},"-","-","-",{"$f":"IFERROR(Tableau1[[#This Row],[THEO]]-Tableau1[[#This Row],[Qtt 2éme lot]],\"-\")","v":"-"},"-",{"$f":"IF(Tableau1[[#This Row],[2éme lot]]=\"-\",\"-\",IFERROR(IF(Q281=\"\",\"-\",INDEX(I:I,MATCH(Q281,C:C,0)+1)),\"-\"))","v":"-"},"-","-"]
[500,"MD000205","CANTAPONE 200MG COMP.PELLI. PILUL/30","ENTACAPONE","192287","01.10.2022","MG/EXP1",2,"MG/EXP1-BOX6-PSY-016",null,0,null,null,2609.19,"EL KENDI INDUSTRIE DE MEDICAMENTS SPA","-",null,{"$f":"SUMIF(Tableau1[Description article],Tableau1[Produits],Tableau1[Emplacement])","v":0},null,{"$f":"Sheet1!$S282-Sheet1!$R282","v":0},"-","-","-",{"$f":"IFERROR(Tableau1[[#This Row],[THEO]]-Tableau1[[#This Row],[Qtt 2éme lot]],\"-\")","v":"-"},"-",{"$f":"IF(Tableau1[[#This Row],[2éme lot]]=\"-\",\"-\",IFERROR(IF(Q282=\"\",\"-\",INDEX(I:I,MATCH(Q282,C:C,0)+1)),\"-\"))","v":"-"},"-","-"]
[501,"MD000206","CAPOCARD PLUS 50MG/25MG COMP.SEC. B/30","CAPTOPRIL 50MG+HYDROCHLORTHIAZIDE 25MG","LL9016","01.07.2022","MG/EXP1",88,"MG/EXP1-B-020",null,0,null,null,418.44,"DAR AL DAWA SARL","-",null,{"$f":"SUMIF(Tableau1[Description article],Tableau1[Produits],Tableau1[Emplacement])","v":0},null,{"$f":"Sheet1!$S283-Sheet1!$R283","v":0},"-","-","-",{"$f":"IFERROR(Tableau1[[#This Row],[THEO]]-Tableau1[[#This Row],[Qtt 2éme lot]],\"-\")","v":"-"},"-",{"$f":"IF(Tableau1[[#This Row],[2éme lot]]=\"-\",\"-\",IFERROR(IF(Q283=\"\",\"-\",INDEX(I:I,MATCH(Q283,C:C,0)+1)),\"-\"))","v":"-"},"-","-"]
[503,"PP00395","CARAFENE  SOL.BUV.  FL/30ML","EXTRAIT SEC DE FENOUIL","180414","01.07.2020","MG/EXP1",1,"MG/EXP1-D-022",null,0,null,null,499.99,"EL KENDI INDUSTRIE DE MEDICAMENTS SPA","-",null,{"$f":"SUMIF(Tableau1[Description article],Tableau1[Produits],Tableau1[Emplacement])","v":0},null,{"$f":"Sheet1!$S284-Sheet1!$R284","v":0},"-","-","-",{"$f":"IFERROR(Tableau1[[#This Row],[THEO]]-Tableau1[[#This Row],[Qtt 2éme lot]],\"-\")","v":"-"},"-",{"$f":"IF(Tableau1[[#This Row],[2éme lot]]=\"-\",\"-\",IFERROR(IF(Q284=\"\",\"-\",INDEX(I:I,MATCH(Q284,C:C,0)+1)),\"-\"))","v":"-"},"-","-"]
[504,"MD000210","CARBIMOL LP 400MG COMP.PELLI.SEC.LP. B/30","CARBAMAZEPINE","090","01.11.2021","MG/EXP1",46,"MG/EXP1-BOX6-PSY",null,0,null,null,360.5,"BIO-GALENIC SARL","-",null,{"$f":"SUMIF(Tableau1[Description article],Tableau1[Produits],Tableau1[Emplacement])","v":0},null,{"$f":"Sheet1!$S285-Sheet1!$R285","v":0},"-","-","-",{"$f":"IFERROR(Tableau1[[#This Row],[THEO]]-Tableau1[[#This Row],[Qtt 2éme lot]],\"-\")","v":"-"},"-",{"$f":"IF(Tableau1[[#This Row],[2éme lot]]=\"-\",\"-\",IFERROR(IF(Q285=\"\",\"-\",INDEX(I:I,MATCH(Q285,C:C,0)+1)),\"-\"))","v":"-"},"-","-"]
[508,"MD002300","CARDIMED 80MG COMP. B/30","TELMISARTAN","190801/FAB","01.05.2022","MG/EXP1",28,"MG/EXP1-D-036",null,0,null,null,1287.49,"S.A.N.A.M.E.D","-",null,{"$f":"SUMIF(Tableau1[Description article],Tableau1[Produits],Tableau1[Emplacement])","v":0},null,{"$f":"Sheet1!$S286-Sheet1!$R286","v":0},"-","-","-",{"$f":"IFERROR(Tableau1[[#This Row],[THEO]]-Tableau1[[#This Row],[Qtt 2éme lot]],\"-\")","v":"-"},"-",{"$f":"IF(Tableau1[[#This Row],[2éme lot]]=\"-\",\"-\",IFERROR(IF(Q286=\"\",\"-\",INDEX(I:I,MATCH(Q286,C:C,0)+1)),\"-\"))","v":"-"},"-","-"]
[510,"MD000215","CARDULAR 2MG COMP.SEC. B/20","DOXAZOSINE","19628219","31.10.2024","MG/EXP1",283,"MG/EXP1-F-047",null,0,null,null,547.5,"PFIZER PHARM ALGERIE SPA","-",null,{"$f":"SUMIF(Tableau1[Description article],Tableau1[Produits],Tableau1[Emplacement])","v":0},null,{"$f":"Sheet1!$S287-Sheet1!$R287","v":0},"-","-","-",{"$f":"IFERROR(Tableau1[[#This Row],[THEO]]-Tableau1[[#This Row],[Qtt 2éme lot]],\"-\")","v":"-"},"-",{"$f":"IF(Tableau1[[#This Row],[2éme lot]]=\"-\",\"-\",IFERROR(IF(Q287=\"\",\"-\",INDEX(I:I,MATCH(Q287,C:C,0)+1)),\"-\"))","v":"-"},"-","-"]
[513,"MD000217","CARTEOL LP 0,02 COLLY.SOL.LP. FL/3ML","CARTEOLOL CHLORHYDRATE","H5042","01.08.2021","MG/EXP1",667,"MG/EXP1-E-025",null,0,null,null,524.59,"LDM LABORATOIRES DE DIAGNOSTIC MAGHREBINS","-",null,{"$f":"SUMIF(Tableau1[Description article],Tableau1[Produits],Tableau1[Emplacement])","v":0},null,{"$f":"Sheet1!$S288-Sheet1!$R288","v":0},"-","-","-",{"$f":"IFERROR(Tableau1[[#This Row],[THEO]]-Tableau1[[#This Row],[Qtt 2éme lot]],\"-\")","v":"-"},"-",{"$f":"IF(Tableau1[[#This Row],[2éme lot]]=\"-\",\"-\",IFERROR(IF(Q288=\"\",\"-\",INDEX(I:I,MATCH(Q288,C:C,0)+1)),\"-\"))","v":"-"},"-","-"]
[514,"MD000220","CASODEX 50MG COMP.ENRO. B/30","BICALUTAMIDE","93955","01.03.2024","MG/EXP1",100,"MG/EXP1-BOX6-014",null,0,null,"CHER",6234.77,"BIOPHARM SPA","-",null,{"$f":"SUMIF(Tableau1[Description article],Tableau1[Produits],Tableau1[Emplacement])","v":0},null,{"$f":"Sheet1!$S289-Sheet1!$R289","v":0},"-","-","-",{"$f":"IFERROR(Tableau1[[#This Row],[THEO]]-Tableau1[[#This Row],[Qtt 2éme lot]],\"-\")","v":"-"},"-",{"$f":"IF(Tableau1[[#This Row],[2éme lot]]=\"-\",\"-\",IFERROR(IF(Q289=\"\",\"-\",INDEX(I:I,MATCH(Q289,C:C,0)+1)),\"-\"))","v":"-"},"-","-"]
[515,"MD000220","CASODEX 50MG COMP.ENRO. B/30","BICALUTAMIDE","93953","01.03.2024","MG/EXP1",30,"MG/EXP1-BOX6-014",null,0,null,"CHER",6202.68,"BIOPHARM SPA","-",null,{"$f":"SUMIF(Tableau1[Description article],Tableau1[Produits],Tableau1[Emplacement])","v":0},null,{"$f":"Sheet1!$S290-Sheet1!$R290","v":0},"-","-","-",{"$f":"IFERROR(Tableau1[[#This Row],[THEO]]-Tableau1[[#This Row],[Qtt 2éme lot]],\"-\")","v":"-"},"-",{"$f":"IF(Tableau1[[#This Row],[2éme lot]]=\"-\",\"-\",IFERROR(IF(Q290=\"\",\"-\",INDEX(I:I,MATCH(Q290,C:C,0)+1)),\"-\"))","v":"-"},"-","-"]
[516,"MD000220","CASODEX 50MG COMP.ENRO. B/30","BICALUTAMIDE","83907**","31.07.2023","MG/EXP1",55,"MG/EXP1-BOX6-014",null,0,null,"CHER",6317.6,"BIOPHARM SPA","-",null,{"$f":"SUMIF(Tableau1[Description article],Tableau1[Produits],Tableau1[Emplacement])","v":0},null,{"$f":"Sheet1!$S291-Sheet1!$R291","v":0},"-","-","-",{"$f":"IFERROR(Tableau1[[#This Row],[THEO]]-Tableau1[[#This Row],[Qtt 2éme lot]],\"-\")","v":"-"},"-",{"$f":"IF(Tableau1[[#This Row],[2éme lot]]=\"-\",\"-\",IFERROR(IF(Q291=\"\",\"-\",INDEX(I:I,MATCH(Q291,C:C,0)+1)),\"-\"))","v":"-"},"-","-"]
[517,"MD000225","CEDROX 1G COMP. B/12","CEFADROXIL MONOHYDRATE","190131","01.04.2022","MG/EXP1",110,"MG/EXP1-C-066",null,0,null,null,674.13,"HIKMA PHARMA ALGERIA SARL","-",null,{"$f":"SUMIF(Tableau1[Description article],Tableau1[Produits],Tableau1[Emplacement])","v":0},null,{"$f":"Sheet1!$S292-Sheet1!$R292","v":0},"-","-","-",{"$f":"IFERROR(Tableau1[[#This Row],[THEO]]-Tableau1[[#This Row],[Qtt 2éme lot]],\"-\")","v":"-"},"-",{"$f":"IF(Tableau1[[#This Row],[2éme lot]]=\"-\",\"-\",IFERROR(IF(Q292=\"\",\"-\",INDEX(I:I,MATCH(Q292,C:C,0)+1)),\"-\"))","v":"-"},"-","-"]
[520,"MD000226","CEDROXAL 1G COMP.B/12","CEFADROXIL MONOHYDRATE","071083","30.04.2021","MG/EXP1",43,"MG/EXP1-C-069",null,0,null,null,677.78,"SOPHAL SOCIETE PHARMACEUTIQUE ALGERIENNE","-",null,{"$f":"SUMIF(Tableau1[Description article],Tableau1[Produits],Tableau1[Emplacement])","v":0},null,{"$f":"Sheet1!$S293-Sheet1!$R293","v":0},"-","-","-",{"$f":"IFERROR(Tableau1[[#This Row],[THEO]]-Tableau1[[#This Row],[Qtt 2éme lot]],\"-\")","v":"-"},"-",{"$f":"IF(Tableau1[[#This Row],[2éme lot]]=\"-\",\"-\",IFERROR(IF(Q293=\"\",\"-\",INDEX(I:I,MATCH(Q293,C:C,0)+1)),\"-\"))","v":"-"},"-","-"]
[521,"MD002463","CEFALIZOL HUP 1G PDRE.P.SOL.INJ.IM\\IV. B/01 FL.PDRE. + 01 AMP.SOLV/5ML","CEFAZOLINE SODIQUE EXPRIME EN CEFAZOLINE","019","01.11.2021","MG/EXP1",228,"MG/EXP1-D-039",null,0,null,null,191.96,"HUP.P PHARMA SARL","-",null,{"$f":"SUMIF(Tableau1[Description article],Tableau1[Produits],Tableau1[Emplacement])","v":0},null,{"$f":"Sheet1!$S294-Sheet1!$R294","v":0},"-","-","-",{"$f":"IFERROR(Tableau1[[#This Row],[THEO]]-Tableau1[[#This Row],[Qtt 2éme lot]],\"-\")","v":"-"},"-",{"$f":"IF(Tableau1[[#This Row],[2éme lot]]=\"-\",\"-\",IFERROR(IF(Q294=\"\",\"-\",INDEX(I:I,MATCH(Q294,C:C,0)+1)),\"-\"))","v":"-"},"-","-"]
[522,"MD000227","CEFAZAL 1G PDRE.SOL.INJ.IM. B/01 FL.PDRE. + 01 AMP.SOLV/5ML","CEFAZOLINE","481279","01.08.2021","MG/EXP1",294,"MG/EXP1-A-067",null,0,null,null,220.34,"SOPHAL SOCIETE PHARMACEUTIQUE ALGERIENNE","-",null,{"$f":"SUMIF(Tableau1[Description article],Tableau1[Produits],Tableau1[Emplacement])","v":0},null,{"$f":"Sheet1!$S295-Sheet1!$R295","v":0},"-","-","-",{"$f":"IFERROR(Tableau1[[#This Row],[THEO]]-Tableau1[[#This Row],[Qtt 2éme lot]],\"-\")","v":"-"},"-",{"$f":"IF(Tableau1[[#This Row],[2éme lot]]=\"-\",\"-\",IFERROR(IF(Q295=\"\",\"-\",INDEX(I:I,MATCH(Q295,C:C,0)+1)),\"-\"))","v":"-"},"-","-"]
[525,"MD000228","CEFAZOL 1GR PDRE.& SOLV.P.SOL.INJ.IM. B/01 FL.PDRE. + 01 AMP.SOLV/5ML","CEFAZOLINE","105","01.08.2020","MG/EXP1",464,"MG/EXP1-B-032",null,0,null,null,166.51,"GB PHARMA SARL","-",null,{"$f":"SUMIF(Tableau1[Description article],Tableau1[Produits],Tableau1[Emplacement])","v":0},null,{"$f":"Sheet1!$S296-Sheet1!$R296","v":0},"-","-","-",{"$f":"IFERROR(Tableau1[[#This Row],[THEO]]-Tableau1[[#This Row],[Qtt 2éme lot]],\"-\")","v":"-"},"-",{"$f":"IF(Tableau1[[#This Row],[2éme lot]]=\"-\",\"-\",IFERROR(IF(Q296=\"\",\"-\",INDEX(I:I,MATCH(Q296,C:C,0)+1)),\"-\"))","v":"-"},"-","-"]
[527,"MD004112","CEFIMAX 200MG CP PELL B/08","CEFIXIME TRIHYDRATE","001/19","01.10.2021","MG/EXP1",338,"MG/EXP1-C-017",null,0,null,null,1099.3,"PHARMALLIANCE EURL","-",null,{"$f":"SUMIF(Tableau1[Description article],Tableau1[Produits],Tableau1[Emplacement])","v":0},null,{"$f":"Sheet1!$S297-Sheet1!$R297","v":0},"-","-","-",{"$f":"IFERROR(Tableau1[[#This Row],[THEO]]-Tableau1[[#This Row],[Qtt 2éme lot]],\"-\")","v":"-"},"-",{"$f":"IF(Tableau1[[#This Row],[2éme lot]]=\"-\",\"-\",IFERROR(IF(Q297=\"\",\"-\",INDEX(I:I,MATCH(Q297,C:C,0)+1)),\"-\"))","v":"-"},"-","-"]
[528,"MD002363","CEFIMAX 40MG/5ML PDRE.SUSP.BUV. FL/40ML","CEFIXIME TRIHYDRATE","002/18","06.12.2020","MG/EXP1",111,"MG/EXP1-G-044",null,0,null,null,585.64,"PHARMALLIANCE EURL","-",null,{"$f":"SUMIF(Tableau1[Description article],Tableau1[Produits],Tableau1[Emplacement])","v":0},null,{"$f":"Sheet1!$S298-Sheet1!$R298","v":0},"-","-","-",{"$f":"IFERROR(Tableau1[[#This Row],[THEO]]-Tableau1[[#This Row],[Qtt 2éme lot]],\"-\")","v":"-"},"-",{"$f":"IF(Tableau1[[#This Row],[2éme lot]]=\"-\",\"-\",IFERROR(IF(Q298=\"\",\"-\",INDEX(I:I,MATCH(Q298,C:C,0)+1)),\"-\"))","v":"-"},"-","-"]
[530,"MD000239","CELECOXIB BEKER 100MG GLES. B/20","CELECOXIB","044718","17.05.2021","MG/EXP1",32,"MG/EXP1-B-021",null,0,null,null,477.48,"BEKER LABORATOIRES","-",null,{"$f":"SUMIF(Tableau1[Description article],Tableau1[Produits],Tableau1[Emplacement])","v":0},null,{"$f":"Sheet1!$S299-Sheet1!$R299","v":0},"-","-","-",{"$f":"IFERROR(Tableau1[[#This Row],[THEO]]-Tableau1[[#This Row],[Qtt 2éme lot]],\"-\")","v":"-"},"-",{"$f":"IF(Tableau1[[#This Row],[2éme lot]]=\"-\",\"-\",IFERROR(IF(Q299=\"\",\"-\",INDEX(I:I,MATCH(Q299,C:C,0)+1)),\"-\"))","v":"-"},"-","-"]
[531,"MD000240","CELECOXIB BEKER 200MG GLES. B/10","CELECOXIB","045418","27.05.2021","MG/EXP1",84,"MG/EXP1-G-015",null,0,null,null,453,"BEKER LABORATOIRES","-",null,{"$f":"SUMIF(Tableau1[Description article],Tableau1[Produits],Tableau1[Emplacement])","v":0},null,{"$f":"Sheet1!$S300-Sheet1!$R300","v":0},"-","-","-",{"$f":"IFERROR(Tableau1[[#This Row],[THEO]]-Tableau1[[#This Row],[Qtt 2éme lot]],\"-\")","v":"-"},"-",{"$f":"IF(Tableau1[[#This Row],[2éme lot]]=\"-\",\"-\",IFERROR(IF(Q300=\"\",\"-\",INDEX(I:I,MATCH(Q300,C:C,0)+1)),\"-\"))","v":"-"},"-","-"]
[532,"MD000243","CELECOXIB LDM 200MG GLES. B/10","CELECOXIB","9007","01.12.2020","MG/EXP1",6,"MG/EXP1-B-024",null,0,null,null,453,"LDM LABORATOIRES DE DIAGNOSTIC MAGHREBINS","-",null,{"$f":"SUMIF(Tableau1[Description article],Tableau1[Produits],Tableau1[Emplacement])","v":0},null,{"$f":"Sheet1!$S301-Sheet1!$R301","v":0},"-","-","-",{"$f":"IFERROR(Tableau1[[#This Row],[THEO]]-Tableau1[[#This Row],[Qtt 2éme lot]],\"-\")","v":"-"},"-",{"$f":"IF(Tableau1[[#This Row],[2éme lot]]=\"-\",\"-\",IFERROR(IF(Q301=\"\",\"-\",INDEX(I:I,MATCH(Q301,C:C,0)+1)),\"-\"))","v":"-"},"-","-"]
[533,"MD000248","CELESTENE CHRONODOSE 2,7MG/3MG/AMP. SUSP.INJ. B/01 AMP. + 01 SERING. + 02 AIGUI.","BETAMETHASONE","X10111","31.12.2020","MG/EXP1",39,"MG/EXP1-A-021",null,0,null,null,225.37,"AT PHARMA SPA","-",null,{"$f":"SUMIF(Tableau1[Description article],Tableau1[Produits],Tableau1[Emplacement])","v":0},null,{"$f":"Sheet1!$S302-Sheet1!$R302","v":0},"-","-","-",{"$f":"IFERROR(Tableau1[[#This Row],[THEO]]-Tableau1[[#This Row],[Qtt 2éme lot]],\"-\")","v":"-"},"-",{"$f":"IF(Tableau1[[#This Row],[2éme lot]]=\"-\",\"-\",IFERROR(IF(Q302=\"\",\"-\",INDEX(I:I,MATCH(Q302,C:C,0)+1)),\"-\"))","v":"-"},"-","-"]
[534,"MD000249","CELETASONE 2MG COMP.DISPER. B/20","BETAMETHASONE","161","01.12.2021","MG/EXP1",401,"MG/EXP1-D-034",null,0,null,null,317.5,"BIOPHARM SPA","-",null,{"$f":"SUMIF(Tableau1[Description article],Tableau1[Produits],Tableau1[Emplacement])","v":0},null,{"$f":"Sheet1!$S303-Sheet1!$R303","v":0},"-","-","-",{"$f":"IFERROR(Tableau1[[#This Row],[THEO]]-Tableau1[[#This Row],[Qtt 2éme lot]],\"-\")","v":"-"},"-",{"$f":"IF(Tableau1[[#This Row],[2éme lot]]=\"-\",\"-\",IFERROR(IF(Q303=\"\",\"-\",INDEX(I:I,MATCH(Q303,C:C,0)+1)),\"-\"))","v":"-"},"-","-"]
[536,"PP00080","CELINE CP .B/60",null,"488D","01.06.2021","MG/EXP1",16,"MG/EXP1-BOX6-021",null,0,null,"CHER",4301.43,"THERAMAF","-",null,{"$f":"SUMIF(Tableau1[Description article],Tableau1[Produits],Tableau1[Emplacement])","v":0},null,{"$f":"Sheet1!$S304-Sheet1!$R304","v":0},"-","-","-",{"$f":"IFERROR(Tableau1[[#This Row],[THEO]]-Tableau1[[#This Row],[Qtt 2éme lot]],\"-\")","v":"-"},"-",{"$f":"IF(Tableau1[[#This Row],[2éme lot]]=\"-\",\"-\",IFERROR(IF(Q304=\"\",\"-\",INDEX(I:I,MATCH(Q304,C:C,0)+1)),\"-\"))","v":"-"},"-","-"]
[538,"MD000252","CELOPRAM 20MG COMP.PELLI.SEC. B/30","ESCITALOPRAM","8184","31.05.2020","MG/EXP1",14,"MG/EXP1-BOX6-PSY-017",null,0,null,null,1557.6,"INPHA MEDIS SPA","-",null,{"$f":"SUMIF(Tableau1[Description article],Tableau1[Produits],Tableau1[Emplacement])","v":0},null,{"$f":"Sheet1!$S305-Sheet1!$R305","v":0},"-","-","-",{"$f":"IFERROR(Tableau1[[#This Row],[THEO]]-Tableau1[[#This Row],[Qtt 2éme lot]],\"-\")","v":"-"},"-",{"$f":"IF(Tableau1[[#This Row],[2éme lot]]=\"-\",\"-\",IFERROR(IF(Q305=\"\",\"-\",INDEX(I:I,MATCH(Q305,C:C,0)+1)),\"-\"))","v":"-"},"-","-"]
[539,"MD000259","CEPHADAR FORTE 250MG/5ML PDRE.ORA. FL/100ML","CEFALEXINE","65ES","01.06.2022","MG/EXP1",192,"MG/EXP1-G-031",null,0,null,null,475.07,"DAR AL DAWA SARL","-",null,{"$f":"SUMIF(Tableau1[Description article],Tableau1[Produits],Tableau1[Emplacement])","v":0},null,{"$f":"Sheet1!$S306-Sheet1!$R306","v":0},"-","-","-",{"$f":"IFERROR(Tableau1[[#This Row],[THEO]]-Tableau1[[#This Row],[Qtt 2éme lot]],\"-\")","v":"-"},"-",{"$f":"IF(Tableau1[[#This Row],[2éme lot]]=\"-\",\"-\",IFERROR(IF(Q306=\"\",\"-\",INDEX(I:I,MATCH(Q306,C:C,0)+1)),\"-\"))","v":"-"},"-","-"]
[541,"MD000261","CEPHALEX 250MG/5ML PDRE.SOL.BUV. FL/100ML","CEFALEXINE","9AD1116","01.04.2022","MG/EXP1",129,"MG/EXP1-C-044",null,0,null,null,481.39,"GB PHARMA SARL","-",null,{"$f":"SUMIF(Tableau1[Description article],Tableau1[Produits],Tableau1[Emplacement])","v":0},null,{"$f":"Sheet1!$S307-Sheet1!$R307","v":0},"-","-","-",{"$f":"IFERROR(Tableau1[[#This Row],[THEO]]-Tableau1[[#This Row],[Qtt 2éme lot]],\"-\")","v":"-"},"-",{"$f":"IF(Tableau1[[#This Row],[2éme lot]]=\"-\",\"-\",IFERROR(IF(Q307=\"\",\"-\",INDEX(I:I,MATCH(Q307,C:C,0)+1)),\"-\"))","v":"-"},"-","-"]
[543,"MD000263","CERULYSE 5G/100G SOL.AURIC. FL/10ML","XYLENE","H4704","01.05.2022","MG/EXP1",71,"MG/EXP1-A-011",null,0,null,null,189.04,"E.P.DIS EURAPHARMA SPA","-",null,{"$f":"SUMIF(Tableau1[Description article],Tableau1[Produits],Tableau1[Emplacement])","v":0},null,{"$f":"Sheet1!$S308-Sheet1!$R308","v":0},"-","-","-",{"$f":"IFERROR(Tableau1[[#This Row],[THEO]]-Tableau1[[#This Row],[Qtt 2éme lot]],\"-\")","v":"-"},"-",{"$f":"IF(Tableau1[[#This Row],[2éme lot]]=\"-\",\"-\",IFERROR(IF(Q308=\"\",\"-\",INDEX(I:I,MATCH(Q308,C:C,0)+1)),\"-\"))","v":"-"},"-","-"]
[546,"MD000265","CETALGINE 100MG SUPP. B/10","PARACETAMOL","7R564*","01.09.2020","MG/EXP1",2,"MG/EXP1-C-045",null,0,null,null,110,"SALEM LABORATOIRES SARL","-",null,{"$f":"SUMIF(Tableau1[Description article],Tableau1[Produits],Tableau1[Emplacement])","v":0},null,{"$f":"Sheet1!$S309-Sheet1!$R309","v":0},"-","-","-",{"$f":"IFERROR(Tableau1[[#This Row],[THEO]]-Tableau1[[#This Row],[Qtt 2éme lot]],\"-\")","v":"-"},"-",{"$f":"IF(Tableau1[[#This Row],[2éme lot]]=\"-\",\"-\",IFERROR(IF(Q309=\"\",\"-\",INDEX(I:I,MATCH(Q309,C:C,0)+1)),\"-\"))","v":"-"},"-","-"]
[547,"MD000266","CETALGINE 150MG SUPP. B/10","PARACETAMOL - 8 A 12 KG-","9R044","22.12.2021","MG/EXP1",106,"MG/EXP1-E-061",null,0,null,null,110,"SALEM LABORATOIRES SARL","-",null,{"$f":"SUMIF(Tableau1[Description article],Tableau1[Produits],Tableau1[Emplacement])","v":0},null,{"$f":"Sheet1!$S310-Sheet1!$R310","v":0},"-","-","-",{"$f":"IFERROR(Tableau1[[#This Row],[THEO]]-Tableau1[[#This Row],[Qtt 2éme lot]],\"-\")","v":"-"},"-",{"$f":"IF(Tableau1[[#This Row],[2éme lot]]=\"-\",\"-\",IFERROR(IF(Q310=\"\",\"-\",INDEX(I:I,MATCH(Q310,C:C,0)+1)),\"-\"))","v":"-"},"-","-"]
[548,"MD000268","CETALGINE 300MG SUPP. B/10","PARACETAMOL - 15 A 24 KG-","9R172","01.02.2022","MG/EXP1",4,"MG/EXP1-G-033",null,0,null,null,120,"SALEM LABORATOIRES SARL","-",null,{"$f":"SUMIF(Tableau1[Description article],Tableau1[Produits],Tableau1[Emplacement])","v":0},null,{"$f":"Sheet1!$S311-Sheet1!$R311","v":0},"-","-","-",{"$f":"IFERROR(Tableau1[[#This Row],[THEO]]-Tableau1[[#This Row],[Qtt 2éme lot]],\"-\")","v":"-"},"-",{"$f":"IF(Tableau1[[#This Row],[2éme lot]]=\"-\",\"-\",IFERROR(IF(Q311=\"\",\"-\",INDEX(I:I,MATCH(Q311,C:C,0)+1)),\"-\"))","v":"-"},"-","-"]
[549,"MD000268","CETALGINE 300MG SUPP. B/10","PARACETAMOL - 15 A 24 KG-","9R169","18.02.2022","MG/EXP1",4,"MG/EXP1-G-034",null,0,null,null,120,"SALEM LABORATOIRES SARL","-",null,{"$f":"SUMIF(Tableau1[Description article],Tableau1[Produits],Tableau1[Emplacement])","v":0},null,{"$f":"Sheet1!$S312-Sheet1!$R312","v":0},"-","-","-",{"$f":"IFERROR(Tableau1[[#This Row],[THEO]]-Tableau1[[#This Row],[Qtt 2éme lot]],\"-\")","v":"-"},"-",{"$f":"IF(Tableau1[[#This Row],[2éme lot]]=\"-\",\"-\",IFERROR(IF(Q312=\"\",\"-\",INDEX(I:I,MATCH(Q312,C:C,0)+1)),\"-\"))","v":"-"},"-","-"]
[550,"MD000270","CETROTIDE 0,25MG PDRE&SOLV.P.SOL.INJ.SC.B/1F.PRE+1SRG.PRP.SOL+1AIG/20G+1AIG.HYPDRM/27G+2TAMP.IMB.ALC","CETRORELIX ACETATE","9A108B/521442","01.12.2020","MG/EXP1",24,"MG/EXP1-BOX6",null,0,null,"GLAC",5737.61,"AT PHARMA SPA","-",null,{"$f":"SUMIF(Tableau1[Description article],Tableau1[Produits],Tableau1[Emplacement])","v":0},null,{"$f":"Sheet1!$S313-Sheet1!$R313","v":0},"-","-","-",{"$f":"IFERROR(Tableau1[[#This Row],[THEO]]-Tableau1[[#This Row],[Qtt 2éme lot]],\"-\")","v":"-"},"-",{"$f":"IF(Tableau1[[#This Row],[2éme lot]]=\"-\",\"-\",IFERROR(IF(Q313=\"\",\"-\",INDEX(I:I,MATCH(Q313,C:C,0)+1)),\"-\"))","v":"-"},"-","-"]
[552,"MD000271","CHIBRO-CADRON 100MG/350000UI/100 ML COLLY. FL/5ML","DEXAMETHASONE PHOSPHA/ NEOMYCINE SULFATE","1L69","01.06.2022","MG/EXP1",800,"MG/EXP1-A-002",null,0,null,null,209.51,"BIOPHARM SPA","-",null,{"$f":"SUMIF(Tableau1[Description article],Tableau1[Produits],Tableau1[Emplacement])","v":0},null,{"$f":"Sheet1!$S314-Sheet1!$R314","v":0},"-","-","-",{"$f":"IFERROR(Tableau1[[#This Row],[THEO]]-Tableau1[[#This Row],[Qtt 2éme lot]],\"-\")","v":"-"},"-",{"$f":"IF(Tableau1[[#This Row],[2éme lot]]=\"-\",\"-\",IFERROR(IF(Q314=\"\",\"-\",INDEX(I:I,MATCH(Q314,C:C,0)+1)),\"-\"))","v":"-"},"-","-"]
[553,"MD004046","CIAFAL 20 MG CP B/01","tadalafil","132002","30.06.2021","MG/EXP1",19,"MG/EXP1-G-013",null,0,null,null,312.25,"SOPHAL SOCIETE PHARMACEUTIQUE ALGERIENNE","-",null,{"$f":"SUMIF(Tableau1[Description article],Tableau1[Produits],Tableau1[Emplacement])","v":0},null,{"$f":"Sheet1!$S315-Sheet1!$R315","v":0},"-","-","-",{"$f":"IFERROR(Tableau1[[#This Row],[THEO]]-Tableau1[[#This Row],[Qtt 2éme lot]],\"-\")","v":"-"},"-",{"$f":"IF(Tableau1[[#This Row],[2éme lot]]=\"-\",\"-\",IFERROR(IF(Q315=\"\",\"-\",INDEX(I:I,MATCH(Q315,C:C,0)+1)),\"-\"))","v":"-"},"-","-"]
[554,"MD004084","CIAFAL 20 MG CP B/02","tadalafil","133002","30.06.2021","MG/EXP1",62,"MG/EXP1-BOX6-002",null,0,null,null,627,"SOPROPHAL SPA","-",null,{"$f":"SUMIF(Tableau1[Description article],Tableau1[Produits],Tableau1[Emplacement])","v":0},null,{"$f":"Sheet1!$S316-Sheet1!$R316","v":0},"-","-","-",{"$f":"IFERROR(Tableau1[[#This Row],[THEO]]-Tableau1[[#This Row],[Qtt 2éme lot]],\"-\")","v":"-"},"-",{"$f":"IF(Tableau1[[#This Row],[2éme lot]]=\"-\",\"-\",IFERROR(IF(Q316=\"\",\"-\",INDEX(I:I,MATCH(Q316,C:C,0)+1)),\"-\"))","v":"-"},"-","-"]
[556,"MD000273","CIAFAL 5MG CP B/28","TADALAFIL","131016","01.12.2021","MG/EXP1",194,"MG/EXP1-BOX6-002",null,0,null,null,1422.43,"SOPHAL SOCIETE PHARMACEUTIQUE ALGERIENNE","-",null,{"$f":"SUMIF(Tableau1[Description article],Tableau1[Produits],Tableau1[Emplacement])","v":0},null,{"$f":"Sheet1!$S317-Sheet1!$R317","v":0},"-","-","-",{"$f":"IFERROR(Tableau1[[#This Row],[THEO]]-Tableau1[[#This Row],[Qtt 2éme lot]],\"-\")","v":"-"},"-",{"$f":"IF(Tableau1[[#This Row],[2éme lot]]=\"-\",\"-\",IFERROR(IF(Q317=\"\",\"-\",INDEX(I:I,MATCH(Q317,C:C,0)+1)),\"-\"))","v":"-"},"-","-"]
[558,"MD000275","CIBETAINE 2G/5ML SOL.BUV. B/20 AMP/5ML","CITRATE DE BETAINE","09-138***","01.06.2022","MG/EXP1",68,"MG/EXP1-G-012",null,0,null,null,644.25,"L.A.D.PHARMA SARL","-",null,{"$f":"SUMIF(Tableau1[Description article],Tableau1[Produits],Tableau1[Emplacement])","v":0},null,{"$f":"Sheet1!$S318-Sheet1!$R318","v":0},"-","-","-",{"$f":"IFERROR(Tableau1[[#This Row],[THEO]]-Tableau1[[#This Row],[Qtt 2éme lot]],\"-\")","v":"-"},"-",{"$f":"IF(Tableau1[[#This Row],[2éme lot]]=\"-\",\"-\",IFERROR(IF(Q318=\"\",\"-\",INDEX(I:I,MATCH(Q318,C:C,0)+1)),\"-\"))","v":"-"},"-","-"]
[560,"MD002410","CICLOPLEGICEDOL 10MG/ML COLLY.SOL. FL/5ML COMPT.GTTES.","CHLORHYDRATE DE CYCLOPENTOLATE","190560","01.05.2021","MG/EXP1",73,"MG/EXP1-D-013",null,0,null,null,485.84,"AT PHARMA SPA","-",null,{"$f":"SUMIF(Tableau1[Description article],Tableau1[Produits],Tableau1[Emplacement])","v":0},null,{"$f":"Sheet1!$S319-Sheet1!$R319","v":0},"-","-","-",{"$f":"IFERROR(Tableau1[[#This Row],[THEO]]-Tableau1[[#This Row],[Qtt 2éme lot]],\"-\")","v":"-"},"-",{"$f":"IF(Tableau1[[#This Row],[2éme lot]]=\"-\",\"-\",IFERROR(IF(Q319=\"\",\"-\",INDEX(I:I,MATCH(Q319,C:C,0)+1)),\"-\"))","v":"-"},"-","-"]
[561,"MD000276","CICOLINA 100MG/ML SOL.BUV. FL/60ML + PIPT.GRAD.","CITICOLINE 0.1G/ML","9064*","01.01.2022","MG/EXP1",30,"MG/EXP1-BOX6-PSY-016",null,0,null,null,975.5,"INPHA MEDIS SPA","-",null,{"$f":"SUMIF(Tableau1[Description article],Tableau1[Produits],Tableau1[Emplacement])","v":0},null,{"$f":"Sheet1!$S320-Sheet1!$R320","v":0},"-","-","-",{"$f":"IFERROR(Tableau1[[#This Row],[THEO]]-Tableau1[[#This Row],[Qtt 2éme lot]],\"-\")","v":"-"},"-",{"$f":"IF(Tableau1[[#This Row],[2éme lot]]=\"-\",\"-\",IFERROR(IF(Q320=\"\",\"-\",INDEX(I:I,MATCH(Q320,C:C,0)+1)),\"-\"))","v":"-"},"-","-"]
[562,"MD000276","CICOLINA 100MG/ML SOL.BUV. FL/60ML + PIPT.GRAD.","CITICOLINE 0.1G/ML","9064","01.01.2022","MG/EXP1",10,"MG/EXP1-BOX6-PSY-016",null,0,null,null,975.5,"INPHA MEDIS SPA","-",null,{"$f":"SUMIF(Tableau1[Description article],Tableau1[Produits],Tableau1[Emplacement])","v":0},null,{"$f":"Sheet1!$S321-Sheet1!$R321","v":0},"-","-","-",{"$f":"IFERROR(Tableau1[[#This Row],[THEO]]-Tableau1[[#This Row],[Qtt 2éme lot]],\"-\")","v":"-"},"-",{"$f":"IF(Tableau1[[#This Row],[2éme lot]]=\"-\",\"-\",IFERROR(IF(Q321=\"\",\"-\",INDEX(I:I,MATCH(Q321,C:C,0)+1)),\"-\"))","v":"-"},"-","-"]
[564,"MD004090","CIFLODINE 5MG GLES. B/60","acide folique","03/18","30.11.2020","MG/EXP1",50,"MG/EXP1-E-006",null,0,null,null,249.49,"LAM SARL",{"$f":"IFERROR(IF(Q322=\"\",\"-\",INDEX(I:I,MATCH(Q322,C:C,0))),\"-\")","v":"-"},null,{"$f":"SUMIF(Tableau1[Description article],Tableau1[Produits],Tableau1[Emplacement])","v":0},null,{"$f":"Sheet1!$S322-Sheet1!$R322","v":0},{"$f":"IFERROR(IF(Q322=\"\",\"-\",INDEX(F:F,MATCH(Q322,C:C,0))),\"-\")","v":"-"},{"$f":"IFERROR(IF(Q322=\"\",\"-\",INDEX(E:E,MATCH(Q322,C:C,0))),\"-\")","v":"-"},{"$f":"IFERROR(IF(Q322=\"\",\"-\",INDEX(N:N,MATCH(Q322,C:C,0))),\"-\")","v":"-"},{"$f":"IFERROR(Tableau1[[#This Row],[THEO]]-Tableau1[[#This Row],[Qtt 2éme lot]],\"-\")","v":"-"},{"$f":"IF(IF(Q322=\"\",\"-\",INDEX(E:E,MATCH(Q322,C:C,0)))=IF(Q322=\"\",\"-\",INDEX(E:E,MATCH(Q322,C:C,1))),\"-\",IF(Q322=\"\",\"-\",INDEX(E:E,MATCH(Q322,C:C,1))))","v":"-"},{"$f":"IF(Tableau1[[#This Row],[2éme lot]]=\"-\",\"-\",IFERROR(IF(Q322=\"\",\"-\",INDEX(I:I,MATCH(Q322,C:C,0)+1)),\"-\"))","v":"-"},{"$f":"IFERROR(IF(Y322=\"\",\"-\",INDEX(N:N,MATCH(Y322,E:E,0))),\"-\")","v":"-"},{"$f":"IFERROR(IF(AA322=\"\",\"-\",INDEX(H:H,MATCH(Y322,E:E,0))),\"-\")","v":"-"}]
[565,"MD000278","CILOXAN 0,3% COLLY. FL/5ML","CIPROFLOXACINE","8FSF2F","01.09.2020","MG/EXP1",175,"MG/EXP1-C-047",null,0,null,null,410.54,"AT PHARMA SPA","-",null,{"$f":"SUMIF(Tableau1[Description article],Tableau1[Produits],Tableau1[Emplacement])","v":0},null,{"$f":"Sheet1!$S323-Sheet1!$R323","v":0},"-","-","-",{"$f":"IFERROR(Tableau1[[#This Row],[THEO]]-Tableau1[[#This Row],[Qtt 2éme lot]],\"-\")","v":"-"},"-",{"$f":"IF(Tableau1[[#This Row],[2éme lot]]=\"-\",\"-\",IFERROR(IF(Q323=\"\",\"-\",INDEX(I:I,MATCH(Q323,C:C,0)+1)),\"-\"))","v":"-"},"-","-"]
[566,"MD000278","CILOXAN 0,3% COLLY. FL/5ML","CIPROFLOXACINE","8KSF2F","30.09.2020","MG/EXP1",6,"MG/EXP1-C-047",null,0,null,null,410.54,"AT PHARMA SPA","-",null,{"$f":"SUMIF(Tableau1[Description article],Tableau1[Produits],Tableau1[Emplacement])","v":0},null,{"$f":"Sheet1!$S324-Sheet1!$R324","v":0},"-","-","-",{"$f":"IFERROR(Tableau1[[#This Row],[THEO]]-Tableau1[[#This Row],[Qtt 2éme lot]],\"-\")","v":"-"},"-",{"$f":"IF(Tableau1[[#This Row],[2éme lot]]=\"-\",\"-\",IFERROR(IF(Q324=\"\",\"-\",INDEX(I:I,MATCH(Q324,C:C,0)+1)),\"-\"))","v":"-"},"-","-"]
[567,"MD000281","CIPRO 750 750MG COMP.PELLI. B/14","CIPROXACINE","9104","31.01.2022","MG/EXP1",120,"MG/EXP1-E-037",null,0,null,null,1478.4,"INPHA MEDIS SPA","-",null,{"$f":"SUMIF(Tableau1[Description article],Tableau1[Produits],Tableau1[Emplacement])","v":0},null,{"$f":"Sheet1!$S325-Sheet1!$R325","v":0},"-","-","-",{"$f":"IFERROR(Tableau1[[#This Row],[THEO]]-Tableau1[[#This Row],[Qtt 2éme lot]],\"-\")","v":"-"},"-",{"$f":"IF(Tableau1[[#This Row],[2éme lot]]=\"-\",\"-\",IFERROR(IF(Q325=\"\",\"-\",INDEX(I:I,MATCH(Q325,C:C,0)+1)),\"-\"))","v":"-"},"-","-"]
[569,"MD000281","CIPRO 750 750MG COMP.PELLI. B/14","CIPROXACINE","9103","01.01.2022","MG/EXP1",2,"MG/EXP1-F-043",null,0,null,null,1478.5,"INPHA MEDIS SPA","-",null,{"$f":"SUMIF(Tableau1[Description article],Tableau1[Produits],Tableau1[Emplacement])","v":0},null,{"$f":"Sheet1!$S326-Sheet1!$R326","v":0},"-","-","-",{"$f":"IFERROR(Tableau1[[#This Row],[THEO]]-Tableau1[[#This Row],[Qtt 2éme lot]],\"-\")","v":"-"},"-",{"$f":"IF(Tableau1[[#This Row],[2éme lot]]=\"-\",\"-\",IFERROR(IF(Q326=\"\",\"-\",INDEX(I:I,MATCH(Q326,C:C,0)+1)),\"-\"))","v":"-"},"-","-"]
[571,"MD000282","CIPRODAR 500MG COMP.PELLI. B/10","CIPROFLOXACINE","340040*","01.06.2021","MG/EXP1",2,"MG/EXP1-C-007",null,0,null,null,792,"DAR AL DAWA SARL","-",null,{"$f":"SUMIF(Tableau1[Description article],Tableau1[Produits],Tableau1[Emplacement])","v":0},null,{"$f":"Sheet1!$S327-Sheet1!$R327","v":0},"-","-","-",{"$f":"IFERROR(Tableau1[[#This Row],[THEO]]-Tableau1[[#This Row],[Qtt 2éme lot]],\"-\")","v":"-"},"-",{"$f":"IF(Tableau1[[#This Row],[2éme lot]]=\"-\",\"-\",IFERROR(IF(Q327=\"\",\"-\",INDEX(I:I,MATCH(Q327,C:C,0)+1)),\"-\"))","v":"-"},"-","-"]
[573,"MD000283","CIPROFLOXACINE BEKER 500MG COMP.PELLI.SEC. B/10","CIPROFLOXACINE","000819","01.08.2021","MG/EXP1",138,"MG/EXP1-D-037",null,0,null,null,797.5,"BEKER LABORATOIRES","-",null,{"$f":"SUMIF(Tableau1[Description article],Tableau1[Produits],Tableau1[Emplacement])","v":0},null,{"$f":"Sheet1!$S328-Sheet1!$R328","v":0},"-","-","-",{"$f":"IFERROR(Tableau1[[#This Row],[THEO]]-Tableau1[[#This Row],[Qtt 2éme lot]],\"-\")","v":"-"},"-",{"$f":"IF(Tableau1[[#This Row],[2éme lot]]=\"-\",\"-\",IFERROR(IF(Q328=\"\",\"-\",INDEX(I:I,MATCH(Q328,C:C,0)+1)),\"-\"))","v":"-"},"-","-"]
[574,"MD000284","CIPROFLOXACINE BEKER 750MG COMP.PELLI. B/10","CIPROXACINE","086619","01.08.2021","MG/EXP1",289,"MG/EXP1-G-010",null,0,null,null,1047.49,"BEKER LABORATOIRES","-",null,{"$f":"SUMIF(Tableau1[Description article],Tableau1[Produits],Tableau1[Emplacement])","v":0},null,{"$f":"Sheet1!$S329-Sheet1!$R329","v":0},"-","-","-",{"$f":"IFERROR(Tableau1[[#This Row],[THEO]]-Tableau1[[#This Row],[Qtt 2éme lot]],\"-\")","v":"-"},"-",{"$f":"IF(Tableau1[[#This Row],[2éme lot]]=\"-\",\"-\",IFERROR(IF(Q329=\"\",\"-\",INDEX(I:I,MATCH(Q329,C:C,0)+1)),\"-\"))","v":"-"},"-","-"]
[575,"MD002265","CIPROFLOXAL 500MG COMP.PELLI.SEC. B/10","CIPROFLOXACINE","142009","31.05.2021","MG/EXP1",210,"MG/EXP1-D-017",null,0,null,null,799.92,"SOPHAL SOCIETE PHARMACEUTIQUE ALGERIENNE","-",null,{"$f":"SUMIF(Tableau1[Description article],Tableau1[Produits],Tableau1[Emplacement])","v":0},null,{"$f":"Sheet1!$S330-Sheet1!$R330","v":0},"-","-","-",{"$f":"IFERROR(Tableau1[[#This Row],[THEO]]-Tableau1[[#This Row],[Qtt 2éme lot]],\"-\")","v":"-"},"-",{"$f":"IF(Tableau1[[#This Row],[2éme lot]]=\"-\",\"-\",IFERROR(IF(Q330=\"\",\"-\",INDEX(I:I,MATCH(Q330,C:C,0)+1)),\"-\"))","v":"-"},"-","-"]
[576,"MD000285","CIPROLON 250MG COMP. B/10","CIPROXACINE","6631","01.10.2021","MG/EXP1",314,"MG/EXP1-E-014",null,0,null,null,450.9,"HIKMA PHARMA ALGERIA SARL","-",null,{"$f":"SUMIF(Tableau1[Description article],Tableau1[Produits],Tableau1[Emplacement])","v":0},null,{"$f":"Sheet1!$S331-Sheet1!$R331","v":0},"-","-","-",{"$f":"IFERROR(Tableau1[[#This Row],[THEO]]-Tableau1[[#This Row],[Qtt 2éme lot]],\"-\")","v":"-"},"-",{"$f":"IF(Tableau1[[#This Row],[2éme lot]]=\"-\",\"-\",IFERROR(IF(Q331=\"\",\"-\",INDEX(I:I,MATCH(Q331,C:C,0)+1)),\"-\"))","v":"-"},"-","-"]
[578,"MD000286","CIPROLON 500MG COMP. B/10","CIPROFLOXACINE","59961","01.06.2021","MG/EXP1",130,"MG/EXP1-A-045",null,0,null,null,801.5,"HIKMA PHARMA ALGERIA SARL","-",null,{"$f":"SUMIF(Tableau1[Description article],Tableau1[Produits],Tableau1[Emplacement])","v":0},null,{"$f":"Sheet1!$S332-Sheet1!$R332","v":0},"-","-","-",{"$f":"IFERROR(Tableau1[[#This Row],[THEO]]-Tableau1[[#This Row],[Qtt 2éme lot]],\"-\")","v":"-"},"-",{"$f":"IF(Tableau1[[#This Row],[2éme lot]]=\"-\",\"-\",IFERROR(IF(Q332=\"\",\"-\",INDEX(I:I,MATCH(Q332,C:C,0)+1)),\"-\"))","v":"-"},"-","-"]
[579,"MD004145","CIPROTEK 0,3% COLLY. FL/5ML","CIPROFLOXACINE","40011901","01.02.2021","MG/EXP1",109,"MG/EXP1-F-001",null,0,null,null,357.51,"SARL BIOTHERA","-",null,{"$f":"SUMIF(Tableau1[Description article],Tableau1[Produits],Tableau1[Emplacement])","v":0},null,{"$f":"Sheet1!$S333-Sheet1!$R333","v":0},"-","-","-",{"$f":"IFERROR(Tableau1[[#This Row],[THEO]]-Tableau1[[#This Row],[Qtt 2éme lot]],\"-\")","v":"-"},"-",{"$f":"IF(Tableau1[[#This Row],[2éme lot]]=\"-\",\"-\",IFERROR(IF(Q333=\"\",\"-\",INDEX(I:I,MATCH(Q333,C:C,0)+1)),\"-\"))","v":"-"},"-","-"]
[582,"MD000287","CIPTADINE 4MG COMP.SEC. B/20","CYPROHEPTADINE","65033","01.10.2023","MG/EXP1",600,"MG/EXP1-C-048",null,0,null,null,130,"HIKMA PHARMA ALGERIA SARL","-",null,{"$f":"SUMIF(Tableau1[Description article],Tableau1[Produits],Tableau1[Emplacement])","v":0},null,{"$f":"Sheet1!$S334-Sheet1!$R334","v":0},"-","-","-",{"$f":"IFERROR(Tableau1[[#This Row],[THEO]]-Tableau1[[#This Row],[Qtt 2éme lot]],\"-\")","v":"-"},"-",{"$f":"IF(Tableau1[[#This Row],[2éme lot]]=\"-\",\"-\",IFERROR(IF(Q334=\"\",\"-\",INDEX(I:I,MATCH(Q334,C:C,0)+1)),\"-\"))","v":"-"},"-","-"]
[583,"MD000288","CIRBESA 10MG COMP.PELLI.B/30","BISOPROLOL","005","01.04.2021","MG/EXP1",3,"MG/EXP1-BOX6-002",null,0,null,null,582.5,"BIOPHARM SPA","-",null,{"$f":"SUMIF(Tableau1[Description article],Tableau1[Produits],Tableau1[Emplacement])","v":0},null,{"$f":"Sheet1!$S335-Sheet1!$R335","v":0},"-","-","-",{"$f":"IFERROR(Tableau1[[#This Row],[THEO]]-Tableau1[[#This Row],[Qtt 2éme lot]],\"-\")","v":"-"},"-",{"$f":"IF(Tableau1[[#This Row],[2éme lot]]=\"-\",\"-\",IFERROR(IF(Q335=\"\",\"-\",INDEX(I:I,MATCH(Q335,C:C,0)+1)),\"-\"))","v":"-"},"-","-"]
[585,"MD004078","CIRBESA 5 MG CP PELL SEC B/30",null,"005***","30.04.2020","MG/EXP1",221,"MG/EXP1-BOX6-003",null,0,null,null,287.6,"BIOPHARM SPA","-",null,{"$f":"SUMIF(Tableau1[Description article],Tableau1[Produits],Tableau1[Emplacement])","v":0},null,{"$f":"Sheet1!$S336-Sheet1!$R336","v":0},"-","-","-",{"$f":"IFERROR(Tableau1[[#This Row],[THEO]]-Tableau1[[#This Row],[Qtt 2éme lot]],\"-\")","v":"-"},"-",{"$f":"IF(Tableau1[[#This Row],[2éme lot]]=\"-\",\"-\",IFERROR(IF(Q336=\"\",\"-\",INDEX(I:I,MATCH(Q336,C:C,0)+1)),\"-\"))","v":"-"},"-","-"]
[586,"MD000290","CITICOLINE ISO 100MG/ML SOL.BUV.GTTES. FL/50ML + PIPT.GRAD.","CITICOLINE","CT01 F19","01.06.2022","MG/EXP1",1,"MG/EXP1-BOX6-PSY-016",null,0,null,null,792,"ISOPHARM ALGERIE SARL","-",null,{"$f":"SUMIF(Tableau1[Description article],Tableau1[Produits],Tableau1[Emplacement])","v":0},null,{"$f":"Sheet1!$S337-Sheet1!$R337","v":0},"-","-","-",{"$f":"IFERROR(Tableau1[[#This Row],[THEO]]-Tableau1[[#This Row],[Qtt 2éme lot]],\"-\")","v":"-"},"-",{"$f":"IF(Tableau1[[#This Row],[2éme lot]]=\"-\",\"-\",IFERROR(IF(Q337=\"\",\"-\",INDEX(I:I,MATCH(Q337,C:C,0)+1)),\"-\"))","v":"-"},"-","-"]
[591,"MD000291","CLAMOXYL 1G COMP.DISPER. B/014","AMOXICILLINE TRIHYDRATE - ANHYDRE-","906146","01.06.2022","MG/EXP1",435,"MG/EXP1-B-070",null,0,null,null,314.32,"GlaxoSmithKline","-",null,{"$f":"SUMIF(Tableau1[Description article],Tableau1[Produits],Tableau1[Emplacement])","v":0},null,{"$f":"Sheet1!$S338-Sheet1!$R338","v":0},"-","-","-",{"$f":"IFERROR(Tableau1[[#This Row],[THEO]]-Tableau1[[#This Row],[Qtt 2éme lot]],\"-\")","v":"-"},"-",{"$f":"IF(Tableau1[[#This Row],[2éme lot]]=\"-\",\"-\",IFERROR(IF(Q338=\"\",\"-\",INDEX(I:I,MATCH(Q338,C:C,0)+1)),\"-\"))","v":"-"},"-","-"]
[592,"MD000292","CLAMOXYL 1G COMP.DISPER. B/06","AMOXICILLINE TRIHYDRATE - ANHYDRE-","905008","01.06.2022","MG/EXP1",305,"MG/EXP1-A-060",null,0,null,null,133.28,"GlaxoSmithKline","-",null,{"$f":"SUMIF(Tableau1[Description article],Tableau1[Produits],Tableau1[Emplacement])","v":0},null,{"$f":"Sheet1!$S339-Sheet1!$R339","v":0},"-","-","-",{"$f":"IFERROR(Tableau1[[#This Row],[THEO]]-Tableau1[[#This Row],[Qtt 2éme lot]],\"-\")","v":"-"},"-",{"$f":"IF(Tableau1[[#This Row],[2éme lot]]=\"-\",\"-\",IFERROR(IF(Q339=\"\",\"-\",INDEX(I:I,MATCH(Q339,C:C,0)+1)),\"-\"))","v":"-"},"-","-"]
[596,"MD000293","CLAMOXYL 250MG/5ML PDRE.SUSP.BUV. B/01 FL/60ML + C.M.","AMOXICILLINE TRIHYDRATE - ANHYDRE-","901030","01.03.2022","MG/EXP1",856,"MG/EXP1-D-053",null,0,null,null,188,"GlaxoSmithKline","-",null,{"$f":"SUMIF(Tableau1[Description article],Tableau1[Produits],Tableau1[Emplacement])","v":0},null,{"$f":"Sheet1!$S340-Sheet1!$R340","v":0},"-","-","-",{"$f":"IFERROR(Tableau1[[#This Row],[THEO]]-Tableau1[[#This Row],[Qtt 2éme lot]],\"-\")","v":"-"},"-",{"$f":"IF(Tableau1[[#This Row],[2éme lot]]=\"-\",\"-\",IFERROR(IF(Q340=\"\",\"-\",INDEX(I:I,MATCH(Q340,C:C,0)+1)),\"-\"))","v":"-"},"-","-"]
[599,"MD000294","CLAMOXYL 500MG/5ML PDRE.SUSP.BUV. FL/60ML","AMOXICILLINE TRIHYDRATE - ANHYDRE-","902069","01.07.2022","MG/EXP1",450,"MG/EXP1-C-031",null,0,null,null,247.1,"GlaxoSmithKline","-",null,{"$f":"SUMIF(Tableau1[Description article],Tableau1[Produits],Tableau1[Emplacement])","v":0},null,{"$f":"Sheet1!$S341-Sheet1!$R341","v":0},"-","-","-",{"$f":"IFERROR(Tableau1[[#This Row],[THEO]]-Tableau1[[#This Row],[Qtt 2éme lot]],\"-\")","v":"-"},"-",{"$f":"IF(Tableau1[[#This Row],[2éme lot]]=\"-\",\"-\",IFERROR(IF(Q341=\"\",\"-\",INDEX(I:I,MATCH(Q341,C:C,0)+1)),\"-\"))","v":"-"},"-","-"]
[600,"MD000294","CLAMOXYL 500MG/5ML PDRE.SUSP.BUV. FL/60ML","AMOXICILLINE TRIHYDRATE - ANHYDRE-","902068","01.07.2022","MG/EXP1",350,"MG/EXP1-C-032",null,0,null,null,247.1,"GlaxoSmithKline","-",null,{"$f":"SUMIF(Tableau1[Description article],Tableau1[Produits],Tableau1[Emplacement])","v":0},null,{"$f":"Sheet1!$S342-Sheet1!$R342","v":0},"-","-","-",{"$f":"IFERROR(Tableau1[[#This Row],[THEO]]-Tableau1[[#This Row],[Qtt 2éme lot]],\"-\")","v":"-"},"-",{"$f":"IF(Tableau1[[#This Row],[2éme lot]]=\"-\",\"-\",IFERROR(IF(Q342=\"\",\"-\",INDEX(I:I,MATCH(Q342,C:C,0)+1)),\"-\"))","v":"-"},"-","-"]
[603,"MD000295","CLARDINE 1MG/ML SOL.BUV. FL/60ML","LORATADINE","8B19","31.12.2021","MG/EXP1",53,"MG/EXP1-G-027",null,0,null,null,168.24,"INPHA MEDIS SPA","-",null,{"$f":"SUMIF(Tableau1[Description article],Tableau1[Produits],Tableau1[Emplacement])","v":0},null,{"$f":"Sheet1!$S343-Sheet1!$R343","v":0},"-","-","-",{"$f":"IFERROR(Tableau1[[#This Row],[THEO]]-Tableau1[[#This Row],[Qtt 2éme lot]],\"-\")","v":"-"},"-",{"$f":"IF(Tableau1[[#This Row],[2éme lot]]=\"-\",\"-\",IFERROR(IF(Q343=\"\",\"-\",INDEX(I:I,MATCH(Q343,C:C,0)+1)),\"-\"))","v":"-"},"-","-"]
[605,"MD002464","CLARIDAR 125 125MG/5ML PDRE.SUSP.BUV. B/01 FL/60ML + C.M.","CLARITHROMYCINE","31DS","01.08.2020","MG/EXP1",155,"MG/EXP1-F-024",null,0,null,null,356.45,"DAR AL DAWA SARL","-",null,{"$f":"SUMIF(Tableau1[Description article],Tableau1[Produits],Tableau1[Emplacement])","v":0},null,{"$f":"Sheet1!$S344-Sheet1!$R344","v":0},"-","-","-",{"$f":"IFERROR(Tableau1[[#This Row],[THEO]]-Tableau1[[#This Row],[Qtt 2éme lot]],\"-\")","v":"-"},"-",{"$f":"IF(Tableau1[[#This Row],[2éme lot]]=\"-\",\"-\",IFERROR(IF(Q344=\"\",\"-\",INDEX(I:I,MATCH(Q344,C:C,0)+1)),\"-\"))","v":"-"},"-","-"]
[606,"MD000296","CLARIDAR 250 250MG COMP.PELLI. B/14","CLARITHROMYCINE","68FA","01.08.2022","MG/EXP1",347,"MG/EXP1-C-058",null,0,null,null,797.02,"DAR AL DAWA SARL","-",null,{"$f":"SUMIF(Tableau1[Description article],Tableau1[Produits],Tableau1[Emplacement])","v":0},null,{"$f":"Sheet1!$S345-Sheet1!$R345","v":0},"-","-","-",{"$f":"IFERROR(Tableau1[[#This Row],[THEO]]-Tableau1[[#This Row],[Qtt 2éme lot]],\"-\")","v":"-"},"-",{"$f":"IF(Tableau1[[#This Row],[2éme lot]]=\"-\",\"-\",IFERROR(IF(Q345=\"\",\"-\",INDEX(I:I,MATCH(Q345,C:C,0)+1)),\"-\"))","v":"-"},"-","-"]
[607,"MD000298","CLARITAL 500MG COMP.PELLI. B/14","CLARITHROMYCINE","151043","31.08.2021","MG/EXP1",111,"MG/EXP1-E-037",null,0,null,null,571.51,"SOPHAL SOCIETE PHARMACEUTIQUE ALGERIENNE","-",null,{"$f":"SUMIF(Tableau1[Description article],Tableau1[Produits],Tableau1[Emplacement])","v":0},null,{"$f":"Sheet1!$S346-Sheet1!$R346","v":0},"-","-","-",{"$f":"IFERROR(Tableau1[[#This Row],[THEO]]-Tableau1[[#This Row],[Qtt 2éme lot]],\"-\")","v":"-"},"-",{"$f":"IF(Tableau1[[#This Row],[2éme lot]]=\"-\",\"-\",IFERROR(IF(Q346=\"\",\"-\",INDEX(I:I,MATCH(Q346,C:C,0)+1)),\"-\"))","v":"-"},"-","-"]
[609,"MD000305","CLENIL 250 250PG/BOUFFEE AERO. FL/200 DSE.","BECLOMETHASONE","1095117*","01.03.2022","MG/EXP1",120,"MG/EXP1-A-010",null,0,null,null,559.92,"UPC SARL","-",null,{"$f":"SUMIF(Tableau1[Description article],Tableau1[Produits],Tableau1[Emplacement])","v":0},null,{"$f":"Sheet1!$S347-Sheet1!$R347","v":0},"-","-","-",{"$f":"IFERROR(Tableau1[[#This Row],[THEO]]-Tableau1[[#This Row],[Qtt 2éme lot]],\"-\")","v":"-"},"-",{"$f":"IF(Tableau1[[#This Row],[2éme lot]]=\"-\",\"-\",IFERROR(IF(Q347=\"\",\"-\",INDEX(I:I,MATCH(Q347,C:C,0)+1)),\"-\"))","v":"-"},"-","-"]
[612,"MD000306","CLIMASTON 1MG/10MG COMP.PELLI. B/28","ESTRADIOL1MG/ DYDROGESTERONE 10MG","358981","01.02.2022","MG/EXP1",69,"MG/EXP1-B-012",null,0,null,null,720.36,"BIOPHARM SPA","-",null,{"$f":"SUMIF(Tableau1[Description article],Tableau1[Produits],Tableau1[Emplacement])","v":0},null,{"$f":"Sheet1!$S348-Sheet1!$R348","v":0},"-","-","-",{"$f":"IFERROR(Tableau1[[#This Row],[THEO]]-Tableau1[[#This Row],[Qtt 2éme lot]],\"-\")","v":"-"},"-",{"$f":"IF(Tableau1[[#This Row],[2éme lot]]=\"-\",\"-\",IFERROR(IF(Q348=\"\",\"-\",INDEX(I:I,MATCH(Q348,C:C,0)+1)),\"-\"))","v":"-"},"-","-"]
[613,"MD000307","CLIMASTON 1MG/5MG COMP.PELLI. B/28","ESTRADIOL1MG/ DYDROGESTERONE 5MG","358729","01.01.2022","MG/EXP1",34,"MG/EXP1-B-066",null,0,null,null,702.65,"BIOPHARM SPA","-",null,{"$f":"SUMIF(Tableau1[Description article],Tableau1[Produits],Tableau1[Emplacement])","v":0},null,{"$f":"Sheet1!$S349-Sheet1!$R349","v":0},"-","-","-",{"$f":"IFERROR(Tableau1[[#This Row],[THEO]]-Tableau1[[#This Row],[Qtt 2éme lot]],\"-\")","v":"-"},"-",{"$f":"IF(Tableau1[[#This Row],[2éme lot]]=\"-\",\"-\",IFERROR(IF(Q349=\"\",\"-\",INDEX(I:I,MATCH(Q349,C:C,0)+1)),\"-\"))","v":"-"},"-","-"]
[614,"MD000308","CLIMASTON 2MG/10MG COMP.PELLI. B/28","ESTRADIOL2MG/ DYDROGESTERONE 10MG","359416*","01.01.2022","MG/EXP1",32,"MG/EXP1-A-003",null,0,null,null,738.75,"BIOPHARM SPA","-",null,{"$f":"SUMIF(Tableau1[Description article],Tableau1[Produits],Tableau1[Emplacement])","v":0},null,{"$f":"Sheet1!$S350-Sheet1!$R350","v":0},"-","-","-",{"$f":"IFERROR(Tableau1[[#This Row],[THEO]]-Tableau1[[#This Row],[Qtt 2éme lot]],\"-\")","v":"-"},"-",{"$f":"IF(Tableau1[[#This Row],[2éme lot]]=\"-\",\"-\",IFERROR(IF(Q350=\"\",\"-\",INDEX(I:I,MATCH(Q350,C:C,0)+1)),\"-\"))","v":"-"},"-","-"]
[615,"MD000309","CLIMENE 2MG/1MG COMP.ENRO. B/21","ESTRADIOL VALERATE MICRONISE","83635B","01.07.2023","MG/EXP1",18,"MG/EXP1-A-002",null,0,null,null,672.47,"BIOPHARM SPA","-",null,{"$f":"SUMIF(Tableau1[Description article],Tableau1[Produits],Tableau1[Emplacement])","v":0},null,{"$f":"Sheet1!$S351-Sheet1!$R351","v":0},"-","-","-",{"$f":"IFERROR(Tableau1[[#This Row],[THEO]]-Tableau1[[#This Row],[Qtt 2éme lot]],\"-\")","v":"-"},"-",{"$f":"IF(Tableau1[[#This Row],[2éme lot]]=\"-\",\"-\",IFERROR(IF(Q351=\"\",\"-\",INDEX(I:I,MATCH(Q351,C:C,0)+1)),\"-\"))","v":"-"},"-","-"]
[617,"MD000311","CLOBECORT 0,05% PDE.DERM. T/15G","CLOBETASOL PROPIONATE","190616","01.03.2021","MG/EXP1",419,"MG/EXP1-F-058",null,0,null,null,141.36,"EL KENDI INDUSTRIE DE MEDICAMENTS SPA","-",null,{"$f":"SUMIF(Tableau1[Description article],Tableau1[Produits],Tableau1[Emplacement])","v":0},null,{"$f":"Sheet1!$S352-Sheet1!$R352","v":0},"-","-","-",{"$f":"IFERROR(Tableau1[[#This Row],[THEO]]-Tableau1[[#This Row],[Qtt 2éme lot]],\"-\")","v":"-"},"-",{"$f":"IF(Tableau1[[#This Row],[2éme lot]]=\"-\",\"-\",IFERROR(IF(Q352=\"\",\"-\",INDEX(I:I,MATCH(Q352,C:C,0)+1)),\"-\"))","v":"-"},"-","-"]
[622,"MD000313","CLOFENAL 100MG SUPP. B/10","DICLOFENAC","279","01.10.2022","MG/EXP1",750,"MG/EXP1-A-070",null,0,null,null,86.1,"SAIDAL UNITE CENTRE","-",null,{"$f":"SUMIF(Tableau1[Description article],Tableau1[Produits],Tableau1[Emplacement])","v":0},null,{"$f":"Sheet1!$S353-Sheet1!$R353","v":0},"-","-","-",{"$f":"IFERROR(Tableau1[[#This Row],[THEO]]-Tableau1[[#This Row],[Qtt 2éme lot]],\"-\")","v":"-"},"-",{"$f":"IF(Tableau1[[#This Row],[2éme lot]]=\"-\",\"-\",IFERROR(IF(Q353=\"\",\"-\",INDEX(I:I,MATCH(Q353,C:C,0)+1)),\"-\"))","v":"-"},"-","-"]
[624,"MD000313","CLOFENAL 100MG SUPP. B/10","DICLOFENAC","318","01.11.2022","MG/EXP1",175,"MG/EXP1-A-059",null,0,null,null,86.1,"SAIDAL UNITE CENTRE","-",null,{"$f":"SUMIF(Tableau1[Description article],Tableau1[Produits],Tableau1[Emplacement])","v":0},null,{"$f":"Sheet1!$S354-Sheet1!$R354","v":0},"-","-","-",{"$f":"IFERROR(Tableau1[[#This Row],[THEO]]-Tableau1[[#This Row],[Qtt 2éme lot]],\"-\")","v":"-"},"-",{"$f":"IF(Tableau1[[#This Row],[2éme lot]]=\"-\",\"-\",IFERROR(IF(Q354=\"\",\"-\",INDEX(I:I,MATCH(Q354,C:C,0)+1)),\"-\"))","v":"-"},"-","-"]
[628,"MD000312","CLOFENAL LP 100MG GLES. GASTRORESIST LP. B/20","DICLOFENAC","029","01.10.2021","MG/EXP1",5,"MG/EXP1-A-038",null,0,null,null,278.5,"SAIDAL UNITE CENTRE","-",null,{"$f":"SUMIF(Tableau1[Description article],Tableau1[Produits],Tableau1[Emplacement])","v":0},null,{"$f":"Sheet1!$S355-Sheet1!$R355","v":0},"-","-","-",{"$f":"IFERROR(Tableau1[[#This Row],[THEO]]-Tableau1[[#This Row],[Qtt 2éme lot]],\"-\")","v":"-"},"-",{"$f":"IF(Tableau1[[#This Row],[2éme lot]]=\"-\",\"-\",IFERROR(IF(Q355=\"\",\"-\",INDEX(I:I,MATCH(Q355,C:C,0)+1)),\"-\"))","v":"-"},"-","-"]
[631,"MD000317","CLOGEL 0,01 GEL DERM. T/30G","DICLOFENAC","0879","01.12.2022","MG/EXP1",239,"MG/EXP1-A-068",null,0,null,null,85.5,"SAIDAL UNITE CENTRE","-",null,{"$f":"SUMIF(Tableau1[Description article],Tableau1[Produits],Tableau1[Emplacement])","v":0},null,{"$f":"Sheet1!$S356-Sheet1!$R356","v":0},"-","-","-",{"$f":"IFERROR(Tableau1[[#This Row],[THEO]]-Tableau1[[#This Row],[Qtt 2éme lot]],\"-\")","v":"-"},"-",{"$f":"IF(Tableau1[[#This Row],[2éme lot]]=\"-\",\"-\",IFERROR(IF(Q356=\"\",\"-\",INDEX(I:I,MATCH(Q356,C:C,0)+1)),\"-\"))","v":"-"},"-","-"]
[632,"MD000318","CLOMID 50MG COMP. B/05","CITRATE DE CLOMIFENE","9274","01.06.2022","MG/EXP1",20,"MG/EXP1-A-040",null,0,null,null,361.86,"SANOFI AVENTIS ALGERIE SPA","-",null,{"$f":"SUMIF(Tableau1[Description article],Tableau1[Produits],Tableau1[Emplacement])","v":0},null,{"$f":"Sheet1!$S357-Sheet1!$R357","v":0},"-","-","-",{"$f":"IFERROR(Tableau1[[#This Row],[THEO]]-Tableau1[[#This Row],[Qtt 2éme lot]],\"-\")","v":"-"},"-",{"$f":"IF(Tableau1[[#This Row],[2éme lot]]=\"-\",\"-\",IFERROR(IF(Q357=\"\",\"-\",INDEX(I:I,MATCH(Q357,C:C,0)+1)),\"-\"))","v":"-"},"-","-"]
[634,"MD002198","CLOMINE 50MG COMP. B/10","CLOMIFENE CITRATE","193106/FAB147","01.10.2021","MG/EXP1",598,"MG/EXP1-F-019",null,0,null,null,342.95,"S.A.N.A.M.E.D","-",null,{"$f":"SUMIF(Tableau1[Description article],Tableau1[Produits],Tableau1[Emplacement])","v":0},null,{"$f":"Sheet1!$S358-Sheet1!$R358","v":0},"-","-","-",{"$f":"IFERROR(Tableau1[[#This Row],[THEO]]-Tableau1[[#This Row],[Qtt 2éme lot]],\"-\")","v":"-"},"-",{"$f":"IF(Tableau1[[#This Row],[2éme lot]]=\"-\",\"-\",IFERROR(IF(Q358=\"\",\"-\",INDEX(I:I,MATCH(Q358,C:C,0)+1)),\"-\"))","v":"-"},"-","-"]
[637,"MD000319","CLOMYCINE 0,01 PDE.OPHT. T/5G","CHLORTETRACYCLINE","72/5","01.09.2022","MG/EXP1",590,"MG/EXP1-C-002",null,0,null,null,107.5,"SAIDAL UNITE CENTRE","-",null,{"$f":"SUMIF(Tableau1[Description article],Tableau1[Produits],Tableau1[Emplacement])","v":0},null,{"$f":"Sheet1!$S359-Sheet1!$R359","v":0},"-","-","-",{"$f":"IFERROR(Tableau1[[#This Row],[THEO]]-Tableau1[[#This Row],[Qtt 2éme lot]],\"-\")","v":"-"},"-",{"$f":"IF(Tableau1[[#This Row],[2éme lot]]=\"-\",\"-\",IFERROR(IF(Q359=\"\",\"-\",INDEX(I:I,MATCH(Q359,C:C,0)+1)),\"-\"))","v":"-"},"-","-"]
[639,"MD000322","CLONAPRIME 10MG COMP.PELLI. B/60","CLOMIPRAMINE","041","01.11.2022","MG/EXP1",292,"MG/EXP1-BOX6-PSY-017",null,0,null,null,215.71,"BIO-GALENIC SARL","-",null,{"$f":"SUMIF(Tableau1[Description article],Tableau1[Produits],Tableau1[Emplacement])","v":0},null,{"$f":"Sheet1!$S360-Sheet1!$R360","v":0},"-","-","-",{"$f":"IFERROR(Tableau1[[#This Row],[THEO]]-Tableau1[[#This Row],[Qtt 2éme lot]],\"-\")","v":"-"},"-",{"$f":"IF(Tableau1[[#This Row],[2éme lot]]=\"-\",\"-\",IFERROR(IF(Q360=\"\",\"-\",INDEX(I:I,MATCH(Q360,C:C,0)+1)),\"-\"))","v":"-"},"-","-"]
[641,"MD000324","CLONAPRIME 75MG COMP.PELLI.SEC. B/20","CLOMIPRAMINE","028","01.09.2022","MG/EXP1",126,"MG/EXP1-BOX6-PSY-016",null,0,null,null,438.52,"BIO-GALENIC SARL","-",null,{"$f":"SUMIF(Tableau1[Description article],Tableau1[Produits],Tableau1[Emplacement])","v":0},null,{"$f":"Sheet1!$S361-Sheet1!$R361","v":0},"-","-","-",{"$f":"IFERROR(Tableau1[[#This Row],[THEO]]-Tableau1[[#This Row],[Qtt 2éme lot]],\"-\")","v":"-"},"-",{"$f":"IF(Tableau1[[#This Row],[2éme lot]]=\"-\",\"-\",IFERROR(IF(Q361=\"\",\"-\",INDEX(I:I,MATCH(Q361,C:C,0)+1)),\"-\"))","v":"-"},"-","-"]
[642,"MD000324","CLONAPRIME 75MG COMP.PELLI.SEC. B/20","CLOMIPRAMINE","029","01.12.2022","MG/EXP1",248,"MG/EXP1-BOX6-PSY-016",null,0,null,null,488.52,"BIO-GALENIC SARL","-",null,{"$f":"SUMIF(Tableau1[Description article],Tableau1[Produits],Tableau1[Emplacement])","v":0},null,{"$f":"Sheet1!$S362-Sheet1!$R362","v":0},"-","-","-",{"$f":"IFERROR(Tableau1[[#This Row],[THEO]]-Tableau1[[#This Row],[Qtt 2éme lot]],\"-\")","v":"-"},"-",{"$f":"IF(Tableau1[[#This Row],[2éme lot]]=\"-\",\"-\",IFERROR(IF(Q362=\"\",\"-\",INDEX(I:I,MATCH(Q362,C:C,0)+1)),\"-\"))","v":"-"},"-","-"]
[643,"MD000327","CLOPRAMID 0,1% SOL.BUV. FL/125ML","METOCLOPRAMIDE","496","01.11.2022","MG/EXP1",158,"MG/EXP1-G-012",null,0,null,null,83.5,"SAIDAL UNITE CENTRE","-",null,{"$f":"SUMIF(Tableau1[Description article],Tableau1[Produits],Tableau1[Emplacement])","v":0},null,{"$f":"Sheet1!$S363-Sheet1!$R363","v":0},"-","-","-",{"$f":"IFERROR(Tableau1[[#This Row],[THEO]]-Tableau1[[#This Row],[Qtt 2éme lot]],\"-\")","v":"-"},"-",{"$f":"IF(Tableau1[[#This Row],[2éme lot]]=\"-\",\"-\",IFERROR(IF(Q363=\"\",\"-\",INDEX(I:I,MATCH(Q363,C:C,0)+1)),\"-\"))","v":"-"},"-","-"]
[644,"MD000330","CLORACEF MR 750 MG CP .B/10","CEFACLOR","98EM","01.03.2021","MG/EXP1",143,"MG/EXP1-F-026",null,0,null,null,1029.4,"DAR AL DAWA SARL","-",null,{"$f":"SUMIF(Tableau1[Description article],Tableau1[Produits],Tableau1[Emplacement])","v":0},null,{"$f":"Sheet1!$S364-Sheet1!$R364","v":0},"-","-","-",{"$f":"IFERROR(Tableau1[[#This Row],[THEO]]-Tableau1[[#This Row],[Qtt 2éme lot]],\"-\")","v":"-"},"-",{"$f":"IF(Tableau1[[#This Row],[2éme lot]]=\"-\",\"-\",IFERROR(IF(Q364=\"\",\"-\",INDEX(I:I,MATCH(Q364,C:C,0)+1)),\"-\"))","v":"-"},"-","-"]
[645,"MD000333","CLOTASOL 0,05% CR.DERM. T/45G","CLOBETASOL PROPIONATE","421","23.06.2022","MG/EXP1",258,"MG/EXP1-C-051",null,0,null,null,381.99,"BIOPHARM SPA","-",null,{"$f":"SUMIF(Tableau1[Description article],Tableau1[Produits],Tableau1[Emplacement])","v":0},null,{"$f":"Sheet1!$S365-Sheet1!$R365","v":0},"-","-","-",{"$f":"IFERROR(Tableau1[[#This Row],[THEO]]-Tableau1[[#This Row],[Qtt 2éme lot]],\"-\")","v":"-"},"-",{"$f":"IF(Tableau1[[#This Row],[2éme lot]]=\"-\",\"-\",IFERROR(IF(Q365=\"\",\"-\",INDEX(I:I,MATCH(Q365,C:C,0)+1)),\"-\"))","v":"-"},"-","-"]
[648,"MD000334","CLOTASOL 0,05% GEL P.APPLI. CAPILLAIRE T/45G","CLOBETASOL PROPIONATE","099","29.04.2022","MG/EXP1",280,"MG/EXP1-B-013",null,0,null,null,360,"BIOPHARM SPA","-",null,{"$f":"SUMIF(Tableau1[Description article],Tableau1[Produits],Tableau1[Emplacement])","v":0},null,{"$f":"Sheet1!$S366-Sheet1!$R366","v":0},"-","-","-",{"$f":"IFERROR(Tableau1[[#This Row],[THEO]]-Tableau1[[#This Row],[Qtt 2éme lot]],\"-\")","v":"-"},"-",{"$f":"IF(Tableau1[[#This Row],[2éme lot]]=\"-\",\"-\",IFERROR(IF(Q366=\"\",\"-\",INDEX(I:I,MATCH(Q366,C:C,0)+1)),\"-\"))","v":"-"},"-","-"]
[651,"MD000335","CLOTASOL 0,05% PDE.DERM. T/45G","CLOBETASOL PROPIONATE","081","01.07.2021","MG/EXP1",277,"MG/EXP1-D-019",null,0,null,null,366,"BIOPHARM SPA","-",null,{"$f":"SUMIF(Tableau1[Description article],Tableau1[Produits],Tableau1[Emplacement])","v":0},null,{"$f":"Sheet1!$S367-Sheet1!$R367","v":0},"-","-","-",{"$f":"IFERROR(Tableau1[[#This Row],[THEO]]-Tableau1[[#This Row],[Qtt 2éme lot]],\"-\")","v":"-"},"-",{"$f":"IF(Tableau1[[#This Row],[2éme lot]]=\"-\",\"-\",IFERROR(IF(Q367=\"\",\"-\",INDEX(I:I,MATCH(Q367,C:C,0)+1)),\"-\"))","v":"-"},"-","-"]
[655,"MD003989","CLOVIR 200MG CP B/30","ACICLOVIR","1107788","29.07.2022","MG/EXP1",194,"MG/EXP1-B-072",null,0,null,null,472.59,"SOCIETE SAOUDIENNE SPIMACO-ALGERIE-","-",null,{"$f":"SUMIF(Tableau1[Description article],Tableau1[Produits],Tableau1[Emplacement])","v":0},null,{"$f":"Sheet1!$S368-Sheet1!$R368","v":0},"-","-","-",{"$f":"IFERROR(Tableau1[[#This Row],[THEO]]-Tableau1[[#This Row],[Qtt 2éme lot]],\"-\")","v":"-"},"-",{"$f":"IF(Tableau1[[#This Row],[2éme lot]]=\"-\",\"-\",IFERROR(IF(Q368=\"\",\"-\",INDEX(I:I,MATCH(Q368,C:C,0)+1)),\"-\"))","v":"-"},"-","-"]
[657,"MD000337","CLOVIRAX 0,05 CR.DERM. T/10G","ACICLOVIR","021/19","01.07.2022","MG/EXP1",89,"MG/EXP1-C-009",null,0,null,null,279.28,"PHARMALLIANCE EURL","-",null,{"$f":"SUMIF(Tableau1[Description article],Tableau1[Produits],Tableau1[Emplacement])","v":0},null,{"$f":"Sheet1!$S369-Sheet1!$R369","v":0},"-","-","-",{"$f":"IFERROR(Tableau1[[#This Row],[THEO]]-Tableau1[[#This Row],[Qtt 2éme lot]],\"-\")","v":"-"},"-",{"$f":"IF(Tableau1[[#This Row],[2éme lot]]=\"-\",\"-\",IFERROR(IF(Q369=\"\",\"-\",INDEX(I:I,MATCH(Q369,C:C,0)+1)),\"-\"))","v":"-"},"-","-"]
[660,"MD000338","CLOVIRAX 0,05 CR.DERM. T/2G","ACICLOVIR","010/18","28.12.2021","MG/EXP1",124,"MG/EXP1-E-003",null,0,null,null,122.36,"PHARMALLIANCE EURL","-",null,{"$f":"SUMIF(Tableau1[Description article],Tableau1[Produits],Tableau1[Emplacement])","v":0},null,{"$f":"Sheet1!$S370-Sheet1!$R370","v":0},"-","-","-",{"$f":"IFERROR(Tableau1[[#This Row],[THEO]]-Tableau1[[#This Row],[Qtt 2éme lot]],\"-\")","v":"-"},"-",{"$f":"IF(Tableau1[[#This Row],[2éme lot]]=\"-\",\"-\",IFERROR(IF(Q370=\"\",\"-\",INDEX(I:I,MATCH(Q370,C:C,0)+1)),\"-\"))","v":"-"},"-","-"]
[662,"MD000336","CLOVIRAX 200MG CP B/30","ACICLOVIR","001/19","01.08.2021","MG/EXP1",8,"MG/EXP1-B-026",null,0,null,null,472.59,"PHARMALLIANCE EURL","-",null,{"$f":"SUMIF(Tableau1[Description article],Tableau1[Produits],Tableau1[Emplacement])","v":0},null,{"$f":"Sheet1!$S371-Sheet1!$R371","v":0},"-","-","-",{"$f":"IFERROR(Tableau1[[#This Row],[THEO]]-Tableau1[[#This Row],[Qtt 2éme lot]],\"-\")","v":"-"},"-",{"$f":"IF(Tableau1[[#This Row],[2éme lot]]=\"-\",\"-\",IFERROR(IF(Q371=\"\",\"-\",INDEX(I:I,MATCH(Q371,C:C,0)+1)),\"-\"))","v":"-"},"-","-"]
[663,"MD000340","CO APROSART 150MG/12,5MG COMP.ENRO. B/30","IRBESARTAN / HYDROCHLOROTHIAZIDE","192081","01.06.2022","MG/EXP1",133,"MG/EXP1-E-049",null,0,null,null,1241.47,"EL KENDI INDUSTRIE DE MEDICAMENTS SPA","-",null,{"$f":"SUMIF(Tableau1[Description article],Tableau1[Produits],Tableau1[Emplacement])","v":0},null,{"$f":"Sheet1!$S372-Sheet1!$R372","v":0},"-","-","-",{"$f":"IFERROR(Tableau1[[#This Row],[THEO]]-Tableau1[[#This Row],[Qtt 2éme lot]],\"-\")","v":"-"},"-",{"$f":"IF(Tableau1[[#This Row],[2éme lot]]=\"-\",\"-\",IFERROR(IF(Q372=\"\",\"-\",INDEX(I:I,MATCH(Q372,C:C,0)+1)),\"-\"))","v":"-"},"-","-"]
[665,"MD000341","CO APROSART 300MG/12,5MG COMP.PELLI. B/30","IRBESARTAN / HYDROCHLOROTHIAZIDE","181540","01.04.2021","MG/EXP1",268,"MG/EXP1-BOX6-007",null,0,null,null,1717.01,"EL KENDI INDUSTRIE DE MEDICAMENTS SPA","-",null,{"$f":"SUMIF(Tableau1[Description article],Tableau1[Produits],Tableau1[Emplacement])","v":0},null,{"$f":"Sheet1!$S373-Sheet1!$R373","v":0},"-","-","-",{"$f":"IFERROR(Tableau1[[#This Row],[THEO]]-Tableau1[[#This Row],[Qtt 2éme lot]],\"-\")","v":"-"},"-",{"$f":"IF(Tableau1[[#This Row],[2éme lot]]=\"-\",\"-\",IFERROR(IF(Q373=\"\",\"-\",INDEX(I:I,MATCH(Q373,C:C,0)+1)),\"-\"))","v":"-"},"-","-"]
[667,"MD000342","CO APROSART 300MG/25MG COMP.PELLI. B/30","IRBESARTAN / HYDROCHLOROTHIAZIDE","191681","01.07.2022","MG/EXP1",69,"MG/EXP1-D-010",null,0,null,null,1716,"EL KENDI INDUSTRIE DE MEDICAMENTS SPA","-",null,{"$f":"SUMIF(Tableau1[Description article],Tableau1[Produits],Tableau1[Emplacement])","v":0},null,{"$f":"Sheet1!$S374-Sheet1!$R374","v":0},"-","-","-",{"$f":"IFERROR(Tableau1[[#This Row],[THEO]]-Tableau1[[#This Row],[Qtt 2éme lot]],\"-\")","v":"-"},"-",{"$f":"IF(Tableau1[[#This Row],[2éme lot]]=\"-\",\"-\",IFERROR(IF(Q374=\"\",\"-\",INDEX(I:I,MATCH(Q374,C:C,0)+1)),\"-\"))","v":"-"},"-","-"]
[668,"MD002337","CO BEKERDIS 40/12,5MG COMP. B/30","TELMISARTAN / HYDROCHLOROTHIAZIDE","074619","01.07.2021","MG/EXP1",437,"MG/EXP1-F-049",null,0,null,null,1093.39,"BEKER LABORATOIRES","-",null,{"$f":"SUMIF(Tableau1[Description article],Tableau1[Produits],Tableau1[Emplacement])","v":0},null,{"$f":"Sheet1!$S375-Sheet1!$R375","v":0},"-","-","-",{"$f":"IFERROR(Tableau1[[#This Row],[THEO]]-Tableau1[[#This Row],[Qtt 2éme lot]],\"-\")","v":"-"},"-",{"$f":"IF(Tableau1[[#This Row],[2éme lot]]=\"-\",\"-\",IFERROR(IF(Q375=\"\",\"-\",INDEX(I:I,MATCH(Q375,C:C,0)+1)),\"-\"))","v":"-"},"-","-"]
[669,"MD002339","CO BEKERDIS 80/12,5MG COMP. B/30","TELMISARTAN/HYDROCHLOROTHIAZIDE 80/12.5MG","075019","01.07.2021","MG/EXP1",232,"MG/EXP1-C-006",null,0,null,null,1093.39,"BEKER LABORATOIRES","-",null,{"$f":"SUMIF(Tableau1[Description article],Tableau1[Produits],Tableau1[Emplacement])","v":0},null,{"$f":"Sheet1!$S376-Sheet1!$R376","v":0},"-","-","-",{"$f":"IFERROR(Tableau1[[#This Row],[THEO]]-Tableau1[[#This Row],[Qtt 2éme lot]],\"-\")","v":"-"},"-",{"$f":"IF(Tableau1[[#This Row],[2éme lot]]=\"-\",\"-\",IFERROR(IF(Q376=\"\",\"-\",INDEX(I:I,MATCH(Q376,C:C,0)+1)),\"-\"))","v":"-"},"-","-"]
[671,"MD000399","CO SARCAND 8MG/12,5MG COMP. B/30","CANDESARTAN CILEXETIL/HYDROCHLOROTHIAZID","191789","01.07.2022","MG/EXP1",86,"MG/EXP1-A-021",null,0,null,null,1584,"EL KENDI INDUSTRIE DE MEDICAMENTS SPA","-",null,{"$f":"SUMIF(Tableau1[Description article],Tableau1[Produits],Tableau1[Emplacement])","v":0},null,{"$f":"Sheet1!$S377-Sheet1!$R377","v":0},"-","-","-",{"$f":"IFERROR(Tableau1[[#This Row],[THEO]]-Tableau1[[#This Row],[Qtt 2éme lot]],\"-\")","v":"-"},"-",{"$f":"IF(Tableau1[[#This Row],[2éme lot]]=\"-\",\"-\",IFERROR(IF(Q377=\"\",\"-\",INDEX(I:I,MATCH(Q377,C:C,0)+1)),\"-\"))","v":"-"},"-","-"]
[674,"MD000353","CO SARTEG 160MG/12,5MG COMP.ENRO. B/30","VALSARTAN / HYDROCHLORTHIAZID","191824","01.08.2022","MG/EXP1",263,"MG/EXP1-D-010",null,0,null,null,2103.9,"EL KENDI INDUSTRIE DE MEDICAMENTS SPA","-",null,{"$f":"SUMIF(Tableau1[Description article],Tableau1[Produits],Tableau1[Emplacement])","v":0},null,{"$f":"Sheet1!$S378-Sheet1!$R378","v":0},"-","-","-",{"$f":"IFERROR(Tableau1[[#This Row],[THEO]]-Tableau1[[#This Row],[Qtt 2éme lot]],\"-\")","v":"-"},"-",{"$f":"IF(Tableau1[[#This Row],[2éme lot]]=\"-\",\"-\",IFERROR(IF(Q378=\"\",\"-\",INDEX(I:I,MATCH(Q378,C:C,0)+1)),\"-\"))","v":"-"},"-","-"]
[676,"MD000354","CO SARTEG 160MG/25MG COMP.ENRO. B/30","VALSARTAN / HYDROCHLORTHIAZID","190680","01.03.2021","MG/EXP1",295,"MG/EXP1-BOX6-002",null,0,null,null,2187.5,"EL KENDI INDUSTRIE DE MEDICAMENTS SPA","-",null,{"$f":"SUMIF(Tableau1[Description article],Tableau1[Produits],Tableau1[Emplacement])","v":0},null,{"$f":"Sheet1!$S379-Sheet1!$R379","v":0},"-","-","-",{"$f":"IFERROR(Tableau1[[#This Row],[THEO]]-Tableau1[[#This Row],[Qtt 2éme lot]],\"-\")","v":"-"},"-",{"$f":"IF(Tableau1[[#This Row],[2éme lot]]=\"-\",\"-\",IFERROR(IF(Q379=\"\",\"-\",INDEX(I:I,MATCH(Q379,C:C,0)+1)),\"-\"))","v":"-"},"-","-"]
[677,"MD000354","CO SARTEG 160MG/25MG COMP.ENRO. B/30","VALSARTAN / HYDROCHLORTHIAZID","190677","01.03.2021","MG/EXP1",21,"MG/EXP1-BOX6-002",null,0,null,null,2187.5,"EL KENDI INDUSTRIE DE MEDICAMENTS SPA","-",null,{"$f":"SUMIF(Tableau1[Description article],Tableau1[Produits],Tableau1[Emplacement])","v":0},null,{"$f":"Sheet1!$S380-Sheet1!$R380","v":0},"-","-","-",{"$f":"IFERROR(Tableau1[[#This Row],[THEO]]-Tableau1[[#This Row],[Qtt 2éme lot]],\"-\")","v":"-"},"-",{"$f":"IF(Tableau1[[#This Row],[2éme lot]]=\"-\",\"-\",IFERROR(IF(Q380=\"\",\"-\",INDEX(I:I,MATCH(Q380,C:C,0)+1)),\"-\"))","v":"-"},"-","-"]
[679,"MD000355","CO SARTEG 320MG/25MG COMP.PELLI. B/30","VALSARTAN /HYDROCHLORTHIAZIDE","191311","01.07.2022","MG/EXP1",123,"MG/EXP1-B-049",null,0,null,null,2187.5,"EL KENDI INDUSTRIE DE MEDICAMENTS SPA","-",null,{"$f":"SUMIF(Tableau1[Description article],Tableau1[Produits],Tableau1[Emplacement])","v":0},null,{"$f":"Sheet1!$S381-Sheet1!$R381","v":0},"-","-","-",{"$f":"IFERROR(Tableau1[[#This Row],[THEO]]-Tableau1[[#This Row],[Qtt 2éme lot]],\"-\")","v":"-"},"-",{"$f":"IF(Tableau1[[#This Row],[2éme lot]]=\"-\",\"-\",IFERROR(IF(Q381=\"\",\"-\",INDEX(I:I,MATCH(Q381,C:C,0)+1)),\"-\"))","v":"-"},"-","-"]
[681,"MD000356","CO SARTEG 80MG/12,5MG COMP.ENRO. B/30","VALSARTAN / HYDROCHLORTHIAZID","191115","01.05.2022","MG/EXP1",80,"MG/EXP1-D-030",null,0,null,null,1848,"EL KENDI INDUSTRIE DE MEDICAMENTS SPA","-",null,{"$f":"SUMIF(Tableau1[Description article],Tableau1[Produits],Tableau1[Emplacement])","v":0},null,{"$f":"Sheet1!$S382-Sheet1!$R382","v":0},"-","-","-",{"$f":"IFERROR(Tableau1[[#This Row],[THEO]]-Tableau1[[#This Row],[Qtt 2éme lot]],\"-\")","v":"-"},"-",{"$f":"IF(Tableau1[[#This Row],[2éme lot]]=\"-\",\"-\",IFERROR(IF(Q382=\"\",\"-\",INDEX(I:I,MATCH(Q382,C:C,0)+1)),\"-\"))","v":"-"},"-","-"]
[682,"MD004143","CO TENSOTEL  40MG/12,5MG COMP. B/30","TELMISARTAN / HYDROCHLOROTHIAZIDE","190098","01.01.2021","MG/EXP1",259,"MG/EXP1-E-034",null,0,null,null,1074.48,"EL KENDI INDUSTRIE DE MEDICAMENTS SPA","-",null,{"$f":"SUMIF(Tableau1[Description article],Tableau1[Produits],Tableau1[Emplacement])","v":0},null,{"$f":"Sheet1!$S383-Sheet1!$R383","v":0},"-","-","-",{"$f":"IFERROR(Tableau1[[#This Row],[THEO]]-Tableau1[[#This Row],[Qtt 2éme lot]],\"-\")","v":"-"},"-",{"$f":"IF(Tableau1[[#This Row],[2éme lot]]=\"-\",\"-\",IFERROR(IF(Q383=\"\",\"-\",INDEX(I:I,MATCH(Q383,C:C,0)+1)),\"-\"))","v":"-"},"-","-"]
[683,"MD000358","CO VALASTAN 160MG/25MG COMP.PELLI. B/28","VALSARTAN / HYDROCHLORTHIAZID","104517","25.12.2020","MG/EXP1",52,"MG/EXP1-D-023",null,0,null,null,2187.5,"BEKER LABORATOIRES","-",null,{"$f":"SUMIF(Tableau1[Description article],Tableau1[Produits],Tableau1[Emplacement])","v":0},null,{"$f":"Sheet1!$S384-Sheet1!$R384","v":0},"-","-","-",{"$f":"IFERROR(Tableau1[[#This Row],[THEO]]-Tableau1[[#This Row],[Qtt 2éme lot]],\"-\")","v":"-"},"-",{"$f":"IF(Tableau1[[#This Row],[2éme lot]]=\"-\",\"-\",IFERROR(IF(Q384=\"\",\"-\",INDEX(I:I,MATCH(Q384,C:C,0)+1)),\"-\"))","v":"-"},"-","-"]
[684,"MD004199","CO VALASTAN 160MG/25MG COMP.PELLI. B/30","VALSARTAN / HYDROCHLORTHIAZID","104517","01.12.2020","MG/EXP1",81,"MG/EXP1-BOX6-003",null,0,null,null,2187.5,"BEKER LABORATOIRES","-",null,{"$f":"SUMIF(Tableau1[Description article],Tableau1[Produits],Tableau1[Emplacement])","v":0},null,{"$f":"Sheet1!$S385-Sheet1!$R385","v":0},"-","-","-",{"$f":"IFERROR(Tableau1[[#This Row],[THEO]]-Tableau1[[#This Row],[Qtt 2éme lot]],\"-\")","v":"-"},"-",{"$f":"IF(Tableau1[[#This Row],[2éme lot]]=\"-\",\"-\",IFERROR(IF(Q385=\"\",\"-\",INDEX(I:I,MATCH(Q385,C:C,0)+1)),\"-\"))","v":"-"},"-","-"]
[685,"MD000363","CO-ARADEX 150/12,5 150MG/12,5MG COMP. B/30","IRBESARTAN / HYDROCHLOROTHIAZIDE","M59001R","01.03.2022","MG/EXP1",49,"MG/EXP1-C-072",null,0,null,null,1317.5,"MERINAL LABORATOIRES",{"$f":"IFERROR(IF(Q386=\"\",\"-\",INDEX(I:I,MATCH(Q386,C:C,0))),\"-\")","v":"-"},null,{"$f":"SUMIF(Tableau1[Description article],Tableau1[Produits],Tableau1[Emplacement])","v":0},null,{"$f":"Sheet1!$S386-Sheet1!$R386","v":0},{"$f":"IFERROR(IF(Q386=\"\",\"-\",INDEX(F:F,MATCH(Q386,C:C,0))),\"-\")","v":"-"},{"$f":"IFERROR(IF(Q386=\"\",\"-\",INDEX(E:E,MATCH(Q386,C:C,0))),\"-\")","v":"-"},{"$f":"IFERROR(IF(Q386=\"\",\"-\",INDEX(N:N,MATCH(Q386,C:C,0))),\"-\")","v":"-"},{"$f":"IFERROR(Tableau1[[#This Row],[THEO]]-Tableau1[[#This Row],[Qtt 2éme lot]],\"-\")","v":"-"},{"$f":"IF(IF(Q386=\"\",\"-\",INDEX(E:E,MATCH(Q386,C:C,0)))=IF(Q386=\"\",\"-\",INDEX(E:E,MATCH(Q386,C:C,1))),\"-\",IF(Q386=\"\",\"-\",INDEX(E:E,MATCH(Q386,C:C,1))))","v":"-"},{"$f":"IF(Tableau1[[#This Row],[2éme lot]]=\"-\",\"-\",IFERROR(IF(Q386=\"\",\"-\",INDEX(I:I,MATCH(Q386,C:C,0)+1)),\"-\"))","v":"-"},{"$f":"IFERROR(IF(Y386=\"\",\"-\",INDEX(N:N,MATCH(Y386,E:E,0))),\"-\")","v":"-"},{"$f":"IFERROR(IF(AA386=\"\",\"-\",INDEX(H:H,MATCH(Y386,E:E,0))),\"-\")","v":"-"}]
[686,"MD000365","CO-ARADEX 300/25 300MG/25MG COMP. B/30","IRBESARTAN / HYDROCHLOROTHIAZIDE","M61003R","30.06.2022","MG/EXP1",207,"MG/EXP1-B-071",null,0,null,null,1717.1,"MERINAL LABORATOIRES","-",null,{"$f":"SUMIF(Tableau1[Description article],Tableau1[Produits],Tableau1[Emplacement])","v":0},null,{"$f":"Sheet1!$S387-Sheet1!$R387","v":0},"-","-","-",{"$f":"IFERROR(Tableau1[[#This Row],[THEO]]-Tableau1[[#This Row],[Qtt 2éme lot]],\"-\")","v":"-"},"-",{"$f":"IF(Tableau1[[#This Row],[2éme lot]]=\"-\",\"-\",IFERROR(IF(Q387=\"\",\"-\",INDEX(I:I,MATCH(Q387,C:C,0)+1)),\"-\"))","v":"-"},"-","-"]
[687,"MD000365","CO-ARADEX 300/25 300MG/25MG COMP. B/30","IRBESARTAN / HYDROCHLOROTHIAZIDE","M61001R","01.03.2022","MG/EXP1",13,"MG/EXP1-B-063",null,0,null,null,1717.1,"MERINAL LABORATOIRES","-",null,{"$f":"SUMIF(Tableau1[Description article],Tableau1[Produits],Tableau1[Emplacement])","v":0},null,{"$f":"Sheet1!$S388-Sheet1!$R388","v":0},"-","-","-",{"$f":"IFERROR(Tableau1[[#This Row],[THEO]]-Tableau1[[#This Row],[Qtt 2éme lot]],\"-\")","v":"-"},"-",{"$f":"IF(Tableau1[[#This Row],[2éme lot]]=\"-\",\"-\",IFERROR(IF(Q388=\"\",\"-\",INDEX(I:I,MATCH(Q388,C:C,0)+1)),\"-\"))","v":"-"},"-","-"]
[688,"MD000343","CO-ATABEK 16MG/12,5MG COMP.SEC. B/30","CANDESARTAN CILEXETIL/HYDROCHLOROTHIAZID","086519","01.10.2022","MG/EXP1",82,"MG/EXP1-F-031",null,0,null,null,1736.3,"BEKER LABORATOIRES","-",null,{"$f":"SUMIF(Tableau1[Description article],Tableau1[Produits],Tableau1[Emplacement])","v":0},null,{"$f":"Sheet1!$S389-Sheet1!$R389","v":0},"-","-","-",{"$f":"IFERROR(Tableau1[[#This Row],[THEO]]-Tableau1[[#This Row],[Qtt 2éme lot]],\"-\")","v":"-"},"-",{"$f":"IF(Tableau1[[#This Row],[2éme lot]]=\"-\",\"-\",IFERROR(IF(Q389=\"\",\"-\",INDEX(I:I,MATCH(Q389,C:C,0)+1)),\"-\"))","v":"-"},"-","-"]
[691,"MD000344","CO-ATABEK 8MG/12,5MG COMP.SEC. B/30","CANDESARTAN CILEXETIL/HYDROCHLOROTHIAZID","011619","01.02.2021","MG/EXP1",233,"MG/EXP1-BOX6-002",null,0,null,null,1627.4,"BEKER LABORATOIRES","-",null,{"$f":"SUMIF(Tableau1[Description article],Tableau1[Produits],Tableau1[Emplacement])","v":0},null,{"$f":"Sheet1!$S390-Sheet1!$R390","v":0},"-","-","-",{"$f":"IFERROR(Tableau1[[#This Row],[THEO]]-Tableau1[[#This Row],[Qtt 2éme lot]],\"-\")","v":"-"},"-",{"$f":"IF(Tableau1[[#This Row],[2éme lot]]=\"-\",\"-\",IFERROR(IF(Q390=\"\",\"-\",INDEX(I:I,MATCH(Q390,C:C,0)+1)),\"-\"))","v":"-"},"-","-"]
[692,"MD000371","CO-IRBEK 150MG/12,5MG COMP.PELLI. B/30","IRBESARTAN / HYDROCHLOROTHIAZIDE","098718","22.10.2021","MG/EXP1",13,"MG/EXP1-E-029",null,0,null,null,1317.5,"BEKER LABORATOIRES","-",null,{"$f":"SUMIF(Tableau1[Description article],Tableau1[Produits],Tableau1[Emplacement])","v":0},null,{"$f":"Sheet1!$S391-Sheet1!$R391","v":0},"-","-","-",{"$f":"IFERROR(Tableau1[[#This Row],[THEO]]-Tableau1[[#This Row],[Qtt 2éme lot]],\"-\")","v":"-"},"-",{"$f":"IF(Tableau1[[#This Row],[2éme lot]]=\"-\",\"-\",IFERROR(IF(Q391=\"\",\"-\",INDEX(I:I,MATCH(Q391,C:C,0)+1)),\"-\"))","v":"-"},"-","-"]
[696,"MD000372","CO-IRBEK 300MG/12,5MG COMP.PELLI. B/28","IRBESARTAN / HYDROCHLOROTHIAZIDE","086719","01.10.2022","MG/EXP1",128,"MG/EXP1-BOX6-003",null,0,null,null,1717.1,"BEKER LABORATOIRES","-",null,{"$f":"SUMIF(Tableau1[Description article],Tableau1[Produits],Tableau1[Emplacement])","v":0},null,{"$f":"Sheet1!$S392-Sheet1!$R392","v":0},"-","-","-",{"$f":"IFERROR(Tableau1[[#This Row],[THEO]]-Tableau1[[#This Row],[Qtt 2éme lot]],\"-\")","v":"-"},"-",{"$f":"IF(Tableau1[[#This Row],[2éme lot]]=\"-\",\"-\",IFERROR(IF(Q392=\"\",\"-\",INDEX(I:I,MATCH(Q392,C:C,0)+1)),\"-\"))","v":"-"},"-","-"]
[697,"MD000373","CO-IRBEK 300MG/25MG COMP.PELLI. B/30","IRBESARTAN / HYDROCHLOROTHIAZIDE","099218","23.10.2021","MG/EXP1",2,"MG/EXP1-D-029",null,0,null,null,1717.1,"BEKER LABORATOIRES","-",null,{"$f":"SUMIF(Tableau1[Description article],Tableau1[Produits],Tableau1[Emplacement])","v":0},null,{"$f":"Sheet1!$S393-Sheet1!$R393","v":0},"-","-","-",{"$f":"IFERROR(Tableau1[[#This Row],[THEO]]-Tableau1[[#This Row],[Qtt 2éme lot]],\"-\")","v":"-"},"-",{"$f":"IF(Tableau1[[#This Row],[2éme lot]]=\"-\",\"-\",IFERROR(IF(Q393=\"\",\"-\",INDEX(I:I,MATCH(Q393,C:C,0)+1)),\"-\"))","v":"-"},"-","-"]
[699,"MD000373","CO-IRBEK 300MG/25MG COMP.PELLI. B/30","IRBESARTAN / HYDROCHLOROTHIAZIDE","086219","01.10.2022","MG/EXP1",18,"MG/EXP1-A-011",null,0,null,null,1717.1,"BEKER LABORATOIRES","-",null,{"$f":"SUMIF(Tableau1[Description article],Tableau1[Produits],Tableau1[Emplacement])","v":0},null,{"$f":"Sheet1!$S394-Sheet1!$R394","v":0},"-","-","-",{"$f":"IFERROR(Tableau1[[#This Row],[THEO]]-Tableau1[[#This Row],[Qtt 2éme lot]],\"-\")","v":"-"},"-",{"$f":"IF(Tableau1[[#This Row],[2éme lot]]=\"-\",\"-\",IFERROR(IF(Q394=\"\",\"-\",INDEX(I:I,MATCH(Q394,C:C,0)+1)),\"-\"))","v":"-"},"-","-"]
[701,"MD000349","CO-IRBEVEL 150MG/12,5MG COMP.PELLI. B/30","IRBESARTAN / HYDROCHLOROTHIAZIDE","037","01.08.2021","MG/EXP1",5,"MG/EXP1-BOX6-003",null,0,null,null,1241.47,"BIOPHARM SPA","-",null,{"$f":"SUMIF(Tableau1[Description article],Tableau1[Produits],Tableau1[Emplacement])","v":0},null,{"$f":"Sheet1!$S395-Sheet1!$R395","v":0},"-","-","-",{"$f":"IFERROR(Tableau1[[#This Row],[THEO]]-Tableau1[[#This Row],[Qtt 2éme lot]],\"-\")","v":"-"},"-",{"$f":"IF(Tableau1[[#This Row],[2éme lot]]=\"-\",\"-\",IFERROR(IF(Q395=\"\",\"-\",INDEX(I:I,MATCH(Q395,C:C,0)+1)),\"-\"))","v":"-"},"-","-"]
[702,"MD000351","CO-IRBEVEL 300MG/25MG COMP.PELLI. B/30","IRBESARTAN / HYDROCHLOROTHIAZIDE","064","26.11.2021","MG/EXP1",1,"MG/EXP1-D-012",null,0,null,null,1717,"BIOPHARM SPA","-",null,{"$f":"SUMIF(Tableau1[Description article],Tableau1[Produits],Tableau1[Emplacement])","v":0},null,{"$f":"Sheet1!$S396-Sheet1!$R396","v":0},"-","-","-",{"$f":"IFERROR(Tableau1[[#This Row],[THEO]]-Tableau1[[#This Row],[Qtt 2éme lot]],\"-\")","v":"-"},"-",{"$f":"IF(Tableau1[[#This Row],[2éme lot]]=\"-\",\"-\",IFERROR(IF(Q396=\"\",\"-\",INDEX(I:I,MATCH(Q396,C:C,0)+1)),\"-\"))","v":"-"},"-","-"]
[703,"MD000351","CO-IRBEVEL 300MG/25MG COMP.PELLI. B/30","IRBESARTAN / HYDROCHLOROTHIAZIDE","073","01.11.2021","MG/EXP1",67,"MG/EXP1-D-016",null,0,null,null,1717,"BIOPHARM SPA","-",null,{"$f":"SUMIF(Tableau1[Description article],Tableau1[Produits],Tableau1[Emplacement])","v":0},null,{"$f":"Sheet1!$S397-Sheet1!$R397","v":0},"-","-","-",{"$f":"IFERROR(Tableau1[[#This Row],[THEO]]-Tableau1[[#This Row],[Qtt 2éme lot]],\"-\")","v":"-"},"-",{"$f":"IF(Tableau1[[#This Row],[2éme lot]]=\"-\",\"-\",IFERROR(IF(Q397=\"\",\"-\",INDEX(I:I,MATCH(Q397,C:C,0)+1)),\"-\"))","v":"-"},"-","-"]
[704,"MD000380","CO-NORTA 50MG/12,5MG COMP.PELLI. B/30","LOSARTAN/HYDROCHLORTHIAZIDE","9584","31.10.2022","MG/EXP1",120,"MG/EXP1-E-029",null,0,null,null,2187.5,"INPHA MEDIS SPA","-",null,{"$f":"SUMIF(Tableau1[Description article],Tableau1[Produits],Tableau1[Emplacement])","v":0},null,{"$f":"Sheet1!$S398-Sheet1!$R398","v":0},"-","-","-",{"$f":"IFERROR(Tableau1[[#This Row],[THEO]]-Tableau1[[#This Row],[Qtt 2éme lot]],\"-\")","v":"-"},"-",{"$f":"IF(Tableau1[[#This Row],[2éme lot]]=\"-\",\"-\",IFERROR(IF(Q398=\"\",\"-\",INDEX(I:I,MATCH(Q398,C:C,0)+1)),\"-\"))","v":"-"},"-","-"]
[705,"MD000379","CO-NORTA FORT 100MG/25MG COMP.PELLI.SEC. B/28","LOSARTAN 100/  HYDROCHLORTIAZID 25 MG","9113","31.01.2022","MG/EXP1",27,"MG/EXP1-C-034",null,0,null,null,2041.5,"INPHA MEDIS SPA","-",null,{"$f":"SUMIF(Tableau1[Description article],Tableau1[Produits],Tableau1[Emplacement])","v":0},null,{"$f":"Sheet1!$S399-Sheet1!$R399","v":0},"-","-","-",{"$f":"IFERROR(Tableau1[[#This Row],[THEO]]-Tableau1[[#This Row],[Qtt 2éme lot]],\"-\")","v":"-"},"-",{"$f":"IF(Tableau1[[#This Row],[2éme lot]]=\"-\",\"-\",IFERROR(IF(Q399=\"\",\"-\",INDEX(I:I,MATCH(Q399,C:C,0)+1)),\"-\"))","v":"-"},"-","-"]
[707,"MD000404","CO-TENSOPREL 50MG/25MG COMP. B/30","CAPTOPRIL 50MG+HYDROCHLORTHIAZIDE 25MG","M62015R","31.05.2022","MG/EXP1",257,"MG/EXP1-B-016",null,0,null,null,406.45,"MERINAL LABORATOIRES","-",null,{"$f":"SUMIF(Tableau1[Description article],Tableau1[Produits],Tableau1[Emplacement])","v":0},null,{"$f":"Sheet1!$S400-Sheet1!$R400","v":0},"-","-","-",{"$f":"IFERROR(Tableau1[[#This Row],[THEO]]-Tableau1[[#This Row],[Qtt 2éme lot]],\"-\")","v":"-"},"-",{"$f":"IF(Tableau1[[#This Row],[2éme lot]]=\"-\",\"-\",IFERROR(IF(Q400=\"\",\"-\",INDEX(I:I,MATCH(Q400,C:C,0)+1)),\"-\"))","v":"-"},"-","-"]
[708,"MD000360","COAPROVEL 150MG/12,5MG COMP.PELLI. B/28","IRBESARTAN / HYDROCHLOROTHIAZIDE","CP011A","01.11.2021","MG/EXP1",565,"MG/EXP1-BOX6-003",null,0,null,null,1229.5,"SANOFI AVENTIS ALGERIE SPA","-",null,{"$f":"SUMIF(Tableau1[Description article],Tableau1[Produits],Tableau1[Emplacement])","v":0},null,{"$f":"Sheet1!$S401-Sheet1!$R401","v":0},"-","-","-",{"$f":"IFERROR(Tableau1[[#This Row],[THEO]]-Tableau1[[#This Row],[Qtt 2éme lot]],\"-\")","v":"-"},"-",{"$f":"IF(Tableau1[[#This Row],[2éme lot]]=\"-\",\"-\",IFERROR(IF(Q401=\"\",\"-\",INDEX(I:I,MATCH(Q401,C:C,0)+1)),\"-\"))","v":"-"},"-","-"]
[710,"MD000361","COAPROVEL 300MG/12,5MG COMP.PELLI. B/28","IRBESARTAN / HYDROCHLOROTHIAZIDE","CE023A","01.03.2022","MG/EXP1",103,"MG/EXP1-A-006",null,0,null,null,1602.46,"SANOFI AVENTIS ALGERIE SPA","-",null,{"$f":"SUMIF(Tableau1[Description article],Tableau1[Produits],Tableau1[Emplacement])","v":0},null,{"$f":"Sheet1!$S402-Sheet1!$R402","v":0},"-","-","-",{"$f":"IFERROR(Tableau1[[#This Row],[THEO]]-Tableau1[[#This Row],[Qtt 2éme lot]],\"-\")","v":"-"},"-",{"$f":"IF(Tableau1[[#This Row],[2éme lot]]=\"-\",\"-\",IFERROR(IF(Q402=\"\",\"-\",INDEX(I:I,MATCH(Q402,C:C,0)+1)),\"-\"))","v":"-"},"-","-"]
[712,"MD000362","COAPROVEL 300MG/25MG COMP.PELLI. B/28","IRBESARTAN / HYDROCHLOROTHIAZIDE","CM023A","01.06.2022","MG/EXP1",497,"MG/EXP1-B-027",null,0,null,null,1602.46,"SANOFI AVENTIS ALGERIE SPA","-",null,{"$f":"SUMIF(Tableau1[Description article],Tableau1[Produits],Tableau1[Emplacement])","v":0},null,{"$f":"Sheet1!$S403-Sheet1!$R403","v":0},"-","-","-",{"$f":"IFERROR(Tableau1[[#This Row],[THEO]]-Tableau1[[#This Row],[Qtt 2éme lot]],\"-\")","v":"-"},"-",{"$f":"IF(Tableau1[[#This Row],[2éme lot]]=\"-\",\"-\",IFERROR(IF(Q403=\"\",\"-\",INDEX(I:I,MATCH(Q403,C:C,0)+1)),\"-\"))","v":"-"},"-","-"]
[714,"MD000366","COBAMINE 1000PG/ML SOL.INJ. B/05 AMP/1ML","CYANOCOBALAMINE","559/2","01.11.2021","MG/EXP1",129,"MG/EXP1-F-003",null,0,null,null,220,"SAIDAL UNITE CENTRE","-",null,{"$f":"SUMIF(Tableau1[Description article],Tableau1[Produits],Tableau1[Emplacement])","v":0},null,{"$f":"Sheet1!$S404-Sheet1!$R404","v":0},"-","-","-",{"$f":"IFERROR(Tableau1[[#This Row],[THEO]]-Tableau1[[#This Row],[Qtt 2éme lot]],\"-\")","v":"-"},"-",{"$f":"IF(Tableau1[[#This Row],[2éme lot]]=\"-\",\"-\",IFERROR(IF(Q404=\"\",\"-\",INDEX(I:I,MATCH(Q404,C:C,0)+1)),\"-\"))","v":"-"},"-","-"]
[717,"MD002314","COBAVIT 1000µG/2ML SOL.INJ.IM.\\BUV. B/05 AMP/2ML","CYANOCOBALAMINE (OU VIT.B12)","10061909","01.08.2021","MG/EXP1",34,"MG/EXP1-F-006",null,0,null,null,220,"BIOCARE SARL","-",null,{"$f":"SUMIF(Tableau1[Description article],Tableau1[Produits],Tableau1[Emplacement])","v":0},null,{"$f":"Sheet1!$S405-Sheet1!$R405","v":0},"-","-","-",{"$f":"IFERROR(Tableau1[[#This Row],[THEO]]-Tableau1[[#This Row],[Qtt 2éme lot]],\"-\")","v":"-"},"-",{"$f":"IF(Tableau1[[#This Row],[2éme lot]]=\"-\",\"-\",IFERROR(IF(Q405=\"\",\"-\",INDEX(I:I,MATCH(Q405,C:C,0)+1)),\"-\"))","v":"-"},"-","-"]
[720,"MD000367","COBEKTAL 100MG/25MG COMP.PELLI. B/30","LOSARTAN 100/  HYDROCHLORTIAZID 25 MG","111918","21.02.2022","MG/EXP1",116,"MG/EXP1-BOX6-002",null,0,null,null,2187.5,"BEKER LABORATOIRES","-",null,{"$f":"SUMIF(Tableau1[Description article],Tableau1[Produits],Tableau1[Emplacement])","v":0},null,{"$f":"Sheet1!$S406-Sheet1!$R406","v":0},"-","-","-",{"$f":"IFERROR(Tableau1[[#This Row],[THEO]]-Tableau1[[#This Row],[Qtt 2éme lot]],\"-\")","v":"-"},"-",{"$f":"IF(Tableau1[[#This Row],[2éme lot]]=\"-\",\"-\",IFERROR(IF(Q406=\"\",\"-\",INDEX(I:I,MATCH(Q406,C:C,0)+1)),\"-\"))","v":"-"},"-","-"]
[722,"MD000368","COBEKTAL 50MG/12,5MG COMP.PELLI. B/30","LOSARTAN/HYDROCHLORTHIAZIDE","090919","01.11.2022","MG/EXP1",344,"MG/EXP1-E-040",null,0,null,null,2187.5,"BEKER LABORATOIRES","-",null,{"$f":"SUMIF(Tableau1[Description article],Tableau1[Produits],Tableau1[Emplacement])","v":0},null,{"$f":"Sheet1!$S407-Sheet1!$R407","v":0},"-","-","-",{"$f":"IFERROR(Tableau1[[#This Row],[THEO]]-Tableau1[[#This Row],[Qtt 2éme lot]],\"-\")","v":"-"},"-",{"$f":"IF(Tableau1[[#This Row],[2éme lot]]=\"-\",\"-\",IFERROR(IF(Q407=\"\",\"-\",INDEX(I:I,MATCH(Q407,C:C,0)+1)),\"-\"))","v":"-"},"-","-"]
[723,"MD000369","CODOLYC CP .B/20","PARACETAMOL / CODEINE","M09030R","31.10.2021","MG/EXP1",230,"MG/EXP1-BOX6-PSY-025",null,0,null,null,147.5,"MERINAL LABORATOIRES","-",null,{"$f":"SUMIF(Tableau1[Description article],Tableau1[Produits],Tableau1[Emplacement])","v":0},null,{"$f":"Sheet1!$S408-Sheet1!$R408","v":0},"-","-","-",{"$f":"IFERROR(Tableau1[[#This Row],[THEO]]-Tableau1[[#This Row],[Qtt 2éme lot]],\"-\")","v":"-"},"-",{"$f":"IF(Tableau1[[#This Row],[2éme lot]]=\"-\",\"-\",IFERROR(IF(Q408=\"\",\"-\",INDEX(I:I,MATCH(Q408,C:C,0)+1)),\"-\"))","v":"-"},"-","-"]
[724,"MD000370","COEXPANDOL 400MG/20MG COMP. B/16","PARACETAMOL / CODEINE","020","01.12.2021","MG/EXP1",1216,"MG/EXP1-BOX6-PSY-016",null,0,null,null,130,"BIO-GALENIC SARL","-",null,{"$f":"SUMIF(Tableau1[Description article],Tableau1[Produits],Tableau1[Emplacement])","v":0},null,{"$f":"Sheet1!$S409-Sheet1!$R409","v":0},"-","-","-",{"$f":"IFERROR(Tableau1[[#This Row],[THEO]]-Tableau1[[#This Row],[Qtt 2éme lot]],\"-\")","v":"-"},"-",{"$f":"IF(Tableau1[[#This Row],[2éme lot]]=\"-\",\"-\",IFERROR(IF(Q409=\"\",\"-\",INDEX(I:I,MATCH(Q409,C:C,0)+1)),\"-\"))","v":"-"},"-","-"]
[726,"MD000375","COLCHIMED 1MG COMP. B/20","COLCHICINE","9530","30.09.2021","MG/EXP1",289,"MG/EXP1-C-065",null,0,null,null,201.23,"INPHA MEDIS SPA","-",null,{"$f":"SUMIF(Tableau1[Description article],Tableau1[Produits],Tableau1[Emplacement])","v":0},null,{"$f":"Sheet1!$S410-Sheet1!$R410","v":0},"-","-","-",{"$f":"IFERROR(Tableau1[[#This Row],[THEO]]-Tableau1[[#This Row],[Qtt 2éme lot]],\"-\")","v":"-"},"-",{"$f":"IF(Tableau1[[#This Row],[2éme lot]]=\"-\",\"-\",IFERROR(IF(Q410=\"\",\"-\",INDEX(I:I,MATCH(Q410,C:C,0)+1)),\"-\"))","v":"-"},"-","-"]
[728,"MD000376","COLESTOR 40MG GLES. B/30","FLUVASTATINE","068719","01.07.2021","MG/EXP1",124,"MG/EXP1-A-006",null,0,null,null,895.1,"BEKER LABORATOIRES","-",null,{"$f":"SUMIF(Tableau1[Description article],Tableau1[Produits],Tableau1[Emplacement])","v":0},null,{"$f":"Sheet1!$S411-Sheet1!$R411","v":0},"-","-","-",{"$f":"IFERROR(Tableau1[[#This Row],[THEO]]-Tableau1[[#This Row],[Qtt 2éme lot]],\"-\")","v":"-"},"-",{"$f":"IF(Tableau1[[#This Row],[2éme lot]]=\"-\",\"-\",IFERROR(IF(Q411=\"\",\"-\",INDEX(I:I,MATCH(Q411,C:C,0)+1)),\"-\"))","v":"-"},"-","-"]
[730,"MD000383","COPARALGAN 400MG/20MG COMP.SEC. B/20","PARACETAMOL / CODEINE","240","01.09.2021","MG/EXP1",320,"MG/EXP1-BOX6-PSY-024",null,0,null,null,115,"SAIDAL UNITE CENTRE","-",null,{"$f":"SUMIF(Tableau1[Description article],Tableau1[Produits],Tableau1[Emplacement])","v":0},null,{"$f":"Sheet1!$S412-Sheet1!$R412","v":0},"-","-","-",{"$f":"IFERROR(Tableau1[[#This Row],[THEO]]-Tableau1[[#This Row],[Qtt 2éme lot]],\"-\")","v":"-"},"-",{"$f":"IF(Tableau1[[#This Row],[2éme lot]]=\"-\",\"-\",IFERROR(IF(Q412=\"\",\"-\",INDEX(I:I,MATCH(Q412,C:C,0)+1)),\"-\"))","v":"-"},"-","-"]
[732,"MD000387","CORECT 50MG COMP. B/30","ACARBOSE","032","01.02.2021","MG/EXP1",18,"MG/EXP1-D-005",null,0,null,null,407.6,"BIOPHARM SPA","-",null,{"$f":"SUMIF(Tableau1[Description article],Tableau1[Produits],Tableau1[Emplacement])","v":0},null,{"$f":"Sheet1!$S413-Sheet1!$R413","v":0},"-","-","-",{"$f":"IFERROR(Tableau1[[#This Row],[THEO]]-Tableau1[[#This Row],[Qtt 2éme lot]],\"-\")","v":"-"},"-",{"$f":"IF(Tableau1[[#This Row],[2éme lot]]=\"-\",\"-\",IFERROR(IF(Q413=\"\",\"-\",INDEX(I:I,MATCH(Q413,C:C,0)+1)),\"-\"))","v":"-"},"-","-"]
[734,"MD000390","CORONOL 3MG/ML COLLYRE .F/5ML - OPTIFLOX-","OFLOXACINE","0014**","28.02.2021","MG/EXP1",117,"MG/EXP1-A-072",null,0,null,null,165.99,"GENERICLAB SARL","-",null,{"$f":"SUMIF(Tableau1[Description article],Tableau1[Produits],Tableau1[Emplacement])","v":0},null,{"$f":"Sheet1!$S414-Sheet1!$R414","v":0},"-","-","-",{"$f":"IFERROR(Tableau1[[#This Row],[THEO]]-Tableau1[[#This Row],[Qtt 2éme lot]],\"-\")","v":"-"},"-",{"$f":"IF(Tableau1[[#This Row],[2éme lot]]=\"-\",\"-\",IFERROR(IF(Q414=\"\",\"-\",INDEX(I:I,MATCH(Q414,C:C,0)+1)),\"-\"))","v":"-"},"-","-"]
[735,"MD000391","CORSALIC 0,1%/5% PDE.DERM. T/30G","MOMETASONE FURO  1MG/ AC SALICYLIQ 50MG","WC0162","01.03.2021","MG/EXP1",45,"MG/EXP1-G-018",null,0,null,null,748.99,"BIOPHARM SPA","-",null,{"$f":"SUMIF(Tableau1[Description article],Tableau1[Produits],Tableau1[Emplacement])","v":0},null,{"$f":"Sheet1!$S415-Sheet1!$R415","v":0},"-","-","-",{"$f":"IFERROR(Tableau1[[#This Row],[THEO]]-Tableau1[[#This Row],[Qtt 2éme lot]],\"-\")","v":"-"},"-",{"$f":"IF(Tableau1[[#This Row],[2éme lot]]=\"-\",\"-\",IFERROR(IF(Q415=\"\",\"-\",INDEX(I:I,MATCH(Q415,C:C,0)+1)),\"-\"))","v":"-"},"-","-"]
[738,"MD000392","CORTEN 0.01 CR.DERM. T/15G","HYDROCORTISONE","74089","01.08.2022","MG/EXP1",33,"MG/EXP1-E-033",null,0,null,null,168.31,"AT PHARMA SPA","-",null,{"$f":"SUMIF(Tableau1[Description article],Tableau1[Produits],Tableau1[Emplacement])","v":0},null,{"$f":"Sheet1!$S416-Sheet1!$R416","v":0},"-","-","-",{"$f":"IFERROR(Tableau1[[#This Row],[THEO]]-Tableau1[[#This Row],[Qtt 2éme lot]],\"-\")","v":"-"},"-",{"$f":"IF(Tableau1[[#This Row],[2éme lot]]=\"-\",\"-\",IFERROR(IF(Q416=\"\",\"-\",INDEX(I:I,MATCH(Q416,C:C,0)+1)),\"-\"))","v":"-"},"-","-"]
[740,"MD004168","CORTIDAL 01MG/ML SOL.BUV.  FL/50ML","PREDNISOLONE","19903","01.04.2021","MG/EXP1",61,"MG/EXP1-B-019",null,0,null,null,409.99,"PHARMIDAL SARL","-",null,{"$f":"SUMIF(Tableau1[Description article],Tableau1[Produits],Tableau1[Emplacement])","v":0},null,{"$f":"Sheet1!$S417-Sheet1!$R417","v":0},"-","-","-",{"$f":"IFERROR(Tableau1[[#This Row],[THEO]]-Tableau1[[#This Row],[Qtt 2éme lot]],\"-\")","v":"-"},"-",{"$f":"IF(Tableau1[[#This Row],[2éme lot]]=\"-\",\"-\",IFERROR(IF(Q417=\"\",\"-\",INDEX(I:I,MATCH(Q417,C:C,0)+1)),\"-\"))","v":"-"},"-","-"]
[741,"MD004159","CORTILAM 4MG COMP.SEC. B/20","METHYLPREDNISOLONE","01/20","01.01.2022","MG/EXP1",761,"MG/EXP1-B-070",null,0,null,null,130.47,"LAM SARL","-",null,{"$f":"SUMIF(Tableau1[Description article],Tableau1[Produits],Tableau1[Emplacement])","v":0},null,{"$f":"Sheet1!$S418-Sheet1!$R418","v":0},"-","-","-",{"$f":"IFERROR(Tableau1[[#This Row],[THEO]]-Tableau1[[#This Row],[Qtt 2éme lot]],\"-\")","v":"-"},"-",{"$f":"IF(Tableau1[[#This Row],[2éme lot]]=\"-\",\"-\",IFERROR(IF(Q418=\"\",\"-\",INDEX(I:I,MATCH(Q418,C:C,0)+1)),\"-\"))","v":"-"},"-","-"]
[742,"MD000394","CORTISAF 0,10% CR.DERM. T/30G","MOMETASONE FUROATE 1MG/G","WK0141**","01.09.2021","MG/EXP1",130,"MG/EXP1-E-004",null,0,null,null,504.02,"LDM LABORATOIRES DE DIAGNOSTIC MAGHREBINS","-",null,{"$f":"SUMIF(Tableau1[Description article],Tableau1[Produits],Tableau1[Emplacement])","v":0},null,{"$f":"Sheet1!$S419-Sheet1!$R419","v":0},"-","-","-",{"$f":"IFERROR(Tableau1[[#This Row],[THEO]]-Tableau1[[#This Row],[Qtt 2éme lot]],\"-\")","v":"-"},"-",{"$f":"IF(Tableau1[[#This Row],[2éme lot]]=\"-\",\"-\",IFERROR(IF(Q419=\"\",\"-\",INDEX(I:I,MATCH(Q419,C:C,0)+1)),\"-\"))","v":"-"},"-","-"]
[745,"MD000395","CORTISAF 0,10% PDE.DERM. T/30G","MOMETASONE FUROATE 1MG/G","WL0092","31.10.2021","MG/EXP1",105,"MG/EXP1-C-040",null,0,null,null,577.15,"BIOPHARM SPA","-",null,{"$f":"SUMIF(Tableau1[Description article],Tableau1[Produits],Tableau1[Emplacement])","v":0},null,{"$f":"Sheet1!$S420-Sheet1!$R420","v":0},"-","-","-",{"$f":"IFERROR(Tableau1[[#This Row],[THEO]]-Tableau1[[#This Row],[Qtt 2éme lot]],\"-\")","v":"-"},"-",{"$f":"IF(Tableau1[[#This Row],[2éme lot]]=\"-\",\"-\",IFERROR(IF(Q420=\"\",\"-\",INDEX(I:I,MATCH(Q420,C:C,0)+1)),\"-\"))","v":"-"},"-","-"]
[746,"MD000396","CORVASAL 2MG COMP.SEC. B/30","MOLSIDOMINE","RR011A","01.08.2021","MG/EXP1",1371,"MG/EXP1-B-004",null,0,null,null,264,"WINTHROP PHARMA  SAIDAL SPA","-",null,{"$f":"SUMIF(Tableau1[Description article],Tableau1[Produits],Tableau1[Emplacement])","v":0},null,{"$f":"Sheet1!$S421-Sheet1!$R421","v":0},"-","-","-",{"$f":"IFERROR(Tableau1[[#This Row],[THEO]]-Tableau1[[#This Row],[Qtt 2éme lot]],\"-\")","v":"-"},"-",{"$f":"IF(Tableau1[[#This Row],[2éme lot]]=\"-\",\"-\",IFERROR(IF(Q421=\"\",\"-\",INDEX(I:I,MATCH(Q421,C:C,0)+1)),\"-\"))","v":"-"},"-","-"]
[748,"MD000397","CORVASAL 4MG COMP.SEC. B/30","MOLSIDOMINE","RL006A","01.05.2021","MG/EXP1",164,"MG/EXP1-BOX6-003",null,0,null,null,489.72,"WINTHROP PHARMA  SAIDAL SPA","-",null,{"$f":"SUMIF(Tableau1[Description article],Tableau1[Produits],Tableau1[Emplacement])","v":0},null,{"$f":"Sheet1!$S422-Sheet1!$R422","v":0},"-","-","-",{"$f":"IFERROR(Tableau1[[#This Row],[THEO]]-Tableau1[[#This Row],[Qtt 2éme lot]],\"-\")","v":"-"},"-",{"$f":"IF(Tableau1[[#This Row],[2éme lot]]=\"-\",\"-\",IFERROR(IF(Q422=\"\",\"-\",INDEX(I:I,MATCH(Q422,C:C,0)+1)),\"-\"))","v":"-"},"-","-"]
[750,"MD004106","COSOTIMOL 20MG/05MG/ML COLLY. FL/5ML","dorzolamine/timolol","011","01.06.2021","MG/EXP1",404,"MG/EXP1-E-063",null,0,null,null,852.9,"HUP.P PHARMA SARL","-",null,{"$f":"SUMIF(Tableau1[Description article],Tableau1[Produits],Tableau1[Emplacement])","v":0},null,{"$f":"Sheet1!$S423-Sheet1!$R423","v":0},"-","-","-",{"$f":"IFERROR(Tableau1[[#This Row],[THEO]]-Tableau1[[#This Row],[Qtt 2éme lot]],\"-\")","v":"-"},"-",{"$f":"IF(Tableau1[[#This Row],[2éme lot]]=\"-\",\"-\",IFERROR(IF(Q423=\"\",\"-\",INDEX(I:I,MATCH(Q423,C:C,0)+1)),\"-\"))","v":"-"},"-","-"]
[752,"MD000403","COTAREG 80MG/12,5MG COMP.PELLI. B/28","VALSARTAN / HYDROCHLORTHIAZID","159063","01.02.2022","MG/EXP1",480,"MG/EXP1-BOX6-003",null,0,null,null,2041.5,"E.P.DIS EURAPHARMA SPA","-",null,{"$f":"SUMIF(Tableau1[Description article],Tableau1[Produits],Tableau1[Emplacement])","v":0},null,{"$f":"Sheet1!$S424-Sheet1!$R424","v":0},"-","-","-",{"$f":"IFERROR(Tableau1[[#This Row],[THEO]]-Tableau1[[#This Row],[Qtt 2éme lot]],\"-\")","v":"-"},"-",{"$f":"IF(Tableau1[[#This Row],[2éme lot]]=\"-\",\"-\",IFERROR(IF(Q424=\"\",\"-\",INDEX(I:I,MATCH(Q424,C:C,0)+1)),\"-\"))","v":"-"},"-","-"]
[753,"MD000405","COTRIM 200MG/40MG/5ML SUSP.BUV. FL/100ML","SULFAMETHOXAZOLE 200  / TRIMETHOPRIME 40","1901/68*","01.01.2022","MG/EXP1",65,"MG/EXP1-B-022",null,0,null,null,215,"GROUPE SANTE LABORATOIRE","-",null,{"$f":"SUMIF(Tableau1[Description article],Tableau1[Produits],Tableau1[Emplacement])","v":0},null,{"$f":"Sheet1!$S425-Sheet1!$R425","v":0},"-","-","-",{"$f":"IFERROR(Tableau1[[#This Row],[THEO]]-Tableau1[[#This Row],[Qtt 2éme lot]],\"-\")","v":"-"},"-",{"$f":"IF(Tableau1[[#This Row],[2éme lot]]=\"-\",\"-\",IFERROR(IF(Q425=\"\",\"-\",INDEX(I:I,MATCH(Q425,C:C,0)+1)),\"-\"))","v":"-"},"-","-"]
[757,"MD000406","COTRIMAZOLE SP","SULFAMETHOXAZOLE + TRIMETHOPRIME","0332","01.06.2023","MG/EXP1",35,"MG/EXP1-D-040",null,0,null,null,218.46,"PHARMAGHREB","-",null,{"$f":"SUMIF(Tableau1[Description article],Tableau1[Produits],Tableau1[Emplacement])","v":0},null,{"$f":"Sheet1!$S426-Sheet1!$R426","v":0},"-","-","-",{"$f":"IFERROR(Tableau1[[#This Row],[THEO]]-Tableau1[[#This Row],[Qtt 2éme lot]],\"-\")","v":"-"},"-",{"$f":"IF(Tableau1[[#This Row],[2éme lot]]=\"-\",\"-\",IFERROR(IF(Q426=\"\",\"-\",INDEX(I:I,MATCH(Q426,C:C,0)+1)),\"-\"))","v":"-"},"-","-"]
[759,"MD004012","COTRIMOXAL 400/80 CP B/20","SULFAMETHOXAZOLE 400  / TRIMETHOPRIME 80","171041","30.11.2020","MG/EXP1",115,"MG/EXP1-F-052",null,0,null,null,124.81,"SOPHAL SOCIETE PHARMACEUTIQUE ALGERIENNE","-",null,{"$f":"SUMIF(Tableau1[Description article],Tableau1[Produits],Tableau1[Emplacement])","v":0},null,{"$f":"Sheet1!$S427-Sheet1!$R427","v":0},"-","-","-",{"$f":"IFERROR(Tableau1[[#This Row],[THEO]]-Tableau1[[#This Row],[Qtt 2éme lot]],\"-\")","v":"-"},"-",{"$f":"IF(Tableau1[[#This Row],[2éme lot]]=\"-\",\"-\",IFERROR(IF(Q427=\"\",\"-\",INDEX(I:I,MATCH(Q427,C:C,0)+1)),\"-\"))","v":"-"},"-","-"]
[762,"MD000407","COTRIMOXAL FORTE 800MG/160MG COMP.SEC. B/20","COTRIMOXAZOLE","172202","30.11.2021","MG/EXP1",135,"MG/EXP1-C-013",null,0,null,null,248.16,"SOPHAL SOCIETE PHARMACEUTIQUE ALGERIENNE","-",null,{"$f":"SUMIF(Tableau1[Description article],Tableau1[Produits],Tableau1[Emplacement])","v":0},null,{"$f":"Sheet1!$S428-Sheet1!$R428","v":0},"-","-","-",{"$f":"IFERROR(Tableau1[[#This Row],[THEO]]-Tableau1[[#This Row],[Qtt 2éme lot]],\"-\")","v":"-"},"-",{"$f":"IF(Tableau1[[#This Row],[2éme lot]]=\"-\",\"-\",IFERROR(IF(Q428=\"\",\"-\",INDEX(I:I,MATCH(Q428,C:C,0)+1)),\"-\"))","v":"-"},"-","-"]
[765,"MD000411","COVERSYL 10MG COMP.PELLI. B/30","PERINDOPRIL","8175","01.03.2021","MG/EXP1",88,"MG/EXP1-A-065",null,0,null,null,588.38,"LDM LABORATOIRES DE DIAGNOSTIC MAGHREBINS","-",null,{"$f":"SUMIF(Tableau1[Description article],Tableau1[Produits],Tableau1[Emplacement])","v":0},null,{"$f":"Sheet1!$S429-Sheet1!$R429","v":0},"-","-","-",{"$f":"IFERROR(Tableau1[[#This Row],[THEO]]-Tableau1[[#This Row],[Qtt 2éme lot]],\"-\")","v":"-"},"-",{"$f":"IF(Tableau1[[#This Row],[2éme lot]]=\"-\",\"-\",IFERROR(IF(Q429=\"\",\"-\",INDEX(I:I,MATCH(Q429,C:C,0)+1)),\"-\"))","v":"-"},"-","-"]
[767,"MD000412","COVERSYL 5MG COMP.PELLI.SEC. B/30","PERINDOPRIL","9206","31.05.2022","MG/EXP1",20,"MG/EXP1-F-011",null,0,null,null,588.38,"LDM LABORATOIRES DE DIAGNOSTIC MAGHREBINS","-",null,{"$f":"SUMIF(Tableau1[Description article],Tableau1[Produits],Tableau1[Emplacement])","v":0},null,{"$f":"Sheet1!$S430-Sheet1!$R430","v":0},"-","-","-",{"$f":"IFERROR(Tableau1[[#This Row],[THEO]]-Tableau1[[#This Row],[Qtt 2éme lot]],\"-\")","v":"-"},"-",{"$f":"IF(Tableau1[[#This Row],[2éme lot]]=\"-\",\"-\",IFERROR(IF(Q430=\"\",\"-\",INDEX(I:I,MATCH(Q430,C:C,0)+1)),\"-\"))","v":"-"},"-","-"]
[768,"MD000415","COZAAR 100MG COMP.PELLI. B/28","LOSARTAN POTASSIUM","1804008","22.07.2021","MG/EXP1",29,"MG/EXP1-BOX6-003",null,0,null,null,1201.5,"AT PHARMA SPA","-",null,{"$f":"SUMIF(Tableau1[Description article],Tableau1[Produits],Tableau1[Emplacement])","v":0},null,{"$f":"Sheet1!$S431-Sheet1!$R431","v":0},"-","-","-",{"$f":"IFERROR(Tableau1[[#This Row],[THEO]]-Tableau1[[#This Row],[Qtt 2éme lot]],\"-\")","v":"-"},"-",{"$f":"IF(Tableau1[[#This Row],[2éme lot]]=\"-\",\"-\",IFERROR(IF(Q431=\"\",\"-\",INDEX(I:I,MATCH(Q431,C:C,0)+1)),\"-\"))","v":"-"},"-","-"]
[769,"MD002301","COZAAR 50MG COMP.PELLI.SEC. B/28","LOSARTAN POTASSIQUE","1903001","01.02.2022","MG/EXP1",23,"MG/EXP1-BOX6-003",null,0,null,null,1201.5,"AT PHARMA SPA","-",null,{"$f":"SUMIF(Tableau1[Description article],Tableau1[Produits],Tableau1[Emplacement])","v":0},null,{"$f":"Sheet1!$S432-Sheet1!$R432","v":0},"-","-","-",{"$f":"IFERROR(Tableau1[[#This Row],[THEO]]-Tableau1[[#This Row],[Qtt 2éme lot]],\"-\")","v":"-"},"-",{"$f":"IF(Tableau1[[#This Row],[2éme lot]]=\"-\",\"-\",IFERROR(IF(Q432=\"\",\"-\",INDEX(I:I,MATCH(Q432,C:C,0)+1)),\"-\"))","v":"-"},"-","-"]
[771,"MD000416","CRESOVAST 10MG COMP.PELLI. B/30","ROSUVASTATINE CALCIUM","192114","01.09.2021","MG/EXP1",54,"MG/EXP1-D-010",null,0,null,null,835.1,"EL KENDI INDUSTRIE DE MEDICAMENTS SPA","-",null,{"$f":"SUMIF(Tableau1[Description article],Tableau1[Produits],Tableau1[Emplacement])","v":0},null,{"$f":"Sheet1!$S433-Sheet1!$R433","v":0},"-","-","-",{"$f":"IFERROR(Tableau1[[#This Row],[THEO]]-Tableau1[[#This Row],[Qtt 2éme lot]],\"-\")","v":"-"},"-",{"$f":"IF(Tableau1[[#This Row],[2éme lot]]=\"-\",\"-\",IFERROR(IF(Q433=\"\",\"-\",INDEX(I:I,MATCH(Q433,C:C,0)+1)),\"-\"))","v":"-"},"-","-"]
[772,"MD000416","CRESOVAST 10MG COMP.PELLI. B/30","ROSUVASTATINE CALCIUM","192361","01.11.2021","MG/EXP1",3,"MG/EXP1-E-051",null,0,null,null,835.1,"EL KENDI INDUSTRIE DE MEDICAMENTS SPA","-",null,{"$f":"SUMIF(Tableau1[Description article],Tableau1[Produits],Tableau1[Emplacement])","v":0},null,{"$f":"Sheet1!$S434-Sheet1!$R434","v":0},"-","-","-",{"$f":"IFERROR(Tableau1[[#This Row],[THEO]]-Tableau1[[#This Row],[Qtt 2éme lot]],\"-\")","v":"-"},"-",{"$f":"IF(Tableau1[[#This Row],[2éme lot]]=\"-\",\"-\",IFERROR(IF(Q434=\"\",\"-\",INDEX(I:I,MATCH(Q434,C:C,0)+1)),\"-\"))","v":"-"},"-","-"]
[774,"MD000417","CRESOVAST 20MG COMP.PELLI. B/30","ROSUVASTATINE CALCIUM","192119","01.10.2021","MG/EXP1",177,"MG/EXP1-C-034",null,0,null,null,1244.89,"EL KENDI INDUSTRIE DE MEDICAMENTS SPA","-",null,{"$f":"SUMIF(Tableau1[Description article],Tableau1[Produits],Tableau1[Emplacement])","v":0},null,{"$f":"Sheet1!$S435-Sheet1!$R435","v":0},"-","-","-",{"$f":"IFERROR(Tableau1[[#This Row],[THEO]]-Tableau1[[#This Row],[Qtt 2éme lot]],\"-\")","v":"-"},"-",{"$f":"IF(Tableau1[[#This Row],[2éme lot]]=\"-\",\"-\",IFERROR(IF(Q435=\"\",\"-\",INDEX(I:I,MATCH(Q435,C:C,0)+1)),\"-\"))","v":"-"},"-","-"]
[775,"MD000418","CRESTATINE 10MG COMP.PELLI. B/30","ROSUVASTATINE CALCIUM","002/19*","01.03.2021","MG/EXP1",204,"MG/EXP1-E-058",null,0,null,null,835.1,"PHARMALLIANCE EURL","-",null,{"$f":"SUMIF(Tableau1[Description article],Tableau1[Produits],Tableau1[Emplacement])","v":0},null,{"$f":"Sheet1!$S436-Sheet1!$R436","v":0},"-","-","-",{"$f":"IFERROR(Tableau1[[#This Row],[THEO]]-Tableau1[[#This Row],[Qtt 2éme lot]],\"-\")","v":"-"},"-",{"$f":"IF(Tableau1[[#This Row],[2éme lot]]=\"-\",\"-\",IFERROR(IF(Q436=\"\",\"-\",INDEX(I:I,MATCH(Q436,C:C,0)+1)),\"-\"))","v":"-"},"-","-"]
[776,"MD000419","CRESTATINE 20MG COMP.PELLI. B/30","ROSUVASTATINE CALCIUM","001/19","01.09.2021","MG/EXP1",69,"MG/EXP1-G-007",null,0,null,null,1244.89,"PHARMALLIANCE EURL","-",null,{"$f":"SUMIF(Tableau1[Description article],Tableau1[Produits],Tableau1[Emplacement])","v":0},null,{"$f":"Sheet1!$S437-Sheet1!$R437","v":0},"-","-","-",{"$f":"IFERROR(Tableau1[[#This Row],[THEO]]-Tableau1[[#This Row],[Qtt 2éme lot]],\"-\")","v":"-"},"-",{"$f":"IF(Tableau1[[#This Row],[2éme lot]]=\"-\",\"-\",IFERROR(IF(Q437=\"\",\"-\",INDEX(I:I,MATCH(Q437,C:C,0)+1)),\"-\"))","v":"-"},"-","-"]
[777,"MD004202","CROPINE 0,01 COLLY. FL/10ML","ATROPINE","0010C","01.02.2021","MG/EXP1",107,"MG/EXP1-D-024",null,0,null,null,279.29,"GENERICLAB SARL","-",null,{"$f":"SUMIF(Tableau1[Description article],Tableau1[Produits],Tableau1[Emplacement])","v":0},null,{"$f":"Sheet1!$S438-Sheet1!$R438","v":0},"-","-","-",{"$f":"IFERROR(Tableau1[[#This Row],[THEO]]-Tableau1[[#This Row],[Qtt 2éme lot]],\"-\")","v":"-"},"-",{"$f":"IF(Tableau1[[#This Row],[2éme lot]]=\"-\",\"-\",IFERROR(IF(Q438=\"\",\"-\",INDEX(I:I,MATCH(Q438,C:C,0)+1)),\"-\"))","v":"-"},"-","-"]
[778,"MD002306","CROPINE 0,5% COLLY. FL/10ML","ATROPINE","0010C","01.02.2021","MG/EXP1",9,"MG/EXP1-E-039",null,0,null,null,222.41,"GENERICLAB SARL","-",null,{"$f":"SUMIF(Tableau1[Description article],Tableau1[Produits],Tableau1[Emplacement])","v":0},null,{"$f":"Sheet1!$S439-Sheet1!$R439","v":0},"-","-","-",{"$f":"IFERROR(Tableau1[[#This Row],[THEO]]-Tableau1[[#This Row],[Qtt 2éme lot]],\"-\")","v":"-"},"-",{"$f":"IF(Tableau1[[#This Row],[2éme lot]]=\"-\",\"-\",IFERROR(IF(Q439=\"\",\"-\",INDEX(I:I,MATCH(Q439,C:C,0)+1)),\"-\"))","v":"-"},"-","-"]
[780,"MD000422","CROVIFENE 50MG COMP. B/10","CITRATE DE CLOMIFENE","190239/1","01.04.2024","MG/EXP1",120,"MG/EXP1-B-043",null,0,null,null,297.63,"GENERICLAB SARL","-",null,{"$f":"SUMIF(Tableau1[Description article],Tableau1[Produits],Tableau1[Emplacement])","v":0},null,{"$f":"Sheet1!$S440-Sheet1!$R440","v":0},"-","-","-",{"$f":"IFERROR(Tableau1[[#This Row],[THEO]]-Tableau1[[#This Row],[Qtt 2éme lot]],\"-\")","v":"-"},"-",{"$f":"IF(Tableau1[[#This Row],[2éme lot]]=\"-\",\"-\",IFERROR(IF(Q440=\"\",\"-\",INDEX(I:I,MATCH(Q440,C:C,0)+1)),\"-\"))","v":"-"},"-","-"]
[781,"MD000424","CROXIZINE 100MG COMP. B/30","HYDROXYZINE DICHLORHYDRATE","180209*","01.05.2023","MG/EXP1",15,"MG/EXP1-BOX6-PSY-016",null,0,null,null,313.95,"GB PHARMA SARL","-",null,{"$f":"SUMIF(Tableau1[Description article],Tableau1[Produits],Tableau1[Emplacement])","v":0},null,{"$f":"Sheet1!$S441-Sheet1!$R441","v":0},"-","-","-",{"$f":"IFERROR(Tableau1[[#This Row],[THEO]]-Tableau1[[#This Row],[Qtt 2éme lot]],\"-\")","v":"-"},"-",{"$f":"IF(Tableau1[[#This Row],[2éme lot]]=\"-\",\"-\",IFERROR(IF(Q441=\"\",\"-\",INDEX(I:I,MATCH(Q441,C:C,0)+1)),\"-\"))","v":"-"},"-","-"]
[782,"MD000426","CURACNE 20MG 20MG CAPS. MOLLES B/30","ISOTRETINOINE","HR069106","01.05.2022","MG/EXP1",394,"MG/EXP1-BOX6-004",null,0,null,null,2614.78,"BIOPHARM SPA","-",null,{"$f":"SUMIF(Tableau1[Description article],Tableau1[Produits],Tableau1[Emplacement])","v":0},null,{"$f":"Sheet1!$S442-Sheet1!$R442","v":0},"-","-","-",{"$f":"IFERROR(Tableau1[[#This Row],[THEO]]-Tableau1[[#This Row],[Qtt 2éme lot]],\"-\")","v":"-"},"-",{"$f":"IF(Tableau1[[#This Row],[2éme lot]]=\"-\",\"-\",IFERROR(IF(Q442=\"\",\"-\",INDEX(I:I,MATCH(Q442,C:C,0)+1)),\"-\"))","v":"-"},"-","-"]
[785,"MD000427","CURACNE 5MG 5MG CAPS. MOLLES B/30","ISOTRETINOINE","HR068937","01.02.2022","MG/EXP1",62,"MG/EXP1-D-067",null,0,null,null,891.53,"BIOPHARM SPA","-",null,{"$f":"SUMIF(Tableau1[Description article],Tableau1[Produits],Tableau1[Emplacement])","v":0},null,{"$f":"Sheet1!$S443-Sheet1!$R443","v":0},"-","-","-",{"$f":"IFERROR(Tableau1[[#This Row],[THEO]]-Tableau1[[#This Row],[Qtt 2éme lot]],\"-\")","v":"-"},"-",{"$f":"IF(Tableau1[[#This Row],[2éme lot]]=\"-\",\"-\",IFERROR(IF(Q443=\"\",\"-\",INDEX(I:I,MATCH(Q443,C:C,0)+1)),\"-\"))","v":"-"},"-","-"]
[791,"MD000425","CURACNE10MG 10MG CAPS. MOLLES B/30","ISOTRETINOINE","HR069065","01.03.2022","MG/EXP1",50,"MG/EXP1-BOX6-022",null,0,null,null,1510.18,"BIOPHARM SPA","-",null,{"$f":"SUMIF(Tableau1[Description article],Tableau1[Produits],Tableau1[Emplacement])","v":0},null,{"$f":"Sheet1!$S444-Sheet1!$R444","v":0},"-","-","-",{"$f":"IFERROR(Tableau1[[#This Row],[THEO]]-Tableau1[[#This Row],[Qtt 2éme lot]],\"-\")","v":"-"},"-",{"$f":"IF(Tableau1[[#This Row],[2éme lot]]=\"-\",\"-\",IFERROR(IF(Q444=\"\",\"-\",INDEX(I:I,MATCH(Q444,C:C,0)+1)),\"-\"))","v":"-"},"-","-"]
[795,"MD000428","CUTACNYL 10 % GEL DERM. T/40G","PEROXYDE DE BENZOYLE","9022226","01.05.2021","MG/EXP1",2,"MG/EXP1-D-048",null,0,null,null,229.84,"AT PHARMA SPA","-",null,{"$f":"SUMIF(Tableau1[Description article],Tableau1[Produits],Tableau1[Emplacement])","v":0},null,{"$f":"Sheet1!$S445-Sheet1!$R445","v":0},"-","-","-",{"$f":"IFERROR(Tableau1[[#This Row],[THEO]]-Tableau1[[#This Row],[Qtt 2éme lot]],\"-\")","v":"-"},"-",{"$f":"IF(Tableau1[[#This Row],[2éme lot]]=\"-\",\"-\",IFERROR(IF(Q445=\"\",\"-\",INDEX(I:I,MATCH(Q445,C:C,0)+1)),\"-\"))","v":"-"},"-","-"]
[797,"MD000432","CYCLO 3 FORT 150MG/150MG/100MG GLES. B/30","RUSCUS/HESPERIDINE METHYLCHALCONE/ACIDE ASCORBIQUE","G00958","01.06.2021","MG/EXP1",64,"MG/EXP1-C-002",null,0,null,null,446.78,"BIOPHARM SPA","-",null,{"$f":"SUMIF(Tableau1[Description article],Tableau1[Produits],Tableau1[Emplacement])","v":0},null,{"$f":"Sheet1!$S446-Sheet1!$R446","v":0},"-","-","-",{"$f":"IFERROR(Tableau1[[#This Row],[THEO]]-Tableau1[[#This Row],[Qtt 2éme lot]],\"-\")","v":"-"},"-",{"$f":"IF(Tableau1[[#This Row],[2éme lot]]=\"-\",\"-\",IFERROR(IF(Q446=\"\",\"-\",INDEX(I:I,MATCH(Q446,C:C,0)+1)),\"-\"))","v":"-"},"-","-"]
[798,"PP00092","CYCLOFERT FEMME CAPS .B/60",null,"300518","01.05.2021","MG/EXP1",13,"MG/EXP1-BOX6-021",null,0,null,"CHER",4301.43,"THERAMAF","-",null,{"$f":"SUMIF(Tableau1[Description article],Tableau1[Produits],Tableau1[Emplacement])","v":0},null,{"$f":"Sheet1!$S447-Sheet1!$R447","v":0},"-","-","-",{"$f":"IFERROR(Tableau1[[#This Row],[THEO]]-Tableau1[[#This Row],[Qtt 2éme lot]],\"-\")","v":"-"},"-",{"$f":"IF(Tableau1[[#This Row],[2éme lot]]=\"-\",\"-\",IFERROR(IF(Q447=\"\",\"-\",INDEX(I:I,MATCH(Q447,C:C,0)+1)),\"-\"))","v":"-"},"-","-"]
[799,"MD004156","CYMOXETINE 30MG GLES. GASTRORESIST B/30","DULOXETINE CHLORHYDRATE","004","01.06.2020","MG/EXP1",72,"MG/EXP1-BOX6-PSY-016",null,0,null,"PSY",1802.2,"PROVIVO SPA","-",null,{"$f":"SUMIF(Tableau1[Description article],Tableau1[Produits],Tableau1[Emplacement])","v":0},null,{"$f":"Sheet1!$S448-Sheet1!$R448","v":0},"-","-","-",{"$f":"IFERROR(Tableau1[[#This Row],[THEO]]-Tableau1[[#This Row],[Qtt 2éme lot]],\"-\")","v":"-"},"-",{"$f":"IF(Tableau1[[#This Row],[2éme lot]]=\"-\",\"-\",IFERROR(IF(Q448=\"\",\"-\",INDEX(I:I,MATCH(Q448,C:C,0)+1)),\"-\"))","v":"-"},"-","-"]
[800,"MD004140","CYMOXETINE 60MG GLES. GASTRORESIST B/30","DULOXETINE","005","01.06.2020","MG/EXP1",82,"MG/EXP1-BOX6-016",null,0,null,"CHER",2571,"PROVIVO SPA","-",null,{"$f":"SUMIF(Tableau1[Description article],Tableau1[Produits],Tableau1[Emplacement])","v":0},null,{"$f":"Sheet1!$S449-Sheet1!$R449","v":0},"-","-","-",{"$f":"IFERROR(Tableau1[[#This Row],[THEO]]-Tableau1[[#This Row],[Qtt 2éme lot]],\"-\")","v":"-"},"-",{"$f":"IF(Tableau1[[#This Row],[2éme lot]]=\"-\",\"-\",IFERROR(IF(Q449=\"\",\"-\",INDEX(I:I,MATCH(Q449,C:C,0)+1)),\"-\"))","v":"-"},"-","-"]
[801,"PP00317","CYSTI-STOP Cranberry.Gélules.B/30.(poudre de canneberge).",null,"001***","01.06.2020","MG/EXP1",188,"MG/EXP1-C-030",null,0,null,null,900,"BIOPHARM SPA",{"$f":"IFERROR(IF(Q450=\"\",\"-\",INDEX(I:I,MATCH(Q450,C:C,0))),\"-\")","v":"-"},null,{"$f":"SUMIF(Tableau1[Description article],Tableau1[Produits],Tableau1[Emplacement])","v":0},null,{"$f":"Sheet1!$S450-Sheet1!$R450","v":0},{"$f":"IFERROR(IF(Q450=\"\",\"-\",INDEX(F:F,MATCH(Q450,C:C,0))),\"-\")","v":"-"},{"$f":"IFERROR(IF(Q450=\"\",\"-\",INDEX(E:E,MATCH(Q450,C:C,0))),\"-\")","v":"-"},{"$f":"IFERROR(IF(Q450=\"\",\"-\",INDEX(N:N,MATCH(Q450,C:C,0))),\"-\")","v":"-"},{"$f":"IFERROR(Tableau1[[#This Row],[THEO]]-Tableau1[[#This Row],[Qtt 2éme lot]],\"-\")","v":"-"},{"$f":"IF(IF(Q450=\"\",\"-\",INDEX(E:E,MATCH(Q450,C:C,0)))=IF(Q450=\"\",\"-\",INDEX(E:E,MATCH(Q450,C:C,1))),\"-\",IF(Q450=\"\",\"-\",INDEX(E:E,MATCH(Q450,C:C,1))))","v":"-"},{"$f":"IF(Tableau1[[#This Row],[2éme lot]]=\"-\",\"-\",IFERROR(IF(Q450=\"\",\"-\",INDEX(I:I,MATCH(Q450,C:C,0)+1)),\"-\"))","v":"-"},{"$f":"IFERROR(IF(Y450=\"\",\"-\",INDEX(N:N,MATCH(Y450,E:E,0))),\"-\")","v":"-"},{"$f":"IFERROR(IF(AA450=\"\",\"-\",INDEX(H:H,MATCH(Y450,E:E,0))),\"-\")","v":"-"}]
[803,"MD000437","CYTOTREX 2,5MG COMP. B/20","METHOTREXATE","GJ90157","01.01.2022","MG/EXP1",263,"MG/EXP1-C-009",null,0,null,null,254.86,"BIOPHARM SPA","-",null,{"$f":"SUMIF(Tableau1[Description article],Tableau1[Produits],Tableau1[Emplacement])","v":0},null,{"$f":"Sheet1!$S451-Sheet1!$R451","v":0},"-","-","-",{"$f":"IFERROR(Tableau1[[#This Row],[THEO]]-Tableau1[[#This Row],[Qtt 2éme lot]],\"-\")","v":"-"},"-",{"$f":"IF(Tableau1[[#This Row],[2éme lot]]=\"-\",\"-\",IFERROR(IF(Q451=\"\",\"-\",INDEX(I:I,MATCH(Q451,C:C,0)+1)),\"-\"))","v":"-"},"-","-"]
[804,"MD002412","D-THREE 200 000UI/ML SOL.BUV.\\INJ.IM. B/01 AMP/1ML","VITAMINE D3","10101904","01.09.2021","MG/EXP1",968,"MG/EXP1-D-002",null,0,null,null,121.84,"SARL BIOTHERA","-",null,{"$f":"SUMIF(Tableau1[Description article],Tableau1[Produits],Tableau1[Emplacement])","v":0},null,{"$f":"Sheet1!$S452-Sheet1!$R452","v":0},"-","-","-",{"$f":"IFERROR(Tableau1[[#This Row],[THEO]]-Tableau1[[#This Row],[Qtt 2éme lot]],\"-\")","v":"-"},"-",{"$f":"IF(Tableau1[[#This Row],[2éme lot]]=\"-\",\"-\",IFERROR(IF(Q452=\"\",\"-\",INDEX(I:I,MATCH(Q452,C:C,0)+1)),\"-\"))","v":"-"},"-","-"]
[805,"PP00431","DAFFAQ CREME TUBE /80 ML.",null,"9662","01.03.2021","MG/EXP1",30,"MG/EXP1-A-026",null,0,null,null,1370,"EXPENSIMED SARL","-",null,{"$f":"SUMIF(Tableau1[Description article],Tableau1[Produits],Tableau1[Emplacement])","v":0},null,{"$f":"Sheet1!$S453-Sheet1!$R453","v":0},"-","-","-",{"$f":"IFERROR(Tableau1[[#This Row],[THEO]]-Tableau1[[#This Row],[Qtt 2éme lot]],\"-\")","v":"-"},"-",{"$f":"IF(Tableau1[[#This Row],[2éme lot]]=\"-\",\"-\",IFERROR(IF(Q453=\"\",\"-\",INDEX(I:I,MATCH(Q453,C:C,0)+1)),\"-\"))","v":"-"},"-","-"]
[807,"MD000443","DAIVOBET 50PG/0,5MG/G PDE. T/60G","CALCIPOTRIOL 50UG / BETAMETHASONE 0.5MG","A96394","01.02.2021","MG/EXP1",80,"MG/EXP1-BOX6-015",null,0,null,"CHER",4691.57,"BIOPHARM SPA","-",null,{"$f":"SUMIF(Tableau1[Description article],Tableau1[Produits],Tableau1[Emplacement])","v":0},null,{"$f":"Sheet1!$S454-Sheet1!$R454","v":0},"-","-","-",{"$f":"IFERROR(Tableau1[[#This Row],[THEO]]-Tableau1[[#This Row],[Qtt 2éme lot]],\"-\")","v":"-"},"-",{"$f":"IF(Tableau1[[#This Row],[2éme lot]]=\"-\",\"-\",IFERROR(IF(Q454=\"\",\"-\",INDEX(I:I,MATCH(Q454,C:C,0)+1)),\"-\"))","v":"-"},"-","-"]
[810,"MD003923","DAKTAZOL GEL.BUCCAL.2% TUBE.40g +CUILLERE MESURE","MICONAZOLE","192373","01.10.2021","MG/EXP1",10,"MG/EXP1-E-001",null,0,null,null,312.02,"EL KENDI INDUSTRIE DE MEDICAMENTS SPA","-",null,{"$f":"SUMIF(Tableau1[Description article],Tableau1[Produits],Tableau1[Emplacement])","v":0},null,{"$f":"Sheet1!$S455-Sheet1!$R455","v":0},"-","-","-",{"$f":"IFERROR(Tableau1[[#This Row],[THEO]]-Tableau1[[#This Row],[Qtt 2éme lot]],\"-\")","v":"-"},"-",{"$f":"IF(Tableau1[[#This Row],[2éme lot]]=\"-\",\"-\",IFERROR(IF(Q455=\"\",\"-\",INDEX(I:I,MATCH(Q455,C:C,0)+1)),\"-\"))","v":"-"},"-","-"]
[811,"MD003923","DAKTAZOL GEL.BUCCAL.2% TUBE.40g +CUILLERE MESURE","MICONAZOLE","192373","01.10.2021","MG/EXP1",58,"MG/EXP1-B-061",null,0,null,null,312.02,"EL KENDI INDUSTRIE DE MEDICAMENTS SPA","-",null,{"$f":"SUMIF(Tableau1[Description article],Tableau1[Produits],Tableau1[Emplacement])","v":0},null,{"$f":"Sheet1!$S456-Sheet1!$R456","v":0},"-","-","-",{"$f":"IFERROR(Tableau1[[#This Row],[THEO]]-Tableau1[[#This Row],[Qtt 2éme lot]],\"-\")","v":"-"},"-",{"$f":"IF(Tableau1[[#This Row],[2éme lot]]=\"-\",\"-\",IFERROR(IF(Q456=\"\",\"-\",INDEX(I:I,MATCH(Q456,C:C,0)+1)),\"-\"))","v":"-"},"-","-"]
[812,"MD002576","DANDREX 0,02 SHAMP. FL/100ML","KETOCONAZOLE","17089","31.08.2021","MG/EXP1",4,"MG/EXP1-C-048",null,0,null,null,671.05,null,"-",null,{"$f":"SUMIF(Tableau1[Description article],Tableau1[Produits],Tableau1[Emplacement])","v":0},null,{"$f":"Sheet1!$S457-Sheet1!$R457","v":0},"-","-","-",{"$f":"IFERROR(Tableau1[[#This Row],[THEO]]-Tableau1[[#This Row],[Qtt 2éme lot]],\"-\")","v":"-"},"-",{"$f":"IF(Tableau1[[#This Row],[2éme lot]]=\"-\",\"-\",IFERROR(IF(Q457=\"\",\"-\",INDEX(I:I,MATCH(Q457,C:C,0)+1)),\"-\"))","v":"-"},"-","-"]
[814,"MD000447","DAROXIME 250MG COMP. F/10","CEFUROXIME AXETIL","40FF","01.09.2022","MG/EXP1",33,"MG/EXP1-B-059",null,0,null,null,359.65,"DAR AL DAWA SARL","-",null,{"$f":"SUMIF(Tableau1[Description article],Tableau1[Produits],Tableau1[Emplacement])","v":0},null,{"$f":"Sheet1!$S458-Sheet1!$R458","v":0},"-","-","-",{"$f":"IFERROR(Tableau1[[#This Row],[THEO]]-Tableau1[[#This Row],[Qtt 2éme lot]],\"-\")","v":"-"},"-",{"$f":"IF(Tableau1[[#This Row],[2éme lot]]=\"-\",\"-\",IFERROR(IF(Q458=\"\",\"-\",INDEX(I:I,MATCH(Q458,C:C,0)+1)),\"-\"))","v":"-"},"-","-"]
[815,"MD004205","DARTIX 05/160MG COMP.PELLI. B/30","AMLODIPINE 5 / VALSARTAN 80","003119","01.01.2021","MG/EXP1",90,"MG/EXP1-F-030",null,0,null,null,1497.5,"BEKER LABORATOIRES","-",null,{"$f":"SUMIF(Tableau1[Description article],Tableau1[Produits],Tableau1[Emplacement])","v":0},null,{"$f":"Sheet1!$S459-Sheet1!$R459","v":0},"-","-","-",{"$f":"IFERROR(Tableau1[[#This Row],[THEO]]-Tableau1[[#This Row],[Qtt 2éme lot]],\"-\")","v":"-"},"-",{"$f":"IF(Tableau1[[#This Row],[2éme lot]]=\"-\",\"-\",IFERROR(IF(Q459=\"\",\"-\",INDEX(I:I,MATCH(Q459,C:C,0)+1)),\"-\"))","v":"-"},"-","-"]
[816,"MD004204","DARTIX 05/80MG COMP.PELLI. B/30","AMLODIPINE 5 / VALSARTAN 80","003019","01.01.2021","MG/EXP1",152,"MG/EXP1-D-025",null,0,null,null,1497.5,"BEKER LABORATOIRES","-",null,{"$f":"SUMIF(Tableau1[Description article],Tableau1[Produits],Tableau1[Emplacement])","v":0},null,{"$f":"Sheet1!$S460-Sheet1!$R460","v":0},"-","-","-",{"$f":"IFERROR(Tableau1[[#This Row],[THEO]]-Tableau1[[#This Row],[Qtt 2éme lot]],\"-\")","v":"-"},"-",{"$f":"IF(Tableau1[[#This Row],[2éme lot]]=\"-\",\"-\",IFERROR(IF(Q460=\"\",\"-\",INDEX(I:I,MATCH(Q460,C:C,0)+1)),\"-\"))","v":"-"},"-","-"]
[817,"MD004206","DARTIX 10/160MG COMP.PELLI. B/30","AMLODIPINE 5 / VALSARTAN 80","003319","01.01.2021","MG/EXP1",145,"MG/EXP1-E-017",null,0,null,null,1497.5,"BEKER LABORATOIRES","-",null,{"$f":"SUMIF(Tableau1[Description article],Tableau1[Produits],Tableau1[Emplacement])","v":0},null,{"$f":"Sheet1!$S461-Sheet1!$R461","v":0},"-","-","-",{"$f":"IFERROR(Tableau1[[#This Row],[THEO]]-Tableau1[[#This Row],[Qtt 2éme lot]],\"-\")","v":"-"},"-",{"$f":"IF(Tableau1[[#This Row],[2éme lot]]=\"-\",\"-\",IFERROR(IF(Q461=\"\",\"-\",INDEX(I:I,MATCH(Q461,C:C,0)+1)),\"-\"))","v":"-"},"-","-"]
[818,"MD000450","DEBRIDAT 100MG COMP.PELLI. B/20","TRIMEBUTINE","19620825","31.08.2022","MG/EXP1",397,"MG/EXP1-B-013",null,0,null,null,179.5,"PFIZER PHARM ALGERIE SPA","-",null,{"$f":"SUMIF(Tableau1[Description article],Tableau1[Produits],Tableau1[Emplacement])","v":0},null,{"$f":"Sheet1!$S462-Sheet1!$R462","v":0},"-","-","-",{"$f":"IFERROR(Tableau1[[#This Row],[THEO]]-Tableau1[[#This Row],[Qtt 2éme lot]],\"-\")","v":"-"},"-",{"$f":"IF(Tableau1[[#This Row],[2éme lot]]=\"-\",\"-\",IFERROR(IF(Q462=\"\",\"-\",INDEX(I:I,MATCH(Q462,C:C,0)+1)),\"-\"))","v":"-"},"-","-"]
[820,"MD000453","DEBRITINE 0,787G/100G (4,8MG/ML) GRAN.P.SUSP.BUV. B/01 FL/250ML","TRIMEBUINE","SBD1132","01.09.2022","MG/EXP1",55,"MG/EXP1-D-008",null,0,null,null,326.5,"HUP.P PHARMA SARL","-",null,{"$f":"SUMIF(Tableau1[Description article],Tableau1[Produits],Tableau1[Emplacement])","v":0},null,{"$f":"Sheet1!$S463-Sheet1!$R463","v":0},"-","-","-",{"$f":"IFERROR(Tableau1[[#This Row],[THEO]]-Tableau1[[#This Row],[Qtt 2éme lot]],\"-\")","v":"-"},"-",{"$f":"IF(Tableau1[[#This Row],[2éme lot]]=\"-\",\"-\",IFERROR(IF(Q463=\"\",\"-\",INDEX(I:I,MATCH(Q463,C:C,0)+1)),\"-\"))","v":"-"},"-","-"]
[822,"MD000455","DECAPEPTYL 0,1MG/ML PDRE.& SOLV.P.SOL.INJ.SC. B/07 FL.LYOPH. + 7AMP.SOLV/01ML","TRIPTORELINE","P03899","01.11.2020","MG/EXP1",25,"MG/EXP1-BOX6",null,0,null,"GLAC",4891.41,"BIOPHARM SPA","-",null,{"$f":"SUMIF(Tableau1[Description article],Tableau1[Produits],Tableau1[Emplacement])","v":0},null,{"$f":"Sheet1!$S464-Sheet1!$R464","v":0},"-","-","-",{"$f":"IFERROR(Tableau1[[#This Row],[THEO]]-Tableau1[[#This Row],[Qtt 2éme lot]],\"-\")","v":"-"},"-",{"$f":"IF(Tableau1[[#This Row],[2éme lot]]=\"-\",\"-\",IFERROR(IF(Q464=\"\",\"-\",INDEX(I:I,MATCH(Q464,C:C,0)+1)),\"-\"))","v":"-"},"-","-"]
[824,"MD000457","DECAPEPTYL L.P. 11,25MG PDRE.& SOLV.P.SOL.INJ.IM. B/01 FL.PDRE.+01 AMP.SOLV/2ML+SERING.+02 AIGUI.","TRIPTORELINE","P16995/N23195","01.04.2022","MG/EXP1",8,"MG/EXP1-BOX6",null,0,null,"GLAC",40978.5,"BIOPHARM SPA","-",null,{"$f":"SUMIF(Tableau1[Description article],Tableau1[Produits],Tableau1[Emplacement])","v":0},null,{"$f":"Sheet1!$S465-Sheet1!$R465","v":0},"-","-","-",{"$f":"IFERROR(Tableau1[[#This Row],[THEO]]-Tableau1[[#This Row],[Qtt 2éme lot]],\"-\")","v":"-"},"-",{"$f":"IF(Tableau1[[#This Row],[2éme lot]]=\"-\",\"-\",IFERROR(IF(Q465=\"\",\"-\",INDEX(I:I,MATCH(Q465,C:C,0)+1)),\"-\"))","v":"-"},"-","-"]
[825,"MD002429","DEFLAMAC 1% GEL T/50G","DICLOFENAC","DEA013","01.10.2021","MG/EXP1",34,"MG/EXP1-C-006",null,0,null,null,153.77,"NEOMEDIC LABORATOIRE","-",null,{"$f":"SUMIF(Tableau1[Description article],Tableau1[Produits],Tableau1[Emplacement])","v":0},null,{"$f":"Sheet1!$S466-Sheet1!$R466","v":0},"-","-","-",{"$f":"IFERROR(Tableau1[[#This Row],[THEO]]-Tableau1[[#This Row],[Qtt 2éme lot]],\"-\")","v":"-"},"-",{"$f":"IF(Tableau1[[#This Row],[2éme lot]]=\"-\",\"-\",IFERROR(IF(Q466=\"\",\"-\",INDEX(I:I,MATCH(Q466,C:C,0)+1)),\"-\"))","v":"-"},"-","-"]
[826,"MD000460","DENACINE 0.01 SOL.P.APPL.LOC. FL/30ML","SOLUTION POUR APPLICATION LOCALE","34069","01.06.2021","MG/EXP1",223,"MG/EXP1-D-042",null,0,null,null,526.4,"AT PHARMA SPA","-",null,{"$f":"SUMIF(Tableau1[Description article],Tableau1[Produits],Tableau1[Emplacement])","v":0},null,{"$f":"Sheet1!$S467-Sheet1!$R467","v":0},"-","-","-",{"$f":"IFERROR(Tableau1[[#This Row],[THEO]]-Tableau1[[#This Row],[Qtt 2éme lot]],\"-\")","v":"-"},"-",{"$f":"IF(Tableau1[[#This Row],[2éme lot]]=\"-\",\"-\",IFERROR(IF(Q467=\"\",\"-\",INDEX(I:I,MATCH(Q467,C:C,0)+1)),\"-\"))","v":"-"},"-","-"]
[829,"MD000463","DEPADIUM 10MG COMP.PELLI. B/30","LERCANIDIPINE","192067","01.09.2021","MG/EXP1",96,"MG/EXP1-A-051",null,0,null,null,826.76,"EL KENDI INDUSTRIE DE MEDICAMENTS SPA","-",null,{"$f":"SUMIF(Tableau1[Description article],Tableau1[Produits],Tableau1[Emplacement])","v":0},null,{"$f":"Sheet1!$S468-Sheet1!$R468","v":0},"-","-","-",{"$f":"IFERROR(Tableau1[[#This Row],[THEO]]-Tableau1[[#This Row],[Qtt 2éme lot]],\"-\")","v":"-"},"-",{"$f":"IF(Tableau1[[#This Row],[2éme lot]]=\"-\",\"-\",IFERROR(IF(Q468=\"\",\"-\",INDEX(I:I,MATCH(Q468,C:C,0)+1)),\"-\"))","v":"-"},"-","-"]
[830,"MD000464","DEPAKINE 200MG COMP.GASTRORESIST B/40","VALPROATE DE SODIUM","9R21E","01.06.2022","MG/EXP1",11,"MG/EXP1-BOX6-017",null,0,null,null,356.81,"SANOFI AVENTIS ALGERIE SPA","-",null,{"$f":"SUMIF(Tableau1[Description article],Tableau1[Produits],Tableau1[Emplacement])","v":0},null,{"$f":"Sheet1!$S469-Sheet1!$R469","v":0},"-","-","-",{"$f":"IFERROR(Tableau1[[#This Row],[THEO]]-Tableau1[[#This Row],[Qtt 2éme lot]],\"-\")","v":"-"},"-",{"$f":"IF(Tableau1[[#This Row],[2éme lot]]=\"-\",\"-\",IFERROR(IF(Q469=\"\",\"-\",INDEX(I:I,MATCH(Q469,C:C,0)+1)),\"-\"))","v":"-"},"-","-"]
[832,"MD000467","DEPAKINE 200MG/ML SOL.BUV. B/01 FL/40ML + SERING.GRAD.ADMINIST.ORA/MG","VALPROATE DE SODIUM","19DEG008","01.09.2021","MG/EXP1",377,"MG/EXP1-BOX6-PSY-017",null,0,null,null,308.54,"SANOFI AVENTIS ALGERIE SPA","-",null,{"$f":"SUMIF(Tableau1[Description article],Tableau1[Produits],Tableau1[Emplacement])","v":0},null,{"$f":"Sheet1!$S470-Sheet1!$R470","v":0},"-","-","-",{"$f":"IFERROR(Tableau1[[#This Row],[THEO]]-Tableau1[[#This Row],[Qtt 2éme lot]],\"-\")","v":"-"},"-",{"$f":"IF(Tableau1[[#This Row],[2éme lot]]=\"-\",\"-\",IFERROR(IF(Q470=\"\",\"-\",INDEX(I:I,MATCH(Q470,C:C,0)+1)),\"-\"))","v":"-"},"-","-"]
[834,"MD000466","DEPAKINE CHRONO 500MG COMP.PELLI.SEC.LP. B/30","ACIDE VALPORIQUE","9A01Y","01.09.2022","MG/EXP1",5,"MG/EXP1-BOX6-PSY-016",null,0,null,null,1057.54,"SANOFI AVENTIS ALGERIE SPA","-",null,{"$f":"SUMIF(Tableau1[Description article],Tableau1[Produits],Tableau1[Emplacement])","v":0},null,{"$f":"Sheet1!$S471-Sheet1!$R471","v":0},"-","-","-",{"$f":"IFERROR(Tableau1[[#This Row],[THEO]]-Tableau1[[#This Row],[Qtt 2éme lot]],\"-\")","v":"-"},"-",{"$f":"IF(Tableau1[[#This Row],[2éme lot]]=\"-\",\"-\",IFERROR(IF(Q471=\"\",\"-\",INDEX(I:I,MATCH(Q471,C:C,0)+1)),\"-\"))","v":"-"},"-","-"]
[835,"MD000470","DEPRETINE 10MG COMP.ENRO. B/30","PAROXETINE","190245","01.01.2022","MG/EXP1",312,"MG/EXP1-BOX6-PSY-017",null,0,null,null,884.9,"EL KENDI INDUSTRIE DE MEDICAMENTS SPA","-",null,{"$f":"SUMIF(Tableau1[Description article],Tableau1[Produits],Tableau1[Emplacement])","v":0},null,{"$f":"Sheet1!$S472-Sheet1!$R472","v":0},"-","-","-",{"$f":"IFERROR(Tableau1[[#This Row],[THEO]]-Tableau1[[#This Row],[Qtt 2éme lot]],\"-\")","v":"-"},"-",{"$f":"IF(Tableau1[[#This Row],[2éme lot]]=\"-\",\"-\",IFERROR(IF(Q472=\"\",\"-\",INDEX(I:I,MATCH(Q472,C:C,0)+1)),\"-\"))","v":"-"},"-","-"]
[838,"MD000471","DEPRETINE 20MG COMP.ENRO. B/30","PAROXETINE","190824","01.04.2022","MG/EXP1",251,"MG/EXP1-BOX6-PSY",null,0,null,null,1584.1,"EL KENDI INDUSTRIE DE MEDICAMENTS SPA","-",null,{"$f":"SUMIF(Tableau1[Description article],Tableau1[Produits],Tableau1[Emplacement])","v":0},null,{"$f":"Sheet1!$S473-Sheet1!$R473","v":0},"-","-","-",{"$f":"IFERROR(Tableau1[[#This Row],[THEO]]-Tableau1[[#This Row],[Qtt 2éme lot]],\"-\")","v":"-"},"-",{"$f":"IF(Tableau1[[#This Row],[2éme lot]]=\"-\",\"-\",IFERROR(IF(Q473=\"\",\"-\",INDEX(I:I,MATCH(Q473,C:C,0)+1)),\"-\"))","v":"-"},"-","-"]
[840,"MD000471","DEPRETINE 20MG COMP.ENRO. B/30","PAROXETINE","190820","01.04.2022","MG/EXP1",1,"MG/EXP1-BOX6-PSY",null,0,null,null,1584.1,"EL KENDI INDUSTRIE DE MEDICAMENTS SPA","-",null,{"$f":"SUMIF(Tableau1[Description article],Tableau1[Produits],Tableau1[Emplacement])","v":0},null,{"$f":"Sheet1!$S474-Sheet1!$R474","v":0},"-","-","-",{"$f":"IFERROR(Tableau1[[#This Row],[THEO]]-Tableau1[[#This Row],[Qtt 2éme lot]],\"-\")","v":"-"},"-",{"$f":"IF(Tableau1[[#This Row],[2éme lot]]=\"-\",\"-\",IFERROR(IF(Q474=\"\",\"-\",INDEX(I:I,MATCH(Q474,C:C,0)+1)),\"-\"))","v":"-"},"-","-"]
[842,"MD004048","DEPRISOLE 20MG COMP OROD B/20","Prednisolone","053","01.11.2021","MG/EXP1",158,"MG/EXP1-D-006",null,0,null,null,388.5,"BIO-GALENIC SARL","-",null,{"$f":"SUMIF(Tableau1[Description article],Tableau1[Produits],Tableau1[Emplacement])","v":0},null,{"$f":"Sheet1!$S475-Sheet1!$R475","v":0},"-","-","-",{"$f":"IFERROR(Tableau1[[#This Row],[THEO]]-Tableau1[[#This Row],[Qtt 2éme lot]],\"-\")","v":"-"},"-",{"$f":"IF(Tableau1[[#This Row],[2éme lot]]=\"-\",\"-\",IFERROR(IF(Q475=\"\",\"-\",INDEX(I:I,MATCH(Q475,C:C,0)+1)),\"-\"))","v":"-"},"-","-"]
[847,"MD000475","DERMA-T 0,01 SOL.P.APPL.LOC. FL/30ML","SOLUTION POUR APPLICATION LOCALE","9MF710","08.07.2021","MG/EXP1",138,"MG/EXP1-D-038",null,0,null,null,676.19,"LDM LABORATOIRES DE DIAGNOSTIC MAGHREBINS","-",null,{"$f":"SUMIF(Tableau1[Description article],Tableau1[Produits],Tableau1[Emplacement])","v":0},null,{"$f":"Sheet1!$S476-Sheet1!$R476","v":0},"-","-","-",{"$f":"IFERROR(Tableau1[[#This Row],[THEO]]-Tableau1[[#This Row],[Qtt 2éme lot]],\"-\")","v":"-"},"-",{"$f":"IF(Tableau1[[#This Row],[2éme lot]]=\"-\",\"-\",IFERROR(IF(Q476=\"\",\"-\",INDEX(I:I,MATCH(Q476,C:C,0)+1)),\"-\"))","v":"-"},"-","-"]
[849,"MD000473","DERMAFINE 0,01 CR.DERM. B/01 TB/15G","TERBINAFINE CHLORHYDRATE","D027","01.10.2020","MG/EXP1",18,"MG/EXP1-F-047",null,0,null,null,200.62,"LGPA SARL","-",null,{"$f":"SUMIF(Tableau1[Description article],Tableau1[Produits],Tableau1[Emplacement])","v":0},null,{"$f":"Sheet1!$S477-Sheet1!$R477","v":0},"-","-","-",{"$f":"IFERROR(Tableau1[[#This Row],[THEO]]-Tableau1[[#This Row],[Qtt 2éme lot]],\"-\")","v":"-"},"-",{"$f":"IF(Tableau1[[#This Row],[2éme lot]]=\"-\",\"-\",IFERROR(IF(Q477=\"\",\"-\",INDEX(I:I,MATCH(Q477,C:C,0)+1)),\"-\"))","v":"-"},"-","-"]
[850,"MD000473","DERMAFINE 0,01 CR.DERM. B/01 TB/15G","TERBINAFINE CHLORHYDRATE","D031","01.10.2020","MG/EXP1",285,"MG/EXP1-F-015",null,0,null,null,200.62,"LGPA SARL","-",null,{"$f":"SUMIF(Tableau1[Description article],Tableau1[Produits],Tableau1[Emplacement])","v":0},null,{"$f":"Sheet1!$S478-Sheet1!$R478","v":0},"-","-","-",{"$f":"IFERROR(Tableau1[[#This Row],[THEO]]-Tableau1[[#This Row],[Qtt 2éme lot]],\"-\")","v":"-"},"-",{"$f":"IF(Tableau1[[#This Row],[2éme lot]]=\"-\",\"-\",IFERROR(IF(Q478=\"\",\"-\",INDEX(I:I,MATCH(Q478,C:C,0)+1)),\"-\"))","v":"-"},"-","-"]
[851,"MD000474","DERMASONE 0,05% LOT.DERM. FL/15G","BETAMETHASONE DIPROPIONATE","028","01.12.2021","MG/EXP1",287,"MG/EXP1-B-039",null,0,null,null,199.32,"BIO-GALENIC SARL","-",null,{"$f":"SUMIF(Tableau1[Description article],Tableau1[Produits],Tableau1[Emplacement])","v":0},null,{"$f":"Sheet1!$S479-Sheet1!$R479","v":0},"-","-","-",{"$f":"IFERROR(Tableau1[[#This Row],[THEO]]-Tableau1[[#This Row],[Qtt 2éme lot]],\"-\")","v":"-"},"-",{"$f":"IF(Tableau1[[#This Row],[2éme lot]]=\"-\",\"-\",IFERROR(IF(Q479=\"\",\"-\",INDEX(I:I,MATCH(Q479,C:C,0)+1)),\"-\"))","v":"-"},"-","-"]
[853,"MD000478","DERMOFIX 0,02 CREME. T/20G","SERTACONAZOLE","N010","01.07.2022","MG/EXP1",113,"MG/EXP1-D-002",null,0,null,null,272.38,"BIOPHARM SPA","-",null,{"$f":"SUMIF(Tableau1[Description article],Tableau1[Produits],Tableau1[Emplacement])","v":0},null,{"$f":"Sheet1!$S480-Sheet1!$R480","v":0},"-","-","-",{"$f":"IFERROR(Tableau1[[#This Row],[THEO]]-Tableau1[[#This Row],[Qtt 2éme lot]],\"-\")","v":"-"},"-",{"$f":"IF(Tableau1[[#This Row],[2éme lot]]=\"-\",\"-\",IFERROR(IF(Q480=\"\",\"-\",INDEX(I:I,MATCH(Q480,C:C,0)+1)),\"-\"))","v":"-"},"-","-"]
[854,"PP00448","DERMOSENS ARTICULATION ET MUSCLE","forte douleur et inflammation","AR001","01.02.2021","MG/EXP1",133,"MG/EXP1-F-048",null,0,null,null,495,"DERMO SENS SARL","-",null,{"$f":"SUMIF(Tableau1[Description article],Tableau1[Produits],Tableau1[Emplacement])","v":0},null,{"$f":"Sheet1!$S481-Sheet1!$R481","v":0},"-","-","-",{"$f":"IFERROR(Tableau1[[#This Row],[THEO]]-Tableau1[[#This Row],[Qtt 2éme lot]],\"-\")","v":"-"},"-",{"$f":"IF(Tableau1[[#This Row],[2éme lot]]=\"-\",\"-\",IFERROR(IF(Q481=\"\",\"-\",INDEX(I:I,MATCH(Q481,C:C,0)+1)),\"-\"))","v":"-"},"-","-"]
[855,"MD000480","DEROXAT 20MG COMP.PELLI.SEC. B/14","PAROXETINE","916001","01.10.2022","MG/EXP1",222,"MG/EXP1-BOX6-024",null,0,null,null,810.06,"GlaxoSmithKline","-",null,{"$f":"SUMIF(Tableau1[Description article],Tableau1[Produits],Tableau1[Emplacement])","v":0},null,{"$f":"Sheet1!$S482-Sheet1!$R482","v":0},"-","-","-",{"$f":"IFERROR(Tableau1[[#This Row],[THEO]]-Tableau1[[#This Row],[Qtt 2éme lot]],\"-\")","v":"-"},"-",{"$f":"IF(Tableau1[[#This Row],[2éme lot]]=\"-\",\"-\",IFERROR(IF(Q482=\"\",\"-\",INDEX(I:I,MATCH(Q482,C:C,0)+1)),\"-\"))","v":"-"},"-","-"]
[856,"MD000489","DESACROVIS 0,5MG COMP. B/30","DEXAMETHASONE","080619","01.06.2024","MG/EXP1",2,"MG/EXP1-A-031",null,0,null,null,249.11,"UPC SARL","-",null,{"$f":"SUMIF(Tableau1[Description article],Tableau1[Produits],Tableau1[Emplacement])","v":0},null,{"$f":"Sheet1!$S483-Sheet1!$R483","v":0},"-","-","-",{"$f":"IFERROR(Tableau1[[#This Row],[THEO]]-Tableau1[[#This Row],[Qtt 2éme lot]],\"-\")","v":"-"},"-",{"$f":"IF(Tableau1[[#This Row],[2éme lot]]=\"-\",\"-\",IFERROR(IF(Q483=\"\",\"-\",INDEX(I:I,MATCH(Q483,C:C,0)+1)),\"-\"))","v":"-"},"-","-"]
[858,"MD000489","DESACROVIS 0,5MG COMP. B/30","DEXAMETHASONE","100619","01.06.2024","MG/EXP1",283,"MG/EXP1-B-030",null,0,null,null,250.08,"UPC SARL","-",null,{"$f":"SUMIF(Tableau1[Description article],Tableau1[Produits],Tableau1[Emplacement])","v":0},null,{"$f":"Sheet1!$S484-Sheet1!$R484","v":0},"-","-","-",{"$f":"IFERROR(Tableau1[[#This Row],[THEO]]-Tableau1[[#This Row],[Qtt 2éme lot]],\"-\")","v":"-"},"-",{"$f":"IF(Tableau1[[#This Row],[2éme lot]]=\"-\",\"-\",IFERROR(IF(Q484=\"\",\"-\",INDEX(I:I,MATCH(Q484,C:C,0)+1)),\"-\"))","v":"-"},"-","-"]
[862,"MD000483","DESLOR 0,5MG/ML SRP. B/01 FL/150ML+ SERING.M.GRAD.","DESLORATADINE","9702","30.11.2022","MG/EXP1",100,"MG/EXP1-D-007",null,0,null,null,462,"INPHA MEDIS SPA","-",null,{"$f":"SUMIF(Tableau1[Description article],Tableau1[Produits],Tableau1[Emplacement])","v":0},null,{"$f":"Sheet1!$S485-Sheet1!$R485","v":0},"-","-","-",{"$f":"IFERROR(Tableau1[[#This Row],[THEO]]-Tableau1[[#This Row],[Qtt 2éme lot]],\"-\")","v":"-"},"-",{"$f":"IF(Tableau1[[#This Row],[2éme lot]]=\"-\",\"-\",IFERROR(IF(Q485=\"\",\"-\",INDEX(I:I,MATCH(Q485,C:C,0)+1)),\"-\"))","v":"-"},"-","-"]
[863,"MD000481","DESLOR 5MG COMP.PELLI. B/15","DESLORATADINE","9576","31.10.2022","MG/EXP1",34,"MG/EXP1-C-029",null,0,null,null,448.8,"INPHA MEDIS SPA","-",null,{"$f":"SUMIF(Tableau1[Description article],Tableau1[Produits],Tableau1[Emplacement])","v":0},null,{"$f":"Sheet1!$S486-Sheet1!$R486","v":0},"-","-","-",{"$f":"IFERROR(Tableau1[[#This Row],[THEO]]-Tableau1[[#This Row],[Qtt 2éme lot]],\"-\")","v":"-"},"-",{"$f":"IF(Tableau1[[#This Row],[2éme lot]]=\"-\",\"-\",IFERROR(IF(Q486=\"\",\"-\",INDEX(I:I,MATCH(Q486,C:C,0)+1)),\"-\"))","v":"-"},"-","-"]
[864,"MD000482","DESLOR 5MG COMP.PELLI. B/30","DESLORATADINE","9579","01.10.2022","MG/EXP1",60,"MG/EXP1-C-052",null,0,null,null,844.8,"INPHA MEDIS SPA","-",null,{"$f":"SUMIF(Tableau1[Description article],Tableau1[Produits],Tableau1[Emplacement])","v":0},null,{"$f":"Sheet1!$S487-Sheet1!$R487","v":0},"-","-","-",{"$f":"IFERROR(Tableau1[[#This Row],[THEO]]-Tableau1[[#This Row],[Qtt 2éme lot]],\"-\")","v":"-"},"-",{"$f":"IF(Tableau1[[#This Row],[2éme lot]]=\"-\",\"-\",IFERROR(IF(Q487=\"\",\"-\",INDEX(I:I,MATCH(Q487,C:C,0)+1)),\"-\"))","v":"-"},"-","-"]
[865,"MD000482","DESLOR 5MG COMP.PELLI. B/30","DESLORATADINE","9342","01.05.2022","MG/EXP1",3,"MG/EXP1-C-051",null,0,null,null,844.8,"INPHA MEDIS SPA","-",null,{"$f":"SUMIF(Tableau1[Description article],Tableau1[Produits],Tableau1[Emplacement])","v":0},null,{"$f":"Sheet1!$S488-Sheet1!$R488","v":0},"-","-","-",{"$f":"IFERROR(Tableau1[[#This Row],[THEO]]-Tableau1[[#This Row],[Qtt 2éme lot]],\"-\")","v":"-"},"-",{"$f":"IF(Tableau1[[#This Row],[2éme lot]]=\"-\",\"-\",IFERROR(IF(Q488=\"\",\"-\",INDEX(I:I,MATCH(Q488,C:C,0)+1)),\"-\"))","v":"-"},"-","-"]
[866,"MD002402","DESLORAL 0,5MG/ML SOL.BUV. FL/120ML","DESLORATADINE","29901","01.10.2021","MG/EXP1",6,"MG/EXP1-C-022",null,0,null,null,369.28,"PHARMIDAL SARL","-",null,{"$f":"SUMIF(Tableau1[Description article],Tableau1[Produits],Tableau1[Emplacement])","v":0},null,{"$f":"Sheet1!$S489-Sheet1!$R489","v":0},"-","-","-",{"$f":"IFERROR(Tableau1[[#This Row],[THEO]]-Tableau1[[#This Row],[Qtt 2éme lot]],\"-\")","v":"-"},"-",{"$f":"IF(Tableau1[[#This Row],[2éme lot]]=\"-\",\"-\",IFERROR(IF(Q489=\"\",\"-\",INDEX(I:I,MATCH(Q489,C:C,0)+1)),\"-\"))","v":"-"},"-","-"]
[867,"MD004165","DESLORAL 5MG COMP.PELLI. B/15","DESLORATADINE","S17901","01.06.2021","MG/EXP1",190,"MG/EXP1-D-019",null,0,null,null,447.49,"PHARMIDAL SARL","-",null,{"$f":"SUMIF(Tableau1[Description article],Tableau1[Produits],Tableau1[Emplacement])","v":0},null,{"$f":"Sheet1!$S490-Sheet1!$R490","v":0},"-","-","-",{"$f":"IFERROR(Tableau1[[#This Row],[THEO]]-Tableau1[[#This Row],[Qtt 2éme lot]],\"-\")","v":"-"},"-",{"$f":"IF(Tableau1[[#This Row],[2éme lot]]=\"-\",\"-\",IFERROR(IF(Q490=\"\",\"-\",INDEX(I:I,MATCH(Q490,C:C,0)+1)),\"-\"))","v":"-"},"-","-"]
[869,"MD000484","DESOMEDINE 0,1% COLLY. FL/10ML","HEXAMIDINE DI-ISETIONATE","H4744*","30.04.2022","MG/EXP1",1097,"MG/EXP1-H-002",null,0,null,null,221.39,"LDM LABORATOIRES DE DIAGNOSTIC MAGHREBINS","-",null,{"$f":"SUMIF(Tableau1[Description article],Tableau1[Produits],Tableau1[Emplacement])","v":0},null,{"$f":"Sheet1!$S491-Sheet1!$R491","v":0},"-","-","-",{"$f":"IFERROR(Tableau1[[#This Row],[THEO]]-Tableau1[[#This Row],[Qtt 2éme lot]],\"-\")","v":"-"},"-",{"$f":"IF(Tableau1[[#This Row],[2éme lot]]=\"-\",\"-\",IFERROR(IF(Q491=\"\",\"-\",INDEX(I:I,MATCH(Q491,C:C,0)+1)),\"-\"))","v":"-"},"-","-"]
[870,"MD000485","DESPAVINE 100MG COMP.PELLI. B/30","MEBEVERINE","119","01.10.2021","MG/EXP1",33,"MG/EXP1-F-038",null,0,null,null,198.81,"BIO-GALENIC SARL","-",null,{"$f":"SUMIF(Tableau1[Description article],Tableau1[Produits],Tableau1[Emplacement])","v":0},null,{"$f":"Sheet1!$S492-Sheet1!$R492","v":0},"-","-","-",{"$f":"IFERROR(Tableau1[[#This Row],[THEO]]-Tableau1[[#This Row],[Qtt 2éme lot]],\"-\")","v":"-"},"-",{"$f":"IF(Tableau1[[#This Row],[2éme lot]]=\"-\",\"-\",IFERROR(IF(Q492=\"\",\"-\",INDEX(I:I,MATCH(Q492,C:C,0)+1)),\"-\"))","v":"-"},"-","-"]
[872,"MD000488","DEXAFREE 1MG/ML COLLY. B/30","DEXAMETHASONE","6K17","01.01.2022","MG/EXP1",6,"MG/EXP1-B-040",null,0,null,null,658.42,"BIOPHARM SPA","-",null,{"$f":"SUMIF(Tableau1[Description article],Tableau1[Produits],Tableau1[Emplacement])","v":0},null,{"$f":"Sheet1!$S493-Sheet1!$R493","v":0},"-","-","-",{"$f":"IFERROR(Tableau1[[#This Row],[THEO]]-Tableau1[[#This Row],[Qtt 2éme lot]],\"-\")","v":"-"},"-",{"$f":"IF(Tableau1[[#This Row],[2éme lot]]=\"-\",\"-\",IFERROR(IF(Q493=\"\",\"-\",INDEX(I:I,MATCH(Q493,C:C,0)+1)),\"-\"))","v":"-"},"-","-"]
[874,"MD002601","DEXASONE 4MG/ML SOL.INJ. B/05 AMP/1ML","DEXAMETHASONE","177","01.12.2021","MG/EXP1",230,"MG/EXP1-A-059",null,0,null,null,215.56,"SAIDAL UNITE CENTRE","-",null,{"$f":"SUMIF(Tableau1[Description article],Tableau1[Produits],Tableau1[Emplacement])","v":0},null,{"$f":"Sheet1!$S494-Sheet1!$R494","v":0},"-","-","-",{"$f":"IFERROR(Tableau1[[#This Row],[THEO]]-Tableau1[[#This Row],[Qtt 2éme lot]],\"-\")","v":"-"},"-",{"$f":"IF(Tableau1[[#This Row],[2éme lot]]=\"-\",\"-\",IFERROR(IF(Q494=\"\",\"-\",INDEX(I:I,MATCH(Q494,C:C,0)+1)),\"-\"))","v":"-"},"-","-"]
[876,"MD000497","DIAGLINIDE 0,5MG COMP. B/30","REPAGLINIDE","7021903","01.02.2021","MG/EXP1",58,"MG/EXP1-B-016",null,0,null,null,353.5,"BIOCARE SARL","-",null,{"$f":"SUMIF(Tableau1[Description article],Tableau1[Produits],Tableau1[Emplacement])","v":0},null,{"$f":"Sheet1!$S495-Sheet1!$R495","v":0},"-","-","-",{"$f":"IFERROR(Tableau1[[#This Row],[THEO]]-Tableau1[[#This Row],[Qtt 2éme lot]],\"-\")","v":"-"},"-",{"$f":"IF(Tableau1[[#This Row],[2éme lot]]=\"-\",\"-\",IFERROR(IF(Q495=\"\",\"-\",INDEX(I:I,MATCH(Q495,C:C,0)+1)),\"-\"))","v":"-"},"-","-"]
[878,"MD000498","DIAGLINIDE 1MG COMP. B/30","REPAGLINIDE","7191906","01.08.2021","MG/EXP1",12,"MG/EXP1-C-020",null,0,null,null,367.5,"BIOCARE SARL","-",null,{"$f":"SUMIF(Tableau1[Description article],Tableau1[Produits],Tableau1[Emplacement])","v":0},null,{"$f":"Sheet1!$S496-Sheet1!$R496","v":0},"-","-","-",{"$f":"IFERROR(Tableau1[[#This Row],[THEO]]-Tableau1[[#This Row],[Qtt 2éme lot]],\"-\")","v":"-"},"-",{"$f":"IF(Tableau1[[#This Row],[2éme lot]]=\"-\",\"-\",IFERROR(IF(Q496=\"\",\"-\",INDEX(I:I,MATCH(Q496,C:C,0)+1)),\"-\"))","v":"-"},"-","-"]
[881,"MD000499","DIAGLINIDE 2MG COMP. B/30","REPAGLINIDE","7261915","01.08.2021","MG/EXP1",74,"MG/EXP1-A-002",null,0,null,null,387.5,"BIOCARE SARL","-",null,{"$f":"SUMIF(Tableau1[Description article],Tableau1[Produits],Tableau1[Emplacement])","v":0},null,{"$f":"Sheet1!$S497-Sheet1!$R497","v":0},"-","-","-",{"$f":"IFERROR(Tableau1[[#This Row],[THEO]]-Tableau1[[#This Row],[Qtt 2éme lot]],\"-\")","v":"-"},"-",{"$f":"IF(Tableau1[[#This Row],[2éme lot]]=\"-\",\"-\",IFERROR(IF(Q497=\"\",\"-\",INDEX(I:I,MATCH(Q497,C:C,0)+1)),\"-\"))","v":"-"},"-","-"]
[883,"PP00388","DIAGNO-CHECK KIT SENS",null,"DGDL919002","01.07.2020","MG/EXP1",77,"MG/EXP1-BOX6-023",null,0,null,null,0,"NEOMEDIC LABORATOIRE","-",null,{"$f":"SUMIF(Tableau1[Description article],Tableau1[Produits],Tableau1[Emplacement])","v":0},null,{"$f":"Sheet1!$S498-Sheet1!$R498","v":0},"-","-","-",{"$f":"IFERROR(Tableau1[[#This Row],[THEO]]-Tableau1[[#This Row],[Qtt 2éme lot]],\"-\")","v":"-"},"-",{"$f":"IF(Tableau1[[#This Row],[2éme lot]]=\"-\",\"-\",IFERROR(IF(Q498=\"\",\"-\",INDEX(I:I,MATCH(Q498,C:C,0)+1)),\"-\"))","v":"-"},"-","-"]
[884,"PP00388","DIAGNO-CHECK KIT SENS",null,"DGDL9190","01.07.2020","MG/EXP1",84,"MG/EXP1-BOX6-014",null,0,null,null,0,"NEOMEDIC LABORATOIRE","-",null,{"$f":"SUMIF(Tableau1[Description article],Tableau1[Produits],Tableau1[Emplacement])","v":0},null,{"$f":"Sheet1!$S499-Sheet1!$R499","v":0},"-","-","-",{"$f":"IFERROR(Tableau1[[#This Row],[THEO]]-Tableau1[[#This Row],[Qtt 2éme lot]],\"-\")","v":"-"},"-",{"$f":"IF(Tableau1[[#This Row],[2éme lot]]=\"-\",\"-\",IFERROR(IF(Q499=\"\",\"-\",INDEX(I:I,MATCH(Q499,C:C,0)+1)),\"-\"))","v":"-"},"-","-"]
[885,"MD000501","DIAGUANID 1000MG COMP.PELLI.SEC. B/30","METFORMINE","0063","01.04.2021","MG/EXP1",213,"MG/EXP1-D-039",null,0,null,null,162.5,"SAIDAL UNITE CENTRE","-",null,{"$f":"SUMIF(Tableau1[Description article],Tableau1[Produits],Tableau1[Emplacement])","v":0},null,{"$f":"Sheet1!$S500-Sheet1!$R500","v":0},"-","-","-",{"$f":"IFERROR(Tableau1[[#This Row],[THEO]]-Tableau1[[#This Row],[Qtt 2éme lot]],\"-\")","v":"-"},"-",{"$f":"IF(Tableau1[[#This Row],[2éme lot]]=\"-\",\"-\",IFERROR(IF(Q500=\"\",\"-\",INDEX(I:I,MATCH(Q500,C:C,0)+1)),\"-\"))","v":"-"},"-","-"]
[886,"MD000504","DIAMICRON 30MG COMP.LM. B/30","GLICLAZIDE","494213","01.11.2022","MG/EXP1",5,"MG/EXP1-E-013",null,0,null,null,613.93,"PRODIPHAL PRODUCTION","-",null,{"$f":"SUMIF(Tableau1[Description article],Tableau1[Produits],Tableau1[Emplacement])","v":0},null,{"$f":"Sheet1!$S501-Sheet1!$R501","v":0},"-","-","-",{"$f":"IFERROR(Tableau1[[#This Row],[THEO]]-Tableau1[[#This Row],[Qtt 2éme lot]],\"-\")","v":"-"},"-",{"$f":"IF(Tableau1[[#This Row],[2éme lot]]=\"-\",\"-\",IFERROR(IF(Q501=\"\",\"-\",INDEX(I:I,MATCH(Q501,C:C,0)+1)),\"-\"))","v":"-"},"-","-"]
[887,"MD000505","DIANE 35 2MG/35PG COMP.ENRO. B/21","ETHINYLESTRADIOL MICRONI/CYPROTERONE ACE","8191B","31.01.2021","MG/EXP1",237,"MG/EXP1-A-029",null,0,null,null,690.79,"SOMEDIAL S.P.A","-",null,{"$f":"SUMIF(Tableau1[Description article],Tableau1[Produits],Tableau1[Emplacement])","v":0},null,{"$f":"Sheet1!$S502-Sheet1!$R502","v":0},"-","-","-",{"$f":"IFERROR(Tableau1[[#This Row],[THEO]]-Tableau1[[#This Row],[Qtt 2éme lot]],\"-\")","v":"-"},"-",{"$f":"IF(Tableau1[[#This Row],[2éme lot]]=\"-\",\"-\",IFERROR(IF(Q502=\"\",\"-\",INDEX(I:I,MATCH(Q502,C:C,0)+1)),\"-\"))","v":"-"},"-","-"]
[890,"MD000506","DIAPHAG 80MG COMP. B/60","GLICLAZIDE","453*","01.01.2022","MG/EXP1",37,"MG/EXP1-D-059",null,0,null,null,296.3,"SAIDAL UNITE CENTRE","-",null,{"$f":"SUMIF(Tableau1[Description article],Tableau1[Produits],Tableau1[Emplacement])","v":0},null,{"$f":"Sheet1!$S503-Sheet1!$R503","v":0},"-","-","-",{"$f":"IFERROR(Tableau1[[#This Row],[THEO]]-Tableau1[[#This Row],[Qtt 2éme lot]],\"-\")","v":"-"},"-",{"$f":"IF(Tableau1[[#This Row],[2éme lot]]=\"-\",\"-\",IFERROR(IF(Q503=\"\",\"-\",INDEX(I:I,MATCH(Q503,C:C,0)+1)),\"-\"))","v":"-"},"-","-"]
[891,"MD000507","DIARYL 2MG GLES. B/20","LOPERAMIDE","DIA 085","01.02.2022","MG/EXP1",116,"MG/EXP1-E-048",null,0,null,null,138.8,"NEOMEDIC LABORATOIRE","-",null,{"$f":"SUMIF(Tableau1[Description article],Tableau1[Produits],Tableau1[Emplacement])","v":0},null,{"$f":"Sheet1!$S504-Sheet1!$R504","v":0},"-","-","-",{"$f":"IFERROR(Tableau1[[#This Row],[THEO]]-Tableau1[[#This Row],[Qtt 2éme lot]],\"-\")","v":"-"},"-",{"$f":"IF(Tableau1[[#This Row],[2éme lot]]=\"-\",\"-\",IFERROR(IF(Q504=\"\",\"-\",INDEX(I:I,MATCH(Q504,C:C,0)+1)),\"-\"))","v":"-"},"-","-"]
[893,"MD000508","DICEF 500MG GLES. B/15","CEFACLOR","190129","01.04.2022","MG/EXP1",103,"MG/EXP1-G-004",null,0,null,null,946.27,"HIKMA PHARMA ALGERIA SARL","-",null,{"$f":"SUMIF(Tableau1[Description article],Tableau1[Produits],Tableau1[Emplacement])","v":0},null,{"$f":"Sheet1!$S505-Sheet1!$R505","v":0},"-","-","-",{"$f":"IFERROR(Tableau1[[#This Row],[THEO]]-Tableau1[[#This Row],[Qtt 2éme lot]],\"-\")","v":"-"},"-",{"$f":"IF(Tableau1[[#This Row],[2éme lot]]=\"-\",\"-\",IFERROR(IF(Q505=\"\",\"-\",INDEX(I:I,MATCH(Q505,C:C,0)+1)),\"-\"))","v":"-"},"-","-"]
[894,"MD000509","DICETEL 100MG COMP.PELLI. B/20","PINAVERIUM","9325","30.09.2021","MG/EXP1",79,"MG/EXP1-A-004",null,0,null,null,266.96,"LDM LABORATOIRES DE DIAGNOSTIC MAGHREBINS","-",null,{"$f":"SUMIF(Tableau1[Description article],Tableau1[Produits],Tableau1[Emplacement])","v":0},null,{"$f":"Sheet1!$S506-Sheet1!$R506","v":0},"-","-","-",{"$f":"IFERROR(Tableau1[[#This Row],[THEO]]-Tableau1[[#This Row],[Qtt 2éme lot]],\"-\")","v":"-"},"-",{"$f":"IF(Tableau1[[#This Row],[2éme lot]]=\"-\",\"-\",IFERROR(IF(Q506=\"\",\"-\",INDEX(I:I,MATCH(Q506,C:C,0)+1)),\"-\"))","v":"-"},"-","-"]
[895,"MD000511","DICLAMID 75MG/ML SOL.INJ.IM. B/02 AMP/3ML","DICLOFENAC SODIQUE","0159","03.12.2022","MG/EXP1",804,"MG/EXP1-E-001",null,0,null,null,107.56,"PROVIVO SPA","-",null,{"$f":"SUMIF(Tableau1[Description article],Tableau1[Produits],Tableau1[Emplacement])","v":0},null,{"$f":"Sheet1!$S507-Sheet1!$R507","v":0},"-","-","-",{"$f":"IFERROR(Tableau1[[#This Row],[THEO]]-Tableau1[[#This Row],[Qtt 2éme lot]],\"-\")","v":"-"},"-",{"$f":"IF(Tableau1[[#This Row],[2éme lot]]=\"-\",\"-\",IFERROR(IF(Q507=\"\",\"-\",INDEX(I:I,MATCH(Q507,C:C,0)+1)),\"-\"))","v":"-"},"-","-"]
[901,"MD004170","DICLOCED 01MG/ML COLLY. FL/10ML","DICLOFENAC","3K38","01.12.2020","MG/EXP1",69,"MG/EXP1-B-058",null,0,null,null,658.97,"AT PHARMA SPA","-",null,{"$f":"SUMIF(Tableau1[Description article],Tableau1[Produits],Tableau1[Emplacement])","v":0},null,{"$f":"Sheet1!$S508-Sheet1!$R508","v":0},"-","-","-",{"$f":"IFERROR(Tableau1[[#This Row],[THEO]]-Tableau1[[#This Row],[Qtt 2éme lot]],\"-\")","v":"-"},"-",{"$f":"IF(Tableau1[[#This Row],[2éme lot]]=\"-\",\"-\",IFERROR(IF(Q508=\"\",\"-\",INDEX(I:I,MATCH(Q508,C:C,0)+1)),\"-\"))","v":"-"},"-","-"]
[903,"MD004155","DICLOGESIC 50MG COMP.PELLI.GASTRORESIST B/20","DICLOFENAC SODIUM","AA50","01.10.2020","MG/EXP1",156,"MG/EXP1-G-032",null,0,null,null,130.01,"DAR AL DAWA SARL","-",null,{"$f":"SUMIF(Tableau1[Description article],Tableau1[Produits],Tableau1[Emplacement])","v":0},null,{"$f":"Sheet1!$S509-Sheet1!$R509","v":0},"-","-","-",{"$f":"IFERROR(Tableau1[[#This Row],[THEO]]-Tableau1[[#This Row],[Qtt 2éme lot]],\"-\")","v":"-"},"-",{"$f":"IF(Tableau1[[#This Row],[2éme lot]]=\"-\",\"-\",IFERROR(IF(Q509=\"\",\"-\",INDEX(I:I,MATCH(Q509,C:C,0)+1)),\"-\"))","v":"-"},"-","-"]
[904,"MD000515","DICYNONE 250MG COMP. B/20","ETAMSILATE","G2143","01.02.2024","MG/EXP1",10,"MG/EXP1-G-044",null,0,null,null,300.35,"SANOFI AVENTIS ALGERIE SPA","-",null,{"$f":"SUMIF(Tableau1[Description article],Tableau1[Produits],Tableau1[Emplacement])","v":0},null,{"$f":"Sheet1!$S510-Sheet1!$R510","v":0},"-","-","-",{"$f":"IFERROR(Tableau1[[#This Row],[THEO]]-Tableau1[[#This Row],[Qtt 2éme lot]],\"-\")","v":"-"},"-",{"$f":"IF(Tableau1[[#This Row],[2éme lot]]=\"-\",\"-\",IFERROR(IF(Q510=\"\",\"-\",INDEX(I:I,MATCH(Q510,C:C,0)+1)),\"-\"))","v":"-"},"-","-"]
[905,"MD000519","DIFLU-GE 50MG GLES. B/03","FLUCONAZOLE","FL0117*","01.04.2020","MG/EXP1",15,"MG/EXP1-F-019",null,0,null,null,216.5,"CHIMIE PHARMACIE COMMERCE MULTIPLE SARL","-",null,{"$f":"SUMIF(Tableau1[Description article],Tableau1[Produits],Tableau1[Emplacement])","v":0},null,{"$f":"Sheet1!$S511-Sheet1!$R511","v":0},"-","-","-",{"$f":"IFERROR(Tableau1[[#This Row],[THEO]]-Tableau1[[#This Row],[Qtt 2éme lot]],\"-\")","v":"-"},"-",{"$f":"IF(Tableau1[[#This Row],[2éme lot]]=\"-\",\"-\",IFERROR(IF(Q511=\"\",\"-\",INDEX(I:I,MATCH(Q511,C:C,0)+1)),\"-\"))","v":"-"},"-","-"]
[906,"MD000520","DIGESTAT 100MG SUPP. B/10","TRIMEBUTINE","9R644*","01.11.2022","MG/EXP1",60,"MG/EXP1-B-053",null,0,null,null,200,"SALEM LABORATOIRES SARL","-",null,{"$f":"SUMIF(Tableau1[Description article],Tableau1[Produits],Tableau1[Emplacement])","v":0},null,{"$f":"Sheet1!$S512-Sheet1!$R512","v":0},"-","-","-",{"$f":"IFERROR(Tableau1[[#This Row],[THEO]]-Tableau1[[#This Row],[Qtt 2éme lot]],\"-\")","v":"-"},"-",{"$f":"IF(Tableau1[[#This Row],[2éme lot]]=\"-\",\"-\",IFERROR(IF(Q512=\"\",\"-\",INDEX(I:I,MATCH(Q512,C:C,0)+1)),\"-\"))","v":"-"},"-","-"]
[908,"MD000520","DIGESTAT 100MG SUPP. B/10","TRIMEBUTINE","9R352","01.05.2022","MG/EXP1",2,"MG/EXP1-B-029",null,0,null,null,200,"SALEM LABORATOIRES SARL","-",null,{"$f":"SUMIF(Tableau1[Description article],Tableau1[Produits],Tableau1[Emplacement])","v":0},null,{"$f":"Sheet1!$S513-Sheet1!$R513","v":0},"-","-","-",{"$f":"IFERROR(Tableau1[[#This Row],[THEO]]-Tableau1[[#This Row],[Qtt 2éme lot]],\"-\")","v":"-"},"-",{"$f":"IF(Tableau1[[#This Row],[2éme lot]]=\"-\",\"-\",IFERROR(IF(Q513=\"\",\"-\",INDEX(I:I,MATCH(Q513,C:C,0)+1)),\"-\"))","v":"-"},"-","-"]
[909,"MD000522","DIGOXINE CPCM 0,25MG COMP. B/30","DIGOXINE 0.25","9MH63","31.07.2021","MG/EXP1",11,"MG/EXP1-E-001",null,0,null,null,154.1,"CHIMIE PHARMACIE COMMERCE MULTIPLE SARL",{"$f":"IFERROR(IF(Q514=\"\",\"-\",INDEX(I:I,MATCH(Q514,C:C,0))),\"-\")","v":"-"},null,{"$f":"SUMIF(Tableau1[Description article],Tableau1[Produits],Tableau1[Emplacement])","v":0},null,{"$f":"Sheet1!$S514-Sheet1!$R514","v":0},{"$f":"IFERROR(IF(Q514=\"\",\"-\",INDEX(F:F,MATCH(Q514,C:C,0))),\"-\")","v":"-"},{"$f":"IFERROR(IF(Q514=\"\",\"-\",INDEX(E:E,MATCH(Q514,C:C,0))),\"-\")","v":"-"},{"$f":"IFERROR(IF(Q514=\"\",\"-\",INDEX(N:N,MATCH(Q514,C:C,0))),\"-\")","v":"-"},{"$f":"IFERROR(Tableau1[[#This Row],[THEO]]-Tableau1[[#This Row],[Qtt 2éme lot]],\"-\")","v":"-"},{"$f":"IF(IF(Q514=\"\",\"-\",INDEX(E:E,MATCH(Q514,C:C,0)))=IF(Q514=\"\",\"-\",INDEX(E:E,MATCH(Q514,C:C,1))),\"-\",IF(Q514=\"\",\"-\",INDEX(E:E,MATCH(Q514,C:C,1))))","v":"-"},{"$f":"IF(Tableau1[[#This Row],[2éme lot]]=\"-\",\"-\",IFERROR(IF(Q514=\"\",\"-\",INDEX(I:I,MATCH(Q514,C:C,0)+1)),\"-\"))","v":"-"},{"$f":"IFERROR(IF(Y514=\"\",\"-\",INDEX(N:N,MATCH(Y514,E:E,0))),\"-\")","v":"-"},{"$f":"IFERROR(IF(AA514=\"\",\"-\",INDEX(H:H,MATCH(Y514,E:E,0))),\"-\")","v":"-"}]
[910,"MD000523","DILACARD 12,5MG COMP. B/30","CARVEDILOL","180367","01.02.2022","MG/EXP1",300,"MG/EXP1-D-058",null,0,null,null,870.84,"EL KENDI INDUSTRIE DE MEDICAMENTS SPA","-",null,{"$f":"SUMIF(Tableau1[Description article],Tableau1[Produits],Tableau1[Emplacement])","v":0},null,{"$f":"Sheet1!$S515-Sheet1!$R515","v":0},"-","-","-",{"$f":"IFERROR(Tableau1[[#This Row],[THEO]]-Tableau1[[#This Row],[Qtt 2éme lot]],\"-\")","v":"-"},"-",{"$f":"IF(Tableau1[[#This Row],[2éme lot]]=\"-\",\"-\",IFERROR(IF(Q515=\"\",\"-\",INDEX(I:I,MATCH(Q515,C:C,0)+1)),\"-\"))","v":"-"},"-","-"]
[911,"MD000524","DILACARD 25MG COMP. B/30","CARVEDILOL","180369","01.03.2022","MG/EXP1",65,"MG/EXP1-BOX6-003",null,0,null,null,1207.4,"EL KENDI INDUSTRIE DE MEDICAMENTS SPA","-",null,{"$f":"SUMIF(Tableau1[Description article],Tableau1[Produits],Tableau1[Emplacement])","v":0},null,{"$f":"Sheet1!$S516-Sheet1!$R516","v":0},"-","-","-",{"$f":"IFERROR(Tableau1[[#This Row],[THEO]]-Tableau1[[#This Row],[Qtt 2éme lot]],\"-\")","v":"-"},"-",{"$f":"IF(Tableau1[[#This Row],[2éme lot]]=\"-\",\"-\",IFERROR(IF(Q516=\"\",\"-\",INDEX(I:I,MATCH(Q516,C:C,0)+1)),\"-\"))","v":"-"},"-","-"]
[913,"MD000525","DILACARD 3,125MG COMP. B/30","CARVEDILOL","190560","01.03.2023","MG/EXP1",38,"MG/EXP1-BOX6-004",null,0,null,null,427.7,"EL KENDI INDUSTRIE DE MEDICAMENTS SPA","-",null,{"$f":"SUMIF(Tableau1[Description article],Tableau1[Produits],Tableau1[Emplacement])","v":0},null,{"$f":"Sheet1!$S517-Sheet1!$R517","v":0},"-","-","-",{"$f":"IFERROR(Tableau1[[#This Row],[THEO]]-Tableau1[[#This Row],[Qtt 2éme lot]],\"-\")","v":"-"},"-",{"$f":"IF(Tableau1[[#This Row],[2éme lot]]=\"-\",\"-\",IFERROR(IF(Q517=\"\",\"-\",INDEX(I:I,MATCH(Q517,C:C,0)+1)),\"-\"))","v":"-"},"-","-"]
[917,"MD000526","DILACARD 6,25MG COMP. B/30","CARVEDILOL","190695","01.03.2023","MG/EXP1",283,"MG/EXP1-BOX6-003",null,0,null,null,693.72,"EL KENDI INDUSTRIE DE MEDICAMENTS SPA","-",null,{"$f":"SUMIF(Tableau1[Description article],Tableau1[Produits],Tableau1[Emplacement])","v":0},null,{"$f":"Sheet1!$S518-Sheet1!$R518","v":0},"-","-","-",{"$f":"IFERROR(Tableau1[[#This Row],[THEO]]-Tableau1[[#This Row],[Qtt 2éme lot]],\"-\")","v":"-"},"-",{"$f":"IF(Tableau1[[#This Row],[2éme lot]]=\"-\",\"-\",IFERROR(IF(Q518=\"\",\"-\",INDEX(I:I,MATCH(Q518,C:C,0)+1)),\"-\"))","v":"-"},"-","-"]
[919,"MD000527","DIMEPRA 2MG GLES. B/20","LOPERAMIDE","001/19","01.03.2022","MG/EXP1",197,"MG/EXP1-C-022",null,0,null,null,127.3,"PHARMALLIANCE EURL","-",null,{"$f":"SUMIF(Tableau1[Description article],Tableau1[Produits],Tableau1[Emplacement])","v":0},null,{"$f":"Sheet1!$S519-Sheet1!$R519","v":0},"-","-","-",{"$f":"IFERROR(Tableau1[[#This Row],[THEO]]-Tableau1[[#This Row],[Qtt 2éme lot]],\"-\")","v":"-"},"-",{"$f":"IF(Tableau1[[#This Row],[2éme lot]]=\"-\",\"-\",IFERROR(IF(Q519=\"\",\"-\",INDEX(I:I,MATCH(Q519,C:C,0)+1)),\"-\"))","v":"-"},"-","-"]
[920,"MD000528","DIOVEINE 300MG COMP.PELLI. B/30","DIOSMINE","048","01.11.2021","MG/EXP1",40,"MG/EXP1-B-029",null,0,null,null,320,"BIO-GALENIC SARL","-",null,{"$f":"SUMIF(Tableau1[Description article],Tableau1[Produits],Tableau1[Emplacement])","v":0},null,{"$f":"Sheet1!$S520-Sheet1!$R520","v":0},"-","-","-",{"$f":"IFERROR(Tableau1[[#This Row],[THEO]]-Tableau1[[#This Row],[Qtt 2éme lot]],\"-\")","v":"-"},"-",{"$f":"IF(Tableau1[[#This Row],[2éme lot]]=\"-\",\"-\",IFERROR(IF(Q520=\"\",\"-\",INDEX(I:I,MATCH(Q520,C:C,0)+1)),\"-\"))","v":"-"},"-","-"]
[922,"MD000529","DIOVEINE 600MG COMP.PELLI. B/30","DIOSMINE","095","01.11.2022","MG/EXP1",59,"MG/EXP1-A-026",null,0,null,null,510,"BIO-GALENIC SARL","-",null,{"$f":"SUMIF(Tableau1[Description article],Tableau1[Produits],Tableau1[Emplacement])","v":0},null,{"$f":"Sheet1!$S521-Sheet1!$R521","v":0},"-","-","-",{"$f":"IFERROR(Tableau1[[#This Row],[THEO]]-Tableau1[[#This Row],[Qtt 2éme lot]],\"-\")","v":"-"},"-",{"$f":"IF(Tableau1[[#This Row],[2éme lot]]=\"-\",\"-\",IFERROR(IF(Q521=\"\",\"-\",INDEX(I:I,MATCH(Q521,C:C,0)+1)),\"-\"))","v":"-"},"-","-"]
[925,"MD000530","DIPRIM 200MG/40MG/5ML SUSP.BUV. B/01 FL/100ML + BCHN.DOSEUR","SULFAMETHOXAZOLE 200  / TRIMETHOPRIME 40","04923","01.07.2022","MG/EXP1",1,"MG/EXP1-A-006",null,0,null,null,194.75,"PHARMIDAL SARL","-",null,{"$f":"SUMIF(Tableau1[Description article],Tableau1[Produits],Tableau1[Emplacement])","v":0},null,{"$f":"Sheet1!$S522-Sheet1!$R522","v":0},"-","-","-",{"$f":"IFERROR(Tableau1[[#This Row],[THEO]]-Tableau1[[#This Row],[Qtt 2éme lot]],\"-\")","v":"-"},"-",{"$f":"IF(Tableau1[[#This Row],[2éme lot]]=\"-\",\"-\",IFERROR(IF(Q522=\"\",\"-\",INDEX(I:I,MATCH(Q522,C:C,0)+1)),\"-\"))","v":"-"},"-","-"]
[927,"MD002295","DIPROLOL 5MG COMP.PELLI.SEC. B/30","BISOPROLOL","19050/FAB122","01.02.2021","MG/EXP1",17,"MG/EXP1-B-023",null,0,null,null,292.65,"S.A.N.A.M.E.D","-",null,{"$f":"SUMIF(Tableau1[Description article],Tableau1[Produits],Tableau1[Emplacement])","v":0},null,{"$f":"Sheet1!$S523-Sheet1!$R523","v":0},"-","-","-",{"$f":"IFERROR(Tableau1[[#This Row],[THEO]]-Tableau1[[#This Row],[Qtt 2éme lot]],\"-\")","v":"-"},"-",{"$f":"IF(Tableau1[[#This Row],[2éme lot]]=\"-\",\"-\",IFERROR(IF(Q523=\"\",\"-\",INDEX(I:I,MATCH(Q523,C:C,0)+1)),\"-\"))","v":"-"},"-","-"]
[928,"MD000532","DIPROSTENE 5MG/2MG/SERING. SUSP.INJ. 01 SERING.PREREMPL + 02 AIGUI.","BETAMETHASO DIPROPIO / BETAMETHASO PHOSP","X04101","01.06.2021","MG/EXP1",118,"MG/EXP1-C-002",null,0,null,null,354.69,"E.P.DIS EURAPHARMA SPA","-",null,{"$f":"SUMIF(Tableau1[Description article],Tableau1[Produits],Tableau1[Emplacement])","v":0},null,{"$f":"Sheet1!$S524-Sheet1!$R524","v":0},"-","-","-",{"$f":"IFERROR(Tableau1[[#This Row],[THEO]]-Tableau1[[#This Row],[Qtt 2éme lot]],\"-\")","v":"-"},"-",{"$f":"IF(Tableau1[[#This Row],[2éme lot]]=\"-\",\"-\",IFERROR(IF(Q524=\"\",\"-\",INDEX(I:I,MATCH(Q524,C:C,0)+1)),\"-\"))","v":"-"},"-","-"]
[929,"MD000535","DIVIDO 75MG GLES.DBLE.LIB. B/20","DICLOFENAC SODIUM","190387","01.06.2021","MG/EXP1",433,"MG/EXP1-A-033",null,0,null,null,546.48,"LDM LABORATOIRES DE DIAGNOSTIC MAGHREBINS","-",null,{"$f":"SUMIF(Tableau1[Description article],Tableau1[Produits],Tableau1[Emplacement])","v":0},null,{"$f":"Sheet1!$S525-Sheet1!$R525","v":0},"-","-","-",{"$f":"IFERROR(Tableau1[[#This Row],[THEO]]-Tableau1[[#This Row],[Qtt 2éme lot]],\"-\")","v":"-"},"-",{"$f":"IF(Tableau1[[#This Row],[2éme lot]]=\"-\",\"-\",IFERROR(IF(Q525=\"\",\"-\",INDEX(I:I,MATCH(Q525,C:C,0)+1)),\"-\"))","v":"-"},"-","-"]
[930,"MD002255","DOCATRIL ENFANT 30MG PDRE.ORA. B/30 SACH.","RACECADOTRIL","004","01.05.2021","MG/EXP1",211,"MG/EXP1-G-036",null,0,null,null,677.5,"BIO-GALENIC SARL","-",null,{"$f":"SUMIF(Tableau1[Description article],Tableau1[Produits],Tableau1[Emplacement])","v":0},null,{"$f":"Sheet1!$S526-Sheet1!$R526","v":0},"-","-","-",{"$f":"IFERROR(Tableau1[[#This Row],[THEO]]-Tableau1[[#This Row],[Qtt 2éme lot]],\"-\")","v":"-"},"-",{"$f":"IF(Tableau1[[#This Row],[2éme lot]]=\"-\",\"-\",IFERROR(IF(Q526=\"\",\"-\",INDEX(I:I,MATCH(Q526,C:C,0)+1)),\"-\"))","v":"-"},"-","-"]
[931,"MD000548","DOLI RHUME 500MG/30MG COMP.SEC. B/16","PARACETAMOL+PSEUDOEPHEDRINE CHLORHYDRATE","H210","01.12.2021","MG/EXP1",17,"MG/EXP1-B-057",null,0,null,null,230,"SANOFI AVENTIS ALGERIE SPA","-",null,{"$f":"SUMIF(Tableau1[Description article],Tableau1[Produits],Tableau1[Emplacement])","v":0},null,{"$f":"Sheet1!$S527-Sheet1!$R527","v":0},"-","-","-",{"$f":"IFERROR(Tableau1[[#This Row],[THEO]]-Tableau1[[#This Row],[Qtt 2éme lot]],\"-\")","v":"-"},"-",{"$f":"IF(Tableau1[[#This Row],[2éme lot]]=\"-\",\"-\",IFERROR(IF(Q527=\"\",\"-\",INDEX(I:I,MATCH(Q527,C:C,0)+1)),\"-\"))","v":"-"},"-","-"]
[932,"MD000548","DOLI RHUME 500MG/30MG COMP.SEC. B/16","PARACETAMOL+PSEUDOEPHEDRINE CHLORHYDRATE","H212","01.01.2022","MG/EXP1",479,"MG/EXP1-B-057",null,0,null,null,230,"SANOFI AVENTIS ALGERIE SPA","-",null,{"$f":"SUMIF(Tableau1[Description article],Tableau1[Produits],Tableau1[Emplacement])","v":0},null,{"$f":"Sheet1!$S528-Sheet1!$R528","v":0},"-","-","-",{"$f":"IFERROR(Tableau1[[#This Row],[THEO]]-Tableau1[[#This Row],[Qtt 2éme lot]],\"-\")","v":"-"},"-",{"$f":"IF(Tableau1[[#This Row],[2éme lot]]=\"-\",\"-\",IFERROR(IF(Q528=\"\",\"-\",INDEX(I:I,MATCH(Q528,C:C,0)+1)),\"-\"))","v":"-"},"-","-"]
[933,"MD000539","DOLIPRANE 100MG SUPP.SEC. B/10","PARACETAMOL","A895","01.09.2022","MG/EXP1",220,"MG/EXP1-F-005",null,0,null,null,124.06,"SANOFI AVENTIS ALGERIE SPA","-",null,{"$f":"SUMIF(Tableau1[Description article],Tableau1[Produits],Tableau1[Emplacement])","v":0},null,{"$f":"Sheet1!$S529-Sheet1!$R529","v":0},"-","-","-",{"$f":"IFERROR(Tableau1[[#This Row],[THEO]]-Tableau1[[#This Row],[Qtt 2éme lot]],\"-\")","v":"-"},"-",{"$f":"IF(Tableau1[[#This Row],[2éme lot]]=\"-\",\"-\",IFERROR(IF(Q529=\"\",\"-\",INDEX(I:I,MATCH(Q529,C:C,0)+1)),\"-\"))","v":"-"},"-","-"]
[937,"MD000540","DOLIPRANE 150MG SUPP. B/10","PARACETAMOL - 8 A 12 KG-","B215/1","01.09.2022","MG/EXP1",260,"MG/EXP1-D-007",null,0,null,null,124.06,"SANOFI AVENTIS ALGERIE SPA","-",null,{"$f":"SUMIF(Tableau1[Description article],Tableau1[Produits],Tableau1[Emplacement])","v":0},null,{"$f":"Sheet1!$S530-Sheet1!$R530","v":0},"-","-","-",{"$f":"IFERROR(Tableau1[[#This Row],[THEO]]-Tableau1[[#This Row],[Qtt 2éme lot]],\"-\")","v":"-"},"-",{"$f":"IF(Tableau1[[#This Row],[2éme lot]]=\"-\",\"-\",IFERROR(IF(Q530=\"\",\"-\",INDEX(I:I,MATCH(Q530,C:C,0)+1)),\"-\"))","v":"-"},"-","-"]
[940,"MD000541","DOLIPRANE 1G COMP. B/08","PARACETAMOL","DR093A","01.07.2022","MG/EXP1",960,"MG/EXP1-A-070",null,0,null,null,75,"SANOFI AVENTIS ALGERIE SPA","-",null,{"$f":"SUMIF(Tableau1[Description article],Tableau1[Produits],Tableau1[Emplacement])","v":0},null,{"$f":"Sheet1!$S531-Sheet1!$R531","v":0},"-","-","-",{"$f":"IFERROR(Tableau1[[#This Row],[THEO]]-Tableau1[[#This Row],[Qtt 2éme lot]],\"-\")","v":"-"},"-",{"$f":"IF(Tableau1[[#This Row],[2éme lot]]=\"-\",\"-\",IFERROR(IF(Q531=\"\",\"-\",INDEX(I:I,MATCH(Q531,C:C,0)+1)),\"-\"))","v":"-"},"-","-"]
[941,"MD000541","DOLIPRANE 1G COMP. B/08","PARACETAMOL","DR093A","01.07.2022","MG/EXP1",402,"MG/EXP1-A-075",null,0,null,null,75,"SANOFI AVENTIS ALGERIE SPA","-",null,{"$f":"SUMIF(Tableau1[Description article],Tableau1[Produits],Tableau1[Emplacement])","v":0},null,{"$f":"Sheet1!$S532-Sheet1!$R532","v":0},"-","-","-",{"$f":"IFERROR(Tableau1[[#This Row],[THEO]]-Tableau1[[#This Row],[Qtt 2éme lot]],\"-\")","v":"-"},"-",{"$f":"IF(Tableau1[[#This Row],[2éme lot]]=\"-\",\"-\",IFERROR(IF(Q532=\"\",\"-\",INDEX(I:I,MATCH(Q532,C:C,0)+1)),\"-\"))","v":"-"},"-","-"]
[944,"MD000542","DOLIPRANE 2,4% 120MG/5ML SUSP.BUV.SANS SUCRE AROME FRAISE B/01 FL/125ML + C.M.","PARACETAMOL","19DOS021","01.10.2021","MG/EXP1",505,"MG/EXP1-C-008",null,0,null,null,137.66,"SANOFI AVENTIS ALGERIE SPA","-",null,{"$f":"SUMIF(Tableau1[Description article],Tableau1[Produits],Tableau1[Emplacement])","v":0},null,{"$f":"Sheet1!$S533-Sheet1!$R533","v":0},"-","-","-",{"$f":"IFERROR(Tableau1[[#This Row],[THEO]]-Tableau1[[#This Row],[Qtt 2éme lot]],\"-\")","v":"-"},"-",{"$f":"IF(Tableau1[[#This Row],[2éme lot]]=\"-\",\"-\",IFERROR(IF(Q533=\"\",\"-\",INDEX(I:I,MATCH(Q533,C:C,0)+1)),\"-\"))","v":"-"},"-","-"]
[948,"MD000543","DOLIPRANE 200MG SUPP. B/10","PARACETAMOL - 12 A 16 KG-","C197/1","01.09.2022","MG/EXP1",440,"MG/EXP1-B-026",null,0,null,null,124.06,"SANOFI AVENTIS ALGERIE SPA","-",null,{"$f":"SUMIF(Tableau1[Description article],Tableau1[Produits],Tableau1[Emplacement])","v":0},null,{"$f":"Sheet1!$S534-Sheet1!$R534","v":0},"-","-","-",{"$f":"IFERROR(Tableau1[[#This Row],[THEO]]-Tableau1[[#This Row],[Qtt 2éme lot]],\"-\")","v":"-"},"-",{"$f":"IF(Tableau1[[#This Row],[2éme lot]]=\"-\",\"-\",IFERROR(IF(Q534=\"\",\"-\",INDEX(I:I,MATCH(Q534,C:C,0)+1)),\"-\"))","v":"-"},"-","-"]
[952,"MD000545","DOLIPRANE 500MG COMP. B/16","PARACETAMOL","DP133A","01.09.2022","MG/EXP1",260,"MG/EXP1-C-041",null,0,null,null,60,"SANOFI AVENTIS ALGERIE SPA","-",null,{"$f":"SUMIF(Tableau1[Description article],Tableau1[Produits],Tableau1[Emplacement])","v":0},null,{"$f":"Sheet1!$S535-Sheet1!$R535","v":0},"-","-","-",{"$f":"IFERROR(Tableau1[[#This Row],[THEO]]-Tableau1[[#This Row],[Qtt 2éme lot]],\"-\")","v":"-"},"-",{"$f":"IF(Tableau1[[#This Row],[2éme lot]]=\"-\",\"-\",IFERROR(IF(Q535=\"\",\"-\",INDEX(I:I,MATCH(Q535,C:C,0)+1)),\"-\"))","v":"-"},"-","-"]
[953,"MD000545","DOLIPRANE 500MG COMP. B/16","PARACETAMOL","DP130A","01.09.2022","MG/EXP1",201,"MG/EXP1-C-013",null,0,null,null,60,"SANOFI AVENTIS ALGERIE SPA","-",null,{"$f":"SUMIF(Tableau1[Description article],Tableau1[Produits],Tableau1[Emplacement])","v":0},null,{"$f":"Sheet1!$S536-Sheet1!$R536","v":0},"-","-","-",{"$f":"IFERROR(Tableau1[[#This Row],[THEO]]-Tableau1[[#This Row],[Qtt 2éme lot]],\"-\")","v":"-"},"-",{"$f":"IF(Tableau1[[#This Row],[2éme lot]]=\"-\",\"-\",IFERROR(IF(Q536=\"\",\"-\",INDEX(I:I,MATCH(Q536,C:C,0)+1)),\"-\"))","v":"-"},"-","-"]
[955,"MD000545","DOLIPRANE 500MG COMP. B/16","PARACETAMOL","DP134A","01.09.2022","MG/EXP1",1440,"MG/EXP1-C-013",null,0,null,null,60,"SANOFI AVENTIS ALGERIE SPA","-",null,{"$f":"SUMIF(Tableau1[Description article],Tableau1[Produits],Tableau1[Emplacement])","v":0},null,{"$f":"Sheet1!$S537-Sheet1!$R537","v":0},"-","-","-",{"$f":"IFERROR(Tableau1[[#This Row],[THEO]]-Tableau1[[#This Row],[Qtt 2éme lot]],\"-\")","v":"-"},"-",{"$f":"IF(Tableau1[[#This Row],[2éme lot]]=\"-\",\"-\",IFERROR(IF(Q537=\"\",\"-\",INDEX(I:I,MATCH(Q537,C:C,0)+1)),\"-\"))","v":"-"},"-","-"]
[957,"MD002654","DOLOMOL 250MG/5ML SUSP.BUV. B/01 FL/120ML + GBL/15ML","PARACETAMOL","04913","01.09.2021","MG/EXP1",156,"MG/EXP1-A-024",null,0,null,null,158.64,"HIKMA PHARMA ALGERIA SARL","-",null,{"$f":"SUMIF(Tableau1[Description article],Tableau1[Produits],Tableau1[Emplacement])","v":0},null,{"$f":"Sheet1!$S538-Sheet1!$R538","v":0},"-","-","-",{"$f":"IFERROR(Tableau1[[#This Row],[THEO]]-Tableau1[[#This Row],[Qtt 2éme lot]],\"-\")","v":"-"},"-",{"$f":"IF(Tableau1[[#This Row],[2éme lot]]=\"-\",\"-\",IFERROR(IF(Q538=\"\",\"-\",INDEX(I:I,MATCH(Q538,C:C,0)+1)),\"-\"))","v":"-"},"-","-"]
[959,"PP00100","DOLOPATCH HYDRO GEL-5 PATCH 12CM x8CM",null,"GE18006","30.06.2021","MG/EXP1",35,"MG/EXP1-C-060",null,0,null,null,470,"MAGPHARM LABORATOIRES SARL","-",null,{"$f":"SUMIF(Tableau1[Description article],Tableau1[Produits],Tableau1[Emplacement])","v":0},null,{"$f":"Sheet1!$S539-Sheet1!$R539","v":0},"-","-","-",{"$f":"IFERROR(Tableau1[[#This Row],[THEO]]-Tableau1[[#This Row],[Qtt 2éme lot]],\"-\")","v":"-"},"-",{"$f":"IF(Tableau1[[#This Row],[2éme lot]]=\"-\",\"-\",IFERROR(IF(Q539=\"\",\"-\",INDEX(I:I,MATCH(Q539,C:C,0)+1)),\"-\"))","v":"-"},"-","-"]
[960,"PP00101","DOLOPATCH-ANTIDOULEUR-",null,"SE18036","30.06.2021","MG/EXP1",15,"MG/EXP1-A-034",null,0,null,null,290,"MAGPHARM LABORATOIRES SARL","-",null,{"$f":"SUMIF(Tableau1[Description article],Tableau1[Produits],Tableau1[Emplacement])","v":0},null,{"$f":"Sheet1!$S540-Sheet1!$R540","v":0},"-","-","-",{"$f":"IFERROR(Tableau1[[#This Row],[THEO]]-Tableau1[[#This Row],[Qtt 2éme lot]],\"-\")","v":"-"},"-",{"$f":"IF(Tableau1[[#This Row],[2éme lot]]=\"-\",\"-\",IFERROR(IF(Q540=\"\",\"-\",INDEX(I:I,MATCH(Q540,C:C,0)+1)),\"-\"))","v":"-"},"-","-"]
[961,"MD000552","DOLPRIV 100MG SUPP. B/10","PARACETAMOL","035/19","01.09.2022","MG/EXP1",223,"MG/EXP1-A-029",null,0,null,null,99.51,"PHARMALLIANCE EURL","-",null,{"$f":"SUMIF(Tableau1[Description article],Tableau1[Produits],Tableau1[Emplacement])","v":0},null,{"$f":"Sheet1!$S541-Sheet1!$R541","v":0},"-","-","-",{"$f":"IFERROR(Tableau1[[#This Row],[THEO]]-Tableau1[[#This Row],[Qtt 2éme lot]],\"-\")","v":"-"},"-",{"$f":"IF(Tableau1[[#This Row],[2éme lot]]=\"-\",\"-\",IFERROR(IF(Q541=\"\",\"-\",INDEX(I:I,MATCH(Q541,C:C,0)+1)),\"-\"))","v":"-"},"-","-"]
[962,"MD000552","DOLPRIV 100MG SUPP. B/10","PARACETAMOL","029/18","28.12.2021","MG/EXP1",6,"MG/EXP1-A-027",null,0,null,null,99.51,"PHARMALLIANCE EURL","-",null,{"$f":"SUMIF(Tableau1[Description article],Tableau1[Produits],Tableau1[Emplacement])","v":0},null,{"$f":"Sheet1!$S542-Sheet1!$R542","v":0},"-","-","-",{"$f":"IFERROR(Tableau1[[#This Row],[THEO]]-Tableau1[[#This Row],[Qtt 2éme lot]],\"-\")","v":"-"},"-",{"$f":"IF(Tableau1[[#This Row],[2éme lot]]=\"-\",\"-\",IFERROR(IF(Q542=\"\",\"-\",INDEX(I:I,MATCH(Q542,C:C,0)+1)),\"-\"))","v":"-"},"-","-"]
[963,"MD000553","DOLPRIV 150MG SUPP. B/10","PARACETAMOL - 8 A 12 KG-","023/19","01.06.2022","MG/EXP1",106,"MG/EXP1-C-021",null,0,null,null,116.51,"PHARMALLIANCE EURL","-",null,{"$f":"SUMIF(Tableau1[Description article],Tableau1[Produits],Tableau1[Emplacement])","v":0},null,{"$f":"Sheet1!$S543-Sheet1!$R543","v":0},"-","-","-",{"$f":"IFERROR(Tableau1[[#This Row],[THEO]]-Tableau1[[#This Row],[Qtt 2éme lot]],\"-\")","v":"-"},"-",{"$f":"IF(Tableau1[[#This Row],[2éme lot]]=\"-\",\"-\",IFERROR(IF(Q543=\"\",\"-\",INDEX(I:I,MATCH(Q543,C:C,0)+1)),\"-\"))","v":"-"},"-","-"]
[965,"MD000554","DOLPRIV 200MG SUPP. B/10","PARACETAMOL - 12 A 16 KG-","005/19","01.04.2022","MG/EXP1",216,"MG/EXP1-F-005",null,0,null,null,128.17,"PHARMALLIANCE EURL","-",null,{"$f":"SUMIF(Tableau1[Description article],Tableau1[Produits],Tableau1[Emplacement])","v":0},null,{"$f":"Sheet1!$S544-Sheet1!$R544","v":0},"-","-","-",{"$f":"IFERROR(Tableau1[[#This Row],[THEO]]-Tableau1[[#This Row],[Qtt 2éme lot]],\"-\")","v":"-"},"-",{"$f":"IF(Tableau1[[#This Row],[2éme lot]]=\"-\",\"-\",IFERROR(IF(Q544=\"\",\"-\",INDEX(I:I,MATCH(Q544,C:C,0)+1)),\"-\"))","v":"-"},"-","-"]
[966,"MD000556","DOLPRIV 300MG SUPP. B/10","PARACETAMOL - 15 A 24 KG-","026/19","01.05.2022","MG/EXP1",257,"MG/EXP1-E-026",null,0,null,null,139.98,"PHARMALLIANCE EURL","-",null,{"$f":"SUMIF(Tableau1[Description article],Tableau1[Produits],Tableau1[Emplacement])","v":0},null,{"$f":"Sheet1!$S545-Sheet1!$R545","v":0},"-","-","-",{"$f":"IFERROR(Tableau1[[#This Row],[THEO]]-Tableau1[[#This Row],[Qtt 2éme lot]],\"-\")","v":"-"},"-",{"$f":"IF(Tableau1[[#This Row],[2éme lot]]=\"-\",\"-\",IFERROR(IF(Q545=\"\",\"-\",INDEX(I:I,MATCH(Q545,C:C,0)+1)),\"-\"))","v":"-"},"-","-"]
[968,"MD000558","DOLYC 1G COMP. B/10","PARACETAMOL","M26043R","31.01.2022","MG/EXP1",24,"MG/EXP1-A-029",null,0,null,null,70,"MERINAL LABORATOIRES","-",null,{"$f":"SUMIF(Tableau1[Description article],Tableau1[Produits],Tableau1[Emplacement])","v":0},null,{"$f":"Sheet1!$S546-Sheet1!$R546","v":0},"-","-","-",{"$f":"IFERROR(Tableau1[[#This Row],[THEO]]-Tableau1[[#This Row],[Qtt 2éme lot]],\"-\")","v":"-"},"-",{"$f":"IF(Tableau1[[#This Row],[2éme lot]]=\"-\",\"-\",IFERROR(IF(Q546=\"\",\"-\",INDEX(I:I,MATCH(Q546,C:C,0)+1)),\"-\"))","v":"-"},"-","-"]
[969,"MD000558","DOLYC 1G COMP. B/10","PARACETAMOL","M26043R","31.01.2022","MG/EXP1",1968,"MG/EXP1-A-026",null,0,null,null,70,"MERINAL LABORATOIRES","-",null,{"$f":"SUMIF(Tableau1[Description article],Tableau1[Produits],Tableau1[Emplacement])","v":0},null,{"$f":"Sheet1!$S547-Sheet1!$R547","v":0},"-","-","-",{"$f":"IFERROR(Tableau1[[#This Row],[THEO]]-Tableau1[[#This Row],[Qtt 2éme lot]],\"-\")","v":"-"},"-",{"$f":"IF(Tableau1[[#This Row],[2éme lot]]=\"-\",\"-\",IFERROR(IF(Q547=\"\",\"-\",INDEX(I:I,MATCH(Q547,C:C,0)+1)),\"-\"))","v":"-"},"-","-"]
[972,"MD000559","DOLYC 500MG COMP. B/20","PARACETAMOL","M06003R","30.09.2021","MG/EXP1",564,"MG/EXP1-B-065",null,0,null,null,60,"MERINAL LABORATOIRES","-",null,{"$f":"SUMIF(Tableau1[Description article],Tableau1[Produits],Tableau1[Emplacement])","v":0},null,{"$f":"Sheet1!$S548-Sheet1!$R548","v":0},"-","-","-",{"$f":"IFERROR(Tableau1[[#This Row],[THEO]]-Tableau1[[#This Row],[Qtt 2éme lot]],\"-\")","v":"-"},"-",{"$f":"IF(Tableau1[[#This Row],[2éme lot]]=\"-\",\"-\",IFERROR(IF(Q548=\"\",\"-\",INDEX(I:I,MATCH(Q548,C:C,0)+1)),\"-\"))","v":"-"},"-","-"]
[973,"MD000560","DOMPERIDONE BEKER 10MG COMP.PELLI. B/40","DOMPERIDONE","081619","01.10.2021","MG/EXP1",70,"MG/EXP1-G-035",null,0,null,null,258.9,"BEKER LABORATOIRES","-",null,{"$f":"SUMIF(Tableau1[Description article],Tableau1[Produits],Tableau1[Emplacement])","v":0},null,{"$f":"Sheet1!$S549-Sheet1!$R549","v":0},"-","-","-",{"$f":"IFERROR(Tableau1[[#This Row],[THEO]]-Tableau1[[#This Row],[Qtt 2éme lot]],\"-\")","v":"-"},"-",{"$f":"IF(Tableau1[[#This Row],[2éme lot]]=\"-\",\"-\",IFERROR(IF(Q549=\"\",\"-\",INDEX(I:I,MATCH(Q549,C:C,0)+1)),\"-\"))","v":"-"},"-","-"]
[975,"MD000560","DOMPERIDONE BEKER 10MG COMP.PELLI. B/40","DOMPERIDONE","081719","01.10.2021","MG/EXP1",3,"MG/EXP1-G-045",null,0,null,null,258.9,"BEKER LABORATOIRES","-",null,{"$f":"SUMIF(Tableau1[Description article],Tableau1[Produits],Tableau1[Emplacement])","v":0},null,{"$f":"Sheet1!$S550-Sheet1!$R550","v":0},"-","-","-",{"$f":"IFERROR(Tableau1[[#This Row],[THEO]]-Tableau1[[#This Row],[Qtt 2éme lot]],\"-\")","v":"-"},"-",{"$f":"IF(Tableau1[[#This Row],[2éme lot]]=\"-\",\"-\",IFERROR(IF(Q550=\"\",\"-\",INDEX(I:I,MATCH(Q550,C:C,0)+1)),\"-\"))","v":"-"},"-","-"]
[977,"MD000562","DOMPERONE 10MG COMP.PELLI. B/40","DOMPERIDONE","008/19","01.04.2022","MG/EXP1",1,"MG/EXP1-B-033",null,0,null,null,258.9,"PHARMALLIANCE EURL","-",null,{"$f":"SUMIF(Tableau1[Description article],Tableau1[Produits],Tableau1[Emplacement])","v":0},null,{"$f":"Sheet1!$S551-Sheet1!$R551","v":0},"-","-","-",{"$f":"IFERROR(Tableau1[[#This Row],[THEO]]-Tableau1[[#This Row],[Qtt 2éme lot]],\"-\")","v":"-"},"-",{"$f":"IF(Tableau1[[#This Row],[2éme lot]]=\"-\",\"-\",IFERROR(IF(Q551=\"\",\"-\",INDEX(I:I,MATCH(Q551,C:C,0)+1)),\"-\"))","v":"-"},"-","-"]
[979,"MD000562","DOMPERONE 10MG COMP.PELLI. B/40","DOMPERIDONE","018/19","01.09.2022","MG/EXP1",226,"MG/EXP1-B-011",null,0,null,null,258.9,"PHARMALLIANCE EURL","-",null,{"$f":"SUMIF(Tableau1[Description article],Tableau1[Produits],Tableau1[Emplacement])","v":0},null,{"$f":"Sheet1!$S552-Sheet1!$R552","v":0},"-","-","-",{"$f":"IFERROR(Tableau1[[#This Row],[THEO]]-Tableau1[[#This Row],[Qtt 2éme lot]],\"-\")","v":"-"},"-",{"$f":"IF(Tableau1[[#This Row],[2éme lot]]=\"-\",\"-\",IFERROR(IF(Q552=\"\",\"-\",INDEX(I:I,MATCH(Q552,C:C,0)+1)),\"-\"))","v":"-"},"-","-"]
[980,"MD000563","DOMPERONE 1MG/ML SUSP.BUV. FL/200 ML","DOMPERIDONE","031/19","01.10.2022","MG/EXP1",100,"MG/EXP1-C-056",null,0,null,null,222.5,"PHARMALLIANCE EURL","-",null,{"$f":"SUMIF(Tableau1[Description article],Tableau1[Produits],Tableau1[Emplacement])","v":0},null,{"$f":"Sheet1!$S553-Sheet1!$R553","v":0},"-","-","-",{"$f":"IFERROR(Tableau1[[#This Row],[THEO]]-Tableau1[[#This Row],[Qtt 2éme lot]],\"-\")","v":"-"},"-",{"$f":"IF(Tableau1[[#This Row],[2éme lot]]=\"-\",\"-\",IFERROR(IF(Q553=\"\",\"-\",INDEX(I:I,MATCH(Q553,C:C,0)+1)),\"-\"))","v":"-"},"-","-"]
[985,"MD000565","DONEPEZIL BEKER 10MG COMP.PELLI. B/28","DONEPEZIL","099619","01.11.2022","MG/EXP1",30,"MG/EXP1-BOX6-PSY-017",null,0,null,"CHER",4057.5,"BEKER LABORATOIRES","-",null,{"$f":"SUMIF(Tableau1[Description article],Tableau1[Produits],Tableau1[Emplacement])","v":0},null,{"$f":"Sheet1!$S554-Sheet1!$R554","v":0},"-","-","-",{"$f":"IFERROR(Tableau1[[#This Row],[THEO]]-Tableau1[[#This Row],[Qtt 2éme lot]],\"-\")","v":"-"},"-",{"$f":"IF(Tableau1[[#This Row],[2éme lot]]=\"-\",\"-\",IFERROR(IF(Q554=\"\",\"-\",INDEX(I:I,MATCH(Q554,C:C,0)+1)),\"-\"))","v":"-"},"-","-"]
[986,"MD000566","DONEPEZIL BEKER 5MG COMP.PELLI. B/30","DONEPEZIL HYDROCHLORIDE","052119","05.05.2022","MG/EXP1",344,"MG/EXP1-BOX6-PSY-017",null,0,null,"CHER",4047.5,"BEKER LABORATOIRES","-",null,{"$f":"SUMIF(Tableau1[Description article],Tableau1[Produits],Tableau1[Emplacement])","v":0},null,{"$f":"Sheet1!$S555-Sheet1!$R555","v":0},"-","-","-",{"$f":"IFERROR(Tableau1[[#This Row],[THEO]]-Tableau1[[#This Row],[Qtt 2éme lot]],\"-\")","v":"-"},"-",{"$f":"IF(Tableau1[[#This Row],[2éme lot]]=\"-\",\"-\",IFERROR(IF(Q555=\"\",\"-\",INDEX(I:I,MATCH(Q555,C:C,0)+1)),\"-\"))","v":"-"},"-","-"]
[987,"MD000569","DOPRIN 1MG/ML SUSP.BUV. FL/100ML","DOMPERIDONE","19DOP101","01.03.2021","MG/EXP1",126,"MG/EXP1-D-040",null,0,null,null,200,"GROUPE SANTE LABORATOIRE","-",null,{"$f":"SUMIF(Tableau1[Description article],Tableau1[Produits],Tableau1[Emplacement])","v":0},null,{"$f":"Sheet1!$S556-Sheet1!$R556","v":0},"-","-","-",{"$f":"IFERROR(Tableau1[[#This Row],[THEO]]-Tableau1[[#This Row],[Qtt 2éme lot]],\"-\")","v":"-"},"-",{"$f":"IF(Tableau1[[#This Row],[2éme lot]]=\"-\",\"-\",IFERROR(IF(Q556=\"\",\"-\",INDEX(I:I,MATCH(Q556,C:C,0)+1)),\"-\"))","v":"-"},"-","-"]
[988,"MD000570","DORAMINE 0,5MG/5ML SRP. FL/125ML","DEXCHLORPHENIRAMINE","0264","01.02.2022","MG/EXP1",95,"MG/EXP1-C-003",null,0,null,null,202,"PHARMAGHREB","-",null,{"$f":"SUMIF(Tableau1[Description article],Tableau1[Produits],Tableau1[Emplacement])","v":0},null,{"$f":"Sheet1!$S557-Sheet1!$R557","v":0},"-","-","-",{"$f":"IFERROR(Tableau1[[#This Row],[THEO]]-Tableau1[[#This Row],[Qtt 2éme lot]],\"-\")","v":"-"},"-",{"$f":"IF(Tableau1[[#This Row],[2éme lot]]=\"-\",\"-\",IFERROR(IF(Q557=\"\",\"-\",INDEX(I:I,MATCH(Q557,C:C,0)+1)),\"-\"))","v":"-"},"-","-"]
[990,"MD000574","DORMAZINE 0,04 SUSP.BUV.GTTES. FL/30ML","CHLORPROMAZINE","0006","01.01.2021","MG/EXP1",28,"MG/EXP1-BOX6-PSY-001",null,0,null,null,162.34,"GENERICLAB SARL","-",null,{"$f":"SUMIF(Tableau1[Description article],Tableau1[Produits],Tableau1[Emplacement])","v":0},null,{"$f":"Sheet1!$S558-Sheet1!$R558","v":0},"-","-","-",{"$f":"IFERROR(Tableau1[[#This Row],[THEO]]-Tableau1[[#This Row],[Qtt 2éme lot]],\"-\")","v":"-"},"-",{"$f":"IF(Tableau1[[#This Row],[2éme lot]]=\"-\",\"-\",IFERROR(IF(Q558=\"\",\"-\",INDEX(I:I,MATCH(Q558,C:C,0)+1)),\"-\"))","v":"-"},"-","-"]
[991,"MD000573","DORMAZINE 100MG DRG. B/30","CHLORPROMAZINE","190330*","30.06.2024","MG/EXP1",19,"MG/EXP1-BOX6-PSY-004",null,0,null,null,218.33,"GENERICLAB SARL","-",null,{"$f":"SUMIF(Tableau1[Description article],Tableau1[Produits],Tableau1[Emplacement])","v":0},null,{"$f":"Sheet1!$S559-Sheet1!$R559","v":0},"-","-","-",{"$f":"IFERROR(Tableau1[[#This Row],[THEO]]-Tableau1[[#This Row],[Qtt 2éme lot]],\"-\")","v":"-"},"-",{"$f":"IF(Tableau1[[#This Row],[2éme lot]]=\"-\",\"-\",IFERROR(IF(Q559=\"\",\"-\",INDEX(I:I,MATCH(Q559,C:C,0)+1)),\"-\"))","v":"-"},"-","-"]
[992,"PP00475","DORMINE 1MG COMP. B/60",null,"2661801","01.11.2020","MG/EXP1",35,"MG/EXP1-D-009",null,0,null,null,700,"BIOCARE SARL","-",null,{"$f":"SUMIF(Tableau1[Description article],Tableau1[Produits],Tableau1[Emplacement])","v":0},null,{"$f":"Sheet1!$S560-Sheet1!$R560","v":0},"-","-","-",{"$f":"IFERROR(Tableau1[[#This Row],[THEO]]-Tableau1[[#This Row],[Qtt 2éme lot]],\"-\")","v":"-"},"-",{"$f":"IF(Tableau1[[#This Row],[2éme lot]]=\"-\",\"-\",IFERROR(IF(Q560=\"\",\"-\",INDEX(I:I,MATCH(Q560,C:C,0)+1)),\"-\"))","v":"-"},"-","-"]
[993,"MD004050","DOTAREM 0.5 SOL INJ B/1 F/15ML(SANS TVA)","Acide gadotérique","19GD032B04","01.04.2022","MG/EXP1",8,"MG/EXP1-BOX6-010",null,0,null,"CHER",5550.41,"E.P.DIS EURAPHARMA SPA","-",null,{"$f":"SUMIF(Tableau1[Description article],Tableau1[Produits],Tableau1[Emplacement])","v":0},null,{"$f":"Sheet1!$S561-Sheet1!$R561","v":0},"-","-","-",{"$f":"IFERROR(Tableau1[[#This Row],[THEO]]-Tableau1[[#This Row],[Qtt 2éme lot]],\"-\")","v":"-"},"-",{"$f":"IF(Tableau1[[#This Row],[2éme lot]]=\"-\",\"-\",IFERROR(IF(Q561=\"\",\"-\",INDEX(I:I,MATCH(Q561,C:C,0)+1)),\"-\"))","v":"-"},"-","-"]
[996,"MD000578","DOTUR 100MG COMP.SEC. B/10","DOXYCYCLINE","JV3604","31.05.2021","MG/EXP1",707,"MG/EXP1-B-030",null,0,null,null,167.69,"SANDOZ SPA","-",null,{"$f":"SUMIF(Tableau1[Description article],Tableau1[Produits],Tableau1[Emplacement])","v":0},null,{"$f":"Sheet1!$S562-Sheet1!$R562","v":0},"-","-","-",{"$f":"IFERROR(Tableau1[[#This Row],[THEO]]-Tableau1[[#This Row],[Qtt 2éme lot]],\"-\")","v":"-"},"-",{"$f":"IF(Tableau1[[#This Row],[2éme lot]]=\"-\",\"-\",IFERROR(IF(Q562=\"\",\"-\",INDEX(I:I,MATCH(Q562,C:C,0)+1)),\"-\"))","v":"-"},"-","-"]
[997,"MD000579","DOUCE + 27G/20G PDE. T/40G","OXYDE DE ZINC","159","01.12.2022","MG/EXP1",500,"MG/EXP1-B-002",null,0,null,null,139.7,"PHARMAGHREB","-",null,{"$f":"SUMIF(Tableau1[Description article],Tableau1[Produits],Tableau1[Emplacement])","v":0},null,{"$f":"Sheet1!$S563-Sheet1!$R563","v":0},"-","-","-",{"$f":"IFERROR(Tableau1[[#This Row],[THEO]]-Tableau1[[#This Row],[Qtt 2éme lot]],\"-\")","v":"-"},"-",{"$f":"IF(Tableau1[[#This Row],[2éme lot]]=\"-\",\"-\",IFERROR(IF(Q563=\"\",\"-\",INDEX(I:I,MATCH(Q563,C:C,0)+1)),\"-\"))","v":"-"},"-","-"]
[1002,"MD000583","DOXYNUP 100MG COMP.DISPER. B/06","DOXYCYCLINE","010","01.02.2021","MG/EXP1",199,"MG/EXP1-E-044",null,0,null,null,116.5,"HUP.P PHARMA SARL","-",null,{"$f":"SUMIF(Tableau1[Description article],Tableau1[Produits],Tableau1[Emplacement])","v":0},null,{"$f":"Sheet1!$S564-Sheet1!$R564","v":0},"-","-","-",{"$f":"IFERROR(Tableau1[[#This Row],[THEO]]-Tableau1[[#This Row],[Qtt 2éme lot]],\"-\")","v":"-"},"-",{"$f":"IF(Tableau1[[#This Row],[2éme lot]]=\"-\",\"-\",IFERROR(IF(Q564=\"\",\"-\",INDEX(I:I,MATCH(Q564,C:C,0)+1)),\"-\"))","v":"-"},"-","-"]
[1003,"MD000584","DOZAX 20MG COMP.PELLI.SEC. B/30","PAROXETINE","020","01.10.2020","MG/EXP1",3,"MG/EXP1-BOX6-PSY-017",null,0,null,null,1617.5,"BIOPHARM SPA","-",null,{"$f":"SUMIF(Tableau1[Description article],Tableau1[Produits],Tableau1[Emplacement])","v":0},null,{"$f":"Sheet1!$S565-Sheet1!$R565","v":0},"-","-","-",{"$f":"IFERROR(Tableau1[[#This Row],[THEO]]-Tableau1[[#This Row],[Qtt 2éme lot]],\"-\")","v":"-"},"-",{"$f":"IF(Tableau1[[#This Row],[2éme lot]]=\"-\",\"-\",IFERROR(IF(Q565=\"\",\"-\",INDEX(I:I,MATCH(Q565,C:C,0)+1)),\"-\"))","v":"-"},"-","-"]
[1005,"MD000586","DROMAX 70MG COMP. B/04","ALENDRONATE","012","30.07.2022","MG/EXP1",544,"MG/EXP1-B-050",null,0,null,null,1757.5,"BIOPHARM SPA","-",null,{"$f":"SUMIF(Tableau1[Description article],Tableau1[Produits],Tableau1[Emplacement])","v":0},null,{"$f":"Sheet1!$S566-Sheet1!$R566","v":0},"-","-","-",{"$f":"IFERROR(Tableau1[[#This Row],[THEO]]-Tableau1[[#This Row],[Qtt 2éme lot]],\"-\")","v":"-"},"-",{"$f":"IF(Tableau1[[#This Row],[2éme lot]]=\"-\",\"-\",IFERROR(IF(Q566=\"\",\"-\",INDEX(I:I,MATCH(Q566,C:C,0)+1)),\"-\"))","v":"-"},"-","-"]
[1006,"MD000586","DROMAX 70MG COMP. B/04","ALENDRONATE","840","01.07.2022","MG/EXP1",1,"MG/EXP1-B-051",null,0,null,null,1757.5,"BIOPHARM SPA","-",null,{"$f":"SUMIF(Tableau1[Description article],Tableau1[Produits],Tableau1[Emplacement])","v":0},null,{"$f":"Sheet1!$S567-Sheet1!$R567","v":0},"-","-","-",{"$f":"IFERROR(Tableau1[[#This Row],[THEO]]-Tableau1[[#This Row],[Qtt 2éme lot]],\"-\")","v":"-"},"-",{"$f":"IF(Tableau1[[#This Row],[2éme lot]]=\"-\",\"-\",IFERROR(IF(Q567=\"\",\"-\",INDEX(I:I,MATCH(Q567,C:C,0)+1)),\"-\"))","v":"-"},"-","-"]
[1007,"MD000587","DUDREX 5MG/50MG COMP.SEC. B/30","AMILORIDE 5 / HYDROCHLORTHIAZIDE50","051","30.03.2022","MG/EXP1",325,"MG/EXP1-A-035",null,0,null,null,203,"GENERICLAB SARL","-",null,{"$f":"SUMIF(Tableau1[Description article],Tableau1[Produits],Tableau1[Emplacement])","v":0},null,{"$f":"Sheet1!$S568-Sheet1!$R568","v":0},"-","-","-",{"$f":"IFERROR(Tableau1[[#This Row],[THEO]]-Tableau1[[#This Row],[Qtt 2éme lot]],\"-\")","v":"-"},"-",{"$f":"IF(Tableau1[[#This Row],[2éme lot]]=\"-\",\"-\",IFERROR(IF(Q568=\"\",\"-\",INDEX(I:I,MATCH(Q568,C:C,0)+1)),\"-\"))","v":"-"},"-","-"]
[1013,"MD000590","DUPHASTON 10MG COMP.PELLI. B/10","DYDROGESTERONE","359544*","01.04.2024","MG/EXP1",195,"MG/EXP1-G-012",null,0,null,null,350.27,"BIOPHARM SPA","-",null,{"$f":"SUMIF(Tableau1[Description article],Tableau1[Produits],Tableau1[Emplacement])","v":0},null,{"$f":"Sheet1!$S569-Sheet1!$R569","v":0},"-","-","-",{"$f":"IFERROR(Tableau1[[#This Row],[THEO]]-Tableau1[[#This Row],[Qtt 2éme lot]],\"-\")","v":"-"},"-",{"$f":"IF(Tableau1[[#This Row],[2éme lot]]=\"-\",\"-\",IFERROR(IF(Q569=\"\",\"-\",INDEX(I:I,MATCH(Q569,C:C,0)+1)),\"-\"))","v":"-"},"-","-"]
[1015,"MD000591","DURRAX 2MG/ML SRP. FL/100ML","HYDROXYZINE DICHLORHYDRATE","1837/20*","01.08.2021","MG/EXP1",5,"MG/EXP1-B-039",null,0,null,null,200,"GROUPE SANTE LABORATOIRE","-",null,{"$f":"SUMIF(Tableau1[Description article],Tableau1[Produits],Tableau1[Emplacement])","v":0},null,{"$f":"Sheet1!$S570-Sheet1!$R570","v":0},"-","-","-",{"$f":"IFERROR(Tableau1[[#This Row],[THEO]]-Tableau1[[#This Row],[Qtt 2éme lot]],\"-\")","v":"-"},"-",{"$f":"IF(Tableau1[[#This Row],[2éme lot]]=\"-\",\"-\",IFERROR(IF(Q570=\"\",\"-\",INDEX(I:I,MATCH(Q570,C:C,0)+1)),\"-\"))","v":"-"},"-","-"]
[1016,"MD000591","DURRAX 2MG/ML SRP. FL/100ML","HYDROXYZINE DICHLORHYDRATE","1837/20**","01.08.2021","MG/EXP1",90,"MG/EXP1-B-039",null,0,null,null,200,"GROUPE SANTE LABORATOIRE","-",null,{"$f":"SUMIF(Tableau1[Description article],Tableau1[Produits],Tableau1[Emplacement])","v":0},null,{"$f":"Sheet1!$S571-Sheet1!$R571","v":0},"-","-","-",{"$f":"IFERROR(Tableau1[[#This Row],[THEO]]-Tableau1[[#This Row],[Qtt 2éme lot]],\"-\")","v":"-"},"-",{"$f":"IF(Tableau1[[#This Row],[2éme lot]]=\"-\",\"-\",IFERROR(IF(Q571=\"\",\"-\",INDEX(I:I,MATCH(Q571,C:C,0)+1)),\"-\"))","v":"-"},"-","-"]
[1018,"MD000593","DUSPAVERINE 100MG GLES. A MICROGRAN.GASTRORESIST B/30","MEBEVERINE","028","01.01.2021","MG/EXP1",27,"MG/EXP1-F-026",null,0,null,null,215.7,"PROVIVO SPA","-",null,{"$f":"SUMIF(Tableau1[Description article],Tableau1[Produits],Tableau1[Emplacement])","v":0},null,{"$f":"Sheet1!$S572-Sheet1!$R572","v":0},"-","-","-",{"$f":"IFERROR(Tableau1[[#This Row],[THEO]]-Tableau1[[#This Row],[Qtt 2éme lot]],\"-\")","v":"-"},"-",{"$f":"IF(Tableau1[[#This Row],[2éme lot]]=\"-\",\"-\",IFERROR(IF(Q572=\"\",\"-\",INDEX(I:I,MATCH(Q572,C:C,0)+1)),\"-\"))","v":"-"},"-","-"]
[1019,"MD000594","DUSPAVERINE 200MG GLES. A MICROGRAN.LP. B/30","MEBEVERINE","060","01.01.2022","MG/EXP1",124,"MG/EXP1-E-018",null,0,null,null,306.24,"PROVIVO SPA","-",null,{"$f":"SUMIF(Tableau1[Description article],Tableau1[Produits],Tableau1[Emplacement])","v":0},null,{"$f":"Sheet1!$S573-Sheet1!$R573","v":0},"-","-","-",{"$f":"IFERROR(Tableau1[[#This Row],[THEO]]-Tableau1[[#This Row],[Qtt 2éme lot]],\"-\")","v":"-"},"-",{"$f":"IF(Tableau1[[#This Row],[2éme lot]]=\"-\",\"-\",IFERROR(IF(Q573=\"\",\"-\",INDEX(I:I,MATCH(Q573,C:C,0)+1)),\"-\"))","v":"-"},"-","-"]
[1020,"MD003927","EBASTA.Comp.orodisp.10mg.Bte/10","EBASTINE","M96013R","01.07.2021","MG/EXP1",319,"MG/EXP1-G-043",null,0,null,null,234.96,"MERINAL LABORATOIRES","-",null,{"$f":"SUMIF(Tableau1[Description article],Tableau1[Produits],Tableau1[Emplacement])","v":0},null,{"$f":"Sheet1!$S574-Sheet1!$R574","v":0},"-","-","-",{"$f":"IFERROR(Tableau1[[#This Row],[THEO]]-Tableau1[[#This Row],[Qtt 2éme lot]],\"-\")","v":"-"},"-",{"$f":"IF(Tableau1[[#This Row],[2éme lot]]=\"-\",\"-\",IFERROR(IF(Q574=\"\",\"-\",INDEX(I:I,MATCH(Q574,C:C,0)+1)),\"-\"))","v":"-"},"-","-"]
[1021,"MD003928","EBASTA.Comp.orodisp.10mg.Bte/30","EBASTINE","M96014R","31.07.2021","MG/EXP1",275,"MG/EXP1-A-020",null,0,null,null,691.68,"MERINAL LABORATOIRES","-",null,{"$f":"SUMIF(Tableau1[Description article],Tableau1[Produits],Tableau1[Emplacement])","v":0},null,{"$f":"Sheet1!$S575-Sheet1!$R575","v":0},"-","-","-",{"$f":"IFERROR(Tableau1[[#This Row],[THEO]]-Tableau1[[#This Row],[Qtt 2éme lot]],\"-\")","v":"-"},"-",{"$f":"IF(Tableau1[[#This Row],[2éme lot]]=\"-\",\"-\",IFERROR(IF(Q575=\"\",\"-\",INDEX(I:I,MATCH(Q575,C:C,0)+1)),\"-\"))","v":"-"},"-","-"]
[1022,"MD003928","EBASTA.Comp.orodisp.10mg.Bte/30","EBASTINE","M96011R","30.06.2021","MG/EXP1",19,"MG/EXP1-A-019",null,0,null,null,691.68,"MERINAL LABORATOIRES","-",null,{"$f":"SUMIF(Tableau1[Description article],Tableau1[Produits],Tableau1[Emplacement])","v":0},null,{"$f":"Sheet1!$S576-Sheet1!$R576","v":0},"-","-","-",{"$f":"IFERROR(Tableau1[[#This Row],[THEO]]-Tableau1[[#This Row],[Qtt 2éme lot]],\"-\")","v":"-"},"-",{"$f":"IF(Tableau1[[#This Row],[2éme lot]]=\"-\",\"-\",IFERROR(IF(Q576=\"\",\"-\",INDEX(I:I,MATCH(Q576,C:C,0)+1)),\"-\"))","v":"-"},"-","-"]
[1023,"MD004035","ECAZIDE 50MG/25MG COMP. B/30","CAPTOPRIL / HYDROCHLOROTHIAZIDE","03021","01.06.2021","MG/EXP1",153,"MG/EXP1-G-021",null,0,null,null,543.98,"UPC SARL","-",null,{"$f":"SUMIF(Tableau1[Description article],Tableau1[Produits],Tableau1[Emplacement])","v":0},null,{"$f":"Sheet1!$S577-Sheet1!$R577","v":0},"-","-","-",{"$f":"IFERROR(Tableau1[[#This Row],[THEO]]-Tableau1[[#This Row],[Qtt 2éme lot]],\"-\")","v":"-"},"-",{"$f":"IF(Tableau1[[#This Row],[2éme lot]]=\"-\",\"-\",IFERROR(IF(Q577=\"\",\"-\",INDEX(I:I,MATCH(Q577,C:C,0)+1)),\"-\"))","v":"-"},"-","-"]
[1024,"MD004035","ECAZIDE 50MG/25MG COMP. B/30","CAPTOPRIL / HYDROCHLOROTHIAZIDE","02321","01.05.2021","MG/EXP1",35,"MG/EXP1-G-027",null,0,null,null,543.98,"UPC SARL",{"$f":"IFERROR(IF(Q578=\"\",\"-\",INDEX(I:I,MATCH(Q578,C:C,0))),\"-\")","v":"-"},null,{"$f":"SUMIF(Tableau1[Description article],Tableau1[Produits],Tableau1[Emplacement])","v":0},null,{"$f":"Sheet1!$S578-Sheet1!$R578","v":0},{"$f":"IFERROR(IF(Q578=\"\",\"-\",INDEX(F:F,MATCH(Q578,C:C,0))),\"-\")","v":"-"},{"$f":"IFERROR(IF(Q578=\"\",\"-\",INDEX(E:E,MATCH(Q578,C:C,0))),\"-\")","v":"-"},{"$f":"IFERROR(IF(Q578=\"\",\"-\",INDEX(N:N,MATCH(Q578,C:C,0))),\"-\")","v":"-"},{"$f":"IFERROR(Tableau1[[#This Row],[THEO]]-Tableau1[[#This Row],[Qtt 2éme lot]],\"-\")","v":"-"},{"$f":"IF(IF(Q578=\"\",\"-\",INDEX(E:E,MATCH(Q578,C:C,0)))=IF(Q578=\"\",\"-\",INDEX(E:E,MATCH(Q578,C:C,1))),\"-\",IF(Q578=\"\",\"-\",INDEX(E:E,MATCH(Q578,C:C,1))))","v":"-"},{"$f":"IF(Tableau1[[#This Row],[2éme lot]]=\"-\",\"-\",IFERROR(IF(Q578=\"\",\"-\",INDEX(I:I,MATCH(Q578,C:C,0)+1)),\"-\"))","v":"-"},{"$f":"IFERROR(IF(Y578=\"\",\"-\",INDEX(N:N,MATCH(Y578,E:E,0))),\"-\")","v":"-"},{"$f":"IFERROR(IF(AA578=\"\",\"-\",INDEX(H:H,MATCH(Y578,E:E,0))),\"-\")","v":"-"}]
[1025,"MD000599","ECONAZYL 1% 0,01 CR.DERM. T/30G","ECONAZOLE","015","01.04.2021","MG/EXP1",59,"MG/EXP1-E-034",null,0,null,null,164.32,"PHARMAGHREB","-",null,{"$f":"SUMIF(Tableau1[Description article],Tableau1[Produits],Tableau1[Emplacement])","v":0},null,{"$f":"Sheet1!$S579-Sheet1!$R579","v":0},"-","-","-",{"$f":"IFERROR(Tableau1[[#This Row],[THEO]]-Tableau1[[#This Row],[Qtt 2éme lot]],\"-\")","v":"-"},"-",{"$f":"IF(Tableau1[[#This Row],[2éme lot]]=\"-\",\"-\",IFERROR(IF(Q579=\"\",\"-\",INDEX(I:I,MATCH(Q579,C:C,0)+1)),\"-\"))","v":"-"},"-","-"]
[1026,"MD000600","ECOVAR 150MG OVULES GYNECO. B/03","ECONAZOL NITRATE","9V328","01.05.2022","MG/EXP1",66,"MG/EXP1-A-065",null,0,null,null,250,"SALEM LABORATOIRES SARL","-",null,{"$f":"SUMIF(Tableau1[Description article],Tableau1[Produits],Tableau1[Emplacement])","v":0},null,{"$f":"Sheet1!$S580-Sheet1!$R580","v":0},"-","-","-",{"$f":"IFERROR(Tableau1[[#This Row],[THEO]]-Tableau1[[#This Row],[Qtt 2éme lot]],\"-\")","v":"-"},"-",{"$f":"IF(Tableau1[[#This Row],[2éme lot]]=\"-\",\"-\",IFERROR(IF(Q580=\"\",\"-\",INDEX(I:I,MATCH(Q580,C:C,0)+1)),\"-\"))","v":"-"},"-","-"]
[1029,"MD000600","ECOVAR 150MG OVULES GYNECO. B/03","ECONAZOL NITRATE","9V324","28.04.2022","MG/EXP1",3,"MG/EXP1-A-060",null,0,null,null,250,"SALEM LABORATOIRES SARL","-",null,{"$f":"SUMIF(Tableau1[Description article],Tableau1[Produits],Tableau1[Emplacement])","v":0},null,{"$f":"Sheet1!$S581-Sheet1!$R581","v":0},"-","-","-",{"$f":"IFERROR(Tableau1[[#This Row],[THEO]]-Tableau1[[#This Row],[Qtt 2éme lot]],\"-\")","v":"-"},"-",{"$f":"IF(Tableau1[[#This Row],[2éme lot]]=\"-\",\"-\",IFERROR(IF(Q581=\"\",\"-\",INDEX(I:I,MATCH(Q581,C:C,0)+1)),\"-\"))","v":"-"},"-","-"]
[1030,"MD000601","ECOVAR LP 150MG OVULE GYNECO. LP. B/01","ECONAZOL NITRATE","9V483","01.08.2022","MG/EXP1",149,"MG/EXP1-C-033",null,0,null,null,350,"SALEM LABORATOIRES SARL","-",null,{"$f":"SUMIF(Tableau1[Description article],Tableau1[Produits],Tableau1[Emplacement])","v":0},null,{"$f":"Sheet1!$S582-Sheet1!$R582","v":0},"-","-","-",{"$f":"IFERROR(Tableau1[[#This Row],[THEO]]-Tableau1[[#This Row],[Qtt 2éme lot]],\"-\")","v":"-"},"-",{"$f":"IF(Tableau1[[#This Row],[2éme lot]]=\"-\",\"-\",IFERROR(IF(Q582=\"\",\"-\",INDEX(I:I,MATCH(Q582,C:C,0)+1)),\"-\"))","v":"-"},"-","-"]
[1031,"MD002285","EFFERALGAN 1G COMP.EFF. B/08","PARACETAMOL","V9025","01.10.2020","MG/EXP1",365,"MG/EXP1-A-054",null,0,null,null,129.72,"PROPHARMAL SPA","-",null,{"$f":"SUMIF(Tableau1[Description article],Tableau1[Produits],Tableau1[Emplacement])","v":0},null,{"$f":"Sheet1!$S583-Sheet1!$R583","v":0},"-","-","-",{"$f":"IFERROR(Tableau1[[#This Row],[THEO]]-Tableau1[[#This Row],[Qtt 2éme lot]],\"-\")","v":"-"},"-",{"$f":"IF(Tableau1[[#This Row],[2éme lot]]=\"-\",\"-\",IFERROR(IF(Q583=\"\",\"-\",INDEX(I:I,MATCH(Q583,C:C,0)+1)),\"-\"))","v":"-"},"-","-"]
[1034,"MD004180","EFFERALGAN PEDIATRIQUE 0,03 SOL.BUV. FL/150","PARACETAMOL","AB9036","01.11.2022","MG/EXP1",445,"MG/EXP1-H-005",null,0,null,null,182,"PROPHARMAL SPA","-",null,{"$f":"SUMIF(Tableau1[Description article],Tableau1[Produits],Tableau1[Emplacement])","v":0},null,{"$f":"Sheet1!$S584-Sheet1!$R584","v":0},"-","-","-",{"$f":"IFERROR(Tableau1[[#This Row],[THEO]]-Tableau1[[#This Row],[Qtt 2éme lot]],\"-\")","v":"-"},"-",{"$f":"IF(Tableau1[[#This Row],[2éme lot]]=\"-\",\"-\",IFERROR(IF(Q584=\"\",\"-\",INDEX(I:I,MATCH(Q584,C:C,0)+1)),\"-\"))","v":"-"},"-","-"]
[1036,"MD000603","EFFERALGAN PEDIATRIQUE 0,03 SOL.BUV. FL/90ML","PARACETAMOL","AA9068","01.12.2022","MG/EXP1",760,"MG/EXP1-H-001",null,0,null,null,129.79,"PROPHARMAL SPA","-",null,{"$f":"SUMIF(Tableau1[Description article],Tableau1[Produits],Tableau1[Emplacement])","v":0},null,{"$f":"Sheet1!$S585-Sheet1!$R585","v":0},"-","-","-",{"$f":"IFERROR(Tableau1[[#This Row],[THEO]]-Tableau1[[#This Row],[Qtt 2éme lot]],\"-\")","v":"-"},"-",{"$f":"IF(Tableau1[[#This Row],[2éme lot]]=\"-\",\"-\",IFERROR(IF(Q585=\"\",\"-\",INDEX(I:I,MATCH(Q585,C:C,0)+1)),\"-\"))","v":"-"},"-","-"]
[1037,"MD000603","EFFERALGAN PEDIATRIQUE 0,03 SOL.BUV. FL/90ML","PARACETAMOL","AA9064","01.12.2022","MG/EXP1",163,"MG/EXP1-H-001",null,0,null,null,129.79,"PROPHARMAL SPA","-",null,{"$f":"SUMIF(Tableau1[Description article],Tableau1[Produits],Tableau1[Emplacement])","v":0},null,{"$f":"Sheet1!$S586-Sheet1!$R586","v":0},"-","-","-",{"$f":"IFERROR(Tableau1[[#This Row],[THEO]]-Tableau1[[#This Row],[Qtt 2éme lot]],\"-\")","v":"-"},"-",{"$f":"IF(Tableau1[[#This Row],[2éme lot]]=\"-\",\"-\",IFERROR(IF(Q586=\"\",\"-\",INDEX(I:I,MATCH(Q586,C:C,0)+1)),\"-\"))","v":"-"},"-","-"]
[1039,"MD000604","EFFERALGAN VITAMINE C 500MG/200MG COMP.EFF. B/16","PARACETAMOL","R9092","01.02.2022","MG/EXP1",640,"MG/EXP1-C-015",null,0,null,null,182,"PROPHARMAL SPA","-",null,{"$f":"SUMIF(Tableau1[Description article],Tableau1[Produits],Tableau1[Emplacement])","v":0},null,{"$f":"Sheet1!$S587-Sheet1!$R587","v":0},"-","-","-",{"$f":"IFERROR(Tableau1[[#This Row],[THEO]]-Tableau1[[#This Row],[Qtt 2éme lot]],\"-\")","v":"-"},"-",{"$f":"IF(Tableau1[[#This Row],[2éme lot]]=\"-\",\"-\",IFERROR(IF(Q587=\"\",\"-\",INDEX(I:I,MATCH(Q587,C:C,0)+1)),\"-\"))","v":"-"},"-","-"]
[1041,"MD000609","EMIDIUM HUP 10MG COMP. B/30","DOMPERIDONE","026","01.09.2020","MG/EXP1",314,"MG/EXP1-D-066",null,0,null,null,198.13,"HUP.P PHARMA SARL","-",null,{"$f":"SUMIF(Tableau1[Description article],Tableau1[Produits],Tableau1[Emplacement])","v":0},null,{"$f":"Sheet1!$S588-Sheet1!$R588","v":0},"-","-","-",{"$f":"IFERROR(Tableau1[[#This Row],[THEO]]-Tableau1[[#This Row],[Qtt 2éme lot]],\"-\")","v":"-"},"-",{"$f":"IF(Tableau1[[#This Row],[2éme lot]]=\"-\",\"-\",IFERROR(IF(Q588=\"\",\"-\",INDEX(I:I,MATCH(Q588,C:C,0)+1)),\"-\"))","v":"-"},"-","-"]
[1042,"MD000610","ENANTONE LP 11,25MG 5,625MG/ML MICROSPHERES &SOL.P.USAGE PARENT.SC.\\IM.LP. B/1FL.PDRE.&SLV/2ML+1SRG.","LEUPRORELINE","G180813/G180818","01.12.2020","MG/EXP1",9,"MG/EXP1-BOX6",null,0,null,"GLAC",43907.74,"BIOPHARM SPA","-",null,{"$f":"SUMIF(Tableau1[Description article],Tableau1[Produits],Tableau1[Emplacement])","v":0},null,{"$f":"Sheet1!$S589-Sheet1!$R589","v":0},"-","-","-",{"$f":"IFERROR(Tableau1[[#This Row],[THEO]]-Tableau1[[#This Row],[Qtt 2éme lot]],\"-\")","v":"-"},"-",{"$f":"IF(Tableau1[[#This Row],[2éme lot]]=\"-\",\"-\",IFERROR(IF(Q589=\"\",\"-\",INDEX(I:I,MATCH(Q589,C:C,0)+1)),\"-\"))","v":"-"},"-","-"]
[1043,"MD000611","ENANTONE LP 3,75MG 1,875 MG/ML PDRE.& SOLV.P.SUSP.INJ.SC.\\IM.LP. B/01 FL.PDRE.&SOLV/2ML+01SERING.","LEUPRORELINE","G180814/G180819","01.11.2020","MG/EXP1",7,"MG/EXP1-BOX6",null,0,null,"GLAC",16684.93,"BIOPHARM SPA","-",null,{"$f":"SUMIF(Tableau1[Description article],Tableau1[Produits],Tableau1[Emplacement])","v":0},null,{"$f":"Sheet1!$S590-Sheet1!$R590","v":0},"-","-","-",{"$f":"IFERROR(Tableau1[[#This Row],[THEO]]-Tableau1[[#This Row],[Qtt 2éme lot]],\"-\")","v":"-"},"-",{"$f":"IF(Tableau1[[#This Row],[2éme lot]]=\"-\",\"-\",IFERROR(IF(Q590=\"\",\"-\",INDEX(I:I,MATCH(Q590,C:C,0)+1)),\"-\"))","v":"-"},"-","-"]
[1046,"MD000613","ENCOFLUIDE ADULTE 0,25G/0,01G/2G/0,2G/1G/0,048G/100ML SOL.BUV. FL/180ML","TERPINE EUCALYPTOL","FA110719","01.07.2022","MG/EXP1",142,"MG/EXP1-B-072",null,0,null,null,183,"SAIDAL UNITE CENTRE","-",null,{"$f":"SUMIF(Tableau1[Description article],Tableau1[Produits],Tableau1[Emplacement])","v":0},null,{"$f":"Sheet1!$S591-Sheet1!$R591","v":0},"-","-","-",{"$f":"IFERROR(Tableau1[[#This Row],[THEO]]-Tableau1[[#This Row],[Qtt 2éme lot]],\"-\")","v":"-"},"-",{"$f":"IF(Tableau1[[#This Row],[2éme lot]]=\"-\",\"-\",IFERROR(IF(Q591=\"\",\"-\",INDEX(I:I,MATCH(Q591,C:C,0)+1)),\"-\"))","v":"-"},"-","-"]
[1048,"MD000616","ENERMAG 1,5G/10ML SOL.BUV. B/20 AMP.","PIDOLATE DE MAGNESIUM","221","01.12.2022","MG/EXP1",36,"MG/EXP1-G-019",null,0,null,null,320,"SAIDAL UNITE CENTRE","-",null,{"$f":"SUMIF(Tableau1[Description article],Tableau1[Produits],Tableau1[Emplacement])","v":0},null,{"$f":"Sheet1!$S592-Sheet1!$R592","v":0},"-","-","-",{"$f":"IFERROR(Tableau1[[#This Row],[THEO]]-Tableau1[[#This Row],[Qtt 2éme lot]],\"-\")","v":"-"},"-",{"$f":"IF(Tableau1[[#This Row],[2éme lot]]=\"-\",\"-\",IFERROR(IF(Q592=\"\",\"-\",INDEX(I:I,MATCH(Q592,C:C,0)+1)),\"-\"))","v":"-"},"-","-"]
[1049,"MD000617","EPILEPTAM 250MG COMP.PELLI. B/60","LEVETIRACETAM","001/18","30.09.2020","MG/EXP1",76,"MG/EXP1-BOX6-PSY-017",null,0,null,"PSY",1692.02,"PHARMALLIANCE EURL","-",null,{"$f":"SUMIF(Tableau1[Description article],Tableau1[Produits],Tableau1[Emplacement])","v":0},null,{"$f":"Sheet1!$S593-Sheet1!$R593","v":0},"-","-","-",{"$f":"IFERROR(Tableau1[[#This Row],[THEO]]-Tableau1[[#This Row],[Qtt 2éme lot]],\"-\")","v":"-"},"-",{"$f":"IF(Tableau1[[#This Row],[2éme lot]]=\"-\",\"-\",IFERROR(IF(Q593=\"\",\"-\",INDEX(I:I,MATCH(Q593,C:C,0)+1)),\"-\"))","v":"-"},"-","-"]
[1051,"MD000622","ERIXIUM 20MG COMP.PELLI. B/04","TADALAFIL","190481","01.02.2022","MG/EXP1",173,"MG/EXP1-BOX6-004",null,0,null,null,995.5,"EL KENDI INDUSTRIE DE MEDICAMENTS SPA","-",null,{"$f":"SUMIF(Tableau1[Description article],Tableau1[Produits],Tableau1[Emplacement])","v":0},null,{"$f":"Sheet1!$S594-Sheet1!$R594","v":0},"-","-","-",{"$f":"IFERROR(Tableau1[[#This Row],[THEO]]-Tableau1[[#This Row],[Qtt 2éme lot]],\"-\")","v":"-"},"-",{"$f":"IF(Tableau1[[#This Row],[2éme lot]]=\"-\",\"-\",IFERROR(IF(Q594=\"\",\"-\",INDEX(I:I,MATCH(Q594,C:C,0)+1)),\"-\"))","v":"-"},"-","-"]
[1052,"MD000623","ERYBESAN 200MG/5ML GRAN.P.SUSP.BUV. FL/60 ML","ERYTROMYCINE","JU9599","30.04.2022","MG/EXP1",39,"MG/EXP1-C-016",null,0,null,null,264,"SANDOZ SPA","-",null,{"$f":"SUMIF(Tableau1[Description article],Tableau1[Produits],Tableau1[Emplacement])","v":0},null,{"$f":"Sheet1!$S595-Sheet1!$R595","v":0},"-","-","-",{"$f":"IFERROR(Tableau1[[#This Row],[THEO]]-Tableau1[[#This Row],[Qtt 2éme lot]],\"-\")","v":"-"},"-",{"$f":"IF(Tableau1[[#This Row],[2éme lot]]=\"-\",\"-\",IFERROR(IF(Q595=\"\",\"-\",INDEX(I:I,MATCH(Q595,C:C,0)+1)),\"-\"))","v":"-"},"-","-"]
[1053,"MD000625","ESCITALOPRAM BEKER 10MG COMP.PELLI. B/28","ESCITALOPRAM","113619","01.12.2021","MG/EXP1",511,"MG/EXP1-BOX6-PSY-017",null,0,null,null,362.34,"BEKER LABORATOIRES","-",null,{"$f":"SUMIF(Tableau1[Description article],Tableau1[Produits],Tableau1[Emplacement])","v":0},null,{"$f":"Sheet1!$S596-Sheet1!$R596","v":0},"-","-","-",{"$f":"IFERROR(Tableau1[[#This Row],[THEO]]-Tableau1[[#This Row],[Qtt 2éme lot]],\"-\")","v":"-"},"-",{"$f":"IF(Tableau1[[#This Row],[2éme lot]]=\"-\",\"-\",IFERROR(IF(Q596=\"\",\"-\",INDEX(I:I,MATCH(Q596,C:C,0)+1)),\"-\"))","v":"-"},"-","-"]
[1054,"MD000627","ESCITOL 20MG COMP. B/28","ESCITALOPRAM","002","01.08.2021","MG/EXP1",23,"MG/EXP1-BOX6-PSY-017",null,0,null,null,662.27,"ABDI IBRAHIM REMED PHARMA SPA","-",null,{"$f":"SUMIF(Tableau1[Description article],Tableau1[Produits],Tableau1[Emplacement])","v":0},null,{"$f":"Sheet1!$S597-Sheet1!$R597","v":0},"-","-","-",{"$f":"IFERROR(Tableau1[[#This Row],[THEO]]-Tableau1[[#This Row],[Qtt 2éme lot]],\"-\")","v":"-"},"-",{"$f":"IF(Tableau1[[#This Row],[2éme lot]]=\"-\",\"-\",IFERROR(IF(Q597=\"\",\"-\",INDEX(I:I,MATCH(Q597,C:C,0)+1)),\"-\"))","v":"-"},"-","-"]
[1055,"MD000630","ESORAL 20MG GLES. A MICROGRAN.GASTRORESIST B/28","ESOMEPRAZOLE","8633","31.08.2020","MG/EXP1",57,"MG/EXP1-C-055",null,0,null,null,978.5,"INPHA MEDIS SPA","-",null,{"$f":"SUMIF(Tableau1[Description article],Tableau1[Produits],Tableau1[Emplacement])","v":0},null,{"$f":"Sheet1!$S598-Sheet1!$R598","v":0},"-","-","-",{"$f":"IFERROR(Tableau1[[#This Row],[THEO]]-Tableau1[[#This Row],[Qtt 2éme lot]],\"-\")","v":"-"},"-",{"$f":"IF(Tableau1[[#This Row],[2éme lot]]=\"-\",\"-\",IFERROR(IF(Q598=\"\",\"-\",INDEX(I:I,MATCH(Q598,C:C,0)+1)),\"-\"))","v":"-"},"-","-"]
[1056,"MD000633","ETACID 0.05% SPRAY NASAL .F/140 DOSES","MOMETASONE FUROATE ANHYDRE","90500740","01.04.2022","MG/EXP1",350,"MG/EXP1-F-016",null,0,null,null,775.13,"GB PHARMA SARL","-",null,{"$f":"SUMIF(Tableau1[Description article],Tableau1[Produits],Tableau1[Emplacement])","v":0},null,{"$f":"Sheet1!$S599-Sheet1!$R599","v":0},"-","-","-",{"$f":"IFERROR(Tableau1[[#This Row],[THEO]]-Tableau1[[#This Row],[Qtt 2éme lot]],\"-\")","v":"-"},"-",{"$f":"IF(Tableau1[[#This Row],[2éme lot]]=\"-\",\"-\",IFERROR(IF(Q599=\"\",\"-\",INDEX(I:I,MATCH(Q599,C:C,0)+1)),\"-\"))","v":"-"},"-","-"]
[1059,"MD000635","EUFOR 80 MG COMP.ORODISPERS.B/10","PHLOROGLUCINOL","001/19","01.04.2021","MG/EXP1",10,"MG/EXP1-F-009",null,0,null,null,182,"PHARMALLIANCE EURL","-",null,{"$f":"SUMIF(Tableau1[Description article],Tableau1[Produits],Tableau1[Emplacement])","v":0},null,{"$f":"Sheet1!$S600-Sheet1!$R600","v":0},"-","-","-",{"$f":"IFERROR(Tableau1[[#This Row],[THEO]]-Tableau1[[#This Row],[Qtt 2éme lot]],\"-\")","v":"-"},"-",{"$f":"IF(Tableau1[[#This Row],[2éme lot]]=\"-\",\"-\",IFERROR(IF(Q600=\"\",\"-\",INDEX(I:I,MATCH(Q600,C:C,0)+1)),\"-\"))","v":"-"},"-","-"]
[1061,"MD004119","EUFOR 80 MG COMP.ORODISPERS.B/30","PHLOROGLUCINOL","004/19","01.07.2021","MG/EXP1",12,"MG/EXP1-BOX6-004",null,0,null,null,488.4,"PHARMALLIANCE EURL","-",null,{"$f":"SUMIF(Tableau1[Description article],Tableau1[Produits],Tableau1[Emplacement])","v":0},null,{"$f":"Sheet1!$S601-Sheet1!$R601","v":0},"-","-","-",{"$f":"IFERROR(Tableau1[[#This Row],[THEO]]-Tableau1[[#This Row],[Qtt 2éme lot]],\"-\")","v":"-"},"-",{"$f":"IF(Tableau1[[#This Row],[2éme lot]]=\"-\",\"-\",IFERROR(IF(Q601=\"\",\"-\",INDEX(I:I,MATCH(Q601,C:C,0)+1)),\"-\"))","v":"-"},"-","-"]
[1062,"MD004119","EUFOR 80 MG COMP.ORODISPERS.B/30","PHLOROGLUCINOL","003/19","01.06.2021","MG/EXP1",11,"MG/EXP1-BOX6-004",null,0,null,null,488.4,"PHARMALLIANCE EURL","-",null,{"$f":"SUMIF(Tableau1[Description article],Tableau1[Produits],Tableau1[Emplacement])","v":0},null,{"$f":"Sheet1!$S602-Sheet1!$R602","v":0},"-","-","-",{"$f":"IFERROR(Tableau1[[#This Row],[THEO]]-Tableau1[[#This Row],[Qtt 2éme lot]],\"-\")","v":"-"},"-",{"$f":"IF(Tableau1[[#This Row],[2éme lot]]=\"-\",\"-\",IFERROR(IF(Q602=\"\",\"-\",INDEX(I:I,MATCH(Q602,C:C,0)+1)),\"-\"))","v":"-"},"-","-"]
[1063,"MD004118","EUFOR 80 MG COMP.PELL.B/10","PHLOROGLUCINOL","004/19","01.11.2021","MG/EXP1",152,"MG/EXP1-A-037",null,0,null,null,140,"PHARMALLIANCE EURL","-",null,{"$f":"SUMIF(Tableau1[Description article],Tableau1[Produits],Tableau1[Emplacement])","v":0},null,{"$f":"Sheet1!$S603-Sheet1!$R603","v":0},"-","-","-",{"$f":"IFERROR(Tableau1[[#This Row],[THEO]]-Tableau1[[#This Row],[Qtt 2éme lot]],\"-\")","v":"-"},"-",{"$f":"IF(Tableau1[[#This Row],[2éme lot]]=\"-\",\"-\",IFERROR(IF(Q603=\"\",\"-\",INDEX(I:I,MATCH(Q603,C:C,0)+1)),\"-\"))","v":"-"},"-","-"]
[1064,"MD004120","EUFOR 80 MG COMP.PELL.B/30","PHLOROGLUCINOL","005/18","29.12.2020","MG/EXP1",104,"MG/EXP1-G-030",null,0,null,null,335.94,"PHARMALLIANCE EURL","-",null,{"$f":"SUMIF(Tableau1[Description article],Tableau1[Produits],Tableau1[Emplacement])","v":0},null,{"$f":"Sheet1!$S604-Sheet1!$R604","v":0},"-","-","-",{"$f":"IFERROR(Tableau1[[#This Row],[THEO]]-Tableau1[[#This Row],[Qtt 2éme lot]],\"-\")","v":"-"},"-",{"$f":"IF(Tableau1[[#This Row],[2éme lot]]=\"-\",\"-\",IFERROR(IF(Q604=\"\",\"-\",INDEX(I:I,MATCH(Q604,C:C,0)+1)),\"-\"))","v":"-"},"-","-"]
[1066,"MD001384","EUPNEX 10MG/5ML SRP. FL/180ML","OXELADINE","E130519","01.05.2022","MG/EXP1",52,"MG/EXP1-A-044",null,0,null,null,180,"SAIDAL UNITE CENTRE","-",null,{"$f":"SUMIF(Tableau1[Description article],Tableau1[Produits],Tableau1[Emplacement])","v":0},null,{"$f":"Sheet1!$S605-Sheet1!$R605","v":0},"-","-","-",{"$f":"IFERROR(Tableau1[[#This Row],[THEO]]-Tableau1[[#This Row],[Qtt 2éme lot]],\"-\")","v":"-"},"-",{"$f":"IF(Tableau1[[#This Row],[2éme lot]]=\"-\",\"-\",IFERROR(IF(Q605=\"\",\"-\",INDEX(I:I,MATCH(Q605,C:C,0)+1)),\"-\"))","v":"-"},"-","-"]
[1068,"MD000638","EXFORGE 10MG/160MG COMP.PELLI. B/28","AMLODIPINE 10 / VALSARTAN 160","JE0954","31.08.2021","MG/EXP1",2,"MG/EXP1-BOX6-004",null,0,null,null,1397.5,"AT PHARMA SPA","-",null,{"$f":"SUMIF(Tableau1[Description article],Tableau1[Produits],Tableau1[Emplacement])","v":0},null,{"$f":"Sheet1!$S606-Sheet1!$R606","v":0},"-","-","-",{"$f":"IFERROR(Tableau1[[#This Row],[THEO]]-Tableau1[[#This Row],[Qtt 2éme lot]],\"-\")","v":"-"},"-",{"$f":"IF(Tableau1[[#This Row],[2éme lot]]=\"-\",\"-\",IFERROR(IF(Q606=\"\",\"-\",INDEX(I:I,MATCH(Q606,C:C,0)+1)),\"-\"))","v":"-"},"-","-"]
[1069,"MD000638","EXFORGE 10MG/160MG COMP.PELLI. B/28","AMLODIPINE 10 / VALSARTAN 160","JE0954","31.08.2021","MG/EXP1",108,"MG/EXP1-BOX6",null,0,null,null,1397.5,"AT PHARMA SPA","-",null,{"$f":"SUMIF(Tableau1[Description article],Tableau1[Produits],Tableau1[Emplacement])","v":0},null,{"$f":"Sheet1!$S607-Sheet1!$R607","v":0},"-","-","-",{"$f":"IFERROR(Tableau1[[#This Row],[THEO]]-Tableau1[[#This Row],[Qtt 2éme lot]],\"-\")","v":"-"},"-",{"$f":"IF(Tableau1[[#This Row],[2éme lot]]=\"-\",\"-\",IFERROR(IF(Q607=\"\",\"-\",INDEX(I:I,MATCH(Q607,C:C,0)+1)),\"-\"))","v":"-"},"-","-"]
[1070,"MD000638","EXFORGE 10MG/160MG COMP.PELLI. B/28","AMLODIPINE 10 / VALSARTAN 160","JE1469","31.08.2021","MG/EXP1",63,"MG/EXP1-BOX6-004",null,0,null,null,1397.5,"AT PHARMA SPA","-",null,{"$f":"SUMIF(Tableau1[Description article],Tableau1[Produits],Tableau1[Emplacement])","v":0},null,{"$f":"Sheet1!$S608-Sheet1!$R608","v":0},"-","-","-",{"$f":"IFERROR(Tableau1[[#This Row],[THEO]]-Tableau1[[#This Row],[Qtt 2éme lot]],\"-\")","v":"-"},"-",{"$f":"IF(Tableau1[[#This Row],[2éme lot]]=\"-\",\"-\",IFERROR(IF(Q608=\"\",\"-\",INDEX(I:I,MATCH(Q608,C:C,0)+1)),\"-\"))","v":"-"},"-","-"]
[1072,"MD000639","EXFORGE 5MG/160MG COMP.PELLI. B/28","AMLODIPINE / VALSARTAN","JJ2709","01.06.2021","MG/EXP1",36,"MG/EXP1-B-039",null,0,null,null,1397.5,"AT PHARMA SPA","-",null,{"$f":"SUMIF(Tableau1[Description article],Tableau1[Produits],Tableau1[Emplacement])","v":0},null,{"$f":"Sheet1!$S609-Sheet1!$R609","v":0},"-","-","-",{"$f":"IFERROR(Tableau1[[#This Row],[THEO]]-Tableau1[[#This Row],[Qtt 2éme lot]],\"-\")","v":"-"},"-",{"$f":"IF(Tableau1[[#This Row],[2éme lot]]=\"-\",\"-\",IFERROR(IF(Q609=\"\",\"-\",INDEX(I:I,MATCH(Q609,C:C,0)+1)),\"-\"))","v":"-"},"-","-"]
[1075,"MD000640","EXFORGE 5MG/80MG COMP.PELLI. B/28","AMLODIPINE 5 / VALSARTAN 80","JR2365","01.11.2021","MG/EXP1",9,"MG/EXP1-BOX6-004",null,0,null,null,1397.5,"AT PHARMA SPA","-",null,{"$f":"SUMIF(Tableau1[Description article],Tableau1[Produits],Tableau1[Emplacement])","v":0},null,{"$f":"Sheet1!$S610-Sheet1!$R610","v":0},"-","-","-",{"$f":"IFERROR(Tableau1[[#This Row],[THEO]]-Tableau1[[#This Row],[Qtt 2éme lot]],\"-\")","v":"-"},"-",{"$f":"IF(Tableau1[[#This Row],[2éme lot]]=\"-\",\"-\",IFERROR(IF(Q610=\"\",\"-\",INDEX(I:I,MATCH(Q610,C:C,0)+1)),\"-\"))","v":"-"},"-","-"]
[1078,"MD000641","EXIRB 150mg /5mg CP PELL BTE 30","IRBESARTAN / AMLODIPINE","181529","01.07.2020","MG/EXP1",90,"MG/EXP1-C-069",null,0,null,null,1317.99,"EL KENDI INDUSTRIE DE MEDICAMENTS SPA","-",null,{"$f":"SUMIF(Tableau1[Description article],Tableau1[Produits],Tableau1[Emplacement])","v":0},null,{"$f":"Sheet1!$S611-Sheet1!$R611","v":0},"-","-","-",{"$f":"IFERROR(Tableau1[[#This Row],[THEO]]-Tableau1[[#This Row],[Qtt 2éme lot]],\"-\")","v":"-"},"-",{"$f":"IF(Tableau1[[#This Row],[2éme lot]]=\"-\",\"-\",IFERROR(IF(Q611=\"\",\"-\",INDEX(I:I,MATCH(Q611,C:C,0)+1)),\"-\"))","v":"-"},"-","-"]
[1079,"MD000642","EXIRB CP Pell 300mg/ 5mg Bte. 30","IRBESARTAN / AMLODIPINE","191818","01.08.2021","MG/EXP1",112,"MG/EXP1-B-058",null,0,null,null,1317.99,"EL KENDI INDUSTRIE DE MEDICAMENTS SPA","-",null,{"$f":"SUMIF(Tableau1[Description article],Tableau1[Produits],Tableau1[Emplacement])","v":0},null,{"$f":"Sheet1!$S612-Sheet1!$R612","v":0},"-","-","-",{"$f":"IFERROR(Tableau1[[#This Row],[THEO]]-Tableau1[[#This Row],[Qtt 2éme lot]],\"-\")","v":"-"},"-",{"$f":"IF(Tableau1[[#This Row],[2éme lot]]=\"-\",\"-\",IFERROR(IF(Q612=\"\",\"-\",INDEX(I:I,MATCH(Q612,C:C,0)+1)),\"-\"))","v":"-"},"-","-"]
[1082,"MD000643","EXODERIL 0,01 CR.DERM. T/15G","NAFTIFINE CHLORHYDRATE","A0423719","31.05.2022","MG/EXP1",177,"MG/EXP1-E-003",null,0,null,null,398.39,"SANDOZ SPA","-",null,{"$f":"SUMIF(Tableau1[Description article],Tableau1[Produits],Tableau1[Emplacement])","v":0},null,{"$f":"Sheet1!$S613-Sheet1!$R613","v":0},"-","-","-",{"$f":"IFERROR(Tableau1[[#This Row],[THEO]]-Tableau1[[#This Row],[Qtt 2éme lot]],\"-\")","v":"-"},"-",{"$f":"IF(Tableau1[[#This Row],[2éme lot]]=\"-\",\"-\",IFERROR(IF(Q613=\"\",\"-\",INDEX(I:I,MATCH(Q613,C:C,0)+1)),\"-\"))","v":"-"},"-","-"]
[1084,"MD000644","EXPANDOL 1G COMP. B/10","PARACETAMOL","048","01.05.2022","MG/EXP1",302,"MG/EXP1-C-072",null,0,null,null,68,"BIO-GALENIC SARL","-",null,{"$f":"SUMIF(Tableau1[Description article],Tableau1[Produits],Tableau1[Emplacement])","v":0},null,{"$f":"Sheet1!$S614-Sheet1!$R614","v":0},"-","-","-",{"$f":"IFERROR(Tableau1[[#This Row],[THEO]]-Tableau1[[#This Row],[Qtt 2éme lot]],\"-\")","v":"-"},"-",{"$f":"IF(Tableau1[[#This Row],[2éme lot]]=\"-\",\"-\",IFERROR(IF(Q614=\"\",\"-\",INDEX(I:I,MATCH(Q614,C:C,0)+1)),\"-\"))","v":"-"},"-","-"]
[1086,"MD000648","EXPANDOL 500MG COMP.SEC. B/20","PARACETAMOL","163","01.03.2022","MG/EXP1",212,"MG/EXP1-D-049",null,0,null,null,60,"BIO-GALENIC SARL","-",null,{"$f":"SUMIF(Tableau1[Description article],Tableau1[Produits],Tableau1[Emplacement])","v":0},null,{"$f":"Sheet1!$S615-Sheet1!$R615","v":0},"-","-","-",{"$f":"IFERROR(Tableau1[[#This Row],[THEO]]-Tableau1[[#This Row],[Qtt 2éme lot]],\"-\")","v":"-"},"-",{"$f":"IF(Tableau1[[#This Row],[2éme lot]]=\"-\",\"-\",IFERROR(IF(Q615=\"\",\"-\",INDEX(I:I,MATCH(Q615,C:C,0)+1)),\"-\"))","v":"-"},"-","-"]
[1087,"MD000654","EXTENCINE 1 200 000 UI/FL.PDRE. PDRE.P.SUSP.INJ.IM. B/01 FL.PDRE. + 01 AMP.SOLV/5ML","PENICILLINE G BENZATHINE","4741903","01.06.2020","MG/EXP1",148,"MG/EXP1-D-013",null,0,null,null,113.27,"BIOCARE SARL","-",null,{"$f":"SUMIF(Tableau1[Description article],Tableau1[Produits],Tableau1[Emplacement])","v":0},null,{"$f":"Sheet1!$S616-Sheet1!$R616","v":0},"-","-","-",{"$f":"IFERROR(Tableau1[[#This Row],[THEO]]-Tableau1[[#This Row],[Qtt 2éme lot]],\"-\")","v":"-"},"-",{"$f":"IF(Tableau1[[#This Row],[2éme lot]]=\"-\",\"-\",IFERROR(IF(Q616=\"\",\"-\",INDEX(I:I,MATCH(Q616,C:C,0)+1)),\"-\"))","v":"-"},"-","-"]
[1089,"MD000656","EXVAL 10MG/160MG COMP.PELLI. B/30","AMLODIPINE 10 / VALSARTAN 160","191103","01.07.2021","MG/EXP1",117,"MG/EXP1-B-031",null,0,null,null,1497.5,"EL KENDI INDUSTRIE DE MEDICAMENTS SPA","-",null,{"$f":"SUMIF(Tableau1[Description article],Tableau1[Produits],Tableau1[Emplacement])","v":0},null,{"$f":"Sheet1!$S617-Sheet1!$R617","v":0},"-","-","-",{"$f":"IFERROR(Tableau1[[#This Row],[THEO]]-Tableau1[[#This Row],[Qtt 2éme lot]],\"-\")","v":"-"},"-",{"$f":"IF(Tableau1[[#This Row],[2éme lot]]=\"-\",\"-\",IFERROR(IF(Q617=\"\",\"-\",INDEX(I:I,MATCH(Q617,C:C,0)+1)),\"-\"))","v":"-"},"-","-"]
[1090,"MD000657","EXVAL 5MG/160MG COMP.PELLI. B/30","AMLODIPINE / VALSARTAN","191098","01.07.2021","MG/EXP1",186,"MG/EXP1-BOX6-011",null,0,null,null,1497.5,"EL KENDI INDUSTRIE DE MEDICAMENTS SPA","-",null,{"$f":"SUMIF(Tableau1[Description article],Tableau1[Produits],Tableau1[Emplacement])","v":0},null,{"$f":"Sheet1!$S618-Sheet1!$R618","v":0},"-","-","-",{"$f":"IFERROR(Tableau1[[#This Row],[THEO]]-Tableau1[[#This Row],[Qtt 2éme lot]],\"-\")","v":"-"},"-",{"$f":"IF(Tableau1[[#This Row],[2éme lot]]=\"-\",\"-\",IFERROR(IF(Q618=\"\",\"-\",INDEX(I:I,MATCH(Q618,C:C,0)+1)),\"-\"))","v":"-"},"-","-"]
[1092,"MD000658","EXVAL 5MG/80MG COMP.PELLI. B/30","AMLODIPINE 5 / VALSARTAN 80","191716","01.07.2021","MG/EXP1",101,"MG/EXP1-A-057",null,0,null,null,1497.5,"EL KENDI INDUSTRIE DE MEDICAMENTS SPA","-",null,{"$f":"SUMIF(Tableau1[Description article],Tableau1[Produits],Tableau1[Emplacement])","v":0},null,{"$f":"Sheet1!$S619-Sheet1!$R619","v":0},"-","-","-",{"$f":"IFERROR(Tableau1[[#This Row],[THEO]]-Tableau1[[#This Row],[Qtt 2éme lot]],\"-\")","v":"-"},"-",{"$f":"IF(Tableau1[[#This Row],[2éme lot]]=\"-\",\"-\",IFERROR(IF(Q619=\"\",\"-\",INDEX(I:I,MATCH(Q619,C:C,0)+1)),\"-\"))","v":"-"},"-","-"]
[1096,"MD000659","EZILAX 66,66% SRP. B/01 FL/300ML + BCHN.DOSEUR","LACTULOSE","192484","01.11.2022","MG/EXP1",764,"MG/EXP1-H-001",null,0,null,null,395.45,"EL KENDI INDUSTRIE DE MEDICAMENTS SPA","-",null,{"$f":"SUMIF(Tableau1[Description article],Tableau1[Produits],Tableau1[Emplacement])","v":0},null,{"$f":"Sheet1!$S620-Sheet1!$R620","v":0},"-","-","-",{"$f":"IFERROR(Tableau1[[#This Row],[THEO]]-Tableau1[[#This Row],[Qtt 2éme lot]],\"-\")","v":"-"},"-",{"$f":"IF(Tableau1[[#This Row],[2éme lot]]=\"-\",\"-\",IFERROR(IF(Q620=\"\",\"-\",INDEX(I:I,MATCH(Q620,C:C,0)+1)),\"-\"))","v":"-"},"-","-"]
[1098,"MD003953","FEDICARD 40MGB/30 COMP.","PROPRANOLOL","19FED01004","01.08.2021","MG/EXP1",218,"MG/EXP1-B-017",null,0,null,null,297.5,"GROUPE SANTE LABORATOIRE","-",null,{"$f":"SUMIF(Tableau1[Description article],Tableau1[Produits],Tableau1[Emplacement])","v":0},null,{"$f":"Sheet1!$S621-Sheet1!$R621","v":0},"-","-","-",{"$f":"IFERROR(Tableau1[[#This Row],[THEO]]-Tableau1[[#This Row],[Qtt 2éme lot]],\"-\")","v":"-"},"-",{"$f":"IF(Tableau1[[#This Row],[2éme lot]]=\"-\",\"-\",IFERROR(IF(Q621=\"\",\"-\",INDEX(I:I,MATCH(Q621,C:C,0)+1)),\"-\"))","v":"-"},"-","-"]
[1100,"MD000661","FELDENE 20MG COMP.DISPER.SEC. B/10","PIROXICAM","19620417","31.07.2022","MG/EXP1",106,"MG/EXP1-D-018",null,0,null,null,140.5,"PFIZER PHARM ALGERIE SPA","-",null,{"$f":"SUMIF(Tableau1[Description article],Tableau1[Produits],Tableau1[Emplacement])","v":0},null,{"$f":"Sheet1!$S622-Sheet1!$R622","v":0},"-","-","-",{"$f":"IFERROR(Tableau1[[#This Row],[THEO]]-Tableau1[[#This Row],[Qtt 2éme lot]],\"-\")","v":"-"},"-",{"$f":"IF(Tableau1[[#This Row],[2éme lot]]=\"-\",\"-\",IFERROR(IF(Q622=\"\",\"-\",INDEX(I:I,MATCH(Q622,C:C,0)+1)),\"-\"))","v":"-"},"-","-"]
[1104,"MD000664","FENAQUENE 100MG SUPP. B/10","DICLOFENAC","9R386","31.05.2022","MG/EXP1",57,"MG/EXP1-A-004",null,0,null,null,128.5,"SALEM LABORATOIRES SARL","-",null,{"$f":"SUMIF(Tableau1[Description article],Tableau1[Produits],Tableau1[Emplacement])","v":0},null,{"$f":"Sheet1!$S623-Sheet1!$R623","v":0},"-","-","-",{"$f":"IFERROR(Tableau1[[#This Row],[THEO]]-Tableau1[[#This Row],[Qtt 2éme lot]],\"-\")","v":"-"},"-",{"$f":"IF(Tableau1[[#This Row],[2éme lot]]=\"-\",\"-\",IFERROR(IF(Q623=\"\",\"-\",INDEX(I:I,MATCH(Q623,C:C,0)+1)),\"-\"))","v":"-"},"-","-"]
[1106,"MD004126","FENIRAMINE 0.01% SIROP",null,"002/19","01.07.2021","MG/EXP1",47,"MG/EXP1-B-010",null,0,null,null,125.01,"PHARMALLIANCE EURL","-",null,{"$f":"SUMIF(Tableau1[Description article],Tableau1[Produits],Tableau1[Emplacement])","v":0},null,{"$f":"Sheet1!$S624-Sheet1!$R624","v":0},"-","-","-",{"$f":"IFERROR(Tableau1[[#This Row],[THEO]]-Tableau1[[#This Row],[Qtt 2éme lot]],\"-\")","v":"-"},"-",{"$f":"IF(Tableau1[[#This Row],[2éme lot]]=\"-\",\"-\",IFERROR(IF(Q624=\"\",\"-\",INDEX(I:I,MATCH(Q624,C:C,0)+1)),\"-\"))","v":"-"},"-","-"]
[1108,"MD000667","FENOFIBRATE HUP 200MG GLES. B/30","FENOFIBRATE","057","01.06.2022","MG/EXP1",129,"MG/EXP1-E-053",null,0,null,null,902.4,"HUP.P PHARMA SARL","-",null,{"$f":"SUMIF(Tableau1[Description article],Tableau1[Produits],Tableau1[Emplacement])","v":0},null,{"$f":"Sheet1!$S625-Sheet1!$R625","v":0},"-","-","-",{"$f":"IFERROR(Tableau1[[#This Row],[THEO]]-Tableau1[[#This Row],[Qtt 2éme lot]],\"-\")","v":"-"},"-",{"$f":"IF(Tableau1[[#This Row],[2éme lot]]=\"-\",\"-\",IFERROR(IF(Q625=\"\",\"-\",INDEX(I:I,MATCH(Q625,C:C,0)+1)),\"-\"))","v":"-"},"-","-"]
[1110,"MD000669","FENOFIBRATE MM 160MG COMP.PELLI. B/30","FENOFIBRATE","354","01.12.2021","MG/EXP1",169,"MG/EXP1-B-031",null,0,null,null,902.4,"MM LABORATOIRE MM SARL","-",null,{"$f":"SUMIF(Tableau1[Description article],Tableau1[Produits],Tableau1[Emplacement])","v":0},null,{"$f":"Sheet1!$S626-Sheet1!$R626","v":0},"-","-","-",{"$f":"IFERROR(Tableau1[[#This Row],[THEO]]-Tableau1[[#This Row],[Qtt 2éme lot]],\"-\")","v":"-"},"-",{"$f":"IF(Tableau1[[#This Row],[2éme lot]]=\"-\",\"-\",IFERROR(IF(Q626=\"\",\"-\",INDEX(I:I,MATCH(Q626,C:C,0)+1)),\"-\"))","v":"-"},"-","-"]
[1112,"MD000670","FENOXAM 0,5% GEL DERM. T/50G","PIROXICAM","298","01.05.2021","MG/EXP1",300,"MG/EXP1-A-071",null,0,null,null,177.5,"BIOPHARM SPA","-",null,{"$f":"SUMIF(Tableau1[Description article],Tableau1[Produits],Tableau1[Emplacement])","v":0},null,{"$f":"Sheet1!$S627-Sheet1!$R627","v":0},"-","-","-",{"$f":"IFERROR(Tableau1[[#This Row],[THEO]]-Tableau1[[#This Row],[Qtt 2éme lot]],\"-\")","v":"-"},"-",{"$f":"IF(Tableau1[[#This Row],[2éme lot]]=\"-\",\"-\",IFERROR(IF(Q627=\"\",\"-\",INDEX(I:I,MATCH(Q627,C:C,0)+1)),\"-\"))","v":"-"},"-","-"]
[1116,"MD000672","FER 3+ 20MG/ML (100MG/5ML) SOL.BUV. B/30 AMP/5ML","HYDROXYDE FERRIQUE POLYMALTOSE","70-58*","01.09.2021","MG/EXP1",42,"MG/EXP1-G-003",null,0,null,null,480,"L.A.D.PHARMA SARL","-",null,{"$f":"SUMIF(Tableau1[Description article],Tableau1[Produits],Tableau1[Emplacement])","v":0},null,{"$f":"Sheet1!$S628-Sheet1!$R628","v":0},"-","-","-",{"$f":"IFERROR(Tableau1[[#This Row],[THEO]]-Tableau1[[#This Row],[Qtt 2éme lot]],\"-\")","v":"-"},"-",{"$f":"IF(Tableau1[[#This Row],[2éme lot]]=\"-\",\"-\",IFERROR(IF(Q628=\"\",\"-\",INDEX(I:I,MATCH(Q628,C:C,0)+1)),\"-\"))","v":"-"},"-","-"]
[1117,"MD002278","FERRO CURE 100MG/5ML SOL.BUV. B/20 AMP/5ML","HYDROXYDE FERRIQUE POLYMALTOSE","34","01.02.2021","MG/EXP1",67,"MG/EXP1-F-026",null,0,null,null,520,"BIOREAL PHARM SPA","-",null,{"$f":"SUMIF(Tableau1[Description article],Tableau1[Produits],Tableau1[Emplacement])","v":0},null,{"$f":"Sheet1!$S629-Sheet1!$R629","v":0},"-","-","-",{"$f":"IFERROR(Tableau1[[#This Row],[THEO]]-Tableau1[[#This Row],[Qtt 2éme lot]],\"-\")","v":"-"},"-",{"$f":"IF(Tableau1[[#This Row],[2éme lot]]=\"-\",\"-\",IFERROR(IF(Q629=\"\",\"-\",INDEX(I:I,MATCH(Q629,C:C,0)+1)),\"-\"))","v":"-"},"-","-"]
[1118,"MD000677","FERRUM HAUSMANN GOUTTES 50MG/ML SOL.BUV.GTTES. B/01 FL/30ML COMP.GTTES.","HYDROXYDE FERRIQUE POLYMALTOSE","19B303","01.02.2024","MG/EXP1",39,"MG/EXP1-D-015",null,0,null,null,385.52,"ABDI IBRAHIM REMED PHARMA SPA","-",null,{"$f":"SUMIF(Tableau1[Description article],Tableau1[Produits],Tableau1[Emplacement])","v":0},null,{"$f":"Sheet1!$S630-Sheet1!$R630","v":0},"-","-","-",{"$f":"IFERROR(Tableau1[[#This Row],[THEO]]-Tableau1[[#This Row],[Qtt 2éme lot]],\"-\")","v":"-"},"-",{"$f":"IF(Tableau1[[#This Row],[2éme lot]]=\"-\",\"-\",IFERROR(IF(Q630=\"\",\"-\",INDEX(I:I,MATCH(Q630,C:C,0)+1)),\"-\"))","v":"-"},"-","-"]
[1119,"MD000679","FEXODINE 120MG COMP.PELLI. B/15","FEXOFENADINE","181437","01.08.2021","MG/EXP1",10,"MG/EXP1-G-009",null,0,null,null,226.5,"EL KENDI INDUSTRIE DE MEDICAMENTS SPA","-",null,{"$f":"SUMIF(Tableau1[Description article],Tableau1[Produits],Tableau1[Emplacement])","v":0},null,{"$f":"Sheet1!$S631-Sheet1!$R631","v":0},"-","-","-",{"$f":"IFERROR(Tableau1[[#This Row],[THEO]]-Tableau1[[#This Row],[Qtt 2éme lot]],\"-\")","v":"-"},"-",{"$f":"IF(Tableau1[[#This Row],[2éme lot]]=\"-\",\"-\",IFERROR(IF(Q631=\"\",\"-\",INDEX(I:I,MATCH(Q631,C:C,0)+1)),\"-\"))","v":"-"},"-","-"]
[1120,"MD000679","FEXODINE 120MG COMP.PELLI. B/15","FEXOFENADINE","181436","01.08.2021","MG/EXP1",319,"MG/EXP1-G-010",null,0,null,null,226.5,"EL KENDI INDUSTRIE DE MEDICAMENTS SPA","-",null,{"$f":"SUMIF(Tableau1[Description article],Tableau1[Produits],Tableau1[Emplacement])","v":0},null,{"$f":"Sheet1!$S632-Sheet1!$R632","v":0},"-","-","-",{"$f":"IFERROR(Tableau1[[#This Row],[THEO]]-Tableau1[[#This Row],[Qtt 2éme lot]],\"-\")","v":"-"},"-",{"$f":"IF(Tableau1[[#This Row],[2éme lot]]=\"-\",\"-\",IFERROR(IF(Q632=\"\",\"-\",INDEX(I:I,MATCH(Q632,C:C,0)+1)),\"-\"))","v":"-"},"-","-"]
[1121,"MD000681","FEXOFENADINE BEKER 120MG COMP.PELLI. B/15","FEXOFENADINE","068819","01.07.2021","MG/EXP1",254,"MG/EXP1-G-003",null,0,null,null,148.5,"BEKER LABORATOIRES","-",null,{"$f":"SUMIF(Tableau1[Description article],Tableau1[Produits],Tableau1[Emplacement])","v":0},null,{"$f":"Sheet1!$S633-Sheet1!$R633","v":0},"-","-","-",{"$f":"IFERROR(Tableau1[[#This Row],[THEO]]-Tableau1[[#This Row],[Qtt 2éme lot]],\"-\")","v":"-"},"-",{"$f":"IF(Tableau1[[#This Row],[2éme lot]]=\"-\",\"-\",IFERROR(IF(Q633=\"\",\"-\",INDEX(I:I,MATCH(Q633,C:C,0)+1)),\"-\"))","v":"-"},"-","-"]
[1122,"MD000682","FEXOFENADINE BEKER 180MG COMP.PELLI. B/20","FEXOFENADINE","069019","01.07.2021","MG/EXP1",334,"MG/EXP1-G-010",null,0,null,null,258.5,"BEKER LABORATOIRES","-",null,{"$f":"SUMIF(Tableau1[Description article],Tableau1[Produits],Tableau1[Emplacement])","v":0},null,{"$f":"Sheet1!$S634-Sheet1!$R634","v":0},"-","-","-",{"$f":"IFERROR(Tableau1[[#This Row],[THEO]]-Tableau1[[#This Row],[Qtt 2éme lot]],\"-\")","v":"-"},"-",{"$f":"IF(Tableau1[[#This Row],[2éme lot]]=\"-\",\"-\",IFERROR(IF(Q634=\"\",\"-\",INDEX(I:I,MATCH(Q634,C:C,0)+1)),\"-\"))","v":"-"},"-","-"]
[1123,"MD000688","FLAGYL 125MG/5ML SUSP.BUV. FL/120 ML + C.M.","METRONIDAZOLE","141","01.06.2022","MG/EXP1",144,"MG/EXP1-E-062",null,0,null,null,181.1,"BIOPHARM SPA","-",null,{"$f":"SUMIF(Tableau1[Description article],Tableau1[Produits],Tableau1[Emplacement])","v":0},null,{"$f":"Sheet1!$S635-Sheet1!$R635","v":0},"-","-","-",{"$f":"IFERROR(Tableau1[[#This Row],[THEO]]-Tableau1[[#This Row],[Qtt 2éme lot]],\"-\")","v":"-"},"-",{"$f":"IF(Tableau1[[#This Row],[2éme lot]]=\"-\",\"-\",IFERROR(IF(Q635=\"\",\"-\",INDEX(I:I,MATCH(Q635,C:C,0)+1)),\"-\"))","v":"-"},"-","-"]
[1127,"MD000694","FLAZOL 125MG/5ML SUSP.BUV. FL/120ML + BCHN.DOSEUR","METRONIDAZOLE","190852","01.04.2022","MG/EXP1",161,"MG/EXP1-D-028",null,0,null,null,130.01,"EL KENDI INDUSTRIE DE MEDICAMENTS SPA","-",null,{"$f":"SUMIF(Tableau1[Description article],Tableau1[Produits],Tableau1[Emplacement])","v":0},null,{"$f":"Sheet1!$S636-Sheet1!$R636","v":0},"-","-","-",{"$f":"IFERROR(Tableau1[[#This Row],[THEO]]-Tableau1[[#This Row],[Qtt 2éme lot]],\"-\")","v":"-"},"-",{"$f":"IF(Tableau1[[#This Row],[2éme lot]]=\"-\",\"-\",IFERROR(IF(Q636=\"\",\"-\",INDEX(I:I,MATCH(Q636,C:C,0)+1)),\"-\"))","v":"-"},"-","-"]
[1130,"MD000695","FLAZOL 500MG COMP.ENRO. B/20","METRONIDAZOLE","191290","01.06.2022","MG/EXP1",221,"MG/EXP1-D-010",null,0,null,null,290.53,"EL KENDI INDUSTRIE DE MEDICAMENTS SPA","-",null,{"$f":"SUMIF(Tableau1[Description article],Tableau1[Produits],Tableau1[Emplacement])","v":0},null,{"$f":"Sheet1!$S637-Sheet1!$R637","v":0},"-","-","-",{"$f":"IFERROR(Tableau1[[#This Row],[THEO]]-Tableau1[[#This Row],[Qtt 2éme lot]],\"-\")","v":"-"},"-",{"$f":"IF(Tableau1[[#This Row],[2éme lot]]=\"-\",\"-\",IFERROR(IF(Q637=\"\",\"-\",INDEX(I:I,MATCH(Q637,C:C,0)+1)),\"-\"))","v":"-"},"-","-"]
[1131,"MD000696","FLECAINE 100MG COMP. B/30","FLECAINIDE","GUI070A","01.09.2024","MG/EXP1",521,"MG/EXP1-BOX6-003",null,0,null,null,1089.44,"LDM LABORATOIRES DE DIAGNOSTIC MAGHREBINS","-",null,{"$f":"SUMIF(Tableau1[Description article],Tableau1[Produits],Tableau1[Emplacement])","v":0},null,{"$f":"Sheet1!$S638-Sheet1!$R638","v":0},"-","-","-",{"$f":"IFERROR(Tableau1[[#This Row],[THEO]]-Tableau1[[#This Row],[Qtt 2éme lot]],\"-\")","v":"-"},"-",{"$f":"IF(Tableau1[[#This Row],[2éme lot]]=\"-\",\"-\",IFERROR(IF(Q638=\"\",\"-\",INDEX(I:I,MATCH(Q638,C:C,0)+1)),\"-\"))","v":"-"},"-","-"]
[1132,"PP00115","FLEXOFYTOL CAPS . B/60",null,"C8001*","01.05.2021","MG/EXP1",9,"MG/EXP1-E-004",null,0,null,null,2990,"MAGPHARM LABORATOIRES SARL","-",null,{"$f":"SUMIF(Tableau1[Description article],Tableau1[Produits],Tableau1[Emplacement])","v":0},null,{"$f":"Sheet1!$S639-Sheet1!$R639","v":0},"-","-","-",{"$f":"IFERROR(Tableau1[[#This Row],[THEO]]-Tableau1[[#This Row],[Qtt 2éme lot]],\"-\")","v":"-"},"-",{"$f":"IF(Tableau1[[#This Row],[2éme lot]]=\"-\",\"-\",IFERROR(IF(Q639=\"\",\"-\",INDEX(I:I,MATCH(Q639,C:C,0)+1)),\"-\"))","v":"-"},"-","-"]
[1134,"MD000703","FLOCINE 500MG CP.B/10","CIPROFLOXACINE","M67001R","30.04.2022","MG/EXP1",139,"MG/EXP1-C-030",null,0,null,null,801.5,"MERINAL LABORATOIRES","-",null,{"$f":"SUMIF(Tableau1[Description article],Tableau1[Produits],Tableau1[Emplacement])","v":0},null,{"$f":"Sheet1!$S640-Sheet1!$R640","v":0},"-","-","-",{"$f":"IFERROR(Tableau1[[#This Row],[THEO]]-Tableau1[[#This Row],[Qtt 2éme lot]],\"-\")","v":"-"},"-",{"$f":"IF(Tableau1[[#This Row],[2éme lot]]=\"-\",\"-\",IFERROR(IF(Q640=\"\",\"-\",INDEX(I:I,MATCH(Q640,C:C,0)+1)),\"-\"))","v":"-"},"-","-"]
[1135,"MD002421","FLOHALE HFA 125 125µG/DSE SUSP.INHAL.BUCC.SPRAY FL/120 DSE.","FLUTICASONE PROPIONATE","GB91030","01.04.2021","MG/EXP1",159,"MG/EXP1-A-019",null,0,null,null,1127.02,"BIOPHARM SPA","-",null,{"$f":"SUMIF(Tableau1[Description article],Tableau1[Produits],Tableau1[Emplacement])","v":0},null,{"$f":"Sheet1!$S641-Sheet1!$R641","v":0},"-","-","-",{"$f":"IFERROR(Tableau1[[#This Row],[THEO]]-Tableau1[[#This Row],[Qtt 2éme lot]],\"-\")","v":"-"},"-",{"$f":"IF(Tableau1[[#This Row],[2éme lot]]=\"-\",\"-\",IFERROR(IF(Q641=\"\",\"-\",INDEX(I:I,MATCH(Q641,C:C,0)+1)),\"-\"))","v":"-"},"-","-"]
[1137,"MD002417","FLOHALE HFA 50 50µG/DSE SUSP.INHAL.BUCC.SPRAY FL/120 DSE.","FLUTICASONE","GB91414","01.07.2021","MG/EXP1",297,"MG/EXP1-C-002",null,0,null,null,905.47,"BIOPHARM SPA",{"$f":"IFERROR(IF(Q642=\"\",\"-\",INDEX(I:I,MATCH(Q642,C:C,0))),\"-\")","v":"-"},null,{"$f":"SUMIF(Tableau1[Description article],Tableau1[Produits],Tableau1[Emplacement])","v":0},null,{"$f":"Sheet1!$S642-Sheet1!$R642","v":0},{"$f":"IFERROR(IF(Q642=\"\",\"-\",INDEX(F:F,MATCH(Q642,C:C,0))),\"-\")","v":"-"},{"$f":"IFERROR(IF(Q642=\"\",\"-\",INDEX(E:E,MATCH(Q642,C:C,0))),\"-\")","v":"-"},{"$f":"IFERROR(IF(Q642=\"\",\"-\",INDEX(N:N,MATCH(Q642,C:C,0))),\"-\")","v":"-"},{"$f":"IFERROR(Tableau1[[#This Row],[THEO]]-Tableau1[[#This Row],[Qtt 2éme lot]],\"-\")","v":"-"},{"$f":"IF(IF(Q642=\"\",\"-\",INDEX(E:E,MATCH(Q642,C:C,0)))=IF(Q642=\"\",\"-\",INDEX(E:E,MATCH(Q642,C:C,1))),\"-\",IF(Q642=\"\",\"-\",INDEX(E:E,MATCH(Q642,C:C,1))))","v":"-"},{"$f":"IF(Tableau1[[#This Row],[2éme lot]]=\"-\",\"-\",IFERROR(IF(Q642=\"\",\"-\",INDEX(I:I,MATCH(Q642,C:C,0)+1)),\"-\"))","v":"-"},{"$f":"IFERROR(IF(Y642=\"\",\"-\",INDEX(N:N,MATCH(Y642,E:E,0))),\"-\")","v":"-"},{"$f":"IFERROR(IF(AA642=\"\",\"-\",INDEX(H:H,MATCH(Y642,E:E,0))),\"-\")","v":"-"}]
[1138,"MD000709","FLUCAND 150MG GLES. B/01","FLUCONAZOLE","8066","01.08.2022","MG/EXP1",357,"MG/EXP1-F-003",null,0,null,null,257.4,"HIKMA PHARMA ALGERIA SARL","-",null,{"$f":"SUMIF(Tableau1[Description article],Tableau1[Produits],Tableau1[Emplacement])","v":0},null,{"$f":"Sheet1!$S643-Sheet1!$R643","v":0},"-","-","-",{"$f":"IFERROR(Tableau1[[#This Row],[THEO]]-Tableau1[[#This Row],[Qtt 2éme lot]],\"-\")","v":"-"},"-",{"$f":"IF(Tableau1[[#This Row],[2éme lot]]=\"-\",\"-\",IFERROR(IF(Q643=\"\",\"-\",INDEX(I:I,MATCH(Q643,C:C,0)+1)),\"-\"))","v":"-"},"-","-"]
[1141,"MD000708","FLUCAND 50MG GLES. B/03","FLUCONAZOLE","7001","01.12.2021","MG/EXP1",276,"MG/EXP1-F-015",null,0,null,null,216.5,"HIKMA PHARMA ALGERIA SARL","-",null,{"$f":"SUMIF(Tableau1[Description article],Tableau1[Produits],Tableau1[Emplacement])","v":0},null,{"$f":"Sheet1!$S644-Sheet1!$R644","v":0},"-","-","-",{"$f":"IFERROR(Tableau1[[#This Row],[THEO]]-Tableau1[[#This Row],[Qtt 2éme lot]],\"-\")","v":"-"},"-",{"$f":"IF(Tableau1[[#This Row],[2éme lot]]=\"-\",\"-\",IFERROR(IF(Q644=\"\",\"-\",INDEX(I:I,MATCH(Q644,C:C,0)+1)),\"-\"))","v":"-"},"-","-"]
[1144,"MD000710","FLUCASONE SUSP NASALE 50µG /DOSE FLC DE 120 DOSES","FLUTICASONE PROPIONATE","033","01.01.2022","MG/EXP1",286,"MG/EXP1-A-022",null,0,null,null,826.7,"BIO-GALENIC SARL","-",null,{"$f":"SUMIF(Tableau1[Description article],Tableau1[Produits],Tableau1[Emplacement])","v":0},null,{"$f":"Sheet1!$S645-Sheet1!$R645","v":0},"-","-","-",{"$f":"IFERROR(Tableau1[[#This Row],[THEO]]-Tableau1[[#This Row],[Qtt 2éme lot]],\"-\")","v":"-"},"-",{"$f":"IF(Tableau1[[#This Row],[2éme lot]]=\"-\",\"-\",IFERROR(IF(Q645=\"\",\"-\",INDEX(I:I,MATCH(Q645,C:C,0)+1)),\"-\"))","v":"-"},"-","-"]
[1145,"MD004169","FLUCAZOLE 150 MG  B/04","FLUCONAZOLE","S02801","01.10.2020","MG/EXP1",6,"MG/EXP1-E-038",null,0,null,null,1037.49,"PHARMIDAL SARL","-",null,{"$f":"SUMIF(Tableau1[Description article],Tableau1[Produits],Tableau1[Emplacement])","v":0},null,{"$f":"Sheet1!$S646-Sheet1!$R646","v":0},"-","-","-",{"$f":"IFERROR(Tableau1[[#This Row],[THEO]]-Tableau1[[#This Row],[Qtt 2éme lot]],\"-\")","v":"-"},"-",{"$f":"IF(Tableau1[[#This Row],[2éme lot]]=\"-\",\"-\",IFERROR(IF(Q646=\"\",\"-\",INDEX(I:I,MATCH(Q646,C:C,0)+1)),\"-\"))","v":"-"},"-","-"]
[1146,"MD004169","FLUCAZOLE 150 MG  B/04","FLUCONAZOLE","S02901","01.05.2022","MG/EXP1",238,"MG/EXP1-E-059",null,0,null,null,1037.49,"PHARMIDAL SARL","-",null,{"$f":"SUMIF(Tableau1[Description article],Tableau1[Produits],Tableau1[Emplacement])","v":0},null,{"$f":"Sheet1!$S647-Sheet1!$R647","v":0},"-","-","-",{"$f":"IFERROR(Tableau1[[#This Row],[THEO]]-Tableau1[[#This Row],[Qtt 2éme lot]],\"-\")","v":"-"},"-",{"$f":"IF(Tableau1[[#This Row],[2éme lot]]=\"-\",\"-\",IFERROR(IF(Q647=\"\",\"-\",INDEX(I:I,MATCH(Q647,C:C,0)+1)),\"-\"))","v":"-"},"-","-"]
[1147,"MD002772","FLUCIDAL 03% PDE.DERM. T/40G","ACIDE NIFLUMIQUE","0092","01.12.2022","MG/EXP1",343,"MG/EXP1-D-004",null,0,null,null,78.82,"SAIDAL UNITE CENTRE","-",null,{"$f":"SUMIF(Tableau1[Description article],Tableau1[Produits],Tableau1[Emplacement])","v":0},null,{"$f":"Sheet1!$S648-Sheet1!$R648","v":0},"-","-","-",{"$f":"IFERROR(Tableau1[[#This Row],[THEO]]-Tableau1[[#This Row],[Qtt 2éme lot]],\"-\")","v":"-"},"-",{"$f":"IF(Tableau1[[#This Row],[2éme lot]]=\"-\",\"-\",IFERROR(IF(Q648=\"\",\"-\",INDEX(I:I,MATCH(Q648,C:C,0)+1)),\"-\"))","v":"-"},"-","-"]
[1150,"MD000714","FLUCONAZOLE HUP 150MG GLES. B/01","FLUCONAZOLE","018","01.01.2021","MG/EXP1",150,"MG/EXP1-E-022",null,0,null,null,271.1,"HUP.P PHARMA SARL","-",null,{"$f":"SUMIF(Tableau1[Description article],Tableau1[Produits],Tableau1[Emplacement])","v":0},null,{"$f":"Sheet1!$S649-Sheet1!$R649","v":0},"-","-","-",{"$f":"IFERROR(Tableau1[[#This Row],[THEO]]-Tableau1[[#This Row],[Qtt 2éme lot]],\"-\")","v":"-"},"-",{"$f":"IF(Tableau1[[#This Row],[2éme lot]]=\"-\",\"-\",IFERROR(IF(Q649=\"\",\"-\",INDEX(I:I,MATCH(Q649,C:C,0)+1)),\"-\"))","v":"-"},"-","-"]
[1152,"MD000717","FLUDEX LP 1,5MG COMP.PELLI.LP. B/30","INDAPAMIDE","9360","31.10.2021","MG/EXP1",297,"MG/EXP1-A-014",null,0,null,null,598.5,"LDM LABORATOIRES DE DIAGNOSTIC MAGHREBINS","-",null,{"$f":"SUMIF(Tableau1[Description article],Tableau1[Produits],Tableau1[Emplacement])","v":0},null,{"$f":"Sheet1!$S650-Sheet1!$R650","v":0},"-","-","-",{"$f":"IFERROR(Tableau1[[#This Row],[THEO]]-Tableau1[[#This Row],[Qtt 2éme lot]],\"-\")","v":"-"},"-",{"$f":"IF(Tableau1[[#This Row],[2éme lot]]=\"-\",\"-\",IFERROR(IF(Q650=\"\",\"-\",INDEX(I:I,MATCH(Q650,C:C,0)+1)),\"-\"))","v":"-"},"-","-"]
[1155,"MD000718","FLUDIS 100 MG CP PELL. B/16","FLURBIPROFÈNE","9296*","01.04.2021","MG/EXP1",30,"MG/EXP1-C-015",null,0,null,null,198.24,"INPHA MEDIS SPA","-",null,{"$f":"SUMIF(Tableau1[Description article],Tableau1[Produits],Tableau1[Emplacement])","v":0},null,{"$f":"Sheet1!$S651-Sheet1!$R651","v":0},"-","-","-",{"$f":"IFERROR(Tableau1[[#This Row],[THEO]]-Tableau1[[#This Row],[Qtt 2éme lot]],\"-\")","v":"-"},"-",{"$f":"IF(Tableau1[[#This Row],[2éme lot]]=\"-\",\"-\",IFERROR(IF(Q651=\"\",\"-\",INDEX(I:I,MATCH(Q651,C:C,0)+1)),\"-\"))","v":"-"},"-","-"]
[1156,"MD000719","FLUIDABAK 1,5% COLLY.SOL. FL/10ML","POVIDONE","6K86","01.03.2021","MG/EXP1",3,"MG/EXP1-F-004",null,0,null,null,362.78,"BIOPHARM SPA","-",null,{"$f":"SUMIF(Tableau1[Description article],Tableau1[Produits],Tableau1[Emplacement])","v":0},null,{"$f":"Sheet1!$S652-Sheet1!$R652","v":0},"-","-","-",{"$f":"IFERROR(Tableau1[[#This Row],[THEO]]-Tableau1[[#This Row],[Qtt 2éme lot]],\"-\")","v":"-"},"-",{"$f":"IF(Tableau1[[#This Row],[2éme lot]]=\"-\",\"-\",IFERROR(IF(Q652=\"\",\"-\",INDEX(I:I,MATCH(Q652,C:C,0)+1)),\"-\"))","v":"-"},"-","-"]
[1159,"MD000720","FLUISEDAL SANS PROMETHAZINE 130MG/15MG/5ML SRP. B/01 FL/125ML","BENZOATE DE MEGLUMINE","T9007","31.01.2022","MG/EXP1",92,"MG/EXP1-A-044",null,0,null,null,198.09,"MAGPHARM LABORATOIRES SARL","-",null,{"$f":"SUMIF(Tableau1[Description article],Tableau1[Produits],Tableau1[Emplacement])","v":0},null,{"$f":"Sheet1!$S653-Sheet1!$R653","v":0},"-","-","-",{"$f":"IFERROR(Tableau1[[#This Row],[THEO]]-Tableau1[[#This Row],[Qtt 2éme lot]],\"-\")","v":"-"},"-",{"$f":"IF(Tableau1[[#This Row],[2éme lot]]=\"-\",\"-\",IFERROR(IF(Q653=\"\",\"-\",INDEX(I:I,MATCH(Q653,C:C,0)+1)),\"-\"))","v":"-"},"-","-"]
[1160,"MD000721","FLUKAS 150MG GLES. B/01","FLUCONAZOLE","8402*","31.05.2021","MG/EXP1",34,"MG/EXP1-D-018",null,0,null,null,277.2,"INPHA MEDIS SPA","-",null,{"$f":"SUMIF(Tableau1[Description article],Tableau1[Produits],Tableau1[Emplacement])","v":0},null,{"$f":"Sheet1!$S654-Sheet1!$R654","v":0},"-","-","-",{"$f":"IFERROR(Tableau1[[#This Row],[THEO]]-Tableau1[[#This Row],[Qtt 2éme lot]],\"-\")","v":"-"},"-",{"$f":"IF(Tableau1[[#This Row],[2éme lot]]=\"-\",\"-\",IFERROR(IF(Q654=\"\",\"-\",INDEX(I:I,MATCH(Q654,C:C,0)+1)),\"-\"))","v":"-"},"-","-"]
[1162,"MD000727","FLUPEX 30MG/300MG/37,5MG/1,5MG/15ML SRP. FL/200 ML","TERPINE /EUCALYPTOL","03/19","30.04.2022","MG/EXP1",108,"MG/EXP1-G-031",null,0,null,null,230,"LAM SARL","-",null,{"$f":"SUMIF(Tableau1[Description article],Tableau1[Produits],Tableau1[Emplacement])","v":0},null,{"$f":"Sheet1!$S655-Sheet1!$R655","v":0},"-","-","-",{"$f":"IFERROR(Tableau1[[#This Row],[THEO]]-Tableau1[[#This Row],[Qtt 2éme lot]],\"-\")","v":"-"},"-",{"$f":"IF(Tableau1[[#This Row],[2éme lot]]=\"-\",\"-\",IFERROR(IF(Q655=\"\",\"-\",INDEX(I:I,MATCH(Q655,C:C,0)+1)),\"-\"))","v":"-"},"-","-"]
[1163,"MD000731","FLUVACOL LP 80MG COMP.PELLI.LP. B/30","FLUVASTATINE","191736**","01.08.2022","MG/EXP1",30,"MG/EXP1-E-042",null,0,null,null,895.23,"EL KENDI INDUSTRIE DE MEDICAMENTS SPA","-",null,{"$f":"SUMIF(Tableau1[Description article],Tableau1[Produits],Tableau1[Emplacement])","v":0},null,{"$f":"Sheet1!$S656-Sheet1!$R656","v":0},"-","-","-",{"$f":"IFERROR(Tableau1[[#This Row],[THEO]]-Tableau1[[#This Row],[Qtt 2éme lot]],\"-\")","v":"-"},"-",{"$f":"IF(Tableau1[[#This Row],[2éme lot]]=\"-\",\"-\",IFERROR(IF(Q656=\"\",\"-\",INDEX(I:I,MATCH(Q656,C:C,0)+1)),\"-\"))","v":"-"},"-","-"]
[1164,"MD000731","FLUVACOL LP 80MG COMP.PELLI.LP. B/30","FLUVASTATINE","192091","01.11.2022","MG/EXP1",1,"MG/EXP1-E-050",null,0,null,null,895.23,"EL KENDI INDUSTRIE DE MEDICAMENTS SPA","-",null,{"$f":"SUMIF(Tableau1[Description article],Tableau1[Produits],Tableau1[Emplacement])","v":0},null,{"$f":"Sheet1!$S657-Sheet1!$R657","v":0},"-","-","-",{"$f":"IFERROR(Tableau1[[#This Row],[THEO]]-Tableau1[[#This Row],[Qtt 2éme lot]],\"-\")","v":"-"},"-",{"$f":"IF(Tableau1[[#This Row],[2éme lot]]=\"-\",\"-\",IFERROR(IF(Q657=\"\",\"-\",INDEX(I:I,MATCH(Q657,C:C,0)+1)),\"-\"))","v":"-"},"-","-"]
[1165,"MD002304","FLUVASTAN LP 80MG COMP.PELLI.LP. B/30","FLUVASTATINE","192201","01.03.2021","MG/EXP1",5,"MG/EXP1-C-003",null,0,null,null,1531.97,"S.A.N.A.M.E.D","-",null,{"$f":"SUMIF(Tableau1[Description article],Tableau1[Produits],Tableau1[Emplacement])","v":0},null,{"$f":"Sheet1!$S658-Sheet1!$R658","v":0},"-","-","-",{"$f":"IFERROR(Tableau1[[#This Row],[THEO]]-Tableau1[[#This Row],[Qtt 2éme lot]],\"-\")","v":"-"},"-",{"$f":"IF(Tableau1[[#This Row],[2éme lot]]=\"-\",\"-\",IFERROR(IF(Q658=\"\",\"-\",INDEX(I:I,MATCH(Q658,C:C,0)+1)),\"-\"))","v":"-"},"-","-"]
[1166,"MD000732","FLUVASTATINE LDM 40MG GLES. B/30","FLUVASTATINE","8502","01.11.2020","MG/EXP1",3,"MG/EXP1-B-062",null,0,null,null,895.1,"LDM LABORATOIRES DE DIAGNOSTIC MAGHREBINS","-",null,{"$f":"SUMIF(Tableau1[Description article],Tableau1[Produits],Tableau1[Emplacement])","v":0},null,{"$f":"Sheet1!$S659-Sheet1!$R659","v":0},"-","-","-",{"$f":"IFERROR(Tableau1[[#This Row],[THEO]]-Tableau1[[#This Row],[Qtt 2éme lot]],\"-\")","v":"-"},"-",{"$f":"IF(Tableau1[[#This Row],[2éme lot]]=\"-\",\"-\",IFERROR(IF(Q659=\"\",\"-\",INDEX(I:I,MATCH(Q659,C:C,0)+1)),\"-\"))","v":"-"},"-","-"]
[1167,"MD000732","FLUVASTATINE LDM 40MG GLES. B/30","FLUVASTATINE","8503","30.11.2020","MG/EXP1",26,"MG/EXP1-B-060",null,0,null,null,895.1,"LDM LABORATOIRES DE DIAGNOSTIC MAGHREBINS","-",null,{"$f":"SUMIF(Tableau1[Description article],Tableau1[Produits],Tableau1[Emplacement])","v":0},null,{"$f":"Sheet1!$S660-Sheet1!$R660","v":0},"-","-","-",{"$f":"IFERROR(Tableau1[[#This Row],[THEO]]-Tableau1[[#This Row],[Qtt 2éme lot]],\"-\")","v":"-"},"-",{"$f":"IF(Tableau1[[#This Row],[2éme lot]]=\"-\",\"-\",IFERROR(IF(Q660=\"\",\"-\",INDEX(I:I,MATCH(Q660,C:C,0)+1)),\"-\"))","v":"-"},"-","-"]
[1168,"MD002427","FLUVERZOL 20MG/ML SUSP.BUV. FL/30ML","FLUBENDAZOLE","F008","01.11.2021","MG/EXP1",371,"MG/EXP1-F-002",null,0,null,null,264,"PHARMAGHREB","-",null,{"$f":"SUMIF(Tableau1[Description article],Tableau1[Produits],Tableau1[Emplacement])","v":0},null,{"$f":"Sheet1!$S661-Sheet1!$R661","v":0},"-","-","-",{"$f":"IFERROR(Tableau1[[#This Row],[THEO]]-Tableau1[[#This Row],[Qtt 2éme lot]],\"-\")","v":"-"},"-",{"$f":"IF(Tableau1[[#This Row],[2éme lot]]=\"-\",\"-\",IFERROR(IF(Q661=\"\",\"-\",INDEX(I:I,MATCH(Q661,C:C,0)+1)),\"-\"))","v":"-"},"-","-"]
[1169,"MD000739","FOLIDEN 5MG COMP. B/60","ACIDE FOLIQUE","19FOL01002","01.05.2021","MG/EXP1",170,"MG/EXP1-B-050",null,0,null,null,185,"GROUPE SANTE LABORATOIRE","-",null,{"$f":"SUMIF(Tableau1[Description article],Tableau1[Produits],Tableau1[Emplacement])","v":0},null,{"$f":"Sheet1!$S662-Sheet1!$R662","v":0},"-","-","-",{"$f":"IFERROR(Tableau1[[#This Row],[THEO]]-Tableau1[[#This Row],[Qtt 2éme lot]],\"-\")","v":"-"},"-",{"$f":"IF(Tableau1[[#This Row],[2éme lot]]=\"-\",\"-\",IFERROR(IF(Q662=\"\",\"-\",INDEX(I:I,MATCH(Q662,C:C,0)+1)),\"-\"))","v":"-"},"-","-"]
[1171,"MD000740","FONGENAL 25OMG CP.B/30 - GRISEOFULVINE-","GRISEFULVINE","0223","01.01.2022","MG/EXP1",398,"MG/EXP1-B-056",null,0,null,null,132.5,"SAIDAL UNITE CENTRE","-",null,{"$f":"SUMIF(Tableau1[Description article],Tableau1[Produits],Tableau1[Emplacement])","v":0},null,{"$f":"Sheet1!$S663-Sheet1!$R663","v":0},"-","-","-",{"$f":"IFERROR(Tableau1[[#This Row],[THEO]]-Tableau1[[#This Row],[Qtt 2éme lot]],\"-\")","v":"-"},"-",{"$f":"IF(Tableau1[[#This Row],[2éme lot]]=\"-\",\"-\",IFERROR(IF(Q663=\"\",\"-\",INDEX(I:I,MATCH(Q663,C:C,0)+1)),\"-\"))","v":"-"},"-","-"]
[1172,"MD000741","FONGYNE 500MG OVULES GYNECO. B/10","METRONIDAZOLE","9V182*","25.02.2022","MG/EXP1",4,"MG/EXP1-E-055",null,0,null,null,200,"SALEM LABORATOIRES SARL","-",null,{"$f":"SUMIF(Tableau1[Description article],Tableau1[Produits],Tableau1[Emplacement])","v":0},null,{"$f":"Sheet1!$S664-Sheet1!$R664","v":0},"-","-","-",{"$f":"IFERROR(Tableau1[[#This Row],[THEO]]-Tableau1[[#This Row],[Qtt 2éme lot]],\"-\")","v":"-"},"-",{"$f":"IF(Tableau1[[#This Row],[2éme lot]]=\"-\",\"-\",IFERROR(IF(Q664=\"\",\"-\",INDEX(I:I,MATCH(Q664,C:C,0)+1)),\"-\"))","v":"-"},"-","-"]
[1173,"MD000741","FONGYNE 500MG OVULES GYNECO. B/10","METRONIDAZOLE","9V182","01.02.2022","MG/EXP1",119,"MG/EXP1-E-055",null,0,null,null,200,"SALEM LABORATOIRES SARL","-",null,{"$f":"SUMIF(Tableau1[Description article],Tableau1[Produits],Tableau1[Emplacement])","v":0},null,{"$f":"Sheet1!$S665-Sheet1!$R665","v":0},"-","-","-",{"$f":"IFERROR(Tableau1[[#This Row],[THEO]]-Tableau1[[#This Row],[Qtt 2éme lot]],\"-\")","v":"-"},"-",{"$f":"IF(Tableau1[[#This Row],[2éme lot]]=\"-\",\"-\",IFERROR(IF(Q665=\"\",\"-\",INDEX(I:I,MATCH(Q665,C:C,0)+1)),\"-\"))","v":"-"},"-","-"]
[1174,"MD000742","FONITRA 5MG COMP. B/60","ACIDE FOLIQUE","300","01.04.2021","MG/EXP1",64,"MG/EXP1-E-037",null,0,null,null,250,"MM LABORATOIRE MM SARL","-",null,{"$f":"SUMIF(Tableau1[Description article],Tableau1[Produits],Tableau1[Emplacement])","v":0},null,{"$f":"Sheet1!$S666-Sheet1!$R666","v":0},"-","-","-",{"$f":"IFERROR(Tableau1[[#This Row],[THEO]]-Tableau1[[#This Row],[Qtt 2éme lot]],\"-\")","v":"-"},"-",{"$f":"IF(Tableau1[[#This Row],[2éme lot]]=\"-\",\"-\",IFERROR(IF(Q666=\"\",\"-\",INDEX(I:I,MATCH(Q666,C:C,0)+1)),\"-\"))","v":"-"},"-","-"]
[1177,"MD000744","FORACORT HFA 200 200PG/6PG/DSE. SPRAY BUCC. FL/120 DSE.","BUDESONIDE / FORMOTEROL","GB80766","01.05.2020","MG/EXP1",1,"MG/EXP1-BOX6-004",null,0,null,null,2440.69,"BIOPHARM SPA","-",null,{"$f":"SUMIF(Tableau1[Description article],Tableau1[Produits],Tableau1[Emplacement])","v":0},null,{"$f":"Sheet1!$S667-Sheet1!$R667","v":0},"-","-","-",{"$f":"IFERROR(Tableau1[[#This Row],[THEO]]-Tableau1[[#This Row],[Qtt 2éme lot]],\"-\")","v":"-"},"-",{"$f":"IF(Tableau1[[#This Row],[2éme lot]]=\"-\",\"-\",IFERROR(IF(Q667=\"\",\"-\",INDEX(I:I,MATCH(Q667,C:C,0)+1)),\"-\"))","v":"-"},"-","-"]
[1178,"MD000744","FORACORT HFA 200 200PG/6PG/DSE. SPRAY BUCC. FL/120 DSE.","BUDESONIDE / FORMOTEROL","GB81710","01.10.2020","MG/EXP1",154,"MG/EXP1-BOX6-004",null,0,null,null,2444.95,"BIOPHARM SPA","-",null,{"$f":"SUMIF(Tableau1[Description article],Tableau1[Produits],Tableau1[Emplacement])","v":0},null,{"$f":"Sheet1!$S668-Sheet1!$R668","v":0},"-","-","-",{"$f":"IFERROR(Tableau1[[#This Row],[THEO]]-Tableau1[[#This Row],[Qtt 2éme lot]],\"-\")","v":"-"},"-",{"$f":"IF(Tableau1[[#This Row],[2éme lot]]=\"-\",\"-\",IFERROR(IF(Q668=\"\",\"-\",INDEX(I:I,MATCH(Q668,C:C,0)+1)),\"-\"))","v":"-"},"-","-"]
[1179,"MD000746","FORADIL 12PG PDRE.EN GLES.P.INHAL. B/60","FUMARATE DE FORMOTEROL","BJX66","01.01.2021","MG/EXP1",392,"MG/EXP1-BOX6-024",null,0,null,null,2778.92,"AT PHARMA SPA","-",null,{"$f":"SUMIF(Tableau1[Description article],Tableau1[Produits],Tableau1[Emplacement])","v":0},null,{"$f":"Sheet1!$S669-Sheet1!$R669","v":0},"-","-","-",{"$f":"IFERROR(Tableau1[[#This Row],[THEO]]-Tableau1[[#This Row],[Qtt 2éme lot]],\"-\")","v":"-"},"-",{"$f":"IF(Tableau1[[#This Row],[2éme lot]]=\"-\",\"-\",IFERROR(IF(Q669=\"\",\"-\",INDEX(I:I,MATCH(Q669,C:C,0)+1)),\"-\"))","v":"-"},"-","-"]
[1183,"MD000748","FORLAX ENFT.4G 4G/SACH. PDRE.P.SOL.BUV. B/20 SACH.DSE","MACROGOL","P01822","01.02.2022","MG/EXP1",138,"MG/EXP1-F-020",null,0,null,null,356.53,"BIOPHARM SPA","-",null,{"$f":"SUMIF(Tableau1[Description article],Tableau1[Produits],Tableau1[Emplacement])","v":0},null,{"$f":"Sheet1!$S670-Sheet1!$R670","v":0},"-","-","-",{"$f":"IFERROR(Tableau1[[#This Row],[THEO]]-Tableau1[[#This Row],[Qtt 2éme lot]],\"-\")","v":"-"},"-",{"$f":"IF(Tableau1[[#This Row],[2éme lot]]=\"-\",\"-\",IFERROR(IF(Q670=\"\",\"-\",INDEX(I:I,MATCH(Q670,C:C,0)+1)),\"-\"))","v":"-"},"-","-"]
[1184,"MD000751","FORTRANS 64G/5,7G/1,68G/1,46 G/0,75G/SACH. PDRE.P.SOL.BUV. B/04 SACH.","POLYYETHYLEENEGLYCOL/SU NA","P18870","01.08.2022","MG/EXP1",7,"MG/EXP1-G-010",null,0,null,null,844.9,"AT PHARMA SPA","-",null,{"$f":"SUMIF(Tableau1[Description article],Tableau1[Produits],Tableau1[Emplacement])","v":0},null,{"$f":"Sheet1!$S671-Sheet1!$R671","v":0},"-","-","-",{"$f":"IFERROR(Tableau1[[#This Row],[THEO]]-Tableau1[[#This Row],[Qtt 2éme lot]],\"-\")","v":"-"},"-",{"$f":"IF(Tableau1[[#This Row],[2éme lot]]=\"-\",\"-\",IFERROR(IF(Q671=\"\",\"-\",INDEX(I:I,MATCH(Q671,C:C,0)+1)),\"-\"))","v":"-"},"-","-"]
[1185,"MD000752","FORTZAAR 100MG /25MG.COMP.PELL. B/28","LOSARTAN 100/  HYDROCHLORTIAZID 25 MG","1806006","23.12.2021","MG/EXP1",65,"MG/EXP1-E-021",null,0,null,null,2041.5,"AT PHARMA SPA","-",null,{"$f":"SUMIF(Tableau1[Description article],Tableau1[Produits],Tableau1[Emplacement])","v":0},null,{"$f":"Sheet1!$S672-Sheet1!$R672","v":0},"-","-","-",{"$f":"IFERROR(Tableau1[[#This Row],[THEO]]-Tableau1[[#This Row],[Qtt 2éme lot]],\"-\")","v":"-"},"-",{"$f":"IF(Tableau1[[#This Row],[2éme lot]]=\"-\",\"-\",IFERROR(IF(Q672=\"\",\"-\",INDEX(I:I,MATCH(Q672,C:C,0)+1)),\"-\"))","v":"-"},"-","-"]
[1187,"MD000753","FOSTER 100PG/6PG SOL.P.INHAL. FL/120 DSE.","BECLOMETASONE / FORMOTEROL","1095105","01.10.2020","MG/EXP1",41,"MG/EXP1-BOX6",null,0,null,"GLAC",2241.5,"UPC SARL","-",null,{"$f":"SUMIF(Tableau1[Description article],Tableau1[Produits],Tableau1[Emplacement])","v":0},null,{"$f":"Sheet1!$S673-Sheet1!$R673","v":0},"-","-","-",{"$f":"IFERROR(Tableau1[[#This Row],[THEO]]-Tableau1[[#This Row],[Qtt 2éme lot]],\"-\")","v":"-"},"-",{"$f":"IF(Tableau1[[#This Row],[2éme lot]]=\"-\",\"-\",IFERROR(IF(Q673=\"\",\"-\",INDEX(I:I,MATCH(Q673,C:C,0)+1)),\"-\"))","v":"-"},"-","-"]
[1189,"MD000755","FRADENE 20MG/ML SOL.INJ.IM. B/02 AMP/1ML","PIROXICAM","0070","30.11.2022","MG/EXP1",1122,"MG/EXP1-H-001",null,0,null,null,125.1,"PROVIVO SPA","-",null,{"$f":"SUMIF(Tableau1[Description article],Tableau1[Produits],Tableau1[Emplacement])","v":0},null,{"$f":"Sheet1!$S674-Sheet1!$R674","v":0},"-","-","-",{"$f":"IFERROR(Tableau1[[#This Row],[THEO]]-Tableau1[[#This Row],[Qtt 2éme lot]],\"-\")","v":"-"},"-",{"$f":"IF(Tableau1[[#This Row],[2éme lot]]=\"-\",\"-\",IFERROR(IF(Q674=\"\",\"-\",INDEX(I:I,MATCH(Q674,C:C,0)+1)),\"-\"))","v":"-"},"-","-"]
[1190,"MD002243","FRAXAL LP 5MG COMP.PELLI.LP. B/60","ALFUZOSINE CHLORHYDRATE","004","01.06.2020","MG/EXP1",35,"MG/EXP1-E-065",null,0,null,null,1647.5,"PROVIVO SPA","-",null,{"$f":"SUMIF(Tableau1[Description article],Tableau1[Produits],Tableau1[Emplacement])","v":0},null,{"$f":"Sheet1!$S675-Sheet1!$R675","v":0},"-","-","-",{"$f":"IFERROR(Tableau1[[#This Row],[THEO]]-Tableau1[[#This Row],[Qtt 2éme lot]],\"-\")","v":"-"},"-",{"$f":"IF(Tableau1[[#This Row],[2éme lot]]=\"-\",\"-\",IFERROR(IF(Q675=\"\",\"-\",INDEX(I:I,MATCH(Q675,C:C,0)+1)),\"-\"))","v":"-"},"-","-"]
[1191,"MD002798","FRAXIPARINE 2 850UI ANTI-XA/0,3ML SOL.INJ.SC. B/10 SERING.","NADROPARINE CALCIQUE (HBPM)","8101A","01.08.2022","MG/EXP1",429,"MG/EXP1-BOX6-026",null,0,null,null,2539.32,null,"-",null,{"$f":"SUMIF(Tableau1[Description article],Tableau1[Produits],Tableau1[Emplacement])","v":0},null,{"$f":"Sheet1!$S676-Sheet1!$R676","v":0},"-","-","-",{"$f":"IFERROR(Tableau1[[#This Row],[THEO]]-Tableau1[[#This Row],[Qtt 2éme lot]],\"-\")","v":"-"},"-",{"$f":"IF(Tableau1[[#This Row],[2éme lot]]=\"-\",\"-\",IFERROR(IF(Q676=\"\",\"-\",INDEX(I:I,MATCH(Q676,C:C,0)+1)),\"-\"))","v":"-"},"-","-"]
[1192,"MD000759","FREEGAS 80MG COMP.CROQ.SS.SUC.MENTHE B/24","SIMETICONE","102919","01.11.2022","MG/EXP1",46,"MG/EXP1-B-035",null,0,null,null,199.99,"BEKER LABORATOIRES","-",null,{"$f":"SUMIF(Tableau1[Description article],Tableau1[Produits],Tableau1[Emplacement])","v":0},null,{"$f":"Sheet1!$S677-Sheet1!$R677","v":0},"-","-","-",{"$f":"IFERROR(Tableau1[[#This Row],[THEO]]-Tableau1[[#This Row],[Qtt 2éme lot]],\"-\")","v":"-"},"-",{"$f":"IF(Tableau1[[#This Row],[2éme lot]]=\"-\",\"-\",IFERROR(IF(Q677=\"\",\"-\",INDEX(I:I,MATCH(Q677,C:C,0)+1)),\"-\"))","v":"-"},"-","-"]
[1193,"MD000759","FREEGAS 80MG COMP.CROQ.SS.SUC.MENTHE B/24","SIMETICONE","102819","01.11.2022","MG/EXP1",2,"MG/EXP1-B-069",null,0,null,null,199.99,"BEKER LABORATOIRES","-",null,{"$f":"SUMIF(Tableau1[Description article],Tableau1[Produits],Tableau1[Emplacement])","v":0},null,{"$f":"Sheet1!$S678-Sheet1!$R678","v":0},"-","-","-",{"$f":"IFERROR(Tableau1[[#This Row],[THEO]]-Tableau1[[#This Row],[Qtt 2éme lot]],\"-\")","v":"-"},"-",{"$f":"IF(Tableau1[[#This Row],[2éme lot]]=\"-\",\"-\",IFERROR(IF(Q678=\"\",\"-\",INDEX(I:I,MATCH(Q678,C:C,0)+1)),\"-\"))","v":"-"},"-","-"]
[1194,"PP00422","FREYAGYN GEL LUBRIFIANT .B/10 STICKS","GEL LUBRIFIANT ET HYDRATANT","004","01.03.2021","MG/EXP1",3,"MG/EXP1-E-006",null,0,null,null,500,"BIOPHARM SPA","-",null,{"$f":"SUMIF(Tableau1[Description article],Tableau1[Produits],Tableau1[Emplacement])","v":0},null,{"$f":"Sheet1!$S679-Sheet1!$R679","v":0},"-","-","-",{"$f":"IFERROR(Tableau1[[#This Row],[THEO]]-Tableau1[[#This Row],[Qtt 2éme lot]],\"-\")","v":"-"},"-",{"$f":"IF(Tableau1[[#This Row],[2éme lot]]=\"-\",\"-\",IFERROR(IF(Q679=\"\",\"-\",INDEX(I:I,MATCH(Q679,C:C,0)+1)),\"-\"))","v":"-"},"-","-"]
[1195,"MD000760","FRUBIAL FAIBLE 1500UI/125,5MG/20,4 5MG/5ML SOL.BUV. B/20 AMP/5ML","ERGOCALCIFEROL (OU VIT D2) / GLUCONATE DE CALCIUM / PHOSPHATE BICALCIQUE","100","01.06.2021","MG/EXP1",181,"MG/EXP1-H-001",null,0,null,null,260,"SAIDAL UNITE CENTRE","-",null,{"$f":"SUMIF(Tableau1[Description article],Tableau1[Produits],Tableau1[Emplacement])","v":0},null,{"$f":"Sheet1!$S680-Sheet1!$R680","v":0},"-","-","-",{"$f":"IFERROR(Tableau1[[#This Row],[THEO]]-Tableau1[[#This Row],[Qtt 2éme lot]],\"-\")","v":"-"},"-",{"$f":"IF(Tableau1[[#This Row],[2éme lot]]=\"-\",\"-\",IFERROR(IF(Q680=\"\",\"-\",INDEX(I:I,MATCH(Q680,C:C,0)+1)),\"-\"))","v":"-"},"-","-"]
[1197,"MD002475","FUCARE 250MG COMP.PELLI. B/30","ACIDE FUSIDIQUE","4261901","01.07.2021","MG/EXP1",595,"MG/EXP1-G-047",null,0,null,null,781.62,"BIOPHARM SPA","-",null,{"$f":"SUMIF(Tableau1[Description article],Tableau1[Produits],Tableau1[Emplacement])","v":0},null,{"$f":"Sheet1!$S681-Sheet1!$R681","v":0},"-","-","-",{"$f":"IFERROR(Tableau1[[#This Row],[THEO]]-Tableau1[[#This Row],[Qtt 2éme lot]],\"-\")","v":"-"},"-",{"$f":"IF(Tableau1[[#This Row],[2éme lot]]=\"-\",\"-\",IFERROR(IF(Q681=\"\",\"-\",INDEX(I:I,MATCH(Q681,C:C,0)+1)),\"-\"))","v":"-"},"-","-"]
[1199,"MD000761","FUCIDANE 0,02 PDE.DERM. T/15G","ACIDE FUSIDIQUE","19086","01.03.2022","MG/EXP1",287,"MG/EXP1-B-031",null,0,null,null,190,"AFRO PHARM SPA","-",null,{"$f":"SUMIF(Tableau1[Description article],Tableau1[Produits],Tableau1[Emplacement])","v":0},null,{"$f":"Sheet1!$S682-Sheet1!$R682","v":0},"-","-","-",{"$f":"IFERROR(Tableau1[[#This Row],[THEO]]-Tableau1[[#This Row],[Qtt 2éme lot]],\"-\")","v":"-"},"-",{"$f":"IF(Tableau1[[#This Row],[2éme lot]]=\"-\",\"-\",IFERROR(IF(Q682=\"\",\"-\",INDEX(I:I,MATCH(Q682,C:C,0)+1)),\"-\"))","v":"-"},"-","-"]
[1202,"MD000762","FUCIDINE 0,02 PDE.DERM. T/15G","ACIDE FUSIDIQUE","142","01.10.2022","MG/EXP1",150,"MG/EXP1-F-021",null,0,null,null,201.96,"BIOPHARM SPA","-",null,{"$f":"SUMIF(Tableau1[Description article],Tableau1[Produits],Tableau1[Emplacement])","v":0},null,{"$f":"Sheet1!$S683-Sheet1!$R683","v":0},"-","-","-",{"$f":"IFERROR(Tableau1[[#This Row],[THEO]]-Tableau1[[#This Row],[Qtt 2éme lot]],\"-\")","v":"-"},"-",{"$f":"IF(Tableau1[[#This Row],[2éme lot]]=\"-\",\"-\",IFERROR(IF(Q683=\"\",\"-\",INDEX(I:I,MATCH(Q683,C:C,0)+1)),\"-\"))","v":"-"},"-","-"]
[1203,"MD000763","FUCIDINE 250MG COMP.PELLI. B/10","ACIDE FUSIDIQUE","C13395","01.05.2022","MG/EXP1",1628,"MG/EXP1-H-004",null,0,null,null,1163.84,"BIOPHARM SPA","-",null,{"$f":"SUMIF(Tableau1[Description article],Tableau1[Produits],Tableau1[Emplacement])","v":0},null,{"$f":"Sheet1!$S684-Sheet1!$R684","v":0},"-","-","-",{"$f":"IFERROR(Tableau1[[#This Row],[THEO]]-Tableau1[[#This Row],[Qtt 2éme lot]],\"-\")","v":"-"},"-",{"$f":"IF(Tableau1[[#This Row],[2éme lot]]=\"-\",\"-\",IFERROR(IF(Q684=\"\",\"-\",INDEX(I:I,MATCH(Q684,C:C,0)+1)),\"-\"))","v":"-"},"-","-"]
[1205,"MD000763","FUCIDINE 250MG COMP.PELLI. B/10","ACIDE FUSIDIQUE","C10385","01.03.2022","MG/EXP1",11,"MG/EXP1-B-037",null,0,null,null,1176.78,"BIOPHARM SPA","-",null,{"$f":"SUMIF(Tableau1[Description article],Tableau1[Produits],Tableau1[Emplacement])","v":0},null,{"$f":"Sheet1!$S685-Sheet1!$R685","v":0},"-","-","-",{"$f":"IFERROR(Tableau1[[#This Row],[THEO]]-Tableau1[[#This Row],[Qtt 2éme lot]],\"-\")","v":"-"},"-",{"$f":"IF(Tableau1[[#This Row],[2éme lot]]=\"-\",\"-\",IFERROR(IF(Q685=\"\",\"-\",INDEX(I:I,MATCH(Q685,C:C,0)+1)),\"-\"))","v":"-"},"-","-"]
[1206,"MD000764","FUCIDINE 250MG/5ML SUSP.BUV. FL/90ML","ACIDE FUSIDIQUE","A96462","01.03.2022","MG/EXP1",65,"MG/EXP1-BOX6-020",null,0,null,null,1841.37,"AT PHARMA SPA","-",null,{"$f":"SUMIF(Tableau1[Description article],Tableau1[Produits],Tableau1[Emplacement])","v":0},null,{"$f":"Sheet1!$S686-Sheet1!$R686","v":0},"-","-","-",{"$f":"IFERROR(Tableau1[[#This Row],[THEO]]-Tableau1[[#This Row],[Qtt 2éme lot]],\"-\")","v":"-"},"-",{"$f":"IF(Tableau1[[#This Row],[2éme lot]]=\"-\",\"-\",IFERROR(IF(Q686=\"\",\"-\",INDEX(I:I,MATCH(Q686,C:C,0)+1)),\"-\"))","v":"-"},"-","-"]
[1210,"MD000765","FUCITHALMIC 0,01 GEL OPHT. T/3G","FUCIDATE DE SODIUM","C03163","12.05.2022","MG/EXP1",142,"MG/EXP1-A-052",null,0,null,null,300.08,"AT PHARMA SPA","-",null,{"$f":"SUMIF(Tableau1[Description article],Tableau1[Produits],Tableau1[Emplacement])","v":0},null,{"$f":"Sheet1!$S687-Sheet1!$R687","v":0},"-","-","-",{"$f":"IFERROR(Tableau1[[#This Row],[THEO]]-Tableau1[[#This Row],[Qtt 2éme lot]],\"-\")","v":"-"},"-",{"$f":"IF(Tableau1[[#This Row],[2éme lot]]=\"-\",\"-\",IFERROR(IF(Q687=\"\",\"-\",INDEX(I:I,MATCH(Q687,C:C,0)+1)),\"-\"))","v":"-"},"-","-"]
[1211,"MD000769","FUROSAN 500MG COMP.SEC. B/20","FUROSEMIDE","170424","01.09.2022","MG/EXP1",41,"MG/EXP1-G-004",null,0,null,null,529.16,"GEO-PHARM SARL","-",null,{"$f":"SUMIF(Tableau1[Description article],Tableau1[Produits],Tableau1[Emplacement])","v":0},null,{"$f":"Sheet1!$S688-Sheet1!$R688","v":0},"-","-","-",{"$f":"IFERROR(Tableau1[[#This Row],[THEO]]-Tableau1[[#This Row],[Qtt 2éme lot]],\"-\")","v":"-"},"-",{"$f":"IF(Tableau1[[#This Row],[2éme lot]]=\"-\",\"-\",IFERROR(IF(Q688=\"\",\"-\",INDEX(I:I,MATCH(Q688,C:C,0)+1)),\"-\"))","v":"-"},"-","-"]
[1212,"MD000770","FUROSEMIDE HUP 40MG COMP.SEC. B/20","FUROSEMIDE","039","01.04.2022","MG/EXP1",77,"MG/EXP1-A-033",null,0,null,null,138.5,"HUP.P PHARMA SARL","-",null,{"$f":"SUMIF(Tableau1[Description article],Tableau1[Produits],Tableau1[Emplacement])","v":0},null,{"$f":"Sheet1!$S689-Sheet1!$R689","v":0},"-","-","-",{"$f":"IFERROR(Tableau1[[#This Row],[THEO]]-Tableau1[[#This Row],[Qtt 2éme lot]],\"-\")","v":"-"},"-",{"$f":"IF(Tableau1[[#This Row],[2éme lot]]=\"-\",\"-\",IFERROR(IF(Q689=\"\",\"-\",INDEX(I:I,MATCH(Q689,C:C,0)+1)),\"-\"))","v":"-"},"-","-"]
[1215,"MD000768","FUROZAL 40MG COMP.SEC. B/20","FUROSEMIDE","0694","01.06.2022","MG/EXP1",117,"MG/EXP1-C-005",null,0,null,null,138.5,"SAIDAL UNITE CENTRE","-",null,{"$f":"SUMIF(Tableau1[Description article],Tableau1[Produits],Tableau1[Emplacement])","v":0},null,{"$f":"Sheet1!$S690-Sheet1!$R690","v":0},"-","-","-",{"$f":"IFERROR(Tableau1[[#This Row],[THEO]]-Tableau1[[#This Row],[Qtt 2éme lot]],\"-\")","v":"-"},"-",{"$f":"IF(Tableau1[[#This Row],[2éme lot]]=\"-\",\"-\",IFERROR(IF(Q690=\"\",\"-\",INDEX(I:I,MATCH(Q690,C:C,0)+1)),\"-\"))","v":"-"},"-","-"]
[1217,"MD000771","GABATREX 300MG GLES. B/50","GABAPENTINE","05303","01.07.2022","MG/EXP1",252,"MG/EXP1-BOX6-PSY-017",null,0,null,"PSY",1310.32,"HIKMA PHARMA ALGERIA SARL","-",null,{"$f":"SUMIF(Tableau1[Description article],Tableau1[Produits],Tableau1[Emplacement])","v":0},null,{"$f":"Sheet1!$S691-Sheet1!$R691","v":0},"-","-","-",{"$f":"IFERROR(Tableau1[[#This Row],[THEO]]-Tableau1[[#This Row],[Qtt 2éme lot]],\"-\")","v":"-"},"-",{"$f":"IF(Tableau1[[#This Row],[2éme lot]]=\"-\",\"-\",IFERROR(IF(Q691=\"\",\"-\",INDEX(I:I,MATCH(Q691,C:C,0)+1)),\"-\"))","v":"-"},"-","-"]
[1218,"MD000772","GABATREX 400MG GLES. B/50","GABAPENTINE","04871","01.08.2021","MG/EXP1",19,"MG/EXP1-BOX6-PSY-017",null,0,null,"PSY",1605.14,"HIKMA PHARMA ALGERIA SARL","-",null,{"$f":"SUMIF(Tableau1[Description article],Tableau1[Produits],Tableau1[Emplacement])","v":0},null,{"$f":"Sheet1!$S692-Sheet1!$R692","v":0},"-","-","-",{"$f":"IFERROR(Tableau1[[#This Row],[THEO]]-Tableau1[[#This Row],[Qtt 2éme lot]],\"-\")","v":"-"},"-",{"$f":"IF(Tableau1[[#This Row],[2éme lot]]=\"-\",\"-\",IFERROR(IF(Q692=\"\",\"-\",INDEX(I:I,MATCH(Q692,C:C,0)+1)),\"-\"))","v":"-"},"-","-"]
[1221,"MD000779","GATIFLOXACINE GL 0.3% COLLYRE .F/5ML - TYMER -","GATIFLOXACINE","0019","30.09.2020","MG/EXP1",131,"MG/EXP1-A-042",null,0,null,null,633.82,"GENERICLAB SARL","-",null,{"$f":"SUMIF(Tableau1[Description article],Tableau1[Produits],Tableau1[Emplacement])","v":0},null,{"$f":"Sheet1!$S693-Sheet1!$R693","v":0},"-","-","-",{"$f":"IFERROR(Tableau1[[#This Row],[THEO]]-Tableau1[[#This Row],[Qtt 2éme lot]],\"-\")","v":"-"},"-",{"$f":"IF(Tableau1[[#This Row],[2éme lot]]=\"-\",\"-\",IFERROR(IF(Q693=\"\",\"-\",INDEX(I:I,MATCH(Q693,C:C,0)+1)),\"-\"))","v":"-"},"-","-"]
[1223,"PP00125","GELPHORE  PLUS  FLACONS 2000 MG - B/10",null,"A104","01.12.2021","MG/EXP1",42,"MG/EXP1-B-043",null,0,null,null,1100,"PROVIVO SPA","-",null,{"$f":"SUMIF(Tableau1[Description article],Tableau1[Produits],Tableau1[Emplacement])","v":0},null,{"$f":"Sheet1!$S694-Sheet1!$R694","v":0},"-","-","-",{"$f":"IFERROR(Tableau1[[#This Row],[THEO]]-Tableau1[[#This Row],[Qtt 2éme lot]],\"-\")","v":"-"},"-",{"$f":"IF(Tableau1[[#This Row],[2éme lot]]=\"-\",\"-\",IFERROR(IF(Q694=\"\",\"-\",INDEX(I:I,MATCH(Q694,C:C,0)+1)),\"-\"))","v":"-"},"-","-"]
[1225,"PP00126","GELPHORE 1000 FLACONS  . B/10",null,"B786","01.06.2022","MG/EXP1",44,"MG/EXP1-B-022",null,0,null,null,950,"PROVIVO SPA","-",null,{"$f":"SUMIF(Tableau1[Description article],Tableau1[Produits],Tableau1[Emplacement])","v":0},null,{"$f":"Sheet1!$S695-Sheet1!$R695","v":0},"-","-","-",{"$f":"IFERROR(Tableau1[[#This Row],[THEO]]-Tableau1[[#This Row],[Qtt 2éme lot]],\"-\")","v":"-"},"-",{"$f":"IF(Tableau1[[#This Row],[2éme lot]]=\"-\",\"-\",IFERROR(IF(Q695=\"\",\"-\",INDEX(I:I,MATCH(Q695,C:C,0)+1)),\"-\"))","v":"-"},"-","-"]
[1226,"PP00465","GELPHORE BOOST SOL.BUV. FL/11ML B/10","GELEE ROYALE + POLLEN + PROPOLIS + VITAMINE E","B 437","01.05.2022","MG/EXP1",13,"MG/EXP1-E-047",null,0,null,null,1650,"PROVIVO SPA","-",null,{"$f":"SUMIF(Tableau1[Description article],Tableau1[Produits],Tableau1[Emplacement])","v":0},null,{"$f":"Sheet1!$S696-Sheet1!$R696","v":0},"-","-","-",{"$f":"IFERROR(Tableau1[[#This Row],[THEO]]-Tableau1[[#This Row],[Qtt 2éme lot]],\"-\")","v":"-"},"-",{"$f":"IF(Tableau1[[#This Row],[2éme lot]]=\"-\",\"-\",IFERROR(IF(Q696=\"\",\"-\",INDEX(I:I,MATCH(Q696,C:C,0)+1)),\"-\"))","v":"-"},"-","-"]
[1227,"PP00129","GELPHORE CURCUMA .B/10 AMP",null,"X526","01.06.2021","MG/EXP1",6,"MG/EXP1-G-026",null,0,null,null,1200,"PROVIVO SPA","-",null,{"$f":"SUMIF(Tableau1[Description article],Tableau1[Produits],Tableau1[Emplacement])","v":0},null,{"$f":"Sheet1!$S697-Sheet1!$R697","v":0},"-","-","-",{"$f":"IFERROR(Tableau1[[#This Row],[THEO]]-Tableau1[[#This Row],[Qtt 2éme lot]],\"-\")","v":"-"},"-",{"$f":"IF(Tableau1[[#This Row],[2éme lot]]=\"-\",\"-\",IFERROR(IF(Q697=\"\",\"-\",INDEX(I:I,MATCH(Q697,C:C,0)+1)),\"-\"))","v":"-"},"-","-"]
[1230,"PP00130","GELPHORE FER +VIT C FLACONS B/10",null,"A087","01.12.2021","MG/EXP1",18,"MG/EXP1-F-026",null,0,null,null,980,"PROVIVO SPA","-",null,{"$f":"SUMIF(Tableau1[Description article],Tableau1[Produits],Tableau1[Emplacement])","v":0},null,{"$f":"Sheet1!$S698-Sheet1!$R698","v":0},"-","-","-",{"$f":"IFERROR(Tableau1[[#This Row],[THEO]]-Tableau1[[#This Row],[Qtt 2éme lot]],\"-\")","v":"-"},"-",{"$f":"IF(Tableau1[[#This Row],[2éme lot]]=\"-\",\"-\",IFERROR(IF(Q698=\"\",\"-\",INDEX(I:I,MATCH(Q698,C:C,0)+1)),\"-\"))","v":"-"},"-","-"]
[1231,"PP00131","GELPHORE GINGEMBRE B/10 AMP",null,"X849","01.07.2021","MG/EXP1",47,"MG/EXP1-A-022",null,0,null,null,940,"PROVIVO SPA","-",null,{"$f":"SUMIF(Tableau1[Description article],Tableau1[Produits],Tableau1[Emplacement])","v":0},null,{"$f":"Sheet1!$S699-Sheet1!$R699","v":0},"-","-","-",{"$f":"IFERROR(Tableau1[[#This Row],[THEO]]-Tableau1[[#This Row],[Qtt 2éme lot]],\"-\")","v":"-"},"-",{"$f":"IF(Tableau1[[#This Row],[2éme lot]]=\"-\",\"-\",IFERROR(IF(Q699=\"\",\"-\",INDEX(I:I,MATCH(Q699,C:C,0)+1)),\"-\"))","v":"-"},"-","-"]
[1233,"PP00132","GELPHORE JUNIOR  FLACONS. 500MG.B/10",null,"B279","01.05.2022","MG/EXP1",31,"MG/EXP1-B-008",null,0,null,null,750,"PROVIVO SPA","-",null,{"$f":"SUMIF(Tableau1[Description article],Tableau1[Produits],Tableau1[Emplacement])","v":0},null,{"$f":"Sheet1!$S700-Sheet1!$R700","v":0},"-","-","-",{"$f":"IFERROR(Tableau1[[#This Row],[THEO]]-Tableau1[[#This Row],[Qtt 2éme lot]],\"-\")","v":"-"},"-",{"$f":"IF(Tableau1[[#This Row],[2éme lot]]=\"-\",\"-\",IFERROR(IF(Q700=\"\",\"-\",INDEX(I:I,MATCH(Q700,C:C,0)+1)),\"-\"))","v":"-"},"-","-"]
[1234,"PP00133","GELPHORE MACA B/10 AMP",null,"B452","01.05.2022","MG/EXP1",40,"MG/EXP1-C-048",null,0,null,null,1151.35,"PROVIVO SPA","-",null,{"$f":"SUMIF(Tableau1[Description article],Tableau1[Produits],Tableau1[Emplacement])","v":0},null,{"$f":"Sheet1!$S701-Sheet1!$R701","v":0},"-","-","-",{"$f":"IFERROR(Tableau1[[#This Row],[THEO]]-Tableau1[[#This Row],[Qtt 2éme lot]],\"-\")","v":"-"},"-",{"$f":"IF(Tableau1[[#This Row],[2éme lot]]=\"-\",\"-\",IFERROR(IF(Q701=\"\",\"-\",INDEX(I:I,MATCH(Q701,C:C,0)+1)),\"-\"))","v":"-"},"-","-"]
[1237,"PP00134","GELPHORE MAG FLACONS B/10",null,"A008","01.11.2021","MG/EXP1",34,"MG/EXP1-A-071",null,0,null,null,1050,"PROVIVO SPA","-",null,{"$f":"SUMIF(Tableau1[Description article],Tableau1[Produits],Tableau1[Emplacement])","v":0},null,{"$f":"Sheet1!$S702-Sheet1!$R702","v":0},"-","-","-",{"$f":"IFERROR(Tableau1[[#This Row],[THEO]]-Tableau1[[#This Row],[Qtt 2éme lot]],\"-\")","v":"-"},"-",{"$f":"IF(Tableau1[[#This Row],[2éme lot]]=\"-\",\"-\",IFERROR(IF(Q702=\"\",\"-\",INDEX(I:I,MATCH(Q702,C:C,0)+1)),\"-\"))","v":"-"},"-","-"]
[1238,"PP00135","GELPHORE NOBILETINE  FLACONS 2000 MG - B/10",null,"V260","01.09.2020","MG/EXP1",22,"MG/EXP1-D-058",null,0,null,null,1100,"PROVIVO SPA","-",null,{"$f":"SUMIF(Tableau1[Description article],Tableau1[Produits],Tableau1[Emplacement])","v":0},null,{"$f":"Sheet1!$S703-Sheet1!$R703","v":0},"-","-","-",{"$f":"IFERROR(Tableau1[[#This Row],[THEO]]-Tableau1[[#This Row],[Qtt 2éme lot]],\"-\")","v":"-"},"-",{"$f":"IF(Tableau1[[#This Row],[2éme lot]]=\"-\",\"-\",IFERROR(IF(Q703=\"\",\"-\",INDEX(I:I,MATCH(Q703,C:C,0)+1)),\"-\"))","v":"-"},"-","-"]
[1239,"PP00136","GELPHORE PRO 3500 MG. B/10 FALCONS",null,"C017","01.07.2022","MG/EXP1",56,"MG/EXP1-F-045",null,0,null,null,1350,"PROVIVO SPA","-",null,{"$f":"SUMIF(Tableau1[Description article],Tableau1[Produits],Tableau1[Emplacement])","v":0},null,{"$f":"Sheet1!$S704-Sheet1!$R704","v":0},"-","-","-",{"$f":"IFERROR(Tableau1[[#This Row],[THEO]]-Tableau1[[#This Row],[Qtt 2éme lot]],\"-\")","v":"-"},"-",{"$f":"IF(Tableau1[[#This Row],[2éme lot]]=\"-\",\"-\",IFERROR(IF(Q704=\"\",\"-\",INDEX(I:I,MATCH(Q704,C:C,0)+1)),\"-\"))","v":"-"},"-","-"]
[1241,"MD000782","GELTIM LP 1MG/G GEL OPHT. B/30 RCP..UNOSE.SACH/10G","TIMOLOL","737GT","01.11.2021","MG/EXP1",4,"MG/EXP1-D-037",null,0,null,null,1058.1,"BIOPHARM SPA","-",null,{"$f":"SUMIF(Tableau1[Description article],Tableau1[Produits],Tableau1[Emplacement])","v":0},null,{"$f":"Sheet1!$S705-Sheet1!$R705","v":0},"-","-","-",{"$f":"IFERROR(Tableau1[[#This Row],[THEO]]-Tableau1[[#This Row],[Qtt 2éme lot]],\"-\")","v":"-"},"-",{"$f":"IF(Tableau1[[#This Row],[2éme lot]]=\"-\",\"-\",IFERROR(IF(Q705=\"\",\"-\",INDEX(I:I,MATCH(Q705,C:C,0)+1)),\"-\"))","v":"-"},"-","-"]
[1242,"PP00139","GENI KID SIROP MEMOIRE ET CONCENTRATION .F/200ML",null,"GS-1809B","31.10.2021","MG/EXP1",12,"MG/EXP1-A-028",null,0,null,null,550,"MAGPHARM LABORATOIRES SARL",{"$f":"IFERROR(IF(Q706=\"\",\"-\",INDEX(I:I,MATCH(Q706,C:C,0))),\"-\")","v":"-"},null,{"$f":"SUMIF(Tableau1[Description article],Tableau1[Produits],Tableau1[Emplacement])","v":0},null,{"$f":"Sheet1!$S706-Sheet1!$R706","v":0},{"$f":"IFERROR(IF(Q706=\"\",\"-\",INDEX(F:F,MATCH(Q706,C:C,0))),\"-\")","v":"-"},{"$f":"IFERROR(IF(Q706=\"\",\"-\",INDEX(E:E,MATCH(Q706,C:C,0))),\"-\")","v":"-"},{"$f":"IFERROR(IF(Q706=\"\",\"-\",INDEX(N:N,MATCH(Q706,C:C,0))),\"-\")","v":"-"},{"$f":"IFERROR(Tableau1[[#This Row],[THEO]]-Tableau1[[#This Row],[Qtt 2éme lot]],\"-\")","v":"-"},{"$f":"IF(IF(Q706=\"\",\"-\",INDEX(E:E,MATCH(Q706,C:C,0)))=IF(Q706=\"\",\"-\",INDEX(E:E,MATCH(Q706,C:C,1))),\"-\",IF(Q706=\"\",\"-\",INDEX(E:E,MATCH(Q706,C:C,1))))","v":"-"},{"$f":"IF(Tableau1[[#This Row],[2éme lot]]=\"-\",\"-\",IFERROR(IF(Q706=\"\",\"-\",INDEX(I:I,MATCH(Q706,C:C,0)+1)),\"-\"))","v":"-"},{"$f":"IFERROR(IF(Y706=\"\",\"-\",INDEX(N:N,MATCH(Y706,E:E,0))),\"-\")","v":"-"},{"$f":"IFERROR(IF(AA706=\"\",\"-\",INDEX(H:H,MATCH(Y706,E:E,0))),\"-\")","v":"-"}]
[1243,"MD002280","GENISTRIL SOL.BAIN BOUCHE FL/125ML",null,"01-19","01.02.2021","MG/EXP1",76,"MG/EXP1-G-013",null,0,null,null,250,"BIOREAL PHARM SPA","-",null,{"$f":"SUMIF(Tableau1[Description article],Tableau1[Produits],Tableau1[Emplacement])","v":0},null,{"$f":"Sheet1!$S707-Sheet1!$R707","v":0},"-","-","-",{"$f":"IFERROR(Tableau1[[#This Row],[THEO]]-Tableau1[[#This Row],[Qtt 2éme lot]],\"-\")","v":"-"},"-",{"$f":"IF(Tableau1[[#This Row],[2éme lot]]=\"-\",\"-\",IFERROR(IF(Q707=\"\",\"-\",INDEX(I:I,MATCH(Q707,C:C,0)+1)),\"-\"))","v":"-"},"-","-"]
[1244,"MD002433","GENTACINE 80MG/2ML SOL.INJ.IM.\\IV. B/05 AMP/2ML","GENTAMYCINE","008","01.10.2021","MG/EXP1",17,"MG/EXP1-A-013",null,0,null,null,475.83,"HUP.P PHARMA SARL","-",null,{"$f":"SUMIF(Tableau1[Description article],Tableau1[Produits],Tableau1[Emplacement])","v":0},null,{"$f":"Sheet1!$S708-Sheet1!$R708","v":0},"-","-","-",{"$f":"IFERROR(Tableau1[[#This Row],[THEO]]-Tableau1[[#This Row],[Qtt 2éme lot]],\"-\")","v":"-"},"-",{"$f":"IF(Tableau1[[#This Row],[2éme lot]]=\"-\",\"-\",IFERROR(IF(Q708=\"\",\"-\",INDEX(I:I,MATCH(Q708,C:C,0)+1)),\"-\"))","v":"-"},"-","-"]
[1245,"MD002406","GENTOCIL 3MG/ML COLLY.SOL. FL/5ML","GENTAMICINE** (SOUS FORME DE SULFATE)","190546","01.05.2021","MG/EXP1",463,"MG/EXP1-G-005",null,0,null,null,175.3,"AT PHARMA SPA","-",null,{"$f":"SUMIF(Tableau1[Description article],Tableau1[Produits],Tableau1[Emplacement])","v":0},null,{"$f":"Sheet1!$S709-Sheet1!$R709","v":0},"-","-","-",{"$f":"IFERROR(Tableau1[[#This Row],[THEO]]-Tableau1[[#This Row],[Qtt 2éme lot]],\"-\")","v":"-"},"-",{"$f":"IF(Tableau1[[#This Row],[2éme lot]]=\"-\",\"-\",IFERROR(IF(Q709=\"\",\"-\",INDEX(I:I,MATCH(Q709,C:C,0)+1)),\"-\"))","v":"-"},"-","-"]
[1247,"MD004024","GEOFER 100MG/5ML SOL.BUV. B/10 FLC","HYDROXYDE FERRIQUE POLYMALTOSE","6T095","01.10.2021","MG/EXP1",43,"MG/EXP1-B-032",null,0,null,null,550,"GEO-PHARM SARL","-",null,{"$f":"SUMIF(Tableau1[Description article],Tableau1[Produits],Tableau1[Emplacement])","v":0},null,{"$f":"Sheet1!$S710-Sheet1!$R710","v":0},"-","-","-",{"$f":"IFERROR(Tableau1[[#This Row],[THEO]]-Tableau1[[#This Row],[Qtt 2éme lot]],\"-\")","v":"-"},"-",{"$f":"IF(Tableau1[[#This Row],[2éme lot]]=\"-\",\"-\",IFERROR(IF(Q710=\"\",\"-\",INDEX(I:I,MATCH(Q710,C:C,0)+1)),\"-\"))","v":"-"},"-","-"]
[1249,"MD004161","GEOFER 50G/5MG/ML (0,005%/0,5%)  FL/100 ML","HYDROXYDE FERRIQUE POLYMALTOSE","6t035","01.06.2021","MG/EXP1",21,"MG/EXP1-G-037",null,0,null,null,200,"GEO-PHARM SARL","-",null,{"$f":"SUMIF(Tableau1[Description article],Tableau1[Produits],Tableau1[Emplacement])","v":0},null,{"$f":"Sheet1!$S711-Sheet1!$R711","v":0},"-","-","-",{"$f":"IFERROR(Tableau1[[#This Row],[THEO]]-Tableau1[[#This Row],[Qtt 2éme lot]],\"-\")","v":"-"},"-",{"$f":"IF(Tableau1[[#This Row],[2éme lot]]=\"-\",\"-\",IFERROR(IF(Q711=\"\",\"-\",INDEX(I:I,MATCH(Q711,C:C,0)+1)),\"-\"))","v":"-"},"-","-"]
[1250,"MD002241","GESPASPON 150MG SUPP. B/10","PHLOROGLUCINOL","19","01.05.2022","MG/EXP1",44,"MG/EXP1-C-020",null,0,null,null,200,"ARAB PHARM","-",null,{"$f":"SUMIF(Tableau1[Description article],Tableau1[Produits],Tableau1[Emplacement])","v":0},null,{"$f":"Sheet1!$S712-Sheet1!$R712","v":0},"-","-","-",{"$f":"IFERROR(Tableau1[[#This Row],[THEO]]-Tableau1[[#This Row],[Qtt 2éme lot]],\"-\")","v":"-"},"-",{"$f":"IF(Tableau1[[#This Row],[2éme lot]]=\"-\",\"-\",IFERROR(IF(Q712=\"\",\"-\",INDEX(I:I,MATCH(Q712,C:C,0)+1)),\"-\"))","v":"-"},"-","-"]
[1253,"PP00142","GINSENPHORE A LA VIT E. B/10 FLACONS",null,"Z410","01.06.2020","MG/EXP1",12,"MG/EXP1-D-052",null,0,null,null,965,"PROVIVO SPA","-",null,{"$f":"SUMIF(Tableau1[Description article],Tableau1[Produits],Tableau1[Emplacement])","v":0},null,{"$f":"Sheet1!$S713-Sheet1!$R713","v":0},"-","-","-",{"$f":"IFERROR(Tableau1[[#This Row],[THEO]]-Tableau1[[#This Row],[Qtt 2éme lot]],\"-\")","v":"-"},"-",{"$f":"IF(Tableau1[[#This Row],[2éme lot]]=\"-\",\"-\",IFERROR(IF(Q713=\"\",\"-\",INDEX(I:I,MATCH(Q713,C:C,0)+1)),\"-\"))","v":"-"},"-","-"]
[1254,"MD002218","GIZLAN 150MG COMP.PELLI. B/30","IRBESARTAN","AA91","01.08.2021","MG/EXP1",45,"MG/EXP1-F-040",null,0,null,null,1287.5,"DAR AL DAWA SARL","-",null,{"$f":"SUMIF(Tableau1[Description article],Tableau1[Produits],Tableau1[Emplacement])","v":0},null,{"$f":"Sheet1!$S714-Sheet1!$R714","v":0},"-","-","-",{"$f":"IFERROR(Tableau1[[#This Row],[THEO]]-Tableau1[[#This Row],[Qtt 2éme lot]],\"-\")","v":"-"},"-",{"$f":"IF(Tableau1[[#This Row],[2éme lot]]=\"-\",\"-\",IFERROR(IF(Q714=\"\",\"-\",INDEX(I:I,MATCH(Q714,C:C,0)+1)),\"-\"))","v":"-"},"-","-"]
[1256,"MD000787","GLATIX 30MG COMP.LM. B/30","GLICLAZIDE","044","01.04.2021","MG/EXP1",60,"MG/EXP1-E-039",null,0,null,null,447.5,"BIOPHARM SPA","-",null,{"$f":"SUMIF(Tableau1[Description article],Tableau1[Produits],Tableau1[Emplacement])","v":0},null,{"$f":"Sheet1!$S715-Sheet1!$R715","v":0},"-","-","-",{"$f":"IFERROR(Tableau1[[#This Row],[THEO]]-Tableau1[[#This Row],[Qtt 2éme lot]],\"-\")","v":"-"},"-",{"$f":"IF(Tableau1[[#This Row],[2éme lot]]=\"-\",\"-\",IFERROR(IF(Q715=\"\",\"-\",INDEX(I:I,MATCH(Q715,C:C,0)+1)),\"-\"))","v":"-"},"-","-"]
[1258,"MD000789","GLICLAZIDE BGL 30MG COMP.PELLI.LM. B/30","GLICLAZIDE","024","01.09.2021","MG/EXP1",128,"MG/EXP1-A-055",null,0,null,null,448.8,"BIO-GALENIC SARL","-",null,{"$f":"SUMIF(Tableau1[Description article],Tableau1[Produits],Tableau1[Emplacement])","v":0},null,{"$f":"Sheet1!$S716-Sheet1!$R716","v":0},"-","-","-",{"$f":"IFERROR(Tableau1[[#This Row],[THEO]]-Tableau1[[#This Row],[Qtt 2éme lot]],\"-\")","v":"-"},"-",{"$f":"IF(Tableau1[[#This Row],[2éme lot]]=\"-\",\"-\",IFERROR(IF(Q716=\"\",\"-\",INDEX(I:I,MATCH(Q716,C:C,0)+1)),\"-\"))","v":"-"},"-","-"]
[1259,"MD000791","GLIMEPIRIDE BEKER 2MG COMP.SEC. B/30","GLIMEPIRIDE","075718","01.08.2021","MG/EXP1",210,"MG/EXP1-D-026",null,0,null,null,477.5,"BEKER LABORATOIRES","-",null,{"$f":"SUMIF(Tableau1[Description article],Tableau1[Produits],Tableau1[Emplacement])","v":0},null,{"$f":"Sheet1!$S717-Sheet1!$R717","v":0},"-","-","-",{"$f":"IFERROR(Tableau1[[#This Row],[THEO]]-Tableau1[[#This Row],[Qtt 2éme lot]],\"-\")","v":"-"},"-",{"$f":"IF(Tableau1[[#This Row],[2éme lot]]=\"-\",\"-\",IFERROR(IF(Q717=\"\",\"-\",INDEX(I:I,MATCH(Q717,C:C,0)+1)),\"-\"))","v":"-"},"-","-"]
[1261,"MD000792","GLIMEPIRIDE BEKER 3MG COMP.SEC. B/30","GLIMEPIRIDE","015519","01.02.2022","MG/EXP1",33,"MG/EXP1-D-050",null,0,null,null,717.5,"BEKER LABORATOIRES","-",null,{"$f":"SUMIF(Tableau1[Description article],Tableau1[Produits],Tableau1[Emplacement])","v":0},null,{"$f":"Sheet1!$S718-Sheet1!$R718","v":0},"-","-","-",{"$f":"IFERROR(Tableau1[[#This Row],[THEO]]-Tableau1[[#This Row],[Qtt 2éme lot]],\"-\")","v":"-"},"-",{"$f":"IF(Tableau1[[#This Row],[2éme lot]]=\"-\",\"-\",IFERROR(IF(Q718=\"\",\"-\",INDEX(I:I,MATCH(Q718,C:C,0)+1)),\"-\"))","v":"-"},"-","-"]
[1264,"MD000793","GLIMEPIRIDE BEKER 4MG COMP.SEC. B/30","GLIMEPIRIDE","076118","15.08.2021","MG/EXP1",176,"MG/EXP1-A-033",null,0,null,null,747.5,"BEKER LABORATOIRES","-",null,{"$f":"SUMIF(Tableau1[Description article],Tableau1[Produits],Tableau1[Emplacement])","v":0},null,{"$f":"Sheet1!$S719-Sheet1!$R719","v":0},"-","-","-",{"$f":"IFERROR(Tableau1[[#This Row],[THEO]]-Tableau1[[#This Row],[Qtt 2éme lot]],\"-\")","v":"-"},"-",{"$f":"IF(Tableau1[[#This Row],[2éme lot]]=\"-\",\"-\",IFERROR(IF(Q719=\"\",\"-\",INDEX(I:I,MATCH(Q719,C:C,0)+1)),\"-\"))","v":"-"},"-","-"]
[1266,"MD000798","GLINIX 0,5MG COMP. B/30","REPAGLINIDE","05166","01.03.2022","MG/EXP1",166,"MG/EXP1-F-034",null,0,null,null,353.3,"HIKMA PHARMA ALGERIA SARL","-",null,{"$f":"SUMIF(Tableau1[Description article],Tableau1[Produits],Tableau1[Emplacement])","v":0},null,{"$f":"Sheet1!$S720-Sheet1!$R720","v":0},"-","-","-",{"$f":"IFERROR(Tableau1[[#This Row],[THEO]]-Tableau1[[#This Row],[Qtt 2éme lot]],\"-\")","v":"-"},"-",{"$f":"IF(Tableau1[[#This Row],[2éme lot]]=\"-\",\"-\",IFERROR(IF(Q720=\"\",\"-\",INDEX(I:I,MATCH(Q720,C:C,0)+1)),\"-\"))","v":"-"},"-","-"]
[1269,"MD000798","GLINIX 0,5MG COMP. B/30","REPAGLINIDE","05090","01.01.2022","MG/EXP1",8,"MG/EXP1-A-045",null,0,null,null,353.3,"HIKMA PHARMA ALGERIA SARL","-",null,{"$f":"SUMIF(Tableau1[Description article],Tableau1[Produits],Tableau1[Emplacement])","v":0},null,{"$f":"Sheet1!$S721-Sheet1!$R721","v":0},"-","-","-",{"$f":"IFERROR(Tableau1[[#This Row],[THEO]]-Tableau1[[#This Row],[Qtt 2éme lot]],\"-\")","v":"-"},"-",{"$f":"IF(Tableau1[[#This Row],[2éme lot]]=\"-\",\"-\",IFERROR(IF(Q721=\"\",\"-\",INDEX(I:I,MATCH(Q721,C:C,0)+1)),\"-\"))","v":"-"},"-","-"]
[1270,"MD000799","GLINIX 1MG COMP. B/30","REPAGLINIDE","05091","01.01.2022","MG/EXP1",180,"MG/EXP1-B-058",null,0,null,null,368.3,"HIKMA PHARMA ALGERIA SARL","-",null,{"$f":"SUMIF(Tableau1[Description article],Tableau1[Produits],Tableau1[Emplacement])","v":0},null,{"$f":"Sheet1!$S722-Sheet1!$R722","v":0},"-","-","-",{"$f":"IFERROR(Tableau1[[#This Row],[THEO]]-Tableau1[[#This Row],[Qtt 2éme lot]],\"-\")","v":"-"},"-",{"$f":"IF(Tableau1[[#This Row],[2éme lot]]=\"-\",\"-\",IFERROR(IF(Q722=\"\",\"-\",INDEX(I:I,MATCH(Q722,C:C,0)+1)),\"-\"))","v":"-"},"-","-"]
[1272,"MD000800","GLINIX 2MG COMP. B/30","REPAGLINIDE","05168","01.03.2022","MG/EXP1",4,"MG/EXP1-A-020",null,0,null,null,387.5,"HIKMA PHARMA ALGERIA SARL","-",null,{"$f":"SUMIF(Tableau1[Description article],Tableau1[Produits],Tableau1[Emplacement])","v":0},null,{"$f":"Sheet1!$S723-Sheet1!$R723","v":0},"-","-","-",{"$f":"IFERROR(Tableau1[[#This Row],[THEO]]-Tableau1[[#This Row],[Qtt 2éme lot]],\"-\")","v":"-"},"-",{"$f":"IF(Tableau1[[#This Row],[2éme lot]]=\"-\",\"-\",IFERROR(IF(Q723=\"\",\"-\",INDEX(I:I,MATCH(Q723,C:C,0)+1)),\"-\"))","v":"-"},"-","-"]
[1273,"MD000800","GLINIX 2MG COMP. B/30","REPAGLINIDE","05471","01.10.2022","MG/EXP1",144,"MG/EXP1-A-039",null,0,null,null,387.5,"HIKMA PHARMA ALGERIA SARL","-",null,{"$f":"SUMIF(Tableau1[Description article],Tableau1[Produits],Tableau1[Emplacement])","v":0},null,{"$f":"Sheet1!$S724-Sheet1!$R724","v":0},"-","-","-",{"$f":"IFERROR(Tableau1[[#This Row],[THEO]]-Tableau1[[#This Row],[Qtt 2éme lot]],\"-\")","v":"-"},"-",{"$f":"IF(Tableau1[[#This Row],[2éme lot]]=\"-\",\"-\",IFERROR(IF(Q724=\"\",\"-\",INDEX(I:I,MATCH(Q724,C:C,0)+1)),\"-\"))","v":"-"},"-","-"]
[1276,"MD000803","GLUCAGEN HYPOKIT 1MG SERINGUE PRETE B/01 FL.GLUCAGON + 01 SERING.SOLV/1ML","GLUCAGON BIOSYNTHETIQUE","JS6AD18","01.08.2021","MG/EXP1",41,"MG/EXP1-BOX6",null,0,null,"GLAC",2327.15,"ALDAPH SPA","-",null,{"$f":"SUMIF(Tableau1[Description article],Tableau1[Produits],Tableau1[Emplacement])","v":0},null,{"$f":"Sheet1!$S725-Sheet1!$R725","v":0},"-","-","-",{"$f":"IFERROR(Tableau1[[#This Row],[THEO]]-Tableau1[[#This Row],[Qtt 2éme lot]],\"-\")","v":"-"},"-",{"$f":"IF(Tableau1[[#This Row],[2éme lot]]=\"-\",\"-\",IFERROR(IF(Q725=\"\",\"-\",INDEX(I:I,MATCH(Q725,C:C,0)+1)),\"-\"))","v":"-"},"-","-"]
[1277,"PP00143","GLUCOFLEX BAUME .T/75g",null,"GB1920","01.04.2022","MG/EXP1",18,"MG/EXP1-D-054",null,0,null,null,590,"MAGPHARM LABORATOIRES SARL","-",null,{"$f":"SUMIF(Tableau1[Description article],Tableau1[Produits],Tableau1[Emplacement])","v":0},null,{"$f":"Sheet1!$S726-Sheet1!$R726","v":0},"-","-","-",{"$f":"IFERROR(Tableau1[[#This Row],[THEO]]-Tableau1[[#This Row],[Qtt 2éme lot]],\"-\")","v":"-"},"-",{"$f":"IF(Tableau1[[#This Row],[2éme lot]]=\"-\",\"-\",IFERROR(IF(Q726=\"\",\"-\",INDEX(I:I,MATCH(Q726,C:C,0)+1)),\"-\"))","v":"-"},"-","-"]
[1278,"PP00143","GLUCOFLEX BAUME .T/75g",null,"GB1921","30.04.2022","MG/EXP1",73,"MG/EXP1-D-055",null,0,null,null,590,"MAGPHARM LABORATOIRES SARL","-",null,{"$f":"SUMIF(Tableau1[Description article],Tableau1[Produits],Tableau1[Emplacement])","v":0},null,{"$f":"Sheet1!$S727-Sheet1!$R727","v":0},"-","-","-",{"$f":"IFERROR(Tableau1[[#This Row],[THEO]]-Tableau1[[#This Row],[Qtt 2éme lot]],\"-\")","v":"-"},"-",{"$f":"IF(Tableau1[[#This Row],[2éme lot]]=\"-\",\"-\",IFERROR(IF(Q727=\"\",\"-\",INDEX(I:I,MATCH(Q727,C:C,0)+1)),\"-\"))","v":"-"},"-","-"]
[1282,"MD000804","GLUCOFORMINE 1000MG COMP.PELLI.SEC. B/100","METFORMINE","106","01.03.2022","MG/EXP1",126,"MG/EXP1-C-044",null,0,null,null,576.49,"HUP.P PHARMA SARL","-",null,{"$f":"SUMIF(Tableau1[Description article],Tableau1[Produits],Tableau1[Emplacement])","v":0},null,{"$f":"Sheet1!$S728-Sheet1!$R728","v":0},"-","-","-",{"$f":"IFERROR(Tableau1[[#This Row],[THEO]]-Tableau1[[#This Row],[Qtt 2éme lot]],\"-\")","v":"-"},"-",{"$f":"IF(Tableau1[[#This Row],[2éme lot]]=\"-\",\"-\",IFERROR(IF(Q728=\"\",\"-\",INDEX(I:I,MATCH(Q728,C:C,0)+1)),\"-\"))","v":"-"},"-","-"]
[1284,"MD000805","GLUCOFORMINE 1000MG COMP.PELLI.SEC. B/30","METFORMINE","094","01.12.2021","MG/EXP1",30,"MG/EXP1-F-009",null,0,null,null,162.49,"HUP.P PHARMA SARL","-",null,{"$f":"SUMIF(Tableau1[Description article],Tableau1[Produits],Tableau1[Emplacement])","v":0},null,{"$f":"Sheet1!$S729-Sheet1!$R729","v":0},"-","-","-",{"$f":"IFERROR(Tableau1[[#This Row],[THEO]]-Tableau1[[#This Row],[Qtt 2éme lot]],\"-\")","v":"-"},"-",{"$f":"IF(Tableau1[[#This Row],[2éme lot]]=\"-\",\"-\",IFERROR(IF(Q729=\"\",\"-\",INDEX(I:I,MATCH(Q729,C:C,0)+1)),\"-\"))","v":"-"},"-","-"]
[1285,"MD000806","GLUCOFORMINE 500MG COMP.PELLI. B/30","METFORMINE","036**","01.02.2022","MG/EXP1",140,"MG/EXP1-A-009",null,0,null,null,119.3,"HUP.P PHARMA SARL","-",null,{"$f":"SUMIF(Tableau1[Description article],Tableau1[Produits],Tableau1[Emplacement])","v":0},null,{"$f":"Sheet1!$S730-Sheet1!$R730","v":0},"-","-","-",{"$f":"IFERROR(Tableau1[[#This Row],[THEO]]-Tableau1[[#This Row],[Qtt 2éme lot]],\"-\")","v":"-"},"-",{"$f":"IF(Tableau1[[#This Row],[2éme lot]]=\"-\",\"-\",IFERROR(IF(Q730=\"\",\"-\",INDEX(I:I,MATCH(Q730,C:C,0)+1)),\"-\"))","v":"-"},"-","-"]
[1286,"MD000807","GLUCOFORMINE 850MG COMP.PELLI. B/100","METFORMINE","180","01.01.2022","MG/EXP1",270,"MG/EXP1-D-011",null,0,null,null,480.79,"HUP.P PHARMA SARL","-",null,{"$f":"SUMIF(Tableau1[Description article],Tableau1[Produits],Tableau1[Emplacement])","v":0},null,{"$f":"Sheet1!$S731-Sheet1!$R731","v":0},"-","-","-",{"$f":"IFERROR(Tableau1[[#This Row],[THEO]]-Tableau1[[#This Row],[Qtt 2éme lot]],\"-\")","v":"-"},"-",{"$f":"IF(Tableau1[[#This Row],[2éme lot]]=\"-\",\"-\",IFERROR(IF(Q731=\"\",\"-\",INDEX(I:I,MATCH(Q731,C:C,0)+1)),\"-\"))","v":"-"},"-","-"]
[1287,"MD000808","GLUCOFORMINE 850MG COMP.PELLI. B/30","METFORMINE","175*","01.12.2021","MG/EXP1",170,"MG/EXP1-B-071",null,0,null,null,142.48,"HUP.P PHARMA SARL","-",null,{"$f":"SUMIF(Tableau1[Description article],Tableau1[Produits],Tableau1[Emplacement])","v":0},null,{"$f":"Sheet1!$S732-Sheet1!$R732","v":0},"-","-","-",{"$f":"IFERROR(Tableau1[[#This Row],[THEO]]-Tableau1[[#This Row],[Qtt 2éme lot]],\"-\")","v":"-"},"-",{"$f":"IF(Tableau1[[#This Row],[2éme lot]]=\"-\",\"-\",IFERROR(IF(Q732=\"\",\"-\",INDEX(I:I,MATCH(Q732,C:C,0)+1)),\"-\"))","v":"-"},"-","-"]
[1290,"MD004052","GLUCOPHAGE 850 MG CP PEL B/30","metformine","19212","01.10.2024","MG/EXP1",7,"MG/EXP1-A-005",null,0,null,null,145.1,"AT PHARMA SPA","-",null,{"$f":"SUMIF(Tableau1[Description article],Tableau1[Produits],Tableau1[Emplacement])","v":0},null,{"$f":"Sheet1!$S733-Sheet1!$R733","v":0},"-","-","-",{"$f":"IFERROR(Tableau1[[#This Row],[THEO]]-Tableau1[[#This Row],[Qtt 2éme lot]],\"-\")","v":"-"},"-",{"$f":"IF(Tableau1[[#This Row],[2éme lot]]=\"-\",\"-\",IFERROR(IF(Q733=\"\",\"-\",INDEX(I:I,MATCH(Q733,C:C,0)+1)),\"-\"))","v":"-"},"-","-"]
[1291,"MD002183","GLUCOPHAGE 850MG COMP.PELLI. B/90","metformine","19268","31.12.2024","MG/EXP1",179,"MG/EXP1-A-040",null,0,null,null,440.3,"AT PHARMA SPA","-",null,{"$f":"SUMIF(Tableau1[Description article],Tableau1[Produits],Tableau1[Emplacement])","v":0},null,{"$f":"Sheet1!$S734-Sheet1!$R734","v":0},"-","-","-",{"$f":"IFERROR(Tableau1[[#This Row],[THEO]]-Tableau1[[#This Row],[Qtt 2éme lot]],\"-\")","v":"-"},"-",{"$f":"IF(Tableau1[[#This Row],[2éme lot]]=\"-\",\"-\",IFERROR(IF(Q734=\"\",\"-\",INDEX(I:I,MATCH(Q734,C:C,0)+1)),\"-\"))","v":"-"},"-","-"]
[1296,"MD000817","GLURENOR 30MG COMP.SEC. B/40","GLIQUIDONE","9005X","30.01.2023","MG/EXP1",4,"MG/EXP1-B-042",null,0,null,null,324.67,"BIOPHARM SPA","-",null,{"$f":"SUMIF(Tableau1[Description article],Tableau1[Produits],Tableau1[Emplacement])","v":0},null,{"$f":"Sheet1!$S735-Sheet1!$R735","v":0},"-","-","-",{"$f":"IFERROR(Tableau1[[#This Row],[THEO]]-Tableau1[[#This Row],[Qtt 2éme lot]],\"-\")","v":"-"},"-",{"$f":"IF(Tableau1[[#This Row],[2éme lot]]=\"-\",\"-\",IFERROR(IF(Q735=\"\",\"-\",INDEX(I:I,MATCH(Q735,C:C,0)+1)),\"-\"))","v":"-"},"-","-"]
[1297,"MD000817","GLURENOR 30MG COMP.SEC. B/40","GLIQUIDONE","9008X","01.04.2023","MG/EXP1",252,"MG/EXP1-B-023",null,0,null,null,337.01,"BIOPHARM SPA","-",null,{"$f":"SUMIF(Tableau1[Description article],Tableau1[Produits],Tableau1[Emplacement])","v":0},null,{"$f":"Sheet1!$S736-Sheet1!$R736","v":0},"-","-","-",{"$f":"IFERROR(Tableau1[[#This Row],[THEO]]-Tableau1[[#This Row],[Qtt 2éme lot]],\"-\")","v":"-"},"-",{"$f":"IF(Tableau1[[#This Row],[2éme lot]]=\"-\",\"-\",IFERROR(IF(Q736=\"\",\"-\",INDEX(I:I,MATCH(Q736,C:C,0)+1)),\"-\"))","v":"-"},"-","-"]
[1299,"MD004148","GLYBEK 100MG CP.B/30 - glucobay-","ACARBOSE","110619","01.12.2022","MG/EXP1",1,"MG/EXP1-C-059",null,0,null,null,531.5,"BEKER LABORATOIRES","-",null,{"$f":"SUMIF(Tableau1[Description article],Tableau1[Produits],Tableau1[Emplacement])","v":0},null,{"$f":"Sheet1!$S737-Sheet1!$R737","v":0},"-","-","-",{"$f":"IFERROR(Tableau1[[#This Row],[THEO]]-Tableau1[[#This Row],[Qtt 2éme lot]],\"-\")","v":"-"},"-",{"$f":"IF(Tableau1[[#This Row],[2éme lot]]=\"-\",\"-\",IFERROR(IF(Q737=\"\",\"-\",INDEX(I:I,MATCH(Q737,C:C,0)+1)),\"-\"))","v":"-"},"-","-"]
[1300,"MD004148","GLYBEK 100MG CP.B/30 - glucobay-","ACARBOSE","110819","01.12.2022","MG/EXP1",100,"MG/EXP1-C-006",null,0,null,null,531.5,"BEKER LABORATOIRES","-",null,{"$f":"SUMIF(Tableau1[Description article],Tableau1[Produits],Tableau1[Emplacement])","v":0},null,{"$f":"Sheet1!$S738-Sheet1!$R738","v":0},"-","-","-",{"$f":"IFERROR(Tableau1[[#This Row],[THEO]]-Tableau1[[#This Row],[Qtt 2éme lot]],\"-\")","v":"-"},"-",{"$f":"IF(Tableau1[[#This Row],[2éme lot]]=\"-\",\"-\",IFERROR(IF(Q738=\"\",\"-\",INDEX(I:I,MATCH(Q738,C:C,0)+1)),\"-\"))","v":"-"},"-","-"]
[1301,"MD000818","GLYBEK 50MG CP.B/30 - glucobay-","ACARBOSE","108819","01.12.2022","MG/EXP1",79,"MG/EXP1-A-069",null,0,null,null,407.5,"BEKER LABORATOIRES","-",null,{"$f":"SUMIF(Tableau1[Description article],Tableau1[Produits],Tableau1[Emplacement])","v":0},null,{"$f":"Sheet1!$S739-Sheet1!$R739","v":0},"-","-","-",{"$f":"IFERROR(Tableau1[[#This Row],[THEO]]-Tableau1[[#This Row],[Qtt 2éme lot]],\"-\")","v":"-"},"-",{"$f":"IF(Tableau1[[#This Row],[2éme lot]]=\"-\",\"-\",IFERROR(IF(Q739=\"\",\"-\",INDEX(I:I,MATCH(Q739,C:C,0)+1)),\"-\"))","v":"-"},"-","-"]
[1302,"MD000826","GLYCERINE LS BEBE 0,72G SUPP.NRS. B/10","GLYCEROL","9R325","29.04.2022","MG/EXP1",55,"MG/EXP1-E-048",null,0,null,null,180,"SALEM LABORATOIRES SARL","-",null,{"$f":"SUMIF(Tableau1[Description article],Tableau1[Produits],Tableau1[Emplacement])","v":0},null,{"$f":"Sheet1!$S740-Sheet1!$R740","v":0},"-","-","-",{"$f":"IFERROR(Tableau1[[#This Row],[THEO]]-Tableau1[[#This Row],[Qtt 2éme lot]],\"-\")","v":"-"},"-",{"$f":"IF(Tableau1[[#This Row],[2éme lot]]=\"-\",\"-\",IFERROR(IF(Q740=\"\",\"-\",INDEX(I:I,MATCH(Q740,C:C,0)+1)),\"-\"))","v":"-"},"-","-"]
[1304,"MD000827","GLYCERINE LS ENFANT 1,20G SUPP. B/10","GLYCEROL","9R426","23.06.2022","MG/EXP1",360,"MG/EXP1-D-035",null,0,null,null,180,"SALEM LABORATOIRES SARL","-",null,{"$f":"SUMIF(Tableau1[Description article],Tableau1[Produits],Tableau1[Emplacement])","v":0},null,{"$f":"Sheet1!$S741-Sheet1!$R741","v":0},"-","-","-",{"$f":"IFERROR(Tableau1[[#This Row],[THEO]]-Tableau1[[#This Row],[Qtt 2éme lot]],\"-\")","v":"-"},"-",{"$f":"IF(Tableau1[[#This Row],[2éme lot]]=\"-\",\"-\",IFERROR(IF(Q741=\"\",\"-\",INDEX(I:I,MATCH(Q741,C:C,0)+1)),\"-\"))","v":"-"},"-","-"]
[1306,"MD000829","GONAL-F 22µG/0.5ML (300UI/0.5ML) . SOL INJ STYLLO","FOLLITROPÏNE ALFA","AU026968*","01.04.2021","MG/EXP1",26,"MG/EXP1-BOX6",null,0,null,"GLAC",13398.02,"AT PHARMA SPA","-",null,{"$f":"SUMIF(Tableau1[Description article],Tableau1[Produits],Tableau1[Emplacement])","v":0},null,{"$f":"Sheet1!$S742-Sheet1!$R742","v":0},"-","-","-",{"$f":"IFERROR(Tableau1[[#This Row],[THEO]]-Tableau1[[#This Row],[Qtt 2éme lot]],\"-\")","v":"-"},"-",{"$f":"IF(Tableau1[[#This Row],[2éme lot]]=\"-\",\"-\",IFERROR(IF(Q742=\"\",\"-\",INDEX(I:I,MATCH(Q742,C:C,0)+1)),\"-\"))","v":"-"},"-","-"]
[1307,"MD000830","GONAL-F 33µG/0.75ML (450UI/0.75ML) . SOL INJ STYLLO","FOLLITROPÏNE ALFA","AU027208*","01.03.2021","MG/EXP1",1,"MG/EXP1-BOX6",null,0,null,"GLAC",20097.03,"AT PHARMA SPA","-",null,{"$f":"SUMIF(Tableau1[Description article],Tableau1[Produits],Tableau1[Emplacement])","v":0},null,{"$f":"Sheet1!$S743-Sheet1!$R743","v":0},"-","-","-",{"$f":"IFERROR(Tableau1[[#This Row],[THEO]]-Tableau1[[#This Row],[Qtt 2éme lot]],\"-\")","v":"-"},"-",{"$f":"IF(Tableau1[[#This Row],[2éme lot]]=\"-\",\"-\",IFERROR(IF(Q743=\"\",\"-\",INDEX(I:I,MATCH(Q743,C:C,0)+1)),\"-\"))","v":"-"},"-","-"]
[1310,"MD000831","GONAL-F 66µG/1.5ML (900UI/1.5ML) . SOL INJ STYLLO","FOLLITROPÏNE ALFA","AU027125","01.03.2021","MG/EXP1",5,"MG/EXP1-BOX6",null,0,null,"GLAC",39269.58,"AT PHARMA SPA","-",null,{"$f":"SUMIF(Tableau1[Description article],Tableau1[Produits],Tableau1[Emplacement])","v":0},null,{"$f":"Sheet1!$S744-Sheet1!$R744","v":0},"-","-","-",{"$f":"IFERROR(Tableau1[[#This Row],[THEO]]-Tableau1[[#This Row],[Qtt 2éme lot]],\"-\")","v":"-"},"-",{"$f":"IF(Tableau1[[#This Row],[2éme lot]]=\"-\",\"-\",IFERROR(IF(Q744=\"\",\"-\",INDEX(I:I,MATCH(Q744,C:C,0)+1)),\"-\"))","v":"-"},"-","-"]
[1314,"MD000832","GONAL-F 75 UI/ML.SOL INJ","FOLLITROPÏNE ALFA","AU026653*","01.02.2021","MG/EXP1",93,"MG/EXP1-BOX6",null,0,null,"GLAC",3088.28,"BIOPHARM SPA","-",null,{"$f":"SUMIF(Tableau1[Description article],Tableau1[Produits],Tableau1[Emplacement])","v":0},null,{"$f":"Sheet1!$S745-Sheet1!$R745","v":0},"-","-","-",{"$f":"IFERROR(Tableau1[[#This Row],[THEO]]-Tableau1[[#This Row],[Qtt 2éme lot]],\"-\")","v":"-"},"-",{"$f":"IF(Tableau1[[#This Row],[2éme lot]]=\"-\",\"-\",IFERROR(IF(Q745=\"\",\"-\",INDEX(I:I,MATCH(Q745,C:C,0)+1)),\"-\"))","v":"-"},"-","-"]
[1315,"MD004181","GRIPEX ALLERGIE 10MG COMP.PELLI.SEC. B/07","CETIRIZINE","002/18**","30.08.2020","MG/EXP1",12,"MG/EXP1-D-018",null,0,null,null,98.43,"PHARMALLIANCE EURL","-",null,{"$f":"SUMIF(Tableau1[Description article],Tableau1[Produits],Tableau1[Emplacement])","v":0},null,{"$f":"Sheet1!$S746-Sheet1!$R746","v":0},"-","-","-",{"$f":"IFERROR(Tableau1[[#This Row],[THEO]]-Tableau1[[#This Row],[Qtt 2éme lot]],\"-\")","v":"-"},"-",{"$f":"IF(Tableau1[[#This Row],[2éme lot]]=\"-\",\"-\",IFERROR(IF(Q746=\"\",\"-\",INDEX(I:I,MATCH(Q746,C:C,0)+1)),\"-\"))","v":"-"},"-","-"]
[1320,"MD002880","GYNODERMOFIX 300MG OVULE B/01","SERTACONAZOLE NITRATE","187","01.11.2022","MG/EXP1",366,"MG/EXP1-C-047",null,0,null,null,396,"BIOPHARM SPA","-",null,{"$f":"SUMIF(Tableau1[Description article],Tableau1[Produits],Tableau1[Emplacement])","v":0},null,{"$f":"Sheet1!$S747-Sheet1!$R747","v":0},"-","-","-",{"$f":"IFERROR(Tableau1[[#This Row],[THEO]]-Tableau1[[#This Row],[Qtt 2éme lot]],\"-\")","v":"-"},"-",{"$f":"IF(Tableau1[[#This Row],[2éme lot]]=\"-\",\"-\",IFERROR(IF(Q747=\"\",\"-\",INDEX(I:I,MATCH(Q747,C:C,0)+1)),\"-\"))","v":"-"},"-","-"]
[1322,"PP00145","GYNOPHILUS OVULES .B/14",null,"0365V","28.02.2022","MG/EXP1",17,"MG/EXP1-E-003",null,0,null,null,745,"INALPHARM","-",null,{"$f":"SUMIF(Tableau1[Description article],Tableau1[Produits],Tableau1[Emplacement])","v":0},null,{"$f":"Sheet1!$S748-Sheet1!$R748","v":0},"-","-","-",{"$f":"IFERROR(Tableau1[[#This Row],[THEO]]-Tableau1[[#This Row],[Qtt 2éme lot]],\"-\")","v":"-"},"-",{"$f":"IF(Tableau1[[#This Row],[2éme lot]]=\"-\",\"-\",IFERROR(IF(Q748=\"\",\"-\",INDEX(I:I,MATCH(Q748,C:C,0)+1)),\"-\"))","v":"-"},"-","-"]
[1324,"PP00147","GYNOSITOL SACHET .B/60",null,"3672001","01.05.2022","MG/EXP1",13,"MG/EXP1-BOX6-005",null,0,null,"CHER",4998.65,"E.P.DIS EURAPHARMA SPA","-",null,{"$f":"SUMIF(Tableau1[Description article],Tableau1[Produits],Tableau1[Emplacement])","v":0},null,{"$f":"Sheet1!$S749-Sheet1!$R749","v":0},"-","-","-",{"$f":"IFERROR(Tableau1[[#This Row],[THEO]]-Tableau1[[#This Row],[Qtt 2éme lot]],\"-\")","v":"-"},"-",{"$f":"IF(Tableau1[[#This Row],[2éme lot]]=\"-\",\"-\",IFERROR(IF(Q749=\"\",\"-\",INDEX(I:I,MATCH(Q749,C:C,0)+1)),\"-\"))","v":"-"},"-","-"]
[1326,"MD000837","GYNOVASOL 150 MG .B/3","ECONAZOLE","18437","01.12.2021","MG/EXP1",77,"MG/EXP1-D-035",null,0,null,null,287.13,"AFRO PHARM SPA","-",null,{"$f":"SUMIF(Tableau1[Description article],Tableau1[Produits],Tableau1[Emplacement])","v":0},null,{"$f":"Sheet1!$S750-Sheet1!$R750","v":0},"-","-","-",{"$f":"IFERROR(Tableau1[[#This Row],[THEO]]-Tableau1[[#This Row],[Qtt 2éme lot]],\"-\")","v":"-"},"-",{"$f":"IF(Tableau1[[#This Row],[2éme lot]]=\"-\",\"-\",IFERROR(IF(Q750=\"\",\"-\",INDEX(I:I,MATCH(Q750,C:C,0)+1)),\"-\"))","v":"-"},"-","-"]
[1328,"MD000838","GYNOVASOL LP 150MG /B1 OVULE","ECONAZOLE","19026","01.02.2022","MG/EXP1",226,"MG/EXP1-C-010",null,0,null,null,400,"AFRO PHARM SPA","-",null,{"$f":"SUMIF(Tableau1[Description article],Tableau1[Produits],Tableau1[Emplacement])","v":0},null,{"$f":"Sheet1!$S751-Sheet1!$R751","v":0},"-","-","-",{"$f":"IFERROR(Tableau1[[#This Row],[THEO]]-Tableau1[[#This Row],[Qtt 2éme lot]],\"-\")","v":"-"},"-",{"$f":"IF(Tableau1[[#This Row],[2éme lot]]=\"-\",\"-\",IFERROR(IF(Q751=\"\",\"-\",INDEX(I:I,MATCH(Q751,C:C,0)+1)),\"-\"))","v":"-"},"-","-"]
[1329,"MD004098","HARUFEN 30MG PATCH SACH/07PTCH.","KETOPROFENE","619 701","01.04.2022","MG/EXP1",103,"MG/EXP1-G-036",null,0,null,null,184.54,"NEOMEDIC LABORATOIRE","-",null,{"$f":"SUMIF(Tableau1[Description article],Tableau1[Produits],Tableau1[Emplacement])","v":0},null,{"$f":"Sheet1!$S752-Sheet1!$R752","v":0},"-","-","-",{"$f":"IFERROR(Tableau1[[#This Row],[THEO]]-Tableau1[[#This Row],[Qtt 2éme lot]],\"-\")","v":"-"},"-",{"$f":"IF(Tableau1[[#This Row],[2éme lot]]=\"-\",\"-\",IFERROR(IF(Q752=\"\",\"-\",INDEX(I:I,MATCH(Q752,C:C,0)+1)),\"-\"))","v":"-"},"-","-"]
[1331,"MD000843","HELESTENE CHRONODOSE 5.7mg/ml Susp.Inj B/1 Amp.","BETHAMETASONE","007","01.04.2020","MG/EXP1",1,"MG/EXP1-G-042",null,0,null,null,232.5,"HUP.P PHARMA SARL","-",null,{"$f":"SUMIF(Tableau1[Description article],Tableau1[Produits],Tableau1[Emplacement])","v":0},null,{"$f":"Sheet1!$S753-Sheet1!$R753","v":0},"-","-","-",{"$f":"IFERROR(Tableau1[[#This Row],[THEO]]-Tableau1[[#This Row],[Qtt 2éme lot]],\"-\")","v":"-"},"-",{"$f":"IF(Tableau1[[#This Row],[2éme lot]]=\"-\",\"-\",IFERROR(IF(Q753=\"\",\"-\",INDEX(I:I,MATCH(Q753,C:C,0)+1)),\"-\"))","v":"-"},"-","-"]
[1332,"MD000844","HELIKIT 75MG SOL BUV","UREE 13C/ACIDE CITRIQUE ANHYDRE","PSR0090","31.05.2022","MG/EXP1",10,"MG/EXP1-BOX6-004",null,0,null,"CHER",3016.96,"AT PHARMA SPA","-",null,{"$f":"SUMIF(Tableau1[Description article],Tableau1[Produits],Tableau1[Emplacement])","v":0},null,{"$f":"Sheet1!$S754-Sheet1!$R754","v":0},"-","-","-",{"$f":"IFERROR(Tableau1[[#This Row],[THEO]]-Tableau1[[#This Row],[Qtt 2éme lot]],\"-\")","v":"-"},"-",{"$f":"IF(Tableau1[[#This Row],[2éme lot]]=\"-\",\"-\",IFERROR(IF(Q754=\"\",\"-\",INDEX(I:I,MATCH(Q754,C:C,0)+1)),\"-\"))","v":"-"},"-","-"]
[1334,"PP00148","HELIX SIROP(EXTRAIT DE LIERRE) FL/100ML",null,"901007","01.01.2022","MG/EXP1",58,"MG/EXP1-B-042",null,0,null,null,520.87,"AT PHARMA SPA","-",null,{"$f":"SUMIF(Tableau1[Description article],Tableau1[Produits],Tableau1[Emplacement])","v":0},null,{"$f":"Sheet1!$S755-Sheet1!$R755","v":0},"-","-","-",{"$f":"IFERROR(Tableau1[[#This Row],[THEO]]-Tableau1[[#This Row],[Qtt 2éme lot]],\"-\")","v":"-"},"-",{"$f":"IF(Tableau1[[#This Row],[2éme lot]]=\"-\",\"-\",IFERROR(IF(Q755=\"\",\"-\",INDEX(I:I,MATCH(Q755,C:C,0)+1)),\"-\"))","v":"-"},"-","-"]
[1335,"MD000846","HELMINTOX SP 125MG","PYRANTEL","T181A","01.02.2022","MG/EXP1",10,"MG/EXP1-D-019",null,0,null,null,207.53,"UPC SARL","-",null,{"$f":"SUMIF(Tableau1[Description article],Tableau1[Produits],Tableau1[Emplacement])","v":0},null,{"$f":"Sheet1!$S756-Sheet1!$R756","v":0},"-","-","-",{"$f":"IFERROR(Tableau1[[#This Row],[THEO]]-Tableau1[[#This Row],[Qtt 2éme lot]],\"-\")","v":"-"},"-",{"$f":"IF(Tableau1[[#This Row],[2éme lot]]=\"-\",\"-\",IFERROR(IF(Q756=\"\",\"-\",INDEX(I:I,MATCH(Q756,C:C,0)+1)),\"-\"))","v":"-"},"-","-"]
[1336,"PP00369","HEMO + CREME FISSURE ANALE HEMORROIDES T/30G",null,"H001","01.09.2022","MG/EXP1",109,"MG/EXP1-B-057",null,0,null,null,400,"DERMO SENS SARL","-",null,{"$f":"SUMIF(Tableau1[Description article],Tableau1[Produits],Tableau1[Emplacement])","v":0},null,{"$f":"Sheet1!$S757-Sheet1!$R757","v":0},"-","-","-",{"$f":"IFERROR(Tableau1[[#This Row],[THEO]]-Tableau1[[#This Row],[Qtt 2éme lot]],\"-\")","v":"-"},"-",{"$f":"IF(Tableau1[[#This Row],[2éme lot]]=\"-\",\"-\",IFERROR(IF(Q757=\"\",\"-\",INDEX(I:I,MATCH(Q757,C:C,0)+1)),\"-\"))","v":"-"},"-","-"]
[1337,"PP00484","HEMO + CREME FISSURE ANALE HEMORROIDES T/50G",null,"004","01.09.2021","MG/EXP1",61,"MG/EXP1-E-011",null,0,null,null,695,"DERMO SENS SARL","-",null,{"$f":"SUMIF(Tableau1[Description article],Tableau1[Produits],Tableau1[Emplacement])","v":0},null,{"$f":"Sheet1!$S758-Sheet1!$R758","v":0},"-","-","-",{"$f":"IFERROR(Tableau1[[#This Row],[THEO]]-Tableau1[[#This Row],[Qtt 2éme lot]],\"-\")","v":"-"},"-",{"$f":"IF(Tableau1[[#This Row],[2éme lot]]=\"-\",\"-\",IFERROR(IF(Q758=\"\",\"-\",INDEX(I:I,MATCH(Q758,C:C,0)+1)),\"-\"))","v":"-"},"-","-"]
[1340,"PP00149","HEMORROL BAUME( HEMORROIDES) . T30g",null,"1913","01.05.2022","MG/EXP1",101,"MG/EXP1-B-069",null,0,null,null,399,"MAGPHARM LABORATOIRES SARL","-",null,{"$f":"SUMIF(Tableau1[Description article],Tableau1[Produits],Tableau1[Emplacement])","v":0},null,{"$f":"Sheet1!$S759-Sheet1!$R759","v":0},"-","-","-",{"$f":"IFERROR(Tableau1[[#This Row],[THEO]]-Tableau1[[#This Row],[Qtt 2éme lot]],\"-\")","v":"-"},"-",{"$f":"IF(Tableau1[[#This Row],[2éme lot]]=\"-\",\"-\",IFERROR(IF(Q759=\"\",\"-\",INDEX(I:I,MATCH(Q759,C:C,0)+1)),\"-\"))","v":"-"},"-","-"]
[1345,"MD000851","HEPTAGYL SIROP","CYPROHEPTADINE","206","01.10.2021","MG/EXP1",117,"MG/EXP1-C-016",null,0,null,null,123.49,"SAIDAL UNITE CENTRE","-",null,{"$f":"SUMIF(Tableau1[Description article],Tableau1[Produits],Tableau1[Emplacement])","v":0},null,{"$f":"Sheet1!$S760-Sheet1!$R760","v":0},"-","-","-",{"$f":"IFERROR(Tableau1[[#This Row],[THEO]]-Tableau1[[#This Row],[Qtt 2éme lot]],\"-\")","v":"-"},"-",{"$f":"IF(Tableau1[[#This Row],[2éme lot]]=\"-\",\"-\",IFERROR(IF(Q760=\"\",\"-\",INDEX(I:I,MATCH(Q760,C:C,0)+1)),\"-\"))","v":"-"},"-","-"]
[1348,"MD000852","HEPTAL SIROP","CYPROHEPTADINE","03/20","31.01.2023","MG/EXP1",211,"MG/EXP1-A-040",null,0,null,null,136.89,"LAM SARL","-",null,{"$f":"SUMIF(Tableau1[Description article],Tableau1[Produits],Tableau1[Emplacement])","v":0},null,{"$f":"Sheet1!$S761-Sheet1!$R761","v":0},"-","-","-",{"$f":"IFERROR(Tableau1[[#This Row],[THEO]]-Tableau1[[#This Row],[Qtt 2éme lot]],\"-\")","v":"-"},"-",{"$f":"IF(Tableau1[[#This Row],[2éme lot]]=\"-\",\"-\",IFERROR(IF(Q761=\"\",\"-\",INDEX(I:I,MATCH(Q761,C:C,0)+1)),\"-\"))","v":"-"},"-","-"]
[1349,"PP00432","HERBO HEEL JADDAD TUBE/30 GRAM",null,"9300","01.07.2020","MG/EXP1",25,"MG/EXP1-G-002",null,0,null,null,1350,"EXPENSIMED SARL","-",null,{"$f":"SUMIF(Tableau1[Description article],Tableau1[Produits],Tableau1[Emplacement])","v":0},null,{"$f":"Sheet1!$S762-Sheet1!$R762","v":0},"-","-","-",{"$f":"IFERROR(Tableau1[[#This Row],[THEO]]-Tableau1[[#This Row],[Qtt 2éme lot]],\"-\")","v":"-"},"-",{"$f":"IF(Tableau1[[#This Row],[2éme lot]]=\"-\",\"-\",IFERROR(IF(Q762=\"\",\"-\",INDEX(I:I,MATCH(Q762,C:C,0)+1)),\"-\"))","v":"-"},"-","-"]
[1350,"MD000855","HEXOR 50MG CP PELL .B/2","SILDENAFIL","005","29.06.2020","MG/EXP1",8,"MG/EXP1-BOX6-004",null,0,null,null,258.76,"BIOPHARM SPA","-",null,{"$f":"SUMIF(Tableau1[Description article],Tableau1[Produits],Tableau1[Emplacement])","v":0},null,{"$f":"Sheet1!$S763-Sheet1!$R763","v":0},"-","-","-",{"$f":"IFERROR(Tableau1[[#This Row],[THEO]]-Tableau1[[#This Row],[Qtt 2éme lot]],\"-\")","v":"-"},"-",{"$f":"IF(Tableau1[[#This Row],[2éme lot]]=\"-\",\"-\",IFERROR(IF(Q763=\"\",\"-\",INDEX(I:I,MATCH(Q763,C:C,0)+1)),\"-\"))","v":"-"},"-","-"]
[1351,"MD000855","HEXOR 50MG CP PELL .B/2","SILDENAFIL","005*","01.06.2020","MG/EXP1",26,"MG/EXP1-BOX6-004",null,0,null,null,258.76,"BIOPHARM SPA","-",null,{"$f":"SUMIF(Tableau1[Description article],Tableau1[Produits],Tableau1[Emplacement])","v":0},null,{"$f":"Sheet1!$S764-Sheet1!$R764","v":0},"-","-","-",{"$f":"IFERROR(Tableau1[[#This Row],[THEO]]-Tableau1[[#This Row],[Qtt 2éme lot]],\"-\")","v":"-"},"-",{"$f":"IF(Tableau1[[#This Row],[2éme lot]]=\"-\",\"-\",IFERROR(IF(Q764=\"\",\"-\",INDEX(I:I,MATCH(Q764,C:C,0)+1)),\"-\"))","v":"-"},"-","-"]
[1354,"MD001476","HISTAGAN 2MG COMP.SEC. B/30","DEXCHLORPHENIRAMINE","123","01.11.2022","MG/EXP1",179,"MG/EXP1-C-046",null,0,null,null,120,"SAIDAL UNITE CENTRE","-",null,{"$f":"SUMIF(Tableau1[Description article],Tableau1[Produits],Tableau1[Emplacement])","v":0},null,{"$f":"Sheet1!$S765-Sheet1!$R765","v":0},"-","-","-",{"$f":"IFERROR(Tableau1[[#This Row],[THEO]]-Tableau1[[#This Row],[Qtt 2éme lot]],\"-\")","v":"-"},"-",{"$f":"IF(Tableau1[[#This Row],[2éme lot]]=\"-\",\"-\",IFERROR(IF(Q765=\"\",\"-\",INDEX(I:I,MATCH(Q765,C:C,0)+1)),\"-\"))","v":"-"},"-","-"]
[1355,"MD000858","HISTONE SIROP F/100ML -POLARAMINE-","DEXCHLORPHENIRAMINE","1941/54**","01.12.2021","MG/EXP1",186,"MG/EXP1-F-044",null,0,null,null,230,"GROUPE SANTE LABORATOIRE","-",null,{"$f":"SUMIF(Tableau1[Description article],Tableau1[Produits],Tableau1[Emplacement])","v":0},null,{"$f":"Sheet1!$S766-Sheet1!$R766","v":0},"-","-","-",{"$f":"IFERROR(Tableau1[[#This Row],[THEO]]-Tableau1[[#This Row],[Qtt 2éme lot]],\"-\")","v":"-"},"-",{"$f":"IF(Tableau1[[#This Row],[2éme lot]]=\"-\",\"-\",IFERROR(IF(Q766=\"\",\"-\",INDEX(I:I,MATCH(Q766,C:C,0)+1)),\"-\"))","v":"-"},"-","-"]
[1358,"MD002376","HUCLAR 25MG/ML GRAN.P.SUSP.BUV. B/01 FL/100ML + SERING.","CLARITHROMYCINE","010","01.06.2021","MG/EXP1",150,"MG/EXP1-G-044",null,0,null,null,556.59,"HUP.P PHARMA SARL","-",null,{"$f":"SUMIF(Tableau1[Description article],Tableau1[Produits],Tableau1[Emplacement])","v":0},null,{"$f":"Sheet1!$S767-Sheet1!$R767","v":0},"-","-","-",{"$f":"IFERROR(Tableau1[[#This Row],[THEO]]-Tableau1[[#This Row],[Qtt 2éme lot]],\"-\")","v":"-"},"-",{"$f":"IF(Tableau1[[#This Row],[2éme lot]]=\"-\",\"-\",IFERROR(IF(Q767=\"\",\"-\",INDEX(I:I,MATCH(Q767,C:C,0)+1)),\"-\"))","v":"-"},"-","-"]
[1360,"MD002377","HUCLAR 50MG/ML GRAN.P.SUSP.BUV. B/01 FL/60ML + SERING.","CLARITHROMYCINE","014","01.06.2021","MG/EXP1",130,"MG/EXP1-E-060",null,0,null,null,711.77,"HUP.P PHARMA SARL","-",null,{"$f":"SUMIF(Tableau1[Description article],Tableau1[Produits],Tableau1[Emplacement])","v":0},null,{"$f":"Sheet1!$S768-Sheet1!$R768","v":0},"-","-","-",{"$f":"IFERROR(Tableau1[[#This Row],[THEO]]-Tableau1[[#This Row],[Qtt 2éme lot]],\"-\")","v":"-"},"-",{"$f":"IF(Tableau1[[#This Row],[2éme lot]]=\"-\",\"-\",IFERROR(IF(Q768=\"\",\"-\",INDEX(I:I,MATCH(Q768,C:C,0)+1)),\"-\"))","v":"-"},"-","-"]
[1361,"MD002900","HUMALOG 100 100UI/ML SOL.INJ.SC.\\IV. B/05 CARTCH/3ML","INSULINE LISPRO","D006962F","01.10.2021","MG/EXP1",29,"MG/EXP1-BOX6",null,0,null,"GLAC",4412.16,"BIOPHARM SPA","-",null,{"$f":"SUMIF(Tableau1[Description article],Tableau1[Produits],Tableau1[Emplacement])","v":0},null,{"$f":"Sheet1!$S769-Sheet1!$R769","v":0},"-","-","-",{"$f":"IFERROR(Tableau1[[#This Row],[THEO]]-Tableau1[[#This Row],[Qtt 2éme lot]],\"-\")","v":"-"},"-",{"$f":"IF(Tableau1[[#This Row],[2éme lot]]=\"-\",\"-\",IFERROR(IF(Q769=\"\",\"-\",INDEX(I:I,MATCH(Q769,C:C,0)+1)),\"-\"))","v":"-"},"-","-"]
[1362,"MD000867","HUMALOG MIX 25 100UI/ML SUSP.INJ.SC. B/05 CARTCH/3ML","INSULINE LISPRO 25% - POTAMINE 75 %","C953171S","01.05.2021","MG/EXP1",11,"MG/EXP1-BOX6",null,0,null,"GLAC",4807.42,"BIOPHARM SPA",{"$f":"IFERROR(IF(Q770=\"\",\"-\",INDEX(I:I,MATCH(Q770,C:C,0))),\"-\")","v":"-"},null,{"$f":"SUMIF(Tableau1[Description article],Tableau1[Produits],Tableau1[Emplacement])","v":0},null,{"$f":"Sheet1!$S770-Sheet1!$R770","v":0},{"$f":"IFERROR(IF(Q770=\"\",\"-\",INDEX(F:F,MATCH(Q770,C:C,0))),\"-\")","v":"-"},{"$f":"IFERROR(IF(Q770=\"\",\"-\",INDEX(E:E,MATCH(Q770,C:C,0))),\"-\")","v":"-"},{"$f":"IFERROR(IF(Q770=\"\",\"-\",INDEX(N:N,MATCH(Q770,C:C,0))),\"-\")","v":"-"},{"$f":"IFERROR(Tableau1[[#This Row],[THEO]]-Tableau1[[#This Row],[Qtt 2éme lot]],\"-\")","v":"-"},{"$f":"IF(IF(Q770=\"\",\"-\",INDEX(E:E,MATCH(Q770,C:C,0)))=IF(Q770=\"\",\"-\",INDEX(E:E,MATCH(Q770,C:C,1))),\"-\",IF(Q770=\"\",\"-\",INDEX(E:E,MATCH(Q770,C:C,1))))","v":"-"},{"$f":"IF(Tableau1[[#This Row],[2éme lot]]=\"-\",\"-\",IFERROR(IF(Q770=\"\",\"-\",INDEX(I:I,MATCH(Q770,C:C,0)+1)),\"-\"))","v":"-"},{"$f":"IFERROR(IF(Y770=\"\",\"-\",INDEX(N:N,MATCH(Y770,E:E,0))),\"-\")","v":"-"},{"$f":"IFERROR(IF(AA770=\"\",\"-\",INDEX(H:H,MATCH(Y770,E:E,0))),\"-\")","v":"-"}]
[1363,"MD000868","HUMALOG MIX 50 100UI/ML SUSP.INJ.SC. B/05 CARTCH/3ML","INSULINE LISPRO 50% - POTAMINE 50 %","C928392F","01.04.2021","MG/EXP1",42,"MG/EXP1-BOX6",null,0,null,"GLAC",4802.1,"BIOPHARM SPA","-",null,{"$f":"SUMIF(Tableau1[Description article],Tableau1[Produits],Tableau1[Emplacement])","v":0},null,{"$f":"Sheet1!$S771-Sheet1!$R771","v":0},"-","-","-",{"$f":"IFERROR(Tableau1[[#This Row],[THEO]]-Tableau1[[#This Row],[Qtt 2éme lot]],\"-\")","v":"-"},"-",{"$f":"IF(Tableau1[[#This Row],[2éme lot]]=\"-\",\"-\",IFERROR(IF(Q771=\"\",\"-\",INDEX(I:I,MATCH(Q771,C:C,0)+1)),\"-\"))","v":"-"},"-","-"]
[1365,"PP00427","HUMER SPRAY AURICULAIRE FL/75 ML",null,"37309","31.07.2020","MG/EXP1",7,"MG/EXP1-B-017",null,0,null,null,850,"UNILAB PHARMACEUTICALS SARL","-",null,{"$f":"SUMIF(Tableau1[Description article],Tableau1[Produits],Tableau1[Emplacement])","v":0},null,{"$f":"Sheet1!$S772-Sheet1!$R772","v":0},"-","-","-",{"$f":"IFERROR(Tableau1[[#This Row],[THEO]]-Tableau1[[#This Row],[Qtt 2éme lot]],\"-\")","v":"-"},"-",{"$f":"IF(Tableau1[[#This Row],[2éme lot]]=\"-\",\"-\",IFERROR(IF(Q772=\"\",\"-\",INDEX(I:I,MATCH(Q772,C:C,0)+1)),\"-\"))","v":"-"},"-","-"]
[1366,"MD000870","HUMEX MAL DE GORGE 0,030G/0,300G/100ML COLLU. B/01 FL/35ML","LIDOCAINE -BENZALKONIUM","76469","01.08.2022","MG/EXP1",156,"MG/EXP1-C-003",null,0,null,null,323.69,"UNILAB PHARMACEUTICALS SARL","-",null,{"$f":"SUMIF(Tableau1[Description article],Tableau1[Produits],Tableau1[Emplacement])","v":0},null,{"$f":"Sheet1!$S773-Sheet1!$R773","v":0},"-","-","-",{"$f":"IFERROR(Tableau1[[#This Row],[THEO]]-Tableau1[[#This Row],[Qtt 2éme lot]],\"-\")","v":"-"},"-",{"$f":"IF(Tableau1[[#This Row],[2éme lot]]=\"-\",\"-\",IFERROR(IF(Q773=\"\",\"-\",INDEX(I:I,MATCH(Q773,C:C,0)+1)),\"-\"))","v":"-"},"-","-"]
[1367,"MD002395","HUMLOR 10MG GLES. B/30","AMLODIPINE","004","01.03.2021","MG/EXP1",32,"MG/EXP1-G-045",null,0,null,null,660.5,"HUP.P PHARMA SARL","-",null,{"$f":"SUMIF(Tableau1[Description article],Tableau1[Produits],Tableau1[Emplacement])","v":0},null,{"$f":"Sheet1!$S774-Sheet1!$R774","v":0},"-","-","-",{"$f":"IFERROR(Tableau1[[#This Row],[THEO]]-Tableau1[[#This Row],[Qtt 2éme lot]],\"-\")","v":"-"},"-",{"$f":"IF(Tableau1[[#This Row],[2éme lot]]=\"-\",\"-\",IFERROR(IF(Q774=\"\",\"-\",INDEX(I:I,MATCH(Q774,C:C,0)+1)),\"-\"))","v":"-"},"-","-"]
[1368,"MD000873","HUPFOLIQ 5MG CP .B/60","ACIDE FOLIQUE","052","01.10.2021","MG/EXP1",437,"MG/EXP1-D-038",null,0,null,null,199,"HUP.P PHARMA SARL","-",null,{"$f":"SUMIF(Tableau1[Description article],Tableau1[Produits],Tableau1[Emplacement])","v":0},null,{"$f":"Sheet1!$S775-Sheet1!$R775","v":0},"-","-","-",{"$f":"IFERROR(Tableau1[[#This Row],[THEO]]-Tableau1[[#This Row],[Qtt 2éme lot]],\"-\")","v":"-"},"-",{"$f":"IF(Tableau1[[#This Row],[2éme lot]]=\"-\",\"-\",IFERROR(IF(Q775=\"\",\"-\",INDEX(I:I,MATCH(Q775,C:C,0)+1)),\"-\"))","v":"-"},"-","-"]
[1369,"MD000874","HUPPACORT RETARD 40MG/1ML SOL INJ .B/1","TRIAMCINOLONE ACETONIDE","014","01.11.2020","MG/EXP1",527,"MG/EXP1-H-002",null,0,null,null,252.12,"HUP.P PHARMA SARL","-",null,{"$f":"SUMIF(Tableau1[Description article],Tableau1[Produits],Tableau1[Emplacement])","v":0},null,{"$f":"Sheet1!$S776-Sheet1!$R776","v":0},"-","-","-",{"$f":"IFERROR(Tableau1[[#This Row],[THEO]]-Tableau1[[#This Row],[Qtt 2éme lot]],\"-\")","v":"-"},"-",{"$f":"IF(Tableau1[[#This Row],[2éme lot]]=\"-\",\"-\",IFERROR(IF(Q776=\"\",\"-\",INDEX(I:I,MATCH(Q776,C:C,0)+1)),\"-\"))","v":"-"},"-","-"]
[1370,"MD000875","HUPPOMEDROL 16 MG CP .B/20","METHYLPREDNISOLONE","016","01.05.2021","MG/EXP1",137,"MG/EXP1-B-013",null,0,null,null,323.48,"HUP.P PHARMA SARL","-",null,{"$f":"SUMIF(Tableau1[Description article],Tableau1[Produits],Tableau1[Emplacement])","v":0},null,{"$f":"Sheet1!$S777-Sheet1!$R777","v":0},"-","-","-",{"$f":"IFERROR(Tableau1[[#This Row],[THEO]]-Tableau1[[#This Row],[Qtt 2éme lot]],\"-\")","v":"-"},"-",{"$f":"IF(Tableau1[[#This Row],[2éme lot]]=\"-\",\"-\",IFERROR(IF(Q777=\"\",\"-\",INDEX(I:I,MATCH(Q777,C:C,0)+1)),\"-\"))","v":"-"},"-","-"]
[1373,"MD000876","HUPPOMEDROL 4MG B/30 CP SECABLES","METHYLPREDNISOLONE","026","01.11.2021","MG/EXP1",178,"MG/EXP1-H-004",null,0,null,null,221.5,"HUP.P PHARMA SARL","-",null,{"$f":"SUMIF(Tableau1[Description article],Tableau1[Produits],Tableau1[Emplacement])","v":0},null,{"$f":"Sheet1!$S778-Sheet1!$R778","v":0},"-","-","-",{"$f":"IFERROR(Tableau1[[#This Row],[THEO]]-Tableau1[[#This Row],[Qtt 2éme lot]],\"-\")","v":"-"},"-",{"$f":"IF(Tableau1[[#This Row],[2éme lot]]=\"-\",\"-\",IFERROR(IF(Q778=\"\",\"-\",INDEX(I:I,MATCH(Q778,C:C,0)+1)),\"-\"))","v":"-"},"-","-"]
[1374,"MD003945","HUPPROSTENE 7MG/ML SUSP.INJ. B/01 AMP/1ML","BETAMETHASO DIPROPIO / BETAMETHASO PHOSP","012","01.09.2020","MG/EXP1",238,"MG/EXP1-E-009",null,0,null,null,308.82,"HUP.P PHARMA SARL","-",null,{"$f":"SUMIF(Tableau1[Description article],Tableau1[Produits],Tableau1[Emplacement])","v":0},null,{"$f":"Sheet1!$S779-Sheet1!$R779","v":0},"-","-","-",{"$f":"IFERROR(Tableau1[[#This Row],[THEO]]-Tableau1[[#This Row],[Qtt 2éme lot]],\"-\")","v":"-"},"-",{"$f":"IF(Tableau1[[#This Row],[2éme lot]]=\"-\",\"-\",IFERROR(IF(Q779=\"\",\"-\",INDEX(I:I,MATCH(Q779,C:C,0)+1)),\"-\"))","v":"-"},"-","-"]
[1375,"MD002382","HUPROVEL 150MG COMP.PELLI. B/30","IRBESARTAN","004","01.05.2021","MG/EXP1",24,"MG/EXP1-F-045",null,0,null,null,1287.5,"HUP.P PHARMA SARL","-",null,{"$f":"SUMIF(Tableau1[Description article],Tableau1[Produits],Tableau1[Emplacement])","v":0},null,{"$f":"Sheet1!$S780-Sheet1!$R780","v":0},"-","-","-",{"$f":"IFERROR(Tableau1[[#This Row],[THEO]]-Tableau1[[#This Row],[Qtt 2éme lot]],\"-\")","v":"-"},"-",{"$f":"IF(Tableau1[[#This Row],[2éme lot]]=\"-\",\"-\",IFERROR(IF(Q780=\"\",\"-\",INDEX(I:I,MATCH(Q780,C:C,0)+1)),\"-\"))","v":"-"},"-","-"]
[1376,"MD002383","HUPROVEL 300MG COMP.PELLI. B/30","IRBESARTAN","004","01.05.2021","MG/EXP1",24,"MG/EXP1-G-036",null,0,null,null,1287.5,"HUP.P PHARMA SARL","-",null,{"$f":"SUMIF(Tableau1[Description article],Tableau1[Produits],Tableau1[Emplacement])","v":0},null,{"$f":"Sheet1!$S781-Sheet1!$R781","v":0},"-","-","-",{"$f":"IFERROR(Tableau1[[#This Row],[THEO]]-Tableau1[[#This Row],[Qtt 2éme lot]],\"-\")","v":"-"},"-",{"$f":"IF(Tableau1[[#This Row],[2éme lot]]=\"-\",\"-\",IFERROR(IF(Q781=\"\",\"-\",INDEX(I:I,MATCH(Q781,C:C,0)+1)),\"-\"))","v":"-"},"-","-"]
[1377,"MD000878","HUPTADYS 100 MG CP .B/20","FLURBIPROFENE","1028","01.11.2020","MG/EXP1",120,"MG/EXP1-G-033",null,0,null,null,246.9,"HUP.P PHARMA SARL","-",null,{"$f":"SUMIF(Tableau1[Description article],Tableau1[Produits],Tableau1[Emplacement])","v":0},null,{"$f":"Sheet1!$S782-Sheet1!$R782","v":0},"-","-","-",{"$f":"IFERROR(Tableau1[[#This Row],[THEO]]-Tableau1[[#This Row],[Qtt 2éme lot]],\"-\")","v":"-"},"-",{"$f":"IF(Tableau1[[#This Row],[2éme lot]]=\"-\",\"-\",IFERROR(IF(Q782=\"\",\"-\",INDEX(I:I,MATCH(Q782,C:C,0)+1)),\"-\"))","v":"-"},"-","-"]
[1380,"PP00483","HYALONE 1,5% SOL.INJ.INTRAARTICULAIRE B/01 SRG.PRMP/60MG/4ML","ACIDE HYALURONIQUE INTRA-ARTICULAIRE","C08570","28.02.2021","MG/EXP1",2,"MG/EXP1-BOX6",null,0,null,"GLAC",15898.2,"VAPROPHARM SARL","-",null,{"$f":"SUMIF(Tableau1[Description article],Tableau1[Produits],Tableau1[Emplacement])","v":0},null,{"$f":"Sheet1!$S783-Sheet1!$R783","v":0},"-","-","-",{"$f":"IFERROR(Tableau1[[#This Row],[THEO]]-Tableau1[[#This Row],[Qtt 2éme lot]],\"-\")","v":"-"},"-",{"$f":"IF(Tableau1[[#This Row],[2éme lot]]=\"-\",\"-\",IFERROR(IF(Q783=\"\",\"-\",INDEX(I:I,MATCH(Q783,C:C,0)+1)),\"-\"))","v":"-"},"-","-"]
[1381,"PP00379","HYDRA PIED CREME T/50 GR(PIED DIABETIQUE)",null,"HP003","01.03.2021","MG/EXP1",7,"MG/EXP1-F-029",null,0,null,null,395,"DERMO SENS SARL","-",null,{"$f":"SUMIF(Tableau1[Description article],Tableau1[Produits],Tableau1[Emplacement])","v":0},null,{"$f":"Sheet1!$S784-Sheet1!$R784","v":0},"-","-","-",{"$f":"IFERROR(Tableau1[[#This Row],[THEO]]-Tableau1[[#This Row],[Qtt 2éme lot]],\"-\")","v":"-"},"-",{"$f":"IF(Tableau1[[#This Row],[2éme lot]]=\"-\",\"-\",IFERROR(IF(Q784=\"\",\"-\",INDEX(I:I,MATCH(Q784,C:C,0)+1)),\"-\"))","v":"-"},"-","-"]
[1383,"MD000879","HYDREX 25 MG CP B/30","HYDROCHLOROTHIAZIDE","9M553","01.03.2022","MG/EXP1",91,"MG/EXP1-BOX6-PSY-017",null,0,null,null,328.5,"SALEM LABORATOIRES SARL","-",null,{"$f":"SUMIF(Tableau1[Description article],Tableau1[Produits],Tableau1[Emplacement])","v":0},null,{"$f":"Sheet1!$S785-Sheet1!$R785","v":0},"-","-","-",{"$f":"IFERROR(Tableau1[[#This Row],[THEO]]-Tableau1[[#This Row],[Qtt 2éme lot]],\"-\")","v":"-"},"-",{"$f":"IF(Tableau1[[#This Row],[2éme lot]]=\"-\",\"-\",IFERROR(IF(Q785=\"\",\"-\",INDEX(I:I,MATCH(Q785,C:C,0)+1)),\"-\"))","v":"-"},"-","-"]
[1384,"MD000880","HYDROCORTISONE 1O MG CP ROUSSEL B/25","HYDROCORTISONE","9NG3A","01.04.2022","MG/EXP1",10,"MG/EXP1-E-003",null,0,null,null,194.47,"SANOFI AVENTIS ALGERIE SPA","-",null,{"$f":"SUMIF(Tableau1[Description article],Tableau1[Produits],Tableau1[Emplacement])","v":0},null,{"$f":"Sheet1!$S786-Sheet1!$R786","v":0},"-","-","-",{"$f":"IFERROR(Tableau1[[#This Row],[THEO]]-Tableau1[[#This Row],[Qtt 2éme lot]],\"-\")","v":"-"},"-",{"$f":"IF(Tableau1[[#This Row],[2éme lot]]=\"-\",\"-\",IFERROR(IF(Q786=\"\",\"-\",INDEX(I:I,MATCH(Q786,C:C,0)+1)),\"-\"))","v":"-"},"-","-"]
[1386,"MD000882","HYDROXIL SIROP.F/200ML","HYDROXYZINE DICHLORHYDRATE","12/19","31.12.2022","MG/EXP1",10,"MG/EXP1-C-004",null,0,null,null,193.47,"LAM SARL","-",null,{"$f":"SUMIF(Tableau1[Description article],Tableau1[Produits],Tableau1[Emplacement])","v":0},null,{"$f":"Sheet1!$S787-Sheet1!$R787","v":0},"-","-","-",{"$f":"IFERROR(Tableau1[[#This Row],[THEO]]-Tableau1[[#This Row],[Qtt 2éme lot]],\"-\")","v":"-"},"-",{"$f":"IF(Tableau1[[#This Row],[2éme lot]]=\"-\",\"-\",IFERROR(IF(Q787=\"\",\"-\",INDEX(I:I,MATCH(Q787,C:C,0)+1)),\"-\"))","v":"-"},"-","-"]
[1388,"MD002446","HYPEROIL GEL DERM. T/30ML",null,"17004T2B","01.09.2021","MG/EXP1",23,"MG/EXP1-C-003",null,0,null,null,1842.6,"EXPONENCIA SARL","-",null,{"$f":"SUMIF(Tableau1[Description article],Tableau1[Produits],Tableau1[Emplacement])","v":0},null,{"$f":"Sheet1!$S788-Sheet1!$R788","v":0},"-","-","-",{"$f":"IFERROR(Tableau1[[#This Row],[THEO]]-Tableau1[[#This Row],[Qtt 2éme lot]],\"-\")","v":"-"},"-",{"$f":"IF(Tableau1[[#This Row],[2éme lot]]=\"-\",\"-\",IFERROR(IF(Q788=\"\",\"-\",INDEX(I:I,MATCH(Q788,C:C,0)+1)),\"-\"))","v":"-"},"-","-"]
[1389,"MD002443","HYPEROIL GEL FL/50ML","HUILE DE GRAINE DE MELIA AZADIRACHTA","16004S2P","01.10.2020","MG/EXP1",13,"MG/EXP1-F-003",null,0,null,null,2655.75,"EXPONENCIA SARL","MG/EXP1-BOX6-PSY-017","KIETYL 6MG COMP.SEC. B/30",{"$f":"SUMIF(Tableau1[Description article],Tableau1[Produits],Tableau1[Emplacement])","v":913},null,{"$f":"Sheet1!$S789-Sheet1!$R789","v":-913},"30.09.2022","M07019R",202.1,{"$f":"IFERROR(Tableau1[[#This Row],[THEO]]-Tableau1[[#This Row],[Qtt 2éme lot]],\"-\")","v":"-"},"-",{"$f":"IF(Tableau1[[#This Row],[2éme lot]]=\"-\",\"-\",IFERROR(IF(Q789=\"\",\"-\",INDEX(I:I,MATCH(Q789,C:C,0)+1)),\"-\"))","v":"-"},"-","-"]
[1390,"MD002447","HYPEROIL GEL PROCTO. T/30ML",null,"17007T2B","01.12.2021","MG/EXP1",23,"MG/EXP1-G-003",null,0,null,null,1947.74,"EXPONENCIA SARL","-","PARKIDYL 5MG COMP.SEC. B/20",{"$f":"SUMIF(Tableau1[Description article],Tableau1[Produits],Tableau1[Emplacement])","v":0},null,{"$f":"Sheet1!$S790-Sheet1!$R790","v":0},"-","-","-",{"$f":"IFERROR(Tableau1[[#This Row],[THEO]]-Tableau1[[#This Row],[Qtt 2éme lot]],\"-\")","v":"-"},{"$error":"#N/A"},{"$f":"IF(Tableau1[[#This Row],[2éme lot]]=\"-\",\"-\",IFERROR(IF(Q790=\"\",\"-\",INDEX(I:I,MATCH(Q790,C:C,0)+1)),\"-\"))","v":{"$error":"#N/A"}},"-","-"]
[1391,"MD002445","HYPEROIL HUILE FL/50ML","HUILE DE GRAINE DE MELIA AZADIRACHTA","17020H2","01.12.2021","MG/EXP1",18,"MG/EXP1-BOX6-005",null,0,null,"CHER",5216.93,"EXPONENCIA SARL","MG/EXP1-BOX6-PSY-018","LYSANXIA 10MG COMP. B/40",{"$f":"SUMIF(Tableau1[Description article],Tableau1[Produits],Tableau1[Emplacement])","v":128},null,{"$f":"Sheet1!$S791-Sheet1!$R791","v":-128},"30.09.2022","19624007",174.3,{"$f":"IFERROR(Tableau1[[#This Row],[THEO]]-Tableau1[[#This Row],[Qtt 2éme lot]],\"-\")","v":"-"},"-",{"$f":"IF(Tableau1[[#This Row],[2éme lot]]=\"-\",\"-\",IFERROR(IF(Q791=\"\",\"-\",INDEX(I:I,MATCH(Q791,C:C,0)+1)),\"-\"))","v":"-"},"-","-"]
[1394,"MD000886","HYTACAND 16MG/12.5MG .B/30","CANDESARTAN CILEXETIL/HYDROCHLOROTHIAZID","060","28.02.2021","MG/EXP1",141,"MG/EXP1-A-035",null,0,null,null,1736.3,"E.P.DIS EURAPHARMA SPA","MG/EXP1-BOX6-PSY-011","PREZIVA 10MG COMP. B/40",{"$f":"SUMIF(Tableau1[Description article],Tableau1[Produits],Tableau1[Emplacement])","v":288},null,{"$f":"Sheet1!$S792-Sheet1!$R792","v":-288},"01.09.2022","079",174.3,{"$f":"IFERROR(Tableau1[[#This Row],[THEO]]-Tableau1[[#This Row],[Qtt 2éme lot]],\"-\")","v":"-"},"-",{"$f":"IF(Tableau1[[#This Row],[2éme lot]]=\"-\",\"-\",IFERROR(IF(Q792=\"\",\"-\",INDEX(I:I,MATCH(Q792,C:C,0)+1)),\"-\"))","v":"-"},"-","-"]
[1396,"MD000887","HYTACAND 8MG/12.5MG .B/30","CANDESARTAN CILEXETIL/HYDROCHLOROTHIAZID","056","01.02.2022","MG/EXP1",204,"MG/EXP1-F-040",null,0,null,null,1627.4,"BIOPHARM SPA","-",null,{"$f":"SUMIF(Tableau1[Description article],Tableau1[Produits],Tableau1[Emplacement])","v":0},null,{"$f":"Sheet1!$S793-Sheet1!$R793","v":0},"-","-","-",{"$f":"IFERROR(Tableau1[[#This Row],[THEO]]-Tableau1[[#This Row],[Qtt 2éme lot]],\"-\")","v":"-"},"-",{"$f":"IF(Tableau1[[#This Row],[2éme lot]]=\"-\",\"-\",IFERROR(IF(Q793=\"\",\"-\",INDEX(I:I,MATCH(Q793,C:C,0)+1)),\"-\"))","v":"-"},"-","-"]
[1400,"MD000888","HYZAAR 50MG/12.5 CP.B/28","LOSARTAN 50/  HYDROCHLORTHIAZIDE 12.5 MG","1805005","18.12.2021","MG/EXP1",74,"MG/EXP1-BOX6-004",null,0,null,null,2041.5,"AT PHARMA SPA","-","CLONA 2.5MG/ML SOL.BUV.GTTES. FL/20ML COMPT.GTTES.",{"$f":"SUMIF(Tableau1[Description article],Tableau1[Produits],Tableau1[Emplacement])","v":0},null,{"$f":"Sheet1!$S794-Sheet1!$R794","v":0},"-","-","-",{"$f":"IFERROR(Tableau1[[#This Row],[THEO]]-Tableau1[[#This Row],[Qtt 2éme lot]],\"-\")","v":"-"},{"$error":"#N/A"},{"$f":"IF(Tableau1[[#This Row],[2éme lot]]=\"-\",\"-\",IFERROR(IF(Q794=\"\",\"-\",INDEX(I:I,MATCH(Q794,C:C,0)+1)),\"-\"))","v":{"$error":"#N/A"}},"-","-"]
[1401,"MD004037","IBUPROFAL 200MG CP B/20","IBUPROFENE","251010","31.10.2020","MG/EXP1",61,"MG/EXP1-F-033",null,0,null,null,119.61,"SOPHAL SOCIETE PHARMACEUTIQUE ALGERIENNE","-","BUPRINAL 0,3MG/ML SOL.INJ.IM.\\IV.\\SC.\\V.MEDUL. B/05 AMP/2ML",{"$f":"SUMIF(Tableau1[Description article],Tableau1[Produits],Tableau1[Emplacement])","v":0},null,{"$f":"Sheet1!$S795-Sheet1!$R795","v":0},"-","-","-",{"$f":"IFERROR(Tableau1[[#This Row],[THEO]]-Tableau1[[#This Row],[Qtt 2éme lot]],\"-\")","v":"-"},{"$error":"#N/A"},{"$f":"IF(Tableau1[[#This Row],[2éme lot]]=\"-\",\"-\",IFERROR(IF(Q795=\"\",\"-\",INDEX(I:I,MATCH(Q795,C:C,0)+1)),\"-\"))","v":{"$error":"#N/A"}},"-","-"]
[1402,"MD000889","IBUPROFAL 600MG CP.B/20","IBUPROFENE","253039","31.10.2020","MG/EXP1",102,"MG/EXP1-D-007",null,0,null,null,191.09,"SOPHAL SOCIETE PHARMACEUTIQUE ALGERIENNE","-","LYRIZIN 75MG GLES. B/60",{"$f":"SUMIF(Tableau1[Description article],Tableau1[Produits],Tableau1[Emplacement])","v":0},null,{"$f":"Sheet1!$S796-Sheet1!$R796","v":0},"-","-","-",{"$f":"IFERROR(Tableau1[[#This Row],[THEO]]-Tableau1[[#This Row],[Qtt 2éme lot]],\"-\")","v":"-"},{"$error":"#N/A"},{"$f":"IF(Tableau1[[#This Row],[2éme lot]]=\"-\",\"-\",IFERROR(IF(Q796=\"\",\"-\",INDEX(I:I,MATCH(Q796,C:C,0)+1)),\"-\"))","v":{"$error":"#N/A"}},"-","-"]
[1403,"MD000890","IBUPROFENE BEKER 200MG .CP PELL .B/30","IBUPROFENE","018219","01.08.2021","MG/EXP1",150,"MG/EXP1-D-042",null,0,null,null,178.5,"BEKER LABORATOIRES","-","PREGABA 150MG GLES. B/30",{"$f":"SUMIF(Tableau1[Description article],Tableau1[Produits],Tableau1[Emplacement])","v":0},null,{"$f":"Sheet1!$S797-Sheet1!$R797","v":0},"-","-","-",{"$f":"IFERROR(Tableau1[[#This Row],[THEO]]-Tableau1[[#This Row],[Qtt 2éme lot]],\"-\")","v":"-"},{"$error":"#N/A"},{"$f":"IF(Tableau1[[#This Row],[2éme lot]]=\"-\",\"-\",IFERROR(IF(Q797=\"\",\"-\",INDEX(I:I,MATCH(Q797,C:C,0)+1)),\"-\"))","v":{"$error":"#N/A"}},"-","-"]
[1406,"MD000891","IBUPROFENE BEKER 400 MG CP PELL B/20","IBUPROFENE","018419","01.08.2020","MG/EXP1",390,"MG/EXP1-E-013",null,0,null,null,155.5,"BEKER LABORATOIRES","-",null,{"$f":"SUMIF(Tableau1[Description article],Tableau1[Produits],Tableau1[Emplacement])","v":0},null,{"$f":"Sheet1!$S798-Sheet1!$R798","v":0},"-","-","-",{"$f":"IFERROR(Tableau1[[#This Row],[THEO]]-Tableau1[[#This Row],[Qtt 2éme lot]],\"-\")","v":"-"},"-",{"$f":"IF(Tableau1[[#This Row],[2éme lot]]=\"-\",\"-\",IFERROR(IF(Q798=\"\",\"-\",INDEX(I:I,MATCH(Q798,C:C,0)+1)),\"-\"))","v":"-"},"-","-"]
[1408,"MD000892","IBUPROFENE BEKER 600MG .CP PELL .B/20","IBUPROFENE","103917","01.08.2020","MG/EXP1",28,"MG/EXP1-B-007",null,0,null,null,155.5,"BEKER LABORATOIRES","-",null,{"$f":"SUMIF(Tableau1[Description article],Tableau1[Produits],Tableau1[Emplacement])","v":0},null,{"$f":"Sheet1!$S799-Sheet1!$R799","v":0},"-","-","-",{"$f":"IFERROR(Tableau1[[#This Row],[THEO]]-Tableau1[[#This Row],[Qtt 2éme lot]],\"-\")","v":"-"},"-",{"$f":"IF(Tableau1[[#This Row],[2éme lot]]=\"-\",\"-\",IFERROR(IF(Q799=\"\",\"-\",INDEX(I:I,MATCH(Q799,C:C,0)+1)),\"-\"))","v":"-"},"-","-"]
[1413,"MD000894","IDEOS 400UI/500MG COMP.CROQ. B/2 T/15 COMP.","CARBONATE DE CALCIUM 1.250G COLECALCIFER","38726","01.07.2021","MG/EXP1",87,"MG/EXP1-D-070",null,0,null,null,487.51,"UPC SARL","-","LYRIZIN 50MG GLES. B/60",{"$f":"SUMIF(Tableau1[Description article],Tableau1[Produits],Tableau1[Emplacement])","v":0},null,{"$f":"Sheet1!$S800-Sheet1!$R800","v":0},"-","-","-",{"$f":"IFERROR(Tableau1[[#This Row],[THEO]]-Tableau1[[#This Row],[Qtt 2éme lot]],\"-\")","v":"-"},{"$error":"#N/A"},{"$f":"IF(Tableau1[[#This Row],[2éme lot]]=\"-\",\"-\",IFERROR(IF(Q800=\"\",\"-\",INDEX(I:I,MATCH(Q800,C:C,0)+1)),\"-\"))","v":{"$error":"#N/A"}},"-","-"]
[1415,"MD000896","IMINOPRIL 10MG CP.B/28","IMIDAPRIL","9165","01.09.2021","MG/EXP1",139,"MG/EXP1-B-005",null,0,null,null,898.54,"HIKMA PHARMA ALGERIA SARL","MG/EXP1-BOX6-PSY-018","LYSANXIA 10MG COMP. B/40",{"$f":"SUMIF(Tableau1[Description article],Tableau1[Produits],Tableau1[Emplacement])","v":128},null,{"$f":"Sheet1!$S801-Sheet1!$R801","v":-128},"30.09.2022","19624007",174.3,{"$f":"IFERROR(Tableau1[[#This Row],[THEO]]-Tableau1[[#This Row],[Qtt 2éme lot]],\"-\")","v":"-"},"-",{"$f":"IF(Tableau1[[#This Row],[2éme lot]]=\"-\",\"-\",IFERROR(IF(Q801=\"\",\"-\",INDEX(I:I,MATCH(Q801,C:C,0)+1)),\"-\"))","v":"-"},"-","-"]
[1416,"MD000897","IMINOPRIL 20 MG CP B/28","IMIDAPRIL  HCI","9171","01.10.2021","MG/EXP1",185,"MG/EXP1-D-061",null,0,null,null,1012.5,"HIKMA PHARMA ALGERIA SARL","-",null,{"$f":"SUMIF(Tableau1[Description article],Tableau1[Produits],Tableau1[Emplacement])","v":0},null,{"$f":"Sheet1!$S802-Sheet1!$R802","v":0},"-","-","-",{"$f":"IFERROR(Tableau1[[#This Row],[THEO]]-Tableau1[[#This Row],[Qtt 2éme lot]],\"-\")","v":"-"},"-",{"$f":"IF(Tableau1[[#This Row],[2éme lot]]=\"-\",\"-\",IFERROR(IF(Q802=\"\",\"-\",INDEX(I:I,MATCH(Q802,C:C,0)+1)),\"-\"))","v":"-"},"-","-"]
[1418,"MD000898","IMINOPRIL 5MG CP B/28","IMIDAPRIL","0433","01.05.2022","MG/EXP1",107,"MG/EXP1-A-053",null,0,null,null,613.22,"HIKMA PHARMA ALGERIA SARL","-",null,{"$f":"SUMIF(Tableau1[Description article],Tableau1[Produits],Tableau1[Emplacement])","v":0},null,{"$f":"Sheet1!$S803-Sheet1!$R803","v":0},"-","-","-",{"$f":"IFERROR(Tableau1[[#This Row],[THEO]]-Tableau1[[#This Row],[Qtt 2éme lot]],\"-\")","v":"-"},"-",{"$f":"IF(Tableau1[[#This Row],[2éme lot]]=\"-\",\"-\",IFERROR(IF(Q803=\"\",\"-\",INDEX(I:I,MATCH(Q803,C:C,0)+1)),\"-\"))","v":"-"},"-","-"]
[1419,"MD000899","IMPLANON NXT 68MG/IMPLANT SOUS CUTANE. B/1","ETONOGESTREL","S022163*","01.02.2024","MG/EXP1",10,"MG/EXP1-BOX6",null,0,null,"CHER",10815.67,"BIOPHARM SPA","-",null,{"$f":"SUMIF(Tableau1[Description article],Tableau1[Produits],Tableau1[Emplacement])","v":0},null,{"$f":"Sheet1!$S804-Sheet1!$R804","v":0},"-","-","-",{"$f":"IFERROR(Tableau1[[#This Row],[THEO]]-Tableau1[[#This Row],[Qtt 2éme lot]],\"-\")","v":"-"},"-",{"$f":"IF(Tableau1[[#This Row],[2éme lot]]=\"-\",\"-\",IFERROR(IF(Q804=\"\",\"-\",INDEX(I:I,MATCH(Q804,C:C,0)+1)),\"-\"))","v":"-"},"-","-"]
[1420,"MD000901","IMUZOLE 250 MG CP .B/20","METRONIDAZOLE","018/19","01.09.2022","MG/EXP1",7,"MG/EXP1-F-020",null,0,null,null,143.56,"PHARMALLIANCE EURL","MG/EXP1-H-001","NOVOFORMINE 850MG COMP.PELLI. B/30",{"$f":"SUMIF(Tableau1[Description article],Tableau1[Produits],Tableau1[Emplacement])","v":1479},null,{"$f":"Sheet1!$S805-Sheet1!$R805","v":-1479},"01.04.2024","J0123771",145.1,{"$f":"IFERROR(Tableau1[[#This Row],[THEO]]-Tableau1[[#This Row],[Qtt 2éme lot]],\"-\")","v":"-"},"-",{"$f":"IF(Tableau1[[#This Row],[2éme lot]]=\"-\",\"-\",IFERROR(IF(Q805=\"\",\"-\",INDEX(I:I,MATCH(Q805,C:C,0)+1)),\"-\"))","v":"-"},"-","-"]
[1421,"MD000901","IMUZOLE 250 MG CP .B/20","METRONIDAZOLE","019/19","01.09.2022","MG/EXP1",249,"MG/EXP1-F-015",null,0,null,null,143.56,"PHARMALLIANCE EURL","MG/EXP1-E-013","DIAMICRON 30MG COMP.LM. B/30",{"$f":"SUMIF(Tableau1[Description article],Tableau1[Produits],Tableau1[Emplacement])","v":5},null,{"$f":"Sheet1!$S806-Sheet1!$R806","v":-5},"01.11.2022","494213",613.93,{"$f":"IFERROR(Tableau1[[#This Row],[THEO]]-Tableau1[[#This Row],[Qtt 2éme lot]],\"-\")","v":"-"},"-",{"$f":"IF(Tableau1[[#This Row],[2éme lot]]=\"-\",\"-\",IFERROR(IF(Q806=\"\",\"-\",INDEX(I:I,MATCH(Q806,C:C,0)+1)),\"-\"))","v":"-"},"-","-"]
[1423,"MD000903","INAGRA 50MG CP B/2","SILDENAFIL","017","01.01.2022","MG/EXP1",109,"MG/EXP1-BOX6-010",null,0,null,null,258.76,"ABDI IBRAHIM REMED PHARMA SPA","MG/EXP1-B-043","GELPHORE  PLUS  FLACONS 2000 MG - B/10",{"$f":"SUMIF(Tableau1[Description article],Tableau1[Produits],Tableau1[Emplacement])","v":42},null,{"$f":"Sheet1!$S807-Sheet1!$R807","v":-42},"01.12.2021","A104",1100,{"$f":"IFERROR(Tableau1[[#This Row],[THEO]]-Tableau1[[#This Row],[Qtt 2éme lot]],\"-\")","v":"-"},"-",{"$f":"IF(Tableau1[[#This Row],[2éme lot]]=\"-\",\"-\",IFERROR(IF(Q807=\"\",\"-\",INDEX(I:I,MATCH(Q807,C:C,0)+1)),\"-\"))","v":"-"},"-","-"]
[1424,"MD002935","INDAPAMIDE BEKER 1,5MG COMP.PELLI.LP. B/30","INDAPAMIDE","071818","24.07.2020","MG/EXP1",472,"MG/EXP1-A-063",null,0,null,null,598.5,"BEKER LABORATOIRES","MG/EXP1-C-050","RHINATHIOL ENFANT 0,02 SRP. FL/125ML",{"$f":"SUMIF(Tableau1[Description article],Tableau1[Produits],Tableau1[Emplacement])","v":143},null,{"$f":"Sheet1!$S808-Sheet1!$R808","v":-143},"01.05.2022","19RHE002",154.07,{"$f":"IFERROR(Tableau1[[#This Row],[THEO]]-Tableau1[[#This Row],[Qtt 2éme lot]],\"-\")","v":"-"},"-",{"$f":"IF(Tableau1[[#This Row],[2éme lot]]=\"-\",\"-\",IFERROR(IF(Q808=\"\",\"-\",INDEX(I:I,MATCH(Q808,C:C,0)+1)),\"-\"))","v":"-"},"-","-"]
[1425,"MD000905","INDOCOLLYRE (COLLYRE)","INDOMETACINE","H4821","01.10.2020","MG/EXP1",541,"MG/EXP1-C-032",null,0,null,null,300.4,"E.P.DIS EURAPHARMA SPA","MG/EXP1-D-050","MEGAMYLASE 3000 U CEIP COMP.ENRO. B/24",{"$f":"SUMIF(Tableau1[Description article],Tableau1[Produits],Tableau1[Emplacement])","v":401},null,{"$f":"Sheet1!$S809-Sheet1!$R809","v":-401},"01.09.2021","3696701",594.02,{"$f":"IFERROR(Tableau1[[#This Row],[THEO]]-Tableau1[[#This Row],[Qtt 2éme lot]],\"-\")","v":"-"},"-",{"$f":"IF(Tableau1[[#This Row],[2éme lot]]=\"-\",\"-\",IFERROR(IF(Q809=\"\",\"-\",INDEX(I:I,MATCH(Q809,C:C,0)+1)),\"-\"))","v":"-"},"-","-"]
[1427,"PP00203","INFERTEX GLE B/60",null,"V003","01.11.2020","MG/EXP1",2,"MG/EXP1-BOX6-021",null,0,null,"CHER",4496.42,"ABDI IBRAHIM REMED PHARMA SPA","-","anta",{"$f":"SUMIF(Tableau1[Description article],Tableau1[Produits],Tableau1[Emplacement])","v":0},null,{"$f":"Sheet1!$S810-Sheet1!$R810","v":0},"-","-","-",{"$f":"IFERROR(Tableau1[[#This Row],[THEO]]-Tableau1[[#This Row],[Qtt 2éme lot]],\"-\")","v":"-"},{"$error":"#N/A"},{"$f":"IF(Tableau1[[#This Row],[2éme lot]]=\"-\",\"-\",IFERROR(IF(Q810=\"\",\"-\",INDEX(I:I,MATCH(Q810,C:C,0)+1)),\"-\"))","v":{"$error":"#N/A"}},"-","-"]
[1428,"MD000913","INNOHEP 14 000 UI SOL INJ .B/2 ANTI-XA/0.5ML","TINZAPARINE","C08655","01.06.2022","MG/EXP1",60,"MG/EXP1-E-058",null,0,null,null,2852.39,"BIOPHARM SPA","-",null,{"$f":"SUMIF(Tableau1[Description article],Tableau1[Produits],Tableau1[Emplacement])","v":0},null,{"$f":"Sheet1!$S811-Sheet1!$R811","v":0},"-","-","-",{"$f":"IFERROR(Tableau1[[#This Row],[THEO]]-Tableau1[[#This Row],[Qtt 2éme lot]],\"-\")","v":"-"},"-",{"$f":"IF(Tableau1[[#This Row],[2éme lot]]=\"-\",\"-\",IFERROR(IF(Q811=\"\",\"-\",INDEX(I:I,MATCH(Q811,C:C,0)+1)),\"-\"))","v":"-"},"-","-"]
[1429,"MD000916","INNOHEP 3500UI SOL INJ B/2","TINZAPARINE","C13976","13.07.2022","MG/EXP1",10,"MG/EXP1-BOX6-026",null,0,null,null,874.5,"BIOPHARM SPA","-",null,{"$f":"SUMIF(Tableau1[Description article],Tableau1[Produits],Tableau1[Emplacement])","v":0},null,{"$f":"Sheet1!$S812-Sheet1!$R812","v":0},"-","-","-",{"$f":"IFERROR(Tableau1[[#This Row],[THEO]]-Tableau1[[#This Row],[Qtt 2éme lot]],\"-\")","v":"-"},"-",{"$f":"IF(Tableau1[[#This Row],[2éme lot]]=\"-\",\"-\",IFERROR(IF(Q812=\"\",\"-\",INDEX(I:I,MATCH(Q812,C:C,0)+1)),\"-\"))","v":"-"},"-","-"]
[1432,"MD000918","INPHADIUM S.B 0.2MG/ML FL/125ML(LOPERAMIDE)","LOPERAMIDE","8B22","01.12.2021","MG/EXP1",93,"MG/EXP1-E-044",null,0,null,null,215,"INPHA MEDIS SPA","-",null,{"$f":"SUMIF(Tableau1[Description article],Tableau1[Produits],Tableau1[Emplacement])","v":0},null,{"$f":"Sheet1!$S813-Sheet1!$R813","v":0},"-","-","-",{"$f":"IFERROR(Tableau1[[#This Row],[THEO]]-Tableau1[[#This Row],[Qtt 2éme lot]],\"-\")","v":"-"},"-",{"$f":"IF(Tableau1[[#This Row],[2éme lot]]=\"-\",\"-\",IFERROR(IF(Q813=\"\",\"-\",INDEX(I:I,MATCH(Q813,C:C,0)+1)),\"-\"))","v":"-"},"-","-"]
[1434,"MD000919","INPHALAC SIROP F/200ML","LACTULOSE 60.6G/100ML","9615","31.10.2022","MG/EXP1",90,"MG/EXP1-G-041",null,0,null,null,274.9,"INPHA MEDIS SPA","-",null,{"$f":"SUMIF(Tableau1[Description article],Tableau1[Produits],Tableau1[Emplacement])","v":0},null,{"$f":"Sheet1!$S814-Sheet1!$R814","v":0},"-","-","-",{"$f":"IFERROR(Tableau1[[#This Row],[THEO]]-Tableau1[[#This Row],[Qtt 2éme lot]],\"-\")","v":"-"},"-",{"$f":"IF(Tableau1[[#This Row],[2éme lot]]=\"-\",\"-\",IFERROR(IF(Q814=\"\",\"-\",INDEX(I:I,MATCH(Q814,C:C,0)+1)),\"-\"))","v":"-"},"-","-"]
[1435,"MD000919","INPHALAC SIROP F/200ML","LACTULOSE 60.6G/100ML","9616","31.10.2022","MG/EXP1",1,"MG/EXP1-G-040",null,0,null,null,274.9,"INPHA MEDIS SPA","-",null,{"$f":"SUMIF(Tableau1[Description article],Tableau1[Produits],Tableau1[Emplacement])","v":0},null,{"$f":"Sheet1!$S815-Sheet1!$R815","v":0},"-","-","-",{"$f":"IFERROR(Tableau1[[#This Row],[THEO]]-Tableau1[[#This Row],[Qtt 2éme lot]],\"-\")","v":"-"},"-",{"$f":"IF(Tableau1[[#This Row],[2éme lot]]=\"-\",\"-\",IFERROR(IF(Q815=\"\",\"-\",INDEX(I:I,MATCH(Q815,C:C,0)+1)),\"-\"))","v":"-"},"-","-"]
[1436,"MD000920","INSULATARD HM 100MUI FL10ML-*INSUL INTERM NPH HUMAIN*-","INSULINE HUMAINE BIOGENETIQUE ISOPHANE","JT6M870","01.08.2021","MG/EXP1",120,"MG/EXP1-BOX6",null,0,null,"GLAC",920.66,"ALDAPH SPA","-",null,{"$f":"SUMIF(Tableau1[Description article],Tableau1[Produits],Tableau1[Emplacement])","v":0},null,{"$f":"Sheet1!$S816-Sheet1!$R816","v":0},"-","-","-",{"$f":"IFERROR(Tableau1[[#This Row],[THEO]]-Tableau1[[#This Row],[Qtt 2éme lot]],\"-\")","v":"-"},"-",{"$f":"IF(Tableau1[[#This Row],[2éme lot]]=\"-\",\"-\",IFERROR(IF(Q816=\"\",\"-\",INDEX(I:I,MATCH(Q816,C:C,0)+1)),\"-\"))","v":"-"},"-","-"]
[1437,"MD000921","INSULATARD PENFIL - SUSP.INJ. B/05 CARTx3ML","INSULINE HUMAINE BIOGENETIQUE ISOPHANE","HS66A12","01.08.2020","MG/EXP1",28,"MG/EXP1-BOX6",null,0,null,"GLAC",2666.26,"ALDAPH SPA","-",null,{"$f":"SUMIF(Tableau1[Description article],Tableau1[Produits],Tableau1[Emplacement])","v":0},null,{"$f":"Sheet1!$S817-Sheet1!$R817","v":0},"-","-","-",{"$f":"IFERROR(Tableau1[[#This Row],[THEO]]-Tableau1[[#This Row],[Qtt 2éme lot]],\"-\")","v":"-"},"-",{"$f":"IF(Tableau1[[#This Row],[2éme lot]]=\"-\",\"-\",IFERROR(IF(Q817=\"\",\"-\",INDEX(I:I,MATCH(Q817,C:C,0)+1)),\"-\"))","v":"-"},"-","-"]
[1440,"MD000923","INVERTER 2MG COMP.SEC. B/40","MOLSIDOMINE","001*","01.06.2020","MG/EXP1",136,"MG/EXP1-F-056",null,0,null,null,227.5,"SAIDAL UNITE CENTRE","-",null,{"$f":"SUMIF(Tableau1[Description article],Tableau1[Produits],Tableau1[Emplacement])","v":0},null,{"$f":"Sheet1!$S818-Sheet1!$R818","v":0},"-","-","-",{"$f":"IFERROR(Tableau1[[#This Row],[THEO]]-Tableau1[[#This Row],[Qtt 2éme lot]],\"-\")","v":"-"},"-",{"$f":"IF(Tableau1[[#This Row],[2éme lot]]=\"-\",\"-\",IFERROR(IF(Q818=\"\",\"-\",INDEX(I:I,MATCH(Q818,C:C,0)+1)),\"-\"))","v":"-"},"-","-"]
[1442,"MD000923","INVERTER 2MG COMP.SEC. B/40","MOLSIDOMINE","001","01.06.2020","MG/EXP1",331,"MG/EXP1-A-032",null,0,null,null,227.5,"SAIDAL UNITE CENTRE","-",null,{"$f":"SUMIF(Tableau1[Description article],Tableau1[Produits],Tableau1[Emplacement])","v":0},null,{"$f":"Sheet1!$S819-Sheet1!$R819","v":0},"-","-","-",{"$f":"IFERROR(Tableau1[[#This Row],[THEO]]-Tableau1[[#This Row],[Qtt 2éme lot]],\"-\")","v":"-"},"-",{"$f":"IF(Tableau1[[#This Row],[2éme lot]]=\"-\",\"-\",IFERROR(IF(Q819=\"\",\"-\",INDEX(I:I,MATCH(Q819,C:C,0)+1)),\"-\"))","v":"-"},"-","-"]
[1443,"MD002373","IPAKINE 200MG/ML SOL.BUV. FL/40ML","VALPROATE DE SODIUM","9393","01.05.2021","MG/EXP1",55,"MG/EXP1-BOX6-PSY-020",null,0,null,null,237.33,"INPHA MEDIS SPA","-",null,{"$f":"SUMIF(Tableau1[Description article],Tableau1[Produits],Tableau1[Emplacement])","v":0},null,{"$f":"Sheet1!$S820-Sheet1!$R820","v":0},"-","-","-",{"$f":"IFERROR(Tableau1[[#This Row],[THEO]]-Tableau1[[#This Row],[Qtt 2éme lot]],\"-\")","v":"-"},"-",{"$f":"IF(Tableau1[[#This Row],[2éme lot]]=\"-\",\"-\",IFERROR(IF(Q820=\"\",\"-\",INDEX(I:I,MATCH(Q820,C:C,0)+1)),\"-\"))","v":"-"},"-","-"]
[1445,"MD000926","IRBEK 150MG COMP. B/30","IRBESARTAN","121218","01.12.2021","MG/EXP1",162,"MG/EXP1-BOX6-007",null,0,null,null,1287.5,"BEKER LABORATOIRES","-",null,{"$f":"SUMIF(Tableau1[Description article],Tableau1[Produits],Tableau1[Emplacement])","v":0},null,{"$f":"Sheet1!$S821-Sheet1!$R821","v":0},"-","-","-",{"$f":"IFERROR(Tableau1[[#This Row],[THEO]]-Tableau1[[#This Row],[Qtt 2éme lot]],\"-\")","v":"-"},"-",{"$f":"IF(Tableau1[[#This Row],[2éme lot]]=\"-\",\"-\",IFERROR(IF(Q821=\"\",\"-\",INDEX(I:I,MATCH(Q821,C:C,0)+1)),\"-\"))","v":"-"},"-","-"]
[1446,"MD000927","IRBEK 300MG COMP. B/30","IRBESARTAN","038419","01.04.2022","MG/EXP1",257,"MG/EXP1-F-050",null,0,null,null,1287.5,"BEKER LABORATOIRES","-",null,{"$f":"SUMIF(Tableau1[Description article],Tableau1[Produits],Tableau1[Emplacement])","v":0},null,{"$f":"Sheet1!$S822-Sheet1!$R822","v":0},"-","-","-",{"$f":"IFERROR(Tableau1[[#This Row],[THEO]]-Tableau1[[#This Row],[Qtt 2éme lot]],\"-\")","v":"-"},"-",{"$f":"IF(Tableau1[[#This Row],[2éme lot]]=\"-\",\"-\",IFERROR(IF(Q822=\"\",\"-\",INDEX(I:I,MATCH(Q822,C:C,0)+1)),\"-\"))","v":"-"},"-","-"]
[1447,"MD000927","IRBEK 300MG COMP. B/30","IRBESARTAN","121618","06.12.2021","MG/EXP1",2,"MG/EXP1-F-051",null,0,null,null,1287.5,"BEKER LABORATOIRES","-",null,{"$f":"SUMIF(Tableau1[Description article],Tableau1[Produits],Tableau1[Emplacement])","v":0},null,{"$f":"Sheet1!$S823-Sheet1!$R823","v":0},"-","-","-",{"$f":"IFERROR(Tableau1[[#This Row],[THEO]]-Tableau1[[#This Row],[Qtt 2éme lot]],\"-\")","v":"-"},"-",{"$f":"IF(Tableau1[[#This Row],[2éme lot]]=\"-\",\"-\",IFERROR(IF(Q823=\"\",\"-\",INDEX(I:I,MATCH(Q823,C:C,0)+1)),\"-\"))","v":"-"},"-","-"]
[1448,"MD000928","IRBEVEL 150MG COMP.PELLI. B/30","IRBESARTAN","048","15.09.2021","MG/EXP1",143,"MG/EXP1-BOX6-007",null,0,null,null,1287.5,"BIOPHARM SPA","-",null,{"$f":"SUMIF(Tableau1[Description article],Tableau1[Produits],Tableau1[Emplacement])","v":0},null,{"$f":"Sheet1!$S824-Sheet1!$R824","v":0},"-","-","-",{"$f":"IFERROR(Tableau1[[#This Row],[THEO]]-Tableau1[[#This Row],[Qtt 2éme lot]],\"-\")","v":"-"},"-",{"$f":"IF(Tableau1[[#This Row],[2éme lot]]=\"-\",\"-\",IFERROR(IF(Q824=\"\",\"-\",INDEX(I:I,MATCH(Q824,C:C,0)+1)),\"-\"))","v":"-"},"-","-"]
[1450,"MD000929","IRBEVEL 300MG COMP.PELLI. B/30","IRBESARTAN","030","18.04.2021","MG/EXP1",72,"MG/EXP1-BOX6-007",null,0,null,null,1287.5,"BIOPHARM SPA","-",null,{"$f":"SUMIF(Tableau1[Description article],Tableau1[Produits],Tableau1[Emplacement])","v":0},null,{"$f":"Sheet1!$S825-Sheet1!$R825","v":0},"-","-","-",{"$f":"IFERROR(Tableau1[[#This Row],[THEO]]-Tableau1[[#This Row],[Qtt 2éme lot]],\"-\")","v":"-"},"-",{"$f":"IF(Tableau1[[#This Row],[2éme lot]]=\"-\",\"-\",IFERROR(IF(Q825=\"\",\"-\",INDEX(I:I,MATCH(Q825,C:C,0)+1)),\"-\"))","v":"-"},"-","-"]
[1451,"MD000930","IRYS 1MG COMP.PELLI.SEC. B/30","GLIMEPIRIDE","9298","30.04.2022","MG/EXP1",194,"MG/EXP1-A-059",null,0,null,null,248.3,"INPHA MEDIS SPA","-",null,{"$f":"SUMIF(Tableau1[Description article],Tableau1[Produits],Tableau1[Emplacement])","v":0},null,{"$f":"Sheet1!$S826-Sheet1!$R826","v":0},"-","-","-",{"$f":"IFERROR(Tableau1[[#This Row],[THEO]]-Tableau1[[#This Row],[Qtt 2éme lot]],\"-\")","v":"-"},"-",{"$f":"IF(Tableau1[[#This Row],[2éme lot]]=\"-\",\"-\",IFERROR(IF(Q826=\"\",\"-\",INDEX(I:I,MATCH(Q826,C:C,0)+1)),\"-\"))","v":"-"},"-","-"]
[1453,"MD000931","IRYS 2MG COMP.PELLI.SEC. B/30","GLIMEPIRIDE","9303","30.04.2022","MG/EXP1",333,"MG/EXP1-B-068",null,0,null,null,477.5,"INPHA MEDIS SPA","-",null,{"$f":"SUMIF(Tableau1[Description article],Tableau1[Produits],Tableau1[Emplacement])","v":0},null,{"$f":"Sheet1!$S827-Sheet1!$R827","v":0},"-","-","-",{"$f":"IFERROR(Tableau1[[#This Row],[THEO]]-Tableau1[[#This Row],[Qtt 2éme lot]],\"-\")","v":"-"},"-",{"$f":"IF(Tableau1[[#This Row],[2éme lot]]=\"-\",\"-\",IFERROR(IF(Q827=\"\",\"-\",INDEX(I:I,MATCH(Q827,C:C,0)+1)),\"-\"))","v":"-"},"-","-"]
[1454,"MD000932","IRYS 3MG COMP.PELLI.SEC. B/30","GLIMEPIRIDE","9088","31.01.2022","MG/EXP1",267,"MG/EXP1-C-042",null,0,null,null,717.5,"INPHA MEDIS SPA","-",null,{"$f":"SUMIF(Tableau1[Description article],Tableau1[Produits],Tableau1[Emplacement])","v":0},null,{"$f":"Sheet1!$S828-Sheet1!$R828","v":0},"-","-","-",{"$f":"IFERROR(Tableau1[[#This Row],[THEO]]-Tableau1[[#This Row],[Qtt 2éme lot]],\"-\")","v":"-"},"-",{"$f":"IF(Tableau1[[#This Row],[2éme lot]]=\"-\",\"-\",IFERROR(IF(Q828=\"\",\"-\",INDEX(I:I,MATCH(Q828,C:C,0)+1)),\"-\"))","v":"-"},"-","-"]
[1456,"MD000933","IRYS 4MG COMP.PELLI.SEC. B/30","GLIMEPIRIDE","8923","01.10.2021","MG/EXP1",94,"MG/EXP1-A-064",null,0,null,null,747.5,"INPHA MEDIS SPA","-",null,{"$f":"SUMIF(Tableau1[Description article],Tableau1[Produits],Tableau1[Emplacement])","v":0},null,{"$f":"Sheet1!$S829-Sheet1!$R829","v":0},"-","-","-",{"$f":"IFERROR(Tableau1[[#This Row],[THEO]]-Tableau1[[#This Row],[Qtt 2éme lot]],\"-\")","v":"-"},"-",{"$f":"IF(Tableau1[[#This Row],[2éme lot]]=\"-\",\"-\",IFERROR(IF(Q829=\"\",\"-\",INDEX(I:I,MATCH(Q829,C:C,0)+1)),\"-\"))","v":"-"},"-","-"]
[1457,"MD000934","IRYS 6MG COMP.PELLI.SEC. B/30","GLIMEPIRIDE","9093","01.01.2022","MG/EXP1",4,"MG/EXP1-D-014",null,0,null,null,917.65,"INPHA MEDIS SPA","-",null,{"$f":"SUMIF(Tableau1[Description article],Tableau1[Produits],Tableau1[Emplacement])","v":0},null,{"$f":"Sheet1!$S830-Sheet1!$R830","v":0},"-","-","-",{"$f":"IFERROR(Tableau1[[#This Row],[THEO]]-Tableau1[[#This Row],[Qtt 2éme lot]],\"-\")","v":"-"},"-",{"$f":"IF(Tableau1[[#This Row],[2éme lot]]=\"-\",\"-\",IFERROR(IF(Q830=\"\",\"-\",INDEX(I:I,MATCH(Q830,C:C,0)+1)),\"-\"))","v":"-"},"-","-"]
[1459,"MD000934","IRYS 6MG COMP.PELLI.SEC. B/30","GLIMEPIRIDE","9314","30.04.2022","MG/EXP1",66,"MG/EXP1-B-014",null,0,null,null,917.65,"INPHA MEDIS SPA","-",null,{"$f":"SUMIF(Tableau1[Description article],Tableau1[Produits],Tableau1[Emplacement])","v":0},null,{"$f":"Sheet1!$S831-Sheet1!$R831","v":0},"-","-","-",{"$f":"IFERROR(Tableau1[[#This Row],[THEO]]-Tableau1[[#This Row],[Qtt 2éme lot]],\"-\")","v":"-"},"-",{"$f":"IF(Tableau1[[#This Row],[2éme lot]]=\"-\",\"-\",IFERROR(IF(Q831=\"\",\"-\",INDEX(I:I,MATCH(Q831,C:C,0)+1)),\"-\"))","v":"-"},"-","-"]
[1460,"MD000935","ISOBUTALINE 0,3MG/ML SOL.BUV.SS.SUC. FL/150ML","TERBUTALINE SULFATE","TR01 L19","01.12.2022","MG/EXP1",115,"MG/EXP1-A-015",null,0,null,null,192.5,"ISOPHARM ALGERIE SARL","-",null,{"$f":"SUMIF(Tableau1[Description article],Tableau1[Produits],Tableau1[Emplacement])","v":0},null,{"$f":"Sheet1!$S832-Sheet1!$R832","v":0},"-","-","-",{"$f":"IFERROR(Tableau1[[#This Row],[THEO]]-Tableau1[[#This Row],[Qtt 2éme lot]],\"-\")","v":"-"},"-",{"$f":"IF(Tableau1[[#This Row],[2éme lot]]=\"-\",\"-\",IFERROR(IF(Q832=\"\",\"-\",INDEX(I:I,MATCH(Q832,C:C,0)+1)),\"-\"))","v":"-"},"-","-"]
[1465,"MD000435","ISOCTINE 2MG/5ML SOL.BUV. FL/100ML","CYPROHEPTADINE","C01 J19","01.10.2022","MG/EXP1",166,"MG/EXP1-A-060",null,0,null,null,109.8,"ISOPHARM ALGERIE SARL","-",null,{"$f":"SUMIF(Tableau1[Description article],Tableau1[Produits],Tableau1[Emplacement])","v":0},null,{"$f":"Sheet1!$S833-Sheet1!$R833","v":0},"-","-","-",{"$f":"IFERROR(Tableau1[[#This Row],[THEO]]-Tableau1[[#This Row],[Qtt 2éme lot]],\"-\")","v":"-"},"-",{"$f":"IF(Tableau1[[#This Row],[2éme lot]]=\"-\",\"-\",IFERROR(IF(Q833=\"\",\"-\",INDEX(I:I,MATCH(Q833,C:C,0)+1)),\"-\"))","v":"-"},"-","-"]
[1467,"MD000936","ISOFFINE SIROP -HUILE DE PARAFINE-","HUILE DE PARAFFINE","P02 K19","01.11.2022","MG/EXP1",50,"MG/EXP1-A-008",null,0,null,null,139.94,"ISOPHARM ALGERIE SARL",{"$f":"IFERROR(IF(Q834=\"\",\"-\",INDEX(I:I,MATCH(Q834,C:C,0))),\"-\")","v":"-"},null,{"$f":"SUMIF(Tableau1[Description article],Tableau1[Produits],Tableau1[Emplacement])","v":0},null,{"$f":"Sheet1!$S834-Sheet1!$R834","v":0},{"$f":"IFERROR(IF(Q834=\"\",\"-\",INDEX(F:F,MATCH(Q834,C:C,0))),\"-\")","v":"-"},{"$f":"IFERROR(IF(Q834=\"\",\"-\",INDEX(E:E,MATCH(Q834,C:C,0))),\"-\")","v":"-"},{"$f":"IFERROR(IF(Q834=\"\",\"-\",INDEX(N:N,MATCH(Q834,C:C,0))),\"-\")","v":"-"},{"$f":"IFERROR(Tableau1[[#This Row],[THEO]]-Tableau1[[#This Row],[Qtt 2éme lot]],\"-\")","v":"-"},{"$f":"IF(IF(Q834=\"\",\"-\",INDEX(E:E,MATCH(Q834,C:C,0)))=IF(Q834=\"\",\"-\",INDEX(E:E,MATCH(Q834,C:C,1))),\"-\",IF(Q834=\"\",\"-\",INDEX(E:E,MATCH(Q834,C:C,1))))","v":"-"},{"$f":"IF(Tableau1[[#This Row],[2éme lot]]=\"-\",\"-\",IFERROR(IF(Q834=\"\",\"-\",INDEX(I:I,MATCH(Q834,C:C,0)+1)),\"-\"))","v":"-"},{"$f":"IFERROR(IF(Y834=\"\",\"-\",INDEX(N:N,MATCH(Y834,E:E,0))),\"-\")","v":"-"},{"$f":"IFERROR(IF(AA834=\"\",\"-\",INDEX(H:H,MATCH(Y834,E:E,0))),\"-\")","v":"-"}]
[1468,"MD000937","ISOLACT 66,50% SOL.BUV.SS.SUC. FL/150ML","LACTULOSE","L01 K19","01.11.2022","MG/EXP1",27,"MG/EXP1-A-036",null,0,null,null,202.76,"ISOPHARM ALGERIE SARL","-",null,{"$f":"SUMIF(Tableau1[Description article],Tableau1[Produits],Tableau1[Emplacement])","v":0},null,{"$f":"Sheet1!$S835-Sheet1!$R835","v":0},"-","-","-",{"$f":"IFERROR(Tableau1[[#This Row],[THEO]]-Tableau1[[#This Row],[Qtt 2éme lot]],\"-\")","v":"-"},"-",{"$f":"IF(Tableau1[[#This Row],[2éme lot]]=\"-\",\"-\",IFERROR(IF(Q835=\"\",\"-\",INDEX(I:I,MATCH(Q835,C:C,0)+1)),\"-\"))","v":"-"},"-","-"]
[1470,"MD000939","ISOLVON 10MG/5ML SRP. F/60ML","BROMHEXINE","B02 K19","01.11.2022","MG/EXP1",67,"MG/EXP1-A-028",null,0,null,null,125.91,"ISOPHARM ALGERIE SARL","-",null,{"$f":"SUMIF(Tableau1[Description article],Tableau1[Produits],Tableau1[Emplacement])","v":0},null,{"$f":"Sheet1!$S836-Sheet1!$R836","v":0},"-","-","-",{"$f":"IFERROR(Tableau1[[#This Row],[THEO]]-Tableau1[[#This Row],[Qtt 2éme lot]],\"-\")","v":"-"},"-",{"$f":"IF(Tableau1[[#This Row],[2éme lot]]=\"-\",\"-\",IFERROR(IF(Q836=\"\",\"-\",INDEX(I:I,MATCH(Q836,C:C,0)+1)),\"-\"))","v":"-"},"-","-"]
[1472,"MD000940","ISOMAG 0,15 SOL.BUV. FL/150ML","PIDOLATE DE MAGNESIUM","M01 K19","01.11.2022","MG/EXP1",19,"MG/EXP1-B-042",null,0,null,null,205.92,"ISOPHARM ALGERIE SARL","-",null,{"$f":"SUMIF(Tableau1[Description article],Tableau1[Produits],Tableau1[Emplacement])","v":0},null,{"$f":"Sheet1!$S837-Sheet1!$R837","v":0},"-","-","-",{"$f":"IFERROR(Tableau1[[#This Row],[THEO]]-Tableau1[[#This Row],[Qtt 2éme lot]],\"-\")","v":"-"},"-",{"$f":"IF(Tableau1[[#This Row],[2éme lot]]=\"-\",\"-\",IFERROR(IF(Q837=\"\",\"-\",INDEX(I:I,MATCH(Q837,C:C,0)+1)),\"-\"))","v":"-"},"-","-"]
[1475,"MD000941","ISOMEDINE 0,1% SOL.DERM. FL/50ML","HEXAMEDINE","I01 K19","01.11.2022","MG/EXP1",374,"MG/EXP1-D-016",null,0,null,null,118.38,"ISOPHARM ALGERIE SARL","-",null,{"$f":"SUMIF(Tableau1[Description article],Tableau1[Produits],Tableau1[Emplacement])","v":0},null,{"$f":"Sheet1!$S838-Sheet1!$R838","v":0},"-","-","-",{"$f":"IFERROR(Tableau1[[#This Row],[THEO]]-Tableau1[[#This Row],[Qtt 2éme lot]],\"-\")","v":"-"},"-",{"$f":"IF(Tableau1[[#This Row],[2éme lot]]=\"-\",\"-\",IFERROR(IF(Q838=\"\",\"-\",INDEX(I:I,MATCH(Q838,C:C,0)+1)),\"-\"))","v":"-"},"-","-"]
[1478,"MD000943","ISOPERIDOL HALOPERIDOL 2% Gtte - F/20ML","HALDOPERIDOL","H01 L19","01.12.2022","MG/EXP1",125,"MG/EXP1-BOX6",null,0,null,null,117.72,"ISOPHARM ALGERIE SARL","-",null,{"$f":"SUMIF(Tableau1[Description article],Tableau1[Produits],Tableau1[Emplacement])","v":0},null,{"$f":"Sheet1!$S839-Sheet1!$R839","v":0},"-","-","-",{"$f":"IFERROR(Tableau1[[#This Row],[THEO]]-Tableau1[[#This Row],[Qtt 2éme lot]],\"-\")","v":"-"},"-",{"$f":"IF(Tableau1[[#This Row],[2éme lot]]=\"-\",\"-\",IFERROR(IF(Q839=\"\",\"-\",INDEX(I:I,MATCH(Q839,C:C,0)+1)),\"-\"))","v":"-"},"-","-"]
[1479,"MD000943","ISOPERIDOL HALOPERIDOL 2% Gtte - F/20ML","HALDOPERIDOL","H01 L19","01.12.2022","MG/EXP1",25,"MG/EXP1-BOX6-PSY-020",null,0,null,null,117.72,"ISOPHARM ALGERIE SARL","-",null,{"$f":"SUMIF(Tableau1[Description article],Tableau1[Produits],Tableau1[Emplacement])","v":0},null,{"$f":"Sheet1!$S840-Sheet1!$R840","v":0},"-","-","-",{"$f":"IFERROR(Tableau1[[#This Row],[THEO]]-Tableau1[[#This Row],[Qtt 2éme lot]],\"-\")","v":"-"},"-",{"$f":"IF(Tableau1[[#This Row],[2éme lot]]=\"-\",\"-\",IFERROR(IF(Q840=\"\",\"-\",INDEX(I:I,MATCH(Q840,C:C,0)+1)),\"-\"))","v":"-"},"-","-"]
[1482,"MD000944","ISOPTYL 4% (40MG/ML) SOL.BUV.GTTES. FL/20ML","AMITRIPTYLINE","A02 K19","01.11.2022","MG/EXP1",346,"MG/EXP1-BOX6-PSY-021",null,0,null,null,97.38,"ISOPHARM ALGERIE SARL","-",null,{"$f":"SUMIF(Tableau1[Description article],Tableau1[Produits],Tableau1[Emplacement])","v":0},null,{"$f":"Sheet1!$S841-Sheet1!$R841","v":0},"-","-","-",{"$f":"IFERROR(Tableau1[[#This Row],[THEO]]-Tableau1[[#This Row],[Qtt 2éme lot]],\"-\")","v":"-"},"-",{"$f":"IF(Tableau1[[#This Row],[2éme lot]]=\"-\",\"-\",IFERROR(IF(Q841=\"\",\"-\",INDEX(I:I,MATCH(Q841,C:C,0)+1)),\"-\"))","v":"-"},"-","-"]
[1486,"MD000945","ISOSPALGINE 10MG/5ML SRP. FL/150ML","TIEMONIUM METHYLSULFATE","T03 L19","01.12.2022","MG/EXP1",229,"MG/EXP1-B-029",null,0,null,null,189,"ISOPHARM ALGERIE SARL","-",null,{"$f":"SUMIF(Tableau1[Description article],Tableau1[Produits],Tableau1[Emplacement])","v":0},null,{"$f":"Sheet1!$S842-Sheet1!$R842","v":0},"-","-","-",{"$f":"IFERROR(Tableau1[[#This Row],[THEO]]-Tableau1[[#This Row],[Qtt 2éme lot]],\"-\")","v":"-"},"-",{"$f":"IF(Tableau1[[#This Row],[2éme lot]]=\"-\",\"-\",IFERROR(IF(Q842=\"\",\"-\",INDEX(I:I,MATCH(Q842,C:C,0)+1)),\"-\"))","v":"-"},"-","-"]
[1487,"MD000945","ISOSPALGINE 10MG/5ML SRP. FL/150ML","TIEMONIUM METHYLSULFATE","T04 K19","01.11.2022","MG/EXP1",4,"MG/EXP1-B-028",null,0,null,null,189,"ISOPHARM ALGERIE SARL","-",null,{"$f":"SUMIF(Tableau1[Description article],Tableau1[Produits],Tableau1[Emplacement])","v":0},null,{"$f":"Sheet1!$S843-Sheet1!$R843","v":0},"-","-","-",{"$f":"IFERROR(Tableau1[[#This Row],[THEO]]-Tableau1[[#This Row],[Qtt 2éme lot]],\"-\")","v":"-"},"-",{"$f":"IF(Tableau1[[#This Row],[2éme lot]]=\"-\",\"-\",IFERROR(IF(Q843=\"\",\"-\",INDEX(I:I,MATCH(Q843,C:C,0)+1)),\"-\"))","v":"-"},"-","-"]
[1488,"MD000946","ISOTAMINE 2MG/ML GTTES.BUV. FL/20","DIHYDROERGOTAMINE","D01 J19","01.10.2022","MG/EXP1",243,"MG/EXP1-D-028",null,0,null,null,250.27,"ISOPHARM ALGERIE SARL","-",null,{"$f":"SUMIF(Tableau1[Description article],Tableau1[Produits],Tableau1[Emplacement])","v":0},null,{"$f":"Sheet1!$S844-Sheet1!$R844","v":0},"-","-","-",{"$f":"IFERROR(Tableau1[[#This Row],[THEO]]-Tableau1[[#This Row],[Qtt 2éme lot]],\"-\")","v":"-"},"-",{"$f":"IF(Tableau1[[#This Row],[2éme lot]]=\"-\",\"-\",IFERROR(IF(Q844=\"\",\"-\",INDEX(I:I,MATCH(Q844,C:C,0)+1)),\"-\"))","v":"-"},"-","-"]
[1491,"MD003993","ISUCARE CHECK 3 B/ 50 BANDELETTES","BANDELETTES DE TEST DE GLYCEMIE","20/01/008","01.06.2021","MG/EXP1",836,"MG/EXP1-BOX6-025",null,0,null,null,1500,"ABC-COS SPA","-",null,{"$f":"SUMIF(Tableau1[Description article],Tableau1[Produits],Tableau1[Emplacement])","v":0},null,{"$f":"Sheet1!$S845-Sheet1!$R845","v":0},"-","-","-",{"$f":"IFERROR(Tableau1[[#This Row],[THEO]]-Tableau1[[#This Row],[Qtt 2éme lot]],\"-\")","v":"-"},"-",{"$f":"IF(Tableau1[[#This Row],[2éme lot]]=\"-\",\"-\",IFERROR(IF(Q845=\"\",\"-\",INDEX(I:I,MATCH(Q845,C:C,0)+1)),\"-\"))","v":"-"},"-","-"]
[1493,"MD003993","ISUCARE CHECK 3 B/ 50 BANDELETTES","BANDELETTES DE TEST DE GLYCEMIE","20/01/004","01.06.2021","MG/EXP1",146,"MG/EXP1-BOX6-024",null,0,null,null,1500,"ABC-COS SPA","-",null,{"$f":"SUMIF(Tableau1[Description article],Tableau1[Produits],Tableau1[Emplacement])","v":0},null,{"$f":"Sheet1!$S846-Sheet1!$R846","v":0},"-","-","-",{"$f":"IFERROR(Tableau1[[#This Row],[THEO]]-Tableau1[[#This Row],[Qtt 2éme lot]],\"-\")","v":"-"},"-",{"$f":"IF(Tableau1[[#This Row],[2éme lot]]=\"-\",\"-\",IFERROR(IF(Q846=\"\",\"-\",INDEX(I:I,MATCH(Q846,C:C,0)+1)),\"-\"))","v":"-"},"-","-"]
[1495,"MD003994","ISUCARE CHECK 3 KIT","LECTEUR DE GLYCEMIE","20/KPF/001","01.01.2023","MG/EXP1",300,"MG/EXP1-BOX6-023",null,0,null,null,0.01,"ABC-COS SPA","-",null,{"$f":"SUMIF(Tableau1[Description article],Tableau1[Produits],Tableau1[Emplacement])","v":0},null,{"$f":"Sheet1!$S847-Sheet1!$R847","v":0},"-","-","-",{"$f":"IFERROR(Tableau1[[#This Row],[THEO]]-Tableau1[[#This Row],[Qtt 2éme lot]],\"-\")","v":"-"},"-",{"$f":"IF(Tableau1[[#This Row],[2éme lot]]=\"-\",\"-\",IFERROR(IF(Q847=\"\",\"-\",INDEX(I:I,MATCH(Q847,C:C,0)+1)),\"-\"))","v":"-"},"-","-"]
[1496,"MD003994","ISUCARE CHECK 3 KIT","LECTEUR DE GLYCEMIE","20/KPF/001","01.01.2023","MG/EXP1",77,"MG/EXP1-BOX6-024",null,0,null,null,0.01,"ABC-COS SPA","-",null,{"$f":"SUMIF(Tableau1[Description article],Tableau1[Produits],Tableau1[Emplacement])","v":0},null,{"$f":"Sheet1!$S848-Sheet1!$R848","v":0},"-","-","-",{"$f":"IFERROR(Tableau1[[#This Row],[THEO]]-Tableau1[[#This Row],[Qtt 2éme lot]],\"-\")","v":"-"},"-",{"$f":"IF(Tableau1[[#This Row],[2éme lot]]=\"-\",\"-\",IFERROR(IF(Q848=\"\",\"-\",INDEX(I:I,MATCH(Q848,C:C,0)+1)),\"-\"))","v":"-"},"-","-"]
[1497,"MD003994","ISUCARE CHECK 3 KIT","LECTEUR DE GLYCEMIE","19/KPF/011","01.02.2023","MG/EXP1",20,"MG/EXP1-BOX6-025",null,0,null,null,0.01,"ABC-COS SPA","-",null,{"$f":"SUMIF(Tableau1[Description article],Tableau1[Produits],Tableau1[Emplacement])","v":0},null,{"$f":"Sheet1!$S849-Sheet1!$R849","v":0},"-","-","-",{"$f":"IFERROR(Tableau1[[#This Row],[THEO]]-Tableau1[[#This Row],[Qtt 2éme lot]],\"-\")","v":"-"},"-",{"$f":"IF(Tableau1[[#This Row],[2éme lot]]=\"-\",\"-\",IFERROR(IF(Q849=\"\",\"-\",INDEX(I:I,MATCH(Q849,C:C,0)+1)),\"-\"))","v":"-"},"-","-"]
[1500,"MD000947","IXOL 0,3% SOL.BUV. FL/200ML","AMBROXOL","9216","01.03.2022","MG/EXP1",91,"MG/EXP1-A-032",null,0,null,null,178.4,"INPHA MEDIS SPA","-",null,{"$f":"SUMIF(Tableau1[Description article],Tableau1[Produits],Tableau1[Emplacement])","v":0},null,{"$f":"Sheet1!$S850-Sheet1!$R850","v":0},"-","-","-",{"$f":"IFERROR(Tableau1[[#This Row],[THEO]]-Tableau1[[#This Row],[Qtt 2éme lot]],\"-\")","v":"-"},"-",{"$f":"IF(Tableau1[[#This Row],[2éme lot]]=\"-\",\"-\",IFERROR(IF(Q850=\"\",\"-\",INDEX(I:I,MATCH(Q850,C:C,0)+1)),\"-\"))","v":"-"},"-","-"]
[1501,"MD000949","JASMINE 3MG/30PG COMP.PELLI. B/21","ETHINYLESTRADIOL / DROSPIRENONE","KT039FT","01.02.2022","MG/EXP1",113,"MG/EXP1-B-004",null,0,null,null,894.43,"BIOPHARM SPA","-",null,{"$f":"SUMIF(Tableau1[Description article],Tableau1[Produits],Tableau1[Emplacement])","v":0},null,{"$f":"Sheet1!$S851-Sheet1!$R851","v":0},"-","-","-",{"$f":"IFERROR(Tableau1[[#This Row],[THEO]]-Tableau1[[#This Row],[Qtt 2éme lot]],\"-\")","v":"-"},"-",{"$f":"IF(Tableau1[[#This Row],[2éme lot]]=\"-\",\"-\",IFERROR(IF(Q851=\"\",\"-\",INDEX(I:I,MATCH(Q851,C:C,0)+1)),\"-\"))","v":"-"},"-","-"]
[1503,"MD000950","JOSACINE 125MG/5 ML GRAN.P.SUSP.BUV. B/01 FL/15G /60ML.SUSP. + SERING.ADMINIS.ORA.","JOSAMYCINE","65","31.08.2024","MG/EXP1",835,"MG/EXP1-H-005",null,0,null,null,389.95,"UPC SARL","-",null,{"$f":"SUMIF(Tableau1[Description article],Tableau1[Produits],Tableau1[Emplacement])","v":0},null,{"$f":"Sheet1!$S852-Sheet1!$R852","v":0},"-","-","-",{"$f":"IFERROR(Tableau1[[#This Row],[THEO]]-Tableau1[[#This Row],[Qtt 2éme lot]],\"-\")","v":"-"},"-",{"$f":"IF(Tableau1[[#This Row],[2éme lot]]=\"-\",\"-\",IFERROR(IF(Q852=\"\",\"-\",INDEX(I:I,MATCH(Q852,C:C,0)+1)),\"-\"))","v":"-"},"-","-"]
[1504,"MD000951","JOSACINE 250MG/5ML GRAN.P.SUSP.BUV. B/01 FL/15G /60ML.SUSP. + SERING.ADMINIS.ORA.","JOSAMYCINE","189","01.08.2024","MG/EXP1",26,"MG/EXP1-A-002",null,0,null,null,625.32,"AT PHARMA SPA","-",null,{"$f":"SUMIF(Tableau1[Description article],Tableau1[Produits],Tableau1[Emplacement])","v":0},null,{"$f":"Sheet1!$S853-Sheet1!$R853","v":0},"-","-","-",{"$f":"IFERROR(Tableau1[[#This Row],[THEO]]-Tableau1[[#This Row],[Qtt 2éme lot]],\"-\")","v":"-"},"-",{"$f":"IF(Tableau1[[#This Row],[2éme lot]]=\"-\",\"-\",IFERROR(IF(Q853=\"\",\"-\",INDEX(I:I,MATCH(Q853,C:C,0)+1)),\"-\"))","v":"-"},"-","-"]
[1506,"MD000952","JOSACINE 500MG/5ML GRAN.P.SUSP.BUV. B/01 FL/20G /60ML.SUSP. + SERING.ADMINIS.ORA.","JOSAMYCINE","255","01.05.2024","MG/EXP1",510,"MG/EXP1-H-001",null,0,null,null,931.88,"AT PHARMA SPA","-",null,{"$f":"SUMIF(Tableau1[Description article],Tableau1[Produits],Tableau1[Emplacement])","v":0},null,{"$f":"Sheet1!$S854-Sheet1!$R854","v":0},"-","-","-",{"$f":"IFERROR(Tableau1[[#This Row],[THEO]]-Tableau1[[#This Row],[Qtt 2éme lot]],\"-\")","v":"-"},"-",{"$f":"IF(Tableau1[[#This Row],[2éme lot]]=\"-\",\"-\",IFERROR(IF(Q854=\"\",\"-\",INDEX(I:I,MATCH(Q854,C:C,0)+1)),\"-\"))","v":"-"},"-","-"]
[1508,"MD002121","KALCITAB COMP. 500MG","CALCIUM CARBONATE","AA167","01.01.2021","MG/EXP1",85,"MG/EXP1-A-007",null,0,null,null,460.02,"PHARMA Sphere","-",null,{"$f":"SUMIF(Tableau1[Description article],Tableau1[Produits],Tableau1[Emplacement])","v":0},null,{"$f":"Sheet1!$S855-Sheet1!$R855","v":0},"-","-","-",{"$f":"IFERROR(Tableau1[[#This Row],[THEO]]-Tableau1[[#This Row],[Qtt 2éme lot]],\"-\")","v":"-"},"-",{"$f":"IF(Tableau1[[#This Row],[2éme lot]]=\"-\",\"-\",IFERROR(IF(Q855=\"\",\"-\",INDEX(I:I,MATCH(Q855,C:C,0)+1)),\"-\"))","v":"-"},"-","-"]
[1510,"MD000954","KALIGON 0,15 SRP. FL/120ML","POTASSIUM GLUCONATE","0059","01.12.2022","MG/EXP1",964,"MG/EXP1-H-001",null,0,null,null,220,"SAIDAL UNITE CENTRE","-",null,{"$f":"SUMIF(Tableau1[Description article],Tableau1[Produits],Tableau1[Emplacement])","v":0},null,{"$f":"Sheet1!$S856-Sheet1!$R856","v":0},"-","-","-",{"$f":"IFERROR(Tableau1[[#This Row],[THEO]]-Tableau1[[#This Row],[Qtt 2éme lot]],\"-\")","v":"-"},"-",{"$f":"IF(Tableau1[[#This Row],[2éme lot]]=\"-\",\"-\",IFERROR(IF(Q856=\"\",\"-\",INDEX(I:I,MATCH(Q856,C:C,0)+1)),\"-\"))","v":"-"},"-","-"]
[1511,"MD002388","KEFALEX 1G COMP.PELLI. B/12","CEFALEXINE","021","01.09.2021","MG/EXP1",282,"MG/EXP1-C-023",null,0,null,null,510.7,"HUP.P PHARMA SARL","-",null,{"$f":"SUMIF(Tableau1[Description article],Tableau1[Produits],Tableau1[Emplacement])","v":0},null,{"$f":"Sheet1!$S857-Sheet1!$R857","v":0},"-","-","-",{"$f":"IFERROR(Tableau1[[#This Row],[THEO]]-Tableau1[[#This Row],[Qtt 2éme lot]],\"-\")","v":"-"},"-",{"$f":"IF(Tableau1[[#This Row],[2éme lot]]=\"-\",\"-\",IFERROR(IF(Q857=\"\",\"-\",INDEX(I:I,MATCH(Q857,C:C,0)+1)),\"-\"))","v":"-"},"-","-"]
[1513,"MD000957","KEFENTECH 30MG PATCH SACH/07PTCH.","KETOPROFENE","KEU912","01.09.2022","MG/EXP1",950,"MG/EXP1-G-004",null,0,null,null,217.11,"BIOPHARM SPA","-",null,{"$f":"SUMIF(Tableau1[Description article],Tableau1[Produits],Tableau1[Emplacement])","v":0},null,{"$f":"Sheet1!$S858-Sheet1!$R858","v":0},"-","-","-",{"$f":"IFERROR(Tableau1[[#This Row],[THEO]]-Tableau1[[#This Row],[Qtt 2éme lot]],\"-\")","v":"-"},"-",{"$f":"IF(Tableau1[[#This Row],[2éme lot]]=\"-\",\"-\",IFERROR(IF(Q858=\"\",\"-\",INDEX(I:I,MATCH(Q858,C:C,0)+1)),\"-\"))","v":"-"},"-","-"]
[1514,"MD002982","KEPAM 100MG/ML SRP. FL/300ML + BCHN.SEC.ENF. + PIPT.GRAD.","LEVETIRACETAM","192600","01.11.2022","MG/EXP1",26,"MG/EXP1-BOX6-PSY-020",null,0,null,"CHER",3383.61,"EL KENDI INDUSTRIE DE MEDICAMENTS SPA","-",null,{"$f":"SUMIF(Tableau1[Description article],Tableau1[Produits],Tableau1[Emplacement])","v":0},null,{"$f":"Sheet1!$S859-Sheet1!$R859","v":0},"-","-","-",{"$f":"IFERROR(Tableau1[[#This Row],[THEO]]-Tableau1[[#This Row],[Qtt 2éme lot]],\"-\")","v":"-"},"-",{"$f":"IF(Tableau1[[#This Row],[2éme lot]]=\"-\",\"-\",IFERROR(IF(Q859=\"\",\"-\",INDEX(I:I,MATCH(Q859,C:C,0)+1)),\"-\"))","v":"-"},"-","-"]
[1517,"MD000963","KEPAM 250MG COMP.PELLI. B/60","LEVETIRACETAM","192582","01.11.2021","MG/EXP1",115,"MG/EXP1-BOX6-PSY-018",null,0,null,"CHER",1692.01,"EL KENDI INDUSTRIE DE MEDICAMENTS SPA","-",null,{"$f":"SUMIF(Tableau1[Description article],Tableau1[Produits],Tableau1[Emplacement])","v":0},null,{"$f":"Sheet1!$S860-Sheet1!$R860","v":0},"-","-","-",{"$f":"IFERROR(Tableau1[[#This Row],[THEO]]-Tableau1[[#This Row],[Qtt 2éme lot]],\"-\")","v":"-"},"-",{"$f":"IF(Tableau1[[#This Row],[2éme lot]]=\"-\",\"-\",IFERROR(IF(Q860=\"\",\"-\",INDEX(I:I,MATCH(Q860,C:C,0)+1)),\"-\"))","v":"-"},"-","-"]
[1520,"MD000964","KEPAM 500MG COMP.PELLI. B/60","LEVETIRACETAM","192733","01.12.2021","MG/EXP1",40,"MG/EXP1-BOX6-PSY-018",null,0,null,"CHER",3297.5,"EL KENDI INDUSTRIE DE MEDICAMENTS SPA","-",null,{"$f":"SUMIF(Tableau1[Description article],Tableau1[Produits],Tableau1[Emplacement])","v":0},null,{"$f":"Sheet1!$S861-Sheet1!$R861","v":0},"-","-","-",{"$f":"IFERROR(Tableau1[[#This Row],[THEO]]-Tableau1[[#This Row],[Qtt 2éme lot]],\"-\")","v":"-"},"-",{"$f":"IF(Tableau1[[#This Row],[2éme lot]]=\"-\",\"-\",IFERROR(IF(Q861=\"\",\"-\",INDEX(I:I,MATCH(Q861,C:C,0)+1)),\"-\"))","v":"-"},"-","-"]
[1521,"MD000965","KEPNIROL 0,25MG COMP.ENRO. B/20","ROPINIROLE","190772","01.05.2021","MG/EXP1",224,"MG/EXP1-BOX6-PSY-018",null,0,null,null,396,"EL KENDI INDUSTRIE DE MEDICAMENTS SPA","-",null,{"$f":"SUMIF(Tableau1[Description article],Tableau1[Produits],Tableau1[Emplacement])","v":0},null,{"$f":"Sheet1!$S862-Sheet1!$R862","v":0},"-","-","-",{"$f":"IFERROR(Tableau1[[#This Row],[THEO]]-Tableau1[[#This Row],[Qtt 2éme lot]],\"-\")","v":"-"},"-",{"$f":"IF(Tableau1[[#This Row],[2éme lot]]=\"-\",\"-\",IFERROR(IF(Q862=\"\",\"-\",INDEX(I:I,MATCH(Q862,C:C,0)+1)),\"-\"))","v":"-"},"-","-"]
[1524,"MD000966","KEPNIROL 1MG COMP.ENRO. B/20","ROPINIROLE","192778","01.12.2021","MG/EXP1",112,"MG/EXP1-BOX6-PSY",null,0,null,null,924,"EL KENDI INDUSTRIE DE MEDICAMENTS SPA","-",null,{"$f":"SUMIF(Tableau1[Description article],Tableau1[Produits],Tableau1[Emplacement])","v":0},null,{"$f":"Sheet1!$S863-Sheet1!$R863","v":0},"-","-","-",{"$f":"IFERROR(Tableau1[[#This Row],[THEO]]-Tableau1[[#This Row],[Qtt 2éme lot]],\"-\")","v":"-"},"-",{"$f":"IF(Tableau1[[#This Row],[2éme lot]]=\"-\",\"-\",IFERROR(IF(Q863=\"\",\"-\",INDEX(I:I,MATCH(Q863,C:C,0)+1)),\"-\"))","v":"-"},"-","-"]
[1526,"MD000971","KETOF 1MG/5ML SOL.BUV. FL/100ML","KETOTIFENE","1835/13","01.04.2021","MG/EXP1",89,"MG/EXP1-D-056",null,0,null,null,150,"GROUPE SANTE LABORATOIRE","-",null,{"$f":"SUMIF(Tableau1[Description article],Tableau1[Produits],Tableau1[Emplacement])","v":0},null,{"$f":"Sheet1!$S864-Sheet1!$R864","v":0},"-","-","-",{"$f":"IFERROR(Tableau1[[#This Row],[THEO]]-Tableau1[[#This Row],[Qtt 2éme lot]],\"-\")","v":"-"},"-",{"$f":"IF(Tableau1[[#This Row],[2éme lot]]=\"-\",\"-\",IFERROR(IF(Q864=\"\",\"-\",INDEX(I:I,MATCH(Q864,C:C,0)+1)),\"-\"))","v":"-"},"-","-"]
[1527,"MD000974","KETOFEN LP 200MG GLES.LP. B/20","KETOPROFEN","KEF 010B","30.11.2021","MG/EXP1",210,"MG/EXP1-A-043",null,0,null,null,323.53,"NEOMEDIC LABORATOIRE","-",null,{"$f":"SUMIF(Tableau1[Description article],Tableau1[Produits],Tableau1[Emplacement])","v":0},null,{"$f":"Sheet1!$S865-Sheet1!$R865","v":0},"-","-","-",{"$f":"IFERROR(Tableau1[[#This Row],[THEO]]-Tableau1[[#This Row],[Qtt 2éme lot]],\"-\")","v":"-"},"-",{"$f":"IF(Tableau1[[#This Row],[2éme lot]]=\"-\",\"-\",IFERROR(IF(Q865=\"\",\"-\",INDEX(I:I,MATCH(Q865,C:C,0)+1)),\"-\"))","v":"-"},"-","-"]
[1528,"MD000978","KETOSKIN 0,02 CR.DERM. T/15G","KETOCONAZOLE","083","01.12.2021","MG/EXP1",236,"MG/EXP1-C-054",null,0,null,null,197.4,"SAIDAL UNITE CENTRE","-",null,{"$f":"SUMIF(Tableau1[Description article],Tableau1[Produits],Tableau1[Emplacement])","v":0},null,{"$f":"Sheet1!$S866-Sheet1!$R866","v":0},"-","-","-",{"$f":"IFERROR(Tableau1[[#This Row],[THEO]]-Tableau1[[#This Row],[Qtt 2éme lot]],\"-\")","v":"-"},"-",{"$f":"IF(Tableau1[[#This Row],[2éme lot]]=\"-\",\"-\",IFERROR(IF(Q866=\"\",\"-\",INDEX(I:I,MATCH(Q866,C:C,0)+1)),\"-\"))","v":"-"},"-","-"]
[1531,"MD000979","KETUM 2,5% GEL DERM. T/60G","KETOPROFENE","517312","01.09.2022","MG/EXP1",320,"MG/EXP1-E-061",null,0,null,null,269.15,"BIOPHARM SPA","-",null,{"$f":"SUMIF(Tableau1[Description article],Tableau1[Produits],Tableau1[Emplacement])","v":0},null,{"$f":"Sheet1!$S867-Sheet1!$R867","v":0},"-","-","-",{"$f":"IFERROR(Tableau1[[#This Row],[THEO]]-Tableau1[[#This Row],[Qtt 2éme lot]],\"-\")","v":"-"},"-",{"$f":"IF(Tableau1[[#This Row],[2éme lot]]=\"-\",\"-\",IFERROR(IF(Q867=\"\",\"-\",INDEX(I:I,MATCH(Q867,C:C,0)+1)),\"-\"))","v":"-"},"-","-"]
[1534,"MD000980","KIETYL 6MG COMP.SEC. B/30","BROMAZEPAM","M07019R","30.09.2022","MG/EXP1",913,"MG/EXP1-BOX6-PSY-017",null,0,null,"PSY",202.1,"MERINAL LABORATOIRES","-",null,{"$f":"SUMIF(Tableau1[Description article],Tableau1[Produits],Tableau1[Emplacement])","v":0},null,{"$f":"Sheet1!$S868-Sheet1!$R868","v":0},"-","-","-",{"$f":"IFERROR(Tableau1[[#This Row],[THEO]]-Tableau1[[#This Row],[Qtt 2éme lot]],\"-\")","v":"-"},"-",{"$f":"IF(Tableau1[[#This Row],[2éme lot]]=\"-\",\"-\",IFERROR(IF(Q868=\"\",\"-\",INDEX(I:I,MATCH(Q868,C:C,0)+1)),\"-\"))","v":"-"},"-","-"]
[1535,"MD002354","KIKI TALC PARFUME",null,"TK001","01.01.2022","MG/EXP1",10,"MG/EXP1-F-056",null,0,null,null,0,"BIOREAL PHARM SPA","-",null,{"$f":"SUMIF(Tableau1[Description article],Tableau1[Produits],Tableau1[Emplacement])","v":0},null,{"$f":"Sheet1!$S869-Sheet1!$R869","v":0},"-","-","-",{"$f":"IFERROR(Tableau1[[#This Row],[THEO]]-Tableau1[[#This Row],[Qtt 2éme lot]],\"-\")","v":"-"},"-",{"$f":"IF(Tableau1[[#This Row],[2éme lot]]=\"-\",\"-\",IFERROR(IF(Q869=\"\",\"-\",INDEX(I:I,MATCH(Q869,C:C,0)+1)),\"-\"))","v":"-"},"-","-"]
[1536,"MD000981","KINADYN CALCIUM 500MG/SACH. PDRE.SUSP.BUV. B/30 SACH.","CALCIUM ELEMENT","109","01.08.2021","MG/EXP1",18,"MG/EXP1-A-036",null,0,null,null,400.01,"BIOPHARM SPA","-",null,{"$f":"SUMIF(Tableau1[Description article],Tableau1[Produits],Tableau1[Emplacement])","v":0},null,{"$f":"Sheet1!$S870-Sheet1!$R870","v":0},"-","-","-",{"$f":"IFERROR(Tableau1[[#This Row],[THEO]]-Tableau1[[#This Row],[Qtt 2éme lot]],\"-\")","v":"-"},"-",{"$f":"IF(Tableau1[[#This Row],[2éme lot]]=\"-\",\"-\",IFERROR(IF(Q870=\"\",\"-\",INDEX(I:I,MATCH(Q870,C:C,0)+1)),\"-\"))","v":"-"},"-","-"]
[1538,"MD000986","KLAVOX 500MG/125MG COMP.ENRO. B/20","AMOXICILLINE 500 / ACIDE CLAVULANIQU 125","101469*","01.05.2020","MG/EXP1",1,"MG/EXP1-B-070",null,0,null,null,742.1,"SOCIETE SAOUDIENNE SPIMACO-ALGERIE-","-",null,{"$f":"SUMIF(Tableau1[Description article],Tableau1[Produits],Tableau1[Emplacement])","v":0},null,{"$f":"Sheet1!$S871-Sheet1!$R871","v":0},"-","-","-",{"$f":"IFERROR(Tableau1[[#This Row],[THEO]]-Tableau1[[#This Row],[Qtt 2éme lot]],\"-\")","v":"-"},"-",{"$f":"IF(Tableau1[[#This Row],[2éme lot]]=\"-\",\"-\",IFERROR(IF(Q871=\"\",\"-\",INDEX(I:I,MATCH(Q871,C:C,0)+1)),\"-\"))","v":"-"},"-","-"]
[1539,"MD000989","KOXMA 2MG/5ML SRP.GOUT ANANAS FL/125ML","SALBUTAMOL","1804/90****","01.05.2021","MG/EXP1",58,"MG/EXP1-A-007",null,0,null,null,178,"GROUPE SANTE LABORATOIRE","-",null,{"$f":"SUMIF(Tableau1[Description article],Tableau1[Produits],Tableau1[Emplacement])","v":0},null,{"$f":"Sheet1!$S872-Sheet1!$R872","v":0},"-","-","-",{"$f":"IFERROR(Tableau1[[#This Row],[THEO]]-Tableau1[[#This Row],[Qtt 2éme lot]],\"-\")","v":"-"},"-",{"$f":"IF(Tableau1[[#This Row],[2éme lot]]=\"-\",\"-\",IFERROR(IF(Q872=\"\",\"-\",INDEX(I:I,MATCH(Q872,C:C,0)+1)),\"-\"))","v":"-"},"-","-"]
[1542,"MD000864","KWIKPEN HUMALOG  100UI/ML B/5 STYLO","INSULINE LISPRO","D049584C","01.01.2022","MG/EXP1",28,"MG/EXP1-BOX6",null,0,null,"GLAC",5585.23,"BIOPHARM SPA","-",null,{"$f":"SUMIF(Tableau1[Description article],Tableau1[Produits],Tableau1[Emplacement])","v":0},null,{"$f":"Sheet1!$S873-Sheet1!$R873","v":0},"-","-","-",{"$f":"IFERROR(Tableau1[[#This Row],[THEO]]-Tableau1[[#This Row],[Qtt 2éme lot]],\"-\")","v":"-"},"-",{"$f":"IF(Tableau1[[#This Row],[2éme lot]]=\"-\",\"-\",IFERROR(IF(Q873=\"\",\"-\",INDEX(I:I,MATCH(Q873,C:C,0)+1)),\"-\"))","v":"-"},"-","-"]
[1544,"MD000865","KWIKPEN HUMALOG MIX 25  100UI/ML SUSP.INJ.SC. B/05 CART/3ML","INSULINE LISPRO 25% - POTAMINE 75 %","D051997C","01.02.2022","MG/EXP1",33,"MG/EXP1-BOX6",null,0,null,"GLAC",5665.62,"AT PHARMA SPA","-",null,{"$f":"SUMIF(Tableau1[Description article],Tableau1[Produits],Tableau1[Emplacement])","v":0},null,{"$f":"Sheet1!$S874-Sheet1!$R874","v":0},"-","-","-",{"$f":"IFERROR(Tableau1[[#This Row],[THEO]]-Tableau1[[#This Row],[Qtt 2éme lot]],\"-\")","v":"-"},"-",{"$f":"IF(Tableau1[[#This Row],[2éme lot]]=\"-\",\"-\",IFERROR(IF(Q874=\"\",\"-\",INDEX(I:I,MATCH(Q874,C:C,0)+1)),\"-\"))","v":"-"},"-","-"]
[1547,"MD000866","KWIKPEN HUMALOG MIX 50 100UI/ML SUSP.INJ.SC. B/05 CART/3ML","INSULINE LISPRO 50% - POTAMINE 50 %","D091842E","01.04.2022","MG/EXP1",12,"MG/EXP1-BOX6",null,0,null,"GLAC",5665.62,"BIOPHARM SPA","-",null,{"$f":"SUMIF(Tableau1[Description article],Tableau1[Produits],Tableau1[Emplacement])","v":0},null,{"$f":"Sheet1!$S875-Sheet1!$R875","v":0},"-","-","-",{"$f":"IFERROR(Tableau1[[#This Row],[THEO]]-Tableau1[[#This Row],[Qtt 2éme lot]],\"-\")","v":"-"},"-",{"$f":"IF(Tableau1[[#This Row],[2éme lot]]=\"-\",\"-\",IFERROR(IF(Q875=\"\",\"-\",INDEX(I:I,MATCH(Q875,C:C,0)+1)),\"-\"))","v":"-"},"-","-"]
[1548,"PP00162","LACTACYD EMULTION .F/ 120ML",null,"9MA534","01.05.2021","MG/EXP1",84,"MG/EXP1-C-032",null,0,null,null,554.85,"SANOFI AVENTIS ALGERIE SPA","-",null,{"$f":"SUMIF(Tableau1[Description article],Tableau1[Produits],Tableau1[Emplacement])","v":0},null,{"$f":"Sheet1!$S876-Sheet1!$R876","v":0},"-","-","-",{"$f":"IFERROR(Tableau1[[#This Row],[THEO]]-Tableau1[[#This Row],[Qtt 2éme lot]],\"-\")","v":"-"},"-",{"$f":"IF(Tableau1[[#This Row],[2éme lot]]=\"-\",\"-\",IFERROR(IF(Q876=\"\",\"-\",INDEX(I:I,MATCH(Q876,C:C,0)+1)),\"-\"))","v":"-"},"-","-"]
[1550,"MD000992","LACTULOSE AGD 66,7% SRP. FL/200ML + BCHN.GRAD/ML","LACTULOSE","C8003","30.06.2021","MG/EXP1",42,"MG/EXP1-E-016",null,0,null,null,360,"AGD PHARM SARL","-",null,{"$f":"SUMIF(Tableau1[Description article],Tableau1[Produits],Tableau1[Emplacement])","v":0},null,{"$f":"Sheet1!$S877-Sheet1!$R877","v":0},"-","-","-",{"$f":"IFERROR(Tableau1[[#This Row],[THEO]]-Tableau1[[#This Row],[Qtt 2éme lot]],\"-\")","v":"-"},"-",{"$f":"IF(Tableau1[[#This Row],[2éme lot]]=\"-\",\"-\",IFERROR(IF(Q877=\"\",\"-\",INDEX(I:I,MATCH(Q877,C:C,0)+1)),\"-\"))","v":"-"},"-","-"]
[1552,"MD000995","LADOSCORBINE 500MG COMP.CROQ. B/12","ACIDE ASCORBIQUE","22-52","01.10.2021","MG/EXP1",150,"MG/EXP1-E-048",null,0,null,null,477.71,"L.A.D.PHARMA SARL","-",null,{"$f":"SUMIF(Tableau1[Description article],Tableau1[Produits],Tableau1[Emplacement])","v":0},null,{"$f":"Sheet1!$S878-Sheet1!$R878","v":0},"-","-","-",{"$f":"IFERROR(Tableau1[[#This Row],[THEO]]-Tableau1[[#This Row],[Qtt 2éme lot]],\"-\")","v":"-"},"-",{"$f":"IF(Tableau1[[#This Row],[2éme lot]]=\"-\",\"-\",IFERROR(IF(Q878=\"\",\"-\",INDEX(I:I,MATCH(Q878,C:C,0)+1)),\"-\"))","v":"-"},"-","-"]
[1557,"MD000996","LAMIDAZ 0,01 CR.DERM. T/15G","TERBINAFINE CHLORHYDRATE","050","01.11.2021","MG/EXP1",143,"MG/EXP1-D-046",null,0,null,null,208.5,"SAIDAL UNITE CENTRE","-",null,{"$f":"SUMIF(Tableau1[Description article],Tableau1[Produits],Tableau1[Emplacement])","v":0},null,{"$f":"Sheet1!$S879-Sheet1!$R879","v":0},"-","-","-",{"$f":"IFERROR(Tableau1[[#This Row],[THEO]]-Tableau1[[#This Row],[Qtt 2éme lot]],\"-\")","v":"-"},"-",{"$f":"IF(Tableau1[[#This Row],[2éme lot]]=\"-\",\"-\",IFERROR(IF(Q879=\"\",\"-\",INDEX(I:I,MATCH(Q879,C:C,0)+1)),\"-\"))","v":"-"},"-","-"]
[1559,"MD000997","LAMIDAZ 250MG COMP. B/20","TERBINAFINE CHLORHYDRATE","134","01.12.2022","MG/EXP1",75,"MG/EXP1-G-013",null,0,null,null,1498.5,"SAIDAL UNITE CENTRE","-",null,{"$f":"SUMIF(Tableau1[Description article],Tableau1[Produits],Tableau1[Emplacement])","v":0},null,{"$f":"Sheet1!$S880-Sheet1!$R880","v":0},"-","-","-",{"$f":"IFERROR(Tableau1[[#This Row],[THEO]]-Tableau1[[#This Row],[Qtt 2éme lot]],\"-\")","v":"-"},"-",{"$f":"IF(Tableau1[[#This Row],[2éme lot]]=\"-\",\"-\",IFERROR(IF(Q880=\"\",\"-\",INDEX(I:I,MATCH(Q880,C:C,0)+1)),\"-\"))","v":"-"},"-","-"]
[1560,"MD000998","LAMIFENE 20MG/ML SOL.BUV. FL/125ML + PIPT.GRAD.","IBUPROFENE","02/19","28.02.2022","MG/EXP1",1,"MG/EXP1-D-008",null,0,null,null,195.49,"LAM SARL","-",null,{"$f":"SUMIF(Tableau1[Description article],Tableau1[Produits],Tableau1[Emplacement])","v":0},null,{"$f":"Sheet1!$S881-Sheet1!$R881","v":0},"-","-","-",{"$f":"IFERROR(Tableau1[[#This Row],[THEO]]-Tableau1[[#This Row],[Qtt 2éme lot]],\"-\")","v":"-"},"-",{"$f":"IF(Tableau1[[#This Row],[2éme lot]]=\"-\",\"-\",IFERROR(IF(Q881=\"\",\"-\",INDEX(I:I,MATCH(Q881,C:C,0)+1)),\"-\"))","v":"-"},"-","-"]
[1562,"MD001003","LAMOGINE 100MG COMP.SEC. B/30","LAMOTRIGINE","7507","01.03.2021","MG/EXP1",245,"MG/EXP1-BOX6-PSY",null,0,null,null,1699.92,"HIKMA PHARMA ALGERIA SARL","-",null,{"$f":"SUMIF(Tableau1[Description article],Tableau1[Produits],Tableau1[Emplacement])","v":0},null,{"$f":"Sheet1!$S882-Sheet1!$R882","v":0},"-","-","-",{"$f":"IFERROR(Tableau1[[#This Row],[THEO]]-Tableau1[[#This Row],[Qtt 2éme lot]],\"-\")","v":"-"},"-",{"$f":"IF(Tableau1[[#This Row],[2éme lot]]=\"-\",\"-\",IFERROR(IF(Q882=\"\",\"-\",INDEX(I:I,MATCH(Q882,C:C,0)+1)),\"-\"))","v":"-"},"-","-"]
[1563,"MD001004","LAMOGINE 25MG COMP.SEC. B/30","LAMOTRIGINE","8141","01.08.2022","MG/EXP1",336,"MG/EXP1-BOX6-PSY-017",null,0,null,null,677,"HIKMA PHARMA ALGERIA SARL","-",null,{"$f":"SUMIF(Tableau1[Description article],Tableau1[Produits],Tableau1[Emplacement])","v":0},null,{"$f":"Sheet1!$S883-Sheet1!$R883","v":0},"-","-","-",{"$f":"IFERROR(Tableau1[[#This Row],[THEO]]-Tableau1[[#This Row],[Qtt 2éme lot]],\"-\")","v":"-"},"-",{"$f":"IF(Tableau1[[#This Row],[2éme lot]]=\"-\",\"-\",IFERROR(IF(Q883=\"\",\"-\",INDEX(I:I,MATCH(Q883,C:C,0)+1)),\"-\"))","v":"-"},"-","-"]
[1565,"MD001005","LAMOGINE 50MG COMP.SEC. B/30","LAMOTRIGINE","7505","01.03.2021","MG/EXP1",226,"MG/EXP1-BOX6-PSY-017",null,0,null,null,1102.7,"HIKMA PHARMA ALGERIA SARL","-",null,{"$f":"SUMIF(Tableau1[Description article],Tableau1[Produits],Tableau1[Emplacement])","v":0},null,{"$f":"Sheet1!$S884-Sheet1!$R884","v":0},"-","-","-",{"$f":"IFERROR(Tableau1[[#This Row],[THEO]]-Tableau1[[#This Row],[Qtt 2éme lot]],\"-\")","v":"-"},"-",{"$f":"IF(Tableau1[[#This Row],[2éme lot]]=\"-\",\"-\",IFERROR(IF(Q884=\"\",\"-\",INDEX(I:I,MATCH(Q884,C:C,0)+1)),\"-\"))","v":"-"},"-","-"]
[1566,"MD001006","LAMOTRIGINE BEKER 100MG COMP.DISPER. B/56","LAMOTRIGINE","006319","01.01.2022","MG/EXP1",21,"MG/EXP1-BOX6-PSY-019",null,0,null,"CHER",3173.16,"BEKER LABORATOIRES","-",null,{"$f":"SUMIF(Tableau1[Description article],Tableau1[Produits],Tableau1[Emplacement])","v":0},null,{"$f":"Sheet1!$S885-Sheet1!$R885","v":0},"-","-","-",{"$f":"IFERROR(Tableau1[[#This Row],[THEO]]-Tableau1[[#This Row],[Qtt 2éme lot]],\"-\")","v":"-"},"-",{"$f":"IF(Tableau1[[#This Row],[2éme lot]]=\"-\",\"-\",IFERROR(IF(Q885=\"\",\"-\",INDEX(I:I,MATCH(Q885,C:C,0)+1)),\"-\"))","v":"-"},"-","-"]
[1567,"MD001007","LAMOTRIGINE BEKER 25MG COMP.DISPER. B/56","LAMOTRIGINE","047419","01.04.2022","MG/EXP1",207,"MG/EXP1-BOX6-PSY-017",null,0,null,null,1380.84,"BEKER LABORATOIRES","-",null,{"$f":"SUMIF(Tableau1[Description article],Tableau1[Produits],Tableau1[Emplacement])","v":0},null,{"$f":"Sheet1!$S886-Sheet1!$R886","v":0},"-","-","-",{"$f":"IFERROR(Tableau1[[#This Row],[THEO]]-Tableau1[[#This Row],[Qtt 2éme lot]],\"-\")","v":"-"},"-",{"$f":"IF(Tableau1[[#This Row],[2éme lot]]=\"-\",\"-\",IFERROR(IF(Q886=\"\",\"-\",INDEX(I:I,MATCH(Q886,C:C,0)+1)),\"-\"))","v":"-"},"-","-"]
[1569,"MD001008","LAMOVEN 300MG COMP. B/20","DIOSMINE","05/19","31.07.2021","MG/EXP1",131,"MG/EXP1-G-004",null,0,null,null,189.38,"LAM SARL","-",null,{"$f":"SUMIF(Tableau1[Description article],Tableau1[Produits],Tableau1[Emplacement])","v":0},null,{"$f":"Sheet1!$S887-Sheet1!$R887","v":0},"-","-","-",{"$f":"IFERROR(Tableau1[[#This Row],[THEO]]-Tableau1[[#This Row],[Qtt 2éme lot]],\"-\")","v":"-"},"-",{"$f":"IF(Tableau1[[#This Row],[2éme lot]]=\"-\",\"-\",IFERROR(IF(Q887=\"\",\"-\",INDEX(I:I,MATCH(Q887,C:C,0)+1)),\"-\"))","v":"-"},"-","-"]
[1572,"MD001010","LANTUS SOLOSTAR 100UI/ML SOL.INJ. B/05 STY.PREREMPL/3ML","INSULINE GLARGINE","9F6563A","01.06.2022","MG/EXP1",78,"MG/EXP1-BOX6",null,0,null,"GLAC",7765.62,"SANOFI AVENTIS ALGERIE SPA","-",null,{"$f":"SUMIF(Tableau1[Description article],Tableau1[Produits],Tableau1[Emplacement])","v":0},null,{"$f":"Sheet1!$S888-Sheet1!$R888","v":0},"-","-","-",{"$f":"IFERROR(Tableau1[[#This Row],[THEO]]-Tableau1[[#This Row],[Qtt 2éme lot]],\"-\")","v":"-"},"-",{"$f":"IF(Tableau1[[#This Row],[2éme lot]]=\"-\",\"-\",IFERROR(IF(Q888=\"\",\"-\",INDEX(I:I,MATCH(Q888,C:C,0)+1)),\"-\"))","v":"-"},"-","-"]
[1574,"MD001011","LANZAPREX 10MG COMP.ORODIS. B/30","OLANZAPINE","192445","01.11.2022","MG/EXP1",2,"MG/EXP1-BOX6-PSY-017",null,0,null,"CHER",5997.5,"EL KENDI INDUSTRIE DE MEDICAMENTS SPA","-",null,{"$f":"SUMIF(Tableau1[Description article],Tableau1[Produits],Tableau1[Emplacement])","v":0},null,{"$f":"Sheet1!$S889-Sheet1!$R889","v":0},"-","-","-",{"$f":"IFERROR(Tableau1[[#This Row],[THEO]]-Tableau1[[#This Row],[Qtt 2éme lot]],\"-\")","v":"-"},"-",{"$f":"IF(Tableau1[[#This Row],[2éme lot]]=\"-\",\"-\",IFERROR(IF(Q889=\"\",\"-\",INDEX(I:I,MATCH(Q889,C:C,0)+1)),\"-\"))","v":"-"},"-","-"]
[1576,"MD001011","LANZAPREX 10MG COMP.ORODIS. B/30","OLANZAPINE","192800","01.12.2022","MG/EXP1",66,"MG/EXP1-BOX6-PSY-017",null,0,null,"CHER",5997.5,"EL KENDI INDUSTRIE DE MEDICAMENTS SPA","-",null,{"$f":"SUMIF(Tableau1[Description article],Tableau1[Produits],Tableau1[Emplacement])","v":0},null,{"$f":"Sheet1!$S890-Sheet1!$R890","v":0},"-","-","-",{"$f":"IFERROR(Tableau1[[#This Row],[THEO]]-Tableau1[[#This Row],[Qtt 2éme lot]],\"-\")","v":"-"},"-",{"$f":"IF(Tableau1[[#This Row],[2éme lot]]=\"-\",\"-\",IFERROR(IF(Q890=\"\",\"-\",INDEX(I:I,MATCH(Q890,C:C,0)+1)),\"-\"))","v":"-"},"-","-"]
[1577,"MD001012","LANZAPREX 10MG COMP.PELLI. B/30","OLANZAPINE","190413","01.02.2021","MG/EXP1",154,"MG/EXP1-BOX6-PSY-017",null,0,null,"CHER",5997.5,"EL KENDI INDUSTRIE DE MEDICAMENTS SPA","-",null,{"$f":"SUMIF(Tableau1[Description article],Tableau1[Produits],Tableau1[Emplacement])","v":0},null,{"$f":"Sheet1!$S891-Sheet1!$R891","v":0},"-","-","-",{"$f":"IFERROR(Tableau1[[#This Row],[THEO]]-Tableau1[[#This Row],[Qtt 2éme lot]],\"-\")","v":"-"},"-",{"$f":"IF(Tableau1[[#This Row],[2éme lot]]=\"-\",\"-\",IFERROR(IF(Q891=\"\",\"-\",INDEX(I:I,MATCH(Q891,C:C,0)+1)),\"-\"))","v":"-"},"-","-"]
[1580,"MD001012","LANZAPREX 10MG COMP.PELLI. B/30","OLANZAPINE","190208","01.01.2021","MG/EXP1",5,"MG/EXP1-BOX6-PSY-017",null,0,null,"CHER",5997.5,"EL KENDI INDUSTRIE DE MEDICAMENTS SPA","-",null,{"$f":"SUMIF(Tableau1[Description article],Tableau1[Produits],Tableau1[Emplacement])","v":0},null,{"$f":"Sheet1!$S892-Sheet1!$R892","v":0},"-","-","-",{"$f":"IFERROR(Tableau1[[#This Row],[THEO]]-Tableau1[[#This Row],[Qtt 2éme lot]],\"-\")","v":"-"},"-",{"$f":"IF(Tableau1[[#This Row],[2éme lot]]=\"-\",\"-\",IFERROR(IF(Q892=\"\",\"-\",INDEX(I:I,MATCH(Q892,C:C,0)+1)),\"-\"))","v":"-"},"-","-"]
[1581,"MD001013","LANZAPREX 5MG COMP.PELLI. B/30","OLANZAPINE","192282","01.11.2022","MG/EXP1",416,"MG/EXP1-BOX6-PSY-026",null,0,null,"CHER",2997.5,"EL KENDI INDUSTRIE DE MEDICAMENTS SPA","-",null,{"$f":"SUMIF(Tableau1[Description article],Tableau1[Produits],Tableau1[Emplacement])","v":0},null,{"$f":"Sheet1!$S893-Sheet1!$R893","v":0},"-","-","-",{"$f":"IFERROR(Tableau1[[#This Row],[THEO]]-Tableau1[[#This Row],[Qtt 2éme lot]],\"-\")","v":"-"},"-",{"$f":"IF(Tableau1[[#This Row],[2éme lot]]=\"-\",\"-\",IFERROR(IF(Q893=\"\",\"-\",INDEX(I:I,MATCH(Q893,C:C,0)+1)),\"-\"))","v":"-"},"-","-"]
[1583,"MD001015","LAPETI 2MG/5ML SRP. FL/100ML","CYPROHEPTADINE","1930/59","01.03.2022","MG/EXP1",73,"MG/EXP1-A-031",null,0,null,null,225.5,"GROUPE SANTE LABORATOIRE","-",null,{"$f":"SUMIF(Tableau1[Description article],Tableau1[Produits],Tableau1[Emplacement])","v":0},null,{"$f":"Sheet1!$S894-Sheet1!$R894","v":0},"-","-","-",{"$f":"IFERROR(Tableau1[[#This Row],[THEO]]-Tableau1[[#This Row],[Qtt 2éme lot]],\"-\")","v":"-"},"-",{"$f":"IF(Tableau1[[#This Row],[2éme lot]]=\"-\",\"-\",IFERROR(IF(Q894=\"\",\"-\",INDEX(I:I,MATCH(Q894,C:C,0)+1)),\"-\"))","v":"-"},"-","-"]
[1585,"MD001014","LAPETI 4MG COMP. B/20","CYPROHEPTADINE","19LAP01002*","01.07.2021","MG/EXP1",429,"MG/EXP1-B-067",null,0,null,null,299.75,"GROUPE SANTE LABORATOIRE","-",null,{"$f":"SUMIF(Tableau1[Description article],Tableau1[Produits],Tableau1[Emplacement])","v":0},null,{"$f":"Sheet1!$S895-Sheet1!$R895","v":0},"-","-","-",{"$f":"IFERROR(Tableau1[[#This Row],[THEO]]-Tableau1[[#This Row],[Qtt 2éme lot]],\"-\")","v":"-"},"-",{"$f":"IF(Tableau1[[#This Row],[2éme lot]]=\"-\",\"-\",IFERROR(IF(Q895=\"\",\"-\",INDEX(I:I,MATCH(Q895,C:C,0)+1)),\"-\"))","v":"-"},"-","-"]
[1587,"MD001016","LARGACTIL 0,04 SOL.BUV.GTTES. FL/30ML","CHLORPROMAZINE","247","01.02.2021","MG/EXP1",135,"MG/EXP1-BOX6-PSY-020",null,0,null,"CHER",185.75,"BIOPHARM SPA","-",null,{"$f":"SUMIF(Tableau1[Description article],Tableau1[Produits],Tableau1[Emplacement])","v":0},null,{"$f":"Sheet1!$S896-Sheet1!$R896","v":0},"-","-","-",{"$f":"IFERROR(Tableau1[[#This Row],[THEO]]-Tableau1[[#This Row],[Qtt 2éme lot]],\"-\")","v":"-"},"-",{"$f":"IF(Tableau1[[#This Row],[2éme lot]]=\"-\",\"-\",IFERROR(IF(Q896=\"\",\"-\",INDEX(I:I,MATCH(Q896,C:C,0)+1)),\"-\"))","v":"-"},"-","-"]
[1589,"MD001017","LARIMEL 50MG COMP. B/30","ACARBOSE","005/19","01.08.2021","MG/EXP1",53,"MG/EXP1-D-047",null,0,null,null,407.6,"PHARMALLIANCE EURL","-",null,{"$f":"SUMIF(Tableau1[Description article],Tableau1[Produits],Tableau1[Emplacement])","v":0},null,{"$f":"Sheet1!$S897-Sheet1!$R897","v":0},"-","-","-",{"$f":"IFERROR(Tableau1[[#This Row],[THEO]]-Tableau1[[#This Row],[Qtt 2éme lot]],\"-\")","v":"-"},"-",{"$f":"IF(Tableau1[[#This Row],[2éme lot]]=\"-\",\"-\",IFERROR(IF(Q897=\"\",\"-\",INDEX(I:I,MATCH(Q897,C:C,0)+1)),\"-\"))","v":"-"},"-","-"]
[1591,"MD001018","LARIMEL 50MG CP. B/90","ACARBOSE","011/18","01.12.2020","MG/EXP1",3,"MG/EXP1-F-051",null,0,null,null,1226.33,"PHARMALLIANCE EURL",{"$f":"IFERROR(IF(Q898=\"\",\"-\",INDEX(I:I,MATCH(Q898,C:C,0))),\"-\")","v":"-"},null,{"$f":"SUMIF(Tableau1[Description article],Tableau1[Produits],Tableau1[Emplacement])","v":0},null,{"$f":"Sheet1!$S898-Sheet1!$R898","v":0},{"$f":"IFERROR(IF(Q898=\"\",\"-\",INDEX(F:F,MATCH(Q898,C:C,0))),\"-\")","v":"-"},{"$f":"IFERROR(IF(Q898=\"\",\"-\",INDEX(E:E,MATCH(Q898,C:C,0))),\"-\")","v":"-"},{"$f":"IFERROR(IF(Q898=\"\",\"-\",INDEX(N:N,MATCH(Q898,C:C,0))),\"-\")","v":"-"},{"$f":"IFERROR(Tableau1[[#This Row],[THEO]]-Tableau1[[#This Row],[Qtt 2éme lot]],\"-\")","v":"-"},{"$f":"IF(IF(Q898=\"\",\"-\",INDEX(E:E,MATCH(Q898,C:C,0)))=IF(Q898=\"\",\"-\",INDEX(E:E,MATCH(Q898,C:C,1))),\"-\",IF(Q898=\"\",\"-\",INDEX(E:E,MATCH(Q898,C:C,1))))","v":"-"},{"$f":"IF(Tableau1[[#This Row],[2éme lot]]=\"-\",\"-\",IFERROR(IF(Q898=\"\",\"-\",INDEX(I:I,MATCH(Q898,C:C,0)+1)),\"-\"))","v":"-"},{"$f":"IFERROR(IF(Y898=\"\",\"-\",INDEX(N:N,MATCH(Y898,E:E,0))),\"-\")","v":"-"},{"$f":"IFERROR(IF(AA898=\"\",\"-\",INDEX(H:H,MATCH(Y898,E:E,0))),\"-\")","v":"-"}]
[1593,"MD001018","LARIMEL 50MG CP. B/90","ACARBOSE","001/19","01.05.2021","MG/EXP1",6,"MG/EXP1-F-059",null,0,null,null,1226.33,"PHARMALLIANCE EURL","-",null,{"$f":"SUMIF(Tableau1[Description article],Tableau1[Produits],Tableau1[Emplacement])","v":0},null,{"$f":"Sheet1!$S899-Sheet1!$R899","v":0},"-","-","-",{"$f":"IFERROR(Tableau1[[#This Row],[THEO]]-Tableau1[[#This Row],[Qtt 2éme lot]],\"-\")","v":"-"},"-",{"$f":"IF(Tableau1[[#This Row],[2éme lot]]=\"-\",\"-\",IFERROR(IF(Q899=\"\",\"-\",INDEX(I:I,MATCH(Q899,C:C,0)+1)),\"-\"))","v":"-"},"-","-"]
[1594,"MD004171","LATANEKS  50 µG COLLY. FL/2.5ML","LATANOPROST","067/ART015","01.09.2021","MG/EXP1",30,"MG/EXP1-BOX6",null,0,null,"GLAC",914.74,"BIOREAL PHARM SPA","-",null,{"$f":"SUMIF(Tableau1[Description article],Tableau1[Produits],Tableau1[Emplacement])","v":0},null,{"$f":"Sheet1!$S900-Sheet1!$R900","v":0},"-","-","-",{"$f":"IFERROR(Tableau1[[#This Row],[THEO]]-Tableau1[[#This Row],[Qtt 2éme lot]],\"-\")","v":"-"},"-",{"$f":"IF(Tableau1[[#This Row],[2éme lot]]=\"-\",\"-\",IFERROR(IF(Q900=\"\",\"-\",INDEX(I:I,MATCH(Q900,C:C,0)+1)),\"-\"))","v":"-"},"-","-"]
[1597,"MD001019","LATASOPT 0.005% COLLYRE .F/2.5ML","LATANOPROST","90500730","01.04.2022","MG/EXP1",78,"MG/EXP1-BOX6",null,0,null,"GLAC",925.76,"GB PHARMA SARL","-",null,{"$f":"SUMIF(Tableau1[Description article],Tableau1[Produits],Tableau1[Emplacement])","v":0},null,{"$f":"Sheet1!$S901-Sheet1!$R901","v":0},"-","-","-",{"$f":"IFERROR(Tableau1[[#This Row],[THEO]]-Tableau1[[#This Row],[Qtt 2éme lot]],\"-\")","v":"-"},"-",{"$f":"IF(Tableau1[[#This Row],[2éme lot]]=\"-\",\"-\",IFERROR(IF(Q901=\"\",\"-\",INDEX(I:I,MATCH(Q901,C:C,0)+1)),\"-\"))","v":"-"},"-","-"]
[1598,"MD001024","LAXADYL 10MG SUPP. B/06","BISACODYL","9R560","05.10.2022","MG/EXP1",155,"MG/EXP1-D-062",null,0,null,null,180,"SALEM LABORATOIRES SARL","-",null,{"$f":"SUMIF(Tableau1[Description article],Tableau1[Produits],Tableau1[Emplacement])","v":0},null,{"$f":"Sheet1!$S902-Sheet1!$R902","v":0},"-","-","-",{"$f":"IFERROR(Tableau1[[#This Row],[THEO]]-Tableau1[[#This Row],[Qtt 2éme lot]],\"-\")","v":"-"},"-",{"$f":"IF(Tableau1[[#This Row],[2éme lot]]=\"-\",\"-\",IFERROR(IF(Q902=\"\",\"-\",INDEX(I:I,MATCH(Q902,C:C,0)+1)),\"-\"))","v":"-"},"-","-"]
[1599,"MD001025","LAXADYL 5MG SUPP. B/06","BISACODYL","9R382","26.05.2022","MG/EXP1",90,"MG/EXP1-B-053",null,0,null,null,130,"SALEM LABORATOIRES SARL","-",null,{"$f":"SUMIF(Tableau1[Description article],Tableau1[Produits],Tableau1[Emplacement])","v":0},null,{"$f":"Sheet1!$S903-Sheet1!$R903","v":0},"-","-","-",{"$f":"IFERROR(Tableau1[[#This Row],[THEO]]-Tableau1[[#This Row],[Qtt 2éme lot]],\"-\")","v":"-"},"-",{"$f":"IF(Tableau1[[#This Row],[2éme lot]]=\"-\",\"-\",IFERROR(IF(Q903=\"\",\"-\",INDEX(I:I,MATCH(Q903,C:C,0)+1)),\"-\"))","v":"-"},"-","-"]
[1601,"MD001026","LAXSENA 15MG CP. B/14","SENNOSIDE 15MG","016519","01.02.2024","MG/EXP1",57,"MG/EXP1-A-061",null,0,null,null,298.85,"BEKER LABORATOIRES","-",null,{"$f":"SUMIF(Tableau1[Description article],Tableau1[Produits],Tableau1[Emplacement])","v":0},null,{"$f":"Sheet1!$S904-Sheet1!$R904","v":0},"-","-","-",{"$f":"IFERROR(Tableau1[[#This Row],[THEO]]-Tableau1[[#This Row],[Qtt 2éme lot]],\"-\")","v":"-"},"-",{"$f":"IF(Tableau1[[#This Row],[2éme lot]]=\"-\",\"-\",IFERROR(IF(Q904=\"\",\"-\",INDEX(I:I,MATCH(Q904,C:C,0)+1)),\"-\"))","v":"-"},"-","-"]
[1604,"MD001027","LAXSENA 25MG EXTRA FORT . CP .B/14","SENNOSIDE 25MG","088919","01.10.2024","MG/EXP1",21,"MG/EXP1-B-044",null,0,null,null,345.34,"BEKER LABORATOIRES","-",null,{"$f":"SUMIF(Tableau1[Description article],Tableau1[Produits],Tableau1[Emplacement])","v":0},null,{"$f":"Sheet1!$S905-Sheet1!$R905","v":0},"-","-","-",{"$f":"IFERROR(Tableau1[[#This Row],[THEO]]-Tableau1[[#This Row],[Qtt 2éme lot]],\"-\")","v":"-"},"-",{"$f":"IF(Tableau1[[#This Row],[2éme lot]]=\"-\",\"-\",IFERROR(IF(Q905=\"\",\"-\",INDEX(I:I,MATCH(Q905,C:C,0)+1)),\"-\"))","v":"-"},"-","-"]
[1605,"MD001029","LEMOD-SOLU 40MG LYOPHI.P.SOL.INJ.IM.\\IV. B/01 FL.LYOPH. + 01 AMP.SOLV/1ML","METHYLPREDNISOLONE","C900287","31.03.2022","MG/EXP1",10,"MG/EXP1-D-036",null,0,null,null,175.66,"LDM LABORATOIRES DE DIAGNOSTIC MAGHREBINS","-",null,{"$f":"SUMIF(Tableau1[Description article],Tableau1[Produits],Tableau1[Emplacement])","v":0},null,{"$f":"Sheet1!$S906-Sheet1!$R906","v":0},"-","-","-",{"$f":"IFERROR(Tableau1[[#This Row],[THEO]]-Tableau1[[#This Row],[Qtt 2éme lot]],\"-\")","v":"-"},"-",{"$f":"IF(Tableau1[[#This Row],[2éme lot]]=\"-\",\"-\",IFERROR(IF(Q906=\"\",\"-\",INDEX(I:I,MATCH(Q906,C:C,0)+1)),\"-\"))","v":"-"},"-","-"]
[1606,"PP00384","LENTISCIA CREME T/30GR (brulure et cicatrice)",null,"SC003","01.05.2021","MG/EXP1",142,"MG/EXP1-G-034",null,0,null,null,580,"DERMO SENS SARL","-",null,{"$f":"SUMIF(Tableau1[Description article],Tableau1[Produits],Tableau1[Emplacement])","v":0},null,{"$f":"Sheet1!$S907-Sheet1!$R907","v":0},"-","-","-",{"$f":"IFERROR(Tableau1[[#This Row],[THEO]]-Tableau1[[#This Row],[Qtt 2éme lot]],\"-\")","v":"-"},"-",{"$f":"IF(Tableau1[[#This Row],[2éme lot]]=\"-\",\"-\",IFERROR(IF(Q907=\"\",\"-\",INDEX(I:I,MATCH(Q907,C:C,0)+1)),\"-\"))","v":"-"},"-","-"]
[1607,"PP00328","LENTISCIA CREME. BRULURE ET CICATRICE.75GRAMM.",null,"003**","01.01.2021","MG/EXP1",41,"MG/EXP1-BOX6-007",null,0,null,null,1100,"DERMO SENS SARL","-",null,{"$f":"SUMIF(Tableau1[Description article],Tableau1[Produits],Tableau1[Emplacement])","v":0},null,{"$f":"Sheet1!$S908-Sheet1!$R908","v":0},"-","-","-",{"$f":"IFERROR(Tableau1[[#This Row],[THEO]]-Tableau1[[#This Row],[Qtt 2éme lot]],\"-\")","v":"-"},"-",{"$f":"IF(Tableau1[[#This Row],[2éme lot]]=\"-\",\"-\",IFERROR(IF(Q908=\"\",\"-\",INDEX(I:I,MATCH(Q908,C:C,0)+1)),\"-\"))","v":"-"},"-","-"]
[1608,"MD001033","LERCANIDIPINE BEKER 10MG COMP.PELLI.SEC. B/30","LERCANIDIPINE","092218","01.09.2021","MG/EXP1",160,"MG/EXP1-D-065",null,0,null,null,826.77,"BEKER LABORATOIRES","-",null,{"$f":"SUMIF(Tableau1[Description article],Tableau1[Produits],Tableau1[Emplacement])","v":0},null,{"$f":"Sheet1!$S909-Sheet1!$R909","v":0},"-","-","-",{"$f":"IFERROR(Tableau1[[#This Row],[THEO]]-Tableau1[[#This Row],[Qtt 2éme lot]],\"-\")","v":"-"},"-",{"$f":"IF(Tableau1[[#This Row],[2éme lot]]=\"-\",\"-\",IFERROR(IF(Q909=\"\",\"-\",INDEX(I:I,MATCH(Q909,C:C,0)+1)),\"-\"))","v":"-"},"-","-"]
[1609,"MD001033","LERCANIDIPINE BEKER 10MG COMP.PELLI.SEC. B/30","LERCANIDIPINE","092118","01.09.2021","MG/EXP1",5,"MG/EXP1-D-061",null,0,null,null,826.77,"BEKER LABORATOIRES","-",null,{"$f":"SUMIF(Tableau1[Description article],Tableau1[Produits],Tableau1[Emplacement])","v":0},null,{"$f":"Sheet1!$S910-Sheet1!$R910","v":0},"-","-","-",{"$f":"IFERROR(Tableau1[[#This Row],[THEO]]-Tableau1[[#This Row],[Qtt 2éme lot]],\"-\")","v":"-"},"-",{"$f":"IF(Tableau1[[#This Row],[2éme lot]]=\"-\",\"-\",IFERROR(IF(Q910=\"\",\"-\",INDEX(I:I,MATCH(Q910,C:C,0)+1)),\"-\"))","v":"-"},"-","-"]
[1611,"MD001038","LEVEMIR FLEXPEN 100U/ML SOL.INJ.SC. B/05 STY.PREREMPL/3ML","INSULINE DETEMIR","JT6M980","01.06.2021","MG/EXP1",61,"MG/EXP1-BOX6",null,0,null,"GLAC",8668.86,"ALDAPH SPA","-",null,{"$f":"SUMIF(Tableau1[Description article],Tableau1[Produits],Tableau1[Emplacement])","v":0},null,{"$f":"Sheet1!$S911-Sheet1!$R911","v":0},"-","-","-",{"$f":"IFERROR(Tableau1[[#This Row],[THEO]]-Tableau1[[#This Row],[Qtt 2éme lot]],\"-\")","v":"-"},"-",{"$f":"IF(Tableau1[[#This Row],[2éme lot]]=\"-\",\"-\",IFERROR(IF(Q911=\"\",\"-\",INDEX(I:I,MATCH(Q911,C:C,0)+1)),\"-\"))","v":"-"},"-","-"]
[1612,"MD004207","LEVETIRACETAM 250MG COMP.PELLI.SEC. B/60","LEVETIRACETAM","004419","01.01.2021","MG/EXP1",9,"MG/EXP1-BOX6-PSY-019",null,0,null,null,1769.3,"BEKER LABORATOIRES","-",null,{"$f":"SUMIF(Tableau1[Description article],Tableau1[Produits],Tableau1[Emplacement])","v":0},null,{"$f":"Sheet1!$S912-Sheet1!$R912","v":0},"-","-","-",{"$f":"IFERROR(Tableau1[[#This Row],[THEO]]-Tableau1[[#This Row],[Qtt 2éme lot]],\"-\")","v":"-"},"-",{"$f":"IF(Tableau1[[#This Row],[2éme lot]]=\"-\",\"-\",IFERROR(IF(Q912=\"\",\"-\",INDEX(I:I,MATCH(Q912,C:C,0)+1)),\"-\"))","v":"-"},"-","-"]
[1614,"MD001041","LEVOFLOX 500MG COMP.PELLI.SEC. B/10","LEVOFLOXACINE","9527*","01.09.2021","MG/EXP1",9,"MG/EXP1-D-027",null,0,null,null,1797.5,"INPHA MEDIS SPA","-",null,{"$f":"SUMIF(Tableau1[Description article],Tableau1[Produits],Tableau1[Emplacement])","v":0},null,{"$f":"Sheet1!$S913-Sheet1!$R913","v":0},"-","-","-",{"$f":"IFERROR(Tableau1[[#This Row],[THEO]]-Tableau1[[#This Row],[Qtt 2éme lot]],\"-\")","v":"-"},"-",{"$f":"IF(Tableau1[[#This Row],[2éme lot]]=\"-\",\"-\",IFERROR(IF(Q913=\"\",\"-\",INDEX(I:I,MATCH(Q913,C:C,0)+1)),\"-\"))","v":"-"},"-","-"]
[1615,"MD001045","LEVOPHTA 0,05% COLLY. FL/5ML","LEVOCABASTINE","H5959","01.06.2021","MG/EXP1",290,"MG/EXP1-C-024",null,0,null,null,356.28,"E.P.DIS EURAPHARMA SPA","-",null,{"$f":"SUMIF(Tableau1[Description article],Tableau1[Produits],Tableau1[Emplacement])","v":0},null,{"$f":"Sheet1!$S914-Sheet1!$R914","v":0},"-","-","-",{"$f":"IFERROR(Tableau1[[#This Row],[THEO]]-Tableau1[[#This Row],[Qtt 2éme lot]],\"-\")","v":"-"},"-",{"$f":"IF(Tableau1[[#This Row],[2éme lot]]=\"-\",\"-\",IFERROR(IF(Q914=\"\",\"-\",INDEX(I:I,MATCH(Q914,C:C,0)+1)),\"-\"))","v":"-"},"-","-"]
[1617,"MD001047","LEVOTHYROX 100PG COMP.SEC. B/30","LEVOTHYRIXINE","G001M8","31.03.2022","MG/EXP1",18,"MG/EXP1-D-014",null,0,null,null,161.06,"BIOPHARM SPA","-",null,{"$f":"SUMIF(Tableau1[Description article],Tableau1[Produits],Tableau1[Emplacement])","v":0},null,{"$f":"Sheet1!$S915-Sheet1!$R915","v":0},"-","-","-",{"$f":"IFERROR(Tableau1[[#This Row],[THEO]]-Tableau1[[#This Row],[Qtt 2éme lot]],\"-\")","v":"-"},"-",{"$f":"IF(Tableau1[[#This Row],[2éme lot]]=\"-\",\"-\",IFERROR(IF(Q915=\"\",\"-\",INDEX(I:I,MATCH(Q915,C:C,0)+1)),\"-\"))","v":"-"},"-","-"]
[1620,"MD001048","LEVOTHYROX 25PG COMP.SEC. B/30","LEVOTHYROXINE SODIQUE","G005LK","01.06.2022","MG/EXP1",595,"MG/EXP1-A-003",null,0,null,null,98.37,"AT PHARMA SPA","-",null,{"$f":"SUMIF(Tableau1[Description article],Tableau1[Produits],Tableau1[Emplacement])","v":0},null,{"$f":"Sheet1!$S916-Sheet1!$R916","v":0},"-","-","-",{"$f":"IFERROR(Tableau1[[#This Row],[THEO]]-Tableau1[[#This Row],[Qtt 2éme lot]],\"-\")","v":"-"},"-",{"$f":"IF(Tableau1[[#This Row],[2éme lot]]=\"-\",\"-\",IFERROR(IF(Q916=\"\",\"-\",INDEX(I:I,MATCH(Q916,C:C,0)+1)),\"-\"))","v":"-"},"-","-"]
[1623,"MD002370","LEVOTIRON 100μG COMP.SEC. B/100","LEVOTHYROXINE SODIQUE","19E744","01.04.2021","MG/EXP1",299,"MG/EXP1-B-040",null,0,null,null,325.49,"ABDI IBRAHIM REMED PHARMA SPA","-",null,{"$f":"SUMIF(Tableau1[Description article],Tableau1[Produits],Tableau1[Emplacement])","v":0},null,{"$f":"Sheet1!$S917-Sheet1!$R917","v":0},"-","-","-",{"$f":"IFERROR(Tableau1[[#This Row],[THEO]]-Tableau1[[#This Row],[Qtt 2éme lot]],\"-\")","v":"-"},"-",{"$f":"IF(Tableau1[[#This Row],[2éme lot]]=\"-\",\"-\",IFERROR(IF(Q917=\"\",\"-\",INDEX(I:I,MATCH(Q917,C:C,0)+1)),\"-\"))","v":"-"},"-","-"]
[1626,"MD001051","LEVOTYNE 0.1 SOL.BUV. B/01 FL/100ML","LEVOCARNITINE","004/19","01.04.2022","MG/EXP1",47,"MG/EXP1-A-028",null,0,null,null,528,"PHARMALLIANCE EURL","-",null,{"$f":"SUMIF(Tableau1[Description article],Tableau1[Produits],Tableau1[Emplacement])","v":0},null,{"$f":"Sheet1!$S918-Sheet1!$R918","v":0},"-","-","-",{"$f":"IFERROR(Tableau1[[#This Row],[THEO]]-Tableau1[[#This Row],[Qtt 2éme lot]],\"-\")","v":"-"},"-",{"$f":"IF(Tableau1[[#This Row],[2éme lot]]=\"-\",\"-\",IFERROR(IF(Q918=\"\",\"-\",INDEX(I:I,MATCH(Q918,C:C,0)+1)),\"-\"))","v":"-"},"-","-"]
[1628,"MD001053","LEVOZEN 5 MG CP PELL B/28","LEVOCETIRIZINE DICHLORHYDRATE","LEV014","01.09.2020","MG/EXP1",2,"MG/EXP1-D-016",null,0,null,null,504.46,"NEOMEDIC LABORATOIRE","-",null,{"$f":"SUMIF(Tableau1[Description article],Tableau1[Produits],Tableau1[Emplacement])","v":0},null,{"$f":"Sheet1!$S919-Sheet1!$R919","v":0},"-","-","-",{"$f":"IFERROR(Tableau1[[#This Row],[THEO]]-Tableau1[[#This Row],[Qtt 2éme lot]],\"-\")","v":"-"},"-",{"$f":"IF(Tableau1[[#This Row],[2éme lot]]=\"-\",\"-\",IFERROR(IF(Q919=\"\",\"-\",INDEX(I:I,MATCH(Q919,C:C,0)+1)),\"-\"))","v":"-"},"-","-"]
[1632,"MD001054","LEXIN 1G COMP. B/12","CEFALEXINE","190216","01.06.2022","MG/EXP1",148,"MG/EXP1-E-047",null,0,null,null,510.7,"HIKMA PHARMA ALGERIA SARL","-",null,{"$f":"SUMIF(Tableau1[Description article],Tableau1[Produits],Tableau1[Emplacement])","v":0},null,{"$f":"Sheet1!$S920-Sheet1!$R920","v":0},"-","-","-",{"$f":"IFERROR(Tableau1[[#This Row],[THEO]]-Tableau1[[#This Row],[Qtt 2éme lot]],\"-\")","v":"-"},"-",{"$f":"IF(Tableau1[[#This Row],[2éme lot]]=\"-\",\"-\",IFERROR(IF(Q920=\"\",\"-\",INDEX(I:I,MATCH(Q920,C:C,0)+1)),\"-\"))","v":"-"},"-","-"]
[1635,"MD003038","LEXIN 500MG GLES. B/20","CEFALEXINE","190141","01.04.2022","MG/EXP1",372,"MG/EXP1-C-011",null,0,null,null,549.11,"HIKMA PHARMA ALGERIA SARL","-",null,{"$f":"SUMIF(Tableau1[Description article],Tableau1[Produits],Tableau1[Emplacement])","v":0},null,{"$f":"Sheet1!$S921-Sheet1!$R921","v":0},"-","-","-",{"$f":"IFERROR(Tableau1[[#This Row],[THEO]]-Tableau1[[#This Row],[Qtt 2éme lot]],\"-\")","v":"-"},"-",{"$f":"IF(Tableau1[[#This Row],[2éme lot]]=\"-\",\"-\",IFERROR(IF(Q921=\"\",\"-\",INDEX(I:I,MATCH(Q921,C:C,0)+1)),\"-\"))","v":"-"},"-","-"]
[1638,"MD004097","LEXINAL 125MG/5ML SUSP.BUV. FL/100 ML+ GBL.DOSEUR","céfalexine","274107","31.10.2021","MG/EXP1",115,"MG/EXP1-C-020",null,0,null,null,215.42,"SOPHAL SOCIETE PHARMACEUTIQUE ALGERIENNE","-",null,{"$f":"SUMIF(Tableau1[Description article],Tableau1[Produits],Tableau1[Emplacement])","v":0},null,{"$f":"Sheet1!$S922-Sheet1!$R922","v":0},"-","-","-",{"$f":"IFERROR(Tableau1[[#This Row],[THEO]]-Tableau1[[#This Row],[Qtt 2éme lot]],\"-\")","v":"-"},"-",{"$f":"IF(Tableau1[[#This Row],[2éme lot]]=\"-\",\"-\",IFERROR(IF(Q922=\"\",\"-\",INDEX(I:I,MATCH(Q922,C:C,0)+1)),\"-\"))","v":"-"},"-","-"]
[1644,"MD001056","LEXINAL 1G COMP.PELLI. B/12","CEFALEXINE","276535","30.11.2021","MG/EXP1",232,"MG/EXP1-D-045",null,0,null,null,698.28,"SOPHAL SOCIETE PHARMACEUTIQUE ALGERIENNE","-",null,{"$f":"SUMIF(Tableau1[Description article],Tableau1[Produits],Tableau1[Emplacement])","v":0},null,{"$f":"Sheet1!$S923-Sheet1!$R923","v":0},"-","-","-",{"$f":"IFERROR(Tableau1[[#This Row],[THEO]]-Tableau1[[#This Row],[Qtt 2éme lot]],\"-\")","v":"-"},"-",{"$f":"IF(Tableau1[[#This Row],[2éme lot]]=\"-\",\"-\",IFERROR(IF(Q923=\"\",\"-\",INDEX(I:I,MATCH(Q923,C:C,0)+1)),\"-\"))","v":"-"},"-","-"]
[1648,"MD004087","LEXINAL 250MG/5ML SUSP.BUV. FL/100 ML+ GBL.DOSEUR","céfalexine","275350","31.12.2021","MG/EXP1",216,"MG/EXP1-A-041",null,0,null,null,429.08,"SOPHAL SOCIETE PHARMACEUTIQUE ALGERIENNE","-",null,{"$f":"SUMIF(Tableau1[Description article],Tableau1[Produits],Tableau1[Emplacement])","v":0},null,{"$f":"Sheet1!$S924-Sheet1!$R924","v":0},"-","-","-",{"$f":"IFERROR(Tableau1[[#This Row],[THEO]]-Tableau1[[#This Row],[Qtt 2éme lot]],\"-\")","v":"-"},"-",{"$f":"IF(Tableau1[[#This Row],[2éme lot]]=\"-\",\"-\",IFERROR(IF(Q924=\"\",\"-\",INDEX(I:I,MATCH(Q924,C:C,0)+1)),\"-\"))","v":"-"},"-","-"]
[1649,"PP00424","LIBIGYN GLES.B/15","complément alimentaire pour améliorer la libido feminine","002","01.03.2021","MG/EXP1",3,"MG/EXP1-BOX6-021",null,0,null,null,2450,"BIOPHARM SPA","-",null,{"$f":"SUMIF(Tableau1[Description article],Tableau1[Produits],Tableau1[Emplacement])","v":0},null,{"$f":"Sheet1!$S925-Sheet1!$R925","v":0},"-","-","-",{"$f":"IFERROR(Tableau1[[#This Row],[THEO]]-Tableau1[[#This Row],[Qtt 2éme lot]],\"-\")","v":"-"},"-",{"$f":"IF(Tableau1[[#This Row],[2éme lot]]=\"-\",\"-\",IFERROR(IF(Q925=\"\",\"-\",INDEX(I:I,MATCH(Q925,C:C,0)+1)),\"-\"))","v":"-"},"-","-"]
[1650,"PP00463","LIBLAB PASTILLES A SUCER B/20","EXTRAIT DE FEUILLES DE LIERRE","88ED","01.11.2021","MG/EXP1",47,"MG/EXP1-F-023",null,0,null,null,373.49,"DAR AL DAWA SARL","-",null,{"$f":"SUMIF(Tableau1[Description article],Tableau1[Produits],Tableau1[Emplacement])","v":0},null,{"$f":"Sheet1!$S926-Sheet1!$R926","v":0},"-","-","-",{"$f":"IFERROR(Tableau1[[#This Row],[THEO]]-Tableau1[[#This Row],[Qtt 2éme lot]],\"-\")","v":"-"},"-",{"$f":"IF(Tableau1[[#This Row],[2éme lot]]=\"-\",\"-\",IFERROR(IF(Q926=\"\",\"-\",INDEX(I:I,MATCH(Q926,C:C,0)+1)),\"-\"))","v":"-"},"-","-"]
[1652,"PP00166","LIBLAB THYM SIROP CONTRE LA TOUX.F/100ML",null,"65BR","01.05.2020","MG/EXP1",42,"MG/EXP1-E-012",null,0,null,null,653.45,"DAR AL DAWA SARL","-",null,{"$f":"SUMIF(Tableau1[Description article],Tableau1[Produits],Tableau1[Emplacement])","v":0},null,{"$f":"Sheet1!$S927-Sheet1!$R927","v":0},"-","-","-",{"$f":"IFERROR(Tableau1[[#This Row],[THEO]]-Tableau1[[#This Row],[Qtt 2éme lot]],\"-\")","v":"-"},"-",{"$f":"IF(Tableau1[[#This Row],[2éme lot]]=\"-\",\"-\",IFERROR(IF(Q927=\"\",\"-\",INDEX(I:I,MATCH(Q927,C:C,0)+1)),\"-\"))","v":"-"},"-","-"]
[1653,"MD003040","LIBRAX 5MG/2,5MG COMP.DRAGEIFIES B/30","CHLORDIAZEPOXIDE / BROMURE DE CLIDINIUM","19081","01.06.2021","MG/EXP1",12,"MG/EXP1-BOX6-PSY-019",null,0,null,null,370.69,"LGPA SARL","-",null,{"$f":"SUMIF(Tableau1[Description article],Tableau1[Produits],Tableau1[Emplacement])","v":0},null,{"$f":"Sheet1!$S928-Sheet1!$R928","v":0},"-","-","-",{"$f":"IFERROR(Tableau1[[#This Row],[THEO]]-Tableau1[[#This Row],[Qtt 2éme lot]],\"-\")","v":"-"},"-",{"$f":"IF(Tableau1[[#This Row],[2éme lot]]=\"-\",\"-\",IFERROR(IF(Q928=\"\",\"-\",INDEX(I:I,MATCH(Q928,C:C,0)+1)),\"-\"))","v":"-"},"-","-"]
[1655,"MD001061","LIPANTHYL 160MG COMP.PELLI.LM. B/30","FENOFIBRATE","9390","30.04.2021","MG/EXP1",230,"MG/EXP1-C-007",null,0,null,null,1006.46,"LDM LABORATOIRES DE DIAGNOSTIC MAGHREBINS","-",null,{"$f":"SUMIF(Tableau1[Description article],Tableau1[Produits],Tableau1[Emplacement])","v":0},null,{"$f":"Sheet1!$S929-Sheet1!$R929","v":0},"-","-","-",{"$f":"IFERROR(Tableau1[[#This Row],[THEO]]-Tableau1[[#This Row],[Qtt 2éme lot]],\"-\")","v":"-"},"-",{"$f":"IF(Tableau1[[#This Row],[2éme lot]]=\"-\",\"-\",IFERROR(IF(Q929=\"\",\"-\",INDEX(I:I,MATCH(Q929,C:C,0)+1)),\"-\"))","v":"-"},"-","-"]
[1656,"MD001062","LIPODAR 10 10MG COMP.PELLI. B/30","ATORVASTATINE","456027","01.07.2020","MG/EXP1",135,"MG/EXP1-D-069",null,0,null,null,837.5,"DAR AL DAWA SARL","-",null,{"$f":"SUMIF(Tableau1[Description article],Tableau1[Produits],Tableau1[Emplacement])","v":0},null,{"$f":"Sheet1!$S930-Sheet1!$R930","v":0},"-","-","-",{"$f":"IFERROR(Tableau1[[#This Row],[THEO]]-Tableau1[[#This Row],[Qtt 2éme lot]],\"-\")","v":"-"},"-",{"$f":"IF(Tableau1[[#This Row],[2éme lot]]=\"-\",\"-\",IFERROR(IF(Q930=\"\",\"-\",INDEX(I:I,MATCH(Q930,C:C,0)+1)),\"-\"))","v":"-"},"-","-"]
[1657,"MD001063","LIPODAR 20 20MG COMP.PELLI. B/30","ATORVASTATINE","463035","01.07.2020","MG/EXP1",267,"MG/EXP1-A-037",null,0,null,null,1062.49,"DAR AL DAWA SARL","-",null,{"$f":"SUMIF(Tableau1[Description article],Tableau1[Produits],Tableau1[Emplacement])","v":0},null,{"$f":"Sheet1!$S931-Sheet1!$R931","v":0},"-","-","-",{"$f":"IFERROR(Tableau1[[#This Row],[THEO]]-Tableau1[[#This Row],[Qtt 2éme lot]],\"-\")","v":"-"},"-",{"$f":"IF(Tableau1[[#This Row],[2éme lot]]=\"-\",\"-\",IFERROR(IF(Q931=\"\",\"-\",INDEX(I:I,MATCH(Q931,C:C,0)+1)),\"-\"))","v":"-"},"-","-"]
[1658,"MD001064","LIPOFIBRATE 200MG GLES. B/30","FENOFIBRATE","38","01.09.2020","MG/EXP1",171,"MG/EXP1-G-029",null,0,null,null,902.36,"PROVIVO SPA","-",null,{"$f":"SUMIF(Tableau1[Description article],Tableau1[Produits],Tableau1[Emplacement])","v":0},null,{"$f":"Sheet1!$S932-Sheet1!$R932","v":0},"-","-","-",{"$f":"IFERROR(Tableau1[[#This Row],[THEO]]-Tableau1[[#This Row],[Qtt 2éme lot]],\"-\")","v":"-"},"-",{"$f":"IF(Tableau1[[#This Row],[2éme lot]]=\"-\",\"-\",IFERROR(IF(Q932=\"\",\"-\",INDEX(I:I,MATCH(Q932,C:C,0)+1)),\"-\"))","v":"-"},"-","-"]
[1660,"MD001065","LIPOSIC 0,2% (2MG/G) GEL OPHT. T/10G","CARBOMERE 980","679","30.09.2022","MG/EXP1",36,"MG/EXP1-G-002",null,0,null,null,281.45,"LDM LABORATOIRES DE DIAGNOSTIC MAGHREBINS","-",null,{"$f":"SUMIF(Tableau1[Description article],Tableau1[Produits],Tableau1[Emplacement])","v":0},null,{"$f":"Sheet1!$S933-Sheet1!$R933","v":0},"-","-","-",{"$f":"IFERROR(Tableau1[[#This Row],[THEO]]-Tableau1[[#This Row],[Qtt 2éme lot]],\"-\")","v":"-"},"-",{"$f":"IF(Tableau1[[#This Row],[2éme lot]]=\"-\",\"-\",IFERROR(IF(Q933=\"\",\"-\",INDEX(I:I,MATCH(Q933,C:C,0)+1)),\"-\"))","v":"-"},"-","-"]
[1663,"MD001067","LIPOVAST 20MG CP .B/30","ATORVASTATINE","1810604","01.05.2020","MG/EXP1",48,"MG/EXP1-F-015",null,0,null,null,1244.9,"SOCIETE SAOUDIENNE SPIMACO-ALGERIE-","-",null,{"$f":"SUMIF(Tableau1[Description article],Tableau1[Produits],Tableau1[Emplacement])","v":0},null,{"$f":"Sheet1!$S934-Sheet1!$R934","v":0},"-","-","-",{"$f":"IFERROR(Tableau1[[#This Row],[THEO]]-Tableau1[[#This Row],[Qtt 2éme lot]],\"-\")","v":"-"},"-",{"$f":"IF(Tableau1[[#This Row],[2éme lot]]=\"-\",\"-\",IFERROR(IF(Q934=\"\",\"-\",INDEX(I:I,MATCH(Q934,C:C,0)+1)),\"-\"))","v":"-"},"-","-"]
[1667,"MD001069","LISAMETHYLE 40MG/FL.PDRE. PDRE.& SOLV.P.SOL.INJ.IM.\\IV. B/01 FL.LYOPH. + 01 AMP.SOLV/2ML","METHYLPREDNISOLONE","90333","01.05.2022","MG/EXP1",120,"MG/EXP1-A-004",null,0,null,null,175.86,"GENERICLAB SARL","-",null,{"$f":"SUMIF(Tableau1[Description article],Tableau1[Produits],Tableau1[Emplacement])","v":0},null,{"$f":"Sheet1!$S935-Sheet1!$R935","v":0},"-","-","-",{"$f":"IFERROR(Tableau1[[#This Row],[THEO]]-Tableau1[[#This Row],[Qtt 2éme lot]],\"-\")","v":"-"},"-",{"$f":"IF(Tableau1[[#This Row],[2éme lot]]=\"-\",\"-\",IFERROR(IF(Q935=\"\",\"-\",INDEX(I:I,MATCH(Q935,C:C,0)+1)),\"-\"))","v":"-"},"-","-"]
[1670,"MD001071","LISINOX 20MG COMP.PELLI.GASTRORESIST B/14","ESOMEPRAZOLE","066/18","01.09.2020","MG/EXP1",67,"MG/EXP1-A-050",null,0,null,null,598.5,"PHARMALLIANCE EURL","-",null,{"$f":"SUMIF(Tableau1[Description article],Tableau1[Produits],Tableau1[Emplacement])","v":0},null,{"$f":"Sheet1!$S936-Sheet1!$R936","v":0},"-","-","-",{"$f":"IFERROR(Tableau1[[#This Row],[THEO]]-Tableau1[[#This Row],[Qtt 2éme lot]],\"-\")","v":"-"},"-",{"$f":"IF(Tableau1[[#This Row],[2éme lot]]=\"-\",\"-\",IFERROR(IF(Q936=\"\",\"-\",INDEX(I:I,MATCH(Q936,C:C,0)+1)),\"-\"))","v":"-"},"-","-"]
[1672,"MD001072","LISINOX 20MG COMP.PELLI.GASTRORESIST B/28","ESOMEPRAZOLE","002/18","29.04.2020","MG/EXP1",153,"MG/EXP1-A-019",null,0,null,null,1197,"PHARMALLIANCE EURL","-",null,{"$f":"SUMIF(Tableau1[Description article],Tableau1[Produits],Tableau1[Emplacement])","v":0},null,{"$f":"Sheet1!$S937-Sheet1!$R937","v":0},"-","-","-",{"$f":"IFERROR(Tableau1[[#This Row],[THEO]]-Tableau1[[#This Row],[Qtt 2éme lot]],\"-\")","v":"-"},"-",{"$f":"IF(Tableau1[[#This Row],[2éme lot]]=\"-\",\"-\",IFERROR(IF(Q937=\"\",\"-\",INDEX(I:I,MATCH(Q937,C:C,0)+1)),\"-\"))","v":"-"},"-","-"]
[1674,"MD001073","LISINOX 40MG COMP.PELLI.GASTRORESIST B/14","ESOMEPRAZOL","016/18","01.06.2020","MG/EXP1",111,"MG/EXP1-F-058",null,0,null,null,921.5,"PHARMALLIANCE EURL","-",null,{"$f":"SUMIF(Tableau1[Description article],Tableau1[Produits],Tableau1[Emplacement])","v":0},null,{"$f":"Sheet1!$S938-Sheet1!$R938","v":0},"-","-","-",{"$f":"IFERROR(Tableau1[[#This Row],[THEO]]-Tableau1[[#This Row],[Qtt 2éme lot]],\"-\")","v":"-"},"-",{"$f":"IF(Tableau1[[#This Row],[2éme lot]]=\"-\",\"-\",IFERROR(IF(Q938=\"\",\"-\",INDEX(I:I,MATCH(Q938,C:C,0)+1)),\"-\"))","v":"-"},"-","-"]
[1675,"MD001073","LISINOX 40MG COMP.PELLI.GASTRORESIST B/14","ESOMEPRAZOL","037/18","01.09.2020","MG/EXP1",210,"MG/EXP1-B-049",null,0,null,null,921.5,"PHARMALLIANCE EURL","-",null,{"$f":"SUMIF(Tableau1[Description article],Tableau1[Produits],Tableau1[Emplacement])","v":0},null,{"$f":"Sheet1!$S939-Sheet1!$R939","v":0},"-","-","-",{"$f":"IFERROR(Tableau1[[#This Row],[THEO]]-Tableau1[[#This Row],[Qtt 2éme lot]],\"-\")","v":"-"},"-",{"$f":"IF(Tableau1[[#This Row],[2éme lot]]=\"-\",\"-\",IFERROR(IF(Q939=\"\",\"-\",INDEX(I:I,MATCH(Q939,C:C,0)+1)),\"-\"))","v":"-"},"-","-"]
[1680,"MD001074","LISINOX 40MG COMP.PELLI.GASTRORESIST B/28","ESOMEPRAZOL","007/19","01.02.2021","MG/EXP1",247,"MG/EXP1-BOX6-007",null,0,null,null,1842.98,"PHARMALLIANCE EURL","-",null,{"$f":"SUMIF(Tableau1[Description article],Tableau1[Produits],Tableau1[Emplacement])","v":0},null,{"$f":"Sheet1!$S940-Sheet1!$R940","v":0},"-","-","-",{"$f":"IFERROR(Tableau1[[#This Row],[THEO]]-Tableau1[[#This Row],[Qtt 2éme lot]],\"-\")","v":"-"},"-",{"$f":"IF(Tableau1[[#This Row],[2éme lot]]=\"-\",\"-\",IFERROR(IF(Q940=\"\",\"-\",INDEX(I:I,MATCH(Q940,C:C,0)+1)),\"-\"))","v":"-"},"-","-"]
[1681,"MD001074","LISINOX 40MG COMP.PELLI.GASTRORESIST B/28","ESOMEPRAZOL","004/19","01.02.2021","MG/EXP1",1,"MG/EXP1-G-028",null,0,null,null,1842.98,"PHARMALLIANCE EURL","-",null,{"$f":"SUMIF(Tableau1[Description article],Tableau1[Produits],Tableau1[Emplacement])","v":0},null,{"$f":"Sheet1!$S941-Sheet1!$R941","v":0},"-","-","-",{"$f":"IFERROR(Tableau1[[#This Row],[THEO]]-Tableau1[[#This Row],[Qtt 2éme lot]],\"-\")","v":"-"},"-",{"$f":"IF(Tableau1[[#This Row],[2éme lot]]=\"-\",\"-\",IFERROR(IF(Q941=\"\",\"-\",INDEX(I:I,MATCH(Q941,C:C,0)+1)),\"-\"))","v":"-"},"-","-"]
[1685,"MD001080","LOCOID 0,1% CR. T/30G","BUTYRATE D'HYDROCORTISONE","19G54/75","01.06.2022","MG/EXP1",176,"MG/EXP1-D-051",null,0,null,null,248,"BIOPHARM SPA","-",null,{"$f":"SUMIF(Tableau1[Description article],Tableau1[Produits],Tableau1[Emplacement])","v":0},null,{"$f":"Sheet1!$S942-Sheet1!$R942","v":0},"-","-","-",{"$f":"IFERROR(Tableau1[[#This Row],[THEO]]-Tableau1[[#This Row],[Qtt 2éme lot]],\"-\")","v":"-"},"-",{"$f":"IF(Tableau1[[#This Row],[2éme lot]]=\"-\",\"-\",IFERROR(IF(Q942=\"\",\"-\",INDEX(I:I,MATCH(Q942,C:C,0)+1)),\"-\"))","v":"-"},"-","-"]
[1686,"MD001080","LOCOID 0,1% CR. T/30G","BUTYRATE D'HYDROCORTISONE","19FD1/75","30.06.2022","MG/EXP1",2970,"MG/EXP1-H-001",null,0,null,null,253.54,"BIOPHARM SPA","-",null,{"$f":"SUMIF(Tableau1[Description article],Tableau1[Produits],Tableau1[Emplacement])","v":0},null,{"$f":"Sheet1!$S943-Sheet1!$R943","v":0},"-","-","-",{"$f":"IFERROR(Tableau1[[#This Row],[THEO]]-Tableau1[[#This Row],[Qtt 2éme lot]],\"-\")","v":"-"},"-",{"$f":"IF(Tableau1[[#This Row],[2éme lot]]=\"-\",\"-\",IFERROR(IF(Q943=\"\",\"-\",INDEX(I:I,MATCH(Q943,C:C,0)+1)),\"-\"))","v":"-"},"-","-"]
[1687,"MD001080","LOCOID 0,1% CR. T/30G","BUTYRATE D'HYDROCORTISONE","19FD3/75","01.06.2022","MG/EXP1",479,"MG/EXP1-B-003",null,0,null,null,248.82,"BIOPHARM SPA","-",null,{"$f":"SUMIF(Tableau1[Description article],Tableau1[Produits],Tableau1[Emplacement])","v":0},null,{"$f":"Sheet1!$S944-Sheet1!$R944","v":0},"-","-","-",{"$f":"IFERROR(Tableau1[[#This Row],[THEO]]-Tableau1[[#This Row],[Qtt 2éme lot]],\"-\")","v":"-"},"-",{"$f":"IF(Tableau1[[#This Row],[2éme lot]]=\"-\",\"-\",IFERROR(IF(Q944=\"\",\"-\",INDEX(I:I,MATCH(Q944,C:C,0)+1)),\"-\"))","v":"-"},"-","-"]
[1688,"MD001080","LOCOID 0,1% CR. T/30G","BUTYRATE D'HYDROCORTISONE","19G27/75","01.06.2022","MG/EXP1",2,"MG/EXP1-C-051",null,0,null,null,255.23,"BIOPHARM SPA","-",null,{"$f":"SUMIF(Tableau1[Description article],Tableau1[Produits],Tableau1[Emplacement])","v":0},null,{"$f":"Sheet1!$S945-Sheet1!$R945","v":0},"-","-","-",{"$f":"IFERROR(Tableau1[[#This Row],[THEO]]-Tableau1[[#This Row],[Qtt 2éme lot]],\"-\")","v":"-"},"-",{"$f":"IF(Tableau1[[#This Row],[2éme lot]]=\"-\",\"-\",IFERROR(IF(Q945=\"\",\"-\",INDEX(I:I,MATCH(Q945,C:C,0)+1)),\"-\"))","v":"-"},"-","-"]
[1689,"MD001083","LOGYNON 30PG/0,05MG/6JRS\\40PG/0,075MG/5JRS\\30PG/0,125MG/10JRS COMP.ENRO. B/21","LEVENORGESTREL /ETHINYLESTRADIOL","WET1WF","01.07.2024","MG/EXP1",655,"MG/EXP1-H-001",null,0,null,null,137.83,"BIOPHARM SPA","-",null,{"$f":"SUMIF(Tableau1[Description article],Tableau1[Produits],Tableau1[Emplacement])","v":0},null,{"$f":"Sheet1!$S946-Sheet1!$R946","v":0},"-","-","-",{"$f":"IFERROR(Tableau1[[#This Row],[THEO]]-Tableau1[[#This Row],[Qtt 2éme lot]],\"-\")","v":"-"},"-",{"$f":"IF(Tableau1[[#This Row],[2éme lot]]=\"-\",\"-\",IFERROR(IF(Q946=\"\",\"-\",INDEX(I:I,MATCH(Q946,C:C,0)+1)),\"-\"))","v":"-"},"-","-"]
[1691,"MD001084","LOMAC 20MG GLES. A MICROGRAN.GASTRORESIST PILUL/15","OMEPRAZOL","415","01.02.2022","MG/EXP1",100,"MG/EXP1-A-009",null,0,null,null,208.4,"BIOPHARM SPA","-",null,{"$f":"SUMIF(Tableau1[Description article],Tableau1[Produits],Tableau1[Emplacement])","v":0},null,{"$f":"Sheet1!$S947-Sheet1!$R947","v":0},"-","-","-",{"$f":"IFERROR(Tableau1[[#This Row],[THEO]]-Tableau1[[#This Row],[Qtt 2éme lot]],\"-\")","v":"-"},"-",{"$f":"IF(Tableau1[[#This Row],[2éme lot]]=\"-\",\"-\",IFERROR(IF(Q947=\"\",\"-\",INDEX(I:I,MATCH(Q947,C:C,0)+1)),\"-\"))","v":"-"},"-","-"]
[1693,"MD001084","LOMAC 20MG GLES. A MICROGRAN.GASTRORESIST PILUL/15","OMEPRAZOL","415","01.02.2022","MG/EXP1",561,"MG/EXP1-A-021",null,0,null,null,208.4,"BIOPHARM SPA","-",null,{"$f":"SUMIF(Tableau1[Description article],Tableau1[Produits],Tableau1[Emplacement])","v":0},null,{"$f":"Sheet1!$S948-Sheet1!$R948","v":0},"-","-","-",{"$f":"IFERROR(Tableau1[[#This Row],[THEO]]-Tableau1[[#This Row],[Qtt 2éme lot]],\"-\")","v":"-"},"-",{"$f":"IF(Tableau1[[#This Row],[2éme lot]]=\"-\",\"-\",IFERROR(IF(Q948=\"\",\"-\",INDEX(I:I,MATCH(Q948,C:C,0)+1)),\"-\"))","v":"-"},"-","-"]
[1694,"MD003960","LOPEREX 2MG COMP.B/20","LOPERAMIDE","04/18","01.04.2020","MG/EXP1",1,"MG/EXP1-D-059",null,0,null,null,126.7,"LAM SARL","-",null,{"$f":"SUMIF(Tableau1[Description article],Tableau1[Produits],Tableau1[Emplacement])","v":0},null,{"$f":"Sheet1!$S949-Sheet1!$R949","v":0},"-","-","-",{"$f":"IFERROR(Tableau1[[#This Row],[THEO]]-Tableau1[[#This Row],[Qtt 2éme lot]],\"-\")","v":"-"},"-",{"$f":"IF(Tableau1[[#This Row],[2éme lot]]=\"-\",\"-\",IFERROR(IF(Q949=\"\",\"-\",INDEX(I:I,MATCH(Q949,C:C,0)+1)),\"-\"))","v":"-"},"-","-"]
[1695,"MD001086","LOPESTIN 2MG GLES. B/20","LOPERAMIDE","0041","01.03.2022","MG/EXP1",231,"MG/EXP1-G-032",null,0,null,null,126.7,"SAIDAL UNITE CENTRE","-",null,{"$f":"SUMIF(Tableau1[Description article],Tableau1[Produits],Tableau1[Emplacement])","v":0},null,{"$f":"Sheet1!$S950-Sheet1!$R950","v":0},"-","-","-",{"$f":"IFERROR(Tableau1[[#This Row],[THEO]]-Tableau1[[#This Row],[Qtt 2éme lot]],\"-\")","v":"-"},"-",{"$f":"IF(Tableau1[[#This Row],[2éme lot]]=\"-\",\"-\",IFERROR(IF(Q950=\"\",\"-\",INDEX(I:I,MATCH(Q950,C:C,0)+1)),\"-\"))","v":"-"},"-","-"]
[1696,"MD003056","LOPRESS 100MG COMP.PELLI.QUADRISEC. B/30","METOPROLOL TARTRATE","190207/FAB152","01.09.2022","MG/EXP1",548,"MG/EXP1-C-018",null,0,null,null,440.48,"S.A.N.A.M.E.D","-",null,{"$f":"SUMIF(Tableau1[Description article],Tableau1[Produits],Tableau1[Emplacement])","v":0},null,{"$f":"Sheet1!$S951-Sheet1!$R951","v":0},"-","-","-",{"$f":"IFERROR(Tableau1[[#This Row],[THEO]]-Tableau1[[#This Row],[Qtt 2éme lot]],\"-\")","v":"-"},"-",{"$f":"IF(Tableau1[[#This Row],[2éme lot]]=\"-\",\"-\",IFERROR(IF(Q951=\"\",\"-\",INDEX(I:I,MATCH(Q951,C:C,0)+1)),\"-\"))","v":"-"},"-","-"]
[1697,"MD003057","LOPRIL 25MG COMP.SEC. B/30","CAPTOPRIL","00619","01.10.2020","MG/EXP1",149,"MG/EXP1-A-056",null,0,null,null,174.09,"UPC SARL","-",null,{"$f":"SUMIF(Tableau1[Description article],Tableau1[Produits],Tableau1[Emplacement])","v":0},null,{"$f":"Sheet1!$S952-Sheet1!$R952","v":0},"-","-","-",{"$f":"IFERROR(Tableau1[[#This Row],[THEO]]-Tableau1[[#This Row],[Qtt 2éme lot]],\"-\")","v":"-"},"-",{"$f":"IF(Tableau1[[#This Row],[2éme lot]]=\"-\",\"-\",IFERROR(IF(Q952=\"\",\"-\",INDEX(I:I,MATCH(Q952,C:C,0)+1)),\"-\"))","v":"-"},"-","-"]
[1698,"MD003058","LOPRIL 50MG COMP.SEC. B/30","CAPTOPRIL","00720","01.10.2020","MG/EXP1",156,"MG/EXP1-F-041",null,0,null,null,282.5,"UPC SARL","-",null,{"$f":"SUMIF(Tableau1[Description article],Tableau1[Produits],Tableau1[Emplacement])","v":0},null,{"$f":"Sheet1!$S953-Sheet1!$R953","v":0},"-","-","-",{"$f":"IFERROR(Tableau1[[#This Row],[THEO]]-Tableau1[[#This Row],[Qtt 2éme lot]],\"-\")","v":"-"},"-",{"$f":"IF(Tableau1[[#This Row],[2éme lot]]=\"-\",\"-\",IFERROR(IF(Q953=\"\",\"-\",INDEX(I:I,MATCH(Q953,C:C,0)+1)),\"-\"))","v":"-"},"-","-"]
[1699,"MD001088","LORADESS 0,5ML/ML SRP. B/01 FL/120 ML+ PIPT.GRAD.","DESLORATADINE","004/18","01.12.2020","MG/EXP1",15,"MG/EXP1-F-032",null,0,null,null,369.3,"PHARMALLIANCE EURL","-",null,{"$f":"SUMIF(Tableau1[Description article],Tableau1[Produits],Tableau1[Emplacement])","v":0},null,{"$f":"Sheet1!$S954-Sheet1!$R954","v":0},"-","-","-",{"$f":"IFERROR(Tableau1[[#This Row],[THEO]]-Tableau1[[#This Row],[Qtt 2éme lot]],\"-\")","v":"-"},"-",{"$f":"IF(Tableau1[[#This Row],[2éme lot]]=\"-\",\"-\",IFERROR(IF(Q954=\"\",\"-\",INDEX(I:I,MATCH(Q954,C:C,0)+1)),\"-\"))","v":"-"},"-","-"]
[1703,"MD001090","LORADINE 10MG COMP. B/20","LORATADINE","003/19","01.04.2022","MG/EXP1",229,"MG/EXP1-E-019",null,0,null,null,118.5,"PHARMALLIANCE EURL","-",null,{"$f":"SUMIF(Tableau1[Description article],Tableau1[Produits],Tableau1[Emplacement])","v":0},null,{"$f":"Sheet1!$S955-Sheet1!$R955","v":0},"-","-","-",{"$f":"IFERROR(Tableau1[[#This Row],[THEO]]-Tableau1[[#This Row],[Qtt 2éme lot]],\"-\")","v":"-"},"-",{"$f":"IF(Tableau1[[#This Row],[2éme lot]]=\"-\",\"-\",IFERROR(IF(Q955=\"\",\"-\",INDEX(I:I,MATCH(Q955,C:C,0)+1)),\"-\"))","v":"-"},"-","-"]
[1706,"MD001091","LORADINE 1MG/ML SIROP. FL/100ML","LORATADINE","019/19","01.09.2022","MG/EXP1",234,"MG/EXP1-A-022",null,0,null,null,140.9,"PHARMALLIANCE EURL","-",null,{"$f":"SUMIF(Tableau1[Description article],Tableau1[Produits],Tableau1[Emplacement])","v":0},null,{"$f":"Sheet1!$S956-Sheet1!$R956","v":0},"-","-","-",{"$f":"IFERROR(Tableau1[[#This Row],[THEO]]-Tableau1[[#This Row],[Qtt 2éme lot]],\"-\")","v":"-"},"-",{"$f":"IF(Tableau1[[#This Row],[2éme lot]]=\"-\",\"-\",IFERROR(IF(Q956=\"\",\"-\",INDEX(I:I,MATCH(Q956,C:C,0)+1)),\"-\"))","v":"-"},"-","-"]
[1707,"MD001092","LORATADINE BEKER 10MG COMP. B/30","LORATADINE","065619","01.06.2022","MG/EXP1",5,"MG/EXP1-F-017",null,0,null,null,178.5,"BEKER LABORATOIRES","-",null,{"$f":"SUMIF(Tableau1[Description article],Tableau1[Produits],Tableau1[Emplacement])","v":0},null,{"$f":"Sheet1!$S957-Sheet1!$R957","v":0},"-","-","-",{"$f":"IFERROR(Tableau1[[#This Row],[THEO]]-Tableau1[[#This Row],[Qtt 2éme lot]],\"-\")","v":"-"},"-",{"$f":"IF(Tableau1[[#This Row],[2éme lot]]=\"-\",\"-\",IFERROR(IF(Q957=\"\",\"-\",INDEX(I:I,MATCH(Q957,C:C,0)+1)),\"-\"))","v":"-"},"-","-"]
[1709,"MD001092","LORATADINE BEKER 10MG COMP. B/30","LORATADINE","092919","01.10.2022","MG/EXP1",93,"MG/EXP1-C-041",null,0,null,null,178.5,"BEKER LABORATOIRES","-",null,{"$f":"SUMIF(Tableau1[Description article],Tableau1[Produits],Tableau1[Emplacement])","v":0},null,{"$f":"Sheet1!$S958-Sheet1!$R958","v":0},"-","-","-",{"$f":"IFERROR(Tableau1[[#This Row],[THEO]]-Tableau1[[#This Row],[Qtt 2éme lot]],\"-\")","v":"-"},"-",{"$f":"IF(Tableau1[[#This Row],[2éme lot]]=\"-\",\"-\",IFERROR(IF(Q958=\"\",\"-\",INDEX(I:I,MATCH(Q958,C:C,0)+1)),\"-\"))","v":"-"},"-","-"]
[1711,"MD001100","LOVENOX 4 000UI ANTI-XA/0,4ML SOL.INJ.IV.\\SC. B/02 SERING.PREREMPL/0,4ML","ENOXAPARINE SODIQUE","9L346A*","01.04.2022","MG/EXP1",1883,"MG/EXP1-BOX6-024",null,0,null,null,1083.77,"SANOFI AVENTIS ALGERIE SPA","-",null,{"$f":"SUMIF(Tableau1[Description article],Tableau1[Produits],Tableau1[Emplacement])","v":0},null,{"$f":"Sheet1!$S959-Sheet1!$R959","v":0},"-","-","-",{"$f":"IFERROR(Tableau1[[#This Row],[THEO]]-Tableau1[[#This Row],[Qtt 2éme lot]],\"-\")","v":"-"},"-",{"$f":"IF(Tableau1[[#This Row],[2éme lot]]=\"-\",\"-\",IFERROR(IF(Q959=\"\",\"-\",INDEX(I:I,MATCH(Q959,C:C,0)+1)),\"-\"))","v":"-"},"-","-"]
[1714,"MD001105","LOXEN LP 50MG GLES. A MICROGRAN.LP. B/60","NICARDIPINE","JY2776","01.07.2021","MG/EXP1",1,"MG/EXP1-B-002",null,0,null,null,670.44,"AT PHARMA SPA","-",null,{"$f":"SUMIF(Tableau1[Description article],Tableau1[Produits],Tableau1[Emplacement])","v":0},null,{"$f":"Sheet1!$S960-Sheet1!$R960","v":0},"-","-","-",{"$f":"IFERROR(Tableau1[[#This Row],[THEO]]-Tableau1[[#This Row],[Qtt 2éme lot]],\"-\")","v":"-"},"-",{"$f":"IF(Tableau1[[#This Row],[2éme lot]]=\"-\",\"-\",IFERROR(IF(Q960=\"\",\"-\",INDEX(I:I,MATCH(Q960,C:C,0)+1)),\"-\"))","v":"-"},"-","-"]
[1715,"MD001107","LYNOX 250MG COMP. B/20","ACETAZOLAMIDE 250 MG","19LYN01002","01.04.2021","MG/EXP1",135,"MG/EXP1-E-059",null,0,null,null,237,"GROUPE SANTE LABORATOIRE","-",null,{"$f":"SUMIF(Tableau1[Description article],Tableau1[Produits],Tableau1[Emplacement])","v":0},null,{"$f":"Sheet1!$S961-Sheet1!$R961","v":0},"-","-","-",{"$f":"IFERROR(Tableau1[[#This Row],[THEO]]-Tableau1[[#This Row],[Qtt 2éme lot]],\"-\")","v":"-"},"-",{"$f":"IF(Tableau1[[#This Row],[2éme lot]]=\"-\",\"-\",IFERROR(IF(Q961=\"\",\"-\",INDEX(I:I,MATCH(Q961,C:C,0)+1)),\"-\"))","v":"-"},"-","-"]
[1717,"MD001111","LYSANXIA 10MG COMP. B/40","PRAZEPAM","19624007","30.09.2022","MG/EXP1",128,"MG/EXP1-BOX6-PSY-018",null,0,null,"PSY",174.3,"PFIZER PHARM ALGERIE SPA",{"$f":"IFERROR(IF(Q962=\"\",\"-\",INDEX(I:I,MATCH(Q962,C:C,0))),\"-\")","v":"-"},null,{"$f":"SUMIF(Tableau1[Description article],Tableau1[Produits],Tableau1[Emplacement])","v":0},null,{"$f":"Sheet1!$S962-Sheet1!$R962","v":0},{"$f":"IFERROR(IF(Q962=\"\",\"-\",INDEX(F:F,MATCH(Q962,C:C,0))),\"-\")","v":"-"},{"$f":"IFERROR(IF(Q962=\"\",\"-\",INDEX(E:E,MATCH(Q962,C:C,0))),\"-\")","v":"-"},{"$f":"IFERROR(IF(Q962=\"\",\"-\",INDEX(N:N,MATCH(Q962,C:C,0))),\"-\")","v":"-"},{"$f":"IFERROR(Tableau1[[#This Row],[THEO]]-Tableau1[[#This Row],[Qtt 2éme lot]],\"-\")","v":"-"},{"$f":"IF(IF(Q962=\"\",\"-\",INDEX(E:E,MATCH(Q962,C:C,0)))=IF(Q962=\"\",\"-\",INDEX(E:E,MATCH(Q962,C:C,1))),\"-\",IF(Q962=\"\",\"-\",INDEX(E:E,MATCH(Q962,C:C,1))))","v":"-"},{"$f":"IF(Tableau1[[#This Row],[2éme lot]]=\"-\",\"-\",IFERROR(IF(Q962=\"\",\"-\",INDEX(I:I,MATCH(Q962,C:C,0)+1)),\"-\"))","v":"-"},{"$f":"IFERROR(IF(Y962=\"\",\"-\",INDEX(N:N,MATCH(Y962,E:E,0))),\"-\")","v":"-"},{"$f":"IFERROR(IF(AA962=\"\",\"-\",INDEX(H:H,MATCH(Y962,E:E,0))),\"-\")","v":"-"}]
[1720,"MD001112","LYSOPAY CP. B/24 A SUCER -SANS SUCRE-","LYSOSYME / PAPAYER","75.31","01.11.2022","MG/EXP1",133,"MG/EXP1-G-025",null,0,null,null,664.8,"L.A.D.PHARMA SARL","-",null,{"$f":"SUMIF(Tableau1[Description article],Tableau1[Produits],Tableau1[Emplacement])","v":0},null,{"$f":"Sheet1!$S963-Sheet1!$R963","v":0},"-","-","-",{"$f":"IFERROR(Tableau1[[#This Row],[THEO]]-Tableau1[[#This Row],[Qtt 2éme lot]],\"-\")","v":"-"},"-",{"$f":"IF(Tableau1[[#This Row],[2éme lot]]=\"-\",\"-\",IFERROR(IF(Q963=\"\",\"-\",INDEX(I:I,MATCH(Q963,C:C,0)+1)),\"-\"))","v":"-"},"-","-"]
[1723,"MD001113","MAALOX MAUX D'ESTOMAC 3,5G/4G/100ML SUSP.BUV. B/01 FL/250ML","ALUMINIUM ET MAGNESIUM HYDROXYDE","19LOX066","01.06.2022","MG/EXP1",73,"MG/EXP1-D-003",null,0,null,null,180,"SANOFI AVENTIS ALGERIE SPA","-",null,{"$f":"SUMIF(Tableau1[Description article],Tableau1[Produits],Tableau1[Emplacement])","v":0},null,{"$f":"Sheet1!$S964-Sheet1!$R964","v":0},"-","-","-",{"$f":"IFERROR(Tableau1[[#This Row],[THEO]]-Tableau1[[#This Row],[Qtt 2éme lot]],\"-\")","v":"-"},"-",{"$f":"IF(Tableau1[[#This Row],[2éme lot]]=\"-\",\"-\",IFERROR(IF(Q964=\"\",\"-\",INDEX(I:I,MATCH(Q964,C:C,0)+1)),\"-\"))","v":"-"},"-","-"]
[1725,"MD004131","MADECOSID 2% PDRE FL/02 GR","ASIATICOSIDE","00423","01.05.2020","MG/EXP1",96,"MG/EXP1-G-006",null,0,null,null,168,"UPC SARL","-",null,{"$f":"SUMIF(Tableau1[Description article],Tableau1[Produits],Tableau1[Emplacement])","v":0},null,{"$f":"Sheet1!$S965-Sheet1!$R965","v":0},"-","-","-",{"$f":"IFERROR(Tableau1[[#This Row],[THEO]]-Tableau1[[#This Row],[Qtt 2éme lot]],\"-\")","v":"-"},"-",{"$f":"IF(Tableau1[[#This Row],[2éme lot]]=\"-\",\"-\",IFERROR(IF(Q965=\"\",\"-\",INDEX(I:I,MATCH(Q965,C:C,0)+1)),\"-\"))","v":"-"},"-","-"]
[1727,"MD001115","MAFEPAIN 500MG COMP.ENRO.SEC. B/20","ACIDE MEFENAMIQUE","110312","29.04.2022","MG/EXP1",231,"MG/EXP1-E-054",null,0,null,null,259.69,"SOCIETE SAOUDIENNE SPIMACO-ALGERIE-","-",null,{"$f":"SUMIF(Tableau1[Description article],Tableau1[Produits],Tableau1[Emplacement])","v":0},null,{"$f":"Sheet1!$S966-Sheet1!$R966","v":0},"-","-","-",{"$f":"IFERROR(Tableau1[[#This Row],[THEO]]-Tableau1[[#This Row],[Qtt 2éme lot]],\"-\")","v":"-"},"-",{"$f":"IF(Tableau1[[#This Row],[2éme lot]]=\"-\",\"-\",IFERROR(IF(Q966=\"\",\"-\",INDEX(I:I,MATCH(Q966,C:C,0)+1)),\"-\"))","v":"-"},"-","-"]
[1729,"PP00446","MAG 300MG COMP.EFF. B/20","MAGNESIUM/ VIT B1,B2,B6","993VAA","01.04.2022","MG/EXP1",79,"MG/EXP1-B-033",null,0,null,null,982.6,"BIOREAL PHARM SPA","-",null,{"$f":"SUMIF(Tableau1[Description article],Tableau1[Produits],Tableau1[Emplacement])","v":0},null,{"$f":"Sheet1!$S967-Sheet1!$R967","v":0},"-","-","-",{"$f":"IFERROR(Tableau1[[#This Row],[THEO]]-Tableau1[[#This Row],[Qtt 2éme lot]],\"-\")","v":"-"},"-",{"$f":"IF(Tableau1[[#This Row],[2éme lot]]=\"-\",\"-\",IFERROR(IF(Q967=\"\",\"-\",INDEX(I:I,MATCH(Q967,C:C,0)+1)),\"-\"))","v":"-"},"-","-"]
[1730,"PP00330","MAGNA 300MG.B/15 COMP.EFFER.",null,"700114","01.03.2022","MG/EXP1",43,"MG/EXP1-A-025",null,0,null,null,628.32,"EURL NATURE NOVEA SANTE","-",null,{"$f":"SUMIF(Tableau1[Description article],Tableau1[Produits],Tableau1[Emplacement])","v":0},null,{"$f":"Sheet1!$S968-Sheet1!$R968","v":0},"-","-","-",{"$f":"IFERROR(Tableau1[[#This Row],[THEO]]-Tableau1[[#This Row],[Qtt 2éme lot]],\"-\")","v":"-"},"-",{"$f":"IF(Tableau1[[#This Row],[2éme lot]]=\"-\",\"-\",IFERROR(IF(Q968=\"\",\"-\",INDEX(I:I,MATCH(Q968,C:C,0)+1)),\"-\"))","v":"-"},"-","-"]
[1734,"MD001117","MARVELON 0,03MG/0,15MG COMP. B/3X21","DESOGESTREL0.15MG/ ETHINYLESTRADIOL 0.03","R036542","31.10.2021","MG/EXP1",294,"MG/EXP1-F-038",null,0,null,null,335.29,"BIOPHARM SPA","-",null,{"$f":"SUMIF(Tableau1[Description article],Tableau1[Produits],Tableau1[Emplacement])","v":0},null,{"$f":"Sheet1!$S969-Sheet1!$R969","v":0},"-","-","-",{"$f":"IFERROR(Tableau1[[#This Row],[THEO]]-Tableau1[[#This Row],[Qtt 2éme lot]],\"-\")","v":"-"},"-",{"$f":"IF(Tableau1[[#This Row],[2éme lot]]=\"-\",\"-\",IFERROR(IF(Q969=\"\",\"-\",INDEX(I:I,MATCH(Q969,C:C,0)+1)),\"-\"))","v":"-"},"-","-"]
[1738,"MD002336","MATADOR 250MG COMP.PELLI. B/07","LEVOFLOXACINE HEMIHYDRATE EXPRIME EN LEVOFLOXACINE","29BT","01.11.2020","MG/EXP1",33,"MG/EXP1-B-051",null,0,null,null,979.47,"DAR AL DAWA SARL","-",null,{"$f":"SUMIF(Tableau1[Description article],Tableau1[Produits],Tableau1[Emplacement])","v":0},null,{"$f":"Sheet1!$S970-Sheet1!$R970","v":0},"-","-","-",{"$f":"IFERROR(Tableau1[[#This Row],[THEO]]-Tableau1[[#This Row],[Qtt 2éme lot]],\"-\")","v":"-"},"-",{"$f":"IF(Tableau1[[#This Row],[2éme lot]]=\"-\",\"-\",IFERROR(IF(Q970=\"\",\"-\",INDEX(I:I,MATCH(Q970,C:C,0)+1)),\"-\"))","v":"-"},"-","-"]
[1739,"MD001118","MATADOR 750 750MG COMP.PELLI. B/05","LEVOFLOXACINE HEMIHYDRATE","84DT","01.08.2020","MG/EXP1",5,"MG/EXP1-E-027",null,0,null,null,1757.12,"DAR AL DAWA SARL","-",null,{"$f":"SUMIF(Tableau1[Description article],Tableau1[Produits],Tableau1[Emplacement])","v":0},null,{"$f":"Sheet1!$S971-Sheet1!$R971","v":0},"-","-","-",{"$f":"IFERROR(Tableau1[[#This Row],[THEO]]-Tableau1[[#This Row],[Qtt 2éme lot]],\"-\")","v":"-"},"-",{"$f":"IF(Tableau1[[#This Row],[2éme lot]]=\"-\",\"-\",IFERROR(IF(Q971=\"\",\"-\",INDEX(I:I,MATCH(Q971,C:C,0)+1)),\"-\"))","v":"-"},"-","-"]
[1741,"MD001120","MAXIDROL 0,1G/350000UI/60000 0UI/100G PDE.OPHT. T/3,5G","DEXAMETHASON/NEOMYCIN SULFAT/POLYMYXINE","9GZH1A","01.04.2022","MG/EXP1",71,"MG/EXP1-F-045",null,0,null,null,181.85,"E.P.DIS EURAPHARMA SPA","-",null,{"$f":"SUMIF(Tableau1[Description article],Tableau1[Produits],Tableau1[Emplacement])","v":0},null,{"$f":"Sheet1!$S972-Sheet1!$R972","v":0},"-","-","-",{"$f":"IFERROR(Tableau1[[#This Row],[THEO]]-Tableau1[[#This Row],[Qtt 2éme lot]],\"-\")","v":"-"},"-",{"$f":"IF(Tableau1[[#This Row],[2éme lot]]=\"-\",\"-\",IFERROR(IF(Q972=\"\",\"-\",INDEX(I:I,MATCH(Q972,C:C,0)+1)),\"-\"))","v":"-"},"-","-"]
[1745,"MD001119","MAXIDROL 100MG/350 000 UI/60 0000 UI COLLY. FL/1ML","DEXAMETHASONE-NEOMYCINE-POLYMYXINE B","9GDA1B","01.02.2021","MG/EXP1",1,"MG/EXP1-C-031",null,0,null,null,126.62,"BIOPHARM SPA","-",null,{"$f":"SUMIF(Tableau1[Description article],Tableau1[Produits],Tableau1[Emplacement])","v":0},null,{"$f":"Sheet1!$S973-Sheet1!$R973","v":0},"-","-","-",{"$f":"IFERROR(Tableau1[[#This Row],[THEO]]-Tableau1[[#This Row],[Qtt 2éme lot]],\"-\")","v":"-"},"-",{"$f":"IF(Tableau1[[#This Row],[2éme lot]]=\"-\",\"-\",IFERROR(IF(Q973=\"\",\"-\",INDEX(I:I,MATCH(Q973,C:C,0)+1)),\"-\"))","v":"-"},"-","-"]
[1746,"MD001121","MAXILASE 20 000 U CEIP/100ML SRP.ENF.&AD. FL/125ML","ALPHA AMYLASE","19M075","01.04.2021","MG/EXP1",22,"MG/EXP1-G-004",null,0,null,null,166.51,"SANOFI AVENTIS ALGERIE SPA","-",null,{"$f":"SUMIF(Tableau1[Description article],Tableau1[Produits],Tableau1[Emplacement])","v":0},null,{"$f":"Sheet1!$S974-Sheet1!$R974","v":0},"-","-","-",{"$f":"IFERROR(Tableau1[[#This Row],[THEO]]-Tableau1[[#This Row],[Qtt 2éme lot]],\"-\")","v":"-"},"-",{"$f":"IF(Tableau1[[#This Row],[2éme lot]]=\"-\",\"-\",IFERROR(IF(Q974=\"\",\"-\",INDEX(I:I,MATCH(Q974,C:C,0)+1)),\"-\"))","v":"-"},"-","-"]
[1747,"MD004099","MAXILODRE 100MG/350 000 UI/60 0000 UI COLLY. FL/3ML","DEXAMETHASONE-NEOMYCINE-POLYMYXINE B","0026","01.09.2021","MG/EXP1",143,"MG/EXP1-B-009",null,0,null,null,126.95,"SARL GENCOPHARM","-",null,{"$f":"SUMIF(Tableau1[Description article],Tableau1[Produits],Tableau1[Emplacement])","v":0},null,{"$f":"Sheet1!$S975-Sheet1!$R975","v":0},"-","-","-",{"$f":"IFERROR(Tableau1[[#This Row],[THEO]]-Tableau1[[#This Row],[Qtt 2éme lot]],\"-\")","v":"-"},"-",{"$f":"IF(Tableau1[[#This Row],[2éme lot]]=\"-\",\"-\",IFERROR(IF(Q975=\"\",\"-\",INDEX(I:I,MATCH(Q975,C:C,0)+1)),\"-\"))","v":"-"},"-","-"]
[1748,"MD002201","MEBEVERINE BEKER 200MG GLES. B/30","MEBEVERINE","021719","01.04.2020","MG/EXP1",341,"MG/EXP1-B-006",null,0,null,null,306.23,"BEKER LABORATOIRES","-",null,{"$f":"SUMIF(Tableau1[Description article],Tableau1[Produits],Tableau1[Emplacement])","v":0},null,{"$f":"Sheet1!$S976-Sheet1!$R976","v":0},"-","-","-",{"$f":"IFERROR(Tableau1[[#This Row],[THEO]]-Tableau1[[#This Row],[Qtt 2éme lot]],\"-\")","v":"-"},"-",{"$f":"IF(Tableau1[[#This Row],[2éme lot]]=\"-\",\"-\",IFERROR(IF(Q976=\"\",\"-\",INDEX(I:I,MATCH(Q976,C:C,0)+1)),\"-\"))","v":"-"},"-","-"]
[1749,"MD001122","MEBEVERINE SAIDAL 100MG COMP. B/30","MEBEVERINE","0082","01.07.2021","MG/EXP1",134,"MG/EXP1-G-021",null,0,null,null,238.5,"SAIDAL UNITE CENTRE","-",null,{"$f":"SUMIF(Tableau1[Description article],Tableau1[Produits],Tableau1[Emplacement])","v":0},null,{"$f":"Sheet1!$S977-Sheet1!$R977","v":0},"-","-","-",{"$f":"IFERROR(Tableau1[[#This Row],[THEO]]-Tableau1[[#This Row],[Qtt 2éme lot]],\"-\")","v":"-"},"-",{"$f":"IF(Tableau1[[#This Row],[2éme lot]]=\"-\",\"-\",IFERROR(IF(Q977=\"\",\"-\",INDEX(I:I,MATCH(Q977,C:C,0)+1)),\"-\"))","v":"-"},"-","-"]
[1752,"PP00176","MEBO POMMADE T/15G",null,"0668","28.02.2024","MG/EXP1",164,"MG/EXP1-D-027",null,0,null,null,1087.67,"E.P.DIS EURAPHARMA SPA","-",null,{"$f":"SUMIF(Tableau1[Description article],Tableau1[Produits],Tableau1[Emplacement])","v":0},null,{"$f":"Sheet1!$S978-Sheet1!$R978","v":0},"-","-","-",{"$f":"IFERROR(Tableau1[[#This Row],[THEO]]-Tableau1[[#This Row],[Qtt 2éme lot]],\"-\")","v":"-"},"-",{"$f":"IF(Tableau1[[#This Row],[2éme lot]]=\"-\",\"-\",IFERROR(IF(Q978=\"\",\"-\",INDEX(I:I,MATCH(Q978,C:C,0)+1)),\"-\"))","v":"-"},"-","-"]
[1754,"PP00177","MEBO POMMADE T/30G",null,"0617","31.10.2023","MG/EXP1",2,"MG/EXP1-A-028",null,0,null,null,1745.66,"E.P.DIS EURAPHARMA SPA","-",null,{"$f":"SUMIF(Tableau1[Description article],Tableau1[Produits],Tableau1[Emplacement])","v":0},null,{"$f":"Sheet1!$S979-Sheet1!$R979","v":0},"-","-","-",{"$f":"IFERROR(Tableau1[[#This Row],[THEO]]-Tableau1[[#This Row],[Qtt 2éme lot]],\"-\")","v":"-"},"-",{"$f":"IF(Tableau1[[#This Row],[2éme lot]]=\"-\",\"-\",IFERROR(IF(Q979=\"\",\"-\",INDEX(I:I,MATCH(Q979,C:C,0)+1)),\"-\"))","v":"-"},"-","-"]
[1755,"MD001123","MEDILIUM 1MG/ML SUSP.BUV. FL/200ML + PIP.GRAD.","DOMPERIDONE","8068**","01.04.2021","MG/EXP1",72,"MG/EXP1-B-064",null,0,null,null,222.49,"INPHA MEDIS SPA","-",null,{"$f":"SUMIF(Tableau1[Description article],Tableau1[Produits],Tableau1[Emplacement])","v":0},null,{"$f":"Sheet1!$S980-Sheet1!$R980","v":0},"-","-","-",{"$f":"IFERROR(Tableau1[[#This Row],[THEO]]-Tableau1[[#This Row],[Qtt 2éme lot]],\"-\")","v":"-"},"-",{"$f":"IF(Tableau1[[#This Row],[2éme lot]]=\"-\",\"-\",IFERROR(IF(Q980=\"\",\"-\",INDEX(I:I,MATCH(Q980,C:C,0)+1)),\"-\"))","v":"-"},"-","-"]
[1758,"MD001125","MEGAMYLASE 3000 U CEIP COMP.ENRO. B/24","ALPHA-AMYLASE","3696701","01.09.2021","MG/EXP1",401,"MG/EXP1-D-050",null,0,null,null,594.02,"SARL ZENITH PHARM","-",null,{"$f":"SUMIF(Tableau1[Description article],Tableau1[Produits],Tableau1[Emplacement])","v":0},null,{"$f":"Sheet1!$S981-Sheet1!$R981","v":0},"-","-","-",{"$f":"IFERROR(Tableau1[[#This Row],[THEO]]-Tableau1[[#This Row],[Qtt 2éme lot]],\"-\")","v":"-"},"-",{"$f":"IF(Tableau1[[#This Row],[2éme lot]]=\"-\",\"-\",IFERROR(IF(Q981=\"\",\"-\",INDEX(I:I,MATCH(Q981,C:C,0)+1)),\"-\"))","v":"-"},"-","-"]
[1760,"PP00179","MELAGYN  JUNIOR GEL .FLC/200ML",null,"1903-DZA","01.04.2022","MG/EXP1",37,"MG/EXP1-A-055",null,0,null,null,1235,"BIOPHARM SPA","-",null,{"$f":"SUMIF(Tableau1[Description article],Tableau1[Produits],Tableau1[Emplacement])","v":0},null,{"$f":"Sheet1!$S982-Sheet1!$R982","v":0},"-","-","-",{"$f":"IFERROR(Tableau1[[#This Row],[THEO]]-Tableau1[[#This Row],[Qtt 2éme lot]],\"-\")","v":"-"},"-",{"$f":"IF(Tableau1[[#This Row],[2éme lot]]=\"-\",\"-\",IFERROR(IF(Q982=\"\",\"-\",INDEX(I:I,MATCH(Q982,C:C,0)+1)),\"-\"))","v":"-"},"-","-"]
[1762,"PP00180","MELAGYN GEL .FLC/200ML",null,"P07S","01.05.2022","MG/EXP1",11,"MG/EXP1-G-011",null,0,null,null,935,"BIOPHARM SPA","-",null,{"$f":"SUMIF(Tableau1[Description article],Tableau1[Produits],Tableau1[Emplacement])","v":0},null,{"$f":"Sheet1!$S983-Sheet1!$R983","v":0},"-","-","-",{"$f":"IFERROR(Tableau1[[#This Row],[THEO]]-Tableau1[[#This Row],[Qtt 2éme lot]],\"-\")","v":"-"},"-",{"$f":"IF(Tableau1[[#This Row],[2éme lot]]=\"-\",\"-\",IFERROR(IF(Q983=\"\",\"-\",INDEX(I:I,MATCH(Q983,C:C,0)+1)),\"-\"))","v":"-"},"-","-"]
[1764,"PP00181","MELASEPT GEL CORPOREL .F/500ML",null,"106208","01.06.2021","MG/EXP1",2,"MG/EXP1-A-012",null,0,null,null,1400,"BIOPHARM SPA","-",null,{"$f":"SUMIF(Tableau1[Description article],Tableau1[Produits],Tableau1[Emplacement])","v":0},null,{"$f":"Sheet1!$S984-Sheet1!$R984","v":0},"-","-","-",{"$f":"IFERROR(Tableau1[[#This Row],[THEO]]-Tableau1[[#This Row],[Qtt 2éme lot]],\"-\")","v":"-"},"-",{"$f":"IF(Tableau1[[#This Row],[2éme lot]]=\"-\",\"-\",IFERROR(IF(Q984=\"\",\"-\",INDEX(I:I,MATCH(Q984,C:C,0)+1)),\"-\"))","v":"-"},"-","-"]
[1765,"MD002283","MEMANTINE BEKER 10MG COMP.PELLI.SEC. B/30","CHLORHYDRATE DE MEMANTINE","003719","16.01.2021","MG/EXP1",19,"MG/EXP1-G-009",null,0,null,null,1119.5,"BEKER LABORATOIRES","-",null,{"$f":"SUMIF(Tableau1[Description article],Tableau1[Produits],Tableau1[Emplacement])","v":0},null,{"$f":"Sheet1!$S985-Sheet1!$R985","v":0},"-","-","-",{"$f":"IFERROR(Tableau1[[#This Row],[THEO]]-Tableau1[[#This Row],[Qtt 2éme lot]],\"-\")","v":"-"},"-",{"$f":"IF(Tableau1[[#This Row],[2éme lot]]=\"-\",\"-\",IFERROR(IF(Q985=\"\",\"-\",INDEX(I:I,MATCH(Q985,C:C,0)+1)),\"-\"))","v":"-"},"-","-"]
[1767,"MD002284","MEMANTINE BEKER 20MG COMP.PELLI. B/30","CHLORHYDRATE DE MEMANTINE","003819","16.01.2021","MG/EXP1",26,"MG/EXP1-D-035",null,0,null,null,1456.99,"BEKER LABORATOIRES","-",null,{"$f":"SUMIF(Tableau1[Description article],Tableau1[Produits],Tableau1[Emplacement])","v":0},null,{"$f":"Sheet1!$S986-Sheet1!$R986","v":0},"-","-","-",{"$f":"IFERROR(Tableau1[[#This Row],[THEO]]-Tableau1[[#This Row],[Qtt 2éme lot]],\"-\")","v":"-"},"-",{"$f":"IF(Tableau1[[#This Row],[2éme lot]]=\"-\",\"-\",IFERROR(IF(Q986=\"\",\"-\",INDEX(I:I,MATCH(Q986,C:C,0)+1)),\"-\"))","v":"-"},"-","-"]
[1769,"MD001130","MENOPUR 75UI FSH/75UI LH PDRE.& SOLV. B/05 FL.PDRE. + 05 FL.SOLV/1ML","MENOTROPINE - GONADOTROPHINE EXTRACTIVE-","R11719C/R01011A","01.03.2021","MG/EXP1",14,"MG/EXP1-BOX6",null,0,null,"GLAC",10976.42,"BIOPHARM SPA","-",null,{"$f":"SUMIF(Tableau1[Description article],Tableau1[Produits],Tableau1[Emplacement])","v":0},null,{"$f":"Sheet1!$S987-Sheet1!$R987","v":0},"-","-","-",{"$f":"IFERROR(Tableau1[[#This Row],[THEO]]-Tableau1[[#This Row],[Qtt 2éme lot]],\"-\")","v":"-"},"-",{"$f":"IF(Tableau1[[#This Row],[2éme lot]]=\"-\",\"-\",IFERROR(IF(Q987=\"\",\"-\",INDEX(I:I,MATCH(Q987,C:C,0)+1)),\"-\"))","v":"-"},"-","-"]
[1771,"MD001131","MENTEX 12,5MG/15MG/30MG/125MG/57MG/1MG/5 ML SRP. FL/125ML + BCHN. DOSEUR","DIPHENHYDRAMINE / DEXTROMETHORPHANE/PSEU","191297","01.07.2022","MG/EXP1",85,"MG/EXP1-A-024",null,0,null,null,211.2,"EL KENDI INDUSTRIE DE MEDICAMENTS SPA","-",null,{"$f":"SUMIF(Tableau1[Description article],Tableau1[Produits],Tableau1[Emplacement])","v":0},null,{"$f":"Sheet1!$S988-Sheet1!$R988","v":0},"-","-","-",{"$f":"IFERROR(Tableau1[[#This Row],[THEO]]-Tableau1[[#This Row],[Qtt 2éme lot]],\"-\")","v":"-"},"-",{"$f":"IF(Tableau1[[#This Row],[2éme lot]]=\"-\",\"-\",IFERROR(IF(Q988=\"\",\"-\",INDEX(I:I,MATCH(Q988,C:C,0)+1)),\"-\"))","v":"-"},"-","-"]
[1773,"MD001131","MENTEX 12,5MG/15MG/30MG/125MG/57MG/1MG/5 ML SRP. FL/125ML + BCHN. DOSEUR","DIPHENHYDRAMINE / DEXTROMETHORPHANE/PSEU","191297","01.07.2022","MG/EXP1",56,"MG/EXP1-G-019",null,0,null,null,211.2,"EL KENDI INDUSTRIE DE MEDICAMENTS SPA","-",null,{"$f":"SUMIF(Tableau1[Description article],Tableau1[Produits],Tableau1[Emplacement])","v":0},null,{"$f":"Sheet1!$S989-Sheet1!$R989","v":0},"-","-","-",{"$f":"IFERROR(Tableau1[[#This Row],[THEO]]-Tableau1[[#This Row],[Qtt 2éme lot]],\"-\")","v":"-"},"-",{"$f":"IF(Tableau1[[#This Row],[2éme lot]]=\"-\",\"-\",IFERROR(IF(Q989=\"\",\"-\",INDEX(I:I,MATCH(Q989,C:C,0)+1)),\"-\"))","v":"-"},"-","-"]
[1774,"MD001132","MEPRENAL 20MG PDRE.SOL.INJ. B/01 + 01","METHYLPREDNISOLONE","213","28.02.2022","MG/EXP1",180,"MG/EXP1-C-048",null,0,null,null,143.31,"SOPHAL SOCIETE PHARMACEUTIQUE ALGERIENNE","-",null,{"$f":"SUMIF(Tableau1[Description article],Tableau1[Produits],Tableau1[Emplacement])","v":0},null,{"$f":"Sheet1!$S990-Sheet1!$R990","v":0},"-","-","-",{"$f":"IFERROR(Tableau1[[#This Row],[THEO]]-Tableau1[[#This Row],[Qtt 2éme lot]],\"-\")","v":"-"},"-",{"$f":"IF(Tableau1[[#This Row],[2éme lot]]=\"-\",\"-\",IFERROR(IF(Q990=\"\",\"-\",INDEX(I:I,MATCH(Q990,C:C,0)+1)),\"-\"))","v":"-"},"-","-"]
[1776,"MD001133","MEPRENAL 40MG PDRE.SOL.INJ. B/01","METHYLPREDNISOLONE","545","31.07.2022","MG/EXP1",565,"MG/EXP1-B-034",null,0,null,null,174.47,"SOPHAL SOCIETE PHARMACEUTIQUE ALGERIENNE","-",null,{"$f":"SUMIF(Tableau1[Description article],Tableau1[Produits],Tableau1[Emplacement])","v":0},null,{"$f":"Sheet1!$S991-Sheet1!$R991","v":0},"-","-","-",{"$f":"IFERROR(Tableau1[[#This Row],[THEO]]-Tableau1[[#This Row],[Qtt 2éme lot]],\"-\")","v":"-"},"-",{"$f":"IF(Tableau1[[#This Row],[2éme lot]]=\"-\",\"-\",IFERROR(IF(Q991=\"\",\"-\",INDEX(I:I,MATCH(Q991,C:C,0)+1)),\"-\"))","v":"-"},"-","-"]
[1780,"MD001134","MERCILON 0,02MG/0,15MG COMP. B/21","ETHINYLESTRADIOL/DESOGESTREL","S007731","31.12.2021","MG/EXP1",30,"MG/EXP1-F-016",null,0,null,null,332.74,"AT PHARMA SPA","-",null,{"$f":"SUMIF(Tableau1[Description article],Tableau1[Produits],Tableau1[Emplacement])","v":0},null,{"$f":"Sheet1!$S992-Sheet1!$R992","v":0},"-","-","-",{"$f":"IFERROR(Tableau1[[#This Row],[THEO]]-Tableau1[[#This Row],[Qtt 2éme lot]],\"-\")","v":"-"},"-",{"$f":"IF(Tableau1[[#This Row],[2éme lot]]=\"-\",\"-\",IFERROR(IF(Q992=\"\",\"-\",INDEX(I:I,MATCH(Q992,C:C,0)+1)),\"-\"))","v":"-"},"-","-"]
[1781,"MD001134","MERCILON 0,02MG/0,15MG COMP. B/21","ETHINYLESTRADIOL/DESOGESTREL","S007731","31.12.2021","MG/EXP1",183,"MG/EXP1-B-015",null,0,null,null,332.74,"AT PHARMA SPA","-",null,{"$f":"SUMIF(Tableau1[Description article],Tableau1[Produits],Tableau1[Emplacement])","v":0},null,{"$f":"Sheet1!$S993-Sheet1!$R993","v":0},"-","-","-",{"$f":"IFERROR(Tableau1[[#This Row],[THEO]]-Tableau1[[#This Row],[Qtt 2éme lot]],\"-\")","v":"-"},"-",{"$f":"IF(Tableau1[[#This Row],[2éme lot]]=\"-\",\"-\",IFERROR(IF(Q993=\"\",\"-\",INDEX(I:I,MATCH(Q993,C:C,0)+1)),\"-\"))","v":"-"},"-","-"]
[1784,"MD001137","METAGYL 125MG/5ML SUSP.BUV. B/01 FL/125ML + GBL.DOSEUR","METRONIDAZOLE","8A18","30.11.2020","MG/EXP1",17,"MG/EXP1-D-056",null,0,null,null,163.67,"INPHA MEDIS SPA","-",null,{"$f":"SUMIF(Tableau1[Description article],Tableau1[Produits],Tableau1[Emplacement])","v":0},null,{"$f":"Sheet1!$S994-Sheet1!$R994","v":0},"-","-","-",{"$f":"IFERROR(Tableau1[[#This Row],[THEO]]-Tableau1[[#This Row],[Qtt 2éme lot]],\"-\")","v":"-"},"-",{"$f":"IF(Tableau1[[#This Row],[2éme lot]]=\"-\",\"-\",IFERROR(IF(Q994=\"\",\"-\",INDEX(I:I,MATCH(Q994,C:C,0)+1)),\"-\"))","v":"-"},"-","-"]
[1785,"MD001137","METAGYL 125MG/5ML SUSP.BUV. B/01 FL/125ML + GBL.DOSEUR","METRONIDAZOLE","8A19","01.11.2020","MG/EXP1",104,"MG/EXP1-D-064",null,0,null,null,163.67,"INPHA MEDIS SPA","-",null,{"$f":"SUMIF(Tableau1[Description article],Tableau1[Produits],Tableau1[Emplacement])","v":0},null,{"$f":"Sheet1!$S995-Sheet1!$R995","v":0},"-","-","-",{"$f":"IFERROR(Tableau1[[#This Row],[THEO]]-Tableau1[[#This Row],[Qtt 2éme lot]],\"-\")","v":"-"},"-",{"$f":"IF(Tableau1[[#This Row],[2éme lot]]=\"-\",\"-\",IFERROR(IF(Q995=\"\",\"-\",INDEX(I:I,MATCH(Q995,C:C,0)+1)),\"-\"))","v":"-"},"-","-"]
[1786,"MD004053","METAZID 10MG COMP B/30 -BIOPHARM-","Ezétimibe","009","28.09.2020","MG/EXP1",299,"MG/EXP1-E-030",null,0,null,null,2897.3,"BIOPHARM SPA","-",null,{"$f":"SUMIF(Tableau1[Description article],Tableau1[Produits],Tableau1[Emplacement])","v":0},null,{"$f":"Sheet1!$S996-Sheet1!$R996","v":0},"-","-","-",{"$f":"IFERROR(Tableau1[[#This Row],[THEO]]-Tableau1[[#This Row],[Qtt 2éme lot]],\"-\")","v":"-"},"-",{"$f":"IF(Tableau1[[#This Row],[2éme lot]]=\"-\",\"-\",IFERROR(IF(Q996=\"\",\"-\",INDEX(I:I,MATCH(Q996,C:C,0)+1)),\"-\"))","v":"-"},"-","-"]
[1787,"MD001139","METEOSPASMYL 60MG/300MG CAPS. B/20","ALVERINE CITRATE+SIMETHICONE","VN8301","01.05.2022","MG/EXP1",392,"MG/EXP1-G-043",null,0,null,null,283.9,"BIOPHARM SPA","-",null,{"$f":"SUMIF(Tableau1[Description article],Tableau1[Produits],Tableau1[Emplacement])","v":0},null,{"$f":"Sheet1!$S997-Sheet1!$R997","v":0},"-","-","-",{"$f":"IFERROR(Tableau1[[#This Row],[THEO]]-Tableau1[[#This Row],[Qtt 2éme lot]],\"-\")","v":"-"},"-",{"$f":"IF(Tableau1[[#This Row],[2éme lot]]=\"-\",\"-\",IFERROR(IF(Q997=\"\",\"-\",INDEX(I:I,MATCH(Q997,C:C,0)+1)),\"-\"))","v":"-"},"-","-"]
[1789,"MD001145","METHOTREXAT EBEWE 2,5MG COMP. B/50","METHOTREXATE","JN5287","01.04.2022","MG/EXP1",292,"MG/EXP1-A-017",null,0,null,null,688.41,"SANDOZ SPA","-",null,{"$f":"SUMIF(Tableau1[Description article],Tableau1[Produits],Tableau1[Emplacement])","v":0},null,{"$f":"Sheet1!$S998-Sheet1!$R998","v":0},"-","-","-",{"$f":"IFERROR(Tableau1[[#This Row],[THEO]]-Tableau1[[#This Row],[Qtt 2éme lot]],\"-\")","v":"-"},"-",{"$f":"IF(Tableau1[[#This Row],[2éme lot]]=\"-\",\"-\",IFERROR(IF(Q998=\"\",\"-\",INDEX(I:I,MATCH(Q998,C:C,0)+1)),\"-\"))","v":"-"},"-","-"]
[1791,"MD001147","METOCLAM 0,1% SOL.BUV. F/200ML","METOCLOPRAMIDE","07/2019","01.11.2022","MG/EXP1",60,"MG/EXP1-C-032",null,0,null,null,160.49,"LAM SARL","-",null,{"$f":"SUMIF(Tableau1[Description article],Tableau1[Produits],Tableau1[Emplacement])","v":0},null,{"$f":"Sheet1!$S999-Sheet1!$R999","v":0},"-","-","-",{"$f":"IFERROR(Tableau1[[#This Row],[THEO]]-Tableau1[[#This Row],[Qtt 2éme lot]],\"-\")","v":"-"},"-",{"$f":"IF(Tableau1[[#This Row],[2éme lot]]=\"-\",\"-\",IFERROR(IF(Q999=\"\",\"-\",INDEX(I:I,MATCH(Q999,C:C,0)+1)),\"-\"))","v":"-"},"-","-"]
[1793,"MD001153","METROGYL 500MG COMP.SEC. B/20","METRONIDAZOLE","023","01.11.2021","MG/EXP1",90,"MG/EXP1-C-061",null,0,null,null,173.29,"SAIDAL UNITE CENTRE","-",null,{"$f":"SUMIF(Tableau1[Description article],Tableau1[Produits],Tableau1[Emplacement])","v":0},null,{"$f":"Sheet1!$S1000-Sheet1!$R1000","v":0},"-","-","-",{"$f":"IFERROR(Tableau1[[#This Row],[THEO]]-Tableau1[[#This Row],[Qtt 2éme lot]],\"-\")","v":"-"},"-",{"$f":"IF(Tableau1[[#This Row],[2éme lot]]=\"-\",\"-\",IFERROR(IF(Q1000=\"\",\"-\",INDEX(I:I,MATCH(Q1000,C:C,0)+1)),\"-\"))","v":"-"},"-","-"]
[1795,"MD001154","METRONIDAZOLE BEKER 250MG CP. B/30","METRONIDAZOLE","048519","01.04.2022","MG/EXP1",385,"MG/EXP1-G-018",null,0,null,null,158,"BEKER LABORATOIRES","-",null,{"$f":"SUMIF(Tableau1[Description article],Tableau1[Produits],Tableau1[Emplacement])","v":0},null,{"$f":"Sheet1!$S1001-Sheet1!$R1001","v":0},"-","-","-",{"$f":"IFERROR(Tableau1[[#This Row],[THEO]]-Tableau1[[#This Row],[Qtt 2éme lot]],\"-\")","v":"-"},"-",{"$f":"IF(Tableau1[[#This Row],[2éme lot]]=\"-\",\"-\",IFERROR(IF(Q1001=\"\",\"-\",INDEX(I:I,MATCH(Q1001,C:C,0)+1)),\"-\"))","v":"-"},"-","-"]
[1796,"MD001156","METRONIDAZOLE HUP 500MG COMP.SEC. B/20","METRONIDAZOLE","065","01.12.2020","MG/EXP1",263,"MG/EXP1-E-038",null,0,null,null,173.29,"HUP.P PHARMA SARL","-",null,{"$f":"SUMIF(Tableau1[Description article],Tableau1[Produits],Tableau1[Emplacement])","v":0},null,{"$f":"Sheet1!$S1002-Sheet1!$R1002","v":0},"-","-","-",{"$f":"IFERROR(Tableau1[[#This Row],[THEO]]-Tableau1[[#This Row],[Qtt 2éme lot]],\"-\")","v":"-"},"-",{"$f":"IF(Tableau1[[#This Row],[2éme lot]]=\"-\",\"-\",IFERROR(IF(Q1002=\"\",\"-\",INDEX(I:I,MATCH(Q1002,C:C,0)+1)),\"-\"))","v":"-"},"-","-"]
[1799,"MD001157","METRONIDAZOLE MM 500MG COMP.PELLI. B/20","METRONIDAZOLE","352","01.04.2021","MG/EXP1",13,"MG/EXP1-A-001",null,0,null,null,199.12,"MM LABORATOIRE MM SARL","-",null,{"$f":"SUMIF(Tableau1[Description article],Tableau1[Produits],Tableau1[Emplacement])","v":0},null,{"$f":"Sheet1!$S1003-Sheet1!$R1003","v":0},"-","-","-",{"$f":"IFERROR(Tableau1[[#This Row],[THEO]]-Tableau1[[#This Row],[Qtt 2éme lot]],\"-\")","v":"-"},"-",{"$f":"IF(Tableau1[[#This Row],[2éme lot]]=\"-\",\"-\",IFERROR(IF(Q1003=\"\",\"-\",INDEX(I:I,MATCH(Q1003,C:C,0)+1)),\"-\"))","v":"-"},"-","-"]
[1800,"MD001158","MEVAKINE 200MG/ML SOL.BUV. FL/100ML + PIPT.GRAD.","VALPROATE DE SODIUM","02/17","01.07.2020","MG/EXP1",1,"MG/EXP1-BOX6-PSY-010",null,0,null,null,418.39,"LAM SARL","-",null,{"$f":"SUMIF(Tableau1[Description article],Tableau1[Produits],Tableau1[Emplacement])","v":0},null,{"$f":"Sheet1!$S1004-Sheet1!$R1004","v":0},"-","-","-",{"$f":"IFERROR(Tableau1[[#This Row],[THEO]]-Tableau1[[#This Row],[Qtt 2éme lot]],\"-\")","v":"-"},"-",{"$f":"IF(Tableau1[[#This Row],[2éme lot]]=\"-\",\"-\",IFERROR(IF(Q1004=\"\",\"-\",INDEX(I:I,MATCH(Q1004,C:C,0)+1)),\"-\"))","v":"-"},"-","-"]
[1803,"MD001161","MICARDIS 40MG COMP. B/28","TELMISARTAN","009","29.09.2022","MG/EXP1",243,"MG/EXP1-BOX6-007",null,0,null,null,1201.5,"BIOPHARM SPA","-",null,{"$f":"SUMIF(Tableau1[Description article],Tableau1[Produits],Tableau1[Emplacement])","v":0},null,{"$f":"Sheet1!$S1005-Sheet1!$R1005","v":0},"-","-","-",{"$f":"IFERROR(Tableau1[[#This Row],[THEO]]-Tableau1[[#This Row],[Qtt 2éme lot]],\"-\")","v":"-"},"-",{"$f":"IF(Tableau1[[#This Row],[2éme lot]]=\"-\",\"-\",IFERROR(IF(Q1005=\"\",\"-\",INDEX(I:I,MATCH(Q1005,C:C,0)+1)),\"-\"))","v":"-"},"-","-"]
[1805,"MD001162","MICARDIS 80MG COMP. B/28","TELMISARTAN","015","01.09.2022","MG/EXP1",62,"MG/EXP1-BOX6-007",null,0,null,null,1201.5,"BIOPHARM SPA","-",null,{"$f":"SUMIF(Tableau1[Description article],Tableau1[Produits],Tableau1[Emplacement])","v":0},null,{"$f":"Sheet1!$S1006-Sheet1!$R1006","v":0},"-","-","-",{"$f":"IFERROR(Tableau1[[#This Row],[THEO]]-Tableau1[[#This Row],[Qtt 2éme lot]],\"-\")","v":"-"},"-",{"$f":"IF(Tableau1[[#This Row],[2éme lot]]=\"-\",\"-\",IFERROR(IF(Q1006=\"\",\"-\",INDEX(I:I,MATCH(Q1006,C:C,0)+1)),\"-\"))","v":"-"},"-","-"]
[1807,"MD001166","MICOTYDE 10MUI/100MG/250MG/100G PDE.DERM. T/15G","NYSTATINE-TRIAMCINOLOL","19055*","01.02.2022","MG/EXP1",285,"MG/EXP1-C-014",null,0,null,null,154.28,"AFRO PHARM SPA","-",null,{"$f":"SUMIF(Tableau1[Description article],Tableau1[Produits],Tableau1[Emplacement])","v":0},null,{"$f":"Sheet1!$S1007-Sheet1!$R1007","v":0},"-","-","-",{"$f":"IFERROR(Tableau1[[#This Row],[THEO]]-Tableau1[[#This Row],[Qtt 2éme lot]],\"-\")","v":"-"},"-",{"$f":"IF(Tableau1[[#This Row],[2éme lot]]=\"-\",\"-\",IFERROR(IF(Q1007=\"\",\"-\",INDEX(I:I,MATCH(Q1007,C:C,0)+1)),\"-\"))","v":"-"},"-","-"]
[1809,"MD001167","MICROGYNON 0,15MG/0,03MG COMP.ENRO. B/63","LEVONORGESTREL/ETHINYLESTRADIOL","44M","31.03.2024","MG/EXP1",127,"MG/EXP1-A-041",null,0,null,null,263.8,"SOMEDIAL S.P.A","-",null,{"$f":"SUMIF(Tableau1[Description article],Tableau1[Produits],Tableau1[Emplacement])","v":0},null,{"$f":"Sheet1!$S1008-Sheet1!$R1008","v":0},"-","-","-",{"$f":"IFERROR(Tableau1[[#This Row],[THEO]]-Tableau1[[#This Row],[Qtt 2éme lot]],\"-\")","v":"-"},"-",{"$f":"IF(Tableau1[[#This Row],[2éme lot]]=\"-\",\"-\",IFERROR(IF(Q1008=\"\",\"-\",INDEX(I:I,MATCH(Q1008,C:C,0)+1)),\"-\"))","v":"-"},"-","-"]
[1811,"MD001168","MICROVAL 0,03MG COMP. B/28","LEVONORGESTREL","CA9372*","28.02.2022","MG/EXP1",295,"MG/EXP1-H-004",null,0,null,null,167.37,"PFIZER PHARM ALGERIE SPA","-",null,{"$f":"SUMIF(Tableau1[Description article],Tableau1[Produits],Tableau1[Emplacement])","v":0},null,{"$f":"Sheet1!$S1009-Sheet1!$R1009","v":0},"-","-","-",{"$f":"IFERROR(Tableau1[[#This Row],[THEO]]-Tableau1[[#This Row],[Qtt 2éme lot]],\"-\")","v":"-"},"-",{"$f":"IF(Tableau1[[#This Row],[2éme lot]]=\"-\",\"-\",IFERROR(IF(Q1009=\"\",\"-\",INDEX(I:I,MATCH(Q1009,C:C,0)+1)),\"-\"))","v":"-"},"-","-"]
[1815,"MD001169","MIGRAZEN 0,5MG DE PIZOTIFENE (0,73MG DE MALATE) COMP.PELLI. B/50","PIZOTIFENE","002/19","01.05.2022","MG/EXP1",159,"MG/EXP1-A-065",null,0,null,null,244.2,"PHARMALLIANCE EURL","-",null,{"$f":"SUMIF(Tableau1[Description article],Tableau1[Produits],Tableau1[Emplacement])","v":0},null,{"$f":"Sheet1!$S1010-Sheet1!$R1010","v":0},"-","-","-",{"$f":"IFERROR(Tableau1[[#This Row],[THEO]]-Tableau1[[#This Row],[Qtt 2éme lot]],\"-\")","v":"-"},"-",{"$f":"IF(Tableau1[[#This Row],[2éme lot]]=\"-\",\"-\",IFERROR(IF(Q1010=\"\",\"-\",INDEX(I:I,MATCH(Q1010,C:C,0)+1)),\"-\"))","v":"-"},"-","-"]
[1817,"MD002257","MIGREX 50MG COMP.PELLI. B/06","SUMATRIPTAN SUCCINATE","090119","01.10.2021","MG/EXP1",40,"MG/EXP1-E-010",null,0,null,null,1255.4,"BEKER LABORATOIRES","-",null,{"$f":"SUMIF(Tableau1[Description article],Tableau1[Produits],Tableau1[Emplacement])","v":0},null,{"$f":"Sheet1!$S1011-Sheet1!$R1011","v":0},"-","-","-",{"$f":"IFERROR(Tableau1[[#This Row],[THEO]]-Tableau1[[#This Row],[Qtt 2éme lot]],\"-\")","v":"-"},"-",{"$f":"IF(Tableau1[[#This Row],[2éme lot]]=\"-\",\"-\",IFERROR(IF(Q1011=\"\",\"-\",INDEX(I:I,MATCH(Q1011,C:C,0)+1)),\"-\"))","v":"-"},"-","-"]
[1818,"MD001171","MINIDRIL 0,15MG/0,03MG COMP. B/63","LEVONORGESTREL/ETHINYLESTRADIOL","AN1654","30.11.2021","MG/EXP1",25,"MG/EXP1-G-029",null,0,null,null,293.64,"PFIZER PHARM ALGERIE SPA","-",null,{"$f":"SUMIF(Tableau1[Description article],Tableau1[Produits],Tableau1[Emplacement])","v":0},null,{"$f":"Sheet1!$S1012-Sheet1!$R1012","v":0},"-","-","-",{"$f":"IFERROR(Tableau1[[#This Row],[THEO]]-Tableau1[[#This Row],[Qtt 2éme lot]],\"-\")","v":"-"},"-",{"$f":"IF(Tableau1[[#This Row],[2éme lot]]=\"-\",\"-\",IFERROR(IF(Q1012=\"\",\"-\",INDEX(I:I,MATCH(Q1012,C:C,0)+1)),\"-\"))","v":"-"},"-","-"]
[1820,"MD001172","MINIRINMELT 60PG/LYOPH. LYOPH.ORL.SUBLING. B/30","DESMOPRESSINE","1712150","01.11.2021","MG/EXP1",139,"MG/EXP1-D-033",null,0,null,null,2492.74,"BIOPHARM SPA","-",null,{"$f":"SUMIF(Tableau1[Description article],Tableau1[Produits],Tableau1[Emplacement])","v":0},null,{"$f":"Sheet1!$S1013-Sheet1!$R1013","v":0},"-","-","-",{"$f":"IFERROR(Tableau1[[#This Row],[THEO]]-Tableau1[[#This Row],[Qtt 2éme lot]],\"-\")","v":"-"},"-",{"$f":"IF(Tableau1[[#This Row],[2éme lot]]=\"-\",\"-\",IFERROR(IF(Q1013=\"\",\"-\",INDEX(I:I,MATCH(Q1013,C:C,0)+1)),\"-\"))","v":"-"},"-","-"]
[1821,"MD001174","MINOXIDIL NS 0,02 SOL.P.APPL.CUT. B/01 FL/120ML + PULV. + PIPT.GRAD.","MINOXIDIL","09905","01.11.2022","MG/EXP1",60,"MG/EXP1-C-039",null,0,null,null,1650,"PHARMIDAL SARL","-",null,{"$f":"SUMIF(Tableau1[Description article],Tableau1[Produits],Tableau1[Emplacement])","v":0},null,{"$f":"Sheet1!$S1014-Sheet1!$R1014","v":0},"-","-","-",{"$f":"IFERROR(Tableau1[[#This Row],[THEO]]-Tableau1[[#This Row],[Qtt 2éme lot]],\"-\")","v":"-"},"-",{"$f":"IF(Tableau1[[#This Row],[2éme lot]]=\"-\",\"-\",IFERROR(IF(Q1014=\"\",\"-\",INDEX(I:I,MATCH(Q1014,C:C,0)+1)),\"-\"))","v":"-"},"-","-"]
[1822,"MD001175","MINOXIDIL NS 0,05 SOL.P.APPL.LOC. B/01 FL/120ML + PULV. + PIPT.GRAD.","MINOXIDIL","10903","01.10.2021","MG/EXP1",60,"MG/EXP1-E-036",null,0,null,null,1908.4,"PHARMIDAL SARL","-",null,{"$f":"SUMIF(Tableau1[Description article],Tableau1[Produits],Tableau1[Emplacement])","v":0},null,{"$f":"Sheet1!$S1015-Sheet1!$R1015","v":0},"-","-","-",{"$f":"IFERROR(Tableau1[[#This Row],[THEO]]-Tableau1[[#This Row],[Qtt 2éme lot]],\"-\")","v":"-"},"-",{"$f":"IF(Tableau1[[#This Row],[2éme lot]]=\"-\",\"-\",IFERROR(IF(Q1015=\"\",\"-\",INDEX(I:I,MATCH(Q1015,C:C,0)+1)),\"-\"))","v":"-"},"-","-"]
[1823,"MD001176","MIRENA 20|JG/24H 52MG/DISPO DISPOSITIF INTRA-UTERIN STERILE MUNI D'INSERTEUR","LEVONORGESTREL","TU02DRP","01.05.2022","MG/EXP1",5,"MG/EXP1-BOX6-021",null,0,null,"CHER",13023.3,"UPC SARL","-",null,{"$f":"SUMIF(Tableau1[Description article],Tableau1[Produits],Tableau1[Emplacement])","v":0},null,{"$f":"Sheet1!$S1016-Sheet1!$R1016","v":0},"-","-","-",{"$f":"IFERROR(Tableau1[[#This Row],[THEO]]-Tableau1[[#This Row],[Qtt 2éme lot]],\"-\")","v":"-"},"-",{"$f":"IF(Tableau1[[#This Row],[2éme lot]]=\"-\",\"-\",IFERROR(IF(Q1016=\"\",\"-\",INDEX(I:I,MATCH(Q1016,C:C,0)+1)),\"-\"))","v":"-"},"-","-"]
[1824,"MD001178","MIXTARD 30 HM PENFILL 100UI/ML SUSP.INJ. B/05 CART/3ML","INSULINE","HS65W05*","01.08.2020","MG/EXP1",3,"MG/EXP1-BOX6",null,0,null,"GLAC",2666.26,"ALDAPH SPA","-",null,{"$f":"SUMIF(Tableau1[Description article],Tableau1[Produits],Tableau1[Emplacement])","v":0},null,{"$f":"Sheet1!$S1017-Sheet1!$R1017","v":0},"-","-","-",{"$f":"IFERROR(Tableau1[[#This Row],[THEO]]-Tableau1[[#This Row],[Qtt 2éme lot]],\"-\")","v":"-"},"-",{"$f":"IF(Tableau1[[#This Row],[2éme lot]]=\"-\",\"-\",IFERROR(IF(Q1017=\"\",\"-\",INDEX(I:I,MATCH(Q1017,C:C,0)+1)),\"-\"))","v":"-"},"-","-"]
[1825,"MD001179","MODENUM 10MG/2ML SOL.INJ.IM.\\IV. B/10","METOCLOPRAMIDE CHLORHYDRATE","0033","01.11.2022","MG/EXP1",5,"MG/EXP1-G-011",null,0,null,null,264,"PROVIVO SPA","-",null,{"$f":"SUMIF(Tableau1[Description article],Tableau1[Produits],Tableau1[Emplacement])","v":0},null,{"$f":"Sheet1!$S1018-Sheet1!$R1018","v":0},"-","-","-",{"$f":"IFERROR(Tableau1[[#This Row],[THEO]]-Tableau1[[#This Row],[Qtt 2éme lot]],\"-\")","v":"-"},"-",{"$f":"IF(Tableau1[[#This Row],[2éme lot]]=\"-\",\"-\",IFERROR(IF(Q1018=\"\",\"-\",INDEX(I:I,MATCH(Q1018,C:C,0)+1)),\"-\"))","v":"-"},"-","-"]
[1827,"MD003132","MODESTAMINE 4MG COMP. B/20","CYPROHEPTADINE CHLORHYDRATE EXPRIME EN CYPROHEPTADINE","180112","01.11.2020","MG/EXP1",42,"MG/EXP1-B-015",null,0,null,null,167.13,"BIOREAL PHARM SPA","-",null,{"$f":"SUMIF(Tableau1[Description article],Tableau1[Produits],Tableau1[Emplacement])","v":0},null,{"$f":"Sheet1!$S1019-Sheet1!$R1019","v":0},"-","-","-",{"$f":"IFERROR(Tableau1[[#This Row],[THEO]]-Tableau1[[#This Row],[Qtt 2éme lot]],\"-\")","v":"-"},"-",{"$f":"IF(Tableau1[[#This Row],[2éme lot]]=\"-\",\"-\",IFERROR(IF(Q1019=\"\",\"-\",INDEX(I:I,MATCH(Q1019,C:C,0)+1)),\"-\"))","v":"-"},"-","-"]
[1828,"MD001180","MOLSIDOMINE BEKER 2MG COMP.SEC. B/30","MOLSIDOMINE","081919","01.10.2021","MG/EXP1",251,"MG/EXP1-D-067",null,0,null,null,263.99,"BEKER LABORATOIRES","-",null,{"$f":"SUMIF(Tableau1[Description article],Tableau1[Produits],Tableau1[Emplacement])","v":0},null,{"$f":"Sheet1!$S1020-Sheet1!$R1020","v":0},"-","-","-",{"$f":"IFERROR(Tableau1[[#This Row],[THEO]]-Tableau1[[#This Row],[Qtt 2éme lot]],\"-\")","v":"-"},"-",{"$f":"IF(Tableau1[[#This Row],[2éme lot]]=\"-\",\"-\",IFERROR(IF(Q1020=\"\",\"-\",INDEX(I:I,MATCH(Q1020,C:C,0)+1)),\"-\"))","v":"-"},"-","-"]
[1831,"MD001181","MOLSIDOMINE BEKER 4MG COMP. B/30","MOLSIDOMINE","068019","01.07.2021","MG/EXP1",39,"MG/EXP1-F-005",null,0,null,null,447.5,"BEKER LABORATOIRES","-",null,{"$f":"SUMIF(Tableau1[Description article],Tableau1[Produits],Tableau1[Emplacement])","v":0},null,{"$f":"Sheet1!$S1021-Sheet1!$R1021","v":0},"-","-","-",{"$f":"IFERROR(Tableau1[[#This Row],[THEO]]-Tableau1[[#This Row],[Qtt 2éme lot]],\"-\")","v":"-"},"-",{"$f":"IF(Tableau1[[#This Row],[2éme lot]]=\"-\",\"-\",IFERROR(IF(Q1021=\"\",\"-\",INDEX(I:I,MATCH(Q1021,C:C,0)+1)),\"-\"))","v":"-"},"-","-"]
[1832,"MD004149","MOMENEX  SUSP.P.PULV.NAS. FL/120 DSE.",null,"014","01.01.2022","MG/EXP1",164,"MG/EXP1-F-021",null,0,null,null,746.5,"BIO-GALENIC SARL","-",null,{"$f":"SUMIF(Tableau1[Description article],Tableau1[Produits],Tableau1[Emplacement])","v":0},null,{"$f":"Sheet1!$S1022-Sheet1!$R1022","v":0},"-","-","-",{"$f":"IFERROR(Tableau1[[#This Row],[THEO]]-Tableau1[[#This Row],[Qtt 2éme lot]],\"-\")","v":"-"},"-",{"$f":"IF(Tableau1[[#This Row],[2éme lot]]=\"-\",\"-\",IFERROR(IF(Q1022=\"\",\"-\",INDEX(I:I,MATCH(Q1022,C:C,0)+1)),\"-\"))","v":"-"},"-","-"]
[1835,"MD001183","MONTELAIR 10MG COMP.ENRO. B/30","MONTELUKAST","191932","01.09.2021","MG/EXP1",175,"MG/EXP1-A-015",null,0,null,null,2397.5,"EL KENDI INDUSTRIE DE MEDICAMENTS SPA","-",null,{"$f":"SUMIF(Tableau1[Description article],Tableau1[Produits],Tableau1[Emplacement])","v":0},null,{"$f":"Sheet1!$S1023-Sheet1!$R1023","v":0},"-","-","-",{"$f":"IFERROR(Tableau1[[#This Row],[THEO]]-Tableau1[[#This Row],[Qtt 2éme lot]],\"-\")","v":"-"},"-",{"$f":"IF(Tableau1[[#This Row],[2éme lot]]=\"-\",\"-\",IFERROR(IF(Q1023=\"\",\"-\",INDEX(I:I,MATCH(Q1023,C:C,0)+1)),\"-\"))","v":"-"},"-","-"]
[1836,"MD001183","MONTELAIR 10MG COMP.ENRO. B/30","MONTELUKAST","191933","01.09.2021","MG/EXP1",11,"MG/EXP1-A-014",null,0,null,null,2397.5,"EL KENDI INDUSTRIE DE MEDICAMENTS SPA","-",null,{"$f":"SUMIF(Tableau1[Description article],Tableau1[Produits],Tableau1[Emplacement])","v":0},null,{"$f":"Sheet1!$S1024-Sheet1!$R1024","v":0},"-","-","-",{"$f":"IFERROR(Tableau1[[#This Row],[THEO]]-Tableau1[[#This Row],[Qtt 2éme lot]],\"-\")","v":"-"},"-",{"$f":"IF(Tableau1[[#This Row],[2éme lot]]=\"-\",\"-\",IFERROR(IF(Q1024=\"\",\"-\",INDEX(I:I,MATCH(Q1024,C:C,0)+1)),\"-\"))","v":"-"},"-","-"]
[1838,"MD001184","MONTELAIR 4MG COMP.CROQ. B/30","MONTELUKAST","191469","01.09.2021","MG/EXP1",61,"MG/EXP1-C-040",null,0,null,null,2309.47,"EL KENDI INDUSTRIE DE MEDICAMENTS SPA","-",null,{"$f":"SUMIF(Tableau1[Description article],Tableau1[Produits],Tableau1[Emplacement])","v":0},null,{"$f":"Sheet1!$S1025-Sheet1!$R1025","v":0},"-","-","-",{"$f":"IFERROR(Tableau1[[#This Row],[THEO]]-Tableau1[[#This Row],[Qtt 2éme lot]],\"-\")","v":"-"},"-",{"$f":"IF(Tableau1[[#This Row],[2éme lot]]=\"-\",\"-\",IFERROR(IF(Q1025=\"\",\"-\",INDEX(I:I,MATCH(Q1025,C:C,0)+1)),\"-\"))","v":"-"},"-","-"]
[1839,"MD001186","MONTELUKAST BEKER 10MG COMP.PELLI. B/30","MONTELUKAST","104818","01.10.2020","MG/EXP1",89,"MG/EXP1-BOX6-007",null,0,null,null,2307.5,"BEKER LABORATOIRES",{"$f":"IFERROR(IF(Q1026=\"\",\"-\",INDEX(I:I,MATCH(Q1026,C:C,0))),\"-\")","v":"-"},null,{"$f":"SUMIF(Tableau1[Description article],Tableau1[Produits],Tableau1[Emplacement])","v":0},null,{"$f":"Sheet1!$S1026-Sheet1!$R1026","v":0},{"$f":"IFERROR(IF(Q1026=\"\",\"-\",INDEX(F:F,MATCH(Q1026,C:C,0))),\"-\")","v":"-"},{"$f":"IFERROR(IF(Q1026=\"\",\"-\",INDEX(E:E,MATCH(Q1026,C:C,0))),\"-\")","v":"-"},{"$f":"IFERROR(IF(Q1026=\"\",\"-\",INDEX(N:N,MATCH(Q1026,C:C,0))),\"-\")","v":"-"},{"$f":"IFERROR(Tableau1[[#This Row],[THEO]]-Tableau1[[#This Row],[Qtt 2éme lot]],\"-\")","v":"-"},{"$f":"IF(IF(Q1026=\"\",\"-\",INDEX(E:E,MATCH(Q1026,C:C,0)))=IF(Q1026=\"\",\"-\",INDEX(E:E,MATCH(Q1026,C:C,1))),\"-\",IF(Q1026=\"\",\"-\",INDEX(E:E,MATCH(Q1026,C:C,1))))","v":"-"},{"$f":"IF(Tableau1[[#This Row],[2éme lot]]=\"-\",\"-\",IFERROR(IF(Q1026=\"\",\"-\",INDEX(I:I,MATCH(Q1026,C:C,0)+1)),\"-\"))","v":"-"},{"$f":"IFERROR(IF(Y1026=\"\",\"-\",INDEX(N:N,MATCH(Y1026,E:E,0))),\"-\")","v":"-"},{"$f":"IFERROR(IF(AA1026=\"\",\"-\",INDEX(H:H,MATCH(Y1026,E:E,0))),\"-\")","v":"-"}]
[1841,"MD001187","MONTELUKAST BEKER 4MG COMP.CROQ. B/30","MONTELUKAST","050119*","29.04.2021","MG/EXP1",7,"MG/EXP1-G-019",null,0,null,null,2307.5,"BEKER LABORATOIRES","-",null,{"$f":"SUMIF(Tableau1[Description article],Tableau1[Produits],Tableau1[Emplacement])","v":0},null,{"$f":"Sheet1!$S1027-Sheet1!$R1027","v":0},"-","-","-",{"$f":"IFERROR(Tableau1[[#This Row],[THEO]]-Tableau1[[#This Row],[Qtt 2éme lot]],\"-\")","v":"-"},"-",{"$f":"IF(Tableau1[[#This Row],[2éme lot]]=\"-\",\"-\",IFERROR(IF(Q1027=\"\",\"-\",INDEX(I:I,MATCH(Q1027,C:C,0)+1)),\"-\"))","v":"-"},"-","-"]
[1844,"MD001188","MONTELUKAST BEKER 5MG COMP.CROQ. B/30","MONTELUKAST","035818","18.04.2020","MG/EXP1",69,"MG/EXP1-A-063",null,0,null,null,2307.5,"BEKER LABORATOIRES","-",null,{"$f":"SUMIF(Tableau1[Description article],Tableau1[Produits],Tableau1[Emplacement])","v":0},null,{"$f":"Sheet1!$S1028-Sheet1!$R1028","v":0},"-","-","-",{"$f":"IFERROR(Tableau1[[#This Row],[THEO]]-Tableau1[[#This Row],[Qtt 2éme lot]],\"-\")","v":"-"},"-",{"$f":"IF(Tableau1[[#This Row],[2éme lot]]=\"-\",\"-\",IFERROR(IF(Q1028=\"\",\"-\",INDEX(I:I,MATCH(Q1028,C:C,0)+1)),\"-\"))","v":"-"},"-","-"]
[1845,"MD001197","MOXONIDINE BEKER 0.2mg Bte/30 Comp pell","MOXINIDINE","098019","01.11.2021","MG/EXP1",22,"MG/EXP1-G-042",null,0,null,null,549.43,"BEKER LABORATOIRES","-",null,{"$f":"SUMIF(Tableau1[Description article],Tableau1[Produits],Tableau1[Emplacement])","v":0},null,{"$f":"Sheet1!$S1029-Sheet1!$R1029","v":0},"-","-","-",{"$f":"IFERROR(Tableau1[[#This Row],[THEO]]-Tableau1[[#This Row],[Qtt 2éme lot]],\"-\")","v":"-"},"-",{"$f":"IF(Tableau1[[#This Row],[2éme lot]]=\"-\",\"-\",IFERROR(IF(Q1029=\"\",\"-\",INDEX(I:I,MATCH(Q1029,C:C,0)+1)),\"-\"))","v":"-"},"-","-"]
[1846,"MD001198","MOXONIDINE BEKER 0.4mg cp pell. Bte/ 30","MOXINIDINE","094119","06.11.2021","MG/EXP1",29,"MG/EXP1-A-034",null,0,null,null,943.51,"BEKER LABORATOIRES","-",null,{"$f":"SUMIF(Tableau1[Description article],Tableau1[Produits],Tableau1[Emplacement])","v":0},null,{"$f":"Sheet1!$S1030-Sheet1!$R1030","v":0},"-","-","-",{"$f":"IFERROR(Tableau1[[#This Row],[THEO]]-Tableau1[[#This Row],[Qtt 2éme lot]],\"-\")","v":"-"},"-",{"$f":"IF(Tableau1[[#This Row],[2éme lot]]=\"-\",\"-\",IFERROR(IF(Q1030=\"\",\"-\",INDEX(I:I,MATCH(Q1030,C:C,0)+1)),\"-\"))","v":"-"},"-","-"]
[1848,"PP00397","MULTIVITAMINES KIDS A,C,D3+CA CP B/20-SWISS ENERGY-",null,"1804084","01.04.2020","MG/EXP1",140,"MG/EXP1-G-033",null,0,null,null,406.69,"EXPENSIMED SARL","-",null,{"$f":"SUMIF(Tableau1[Description article],Tableau1[Produits],Tableau1[Emplacement])","v":0},null,{"$f":"Sheet1!$S1031-Sheet1!$R1031","v":0},"-","-","-",{"$f":"IFERROR(Tableau1[[#This Row],[THEO]]-Tableau1[[#This Row],[Qtt 2éme lot]],\"-\")","v":"-"},"-",{"$f":"IF(Tableau1[[#This Row],[2éme lot]]=\"-\",\"-\",IFERROR(IF(Q1031=\"\",\"-\",INDEX(I:I,MATCH(Q1031,C:C,0)+1)),\"-\"))","v":"-"},"-","-"]
[1849,"PP00404","MULTIVITAMINES+BIOTIN  CP EFFE B/20",null,"1804078","01.04.2020","MG/EXP1",134,"MG/EXP1-F-029",null,0,null,null,426.38,"EXPENSIMED SARL","-",null,{"$f":"SUMIF(Tableau1[Description article],Tableau1[Produits],Tableau1[Emplacement])","v":0},null,{"$f":"Sheet1!$S1032-Sheet1!$R1032","v":0},"-","-","-",{"$f":"IFERROR(Tableau1[[#This Row],[THEO]]-Tableau1[[#This Row],[Qtt 2éme lot]],\"-\")","v":"-"},"-",{"$f":"IF(Tableau1[[#This Row],[2éme lot]]=\"-\",\"-\",IFERROR(IF(Q1032=\"\",\"-\",INDEX(I:I,MATCH(Q1032,C:C,0)+1)),\"-\"))","v":"-"},"-","-"]
[1850,"MD001202","MYCOCIDE 1,5MUI/15MG/37,5MG/15G PDE.DERM. T/15G","NYSTATINE-TRIAMCINOLOL","272","01.12.2021","MG/EXP1",4,"MG/EXP1-A-007",null,0,null,null,116.1,"SAIDAL UNITE CENTRE","-",null,{"$f":"SUMIF(Tableau1[Description article],Tableau1[Produits],Tableau1[Emplacement])","v":0},null,{"$f":"Sheet1!$S1033-Sheet1!$R1033","v":0},"-","-","-",{"$f":"IFERROR(Tableau1[[#This Row],[THEO]]-Tableau1[[#This Row],[Qtt 2éme lot]],\"-\")","v":"-"},"-",{"$f":"IF(Tableau1[[#This Row],[2éme lot]]=\"-\",\"-\",IFERROR(IF(Q1033=\"\",\"-\",INDEX(I:I,MATCH(Q1033,C:C,0)+1)),\"-\"))","v":"-"},"-","-"]
[1852,"MD001203","MYCOCINE 10MUI/0,1G/0,25G/100G PDE.DERM. T/15G","NYSTATINE-TRIAMCINOLOL","1265","01.03.2022","MG/EXP1",4,"MG/EXP1-B-045",null,0,null,null,190.47,"PHARMAGHREB","-",null,{"$f":"SUMIF(Tableau1[Description article],Tableau1[Produits],Tableau1[Emplacement])","v":0},null,{"$f":"Sheet1!$S1034-Sheet1!$R1034","v":0},"-","-","-",{"$f":"IFERROR(Tableau1[[#This Row],[THEO]]-Tableau1[[#This Row],[Qtt 2éme lot]],\"-\")","v":"-"},"-",{"$f":"IF(Tableau1[[#This Row],[2éme lot]]=\"-\",\"-\",IFERROR(IF(Q1034=\"\",\"-\",INDEX(I:I,MATCH(Q1034,C:C,0)+1)),\"-\"))","v":"-"},"-","-"]
[1853,"MD001203","MYCOCINE 10MUI/0,1G/0,25G/100G PDE.DERM. T/15G","NYSTATINE-TRIAMCINOLOL","1266","01.04.2022","MG/EXP1",350,"MG/EXP1-B-045",null,0,null,null,190.47,"PHARMAGHREB","-",null,{"$f":"SUMIF(Tableau1[Description article],Tableau1[Produits],Tableau1[Emplacement])","v":0},null,{"$f":"Sheet1!$S1035-Sheet1!$R1035","v":0},"-","-","-",{"$f":"IFERROR(Tableau1[[#This Row],[THEO]]-Tableau1[[#This Row],[Qtt 2éme lot]],\"-\")","v":"-"},"-",{"$f":"IF(Tableau1[[#This Row],[2éme lot]]=\"-\",\"-\",IFERROR(IF(Q1035=\"\",\"-\",INDEX(I:I,MATCH(Q1035,C:C,0)+1)),\"-\"))","v":"-"},"-","-"]
[1857,"MD001204","MYCOMAZOLE 0,01 CR.DERM. T/30G","CLOTRIMAZOLE","19066","01.03.2022","MG/EXP1",18,"MG/EXP1-D-063",null,0,null,null,175,"AFRO PHARM SPA","-",null,{"$f":"SUMIF(Tableau1[Description article],Tableau1[Produits],Tableau1[Emplacement])","v":0},null,{"$f":"Sheet1!$S1036-Sheet1!$R1036","v":0},"-","-","-",{"$f":"IFERROR(Tableau1[[#This Row],[THEO]]-Tableau1[[#This Row],[Qtt 2éme lot]],\"-\")","v":"-"},"-",{"$f":"IF(Tableau1[[#This Row],[2éme lot]]=\"-\",\"-\",IFERROR(IF(Q1036=\"\",\"-\",INDEX(I:I,MATCH(Q1036,C:C,0)+1)),\"-\"))","v":"-"},"-","-"]
[1858,"MD001205","MYCOSTER 0,01 CR. T/30G","CICLOPIROXOLAMINE","G02043","30.11.2020","MG/EXP1",1,"MG/EXP1-A-003",null,0,null,null,422.65,"BIOPHARM SPA","-",null,{"$f":"SUMIF(Tableau1[Description article],Tableau1[Produits],Tableau1[Emplacement])","v":0},null,{"$f":"Sheet1!$S1037-Sheet1!$R1037","v":0},"-","-","-",{"$f":"IFERROR(Tableau1[[#This Row],[THEO]]-Tableau1[[#This Row],[Qtt 2éme lot]],\"-\")","v":"-"},"-",{"$f":"IF(Tableau1[[#This Row],[2éme lot]]=\"-\",\"-\",IFERROR(IF(Q1037=\"\",\"-\",INDEX(I:I,MATCH(Q1037,C:C,0)+1)),\"-\"))","v":"-"},"-","-"]
[1860,"MD001209","MYCOTEN 3 200MG COMP.VAG. B/03 COMP. + 03 APPLICTR.","CLOTRIMAZOLE","35067","01.06.2020","MG/EXP1",69,"MG/EXP1-D-050",null,0,null,null,528.27,"AT PHARMA SPA","-",null,{"$f":"SUMIF(Tableau1[Description article],Tableau1[Produits],Tableau1[Emplacement])","v":0},null,{"$f":"Sheet1!$S1038-Sheet1!$R1038","v":0},"-","-","-",{"$f":"IFERROR(Tableau1[[#This Row],[THEO]]-Tableau1[[#This Row],[Qtt 2éme lot]],\"-\")","v":"-"},"-",{"$f":"IF(Tableau1[[#This Row],[2éme lot]]=\"-\",\"-\",IFERROR(IF(Q1038=\"\",\"-\",INDEX(I:I,MATCH(Q1038,C:C,0)+1)),\"-\"))","v":"-"},"-","-"]
[1862,"MD001212","MYCOZAN 150MG GLES. B/01","FLUCONAZOLE","093819","01.11.2022","MG/EXP1",226,"MG/EXP1-E-014",null,0,null,null,237.6,"BEKER LABORATOIRES","-",null,{"$f":"SUMIF(Tableau1[Description article],Tableau1[Produits],Tableau1[Emplacement])","v":0},null,{"$f":"Sheet1!$S1039-Sheet1!$R1039","v":0},"-","-","-",{"$f":"IFERROR(Tableau1[[#This Row],[THEO]]-Tableau1[[#This Row],[Qtt 2éme lot]],\"-\")","v":"-"},"-",{"$f":"IF(Tableau1[[#This Row],[2éme lot]]=\"-\",\"-\",IFERROR(IF(Q1039=\"\",\"-\",INDEX(I:I,MATCH(Q1039,C:C,0)+1)),\"-\"))","v":"-"},"-","-"]
[1863,"MD001213","MYCOZAN 50MG CP. B/03","FLUCONAZOLE","093719","01.11.2022","MG/EXP1",39,"MG/EXP1-A-064",null,0,null,null,216.5,"BEKER LABORATOIRES","-",null,{"$f":"SUMIF(Tableau1[Description article],Tableau1[Produits],Tableau1[Emplacement])","v":0},null,{"$f":"Sheet1!$S1040-Sheet1!$R1040","v":0},"-","-","-",{"$f":"IFERROR(Tableau1[[#This Row],[THEO]]-Tableau1[[#This Row],[Qtt 2éme lot]],\"-\")","v":"-"},"-",{"$f":"IF(Tableau1[[#This Row],[2éme lot]]=\"-\",\"-\",IFERROR(IF(Q1040=\"\",\"-\",INDEX(I:I,MATCH(Q1040,C:C,0)+1)),\"-\"))","v":"-"},"-","-"]
[1865,"MD001215","MYDOCALM 150MG COMP.PELLI. B/30","TOLPERISONE CHLORHYDRTE","190021","01.02.2022","MG/EXP1",110,"MG/EXP1-BOX6-PSY-019",null,0,null,null,927.43,"HIKMA PHARMA ALGERIA SARL","-",null,{"$f":"SUMIF(Tableau1[Description article],Tableau1[Produits],Tableau1[Emplacement])","v":0},null,{"$f":"Sheet1!$S1041-Sheet1!$R1041","v":0},"-","-","-",{"$f":"IFERROR(Tableau1[[#This Row],[THEO]]-Tableau1[[#This Row],[Qtt 2éme lot]],\"-\")","v":"-"},"-",{"$f":"IF(Tableau1[[#This Row],[2éme lot]]=\"-\",\"-\",IFERROR(IF(Q1041=\"\",\"-\",INDEX(I:I,MATCH(Q1041,C:C,0)+1)),\"-\"))","v":"-"},"-","-"]
[1867,"MD001217","MYDRIATICUM 0,5% COLLY.SOL. FL/10ML","TROPICAMIDE","082474","01.08.2021","MG/EXP1",117,"MG/EXP1-BOX6-PSY-019",null,0,null,"PSY",214.88,"BIOPHARM SPA","-",null,{"$f":"SUMIF(Tableau1[Description article],Tableau1[Produits],Tableau1[Emplacement])","v":0},null,{"$f":"Sheet1!$S1042-Sheet1!$R1042","v":0},"-","-","-",{"$f":"IFERROR(Tableau1[[#This Row],[THEO]]-Tableau1[[#This Row],[Qtt 2éme lot]],\"-\")","v":"-"},"-",{"$f":"IF(Tableau1[[#This Row],[2éme lot]]=\"-\",\"-\",IFERROR(IF(Q1042=\"\",\"-\",INDEX(I:I,MATCH(Q1042,C:C,0)+1)),\"-\"))","v":"-"},"-","-"]
[1868,"MD001217","MYDRIATICUM 0,5% COLLY.SOL. FL/10ML","TROPICAMIDE","082483","01.03.2022","MG/EXP1",100,"MG/EXP1-BOX6-PSY-019",null,0,null,"PSY",212.33,"BIOPHARM SPA","-",null,{"$f":"SUMIF(Tableau1[Description article],Tableau1[Produits],Tableau1[Emplacement])","v":0},null,{"$f":"Sheet1!$S1043-Sheet1!$R1043","v":0},"-","-","-",{"$f":"IFERROR(Tableau1[[#This Row],[THEO]]-Tableau1[[#This Row],[Qtt 2éme lot]],\"-\")","v":"-"},"-",{"$f":"IF(Tableau1[[#This Row],[2éme lot]]=\"-\",\"-\",IFERROR(IF(Q1043=\"\",\"-\",INDEX(I:I,MATCH(Q1043,C:C,0)+1)),\"-\"))","v":"-"},"-","-"]
[1869,"MD001218","NAABAK 4,9G/100ML COLLY.SOL. FL/10ML","ACIDE ACETYL ASPARTYL GLUTAMIQUE","1L32","01.05.2021","MG/EXP1",22,"MG/EXP1-F-007",null,0,null,null,785.69,"BIOPHARM SPA","-",null,{"$f":"SUMIF(Tableau1[Description article],Tableau1[Produits],Tableau1[Emplacement])","v":0},null,{"$f":"Sheet1!$S1044-Sheet1!$R1044","v":0},"-","-","-",{"$f":"IFERROR(Tableau1[[#This Row],[THEO]]-Tableau1[[#This Row],[Qtt 2éme lot]],\"-\")","v":"-"},"-",{"$f":"IF(Tableau1[[#This Row],[2éme lot]]=\"-\",\"-\",IFERROR(IF(Q1044=\"\",\"-\",INDEX(I:I,MATCH(Q1044,C:C,0)+1)),\"-\"))","v":"-"},"-","-"]
[1870,"MD001219","NAAXIA 4,9G/100ML COLLY. FL/5ML","ACIDE ACETYL ASPARTYL GLUTAMIQUE","7K99*","01.03.2021","MG/EXP1",7,"MG/EXP1-A-004",null,0,null,null,259.34,"BIOPHARM SPA","-",null,{"$f":"SUMIF(Tableau1[Description article],Tableau1[Produits],Tableau1[Emplacement])","v":0},null,{"$f":"Sheet1!$S1045-Sheet1!$R1045","v":0},"-","-","-",{"$f":"IFERROR(Tableau1[[#This Row],[THEO]]-Tableau1[[#This Row],[Qtt 2éme lot]],\"-\")","v":"-"},"-",{"$f":"IF(Tableau1[[#This Row],[2éme lot]]=\"-\",\"-\",IFERROR(IF(Q1045=\"\",\"-\",INDEX(I:I,MATCH(Q1045,C:C,0)+1)),\"-\"))","v":"-"},"-","-"]
[1871,"MD001221","NADCORTYL 5MG COMP.SEC. B/30","PREDNISONE","NC0047","01.06.2021","MG/EXP1",135,"MG/EXP1-E-023",null,0,null,null,147.5,"NADPHARMADIC","-",null,{"$f":"SUMIF(Tableau1[Description article],Tableau1[Produits],Tableau1[Emplacement])","v":0},null,{"$f":"Sheet1!$S1046-Sheet1!$R1046","v":0},"-","-","-",{"$f":"IFERROR(Tableau1[[#This Row],[THEO]]-Tableau1[[#This Row],[Qtt 2éme lot]],\"-\")","v":"-"},"-",{"$f":"IF(Tableau1[[#This Row],[2éme lot]]=\"-\",\"-\",IFERROR(IF(Q1046=\"\",\"-\",INDEX(I:I,MATCH(Q1046,C:C,0)+1)),\"-\"))","v":"-"},"-","-"]
[1873,"MD004018","NAFRONYL LP 200MG COMP.PELLI. B/20","NAFTIDROFURYL OXALATE","022","01.12.2021","MG/EXP1",205,"MG/EXP1-C-061",null,0,null,null,518.5,"BIO-GALENIC SARL","-",null,{"$f":"SUMIF(Tableau1[Description article],Tableau1[Produits],Tableau1[Emplacement])","v":0},null,{"$f":"Sheet1!$S1047-Sheet1!$R1047","v":0},"-","-","-",{"$f":"IFERROR(Tableau1[[#This Row],[THEO]]-Tableau1[[#This Row],[Qtt 2éme lot]],\"-\")","v":"-"},"-",{"$f":"IF(Tableau1[[#This Row],[2éme lot]]=\"-\",\"-\",IFERROR(IF(Q1047=\"\",\"-\",INDEX(I:I,MATCH(Q1047,C:C,0)+1)),\"-\"))","v":"-"},"-","-"]
[1874,"MD001226","NAFTIRETARD LP 200MG GLES. A PGRAN.LP. B/20","NAFTIDROFURYL OXALATE","NFT009","01.07.2021","MG/EXP1",90,"MG/EXP1-A-031",null,0,null,null,360,"NEOMEDIC LABORATOIRE","-",null,{"$f":"SUMIF(Tableau1[Description article],Tableau1[Produits],Tableau1[Emplacement])","v":0},null,{"$f":"Sheet1!$S1048-Sheet1!$R1048","v":0},"-","-","-",{"$f":"IFERROR(Tableau1[[#This Row],[THEO]]-Tableau1[[#This Row],[Qtt 2éme lot]],\"-\")","v":"-"},"-",{"$f":"IF(Tableau1[[#This Row],[2éme lot]]=\"-\",\"-\",IFERROR(IF(Q1048=\"\",\"-\",INDEX(I:I,MATCH(Q1048,C:C,0)+1)),\"-\"))","v":"-"},"-","-"]
[1875,"MD001227","NAPROLGIC 275MG COMP.PELLI. B/30","NAPROXEN SODIQUE","8895","31.10.2020","MG/EXP1",216,"MG/EXP1-E-060",null,0,null,null,258.11,"INPHA MEDIS SPA","-",null,{"$f":"SUMIF(Tableau1[Description article],Tableau1[Produits],Tableau1[Emplacement])","v":0},null,{"$f":"Sheet1!$S1049-Sheet1!$R1049","v":0},"-","-","-",{"$f":"IFERROR(Tableau1[[#This Row],[THEO]]-Tableau1[[#This Row],[Qtt 2éme lot]],\"-\")","v":"-"},"-",{"$f":"IF(Tableau1[[#This Row],[2éme lot]]=\"-\",\"-\",IFERROR(IF(Q1049=\"\",\"-\",INDEX(I:I,MATCH(Q1049,C:C,0)+1)),\"-\"))","v":"-"},"-","-"]
[1876,"MD001228","NAPROLGIC 550MG COMP.PELLI.SEC. B/16","NAPROXEN SODIQUE","9410","01.05.2021","MG/EXP1",2,"MG/EXP1-D-059",null,0,null,null,275.32,"INPHA MEDIS SPA","-",null,{"$f":"SUMIF(Tableau1[Description article],Tableau1[Produits],Tableau1[Emplacement])","v":0},null,{"$f":"Sheet1!$S1050-Sheet1!$R1050","v":0},"-","-","-",{"$f":"IFERROR(Tableau1[[#This Row],[THEO]]-Tableau1[[#This Row],[Qtt 2éme lot]],\"-\")","v":"-"},"-",{"$f":"IF(Tableau1[[#This Row],[2éme lot]]=\"-\",\"-\",IFERROR(IF(Q1050=\"\",\"-\",INDEX(I:I,MATCH(Q1050,C:C,0)+1)),\"-\"))","v":"-"},"-","-"]
[1877,"MD001228","NAPROLGIC 550MG COMP.PELLI.SEC. B/16","NAPROXEN SODIQUE","9392","01.04.2021","MG/EXP1",52,"MG/EXP1-D-060",null,0,null,null,275.32,"INPHA MEDIS SPA","-",null,{"$f":"SUMIF(Tableau1[Description article],Tableau1[Produits],Tableau1[Emplacement])","v":0},null,{"$f":"Sheet1!$S1051-Sheet1!$R1051","v":0},"-","-","-",{"$f":"IFERROR(Tableau1[[#This Row],[THEO]]-Tableau1[[#This Row],[Qtt 2éme lot]],\"-\")","v":"-"},"-",{"$f":"IF(Tableau1[[#This Row],[2éme lot]]=\"-\",\"-\",IFERROR(IF(Q1051=\"\",\"-\",INDEX(I:I,MATCH(Q1051,C:C,0)+1)),\"-\"))","v":"-"},"-","-"]
[1879,"MD004167","NASABEC 100µG/DSE SUSP.P.PULV.NAS. B/01 FL.PULV/200 DSE.","BECLAMETASONE DIPROPIONATE","012","01.11.2021","MG/EXP1",190,"MG/EXP1-D-071",null,0,null,null,720,"BIO-GALENIC SARL","-",null,{"$f":"SUMIF(Tableau1[Description article],Tableau1[Produits],Tableau1[Emplacement])","v":0},null,{"$f":"Sheet1!$S1052-Sheet1!$R1052","v":0},"-","-","-",{"$f":"IFERROR(Tableau1[[#This Row],[THEO]]-Tableau1[[#This Row],[Qtt 2éme lot]],\"-\")","v":"-"},"-",{"$f":"IF(Tableau1[[#This Row],[2éme lot]]=\"-\",\"-\",IFERROR(IF(Q1052=\"\",\"-\",INDEX(I:I,MATCH(Q1052,C:C,0)+1)),\"-\"))","v":"-"},"-","-"]
[1880,"MD004167","NASABEC 100µG/DSE SUSP.P.PULV.NAS. B/01 FL.PULV/200 DSE.","BECLAMETASONE DIPROPIONATE","013","01.12.2021","MG/EXP1",52,"MG/EXP1-E-062",null,0,null,null,720,"BIO-GALENIC SARL","-",null,{"$f":"SUMIF(Tableau1[Description article],Tableau1[Produits],Tableau1[Emplacement])","v":0},null,{"$f":"Sheet1!$S1053-Sheet1!$R1053","v":0},"-","-","-",{"$f":"IFERROR(Tableau1[[#This Row],[THEO]]-Tableau1[[#This Row],[Qtt 2éme lot]],\"-\")","v":"-"},"-",{"$f":"IF(Tableau1[[#This Row],[2éme lot]]=\"-\",\"-\",IFERROR(IF(Q1053=\"\",\"-\",INDEX(I:I,MATCH(Q1053,C:C,0)+1)),\"-\"))","v":"-"},"-","-"]
[1882,"MD001230","NASABEC 50PG/DSE SUSP.P.PULV.NAS. B/01 FL.PULV/100 DSE.","BECLAMETASONE DIPROPIONATE","079","01.01.2022","MG/EXP1",353,"MG/EXP1-A-019",null,0,null,null,345.99,"BIO-GALENIC SARL","-",null,{"$f":"SUMIF(Tableau1[Description article],Tableau1[Produits],Tableau1[Emplacement])","v":0},null,{"$f":"Sheet1!$S1054-Sheet1!$R1054","v":0},"-","-","-",{"$f":"IFERROR(Tableau1[[#This Row],[THEO]]-Tableau1[[#This Row],[Qtt 2éme lot]],\"-\")","v":"-"},"-",{"$f":"IF(Tableau1[[#This Row],[2éme lot]]=\"-\",\"-\",IFERROR(IF(Q1054=\"\",\"-\",INDEX(I:I,MATCH(Q1054,C:C,0)+1)),\"-\"))","v":"-"},"-","-"]
[1884,"MD001231","NASACET 55µG/DES. SUSP.P.PULV.NAS. FL/120 DSE.","TRIAMCINOLONE ACETONIDE","025","01.01.2022","MG/EXP1",174,"MG/EXP1-A-034",null,0,null,null,892,"BIO-GALENIC SARL","-",null,{"$f":"SUMIF(Tableau1[Description article],Tableau1[Produits],Tableau1[Emplacement])","v":0},null,{"$f":"Sheet1!$S1055-Sheet1!$R1055","v":0},"-","-","-",{"$f":"IFERROR(Tableau1[[#This Row],[THEO]]-Tableau1[[#This Row],[Qtt 2éme lot]],\"-\")","v":"-"},"-",{"$f":"IF(Tableau1[[#This Row],[2éme lot]]=\"-\",\"-\",IFERROR(IF(Q1055=\"\",\"-\",INDEX(I:I,MATCH(Q1055,C:C,0)+1)),\"-\"))","v":"-"},"-","-"]
[1887,"MD002389","NASALONE 55μG/DSE. SUSP.P.PULV.NAS. B/01 FL/120 PULV.","TRIAMCINOLONE ACETONIDE","011","01.07.2021","MG/EXP1",589,"MG/EXP1-F-022",null,0,null,null,891.99,"HUP.P PHARMA SARL","-",null,{"$f":"SUMIF(Tableau1[Description article],Tableau1[Produits],Tableau1[Emplacement])","v":0},null,{"$f":"Sheet1!$S1056-Sheet1!$R1056","v":0},"-","-","-",{"$f":"IFERROR(Tableau1[[#This Row],[THEO]]-Tableau1[[#This Row],[Qtt 2éme lot]],\"-\")","v":"-"},"-",{"$f":"IF(Tableau1[[#This Row],[2éme lot]]=\"-\",\"-\",IFERROR(IF(Q1056=\"\",\"-\",INDEX(I:I,MATCH(Q1056,C:C,0)+1)),\"-\"))","v":"-"},"-","-"]
[1888,"PP00381","NASOSENS PLUS (BEBE) SUSP.NAS.FL/40 ML",null,"NP003","30.04.2021","MG/EXP1",72,"MG/EXP1-G-026",null,0,null,null,290,"DERMO SENS SARL","-",null,{"$f":"SUMIF(Tableau1[Description article],Tableau1[Produits],Tableau1[Emplacement])","v":0},null,{"$f":"Sheet1!$S1057-Sheet1!$R1057","v":0},"-","-","-",{"$f":"IFERROR(Tableau1[[#This Row],[THEO]]-Tableau1[[#This Row],[Qtt 2éme lot]],\"-\")","v":"-"},"-",{"$f":"IF(Tableau1[[#This Row],[2éme lot]]=\"-\",\"-\",IFERROR(IF(Q1057=\"\",\"-\",INDEX(I:I,MATCH(Q1057,C:C,0)+1)),\"-\"))","v":"-"},"-","-"]
[1890,"PP00380","NASOSENS SUSP.NAS.FL/40ML",null,"NS003*","01.04.2021","MG/EXP1",37,"MG/EXP1-B-044",null,0,null,null,320,"DERMO SENS SARL","-",null,{"$f":"SUMIF(Tableau1[Description article],Tableau1[Produits],Tableau1[Emplacement])","v":0},null,{"$f":"Sheet1!$S1058-Sheet1!$R1058","v":0},"-","-","-",{"$f":"IFERROR(Tableau1[[#This Row],[THEO]]-Tableau1[[#This Row],[Qtt 2éme lot]],\"-\")","v":"-"},"-",{"$f":"IF(Tableau1[[#This Row],[2éme lot]]=\"-\",\"-\",IFERROR(IF(Q1058=\"\",\"-\",INDEX(I:I,MATCH(Q1058,C:C,0)+1)),\"-\"))","v":"-"},"-","-"]
[1891,"MD004121","NATAZINE 5MG COMP B/14","MEQUITAZINE","180375/2","01.08.2021","MG/EXP1",12,"MG/EXP1-C-006",null,0,null,null,226.88,"GEO-PHARM SARL","-",null,{"$f":"SUMIF(Tableau1[Description article],Tableau1[Produits],Tableau1[Emplacement])","v":0},null,{"$f":"Sheet1!$S1059-Sheet1!$R1059","v":0},"-","-","-",{"$f":"IFERROR(Tableau1[[#This Row],[THEO]]-Tableau1[[#This Row],[Qtt 2éme lot]],\"-\")","v":"-"},"-",{"$f":"IF(Tableau1[[#This Row],[2éme lot]]=\"-\",\"-\",IFERROR(IF(Q1059=\"\",\"-\",INDEX(I:I,MATCH(Q1059,C:C,0)+1)),\"-\"))","v":"-"},"-","-"]
[1892,"MD001235","NAUSEDIUM 1MG/ML SUSP.BUV. FL/200ML + PIPT.DOSEUSE","DOMPERIDONE","050","01.11.2020","MG/EXP1",114,"MG/EXP1-E-020",null,0,null,null,222.5,"SAIDAL UNITE CENTRE","-",null,{"$f":"SUMIF(Tableau1[Description article],Tableau1[Produits],Tableau1[Emplacement])","v":0},null,{"$f":"Sheet1!$S1060-Sheet1!$R1060","v":0},"-","-","-",{"$f":"IFERROR(Tableau1[[#This Row],[THEO]]-Tableau1[[#This Row],[Qtt 2éme lot]],\"-\")","v":"-"},"-",{"$f":"IF(Tableau1[[#This Row],[2éme lot]]=\"-\",\"-\",IFERROR(IF(Q1060=\"\",\"-\",INDEX(I:I,MATCH(Q1060,C:C,0)+1)),\"-\"))","v":"-"},"-","-"]
[1893,"MD001237","NAUSETRON 16 MG SUPP. B/02","ONDANSETRON","18436","01.12.2020","MG/EXP1",44,"MG/EXP1-D-032",null,0,null,null,1347.51,"AFRO PHARM SPA","-",null,{"$f":"SUMIF(Tableau1[Description article],Tableau1[Produits],Tableau1[Emplacement])","v":0},null,{"$f":"Sheet1!$S1061-Sheet1!$R1061","v":0},"-","-","-",{"$f":"IFERROR(Tableau1[[#This Row],[THEO]]-Tableau1[[#This Row],[Qtt 2éme lot]],\"-\")","v":"-"},"-",{"$f":"IF(Tableau1[[#This Row],[2éme lot]]=\"-\",\"-\",IFERROR(IF(Q1061=\"\",\"-\",INDEX(I:I,MATCH(Q1061,C:C,0)+1)),\"-\"))","v":"-"},"-","-"]
[1895,"PP00191","NEO HEALAR POMMADE T/30G - ANTI HEMORROIDAIRE-",null,"738","01.02.2022","MG/EXP1",11,"MG/EXP1-F-059",null,0,null,null,872.4,"HIKMA PHARMA ALGERIA SARL","-",null,{"$f":"SUMIF(Tableau1[Description article],Tableau1[Produits],Tableau1[Emplacement])","v":0},null,{"$f":"Sheet1!$S1062-Sheet1!$R1062","v":0},"-","-","-",{"$f":"IFERROR(Tableau1[[#This Row],[THEO]]-Tableau1[[#This Row],[Qtt 2éme lot]],\"-\")","v":"-"},"-",{"$f":"IF(Tableau1[[#This Row],[2éme lot]]=\"-\",\"-\",IFERROR(IF(Q1062=\"\",\"-\",INDEX(I:I,MATCH(Q1062,C:C,0)+1)),\"-\"))","v":"-"},"-","-"]
[1897,"MD001239","NEO-CODION ADULTE 0,1722G/100ML (CODEINE BASE 15,4MG/CUILL.SPE.) SRP. FL/180ML","CODEINE","14269","31.10.2022","MG/EXP1",89,"MG/EXP1-C-004",null,0,null,null,250.88,"SOMEDIAL S.P.A","-",null,{"$f":"SUMIF(Tableau1[Description article],Tableau1[Produits],Tableau1[Emplacement])","v":0},null,{"$f":"Sheet1!$S1063-Sheet1!$R1063","v":0},"-","-","-",{"$f":"IFERROR(Tableau1[[#This Row],[THEO]]-Tableau1[[#This Row],[Qtt 2éme lot]],\"-\")","v":"-"},"-",{"$f":"IF(Tableau1[[#This Row],[2éme lot]]=\"-\",\"-\",IFERROR(IF(Q1063=\"\",\"-\",INDEX(I:I,MATCH(Q1063,C:C,0)+1)),\"-\"))","v":"-"},"-","-"]
[1899,"MD001241","NEO-CODION NOURRISSONS 74,1MG/30,8MG/32,96 4MG/CUILL.CAF. SRP. FL/125ML","SODIUM BENZOATE/GRINDELIA /POLYGALA SIRO","28054","01.12.2021","MG/EXP1",1,"MG/EXP1-G-001",null,0,null,null,193.56,"SOMEDIAL S.P.A","-",null,{"$f":"SUMIF(Tableau1[Description article],Tableau1[Produits],Tableau1[Emplacement])","v":0},null,{"$f":"Sheet1!$S1064-Sheet1!$R1064","v":0},"-","-","-",{"$f":"IFERROR(Tableau1[[#This Row],[THEO]]-Tableau1[[#This Row],[Qtt 2éme lot]],\"-\")","v":"-"},"-",{"$f":"IF(Tableau1[[#This Row],[2éme lot]]=\"-\",\"-\",IFERROR(IF(Q1064=\"\",\"-\",INDEX(I:I,MATCH(Q1064,C:C,0)+1)),\"-\"))","v":"-"},"-","-"]
[1900,"MD001249","NEUPAX 20MG/ML SUSP.BUV. B/01 FL/180 ML + SERING.GRAD.ADMIN.ORA./10ML","CARBAMAZEPINE","031","01.05.2022","MG/EXP1",18,"MG/EXP1-BOX6-PSY-020",null,0,null,null,308.5,"BIOPHARM SPA","-",null,{"$f":"SUMIF(Tableau1[Description article],Tableau1[Produits],Tableau1[Emplacement])","v":0},null,{"$f":"Sheet1!$S1065-Sheet1!$R1065","v":0},"-","-","-",{"$f":"IFERROR(Tableau1[[#This Row],[THEO]]-Tableau1[[#This Row],[Qtt 2éme lot]],\"-\")","v":"-"},"-",{"$f":"IF(Tableau1[[#This Row],[2éme lot]]=\"-\",\"-\",IFERROR(IF(Q1065=\"\",\"-\",INDEX(I:I,MATCH(Q1065,C:C,0)+1)),\"-\"))","v":"-"},"-","-"]
[1902,"MD003184","NEUPREN 200MG COMP.PELLI. B/20","IBUPROFENE","041","01.04.2021","MG/EXP1",245,"MG/EXP1-D-050",null,0,null,null,120,null,"-",null,{"$f":"SUMIF(Tableau1[Description article],Tableau1[Produits],Tableau1[Emplacement])","v":0},null,{"$f":"Sheet1!$S1066-Sheet1!$R1066","v":0},"-","-","-",{"$f":"IFERROR(Tableau1[[#This Row],[THEO]]-Tableau1[[#This Row],[Qtt 2éme lot]],\"-\")","v":"-"},"-",{"$f":"IF(Tableau1[[#This Row],[2éme lot]]=\"-\",\"-\",IFERROR(IF(Q1066=\"\",\"-\",INDEX(I:I,MATCH(Q1066,C:C,0)+1)),\"-\"))","v":"-"},"-","-"]
[1903,"MD001250","NEUPREN 20MG/ML SOL.BUV. FL/200 ML","IBUPROFENE","070","01.10.2022","MG/EXP1",100,"MG/EXP1-F-004",null,0,null,null,198.3,"BIO-GALENIC SARL","-",null,{"$f":"SUMIF(Tableau1[Description article],Tableau1[Produits],Tableau1[Emplacement])","v":0},null,{"$f":"Sheet1!$S1067-Sheet1!$R1067","v":0},"-","-","-",{"$f":"IFERROR(Tableau1[[#This Row],[THEO]]-Tableau1[[#This Row],[Qtt 2éme lot]],\"-\")","v":"-"},"-",{"$f":"IF(Tableau1[[#This Row],[2éme lot]]=\"-\",\"-\",IFERROR(IF(Q1067=\"\",\"-\",INDEX(I:I,MATCH(Q1067,C:C,0)+1)),\"-\"))","v":"-"},"-","-"]
[1905,"MD001251","NEUPREN 600MG COMP.PELLI. B/30","IBUPROFENE","053","01.04.2021","MG/EXP1",96,"MG/EXP1-D-041",null,0,null,null,258.5,"BIO-GALENIC SARL","-",null,{"$f":"SUMIF(Tableau1[Description article],Tableau1[Produits],Tableau1[Emplacement])","v":0},null,{"$f":"Sheet1!$S1068-Sheet1!$R1068","v":0},"-","-","-",{"$f":"IFERROR(Tableau1[[#This Row],[THEO]]-Tableau1[[#This Row],[Qtt 2éme lot]],\"-\")","v":"-"},"-",{"$f":"IF(Tableau1[[#This Row],[2éme lot]]=\"-\",\"-\",IFERROR(IF(Q1068=\"\",\"-\",INDEX(I:I,MATCH(Q1068,C:C,0)+1)),\"-\"))","v":"-"},"-","-"]
[1907,"MD002367","NEURALGIN 300MG GLES. B/90","GABAPENTINE","S03902","01.01.2021","MG/EXP1",10,"MG/EXP1-BOX6-PSY-019",null,0,null,"PSY",2358.58,"PHARMIDAL SARL","-",null,{"$f":"SUMIF(Tableau1[Description article],Tableau1[Produits],Tableau1[Emplacement])","v":0},null,{"$f":"Sheet1!$S1069-Sheet1!$R1069","v":0},"-","-","-",{"$f":"IFERROR(Tableau1[[#This Row],[THEO]]-Tableau1[[#This Row],[Qtt 2éme lot]],\"-\")","v":"-"},"-",{"$f":"IF(Tableau1[[#This Row],[2éme lot]]=\"-\",\"-\",IFERROR(IF(Q1069=\"\",\"-\",INDEX(I:I,MATCH(Q1069,C:C,0)+1)),\"-\"))","v":"-"},"-","-"]
[1908,"MD002231","NEUROPLEX 300MG GLES. B/50","GABAPENTINE","9WK002A","01.03.2021","MG/EXP1",34,"MG/EXP1-BOX6-PSY-005",null,0,null,"PSY",1256.53,"AT PHARMA SPA","-",null,{"$f":"SUMIF(Tableau1[Description article],Tableau1[Produits],Tableau1[Emplacement])","v":0},null,{"$f":"Sheet1!$S1070-Sheet1!$R1070","v":0},"-","-","-",{"$f":"IFERROR(Tableau1[[#This Row],[THEO]]-Tableau1[[#This Row],[Qtt 2éme lot]],\"-\")","v":"-"},"-",{"$f":"IF(Tableau1[[#This Row],[2éme lot]]=\"-\",\"-\",IFERROR(IF(Q1070=\"\",\"-\",INDEX(I:I,MATCH(Q1070,C:C,0)+1)),\"-\"))","v":"-"},"-","-"]
[1909,"MD002229","NEUROPLEX 400MG GLES. B/50","GABAPENTINE","9WL001A","01.03.2021","MG/EXP1",28,"MG/EXP1-BOX6-PSY-005",null,0,null,"PSY",1538.97,"AT PHARMA SPA","-",null,{"$f":"SUMIF(Tableau1[Description article],Tableau1[Produits],Tableau1[Emplacement])","v":0},null,{"$f":"Sheet1!$S1071-Sheet1!$R1071","v":0},"-","-","-",{"$f":"IFERROR(Tableau1[[#This Row],[THEO]]-Tableau1[[#This Row],[Qtt 2éme lot]],\"-\")","v":"-"},"-",{"$f":"IF(Tableau1[[#This Row],[2éme lot]]=\"-\",\"-\",IFERROR(IF(Q1071=\"\",\"-\",INDEX(I:I,MATCH(Q1071,C:C,0)+1)),\"-\"))","v":"-"},"-","-"]
[1911,"MD001255","NEUROVIT 250MG/250MG COMP. B/20","VITAMINE B1/B6","2275","01.11.2021","MG/EXP1",142,"MG/EXP1-C-012",null,0,null,null,198,"SAIDAL UNITE CENTRE","-",null,{"$f":"SUMIF(Tableau1[Description article],Tableau1[Produits],Tableau1[Emplacement])","v":0},null,{"$f":"Sheet1!$S1072-Sheet1!$R1072","v":0},"-","-","-",{"$f":"IFERROR(Tableau1[[#This Row],[THEO]]-Tableau1[[#This Row],[Qtt 2éme lot]],\"-\")","v":"-"},"-",{"$f":"IF(Tableau1[[#This Row],[2éme lot]]=\"-\",\"-\",IFERROR(IF(Q1072=\"\",\"-\",INDEX(I:I,MATCH(Q1072,C:C,0)+1)),\"-\"))","v":"-"},"-","-"]
[1914,"MD003197","NHUPAIN 275MG COMP.PELLI. B/20","NAPROXENE SODIQUE","055","01.07.2020","MG/EXP1",167,"MG/EXP1-E-029",null,0,null,null,208.1,"HUP.P PHARMA SARL","-",null,{"$f":"SUMIF(Tableau1[Description article],Tableau1[Produits],Tableau1[Emplacement])","v":0},null,{"$f":"Sheet1!$S1073-Sheet1!$R1073","v":0},"-","-","-",{"$f":"IFERROR(Tableau1[[#This Row],[THEO]]-Tableau1[[#This Row],[Qtt 2éme lot]],\"-\")","v":"-"},"-",{"$f":"IF(Tableau1[[#This Row],[2éme lot]]=\"-\",\"-\",IFERROR(IF(Q1073=\"\",\"-\",INDEX(I:I,MATCH(Q1073,C:C,0)+1)),\"-\"))","v":"-"},"-","-"]
[1915,"MD004055","NHUPAIN 550 MG B/10","naproxene sodique","084","01.12.2020","MG/EXP1",197,"MG/EXP1-E-047",null,0,null,null,215.5,"HUP.P PHARMA SARL","-",null,{"$f":"SUMIF(Tableau1[Description article],Tableau1[Produits],Tableau1[Emplacement])","v":0},null,{"$f":"Sheet1!$S1074-Sheet1!$R1074","v":0},"-","-","-",{"$f":"IFERROR(Tableau1[[#This Row],[THEO]]-Tableau1[[#This Row],[Qtt 2éme lot]],\"-\")","v":"-"},"-",{"$f":"IF(Tableau1[[#This Row],[2éme lot]]=\"-\",\"-\",IFERROR(IF(Q1074=\"\",\"-\",INDEX(I:I,MATCH(Q1074,C:C,0)+1)),\"-\"))","v":"-"},"-","-"]
[1916,"MD003200","NIDAZOLE 200MG/5ML SUSP.BUV. B/01 FL/100ML + BCHN.DOSEUR","METRONIDAZOLE BENZOATE EXPRIME EN METRONIDAZOLE","04937","01.10.2021","MG/EXP1",30,"MG/EXP1-C-012",null,0,null,null,137.59,"HIKMA PHARMA ALGERIA SARL","-",null,{"$f":"SUMIF(Tableau1[Description article],Tableau1[Produits],Tableau1[Emplacement])","v":0},null,{"$f":"Sheet1!$S1075-Sheet1!$R1075","v":0},"-","-","-",{"$f":"IFERROR(Tableau1[[#This Row],[THEO]]-Tableau1[[#This Row],[Qtt 2éme lot]],\"-\")","v":"-"},"-",{"$f":"IF(Tableau1[[#This Row],[2éme lot]]=\"-\",\"-\",IFERROR(IF(Q1075=\"\",\"-\",INDEX(I:I,MATCH(Q1075,C:C,0)+1)),\"-\"))","v":"-"},"-","-"]
[1919,"MD001263","NIFAZID 220MG/5ML SUSP.BUV. FL/90ML","NIFUROXAZIDE","1227","01.12.2022","MG/EXP1",93,"MG/EXP1-F-032",null,0,null,null,137.5,"SAIDAL UNITE CENTRE","-",null,{"$f":"SUMIF(Tableau1[Description article],Tableau1[Produits],Tableau1[Emplacement])","v":0},null,{"$f":"Sheet1!$S1076-Sheet1!$R1076","v":0},"-","-","-",{"$f":"IFERROR(Tableau1[[#This Row],[THEO]]-Tableau1[[#This Row],[Qtt 2éme lot]],\"-\")","v":"-"},"-",{"$f":"IF(Tableau1[[#This Row],[2éme lot]]=\"-\",\"-\",IFERROR(IF(Q1076=\"\",\"-\",INDEX(I:I,MATCH(Q1076,C:C,0)+1)),\"-\"))","v":"-"},"-","-"]
[1920,"MD001266","NIFLUMATE 700MG SUPP. B/10","MORNIFLUMATE","030","01.10.2021","MG/EXP1",166,"MG/EXP1-F-013",null,0,null,null,169.9,"SAIDAL UNITE CENTRE","-",null,{"$f":"SUMIF(Tableau1[Description article],Tableau1[Produits],Tableau1[Emplacement])","v":0},null,{"$f":"Sheet1!$S1077-Sheet1!$R1077","v":0},"-","-","-",{"$f":"IFERROR(Tableau1[[#This Row],[THEO]]-Tableau1[[#This Row],[Qtt 2éme lot]],\"-\")","v":"-"},"-",{"$f":"IF(Tableau1[[#This Row],[2éme lot]]=\"-\",\"-\",IFERROR(IF(Q1077=\"\",\"-\",INDEX(I:I,MATCH(Q1077,C:C,0)+1)),\"-\"))","v":"-"},"-","-"]
[1924,"MD001267","NIFLUMENE 200MG SUPP. B/08","MORNIFLUMATE","9R362*","01.05.2022","MG/EXP1",33,"MG/EXP1-A-035",null,0,null,null,158.5,"SALEM LABORATOIRES SARL","-",null,{"$f":"SUMIF(Tableau1[Description article],Tableau1[Produits],Tableau1[Emplacement])","v":0},null,{"$f":"Sheet1!$S1078-Sheet1!$R1078","v":0},"-","-","-",{"$f":"IFERROR(Tableau1[[#This Row],[THEO]]-Tableau1[[#This Row],[Qtt 2éme lot]],\"-\")","v":"-"},"-",{"$f":"IF(Tableau1[[#This Row],[2éme lot]]=\"-\",\"-\",IFERROR(IF(Q1078=\"\",\"-\",INDEX(I:I,MATCH(Q1078,C:C,0)+1)),\"-\"))","v":"-"},"-","-"]
[1925,"MD001267","NIFLUMENE 200MG SUPP. B/08","MORNIFLUMATE","9R238*","01.03.2022","MG/EXP1",100,"MG/EXP1-A-033",null,0,null,null,158.5,"SALEM LABORATOIRES SARL","-",null,{"$f":"SUMIF(Tableau1[Description article],Tableau1[Produits],Tableau1[Emplacement])","v":0},null,{"$f":"Sheet1!$S1079-Sheet1!$R1079","v":0},"-","-","-",{"$f":"IFERROR(Tableau1[[#This Row],[THEO]]-Tableau1[[#This Row],[Qtt 2éme lot]],\"-\")","v":"-"},"-",{"$f":"IF(Tableau1[[#This Row],[2éme lot]]=\"-\",\"-\",IFERROR(IF(Q1079=\"\",\"-\",INDEX(I:I,MATCH(Q1079,C:C,0)+1)),\"-\"))","v":"-"},"-","-"]
[1926,"MD001269","NIFLUMENE 400MG SUPP. B/08","MORNIFLUMATE","9R253","01.03.2022","MG/EXP1",4,"MG/EXP1-C-039",null,0,null,null,178.5,"SALEM LABORATOIRES SARL","-",null,{"$f":"SUMIF(Tableau1[Description article],Tableau1[Produits],Tableau1[Emplacement])","v":0},null,{"$f":"Sheet1!$S1080-Sheet1!$R1080","v":0},"-","-","-",{"$f":"IFERROR(Tableau1[[#This Row],[THEO]]-Tableau1[[#This Row],[Qtt 2éme lot]],\"-\")","v":"-"},"-",{"$f":"IF(Tableau1[[#This Row],[2éme lot]]=\"-\",\"-\",IFERROR(IF(Q1080=\"\",\"-\",INDEX(I:I,MATCH(Q1080,C:C,0)+1)),\"-\"))","v":"-"},"-","-"]
[1928,"MD001269","NIFLUMENE 400MG SUPP. B/08","MORNIFLUMATE","9R631","02.11.2021","MG/EXP1",266,"MG/EXP1-C-040",null,0,null,null,178.5,"SALEM LABORATOIRES SARL","-",null,{"$f":"SUMIF(Tableau1[Description article],Tableau1[Produits],Tableau1[Emplacement])","v":0},null,{"$f":"Sheet1!$S1081-Sheet1!$R1081","v":0},"-","-","-",{"$f":"IFERROR(Tableau1[[#This Row],[THEO]]-Tableau1[[#This Row],[Qtt 2éme lot]],\"-\")","v":"-"},"-",{"$f":"IF(Tableau1[[#This Row],[2éme lot]]=\"-\",\"-\",IFERROR(IF(Q1081=\"\",\"-\",INDEX(I:I,MATCH(Q1081,C:C,0)+1)),\"-\"))","v":"-"},"-","-"]
[1930,"MD001270","NIFLUMENE 700MG SUPP. B/08","MORNIFLUMATE","9R096","01.01.2022","MG/EXP1",50,"MG/EXP1-D-039",null,0,null,null,200,"SALEM LABORATOIRES SARL","-",null,{"$f":"SUMIF(Tableau1[Description article],Tableau1[Produits],Tableau1[Emplacement])","v":0},null,{"$f":"Sheet1!$S1082-Sheet1!$R1082","v":0},"-","-","-",{"$f":"IFERROR(Tableau1[[#This Row],[THEO]]-Tableau1[[#This Row],[Qtt 2éme lot]],\"-\")","v":"-"},"-",{"$f":"IF(Tableau1[[#This Row],[2éme lot]]=\"-\",\"-\",IFERROR(IF(Q1082=\"\",\"-\",INDEX(I:I,MATCH(Q1082,C:C,0)+1)),\"-\"))","v":"-"},"-","-"]
[1931,"MD001272","NIFLURIC 0,03 PDE.DERM. T/40G","ACIDE NIFLUMIQUE","19200","01.05.2022","MG/EXP1",1,"MG/EXP1-B-072",null,0,null,null,102.99,"AFRO PHARM SPA","-",null,{"$f":"SUMIF(Tableau1[Description article],Tableau1[Produits],Tableau1[Emplacement])","v":0},null,{"$f":"Sheet1!$S1083-Sheet1!$R1083","v":0},"-","-","-",{"$f":"IFERROR(Tableau1[[#This Row],[THEO]]-Tableau1[[#This Row],[Qtt 2éme lot]],\"-\")","v":"-"},"-",{"$f":"IF(Tableau1[[#This Row],[2éme lot]]=\"-\",\"-\",IFERROR(IF(Q1083=\"\",\"-\",INDEX(I:I,MATCH(Q1083,C:C,0)+1)),\"-\"))","v":"-"},"-","-"]
[1933,"MD001277","NIFRAMYCINE 1,25% (856 250UI/100ML) SOL.NAS. FL/15ML","FRAMYCETINE 1.25%","37-215","01.11.2022","MG/EXP1",333,"MG/EXP1-A-040",null,0,null,null,497.35,"L.A.D.PHARMA SARL","-",null,{"$f":"SUMIF(Tableau1[Description article],Tableau1[Produits],Tableau1[Emplacement])","v":0},null,{"$f":"Sheet1!$S1084-Sheet1!$R1084","v":0},"-","-","-",{"$f":"IFERROR(Tableau1[[#This Row],[THEO]]-Tableau1[[#This Row],[Qtt 2éme lot]],\"-\")","v":"-"},"-",{"$f":"IF(Tableau1[[#This Row],[2éme lot]]=\"-\",\"-\",IFERROR(IF(Q1084=\"\",\"-\",INDEX(I:I,MATCH(Q1084,C:C,0)+1)),\"-\"))","v":"-"},"-","-"]
[1934,"MD001276","NIFRAMYCINE HYDROCORTISON E 1,25G/0,1G/100ML SOL.NAS. FL/15ML","FRAMYCETINE 1.25% - HYDROCORTISONE 0.1%","37A-45","01.10.2021","MG/EXP1",670,"MG/EXP1-F-022",null,0,null,null,505.75,"L.A.D.PHARMA SARL","-",null,{"$f":"SUMIF(Tableau1[Description article],Tableau1[Produits],Tableau1[Emplacement])","v":0},null,{"$f":"Sheet1!$S1085-Sheet1!$R1085","v":0},"-","-","-",{"$f":"IFERROR(Tableau1[[#This Row],[THEO]]-Tableau1[[#This Row],[Qtt 2éme lot]],\"-\")","v":"-"},"-",{"$f":"IF(Tableau1[[#This Row],[2éme lot]]=\"-\",\"-\",IFERROR(IF(Q1085=\"\",\"-\",INDEX(I:I,MATCH(Q1085,C:C,0)+1)),\"-\"))","v":"-"},"-","-"]
[1936,"MD001278","NIFUROXAZIDE 0,04 SUSP.BUV. FL/90ML","NIFUROXAZIDE","0327","01.08.2022","MG/EXP1",4,"MG/EXP1-F-008",null,0,null,null,175.28,"PHARMAGHREB","-",null,{"$f":"SUMIF(Tableau1[Description article],Tableau1[Produits],Tableau1[Emplacement])","v":0},null,{"$f":"Sheet1!$S1086-Sheet1!$R1086","v":0},"-","-","-",{"$f":"IFERROR(Tableau1[[#This Row],[THEO]]-Tableau1[[#This Row],[Qtt 2éme lot]],\"-\")","v":"-"},"-",{"$f":"IF(Tableau1[[#This Row],[2éme lot]]=\"-\",\"-\",IFERROR(IF(Q1086=\"\",\"-\",INDEX(I:I,MATCH(Q1086,C:C,0)+1)),\"-\"))","v":"-"},"-","-"]
[1937,"MD001278","NIFUROXAZIDE 0,04 SUSP.BUV. FL/90ML","NIFUROXAZIDE","0326","01.06.2021","MG/EXP1",235,"MG/EXP1-E-031",null,0,null,null,175.28,"PHARMAGHREB","-",null,{"$f":"SUMIF(Tableau1[Description article],Tableau1[Produits],Tableau1[Emplacement])","v":0},null,{"$f":"Sheet1!$S1087-Sheet1!$R1087","v":0},"-","-","-",{"$f":"IFERROR(Tableau1[[#This Row],[THEO]]-Tableau1[[#This Row],[Qtt 2éme lot]],\"-\")","v":"-"},"-",{"$f":"IF(Tableau1[[#This Row],[2éme lot]]=\"-\",\"-\",IFERROR(IF(Q1087=\"\",\"-\",INDEX(I:I,MATCH(Q1087,C:C,0)+1)),\"-\"))","v":"-"},"-","-"]
[1938,"MD003970","NIFUROXAZIDE AFRO 4% SUSPENSION BUVABLE FL/ 90ML","NIFUROXAZIDE  4%","18002","30.04.2020","MG/EXP1",11,"MG/EXP1-C-018",null,0,null,null,148.3,"AFRO PHARM SPA","-",null,{"$f":"SUMIF(Tableau1[Description article],Tableau1[Produits],Tableau1[Emplacement])","v":0},null,{"$f":"Sheet1!$S1088-Sheet1!$R1088","v":0},"-","-","-",{"$f":"IFERROR(Tableau1[[#This Row],[THEO]]-Tableau1[[#This Row],[Qtt 2éme lot]],\"-\")","v":"-"},"-",{"$f":"IF(Tableau1[[#This Row],[2éme lot]]=\"-\",\"-\",IFERROR(IF(Q1088=\"\",\"-\",INDEX(I:I,MATCH(Q1088,C:C,0)+1)),\"-\"))","v":"-"},"-","-"]
[1941,"MD001281","NOBAC 500MG/267MG/160MG COMP.CROQ. B/16","ALGINATE DE NA 50+ BICARBONATE DE NA26.7","031","01.11.2020","MG/EXP1",91,"MG/EXP1-A-054",null,0,null,null,289.66,"BIOPHARM SPA","-",null,{"$f":"SUMIF(Tableau1[Description article],Tableau1[Produits],Tableau1[Emplacement])","v":0},null,{"$f":"Sheet1!$S1089-Sheet1!$R1089","v":0},"-","-","-",{"$f":"IFERROR(Tableau1[[#This Row],[THEO]]-Tableau1[[#This Row],[Qtt 2éme lot]],\"-\")","v":"-"},"-",{"$f":"IF(Tableau1[[#This Row],[2éme lot]]=\"-\",\"-\",IFERROR(IF(Q1089=\"\",\"-\",INDEX(I:I,MATCH(Q1089,C:C,0)+1)),\"-\"))","v":"-"},"-","-"]
[1943,"MD001280","NOBAC ADULTE 50MG/26,7MG/ML SUSP.BUV. B/01 FL/250ML AD.","ALGINAT SOD 250/BICARBONAT SOD 133.5","663","01.05.2021","MG/EXP1",355,"MG/EXP1-H-001",null,0,null,null,210,"BIOPHARM SPA",{"$f":"IFERROR(IF(Q1090=\"\",\"-\",INDEX(I:I,MATCH(Q1090,C:C,0))),\"-\")","v":"-"},null,{"$f":"SUMIF(Tableau1[Description article],Tableau1[Produits],Tableau1[Emplacement])","v":0},null,{"$f":"Sheet1!$S1090-Sheet1!$R1090","v":0},{"$f":"IFERROR(IF(Q1090=\"\",\"-\",INDEX(F:F,MATCH(Q1090,C:C,0))),\"-\")","v":"-"},{"$f":"IFERROR(IF(Q1090=\"\",\"-\",INDEX(E:E,MATCH(Q1090,C:C,0))),\"-\")","v":"-"},{"$f":"IFERROR(IF(Q1090=\"\",\"-\",INDEX(N:N,MATCH(Q1090,C:C,0))),\"-\")","v":"-"},{"$f":"IFERROR(Tableau1[[#This Row],[THEO]]-Tableau1[[#This Row],[Qtt 2éme lot]],\"-\")","v":"-"},{"$f":"IF(IF(Q1090=\"\",\"-\",INDEX(E:E,MATCH(Q1090,C:C,0)))=IF(Q1090=\"\",\"-\",INDEX(E:E,MATCH(Q1090,C:C,1))),\"-\",IF(Q1090=\"\",\"-\",INDEX(E:E,MATCH(Q1090,C:C,1))))","v":"-"},{"$f":"IF(Tableau1[[#This Row],[2éme lot]]=\"-\",\"-\",IFERROR(IF(Q1090=\"\",\"-\",INDEX(I:I,MATCH(Q1090,C:C,0)+1)),\"-\"))","v":"-"},{"$f":"IFERROR(IF(Y1090=\"\",\"-\",INDEX(N:N,MATCH(Y1090,E:E,0))),\"-\")","v":"-"},{"$f":"IFERROR(IF(AA1090=\"\",\"-\",INDEX(H:H,MATCH(Y1090,E:E,0))),\"-\")","v":"-"}]
[1944,"MD001282","NOBAC NOURRISSON 50MG/26,7MG/ML SUSP.BUV. FL/150ML NRS. + 01 SERING.GRAD.","ALGINAT SOD 250/BICARBONAT SOD 133.5","069","01.03.2021","MG/EXP1",137,"MG/EXP1-E-032",null,0,null,null,195,"BIOPHARM SPA","-",null,{"$f":"SUMIF(Tableau1[Description article],Tableau1[Produits],Tableau1[Emplacement])","v":0},null,{"$f":"Sheet1!$S1091-Sheet1!$R1091","v":0},"-","-","-",{"$f":"IFERROR(Tableau1[[#This Row],[THEO]]-Tableau1[[#This Row],[Qtt 2éme lot]],\"-\")","v":"-"},"-",{"$f":"IF(Tableau1[[#This Row],[2éme lot]]=\"-\",\"-\",IFERROR(IF(Q1091=\"\",\"-\",INDEX(I:I,MATCH(Q1091,C:C,0)+1)),\"-\"))","v":"-"},"-","-"]
[1947,"MD004147","NODILOF 01 G PDRE SLV SOL INJ",null,"181098","01.09.2021","MG/EXP1",192,"MG/EXP1-E-022",null,0,null,null,236.76,"GB PHARMA SARL","-",null,{"$f":"SUMIF(Tableau1[Description article],Tableau1[Produits],Tableau1[Emplacement])","v":0},null,{"$f":"Sheet1!$S1092-Sheet1!$R1092","v":0},"-","-","-",{"$f":"IFERROR(Tableau1[[#This Row],[THEO]]-Tableau1[[#This Row],[Qtt 2éme lot]],\"-\")","v":"-"},"-",{"$f":"IF(Tableau1[[#This Row],[2éme lot]]=\"-\",\"-\",IFERROR(IF(Q1092=\"\",\"-\",INDEX(I:I,MATCH(Q1092,C:C,0)+1)),\"-\"))","v":"-"},"-","-"]
[1948,"MD001283","NOLVADEX 10MG COMP.PELLI. B/30","TAMOXIFENE","94503","01.10.2023","MG/EXP1",8,"MG/EXP1-C-023",null,0,null,null,701.83,"BIOPHARM SPA","-",null,{"$f":"SUMIF(Tableau1[Description article],Tableau1[Produits],Tableau1[Emplacement])","v":0},null,{"$f":"Sheet1!$S1093-Sheet1!$R1093","v":0},"-","-","-",{"$f":"IFERROR(Tableau1[[#This Row],[THEO]]-Tableau1[[#This Row],[Qtt 2éme lot]],\"-\")","v":"-"},"-",{"$f":"IF(Tableau1[[#This Row],[2éme lot]]=\"-\",\"-\",IFERROR(IF(Q1093=\"\",\"-\",INDEX(I:I,MATCH(Q1093,C:C,0)+1)),\"-\"))","v":"-"},"-","-"]
[1952,"MD004034","NOMEGESTROL 5MG COMP. B/10","ACETATE DE NOMEGESTROL","03237","01.08.2021","MG/EXP1",29,"MG/EXP1-C-003",null,0,null,null,432.91,"UPC SARL","-",null,{"$f":"SUMIF(Tableau1[Description article],Tableau1[Produits],Tableau1[Emplacement])","v":0},null,{"$f":"Sheet1!$S1094-Sheet1!$R1094","v":0},"-","-","-",{"$f":"IFERROR(Tableau1[[#This Row],[THEO]]-Tableau1[[#This Row],[Qtt 2éme lot]],\"-\")","v":"-"},"-",{"$f":"IF(Tableau1[[#This Row],[2éme lot]]=\"-\",\"-\",IFERROR(IF(Q1094=\"\",\"-\",INDEX(I:I,MATCH(Q1094,C:C,0)+1)),\"-\"))","v":"-"},"-","-"]
[1954,"MD001285","NOPAIN 275MG COMP. B/20","NAPROXEN SODIQUE","71174","01.01.2022","MG/EXP1",336,"MG/EXP1-A-006",null,0,null,null,182.5,"HIKMA PHARMA ALGERIA SARL","-",null,{"$f":"SUMIF(Tableau1[Description article],Tableau1[Produits],Tableau1[Emplacement])","v":0},null,{"$f":"Sheet1!$S1095-Sheet1!$R1095","v":0},"-","-","-",{"$f":"IFERROR(Tableau1[[#This Row],[THEO]]-Tableau1[[#This Row],[Qtt 2éme lot]],\"-\")","v":"-"},"-",{"$f":"IF(Tableau1[[#This Row],[2éme lot]]=\"-\",\"-\",IFERROR(IF(Q1095=\"\",\"-\",INDEX(I:I,MATCH(Q1095,C:C,0)+1)),\"-\"))","v":"-"},"-","-"]
[1955,"MD001285","NOPAIN 275MG COMP. B/20","NAPROXEN SODIQUE","71163","01.01.2022","MG/EXP1",40,"MG/EXP1-A-006",null,0,null,null,182.5,"HIKMA PHARMA ALGERIA SARL","-",null,{"$f":"SUMIF(Tableau1[Description article],Tableau1[Produits],Tableau1[Emplacement])","v":0},null,{"$f":"Sheet1!$S1096-Sheet1!$R1096","v":0},"-","-","-",{"$f":"IFERROR(Tableau1[[#This Row],[THEO]]-Tableau1[[#This Row],[Qtt 2éme lot]],\"-\")","v":"-"},"-",{"$f":"IF(Tableau1[[#This Row],[2éme lot]]=\"-\",\"-\",IFERROR(IF(Q1096=\"\",\"-\",INDEX(I:I,MATCH(Q1096,C:C,0)+1)),\"-\"))","v":"-"},"-","-"]
[1958,"MD001286","NOPAIN DS 550MG COMP. B/10","NAPROXEN SODIQUE","71194*","01.01.2022","MG/EXP1",165,"MG/EXP1-D-029",null,0,null,null,182.5,"HIKMA PHARMA ALGERIA SARL","-",null,{"$f":"SUMIF(Tableau1[Description article],Tableau1[Produits],Tableau1[Emplacement])","v":0},null,{"$f":"Sheet1!$S1097-Sheet1!$R1097","v":0},"-","-","-",{"$f":"IFERROR(Tableau1[[#This Row],[THEO]]-Tableau1[[#This Row],[Qtt 2éme lot]],\"-\")","v":"-"},"-",{"$f":"IF(Tableau1[[#This Row],[2éme lot]]=\"-\",\"-\",IFERROR(IF(Q1097=\"\",\"-\",INDEX(I:I,MATCH(Q1097,C:C,0)+1)),\"-\"))","v":"-"},"-","-"]
[1960,"MD004081","NORFLOXAL 400MG  B/16",null,"571042","31.10.2021","MG/EXP1",159,"MG/EXP1-D-007",null,0,null,null,443,"SOPHAL SOCIETE PHARMACEUTIQUE ALGERIENNE","-",null,{"$f":"SUMIF(Tableau1[Description article],Tableau1[Produits],Tableau1[Emplacement])","v":0},null,{"$f":"Sheet1!$S1098-Sheet1!$R1098","v":0},"-","-","-",{"$f":"IFERROR(Tableau1[[#This Row],[THEO]]-Tableau1[[#This Row],[Qtt 2éme lot]],\"-\")","v":"-"},"-",{"$f":"IF(Tableau1[[#This Row],[2éme lot]]=\"-\",\"-\",IFERROR(IF(Q1098=\"\",\"-\",INDEX(I:I,MATCH(Q1098,C:C,0)+1)),\"-\"))","v":"-"},"-","-"]
[1962,"MD001288","NORTA 50MG COMP.PELLI.SEC. B/30","LOSARTAN","9233","31.03.2022","MG/EXP1",2,"MG/EXP1-A-066",null,0,null,null,1287.5,"INPHA MEDIS SPA","-",null,{"$f":"SUMIF(Tableau1[Description article],Tableau1[Produits],Tableau1[Emplacement])","v":0},null,{"$f":"Sheet1!$S1099-Sheet1!$R1099","v":0},"-","-","-",{"$f":"IFERROR(Tableau1[[#This Row],[THEO]]-Tableau1[[#This Row],[Qtt 2éme lot]],\"-\")","v":"-"},"-",{"$f":"IF(Tableau1[[#This Row],[2éme lot]]=\"-\",\"-\",IFERROR(IF(Q1099=\"\",\"-\",INDEX(I:I,MATCH(Q1099,C:C,0)+1)),\"-\"))","v":"-"},"-","-"]
[1963,"MD001288","NORTA 50MG COMP.PELLI.SEC. B/30","LOSARTAN","9106*","01.01.2022","MG/EXP1",14,"MG/EXP1-F-016",null,0,null,null,1287.5,"INPHA MEDIS SPA","-",null,{"$f":"SUMIF(Tableau1[Description article],Tableau1[Produits],Tableau1[Emplacement])","v":0},null,{"$f":"Sheet1!$S1100-Sheet1!$R1100","v":0},"-","-","-",{"$f":"IFERROR(Tableau1[[#This Row],[THEO]]-Tableau1[[#This Row],[Qtt 2éme lot]],\"-\")","v":"-"},"-",{"$f":"IF(Tableau1[[#This Row],[2éme lot]]=\"-\",\"-\",IFERROR(IF(Q1100=\"\",\"-\",INDEX(I:I,MATCH(Q1100,C:C,0)+1)),\"-\"))","v":"-"},"-","-"]
[1964,"MD001289","NORTA FORT 100MG COMP.PELLI.SEC. B/28","LOSARTAN POTASSIUM","9108","31.01.2022","MG/EXP1",45,"MG/EXP1-D-038",null,0,null,null,1201.5,"INPHA MEDIS SPA","-",null,{"$f":"SUMIF(Tableau1[Description article],Tableau1[Produits],Tableau1[Emplacement])","v":0},null,{"$f":"Sheet1!$S1101-Sheet1!$R1101","v":0},"-","-","-",{"$f":"IFERROR(Tableau1[[#This Row],[THEO]]-Tableau1[[#This Row],[Qtt 2éme lot]],\"-\")","v":"-"},"-",{"$f":"IF(Tableau1[[#This Row],[2éme lot]]=\"-\",\"-\",IFERROR(IF(Q1101=\"\",\"-\",INDEX(I:I,MATCH(Q1101,C:C,0)+1)),\"-\"))","v":"-"},"-","-"]
[1965,"PP00193","NOVAKAFE 100MG COMP. B/60",null,"17283","09.07.2020","MG/EXP1",33,"MG/EXP1-E-023",null,0,null,null,750,"NOVAPHARM TRADING SARL","-",null,{"$f":"SUMIF(Tableau1[Description article],Tableau1[Produits],Tableau1[Emplacement])","v":0},null,{"$f":"Sheet1!$S1102-Sheet1!$R1102","v":0},"-","-","-",{"$f":"IFERROR(Tableau1[[#This Row],[THEO]]-Tableau1[[#This Row],[Qtt 2éme lot]],\"-\")","v":"-"},"-",{"$f":"IF(Tableau1[[#This Row],[2éme lot]]=\"-\",\"-\",IFERROR(IF(Q1102=\"\",\"-\",INDEX(I:I,MATCH(Q1102,C:C,0)+1)),\"-\"))","v":"-"},"-","-"]
[1966,"MD004023","NOVAMSIL 250MG COMP. B/20","ETAMSILATE","180472","01.10.2023","MG/EXP1",2,"MG/EXP1-C-035",null,0,null,null,203.69,"GEO-PHARM SARL","-",null,{"$f":"SUMIF(Tableau1[Description article],Tableau1[Produits],Tableau1[Emplacement])","v":0},null,{"$f":"Sheet1!$S1103-Sheet1!$R1103","v":0},"-","-","-",{"$f":"IFERROR(Tableau1[[#This Row],[THEO]]-Tableau1[[#This Row],[Qtt 2éme lot]],\"-\")","v":"-"},"-",{"$f":"IF(Tableau1[[#This Row],[2éme lot]]=\"-\",\"-\",IFERROR(IF(Q1103=\"\",\"-\",INDEX(I:I,MATCH(Q1103,C:C,0)+1)),\"-\"))","v":"-"},"-","-"]
[1967,"MD001298","NOVAROL 4MG COMP.SEC. B/30","ACENOCOUMAROL","170129","01.03.2022","MG/EXP1",39,"MG/EXP1-G-001",null,0,null,null,168.94,"GB PHARMA SARL","-",null,{"$f":"SUMIF(Tableau1[Description article],Tableau1[Produits],Tableau1[Emplacement])","v":0},null,{"$f":"Sheet1!$S1104-Sheet1!$R1104","v":0},"-","-","-",{"$f":"IFERROR(Tableau1[[#This Row],[THEO]]-Tableau1[[#This Row],[Qtt 2éme lot]],\"-\")","v":"-"},"-",{"$f":"IF(Tableau1[[#This Row],[2éme lot]]=\"-\",\"-\",IFERROR(IF(Q1104=\"\",\"-\",INDEX(I:I,MATCH(Q1104,C:C,0)+1)),\"-\"))","v":"-"},"-","-"]
[1968,"MD001299","NOVASTERIDE 5MG COMP.PELLI. B/30","FINASTERIDE","B191564","01.09.2021","MG/EXP1",33,"MG/EXP1-A-004",null,0,null,null,1602.53,"NOVOMEDIS SARL","-",null,{"$f":"SUMIF(Tableau1[Description article],Tableau1[Produits],Tableau1[Emplacement])","v":0},null,{"$f":"Sheet1!$S1105-Sheet1!$R1105","v":0},"-","-","-",{"$f":"IFERROR(Tableau1[[#This Row],[THEO]]-Tableau1[[#This Row],[Qtt 2éme lot]],\"-\")","v":"-"},"-",{"$f":"IF(Tableau1[[#This Row],[2éme lot]]=\"-\",\"-\",IFERROR(IF(Q1105=\"\",\"-\",INDEX(I:I,MATCH(Q1105,C:C,0)+1)),\"-\"))","v":"-"},"-","-"]
[1969,"MD001301","NOVAZIN 25MG COMP.ENRO. B/20","LEVOMEPROMAZINE","190327/2","01.08.2023","MG/EXP1",190,"MG/EXP1-BOX6-PSY-019",null,0,null,"PSY",169.27,"BIOPHARM SPA","-",null,{"$f":"SUMIF(Tableau1[Description article],Tableau1[Produits],Tableau1[Emplacement])","v":0},null,{"$f":"Sheet1!$S1106-Sheet1!$R1106","v":0},"-","-","-",{"$f":"IFERROR(Tableau1[[#This Row],[THEO]]-Tableau1[[#This Row],[Qtt 2éme lot]],\"-\")","v":"-"},"-",{"$f":"IF(Tableau1[[#This Row],[2éme lot]]=\"-\",\"-\",IFERROR(IF(Q1106=\"\",\"-\",INDEX(I:I,MATCH(Q1106,C:C,0)+1)),\"-\"))","v":"-"},"-","-"]
[1970,"MD004079","NOVITAL 250MG/250MG COMP. B/20",null,"311125","30.11.2021","MG/EXP1",300,"MG/EXP1-E-027",null,0,null,null,196,"SOPHAL SOCIETE PHARMACEUTIQUE ALGERIENNE","-",null,{"$f":"SUMIF(Tableau1[Description article],Tableau1[Produits],Tableau1[Emplacement])","v":0},null,{"$f":"Sheet1!$S1107-Sheet1!$R1107","v":0},"-","-","-",{"$f":"IFERROR(Tableau1[[#This Row],[THEO]]-Tableau1[[#This Row],[Qtt 2éme lot]],\"-\")","v":"-"},"-",{"$f":"IF(Tableau1[[#This Row],[2éme lot]]=\"-\",\"-\",IFERROR(IF(Q1107=\"\",\"-\",INDEX(I:I,MATCH(Q1107,C:C,0)+1)),\"-\"))","v":"-"},"-","-"]
[1971,"MD001303","NOVO FER PLUS 100MG/0,35MG COMP.A SUCER B/30","HYDROXYDE FERRIQUE POLYMALTOSE","092","01.06.2020","MG/EXP1",128,"MG/EXP1-D-027",null,0,null,null,470.92,"NOVOMEDIS SARL","-",null,{"$f":"SUMIF(Tableau1[Description article],Tableau1[Produits],Tableau1[Emplacement])","v":0},null,{"$f":"Sheet1!$S1108-Sheet1!$R1108","v":0},"-","-","-",{"$f":"IFERROR(Tableau1[[#This Row],[THEO]]-Tableau1[[#This Row],[Qtt 2éme lot]],\"-\")","v":"-"},"-",{"$f":"IF(Tableau1[[#This Row],[2éme lot]]=\"-\",\"-\",IFERROR(IF(Q1108=\"\",\"-\",INDEX(I:I,MATCH(Q1108,C:C,0)+1)),\"-\"))","v":"-"},"-","-"]
[1973,"MD001306","NOVOFORMINE 850MG COMP.PELLI. B/30","METFORMINE","J0123771","01.04.2024","MG/EXP1",1479,"MG/EXP1-H-001",null,0,null,null,145.1,"ALDAPH SPA","-",null,{"$f":"SUMIF(Tableau1[Description article],Tableau1[Produits],Tableau1[Emplacement])","v":0},null,{"$f":"Sheet1!$S1109-Sheet1!$R1109","v":0},"-","-","-",{"$f":"IFERROR(Tableau1[[#This Row],[THEO]]-Tableau1[[#This Row],[Qtt 2éme lot]],\"-\")","v":"-"},"-",{"$f":"IF(Tableau1[[#This Row],[2éme lot]]=\"-\",\"-\",IFERROR(IF(Q1109=\"\",\"-\",INDEX(I:I,MATCH(Q1109,C:C,0)+1)),\"-\"))","v":"-"},"-","-"]
[1975,"MD001307","NOVOMIX 30 FLEXPEN 100UI/ML SUSP.INJ. B/05 STY.PREREMPL/3ML","INSULINE ASPARTE","JT6P009","01.04.2021","MG/EXP1",101,"MG/EXP1-BOX6",null,0,null,"GLAC",5625.77,"ALDAPH SPA","-",null,{"$f":"SUMIF(Tableau1[Description article],Tableau1[Produits],Tableau1[Emplacement])","v":0},null,{"$f":"Sheet1!$S1110-Sheet1!$R1110","v":0},"-","-","-",{"$f":"IFERROR(Tableau1[[#This Row],[THEO]]-Tableau1[[#This Row],[Qtt 2éme lot]],\"-\")","v":"-"},"-",{"$f":"IF(Tableau1[[#This Row],[2éme lot]]=\"-\",\"-\",IFERROR(IF(Q1110=\"\",\"-\",INDEX(I:I,MATCH(Q1110,C:C,0)+1)),\"-\"))","v":"-"},"-","-"]
[1981,"MD001308","NOVORAPID FLEXPEN 100UI/ML SOL.INJ. B/05 STY.PREREMPL/3ML","INSULINE ASPARTE","JT6R932*","01.11.2021","MG/EXP1",63,"MG/EXP1-BOX6",null,0,null,"GLAC",5616.66,"ALDAPH SPA","-",null,{"$f":"SUMIF(Tableau1[Description article],Tableau1[Produits],Tableau1[Emplacement])","v":0},null,{"$f":"Sheet1!$S1111-Sheet1!$R1111","v":0},"-","-","-",{"$f":"IFERROR(Tableau1[[#This Row],[THEO]]-Tableau1[[#This Row],[Qtt 2éme lot]],\"-\")","v":"-"},"-",{"$f":"IF(Tableau1[[#This Row],[2éme lot]]=\"-\",\"-\",IFERROR(IF(Q1111=\"\",\"-\",INDEX(I:I,MATCH(Q1111,C:C,0)+1)),\"-\"))","v":"-"},"-","-"]
[1982,"MD001310","NOZINAN 0,04 SOL.BUV.GTTES. FL/30ML","LEVOMEPROMAZINE","253","02.09.2022","MG/EXP1",166,"MG/EXP1-BOX6-PSY-023",null,0,null,"PSY",248.3,"BIOPHARM SPA","-",null,{"$f":"SUMIF(Tableau1[Description article],Tableau1[Produits],Tableau1[Emplacement])","v":0},null,{"$f":"Sheet1!$S1112-Sheet1!$R1112","v":0},"-","-","-",{"$f":"IFERROR(Tableau1[[#This Row],[THEO]]-Tableau1[[#This Row],[Qtt 2éme lot]],\"-\")","v":"-"},"-",{"$f":"IF(Tableau1[[#This Row],[2éme lot]]=\"-\",\"-\",IFERROR(IF(Q1112=\"\",\"-\",INDEX(I:I,MATCH(Q1112,C:C,0)+1)),\"-\"))","v":"-"},"-","-"]
[1983,"PP00195","NUTRI VIT - SP / GELEE ROYALE. F/125 ml",null,"X105","01.04.2020","MG/EXP1",12,"MG/EXP1-D-004",null,0,null,null,680,"PROVIVO SPA","-",null,{"$f":"SUMIF(Tableau1[Description article],Tableau1[Produits],Tableau1[Emplacement])","v":0},null,{"$f":"Sheet1!$S1113-Sheet1!$R1113","v":0},"-","-","-",{"$f":"IFERROR(Tableau1[[#This Row],[THEO]]-Tableau1[[#This Row],[Qtt 2éme lot]],\"-\")","v":"-"},"-",{"$f":"IF(Tableau1[[#This Row],[2éme lot]]=\"-\",\"-\",IFERROR(IF(Q1113=\"\",\"-\",INDEX(I:I,MATCH(Q1113,C:C,0)+1)),\"-\"))","v":"-"},"-","-"]
[1984,"MD004094","OBRAX 0,03 % COLLY.SOL. FL/05ML","TOBRAMYCINE","40031904","01.10.2021","MG/EXP1",90,"MG/EXP1-C-014",null,0,null,null,199.08,"SARL BIOTHERA","-",null,{"$f":"SUMIF(Tableau1[Description article],Tableau1[Produits],Tableau1[Emplacement])","v":0},null,{"$f":"Sheet1!$S1114-Sheet1!$R1114","v":0},"-","-","-",{"$f":"IFERROR(Tableau1[[#This Row],[THEO]]-Tableau1[[#This Row],[Qtt 2éme lot]],\"-\")","v":"-"},"-",{"$f":"IF(Tableau1[[#This Row],[2éme lot]]=\"-\",\"-\",IFERROR(IF(Q1114=\"\",\"-\",INDEX(I:I,MATCH(Q1114,C:C,0)+1)),\"-\"))","v":"-"},"-","-"]
[1986,"MD001312","OESTROGEL 60MG/100G GEL P.APPL.CUT. T/80G","ESTRADIOL ANHYDRE","72623","01.11.2021","MG/EXP1",2,"MG/EXP1-D-009",null,0,null,null,362.61,"UPC SARL","-",null,{"$f":"SUMIF(Tableau1[Description article],Tableau1[Produits],Tableau1[Emplacement])","v":0},null,{"$f":"Sheet1!$S1115-Sheet1!$R1115","v":0},"-","-","-",{"$f":"IFERROR(Tableau1[[#This Row],[THEO]]-Tableau1[[#This Row],[Qtt 2éme lot]],\"-\")","v":"-"},"-",{"$f":"IF(Tableau1[[#This Row],[2éme lot]]=\"-\",\"-\",IFERROR(IF(Q1115=\"\",\"-\",INDEX(I:I,MATCH(Q1115,C:C,0)+1)),\"-\"))","v":"-"},"-","-"]
[1987,"MD001315","OLANZA 10MG COMP.PELLI. B/07","OLANZAPINE","004219","16.01.2022","MG/EXP1",6,"MG/EXP1-BOX6-PSY-019",null,0,null,null,1397.5,"BEKER LABORATOIRES","-",null,{"$f":"SUMIF(Tableau1[Description article],Tableau1[Produits],Tableau1[Emplacement])","v":0},null,{"$f":"Sheet1!$S1116-Sheet1!$R1116","v":0},"-","-","-",{"$f":"IFERROR(Tableau1[[#This Row],[THEO]]-Tableau1[[#This Row],[Qtt 2éme lot]],\"-\")","v":"-"},"-",{"$f":"IF(Tableau1[[#This Row],[2éme lot]]=\"-\",\"-\",IFERROR(IF(Q1116=\"\",\"-\",INDEX(I:I,MATCH(Q1116,C:C,0)+1)),\"-\"))","v":"-"},"-","-"]
[1988,"MD001315","OLANZA 10MG COMP.PELLI. B/07","OLANZAPINE","090219","01.10.2022","MG/EXP1",167,"MG/EXP1-BOX6-PSY-019",null,0,null,null,1397.5,"BEKER LABORATOIRES","-",null,{"$f":"SUMIF(Tableau1[Description article],Tableau1[Produits],Tableau1[Emplacement])","v":0},null,{"$f":"Sheet1!$S1117-Sheet1!$R1117","v":0},"-","-","-",{"$f":"IFERROR(Tableau1[[#This Row],[THEO]]-Tableau1[[#This Row],[Qtt 2éme lot]],\"-\")","v":"-"},"-",{"$f":"IF(Tableau1[[#This Row],[2éme lot]]=\"-\",\"-\",IFERROR(IF(Q1117=\"\",\"-\",INDEX(I:I,MATCH(Q1117,C:C,0)+1)),\"-\"))","v":"-"},"-","-"]
[1991,"MD001314","OLANZA 10MG COMP.PELLI. B/28","OLANZAPINE","023019","27.02.2022","MG/EXP1",2,"MG/EXP1-BOX6-PSY-019",null,0,null,"PSY",5597.5,"BEKER LABORATOIRES","-",null,{"$f":"SUMIF(Tableau1[Description article],Tableau1[Produits],Tableau1[Emplacement])","v":0},null,{"$f":"Sheet1!$S1118-Sheet1!$R1118","v":0},"-","-","-",{"$f":"IFERROR(Tableau1[[#This Row],[THEO]]-Tableau1[[#This Row],[Qtt 2éme lot]],\"-\")","v":"-"},"-",{"$f":"IF(Tableau1[[#This Row],[2éme lot]]=\"-\",\"-\",IFERROR(IF(Q1118=\"\",\"-\",INDEX(I:I,MATCH(Q1118,C:C,0)+1)),\"-\"))","v":"-"},"-","-"]
[1992,"MD001314","OLANZA 10MG COMP.PELLI. B/28","OLANZAPINE","090519","01.10.2022","MG/EXP1",397,"MG/EXP1-BOX6-PSY-019",null,0,null,"PSY",5597.5,"BEKER LABORATOIRES","-",null,{"$f":"SUMIF(Tableau1[Description article],Tableau1[Produits],Tableau1[Emplacement])","v":0},null,{"$f":"Sheet1!$S1119-Sheet1!$R1119","v":0},"-","-","-",{"$f":"IFERROR(Tableau1[[#This Row],[THEO]]-Tableau1[[#This Row],[Qtt 2éme lot]],\"-\")","v":"-"},"-",{"$f":"IF(Tableau1[[#This Row],[2éme lot]]=\"-\",\"-\",IFERROR(IF(Q1119=\"\",\"-\",INDEX(I:I,MATCH(Q1119,C:C,0)+1)),\"-\"))","v":"-"},"-","-"]
[1993,"MD001316","OLANZA 5MG COMP.PELLI. B/28","OLANZAPINE","004019","01.01.2022","MG/EXP1",98,"MG/EXP1-BOX6-PSY-020",null,0,null,"CHER",2797.5,"BEKER LABORATOIRES","-",null,{"$f":"SUMIF(Tableau1[Description article],Tableau1[Produits],Tableau1[Emplacement])","v":0},null,{"$f":"Sheet1!$S1120-Sheet1!$R1120","v":0},"-","-","-",{"$f":"IFERROR(Tableau1[[#This Row],[THEO]]-Tableau1[[#This Row],[Qtt 2éme lot]],\"-\")","v":"-"},"-",{"$f":"IF(Tableau1[[#This Row],[2éme lot]]=\"-\",\"-\",IFERROR(IF(Q1120=\"\",\"-\",INDEX(I:I,MATCH(Q1120,C:C,0)+1)),\"-\"))","v":"-"},"-","-"]
[1994,"MD001318","OLANZAPINE MM 10MG COMP.PELLI. B/28","OLANZAPINE","028","01.03.2021","MG/EXP1",2,"MG/EXP1-BOX6-PSY-020",null,0,null,"PSY",5597.5,"MM LABORATOIRE MM SARL","-",null,{"$f":"SUMIF(Tableau1[Description article],Tableau1[Produits],Tableau1[Emplacement])","v":0},null,{"$f":"Sheet1!$S1121-Sheet1!$R1121","v":0},"-","-","-",{"$f":"IFERROR(Tableau1[[#This Row],[THEO]]-Tableau1[[#This Row],[Qtt 2éme lot]],\"-\")","v":"-"},"-",{"$f":"IF(Tableau1[[#This Row],[2éme lot]]=\"-\",\"-\",IFERROR(IF(Q1121=\"\",\"-\",INDEX(I:I,MATCH(Q1121,C:C,0)+1)),\"-\"))","v":"-"},"-","-"]
[1995,"MD001318","OLANZAPINE MM 10MG COMP.PELLI. B/28","OLANZAPINE","031","01.07.2021","MG/EXP1",38,"MG/EXP1-BOX6-PSY-020",null,0,null,"PSY",5597.5,"MM LABORATOIRE MM SARL","-",null,{"$f":"SUMIF(Tableau1[Description article],Tableau1[Produits],Tableau1[Emplacement])","v":0},null,{"$f":"Sheet1!$S1122-Sheet1!$R1122","v":0},"-","-","-",{"$f":"IFERROR(Tableau1[[#This Row],[THEO]]-Tableau1[[#This Row],[Qtt 2éme lot]],\"-\")","v":"-"},"-",{"$f":"IF(Tableau1[[#This Row],[2éme lot]]=\"-\",\"-\",IFERROR(IF(Q1122=\"\",\"-\",INDEX(I:I,MATCH(Q1122,C:C,0)+1)),\"-\"))","v":"-"},"-","-"]
[1996,"MD001321","OLANZEX 10MG COMP.PELLI. B/30","OLANZAPINE","M24001R","01.06.2022","MG/EXP1",29,"MG/EXP1-BOX6-PSY-011",null,0,null,"CHER",5997.5,"MERINAL LABORATOIRES","-",null,{"$f":"SUMIF(Tableau1[Description article],Tableau1[Produits],Tableau1[Emplacement])","v":0},null,{"$f":"Sheet1!$S1123-Sheet1!$R1123","v":0},"-","-","-",{"$f":"IFERROR(Tableau1[[#This Row],[THEO]]-Tableau1[[#This Row],[Qtt 2éme lot]],\"-\")","v":"-"},"-",{"$f":"IF(Tableau1[[#This Row],[2éme lot]]=\"-\",\"-\",IFERROR(IF(Q1123=\"\",\"-\",INDEX(I:I,MATCH(Q1123,C:C,0)+1)),\"-\"))","v":"-"},"-","-"]
[1997,"MD001322","OLANZOMAX 10MG COMP.ORODIS. B/30","OLANZAPINE","005","29.05.2020","MG/EXP1",3,"MG/EXP1-BOX6-PSY-020",null,0,null,"PSY",5997.5,"BIOPHARM SPA","-",null,{"$f":"SUMIF(Tableau1[Description article],Tableau1[Produits],Tableau1[Emplacement])","v":0},null,{"$f":"Sheet1!$S1124-Sheet1!$R1124","v":0},"-","-","-",{"$f":"IFERROR(Tableau1[[#This Row],[THEO]]-Tableau1[[#This Row],[Qtt 2éme lot]],\"-\")","v":"-"},"-",{"$f":"IF(Tableau1[[#This Row],[2éme lot]]=\"-\",\"-\",IFERROR(IF(Q1124=\"\",\"-\",INDEX(I:I,MATCH(Q1124,C:C,0)+1)),\"-\"))","v":"-"},"-","-"]
[1998,"MD001322","OLANZOMAX 10MG COMP.ORODIS. B/30","OLANZAPINE","006","01.03.2021","MG/EXP1",158,"MG/EXP1-BOX6-PSY-019",null,0,null,"PSY",5997.5,"BIOPHARM SPA","-",null,{"$f":"SUMIF(Tableau1[Description article],Tableau1[Produits],Tableau1[Emplacement])","v":0},null,{"$f":"Sheet1!$S1125-Sheet1!$R1125","v":0},"-","-","-",{"$f":"IFERROR(Tableau1[[#This Row],[THEO]]-Tableau1[[#This Row],[Qtt 2éme lot]],\"-\")","v":"-"},"-",{"$f":"IF(Tableau1[[#This Row],[2éme lot]]=\"-\",\"-\",IFERROR(IF(Q1125=\"\",\"-\",INDEX(I:I,MATCH(Q1125,C:C,0)+1)),\"-\"))","v":"-"},"-","-"]
[1999,"MD003246","OLPREXA 10MG COMP.ORODIS. B/30","OLANZAPINE","018/19","01.12.2022","MG/EXP1",128,"MG/EXP1-BOX6-PSY-022",null,0,null,"CHER",5997.5,"PHARMALLIANCE EURL","-",null,{"$f":"SUMIF(Tableau1[Description article],Tableau1[Produits],Tableau1[Emplacement])","v":0},null,{"$f":"Sheet1!$S1126-Sheet1!$R1126","v":0},"-","-","-",{"$f":"IFERROR(Tableau1[[#This Row],[THEO]]-Tableau1[[#This Row],[Qtt 2éme lot]],\"-\")","v":"-"},"-",{"$f":"IF(Tableau1[[#This Row],[2éme lot]]=\"-\",\"-\",IFERROR(IF(Q1126=\"\",\"-\",INDEX(I:I,MATCH(Q1126,C:C,0)+1)),\"-\"))","v":"-"},"-","-"]
[2000,"MD004134","OMAG 250MG GEL B/30","OXYDE DE MAGNESIUM","004","01.08.2020","MG/EXP1",104,"MG/EXP1-D-031",null,0,null,null,450,"BIO-GALENIC SARL","-",null,{"$f":"SUMIF(Tableau1[Description article],Tableau1[Produits],Tableau1[Emplacement])","v":0},null,{"$f":"Sheet1!$S1127-Sheet1!$R1127","v":0},"-","-","-",{"$f":"IFERROR(Tableau1[[#This Row],[THEO]]-Tableau1[[#This Row],[Qtt 2éme lot]],\"-\")","v":"-"},"-",{"$f":"IF(Tableau1[[#This Row],[2éme lot]]=\"-\",\"-\",IFERROR(IF(Q1127=\"\",\"-\",INDEX(I:I,MATCH(Q1127,C:C,0)+1)),\"-\"))","v":"-"},"-","-"]
[2001,"MD001325","OMED-20 20MG GLES. A MICROGRAN.GASTRORESIST B/14 STRIP/BLISTER/PILUL.","OMEPRAZOL","OM0119","31.03.2022","MG/EXP1",1,"MG/EXP1-C-068",null,0,null,null,194.5,"CHIMIE PHARMACIE COMMERCE MULTIPLE SARL","-",null,{"$f":"SUMIF(Tableau1[Description article],Tableau1[Produits],Tableau1[Emplacement])","v":0},null,{"$f":"Sheet1!$S1128-Sheet1!$R1128","v":0},"-","-","-",{"$f":"IFERROR(Tableau1[[#This Row],[THEO]]-Tableau1[[#This Row],[Qtt 2éme lot]],\"-\")","v":"-"},"-",{"$f":"IF(Tableau1[[#This Row],[2éme lot]]=\"-\",\"-\",IFERROR(IF(Q1128=\"\",\"-\",INDEX(I:I,MATCH(Q1128,C:C,0)+1)),\"-\"))","v":"-"},"-","-"]
[2002,"PP00414","OMEGA 3  CAPS.B/30","EPA-DHA","2704TAC","01.11.2020","MG/EXP1",8,"MG/EXP1-C-001",null,0,null,null,998.15,"BIOREAL PHARM SPA","-",null,{"$f":"SUMIF(Tableau1[Description article],Tableau1[Produits],Tableau1[Emplacement])","v":0},null,{"$f":"Sheet1!$S1129-Sheet1!$R1129","v":0},"-","-","-",{"$f":"IFERROR(Tableau1[[#This Row],[THEO]]-Tableau1[[#This Row],[Qtt 2éme lot]],\"-\")","v":"-"},"-",{"$f":"IF(Tableau1[[#This Row],[2éme lot]]=\"-\",\"-\",IFERROR(IF(Q1129=\"\",\"-\",INDEX(I:I,MATCH(Q1129,C:C,0)+1)),\"-\"))","v":"-"},"-","-"]
[2003,"PP00333","OMEGA RIKOMED MOLLES 1000 MG .B/30 CAPS",null,"097030","01.05.2020","MG/EXP1",7,"MG/EXP1-G-017",null,0,null,null,911.06,"BIOREAL PHARM SPA","-",null,{"$f":"SUMIF(Tableau1[Description article],Tableau1[Produits],Tableau1[Emplacement])","v":0},null,{"$f":"Sheet1!$S1130-Sheet1!$R1130","v":0},"-","-","-",{"$f":"IFERROR(Tableau1[[#This Row],[THEO]]-Tableau1[[#This Row],[Qtt 2éme lot]],\"-\")","v":"-"},"-",{"$f":"IF(Tableau1[[#This Row],[2éme lot]]=\"-\",\"-\",IFERROR(IF(Q1130=\"\",\"-\",INDEX(I:I,MATCH(Q1130,C:C,0)+1)),\"-\"))","v":"-"},"-","-"]
[2004,"MD001329","OMNICEF 125MG/5ML SUSP.BUV. FL/80ML","CEFDINIR","4361","01.11.2021","MG/EXP1",55,"MG/EXP1-BOX6-005",null,0,null,null,3091.48,"HIKMA PHARMA ALGERIA SARL","-",null,{"$f":"SUMIF(Tableau1[Description article],Tableau1[Produits],Tableau1[Emplacement])","v":0},null,{"$f":"Sheet1!$S1131-Sheet1!$R1131","v":0},"-","-","-",{"$f":"IFERROR(Tableau1[[#This Row],[THEO]]-Tableau1[[#This Row],[Qtt 2éme lot]],\"-\")","v":"-"},"-",{"$f":"IF(Tableau1[[#This Row],[2éme lot]]=\"-\",\"-\",IFERROR(IF(Q1131=\"\",\"-\",INDEX(I:I,MATCH(Q1131,C:C,0)+1)),\"-\"))","v":"-"},"-","-"]
[2005,"MD001338","ON CALL EXTRA LECTEUR GLYCEMIE","LECTEUR DE GLYCEMIE","20360129","01.10.2020","MG/EXP1",58,"MG/EXP1-BOX6-023",null,0,null,null,0,"YES LAB SARL","-",null,{"$f":"SUMIF(Tableau1[Description article],Tableau1[Produits],Tableau1[Emplacement])","v":0},null,{"$f":"Sheet1!$S1132-Sheet1!$R1132","v":0},"-","-","-",{"$f":"IFERROR(Tableau1[[#This Row],[THEO]]-Tableau1[[#This Row],[Qtt 2éme lot]],\"-\")","v":"-"},"-",{"$f":"IF(Tableau1[[#This Row],[2éme lot]]=\"-\",\"-\",IFERROR(IF(Q1132=\"\",\"-\",INDEX(I:I,MATCH(Q1132,C:C,0)+1)),\"-\"))","v":"-"},"-","-"]
[2007,"MD001339","ONDANSETRON INPHA-MEDIS 8MG COMP.PELLI. B/10","ONDANSETRON","8595","31.07.2020","MG/EXP1",7,"MG/EXP1-A-031",null,0,null,null,1141.5,"INPHA MEDIS SPA","-",null,{"$f":"SUMIF(Tableau1[Description article],Tableau1[Produits],Tableau1[Emplacement])","v":0},null,{"$f":"Sheet1!$S1133-Sheet1!$R1133","v":0},"-","-","-",{"$f":"IFERROR(Tableau1[[#This Row],[THEO]]-Tableau1[[#This Row],[Qtt 2éme lot]],\"-\")","v":"-"},"-",{"$f":"IF(Tableau1[[#This Row],[2éme lot]]=\"-\",\"-\",IFERROR(IF(Q1133=\"\",\"-\",INDEX(I:I,MATCH(Q1133,C:C,0)+1)),\"-\"))","v":"-"},"-","-"]
[2008,"MD002342","ONDAPHREN 4MG COMP.ORODIS. B/04","ONDANSETRON CHLORHYDRATE DIHYDRATE EXPRIME EN ONDANSETRON","190876","01.11.2020","MG/EXP1",112,"MG/EXP1-F-041",null,0,null,null,283.1,"EL KENDI INDUSTRIE DE MEDICAMENTS SPA","-",null,{"$f":"SUMIF(Tableau1[Description article],Tableau1[Produits],Tableau1[Emplacement])","v":0},null,{"$f":"Sheet1!$S1134-Sheet1!$R1134","v":0},"-","-","-",{"$f":"IFERROR(Tableau1[[#This Row],[THEO]]-Tableau1[[#This Row],[Qtt 2éme lot]],\"-\")","v":"-"},"-",{"$f":"IF(Tableau1[[#This Row],[2éme lot]]=\"-\",\"-\",IFERROR(IF(Q1134=\"\",\"-\",INDEX(I:I,MATCH(Q1134,C:C,0)+1)),\"-\"))","v":"-"},"-","-"]
[2009,"MD002346","ONDAPHREN 8MG COMP.ORODIS. B/04","ONDANSETRON","190877","01.11.2020","MG/EXP1",108,"MG/EXP1-C-041",null,0,null,null,441.492,"EL KENDI INDUSTRIE DE MEDICAMENTS SPA","-",null,{"$f":"SUMIF(Tableau1[Description article],Tableau1[Produits],Tableau1[Emplacement])","v":0},null,{"$f":"Sheet1!$S1135-Sheet1!$R1135","v":0},"-","-","-",{"$f":"IFERROR(Tableau1[[#This Row],[THEO]]-Tableau1[[#This Row],[Qtt 2éme lot]],\"-\")","v":"-"},"-",{"$f":"IF(Tableau1[[#This Row],[2éme lot]]=\"-\",\"-\",IFERROR(IF(Q1135=\"\",\"-\",INDEX(I:I,MATCH(Q1135,C:C,0)+1)),\"-\"))","v":"-"},"-","-"]
[2010,"MD001342","OPATANOL 1MG/ML COLLY.SOL. FL/5ML","OLOPATADINE","8MAB1G","31.10.2021","MG/EXP1",1000,"MG/EXP1-G-044",null,0,null,null,730.98,"BIOPHARM SPA","-",null,{"$f":"SUMIF(Tableau1[Description article],Tableau1[Produits],Tableau1[Emplacement])","v":0},null,{"$f":"Sheet1!$S1136-Sheet1!$R1136","v":0},"-","-","-",{"$f":"IFERROR(Tableau1[[#This Row],[THEO]]-Tableau1[[#This Row],[Qtt 2éme lot]],\"-\")","v":"-"},"-",{"$f":"IF(Tableau1[[#This Row],[2éme lot]]=\"-\",\"-\",IFERROR(IF(Q1136=\"\",\"-\",INDEX(I:I,MATCH(Q1136,C:C,0)+1)),\"-\"))","v":"-"},"-","-"]
[2011,"MD001342","OPATANOL 1MG/ML COLLY.SOL. FL/5ML","OLOPATADINE","8MAB1E","31.10.2021","MG/EXP1",1,"MG/EXP1-G-002",null,0,null,null,733.45,"BIOPHARM SPA","-",null,{"$f":"SUMIF(Tableau1[Description article],Tableau1[Produits],Tableau1[Emplacement])","v":0},null,{"$f":"Sheet1!$S1137-Sheet1!$R1137","v":0},"-","-","-",{"$f":"IFERROR(Tableau1[[#This Row],[THEO]]-Tableau1[[#This Row],[Qtt 2éme lot]],\"-\")","v":"-"},"-",{"$f":"IF(Tableau1[[#This Row],[2éme lot]]=\"-\",\"-\",IFERROR(IF(Q1137=\"\",\"-\",INDEX(I:I,MATCH(Q1137,C:C,0)+1)),\"-\"))","v":"-"},"-","-"]
[2014,"MD001348","ORALVEX 0,1% SOL.P.BAIN DE BOUCHE B/01 FL/125ML","HEXETIDINE 0.1%","04713","01.12.2020","MG/EXP1",30,"MG/EXP1-A-040",null,0,null,null,194.09,"UPC SARL","-",null,{"$f":"SUMIF(Tableau1[Description article],Tableau1[Produits],Tableau1[Emplacement])","v":0},null,{"$f":"Sheet1!$S1138-Sheet1!$R1138","v":0},"-","-","-",{"$f":"IFERROR(Tableau1[[#This Row],[THEO]]-Tableau1[[#This Row],[Qtt 2éme lot]],\"-\")","v":"-"},"-",{"$f":"IF(Tableau1[[#This Row],[2éme lot]]=\"-\",\"-\",IFERROR(IF(Q1138=\"\",\"-\",INDEX(I:I,MATCH(Q1138,C:C,0)+1)),\"-\"))","v":"-"},"-","-"]
[2017,"MD001349","ORAPEN 1 000 000 UI COMP. B/12","PENICILLINE","649","01.09.2022","MG/EXP1",149,"MG/EXP1-C-021",null,0,null,null,181.46,"SAIDAL UNITE CENTRE","-",null,{"$f":"SUMIF(Tableau1[Description article],Tableau1[Produits],Tableau1[Emplacement])","v":0},null,{"$f":"Sheet1!$S1139-Sheet1!$R1139","v":0},"-","-","-",{"$f":"IFERROR(Tableau1[[#This Row],[THEO]]-Tableau1[[#This Row],[Qtt 2éme lot]],\"-\")","v":"-"},"-",{"$f":"IF(Tableau1[[#This Row],[2éme lot]]=\"-\",\"-\",IFERROR(IF(Q1139=\"\",\"-\",INDEX(I:I,MATCH(Q1139,C:C,0)+1)),\"-\"))","v":"-"},"-","-"]
[2020,"MD001350","ORAPEN 1 500 000 UI COMP.SEC. B/12","PENICILLINE","318","01.10.2022","MG/EXP1",150,"MG/EXP1-F-042",null,0,null,null,273.38,"SAIDAL UNITE CENTRE","-",null,{"$f":"SUMIF(Tableau1[Description article],Tableau1[Produits],Tableau1[Emplacement])","v":0},null,{"$f":"Sheet1!$S1140-Sheet1!$R1140","v":0},"-","-","-",{"$f":"IFERROR(Tableau1[[#This Row],[THEO]]-Tableau1[[#This Row],[Qtt 2éme lot]],\"-\")","v":"-"},"-",{"$f":"IF(Tableau1[[#This Row],[2éme lot]]=\"-\",\"-\",IFERROR(IF(Q1140=\"\",\"-\",INDEX(I:I,MATCH(Q1140,C:C,0)+1)),\"-\"))","v":"-"},"-","-"]
[2024,"MD001351","ORAPEN 250 000UI/5ML PDRE.SUSP.ORA. FL/60 ML","PENICILLINE","064","01.05.2022","MG/EXP1",94,"MG/EXP1-E-013",null,0,null,null,123.5,"SAIDAL UNITE CENTRE","-",null,{"$f":"SUMIF(Tableau1[Description article],Tableau1[Produits],Tableau1[Emplacement])","v":0},null,{"$f":"Sheet1!$S1141-Sheet1!$R1141","v":0},"-","-","-",{"$f":"IFERROR(Tableau1[[#This Row],[THEO]]-Tableau1[[#This Row],[Qtt 2éme lot]],\"-\")","v":"-"},"-",{"$f":"IF(Tableau1[[#This Row],[2éme lot]]=\"-\",\"-\",IFERROR(IF(Q1141=\"\",\"-\",INDEX(I:I,MATCH(Q1141,C:C,0)+1)),\"-\"))","v":"-"},"-","-"]
[2025,"MD003263","ORBENINE 500MG GLES. B/16","CLOXACILLNE SODIQUE MONOHYDRATEE EXPRIME EN CLOXAILLINE","192306","30.11.2020","MG/EXP1",244,"MG/EXP1-D-021",null,0,null,null,712.73,"AT PHARMA SPA","-",null,{"$f":"SUMIF(Tableau1[Description article],Tableau1[Produits],Tableau1[Emplacement])","v":0},null,{"$f":"Sheet1!$S1142-Sheet1!$R1142","v":0},"-","-","-",{"$f":"IFERROR(Tableau1[[#This Row],[THEO]]-Tableau1[[#This Row],[Qtt 2éme lot]],\"-\")","v":"-"},"-",{"$f":"IF(Tableau1[[#This Row],[2éme lot]]=\"-\",\"-\",IFERROR(IF(Q1142=\"\",\"-\",INDEX(I:I,MATCH(Q1142,C:C,0)+1)),\"-\"))","v":"-"},"-","-"]
[2026,"MD001352","ORGALUTRAN 0,5MG/ML SOL.INJ.SC. B/01 SERING.PREREMPL/5ML","GANIRELIX","S009694*","31.10.2021","MG/EXP1",15,"MG/EXP1-BOX6",null,0,null,"CHER",3265.18,"BIOPHARM SPA","-",null,{"$f":"SUMIF(Tableau1[Description article],Tableau1[Produits],Tableau1[Emplacement])","v":0},null,{"$f":"Sheet1!$S1143-Sheet1!$R1143","v":0},"-","-","-",{"$f":"IFERROR(Tableau1[[#This Row],[THEO]]-Tableau1[[#This Row],[Qtt 2éme lot]],\"-\")","v":"-"},"-",{"$f":"IF(Tableau1[[#This Row],[2éme lot]]=\"-\",\"-\",IFERROR(IF(Q1143=\"\",\"-\",INDEX(I:I,MATCH(Q1143,C:C,0)+1)),\"-\"))","v":"-"},"-","-"]
[2027,"MD001352","ORGALUTRAN 0,5MG/ML SOL.INJ.SC. B/01 SERING.PREREMPL/5ML","GANIRELIX","S030075","01.02.2022","MG/EXP1",20,"MG/EXP1-BOX6-006",null,0,null,"CHER",3012.19,"BIOPHARM SPA","-",null,{"$f":"SUMIF(Tableau1[Description article],Tableau1[Produits],Tableau1[Emplacement])","v":0},null,{"$f":"Sheet1!$S1144-Sheet1!$R1144","v":0},"-","-","-",{"$f":"IFERROR(Tableau1[[#This Row],[THEO]]-Tableau1[[#This Row],[Qtt 2éme lot]],\"-\")","v":"-"},"-",{"$f":"IF(Tableau1[[#This Row],[2éme lot]]=\"-\",\"-\",IFERROR(IF(Q1144=\"\",\"-\",INDEX(I:I,MATCH(Q1144,C:C,0)+1)),\"-\"))","v":"-"},"-","-"]
[2032,"MD001354","ORGAMETRIL 5MG COMP. B/30","LYNESTRENOL","S009072","01.10.2023","MG/EXP1",374,"MG/EXP1-A-006",null,0,null,null,296.83,"BIOPHARM SPA","-",null,{"$f":"SUMIF(Tableau1[Description article],Tableau1[Produits],Tableau1[Emplacement])","v":0},null,{"$f":"Sheet1!$S1145-Sheet1!$R1145","v":0},"-","-","-",{"$f":"IFERROR(Tableau1[[#This Row],[THEO]]-Tableau1[[#This Row],[Qtt 2éme lot]],\"-\")","v":"-"},"-",{"$f":"IF(Tableau1[[#This Row],[2éme lot]]=\"-\",\"-\",IFERROR(IF(Q1145=\"\",\"-\",INDEX(I:I,MATCH(Q1145,C:C,0)+1)),\"-\"))","v":"-"},"-","-"]
[2034,"MD004002","ORILYSE 0.5% SOL.AURIC. F/10ML","DOCUSATE DE SODIUM","20903","01.04.2021","MG/EXP1",147,"MG/EXP1-B-060",null,0,null,null,160.85,"PHARMIDAL SARL","-",null,{"$f":"SUMIF(Tableau1[Description article],Tableau1[Produits],Tableau1[Emplacement])","v":0},null,{"$f":"Sheet1!$S1146-Sheet1!$R1146","v":0},"-","-","-",{"$f":"IFERROR(Tableau1[[#This Row],[THEO]]-Tableau1[[#This Row],[Qtt 2éme lot]],\"-\")","v":"-"},"-",{"$f":"IF(Tableau1[[#This Row],[2éme lot]]=\"-\",\"-\",IFERROR(IF(Q1146=\"\",\"-\",INDEX(I:I,MATCH(Q1146,C:C,0)+1)),\"-\"))","v":"-"},"-","-"]
[2035,"MD001358","OROFER 10MG/ML SRP. FL/100ML + GBL.DOSEUR","HYDROXYDE FERRIQUE POLYMALTOSE","9522","01.09.2022","MG/EXP1",71,"MG/EXP1-F-048",null,0,null,null,223,"INPHA MEDIS SPA","-",null,{"$f":"SUMIF(Tableau1[Description article],Tableau1[Produits],Tableau1[Emplacement])","v":0},null,{"$f":"Sheet1!$S1147-Sheet1!$R1147","v":0},"-","-","-",{"$f":"IFERROR(Tableau1[[#This Row],[THEO]]-Tableau1[[#This Row],[Qtt 2éme lot]],\"-\")","v":"-"},"-",{"$f":"IF(Tableau1[[#This Row],[2éme lot]]=\"-\",\"-\",IFERROR(IF(Q1147=\"\",\"-\",INDEX(I:I,MATCH(Q1147,C:C,0)+1)),\"-\"))","v":"-"},"-","-"]
[2037,"MD001357","OROFER PLUS 20MG/ML SRP. FL/100ML + GBL. DOSEUR/15ML","HYDROXYDE FERRIQUE POLYMALTOSE","9686","31.12.2022","MG/EXP1",188,"MG/EXP1-B-012",null,0,null,null,316.8,"INPHA MEDIS SPA","-",null,{"$f":"SUMIF(Tableau1[Description article],Tableau1[Produits],Tableau1[Emplacement])","v":0},null,{"$f":"Sheet1!$S1148-Sheet1!$R1148","v":0},"-","-","-",{"$f":"IFERROR(Tableau1[[#This Row],[THEO]]-Tableau1[[#This Row],[Qtt 2éme lot]],\"-\")","v":"-"},"-",{"$f":"IF(Tableau1[[#This Row],[2éme lot]]=\"-\",\"-\",IFERROR(IF(Q1148=\"\",\"-\",INDEX(I:I,MATCH(Q1148,C:C,0)+1)),\"-\"))","v":"-"},"-","-"]
[2038,"MD001359","OROGYL 750 000UI/125MG COMP.PELLI. B/20","SPIRAMYCINE 0.75MUI+METRONIDAZOLE 125MG","1151901","01.01.2021","MG/EXP1",148,"MG/EXP1-F-010",null,0,null,null,388.08,"BIOCARE SARL","-",null,{"$f":"SUMIF(Tableau1[Description article],Tableau1[Produits],Tableau1[Emplacement])","v":0},null,{"$f":"Sheet1!$S1149-Sheet1!$R1149","v":0},"-","-","-",{"$f":"IFERROR(Tableau1[[#This Row],[THEO]]-Tableau1[[#This Row],[Qtt 2éme lot]],\"-\")","v":"-"},"-",{"$f":"IF(Tableau1[[#This Row],[2éme lot]]=\"-\",\"-\",IFERROR(IF(Q1149=\"\",\"-\",INDEX(I:I,MATCH(Q1149,C:C,0)+1)),\"-\"))","v":"-"},"-","-"]
[2039,"MD004088","OROKAL 100MG (5MG/ML SOL.RECONST) SUSP.BUV. FL/40ML","céfalexine","334028","30.11.2021","MG/EXP1",227,"MG/EXP1-G-035",null,0,null,null,877.54,"SOPHAL SOCIETE PHARMACEUTIQUE ALGERIENNE","-",null,{"$f":"SUMIF(Tableau1[Description article],Tableau1[Produits],Tableau1[Emplacement])","v":0},null,{"$f":"Sheet1!$S1150-Sheet1!$R1150","v":0},"-","-","-",{"$f":"IFERROR(Tableau1[[#This Row],[THEO]]-Tableau1[[#This Row],[Qtt 2éme lot]],\"-\")","v":"-"},"-",{"$f":"IF(Tableau1[[#This Row],[2éme lot]]=\"-\",\"-\",IFERROR(IF(Q1150=\"\",\"-\",INDEX(I:I,MATCH(Q1150,C:C,0)+1)),\"-\"))","v":"-"},"-","-"]
[2040,"MD001360","OROKAL 200MG COMP.PELLI. B/08","CEFIXIME TRIHYDRATE","331013","01.12.2021","MG/EXP1",456,"MG/EXP1-BOX6-007",null,0,null,null,1289.64,"SOPHAL SOCIETE PHARMACEUTIQUE ALGERIENNE","-",null,{"$f":"SUMIF(Tableau1[Description article],Tableau1[Produits],Tableau1[Emplacement])","v":0},null,{"$f":"Sheet1!$S1151-Sheet1!$R1151","v":0},"-","-","-",{"$f":"IFERROR(Tableau1[[#This Row],[THEO]]-Tableau1[[#This Row],[Qtt 2éme lot]],\"-\")","v":"-"},"-",{"$f":"IF(Tableau1[[#This Row],[2éme lot]]=\"-\",\"-\",IFERROR(IF(Q1151=\"\",\"-\",INDEX(I:I,MATCH(Q1151,C:C,0)+1)),\"-\"))","v":"-"},"-","-"]
[2042,"MD002163","OROKAL 40MG/5ML PDRE.SUSP.BUV. FL/40","CEFIXIME TRIHYDRATE","333011","31.10.2021","MG/EXP1",191,"MG/EXP1-C-070",null,0,null,null,585.64,"SOPHAL SOCIETE PHARMACEUTIQUE ALGERIENNE","-",null,{"$f":"SUMIF(Tableau1[Description article],Tableau1[Produits],Tableau1[Emplacement])","v":0},null,{"$f":"Sheet1!$S1152-Sheet1!$R1152","v":0},"-","-","-",{"$f":"IFERROR(Tableau1[[#This Row],[THEO]]-Tableau1[[#This Row],[Qtt 2éme lot]],\"-\")","v":"-"},"-",{"$f":"IF(Tableau1[[#This Row],[2éme lot]]=\"-\",\"-\",IFERROR(IF(Q1152=\"\",\"-\",INDEX(I:I,MATCH(Q1152,C:C,0)+1)),\"-\"))","v":"-"},"-","-"]
[2043,"MD001364","OROPRED 20MG COMP.ORODIS. B/20","PREDNISOLONE","9336","01.04.2021","MG/EXP1",78,"MG/EXP1-C-070",null,0,null,null,389.5,"INPHA MEDIS SPA","-",null,{"$f":"SUMIF(Tableau1[Description article],Tableau1[Produits],Tableau1[Emplacement])","v":0},null,{"$f":"Sheet1!$S1153-Sheet1!$R1153","v":0},"-","-","-",{"$f":"IFERROR(Tableau1[[#This Row],[THEO]]-Tableau1[[#This Row],[Qtt 2éme lot]],\"-\")","v":"-"},"-",{"$f":"IF(Tableau1[[#This Row],[2éme lot]]=\"-\",\"-\",IFERROR(IF(Q1153=\"\",\"-\",INDEX(I:I,MATCH(Q1153,C:C,0)+1)),\"-\"))","v":"-"},"-","-"]
[2045,"MD001365","OROPRED 30MG COMP.SEC. B/30","PREDNISOLONE","8944","30.11.2020","MG/EXP1",48,"MG/EXP1-G-028",null,0,null,null,483.46,"INPHA MEDIS SPA",{"$f":"IFERROR(IF(Q1154=\"\",\"-\",INDEX(I:I,MATCH(Q1154,C:C,0))),\"-\")","v":"-"},null,{"$f":"SUMIF(Tableau1[Description article],Tableau1[Produits],Tableau1[Emplacement])","v":0},null,{"$f":"Sheet1!$S1154-Sheet1!$R1154","v":0},{"$f":"IFERROR(IF(Q1154=\"\",\"-\",INDEX(F:F,MATCH(Q1154,C:C,0))),\"-\")","v":"-"},{"$f":"IFERROR(IF(Q1154=\"\",\"-\",INDEX(E:E,MATCH(Q1154,C:C,0))),\"-\")","v":"-"},{"$f":"IFERROR(IF(Q1154=\"\",\"-\",INDEX(N:N,MATCH(Q1154,C:C,0))),\"-\")","v":"-"},{"$f":"IFERROR(Tableau1[[#This Row],[THEO]]-Tableau1[[#This Row],[Qtt 2éme lot]],\"-\")","v":"-"},{"$f":"IF(IF(Q1154=\"\",\"-\",INDEX(E:E,MATCH(Q1154,C:C,0)))=IF(Q1154=\"\",\"-\",INDEX(E:E,MATCH(Q1154,C:C,1))),\"-\",IF(Q1154=\"\",\"-\",INDEX(E:E,MATCH(Q1154,C:C,1))))","v":"-"},{"$f":"IF(Tableau1[[#This Row],[2éme lot]]=\"-\",\"-\",IFERROR(IF(Q1154=\"\",\"-\",INDEX(I:I,MATCH(Q1154,C:C,0)+1)),\"-\"))","v":"-"},{"$f":"IFERROR(IF(Y1154=\"\",\"-\",INDEX(N:N,MATCH(Y1154,E:E,0))),\"-\")","v":"-"},{"$f":"IFERROR(IF(AA1154=\"\",\"-\",INDEX(H:H,MATCH(Y1154,E:E,0))),\"-\")","v":"-"}]
[2047,"MD001368","ORTHOCAM 0,5% GEL DERM. T/25G","PIROXICAM","191076","01.04.2021","MG/EXP1",186,"MG/EXP1-D-009",null,0,null,null,211.2,"EL KENDI INDUSTRIE DE MEDICAMENTS SPA","-",null,{"$f":"SUMIF(Tableau1[Description article],Tableau1[Produits],Tableau1[Emplacement])","v":0},null,{"$f":"Sheet1!$S1155-Sheet1!$R1155","v":0},"-","-","-",{"$f":"IFERROR(Tableau1[[#This Row],[THEO]]-Tableau1[[#This Row],[Qtt 2éme lot]],\"-\")","v":"-"},"-",{"$f":"IF(Tableau1[[#This Row],[2éme lot]]=\"-\",\"-\",IFERROR(IF(Q1155=\"\",\"-\",INDEX(I:I,MATCH(Q1155,C:C,0)+1)),\"-\"))","v":"-"},"-","-"]
[2049,"MD004056","ORTHOCAM 20MG CP DISP SEC B/10","piroxicam","191058**","01.04.2021","MG/EXP1",44,"MG/EXP1-B-024",null,0,null,null,166.48,"EL KENDI INDUSTRIE DE MEDICAMENTS SPA","-",null,{"$f":"SUMIF(Tableau1[Description article],Tableau1[Produits],Tableau1[Emplacement])","v":0},null,{"$f":"Sheet1!$S1156-Sheet1!$R1156","v":0},"-","-","-",{"$f":"IFERROR(Tableau1[[#This Row],[THEO]]-Tableau1[[#This Row],[Qtt 2éme lot]],\"-\")","v":"-"},"-",{"$f":"IF(Tableau1[[#This Row],[2éme lot]]=\"-\",\"-\",IFERROR(IF(Q1156=\"\",\"-\",INDEX(I:I,MATCH(Q1156,C:C,0)+1)),\"-\"))","v":"-"},"-","-"]
[2050,"MD001367","ORTHOCAM 20MG GLES B/10 (piroxicam)","PIROXICAM","191058","01.04.2021","MG/EXP1",260,"MG/EXP1-G-044",null,0,null,null,166.48,"EL KENDI INDUSTRIE DE MEDICAMENTS SPA","-",null,{"$f":"SUMIF(Tableau1[Description article],Tableau1[Produits],Tableau1[Emplacement])","v":0},null,{"$f":"Sheet1!$S1157-Sheet1!$R1157","v":0},"-","-","-",{"$f":"IFERROR(Tableau1[[#This Row],[THEO]]-Tableau1[[#This Row],[Qtt 2éme lot]],\"-\")","v":"-"},"-",{"$f":"IF(Tableau1[[#This Row],[2éme lot]]=\"-\",\"-\",IFERROR(IF(Q1157=\"\",\"-\",INDEX(I:I,MATCH(Q1157,C:C,0)+1)),\"-\"))","v":"-"},"-","-"]
[2051,"MD001370","ORZEPAM 2,5MG COMP.SEC. B/30","LORAZEPAM","041","30.07.2021","MG/EXP1",286,"MG/EXP1-BOX6-PSY-011",null,0,null,"PSY",155.17,"GENERICLAB SARL","-",null,{"$f":"SUMIF(Tableau1[Description article],Tableau1[Produits],Tableau1[Emplacement])","v":0},null,{"$f":"Sheet1!$S1158-Sheet1!$R1158","v":0},"-","-","-",{"$f":"IFERROR(Tableau1[[#This Row],[THEO]]-Tableau1[[#This Row],[Qtt 2éme lot]],\"-\")","v":"-"},"-",{"$f":"IF(Tableau1[[#This Row],[2éme lot]]=\"-\",\"-\",IFERROR(IF(Q1158=\"\",\"-\",INDEX(I:I,MATCH(Q1158,C:C,0)+1)),\"-\"))","v":"-"},"-","-"]
[2052,"MD001371","OSPEXIN 250MG/5ML GRAN.P.SUSP.BUV. FL/60ML","CEFALEXINE","JS8009","01.04.2022","MG/EXP1",138,"MG/EXP1-E-024",null,0,null,null,274.18,"SANDOZ SPA","-",null,{"$f":"SUMIF(Tableau1[Description article],Tableau1[Produits],Tableau1[Emplacement])","v":0},null,{"$f":"Sheet1!$S1159-Sheet1!$R1159","v":0},"-","-","-",{"$f":"IFERROR(Tableau1[[#This Row],[THEO]]-Tableau1[[#This Row],[Qtt 2éme lot]],\"-\")","v":"-"},"-",{"$f":"IF(Tableau1[[#This Row],[2éme lot]]=\"-\",\"-\",IFERROR(IF(Q1159=\"\",\"-\",INDEX(I:I,MATCH(Q1159,C:C,0)+1)),\"-\"))","v":"-"},"-","-"]
[2055,"MD001374","OSSE D3 400 UI/500MG COMP.A SUCER B/01 FL/60","CARBONATE DE CALCIUM 1.250G COLECALCIFER","040","01.11.2021","MG/EXP1",100,"MG/EXP1-A-011",null,0,null,null,750,"BIO-GALENIC SARL","-",null,{"$f":"SUMIF(Tableau1[Description article],Tableau1[Produits],Tableau1[Emplacement])","v":0},null,{"$f":"Sheet1!$S1160-Sheet1!$R1160","v":0},"-","-","-",{"$f":"IFERROR(Tableau1[[#This Row],[THEO]]-Tableau1[[#This Row],[Qtt 2éme lot]],\"-\")","v":"-"},"-",{"$f":"IF(Tableau1[[#This Row],[2éme lot]]=\"-\",\"-\",IFERROR(IF(Q1160=\"\",\"-\",INDEX(I:I,MATCH(Q1160,C:C,0)+1)),\"-\"))","v":"-"},"-","-"]
[2056,"MD001374","OSSE D3 400 UI/500MG COMP.A SUCER B/01 FL/60","CARBONATE DE CALCIUM 1.250G COLECALCIFER","039","01.11.2021","MG/EXP1",18,"MG/EXP1-A-012",null,0,null,null,750,"BIO-GALENIC SARL","-",null,{"$f":"SUMIF(Tableau1[Description article],Tableau1[Produits],Tableau1[Emplacement])","v":0},null,{"$f":"Sheet1!$S1161-Sheet1!$R1161","v":0},"-","-","-",{"$f":"IFERROR(Tableau1[[#This Row],[THEO]]-Tableau1[[#This Row],[Qtt 2éme lot]],\"-\")","v":"-"},"-",{"$f":"IF(Tableau1[[#This Row],[2éme lot]]=\"-\",\"-\",IFERROR(IF(Q1161=\"\",\"-\",INDEX(I:I,MATCH(Q1161,C:C,0)+1)),\"-\"))","v":"-"},"-","-"]
[2057,"MD002153","OSSE D3 500MG 400 UI SACHETS B/30","CALCIUM CHOLECALCIFEROL","007","01.10.2021","MG/EXP1",34,"MG/EXP1-G-023",null,0,null,null,405,"BIO-GALENIC SARL","-",null,{"$f":"SUMIF(Tableau1[Description article],Tableau1[Produits],Tableau1[Emplacement])","v":0},null,{"$f":"Sheet1!$S1162-Sheet1!$R1162","v":0},"-","-","-",{"$f":"IFERROR(Tableau1[[#This Row],[THEO]]-Tableau1[[#This Row],[Qtt 2éme lot]],\"-\")","v":"-"},"-",{"$f":"IF(Tableau1[[#This Row],[2éme lot]]=\"-\",\"-\",IFERROR(IF(Q1162=\"\",\"-\",INDEX(I:I,MATCH(Q1162,C:C,0)+1)),\"-\"))","v":"-"},"-","-"]
[2059,"MD002303","OSSECAL 500MG COMP.A SUCER B/60","CARBONATE DE CALCIUM","005","01.10.2021","MG/EXP1",52,"MG/EXP1-E-049",null,0,null,null,465,"BIO-GALENIC SARL","-",null,{"$f":"SUMIF(Tableau1[Description article],Tableau1[Produits],Tableau1[Emplacement])","v":0},null,{"$f":"Sheet1!$S1163-Sheet1!$R1163","v":0},"-","-","-",{"$f":"IFERROR(Tableau1[[#This Row],[THEO]]-Tableau1[[#This Row],[Qtt 2éme lot]],\"-\")","v":"-"},"-",{"$f":"IF(Tableau1[[#This Row],[2éme lot]]=\"-\",\"-\",IFERROR(IF(Q1163=\"\",\"-\",INDEX(I:I,MATCH(Q1163,C:C,0)+1)),\"-\"))","v":"-"},"-","-"]
[2060,"MD002191","OSSECAL 500MG/SACH. PDRE.ORA. B/30 SACH.","CALCIUM ELEMENT","004","01.04.2021","MG/EXP1",88,"MG/EXP1-D-043",null,0,null,null,320,"BIO-GALENIC SARL","-",null,{"$f":"SUMIF(Tableau1[Description article],Tableau1[Produits],Tableau1[Emplacement])","v":0},null,{"$f":"Sheet1!$S1164-Sheet1!$R1164","v":0},"-","-","-",{"$f":"IFERROR(Tableau1[[#This Row],[THEO]]-Tableau1[[#This Row],[Qtt 2éme lot]],\"-\")","v":"-"},"-",{"$f":"IF(Tableau1[[#This Row],[2éme lot]]=\"-\",\"-\",IFERROR(IF(Q1164=\"\",\"-\",INDEX(I:I,MATCH(Q1164,C:C,0)+1)),\"-\"))","v":"-"},"-","-"]
[2062,"MD001375","OSTEOS 35MG COMP.PELLI. B/04","RISEDRONATE MONOSODIQUE","7378*","01.05.2020","MG/EXP1",27,"MG/EXP1-A-046",null,0,null,null,1797.5,"INPHA MEDIS SPA","-",null,{"$f":"SUMIF(Tableau1[Description article],Tableau1[Produits],Tableau1[Emplacement])","v":0},null,{"$f":"Sheet1!$S1165-Sheet1!$R1165","v":0},"-","-","-",{"$f":"IFERROR(Tableau1[[#This Row],[THEO]]-Tableau1[[#This Row],[Qtt 2éme lot]],\"-\")","v":"-"},"-",{"$f":"IF(Tableau1[[#This Row],[2éme lot]]=\"-\",\"-\",IFERROR(IF(Q1165=\"\",\"-\",INDEX(I:I,MATCH(Q1165,C:C,0)+1)),\"-\"))","v":"-"},"-","-"]
[2064,"MD001377","OSTONEL ONCE A WEEK 35MG COMP.PELLI. B/04","RISEDRONATE MONOSODIQUE","103819","01.11.2022","MG/EXP1",44,"MG/EXP1-BOX6-005",null,0,null,null,1757.5,"BEKER LABORATOIRES","-",null,{"$f":"SUMIF(Tableau1[Description article],Tableau1[Produits],Tableau1[Emplacement])","v":0},null,{"$f":"Sheet1!$S1166-Sheet1!$R1166","v":0},"-","-","-",{"$f":"IFERROR(Tableau1[[#This Row],[THEO]]-Tableau1[[#This Row],[Qtt 2éme lot]],\"-\")","v":"-"},"-",{"$f":"IF(Tableau1[[#This Row],[2éme lot]]=\"-\",\"-\",IFERROR(IF(Q1166=\"\",\"-\",INDEX(I:I,MATCH(Q1166,C:C,0)+1)),\"-\"))","v":"-"},"-","-"]
[2068,"MD001380","OTOFA 2,6G/100ML SOL.AURIC.GTTES. FL/10ML","RIFAMYCINE SEL DE NA","M1089","01.09.2021","MG/EXP1",223,"MG/EXP1-B-055",null,0,null,null,265.07,"BIOPHARM SPA","-",null,{"$f":"SUMIF(Tableau1[Description article],Tableau1[Produits],Tableau1[Emplacement])","v":0},null,{"$f":"Sheet1!$S1167-Sheet1!$R1167","v":0},"-","-","-",{"$f":"IFERROR(Tableau1[[#This Row],[THEO]]-Tableau1[[#This Row],[Qtt 2éme lot]],\"-\")","v":"-"},"-",{"$f":"IF(Tableau1[[#This Row],[2éme lot]]=\"-\",\"-\",IFERROR(IF(Q1167=\"\",\"-\",INDEX(I:I,MATCH(Q1167,C:C,0)+1)),\"-\"))","v":"-"},"-","-"]
[2071,"MD003924","OVESTIN 0.5 MG.B/15.OVULE","ESTRIOL","G18239","01.10.2021","MG/EXP1",61,"MG/EXP1-B-001",null,0,null,null,811.24,"BIOPHARM SPA","-",null,{"$f":"SUMIF(Tableau1[Description article],Tableau1[Produits],Tableau1[Emplacement])","v":0},null,{"$f":"Sheet1!$S1168-Sheet1!$R1168","v":0},"-","-","-",{"$f":"IFERROR(Tableau1[[#This Row],[THEO]]-Tableau1[[#This Row],[Qtt 2éme lot]],\"-\")","v":"-"},"-",{"$f":"IF(Tableau1[[#This Row],[2éme lot]]=\"-\",\"-\",IFERROR(IF(Q1168=\"\",\"-\",INDEX(I:I,MATCH(Q1168,C:C,0)+1)),\"-\"))","v":"-"},"-","-"]
[2072,"MD001382","OVITRELLE 250PG/0,5ML (6500 UI/0,5ML) SOL.INJ.SC. B/01 SERING.PREREMPL/0,5ML","CHORIOGONADOTROPINE ALFA","BA058186*","01.03.2021","MG/EXP1",90,"MG/EXP1-BOX6",null,0,null,"GLAC",2641.68,"AT PHARMA SPA","-",null,{"$f":"SUMIF(Tableau1[Description article],Tableau1[Produits],Tableau1[Emplacement])","v":0},null,{"$f":"Sheet1!$S1169-Sheet1!$R1169","v":0},"-","-","-",{"$f":"IFERROR(Tableau1[[#This Row],[THEO]]-Tableau1[[#This Row],[Qtt 2éme lot]],\"-\")","v":"-"},"-",{"$f":"IF(Tableau1[[#This Row],[2éme lot]]=\"-\",\"-\",IFERROR(IF(Q1169=\"\",\"-\",INDEX(I:I,MATCH(Q1169,C:C,0)+1)),\"-\"))","v":"-"},"-","-"]
[2075,"PP00482","OVUSITOL 2G/200μG PDRE.SOL.ORA. B/30 SACH.","INOSITOL/ACIDE FOLIQUE","85","01.09.2021","MG/EXP1",12,"MG/EXP1-BOX6-005",null,0,null,null,2823.94,"GB PHARMA SARL","-",null,{"$f":"SUMIF(Tableau1[Description article],Tableau1[Produits],Tableau1[Emplacement])","v":0},null,{"$f":"Sheet1!$S1170-Sheet1!$R1170","v":0},"-","-","-",{"$f":"IFERROR(Tableau1[[#This Row],[THEO]]-Tableau1[[#This Row],[Qtt 2éme lot]],\"-\")","v":"-"},"-",{"$f":"IF(Tableau1[[#This Row],[2éme lot]]=\"-\",\"-\",IFERROR(IF(Q1170=\"\",\"-\",INDEX(I:I,MATCH(Q1170,C:C,0)+1)),\"-\"))","v":"-"},"-","-"]
[2076,"MD002213","OVUZOLE 0,02 CREME. T/20G","SERTACONAZOLE","192613","01.11.2021","MG/EXP1",16,"MG/EXP1-G-004",null,0,null,null,228.93,"EL KENDI INDUSTRIE DE MEDICAMENTS SPA","-",null,{"$f":"SUMIF(Tableau1[Description article],Tableau1[Produits],Tableau1[Emplacement])","v":0},null,{"$f":"Sheet1!$S1171-Sheet1!$R1171","v":0},"-","-","-",{"$f":"IFERROR(Tableau1[[#This Row],[THEO]]-Tableau1[[#This Row],[Qtt 2éme lot]],\"-\")","v":"-"},"-",{"$f":"IF(Tableau1[[#This Row],[2éme lot]]=\"-\",\"-\",IFERROR(IF(Q1171=\"\",\"-\",INDEX(I:I,MATCH(Q1171,C:C,0)+1)),\"-\"))","v":"-"},"-","-"]
[2077,"MD001385","OXEOL 10MG COMP.SEC. B/30","BAMBUTEROL CHLORHYDRATE","94603","28.02.2022","MG/EXP1",105,"MG/EXP1-B-014",null,0,null,null,754.87,"E.P.DIS EURAPHARMA SPA","-",null,{"$f":"SUMIF(Tableau1[Description article],Tableau1[Produits],Tableau1[Emplacement])","v":0},null,{"$f":"Sheet1!$S1172-Sheet1!$R1172","v":0},"-","-","-",{"$f":"IFERROR(Tableau1[[#This Row],[THEO]]-Tableau1[[#This Row],[Qtt 2éme lot]],\"-\")","v":"-"},"-",{"$f":"IF(Tableau1[[#This Row],[2éme lot]]=\"-\",\"-\",IFERROR(IF(Q1172=\"\",\"-\",INDEX(I:I,MATCH(Q1172,C:C,0)+1)),\"-\"))","v":"-"},"-","-"]
[2078,"MD001386","OXOMEMAZINE 1MG/ML SOL.BUV. FL/100ML","OXOMEMEAZINE","O01 K19","01.11.2022","MG/EXP1",22,"MG/EXP1-A-048",null,0,null,null,133.83,"ISOPHARM ALGERIE SARL","-",null,{"$f":"SUMIF(Tableau1[Description article],Tableau1[Produits],Tableau1[Emplacement])","v":0},null,{"$f":"Sheet1!$S1173-Sheet1!$R1173","v":0},"-","-","-",{"$f":"IFERROR(Tableau1[[#This Row],[THEO]]-Tableau1[[#This Row],[Qtt 2éme lot]],\"-\")","v":"-"},"-",{"$f":"IF(Tableau1[[#This Row],[2éme lot]]=\"-\",\"-\",IFERROR(IF(Q1173=\"\",\"-\",INDEX(I:I,MATCH(Q1173,C:C,0)+1)),\"-\"))","v":"-"},"-","-"]
[2081,"PP00391","OXY BABY  PDE. T/50G",null,"OB002","01.03.2021","MG/EXP1",135,"MG/EXP1-C-025",null,0,null,null,175,"DERMO SENS SARL","-",null,{"$f":"SUMIF(Tableau1[Description article],Tableau1[Produits],Tableau1[Emplacement])","v":0},null,{"$f":"Sheet1!$S1174-Sheet1!$R1174","v":0},"-","-","-",{"$f":"IFERROR(Tableau1[[#This Row],[THEO]]-Tableau1[[#This Row],[Qtt 2éme lot]],\"-\")","v":"-"},"-",{"$f":"IF(Tableau1[[#This Row],[2éme lot]]=\"-\",\"-\",IFERROR(IF(Q1174=\"\",\"-\",INDEX(I:I,MATCH(Q1174,C:C,0)+1)),\"-\"))","v":"-"},"-","-"]
[2082,"PP00385","OXYBIO POMMADE T/75G","OXYDE DE ZINC","009","01.02.2021","MG/EXP1",130,"MG/EXP1-A-012",null,0,null,null,285,"DERMO SENS SARL","-",null,{"$f":"SUMIF(Tableau1[Description article],Tableau1[Produits],Tableau1[Emplacement])","v":0},null,{"$f":"Sheet1!$S1175-Sheet1!$R1175","v":0},"-","-","-",{"$f":"IFERROR(Tableau1[[#This Row],[THEO]]-Tableau1[[#This Row],[Qtt 2éme lot]],\"-\")","v":"-"},"-",{"$f":"IF(Tableau1[[#This Row],[2éme lot]]=\"-\",\"-\",IFERROR(IF(Q1175=\"\",\"-\",INDEX(I:I,MATCH(Q1175,C:C,0)+1)),\"-\"))","v":"-"},"-","-"]
[2085,"MD001387","OXYPLASTINE 0,46 PDE T/65G","OXYDE DE ZINC","CH843","31.03.2022","MG/EXP1",79,"MG/EXP1-F-017",null,0,null,null,298,"MAGPHARM LABORATOIRES SARL","-",null,{"$f":"SUMIF(Tableau1[Description article],Tableau1[Produits],Tableau1[Emplacement])","v":0},null,{"$f":"Sheet1!$S1176-Sheet1!$R1176","v":0},"-","-","-",{"$f":"IFERROR(Tableau1[[#This Row],[THEO]]-Tableau1[[#This Row],[Qtt 2éme lot]],\"-\")","v":"-"},"-",{"$f":"IF(Tableau1[[#This Row],[2éme lot]]=\"-\",\"-\",IFERROR(IF(Q1176=\"\",\"-\",INDEX(I:I,MATCH(Q1176,C:C,0)+1)),\"-\"))","v":"-"},"-","-"]
[2088,"MD001390","P.N.D. 100MG/350000UI/600000UI/100ML COLLY.SOL. FL/3ML","DEXAMETHASONE-NEOMYCINE-POLYMYXINE B","124","01.04.2021","MG/EXP1",588,"MG/EXP1-F-058",null,0,null,null,115.8,"GB PHARMA SARL","-",null,{"$f":"SUMIF(Tableau1[Description article],Tableau1[Produits],Tableau1[Emplacement])","v":0},null,{"$f":"Sheet1!$S1177-Sheet1!$R1177","v":0},"-","-","-",{"$f":"IFERROR(Tableau1[[#This Row],[THEO]]-Tableau1[[#This Row],[Qtt 2éme lot]],\"-\")","v":"-"},"-",{"$f":"IF(Tableau1[[#This Row],[2éme lot]]=\"-\",\"-\",IFERROR(IF(Q1177=\"\",\"-\",INDEX(I:I,MATCH(Q1177,C:C,0)+1)),\"-\"))","v":"-"},"-","-"]
[2089,"MD001392","PAINOXAM 20MG SUPP. B/15","PIROXOCAM","147","01.01.2022","MG/EXP1",35,"MG/EXP1-B-056",null,0,null,null,172,"BIOPHARM SPA","-",null,{"$f":"SUMIF(Tableau1[Description article],Tableau1[Produits],Tableau1[Emplacement])","v":0},null,{"$f":"Sheet1!$S1178-Sheet1!$R1178","v":0},"-","-","-",{"$f":"IFERROR(Tableau1[[#This Row],[THEO]]-Tableau1[[#This Row],[Qtt 2éme lot]],\"-\")","v":"-"},"-",{"$f":"IF(Tableau1[[#This Row],[2éme lot]]=\"-\",\"-\",IFERROR(IF(Q1178=\"\",\"-\",INDEX(I:I,MATCH(Q1178,C:C,0)+1)),\"-\"))","v":"-"},"-","-"]
[2092,"MD001393","PANADOL 1G 1G COMP.PELLI.SEC. B/08","PARACETAMOL","9091","30.09.2021","MG/EXP1",574,"MG/EXP1-C-010",null,0,null,null,61.2,"LDM LABORATOIRES DE DIAGNOSTIC MAGHREBINS","-",null,{"$f":"SUMIF(Tableau1[Description article],Tableau1[Produits],Tableau1[Emplacement])","v":0},null,{"$f":"Sheet1!$S1179-Sheet1!$R1179","v":0},"-","-","-",{"$f":"IFERROR(Tableau1[[#This Row],[THEO]]-Tableau1[[#This Row],[Qtt 2éme lot]],\"-\")","v":"-"},"-",{"$f":"IF(Tableau1[[#This Row],[2éme lot]]=\"-\",\"-\",IFERROR(IF(Q1179=\"\",\"-\",INDEX(I:I,MATCH(Q1179,C:C,0)+1)),\"-\"))","v":"-"},"-","-"]
[2096,"MD001395","PANADOL RHUME + GRIPPE 500MG/25MG/5MG COMP.PELLI. B/16","PARACE / CAF/ PHENYLEPHRINE CHLORHYDRATE","8021","01.08.2020","MG/EXP1",227,"MG/EXP1-A-024",null,0,null,null,238.63,"LDM LABORATOIRES DE DIAGNOSTIC MAGHREBINS","-",null,{"$f":"SUMIF(Tableau1[Description article],Tableau1[Produits],Tableau1[Emplacement])","v":0},null,{"$f":"Sheet1!$S1180-Sheet1!$R1180","v":0},"-","-","-",{"$f":"IFERROR(Tableau1[[#This Row],[THEO]]-Tableau1[[#This Row],[Qtt 2éme lot]],\"-\")","v":"-"},"-",{"$f":"IF(Tableau1[[#This Row],[2éme lot]]=\"-\",\"-\",IFERROR(IF(Q1180=\"\",\"-\",INDEX(I:I,MATCH(Q1180,C:C,0)+1)),\"-\"))","v":"-"},"-","-"]
[2098,"MD001401","PARACETAMOL BIOCARE 300MG GRAN.P.SOL.BUV. B/12 SACH.DSE.","PARACETAMOL","3441813","01.08.2020","MG/EXP1",128,"MG/EXP1-A-029",null,0,null,null,118.49,"BIOCARE SARL","-",null,{"$f":"SUMIF(Tableau1[Description article],Tableau1[Produits],Tableau1[Emplacement])","v":0},null,{"$f":"Sheet1!$S1181-Sheet1!$R1181","v":0},"-","-","-",{"$f":"IFERROR(Tableau1[[#This Row],[THEO]]-Tableau1[[#This Row],[Qtt 2éme lot]],\"-\")","v":"-"},"-",{"$f":"IF(Tableau1[[#This Row],[2éme lot]]=\"-\",\"-\",IFERROR(IF(Q1181=\"\",\"-\",INDEX(I:I,MATCH(Q1181,C:C,0)+1)),\"-\"))","v":"-"},"-","-"]
[2099,"MD001402","PARACETAMOL BIOCARE 500MG GRAN.P.SOL.BUV. B/12 SACH.DSE.","PARACETAMOL","3511826","01.08.2020","MG/EXP1",5,"MG/EXP1-C-037",null,0,null,null,152.95,"BIOCARE SARL","-",null,{"$f":"SUMIF(Tableau1[Description article],Tableau1[Produits],Tableau1[Emplacement])","v":0},null,{"$f":"Sheet1!$S1182-Sheet1!$R1182","v":0},"-","-","-",{"$f":"IFERROR(Tableau1[[#This Row],[THEO]]-Tableau1[[#This Row],[Qtt 2éme lot]],\"-\")","v":"-"},"-",{"$f":"IF(Tableau1[[#This Row],[2éme lot]]=\"-\",\"-\",IFERROR(IF(Q1182=\"\",\"-\",INDEX(I:I,MATCH(Q1182,C:C,0)+1)),\"-\"))","v":"-"},"-","-"]
[2100,"MD001402","PARACETAMOL BIOCARE 500MG GRAN.P.SOL.BUV. B/12 SACH.DSE.","PARACETAMOL","3511826*","01.08.2020","MG/EXP1",180,"MG/EXP1-C-026",null,0,null,null,152.95,"BIOCARE SARL","-",null,{"$f":"SUMIF(Tableau1[Description article],Tableau1[Produits],Tableau1[Emplacement])","v":0},null,{"$f":"Sheet1!$S1183-Sheet1!$R1183","v":0},"-","-","-",{"$f":"IFERROR(Tableau1[[#This Row],[THEO]]-Tableau1[[#This Row],[Qtt 2éme lot]],\"-\")","v":"-"},"-",{"$f":"IF(Tableau1[[#This Row],[2éme lot]]=\"-\",\"-\",IFERROR(IF(Q1183=\"\",\"-\",INDEX(I:I,MATCH(Q1183,C:C,0)+1)),\"-\"))","v":"-"},"-","-"]
[2102,"MD001403","PARALGAN 1G COMP.SEC. B/10","PARACETAMOL","037","01.03.2021","MG/EXP1",500,"MG/EXP1-C-054",null,0,null,null,64,"SAIDAL UNITE CENTRE","-",null,{"$f":"SUMIF(Tableau1[Description article],Tableau1[Produits],Tableau1[Emplacement])","v":0},null,{"$f":"Sheet1!$S1184-Sheet1!$R1184","v":0},"-","-","-",{"$f":"IFERROR(Tableau1[[#This Row],[THEO]]-Tableau1[[#This Row],[Qtt 2éme lot]],\"-\")","v":"-"},"-",{"$f":"IF(Tableau1[[#This Row],[2éme lot]]=\"-\",\"-\",IFERROR(IF(Q1184=\"\",\"-\",INDEX(I:I,MATCH(Q1184,C:C,0)+1)),\"-\"))","v":"-"},"-","-"]
[2103,"MD001403","PARALGAN 1G COMP.SEC. B/10","PARACETAMOL","037*","01.03.2021","MG/EXP1",114,"MG/EXP1-C-050",null,0,null,null,64,"SAIDAL UNITE CENTRE","-",null,{"$f":"SUMIF(Tableau1[Description article],Tableau1[Produits],Tableau1[Emplacement])","v":0},null,{"$f":"Sheet1!$S1185-Sheet1!$R1185","v":0},"-","-","-",{"$f":"IFERROR(Tableau1[[#This Row],[THEO]]-Tableau1[[#This Row],[Qtt 2éme lot]],\"-\")","v":"-"},"-",{"$f":"IF(Tableau1[[#This Row],[2éme lot]]=\"-\",\"-\",IFERROR(IF(Q1185=\"\",\"-\",INDEX(I:I,MATCH(Q1185,C:C,0)+1)),\"-\"))","v":"-"},"-","-"]
[2106,"MD001404","PARALGAN 500MG COMP.SEC. B/20","PARACETAMOL","3797","01.07.2022","MG/EXP1",810,"MG/EXP1-A-069",null,0,null,null,49.8,"SAIDAL UNITE CENTRE","-",null,{"$f":"SUMIF(Tableau1[Description article],Tableau1[Produits],Tableau1[Emplacement])","v":0},null,{"$f":"Sheet1!$S1186-Sheet1!$R1186","v":0},"-","-","-",{"$f":"IFERROR(Tableau1[[#This Row],[THEO]]-Tableau1[[#This Row],[Qtt 2éme lot]],\"-\")","v":"-"},"-",{"$f":"IF(Tableau1[[#This Row],[2éme lot]]=\"-\",\"-\",IFERROR(IF(Q1186=\"\",\"-\",INDEX(I:I,MATCH(Q1186,C:C,0)+1)),\"-\"))","v":"-"},"-","-"]
[2107,"MD001404","PARALGAN 500MG COMP.SEC. B/20","PARACETAMOL","3797","01.07.2022","MG/EXP1",88,"MG/EXP1-F-001",null,0,null,null,49.8,"SAIDAL UNITE CENTRE","-",null,{"$f":"SUMIF(Tableau1[Description article],Tableau1[Produits],Tableau1[Emplacement])","v":0},null,{"$f":"Sheet1!$S1187-Sheet1!$R1187","v":0},"-","-","-",{"$f":"IFERROR(Tableau1[[#This Row],[THEO]]-Tableau1[[#This Row],[Qtt 2éme lot]],\"-\")","v":"-"},"-",{"$f":"IF(Tableau1[[#This Row],[2éme lot]]=\"-\",\"-\",IFERROR(IF(Q1187=\"\",\"-\",INDEX(I:I,MATCH(Q1187,C:C,0)+1)),\"-\"))","v":"-"},"-","-"]
[2108,"MD001404","PARALGAN 500MG COMP.SEC. B/20","PARACETAMOL","3780","01.06.2022","MG/EXP1",7,"MG/EXP1-A-071",null,0,null,null,49.8,"SAIDAL UNITE CENTRE","-",null,{"$f":"SUMIF(Tableau1[Description article],Tableau1[Produits],Tableau1[Emplacement])","v":0},null,{"$f":"Sheet1!$S1188-Sheet1!$R1188","v":0},"-","-","-",{"$f":"IFERROR(Tableau1[[#This Row],[THEO]]-Tableau1[[#This Row],[Qtt 2éme lot]],\"-\")","v":"-"},"-",{"$f":"IF(Tableau1[[#This Row],[2éme lot]]=\"-\",\"-\",IFERROR(IF(Q1188=\"\",\"-\",INDEX(I:I,MATCH(Q1188,C:C,0)+1)),\"-\"))","v":"-"},"-","-"]
[2110,"MD001406","PARAMOL 1G COMP.SEC. B/10","PARACETAMOL","9M422","29.01.2022","MG/EXP1",70,"MG/EXP1-D-002",null,0,null,null,70,"SALEM LABORATOIRES SARL","-",null,{"$f":"SUMIF(Tableau1[Description article],Tableau1[Produits],Tableau1[Emplacement])","v":0},null,{"$f":"Sheet1!$S1189-Sheet1!$R1189","v":0},"-","-","-",{"$f":"IFERROR(Tableau1[[#This Row],[THEO]]-Tableau1[[#This Row],[Qtt 2éme lot]],\"-\")","v":"-"},"-",{"$f":"IF(Tableau1[[#This Row],[2éme lot]]=\"-\",\"-\",IFERROR(IF(Q1189=\"\",\"-\",INDEX(I:I,MATCH(Q1189,C:C,0)+1)),\"-\"))","v":"-"},"-","-"]
[2111,"MD001405","PARAMOL 1G COMP.SEC. B/25","PARACETAMOL","9M456","30.01.2022","MG/EXP1",624,"MG/EXP1-G-020",null,0,null,null,150,"SALEM LABORATOIRES SARL","-",null,{"$f":"SUMIF(Tableau1[Description article],Tableau1[Produits],Tableau1[Emplacement])","v":0},null,{"$f":"Sheet1!$S1190-Sheet1!$R1190","v":0},"-","-","-",{"$f":"IFERROR(Tableau1[[#This Row],[THEO]]-Tableau1[[#This Row],[Qtt 2éme lot]],\"-\")","v":"-"},"-",{"$f":"IF(Tableau1[[#This Row],[2éme lot]]=\"-\",\"-\",IFERROR(IF(Q1190=\"\",\"-\",INDEX(I:I,MATCH(Q1190,C:C,0)+1)),\"-\"))","v":"-"},"-","-"]
[2113,"MD001410","PARKINANE LP 2MG CP.LP. B/50","TRIHEXYPHENIDYLE","03004","01.05.2021","MG/EXP1",55,"MG/EXP1-BOX6-PSY-019",null,0,null,"PSY",272.84,"UPC SARL","-",null,{"$f":"SUMIF(Tableau1[Description article],Tableau1[Produits],Tableau1[Emplacement])","v":0},null,{"$f":"Sheet1!$S1191-Sheet1!$R1191","v":0},"-","-","-",{"$f":"IFERROR(Tableau1[[#This Row],[THEO]]-Tableau1[[#This Row],[Qtt 2éme lot]],\"-\")","v":"-"},"-",{"$f":"IF(Tableau1[[#This Row],[2éme lot]]=\"-\",\"-\",IFERROR(IF(Q1191=\"\",\"-\",INDEX(I:I,MATCH(Q1191,C:C,0)+1)),\"-\"))","v":"-"},"-","-"]
[2114,"MD001411","PARKINANE LP 5MG CP.LP. B/20","TRIHEXYPHENIDYLE","05005","01.03.2021","MG/EXP1",348,"MG/EXP1-BOX6-PSY-019",null,0,null,"PSY",272.84,"UPC SARL","-",null,{"$f":"SUMIF(Tableau1[Description article],Tableau1[Produits],Tableau1[Emplacement])","v":0},null,{"$f":"Sheet1!$S1192-Sheet1!$R1192","v":0},"-","-","-",{"$f":"IFERROR(Tableau1[[#This Row],[THEO]]-Tableau1[[#This Row],[Qtt 2éme lot]],\"-\")","v":"-"},"-",{"$f":"IF(Tableau1[[#This Row],[2éme lot]]=\"-\",\"-\",IFERROR(IF(Q1192=\"\",\"-\",INDEX(I:I,MATCH(Q1192,C:C,0)+1)),\"-\"))","v":"-"},"-","-"]
[2115,"MD001413","PAROL 100MG SUPP. B/10","PARACETAMOL","018","01.04.2021","MG/EXP1",159,"MG/EXP1-C-039",null,0,null,null,106,"BIOPHARM SPA","-",null,{"$f":"SUMIF(Tableau1[Description article],Tableau1[Produits],Tableau1[Emplacement])","v":0},null,{"$f":"Sheet1!$S1193-Sheet1!$R1193","v":0},"-","-","-",{"$f":"IFERROR(Tableau1[[#This Row],[THEO]]-Tableau1[[#This Row],[Qtt 2éme lot]],\"-\")","v":"-"},"-",{"$f":"IF(Tableau1[[#This Row],[2éme lot]]=\"-\",\"-\",IFERROR(IF(Q1193=\"\",\"-\",INDEX(I:I,MATCH(Q1193,C:C,0)+1)),\"-\"))","v":"-"},"-","-"]
[2117,"MD001414","PAROL 150MG SUPP. B/10","PARACETAMOL - 8 A 12 KG-","023","01.06.2021","MG/EXP1",210,"MG/EXP1-E-028",null,0,null,null,106,"BIOPHARM SPA","-",null,{"$f":"SUMIF(Tableau1[Description article],Tableau1[Produits],Tableau1[Emplacement])","v":0},null,{"$f":"Sheet1!$S1194-Sheet1!$R1194","v":0},"-","-","-",{"$f":"IFERROR(Tableau1[[#This Row],[THEO]]-Tableau1[[#This Row],[Qtt 2éme lot]],\"-\")","v":"-"},"-",{"$f":"IF(Tableau1[[#This Row],[2éme lot]]=\"-\",\"-\",IFERROR(IF(Q1194=\"\",\"-\",INDEX(I:I,MATCH(Q1194,C:C,0)+1)),\"-\"))","v":"-"},"-","-"]
[2120,"MD001415","PAROL 200MG SUPP. B/10","PARACETAMOL - 12 A 16 KG-","021","01.07.2021","MG/EXP1",285,"MG/EXP1-D-030",null,0,null,null,106,"BIOPHARM SPA","-",null,{"$f":"SUMIF(Tableau1[Description article],Tableau1[Produits],Tableau1[Emplacement])","v":0},null,{"$f":"Sheet1!$S1195-Sheet1!$R1195","v":0},"-","-","-",{"$f":"IFERROR(Tableau1[[#This Row],[THEO]]-Tableau1[[#This Row],[Qtt 2éme lot]],\"-\")","v":"-"},"-",{"$f":"IF(Tableau1[[#This Row],[2éme lot]]=\"-\",\"-\",IFERROR(IF(Q1195=\"\",\"-\",INDEX(I:I,MATCH(Q1195,C:C,0)+1)),\"-\"))","v":"-"},"-","-"]
[2121,"MD001417","PAROXETINE BEKER 20MG COMP.PELLI.SEC. B/30","PAROXETINE","073319","01.07.2022","MG/EXP1",9,"MG/EXP1-BOX6-PSY-011",null,0,null,null,1617.5,"BEKER LABORATOIRES","-",null,{"$f":"SUMIF(Tableau1[Description article],Tableau1[Produits],Tableau1[Emplacement])","v":0},null,{"$f":"Sheet1!$S1196-Sheet1!$R1196","v":0},"-","-","-",{"$f":"IFERROR(Tableau1[[#This Row],[THEO]]-Tableau1[[#This Row],[Qtt 2éme lot]],\"-\")","v":"-"},"-",{"$f":"IF(Tableau1[[#This Row],[2éme lot]]=\"-\",\"-\",IFERROR(IF(Q1196=\"\",\"-\",INDEX(I:I,MATCH(Q1196,C:C,0)+1)),\"-\"))","v":"-"},"-","-"]
[2122,"MD001417","PAROXETINE BEKER 20MG COMP.PELLI.SEC. B/30","PAROXETINE","105519","01.12.2022","MG/EXP1",117,"MG/EXP1-BOX6-PSY-011",null,0,null,null,1617.5,"BEKER LABORATOIRES","-",null,{"$f":"SUMIF(Tableau1[Description article],Tableau1[Produits],Tableau1[Emplacement])","v":0},null,{"$f":"Sheet1!$S1197-Sheet1!$R1197","v":0},"-","-","-",{"$f":"IFERROR(Tableau1[[#This Row],[THEO]]-Tableau1[[#This Row],[Qtt 2éme lot]],\"-\")","v":"-"},"-",{"$f":"IF(Tableau1[[#This Row],[2éme lot]]=\"-\",\"-\",IFERROR(IF(Q1197=\"\",\"-\",INDEX(I:I,MATCH(Q1197,C:C,0)+1)),\"-\"))","v":"-"},"-","-"]
[2123,"PP00454","PEDIAKID 22 VIT ET OLIGO-ELEMENTS   FL/125ML","complément alimentaire","V1417","01.06.2021","MG/EXP1",14,"MG/EXP1-F-014",null,0,null,null,1250,"GEO-PHARM SARL","-",null,{"$f":"SUMIF(Tableau1[Description article],Tableau1[Produits],Tableau1[Emplacement])","v":0},null,{"$f":"Sheet1!$S1198-Sheet1!$R1198","v":0},"-","-","-",{"$f":"IFERROR(Tableau1[[#This Row],[THEO]]-Tableau1[[#This Row],[Qtt 2éme lot]],\"-\")","v":"-"},"-",{"$f":"IF(Tableau1[[#This Row],[2éme lot]]=\"-\",\"-\",IFERROR(IF(Q1198=\"\",\"-\",INDEX(I:I,MATCH(Q1198,C:C,0)+1)),\"-\"))","v":"-"},"-","-"]
[2124,"PP00456","PEDIAKID BEBE GAZ  PDRE A DILU. B/12 STICKS",null,"B170C","01.06.2021","MG/EXP1",51,"MG/EXP1-B-055",null,0,null,null,1492.94,"GEO-PHARM SARL","-",null,{"$f":"SUMIF(Tableau1[Description article],Tableau1[Produits],Tableau1[Emplacement])","v":0},null,{"$f":"Sheet1!$S1199-Sheet1!$R1199","v":0},"-","-","-",{"$f":"IFERROR(Tableau1[[#This Row],[THEO]]-Tableau1[[#This Row],[Qtt 2éme lot]],\"-\")","v":"-"},"-",{"$f":"IF(Tableau1[[#This Row],[2éme lot]]=\"-\",\"-\",IFERROR(IF(Q1199=\"\",\"-\",INDEX(I:I,MATCH(Q1199,C:C,0)+1)),\"-\"))","v":"-"},"-","-"]
[2125,"PP00460","PEDIAKID OMEGA 3 SIROP .FL/125 ML",null,"038547","01.07.2021","MG/EXP1",19,"MG/EXP1-D-018",null,0,null,null,1250,"GEO-PHARM SARL","-",null,{"$f":"SUMIF(Tableau1[Description article],Tableau1[Produits],Tableau1[Emplacement])","v":0},null,{"$f":"Sheet1!$S1200-Sheet1!$R1200","v":0},"-","-","-",{"$f":"IFERROR(Tableau1[[#This Row],[THEO]]-Tableau1[[#This Row],[Qtt 2éme lot]],\"-\")","v":"-"},"-",{"$f":"IF(Tableau1[[#This Row],[2éme lot]]=\"-\",\"-\",IFERROR(IF(Q1200=\"\",\"-\",INDEX(I:I,MATCH(Q1200,C:C,0)+1)),\"-\"))","v":"-"},"-","-"]
[2126,"PP00458","PEDIAKID TRANSIT DOUX FL/125 ML",null,"023733","01.07.2020","MG/EXP1",29,"MG/EXP1-C-058",null,0,null,null,1250,"GEO-PHARM SARL","-",null,{"$f":"SUMIF(Tableau1[Description article],Tableau1[Produits],Tableau1[Emplacement])","v":0},null,{"$f":"Sheet1!$S1201-Sheet1!$R1201","v":0},"-","-","-",{"$f":"IFERROR(Tableau1[[#This Row],[THEO]]-Tableau1[[#This Row],[Qtt 2éme lot]],\"-\")","v":"-"},"-",{"$f":"IF(Tableau1[[#This Row],[2éme lot]]=\"-\",\"-\",IFERROR(IF(Q1201=\"\",\"-\",INDEX(I:I,MATCH(Q1201,C:C,0)+1)),\"-\"))","v":"-"},"-","-"]
[2127,"PP00459","PEDIAKID VITAMINE D3.GOUTTES. FL/20 ML",null,"038749","01.06.2020","MG/EXP1",15,"MG/EXP1-E-062",null,0,null,null,1492.94,"GEO-PHARM SARL","-",null,{"$f":"SUMIF(Tableau1[Description article],Tableau1[Produits],Tableau1[Emplacement])","v":0},null,{"$f":"Sheet1!$S1202-Sheet1!$R1202","v":0},"-","-","-",{"$f":"IFERROR(Tableau1[[#This Row],[THEO]]-Tableau1[[#This Row],[Qtt 2éme lot]],\"-\")","v":"-"},"-",{"$f":"IF(Tableau1[[#This Row],[2éme lot]]=\"-\",\"-\",IFERROR(IF(Q1202=\"\",\"-\",INDEX(I:I,MATCH(Q1202,C:C,0)+1)),\"-\"))","v":"-"},"-","-"]
[2128,"MD001424","PEITEL 0,25% CR.DERM. T/30G","PREDNICARBATE","N002","01.07.2022","MG/EXP1",305,"MG/EXP1-E-064",null,0,null,null,647.8,"BIOPHARM SPA","-",null,{"$f":"SUMIF(Tableau1[Description article],Tableau1[Produits],Tableau1[Emplacement])","v":0},null,{"$f":"Sheet1!$S1203-Sheet1!$R1203","v":0},"-","-","-",{"$f":"IFERROR(Tableau1[[#This Row],[THEO]]-Tableau1[[#This Row],[Qtt 2éme lot]],\"-\")","v":"-"},"-",{"$f":"IF(Tableau1[[#This Row],[2éme lot]]=\"-\",\"-\",IFERROR(IF(Q1203=\"\",\"-\",INDEX(I:I,MATCH(Q1203,C:C,0)+1)),\"-\"))","v":"-"},"-","-"]
[2129,"MD001425","PENI G BIOCARE 1 000 000 UI PDRE.P.SOL.INJ.IM?IV. B/01 FL.PDRE. + 01 AMP.SOLV/5ML","BENZYL PENICILLINE","4501901","01.01.2021","MG/EXP1",528,"MG/EXP1-D-041",null,0,null,null,104.5,"BIOCARE SARL","-",null,{"$f":"SUMIF(Tableau1[Description article],Tableau1[Produits],Tableau1[Emplacement])","v":0},null,{"$f":"Sheet1!$S1204-Sheet1!$R1204","v":0},"-","-","-",{"$f":"IFERROR(Tableau1[[#This Row],[THEO]]-Tableau1[[#This Row],[Qtt 2éme lot]],\"-\")","v":"-"},"-",{"$f":"IF(Tableau1[[#This Row],[2éme lot]]=\"-\",\"-\",IFERROR(IF(Q1204=\"\",\"-\",INDEX(I:I,MATCH(Q1204,C:C,0)+1)),\"-\"))","v":"-"},"-","-"]
[2131,"MD001427","PENIVAL 1 000 000 UI COMP.SEC. B/12","PENICILLINE","361040","31.05.2020","MG/EXP1",8,"MG/EXP1-E-031",null,0,null,null,181.45,"SOPHAL SOCIETE PHARMACEUTIQUE ALGERIENNE","-",null,{"$f":"SUMIF(Tableau1[Description article],Tableau1[Produits],Tableau1[Emplacement])","v":0},null,{"$f":"Sheet1!$S1205-Sheet1!$R1205","v":0},"-","-","-",{"$f":"IFERROR(Tableau1[[#This Row],[THEO]]-Tableau1[[#This Row],[Qtt 2éme lot]],\"-\")","v":"-"},"-",{"$f":"IF(Tableau1[[#This Row],[2éme lot]]=\"-\",\"-\",IFERROR(IF(Q1205=\"\",\"-\",INDEX(I:I,MATCH(Q1205,C:C,0)+1)),\"-\"))","v":"-"},"-","-"]
[2132,"MD001429","PENTASA 1G SUPP. B/15","MESALAZINE","R11482A*","01.01.2021","MG/EXP1",20,"MG/EXP1-BOX6-014",null,0,null,"CHER",3561.7,"BIOPHARM SPA","-",null,{"$f":"SUMIF(Tableau1[Description article],Tableau1[Produits],Tableau1[Emplacement])","v":0},null,{"$f":"Sheet1!$S1206-Sheet1!$R1206","v":0},"-","-","-",{"$f":"IFERROR(Tableau1[[#This Row],[THEO]]-Tableau1[[#This Row],[Qtt 2éme lot]],\"-\")","v":"-"},"-",{"$f":"IF(Tableau1[[#This Row],[2éme lot]]=\"-\",\"-\",IFERROR(IF(Q1206=\"\",\"-\",INDEX(I:I,MATCH(Q1206,C:C,0)+1)),\"-\"))","v":"-"},"-","-"]
[2133,"MD001431","PENTASA 1G/100ML SUSP.RECT. B/05 RCP.UNIDSE. EN FL/100ML AVEC CANULE","MESALAZINE","R11290AA","01.02.2021","MG/EXP1",10,"MG/EXP1-A-027",null,0,null,null,2408.71,"BIOPHARM SPA","-",null,{"$f":"SUMIF(Tableau1[Description article],Tableau1[Produits],Tableau1[Emplacement])","v":0},null,{"$f":"Sheet1!$S1207-Sheet1!$R1207","v":0},"-","-","-",{"$f":"IFERROR(Tableau1[[#This Row],[THEO]]-Tableau1[[#This Row],[Qtt 2éme lot]],\"-\")","v":"-"},"-",{"$f":"IF(Tableau1[[#This Row],[2éme lot]]=\"-\",\"-\",IFERROR(IF(Q1207=\"\",\"-\",INDEX(I:I,MATCH(Q1207,C:C,0)+1)),\"-\"))","v":"-"},"-","-"]
[2138,"MD001430","PENTASA 500MG COMP.LP. B/100","MESALAZINE","P16123A","01.07.2021","MG/EXP1",42,"MG/EXP1-BOX6-014",null,0,null,"CHER",5349.08,"BIOPHARM SPA","-",null,{"$f":"SUMIF(Tableau1[Description article],Tableau1[Produits],Tableau1[Emplacement])","v":0},null,{"$f":"Sheet1!$S1208-Sheet1!$R1208","v":0},"-","-","-",{"$f":"IFERROR(Tableau1[[#This Row],[THEO]]-Tableau1[[#This Row],[Qtt 2éme lot]],\"-\")","v":"-"},"-",{"$f":"IF(Tableau1[[#This Row],[2éme lot]]=\"-\",\"-\",IFERROR(IF(Q1208=\"\",\"-\",INDEX(I:I,MATCH(Q1208,C:C,0)+1)),\"-\"))","v":"-"},"-","-"]
[2141,"MD003937","PENTAZINE LP 1G/SACH. MICROGRAN.LP. B/120 SACH.","MESALAZINE","067","01.05.2021","MG/EXP1",139,"MG/EXP1-BOX6-023",null,0,null,"CHER",5467.97,"PROVIVO SPA","-",null,{"$f":"SUMIF(Tableau1[Description article],Tableau1[Produits],Tableau1[Emplacement])","v":0},null,{"$f":"Sheet1!$S1209-Sheet1!$R1209","v":0},"-","-","-",{"$f":"IFERROR(Tableau1[[#This Row],[THEO]]-Tableau1[[#This Row],[Qtt 2éme lot]],\"-\")","v":"-"},"-",{"$f":"IF(Tableau1[[#This Row],[2éme lot]]=\"-\",\"-\",IFERROR(IF(Q1209=\"\",\"-\",INDEX(I:I,MATCH(Q1209,C:C,0)+1)),\"-\"))","v":"-"},"-","-"]
[2143,"MD001432","PENTAZINE LP 500MG/SACH. MICROGRAN.LP. B/60 SACH.","MESALAZINE","024","01.04.2021","MG/EXP1",72,"MG/EXP1-BOX6-005",null,0,null,"CHER",2103.06,"PROVIVO SPA","-",null,{"$f":"SUMIF(Tableau1[Description article],Tableau1[Produits],Tableau1[Emplacement])","v":0},null,{"$f":"Sheet1!$S1210-Sheet1!$R1210","v":0},"-","-","-",{"$f":"IFERROR(Tableau1[[#This Row],[THEO]]-Tableau1[[#This Row],[Qtt 2éme lot]],\"-\")","v":"-"},"-",{"$f":"IF(Tableau1[[#This Row],[2éme lot]]=\"-\",\"-\",IFERROR(IF(Q1210=\"\",\"-\",INDEX(I:I,MATCH(Q1210,C:C,0)+1)),\"-\"))","v":"-"},"-","-"]
[2145,"MD004089","PENTORENTAL 400MG COMP.PELLI.LP. B/20","pentoxifylline","010","01.06.2020","MG/EXP1",14,"MG/EXP1-A-056",null,0,null,null,227.45,"HUP.P PHARMA SARL","-",null,{"$f":"SUMIF(Tableau1[Description article],Tableau1[Produits],Tableau1[Emplacement])","v":0},null,{"$f":"Sheet1!$S1211-Sheet1!$R1211","v":0},"-","-","-",{"$f":"IFERROR(Tableau1[[#This Row],[THEO]]-Tableau1[[#This Row],[Qtt 2éme lot]],\"-\")","v":"-"},"-",{"$f":"IF(Tableau1[[#This Row],[2éme lot]]=\"-\",\"-\",IFERROR(IF(Q1211=\"\",\"-\",INDEX(I:I,MATCH(Q1211,C:C,0)+1)),\"-\"))","v":"-"},"-","-"]
[2147,"MD004089","PENTORENTAL 400MG COMP.PELLI.LP. B/20","pentoxifylline","010*","01.06.2020","MG/EXP1",126,"MG/EXP1-A-048",null,0,null,null,227.45,"HUP.P PHARMA SARL","-",null,{"$f":"SUMIF(Tableau1[Description article],Tableau1[Produits],Tableau1[Emplacement])","v":0},null,{"$f":"Sheet1!$S1212-Sheet1!$R1212","v":0},"-","-","-",{"$f":"IFERROR(Tableau1[[#This Row],[THEO]]-Tableau1[[#This Row],[Qtt 2éme lot]],\"-\")","v":"-"},"-",{"$f":"IF(Tableau1[[#This Row],[2éme lot]]=\"-\",\"-\",IFERROR(IF(Q1212=\"\",\"-\",INDEX(I:I,MATCH(Q1212,C:C,0)+1)),\"-\"))","v":"-"},"-","-"]
[2148,"MD001433","PEPSANE 3G/0,004G/SACH. GEL BUCC. B/30 SACH.","DIMETICONE","P2423","31.08.2021","MG/EXP1",7,"MG/EXP1-B-045",null,0,null,null,358.32,"VECOPHARM SARL","-",null,{"$f":"SUMIF(Tableau1[Description article],Tableau1[Produits],Tableau1[Emplacement])","v":0},null,{"$f":"Sheet1!$S1213-Sheet1!$R1213","v":0},"-","-","-",{"$f":"IFERROR(Tableau1[[#This Row],[THEO]]-Tableau1[[#This Row],[Qtt 2éme lot]],\"-\")","v":"-"},"-",{"$f":"IF(Tableau1[[#This Row],[2éme lot]]=\"-\",\"-\",IFERROR(IF(Q1213=\"\",\"-\",INDEX(I:I,MATCH(Q1213,C:C,0)+1)),\"-\"))","v":"-"},"-","-"]
[2149,"MD001434","PEPTIDAC 250/133.5 MG SIROP .F/200ML - GAVISCON-","ALGINAT SOD 250/BICARBONAT SOD 133.5","044/19","31.10.2021","MG/EXP1",115,"MG/EXP1-D-024",null,0,null,null,175,"PHARMALLIANCE EURL","-",null,{"$f":"SUMIF(Tableau1[Description article],Tableau1[Produits],Tableau1[Emplacement])","v":0},null,{"$f":"Sheet1!$S1214-Sheet1!$R1214","v":0},"-","-","-",{"$f":"IFERROR(Tableau1[[#This Row],[THEO]]-Tableau1[[#This Row],[Qtt 2éme lot]],\"-\")","v":"-"},"-",{"$f":"IF(Tableau1[[#This Row],[2éme lot]]=\"-\",\"-\",IFERROR(IF(Q1214=\"\",\"-\",INDEX(I:I,MATCH(Q1214,C:C,0)+1)),\"-\"))","v":"-"},"-","-"]
[2154,"MD001435","PERIACTINE 4MG COMP. B/30","CYPROHEPTADINE","09616","01.06.2021","MG/EXP1",526,"MG/EXP1-G-008",null,0,null,null,190.95,"UPC SARL","-",null,{"$f":"SUMIF(Tableau1[Description article],Tableau1[Produits],Tableau1[Emplacement])","v":0},null,{"$f":"Sheet1!$S1215-Sheet1!$R1215","v":0},"-","-","-",{"$f":"IFERROR(Tableau1[[#This Row],[THEO]]-Tableau1[[#This Row],[Qtt 2éme lot]],\"-\")","v":"-"},"-",{"$f":"IF(Tableau1[[#This Row],[2éme lot]]=\"-\",\"-\",IFERROR(IF(Q1215=\"\",\"-\",INDEX(I:I,MATCH(Q1215,C:C,0)+1)),\"-\"))","v":"-"},"-","-"]
[2155,"MD001436","PERIDIUM 10MG COMP.SEC. B/30","DOMPERIDONE","0.35","30.04.2020","MG/EXP1",1,"MG/EXP1-D-009",null,0,null,null,193.8,"GENERICLAB SARL","-",null,{"$f":"SUMIF(Tableau1[Description article],Tableau1[Produits],Tableau1[Emplacement])","v":0},null,{"$f":"Sheet1!$S1216-Sheet1!$R1216","v":0},"-","-","-",{"$f":"IFERROR(Tableau1[[#This Row],[THEO]]-Tableau1[[#This Row],[Qtt 2éme lot]],\"-\")","v":"-"},"-",{"$f":"IF(Tableau1[[#This Row],[2éme lot]]=\"-\",\"-\",IFERROR(IF(Q1216=\"\",\"-\",INDEX(I:I,MATCH(Q1216,C:C,0)+1)),\"-\"))","v":"-"},"-","-"]
[2157,"MD001437","PERIDIUM 1MG/ML SOL.BUV. FL/200 ML","DOMPERIDONE","0203","30.01.2022","MG/EXP1",263,"MG/EXP1-G-041",null,0,null,null,222.5,"GENERICLAB SARL","-",null,{"$f":"SUMIF(Tableau1[Description article],Tableau1[Produits],Tableau1[Emplacement])","v":0},null,{"$f":"Sheet1!$S1217-Sheet1!$R1217","v":0},"-","-","-",{"$f":"IFERROR(Tableau1[[#This Row],[THEO]]-Tableau1[[#This Row],[Qtt 2éme lot]],\"-\")","v":"-"},"-",{"$f":"IF(Tableau1[[#This Row],[2éme lot]]=\"-\",\"-\",IFERROR(IF(Q1217=\"\",\"-\",INDEX(I:I,MATCH(Q1217,C:C,0)+1)),\"-\"))","v":"-"},"-","-"]
[2159,"MD001439","PERINDOPRIL BEKER 4MG COMP.SEC. B/30","PERINDOPRIL ERBUMINE","008419","01.02.2022","MG/EXP1",399,"MG/EXP1-B-066",null,0,null,null,597.5,"BEKER LABORATOIRES",{"$f":"IFERROR(IF(Q1218=\"\",\"-\",INDEX(I:I,MATCH(Q1218,C:C,0))),\"-\")","v":"-"},null,{"$f":"SUMIF(Tableau1[Description article],Tableau1[Produits],Tableau1[Emplacement])","v":0},null,{"$f":"Sheet1!$S1218-Sheet1!$R1218","v":0},{"$f":"IFERROR(IF(Q1218=\"\",\"-\",INDEX(F:F,MATCH(Q1218,C:C,0))),\"-\")","v":"-"},{"$f":"IFERROR(IF(Q1218=\"\",\"-\",INDEX(E:E,MATCH(Q1218,C:C,0))),\"-\")","v":"-"},{"$f":"IFERROR(IF(Q1218=\"\",\"-\",INDEX(N:N,MATCH(Q1218,C:C,0))),\"-\")","v":"-"},{"$f":"IFERROR(Tableau1[[#This Row],[THEO]]-Tableau1[[#This Row],[Qtt 2éme lot]],\"-\")","v":"-"},{"$f":"IF(IF(Q1218=\"\",\"-\",INDEX(E:E,MATCH(Q1218,C:C,0)))=IF(Q1218=\"\",\"-\",INDEX(E:E,MATCH(Q1218,C:C,1))),\"-\",IF(Q1218=\"\",\"-\",INDEX(E:E,MATCH(Q1218,C:C,1))))","v":"-"},{"$f":"IF(Tableau1[[#This Row],[2éme lot]]=\"-\",\"-\",IFERROR(IF(Q1218=\"\",\"-\",INDEX(I:I,MATCH(Q1218,C:C,0)+1)),\"-\"))","v":"-"},{"$f":"IFERROR(IF(Y1218=\"\",\"-\",INDEX(N:N,MATCH(Y1218,E:E,0))),\"-\")","v":"-"},{"$f":"IFERROR(IF(AA1218=\"\",\"-\",INDEX(H:H,MATCH(Y1218,E:E,0))),\"-\")","v":"-"}]
[2160,"MD001440","PERINDOPRIL BEKER 8MG COMP. B/30","PERINDOPRIL","008519","03.02.2022","MG/EXP1",3,"MG/EXP1-C-037",null,0,null,null,597.5,"BEKER LABORATOIRES","-",null,{"$f":"SUMIF(Tableau1[Description article],Tableau1[Produits],Tableau1[Emplacement])","v":0},null,{"$f":"Sheet1!$S1219-Sheet1!$R1219","v":0},"-","-","-",{"$f":"IFERROR(Tableau1[[#This Row],[THEO]]-Tableau1[[#This Row],[Qtt 2éme lot]],\"-\")","v":"-"},"-",{"$f":"IF(Tableau1[[#This Row],[2éme lot]]=\"-\",\"-\",IFERROR(IF(Q1219=\"\",\"-\",INDEX(I:I,MATCH(Q1219,C:C,0)+1)),\"-\"))","v":"-"},"-","-"]
[2161,"MD001440","PERINDOPRIL BEKER 8MG COMP. B/30","PERINDOPRIL","008619","01.02.2022","MG/EXP1",254,"MG/EXP1-C-026",null,0,null,null,597.5,"BEKER LABORATOIRES","-",null,{"$f":"SUMIF(Tableau1[Description article],Tableau1[Produits],Tableau1[Emplacement])","v":0},null,{"$f":"Sheet1!$S1220-Sheet1!$R1220","v":0},"-","-","-",{"$f":"IFERROR(Tableau1[[#This Row],[THEO]]-Tableau1[[#This Row],[Qtt 2éme lot]],\"-\")","v":"-"},"-",{"$f":"IF(Tableau1[[#This Row],[2éme lot]]=\"-\",\"-\",IFERROR(IF(Q1220=\"\",\"-\",INDEX(I:I,MATCH(Q1220,C:C,0)+1)),\"-\"))","v":"-"},"-","-"]
[2162,"MD001443","PERMANGANATE DE POTASSIUM 250MG COMP.SEC. T/20","PERMANGANATE DE POTASSIUM","020","01.06.2022","MG/EXP1",6,"MG/EXP1-BOX6-PSY-020",null,0,null,"PSY",250,"BIO-GALENIC SARL","-",null,{"$f":"SUMIF(Tableau1[Description article],Tableau1[Produits],Tableau1[Emplacement])","v":0},null,{"$f":"Sheet1!$S1221-Sheet1!$R1221","v":0},"-","-","-",{"$f":"IFERROR(Tableau1[[#This Row],[THEO]]-Tableau1[[#This Row],[Qtt 2éme lot]],\"-\")","v":"-"},"-",{"$f":"IF(Tableau1[[#This Row],[2éme lot]]=\"-\",\"-\",IFERROR(IF(Q1221=\"\",\"-\",INDEX(I:I,MATCH(Q1221,C:C,0)+1)),\"-\"))","v":"-"},"-","-"]
[2163,"MD001445","PERYDONE 1MG/ML SUSP.BUV. FL/180ML + PIPT.GRAD.","DOMPERIDONE","DPS27","01.08.2021","MG/EXP1",91,"MG/EXP1-D-052",null,0,null,null,231.44,"PHARMAGHREB","-",null,{"$f":"SUMIF(Tableau1[Description article],Tableau1[Produits],Tableau1[Emplacement])","v":0},null,{"$f":"Sheet1!$S1222-Sheet1!$R1222","v":0},"-","-","-",{"$f":"IFERROR(Tableau1[[#This Row],[THEO]]-Tableau1[[#This Row],[Qtt 2éme lot]],\"-\")","v":"-"},"-",{"$f":"IF(Tableau1[[#This Row],[2éme lot]]=\"-\",\"-\",IFERROR(IF(Q1222=\"\",\"-\",INDEX(I:I,MATCH(Q1222,C:C,0)+1)),\"-\"))","v":"-"},"-","-"]
[2166,"MD001447","PHANAZOL 0,01 CR.DERM. T/30G","ECONAZOLE","2146","01.01.2023","MG/EXP1",295,"MG/EXP1-A-009",null,0,null,null,120,"SAIDAL UNITE CENTRE","-",null,{"$f":"SUMIF(Tableau1[Description article],Tableau1[Produits],Tableau1[Emplacement])","v":0},null,{"$f":"Sheet1!$S1223-Sheet1!$R1223","v":0},"-","-","-",{"$f":"IFERROR(Tableau1[[#This Row],[THEO]]-Tableau1[[#This Row],[Qtt 2éme lot]],\"-\")","v":"-"},"-",{"$f":"IF(Tableau1[[#This Row],[2éme lot]]=\"-\",\"-\",IFERROR(IF(Q1223=\"\",\"-\",INDEX(I:I,MATCH(Q1223,C:C,0)+1)),\"-\"))","v":"-"},"-","-"]
[2167,"MD003336","PHARMATEX 1,2% CR.VAG. T/72G","BENZALKONIUM CHLORURE","C195A","01.09.2021","MG/EXP1",239,"MG/EXP1-B-010",null,0,null,null,484.66,"UPC SARL","-",null,{"$f":"SUMIF(Tableau1[Description article],Tableau1[Produits],Tableau1[Emplacement])","v":0},null,{"$f":"Sheet1!$S1224-Sheet1!$R1224","v":0},"-","-","-",{"$f":"IFERROR(Tableau1[[#This Row],[THEO]]-Tableau1[[#This Row],[Qtt 2éme lot]],\"-\")","v":"-"},"-",{"$f":"IF(Tableau1[[#This Row],[2éme lot]]=\"-\",\"-\",IFERROR(IF(Q1224=\"\",\"-\",INDEX(I:I,MATCH(Q1224,C:C,0)+1)),\"-\"))","v":"-"},"-","-"]
[2168,"MD001448","PHENOXAL 100MG COMP.SEC. B/20","PHENOBARBITAL","177","01.12.2022","MG/EXP1",106,"MG/EXP1-BOX6-PSY-011",null,0,null,null,199.98,"BIO-GALENIC SARL","-",null,{"$f":"SUMIF(Tableau1[Description article],Tableau1[Produits],Tableau1[Emplacement])","v":0},null,{"$f":"Sheet1!$S1225-Sheet1!$R1225","v":0},"-","-","-",{"$f":"IFERROR(Tableau1[[#This Row],[THEO]]-Tableau1[[#This Row],[Qtt 2éme lot]],\"-\")","v":"-"},"-",{"$f":"IF(Tableau1[[#This Row],[2éme lot]]=\"-\",\"-\",IFERROR(IF(Q1225=\"\",\"-\",INDEX(I:I,MATCH(Q1225,C:C,0)+1)),\"-\"))","v":"-"},"-","-"]
[2170,"MD001450","PHLOROGLUCINOL HUP 80MG COMP.ORODIS. B/10","PHLOROGLUCINOL","394","01.09.2022","MG/EXP1",185,"MG/EXP1-G-044",null,0,null,null,181,"HUP.P PHARMA SARL","-",null,{"$f":"SUMIF(Tableau1[Description article],Tableau1[Produits],Tableau1[Emplacement])","v":0},null,{"$f":"Sheet1!$S1226-Sheet1!$R1226","v":0},"-","-","-",{"$f":"IFERROR(Tableau1[[#This Row],[THEO]]-Tableau1[[#This Row],[Qtt 2éme lot]],\"-\")","v":"-"},"-",{"$f":"IF(Tableau1[[#This Row],[2éme lot]]=\"-\",\"-\",IFERROR(IF(Q1226=\"\",\"-\",INDEX(I:I,MATCH(Q1226,C:C,0)+1)),\"-\"))","v":"-"},"-","-"]
[2172,"MD001451","PHLOROGLUCINOL MM 80MG COMP.ORODIS. B/10","PHLOROGLUCINOL","401","01.09.2021","MG/EXP1",129,"MG/EXP1-E-050",null,0,null,null,182,"MM LABORATOIRE MM SARL","-",null,{"$f":"SUMIF(Tableau1[Description article],Tableau1[Produits],Tableau1[Emplacement])","v":0},null,{"$f":"Sheet1!$S1227-Sheet1!$R1227","v":0},"-","-","-",{"$f":"IFERROR(Tableau1[[#This Row],[THEO]]-Tableau1[[#This Row],[Qtt 2éme lot]],\"-\")","v":"-"},"-",{"$f":"IF(Tableau1[[#This Row],[2éme lot]]=\"-\",\"-\",IFERROR(IF(Q1227=\"\",\"-\",INDEX(I:I,MATCH(Q1227,C:C,0)+1)),\"-\"))","v":"-"},"-","-"]
[2176,"PP00214","PHYBABY SIROP .F/60ML - TONUS DE BEBE-",null,"PS-1903","01.04.2022","MG/EXP1",19,"MG/EXP1-C-062",null,0,null,null,400,"MAGPHARM LABORATOIRES SARL","-",null,{"$f":"SUMIF(Tableau1[Description article],Tableau1[Produits],Tableau1[Emplacement])","v":0},null,{"$f":"Sheet1!$S1228-Sheet1!$R1228","v":0},"-","-","-",{"$f":"IFERROR(Tableau1[[#This Row],[THEO]]-Tableau1[[#This Row],[Qtt 2éme lot]],\"-\")","v":"-"},"-",{"$f":"IF(Tableau1[[#This Row],[2éme lot]]=\"-\",\"-\",IFERROR(IF(Q1228=\"\",\"-\",INDEX(I:I,MATCH(Q1228,C:C,0)+1)),\"-\"))","v":"-"},"-","-"]
[2177,"PP00215","PHYLAIT CAPSULES.B/30",null,"E9013","01.02.2022","MG/EXP1",40,"MG/EXP1-A-030",null,0,null,null,475,"MAGPHARM LABORATOIRES SARL","-",null,{"$f":"SUMIF(Tableau1[Description article],Tableau1[Produits],Tableau1[Emplacement])","v":0},null,{"$f":"Sheet1!$S1229-Sheet1!$R1229","v":0},"-","-","-",{"$f":"IFERROR(Tableau1[[#This Row],[THEO]]-Tableau1[[#This Row],[Qtt 2éme lot]],\"-\")","v":"-"},"-",{"$f":"IF(Tableau1[[#This Row],[2éme lot]]=\"-\",\"-\",IFERROR(IF(Q1229=\"\",\"-\",INDEX(I:I,MATCH(Q1229,C:C,0)+1)),\"-\"))","v":"-"},"-","-"]
[2178,"PP00215","PHYLAIT CAPSULES.B/30",null,"E9013A","28.02.2022","MG/EXP1",7,"MG/EXP1-A-030",null,0,null,null,475,"MAGPHARM LABORATOIRES SARL","-",null,{"$f":"SUMIF(Tableau1[Description article],Tableau1[Produits],Tableau1[Emplacement])","v":0},null,{"$f":"Sheet1!$S1230-Sheet1!$R1230","v":0},"-","-","-",{"$f":"IFERROR(Tableau1[[#This Row],[THEO]]-Tableau1[[#This Row],[Qtt 2éme lot]],\"-\")","v":"-"},"-",{"$f":"IF(Tableau1[[#This Row],[2éme lot]]=\"-\",\"-\",IFERROR(IF(Q1230=\"\",\"-\",INDEX(I:I,MATCH(Q1230,C:C,0)+1)),\"-\"))","v":"-"},"-","-"]
[2180,"PP00389","PHYSIOCALYPTOL SIROP BIO TOUX.RHUME.BRONCHITE ET MAUX DE GORGE -NATUREL-SANS SUCRE SANS ALCOOL F/100",null,"014","01.05.2021","MG/EXP1",65,"MG/EXP1-F-008",null,0,null,null,410,"PHYSIOPHARM","-",null,{"$f":"SUMIF(Tableau1[Description article],Tableau1[Produits],Tableau1[Emplacement])","v":0},null,{"$f":"Sheet1!$S1231-Sheet1!$R1231","v":0},"-","-","-",{"$f":"IFERROR(Tableau1[[#This Row],[THEO]]-Tableau1[[#This Row],[Qtt 2éme lot]],\"-\")","v":"-"},"-",{"$f":"IF(Tableau1[[#This Row],[2éme lot]]=\"-\",\"-\",IFERROR(IF(Q1231=\"\",\"-\",INDEX(I:I,MATCH(Q1231,C:C,0)+1)),\"-\"))","v":"-"},"-","-"]
[2182,"MD004173","PHYSIOMAG AMPL BUV 1.5G/AMP. B/20","PIDOLATE DE MAGNESIUM","014","01.03.2021","MG/EXP1",35,"MG/EXP1-B-029",null,0,null,null,630,"UPC SARL","-",null,{"$f":"SUMIF(Tableau1[Description article],Tableau1[Produits],Tableau1[Emplacement])","v":0},null,{"$f":"Sheet1!$S1232-Sheet1!$R1232","v":0},"-","-","-",{"$f":"IFERROR(Tableau1[[#This Row],[THEO]]-Tableau1[[#This Row],[Qtt 2éme lot]],\"-\")","v":"-"},"-",{"$f":"IF(Tableau1[[#This Row],[2éme lot]]=\"-\",\"-\",IFERROR(IF(Q1232=\"\",\"-\",INDEX(I:I,MATCH(Q1232,C:C,0)+1)),\"-\"))","v":"-"},"-","-"]
[2183,"MD001456","PIASCLEDINE 300 100MG/200MG (TOTAL 300MG D'INSAPONIFIABLES AVOCATSOJA) GLES. B/15","INSAPONIFIBALE D'AVOCAT ET DE SOJA","G552","01.11.2021","MG/EXP1",22,"MG/EXP1-C-034",null,0,null,null,618.18,"BIOPHARM SPA","-",null,{"$f":"SUMIF(Tableau1[Description article],Tableau1[Produits],Tableau1[Emplacement])","v":0},null,{"$f":"Sheet1!$S1233-Sheet1!$R1233","v":0},"-","-","-",{"$f":"IFERROR(Tableau1[[#This Row],[THEO]]-Tableau1[[#This Row],[Qtt 2éme lot]],\"-\")","v":"-"},"-",{"$f":"IF(Tableau1[[#This Row],[2éme lot]]=\"-\",\"-\",IFERROR(IF(Q1233=\"\",\"-\",INDEX(I:I,MATCH(Q1233,C:C,0)+1)),\"-\"))","v":"-"},"-","-"]
[2187,"MD001458","PIMAG 1,5G/10ML SOL.BUV. B/10","PIDOLATE DE MAGNESIUM","915015","01.04.2022","MG/EXP1",112,"MG/EXP1-A-015",null,0,null,null,350,"LPA LABORATOIRE PHARMACEUTIQUE ALGERIEN SPA","-",null,{"$f":"SUMIF(Tableau1[Description article],Tableau1[Produits],Tableau1[Emplacement])","v":0},null,{"$f":"Sheet1!$S1234-Sheet1!$R1234","v":0},"-","-","-",{"$f":"IFERROR(Tableau1[[#This Row],[THEO]]-Tableau1[[#This Row],[Qtt 2éme lot]],\"-\")","v":"-"},"-",{"$f":"IF(Tableau1[[#This Row],[2éme lot]]=\"-\",\"-\",IFERROR(IF(Q1234=\"\",\"-\",INDEX(I:I,MATCH(Q1234,C:C,0)+1)),\"-\"))","v":"-"},"-","-"]
[2191,"MD001459","PINAQUINE 200MG COMP.PELLI. B/60","QUETIAPINE","191336","01.06.2022","MG/EXP1",4,"MG/EXP1-BOX6-021",null,0,null,"CHER",4321.94,"EL KENDI INDUSTRIE DE MEDICAMENTS SPA","-",null,{"$f":"SUMIF(Tableau1[Description article],Tableau1[Produits],Tableau1[Emplacement])","v":0},null,{"$f":"Sheet1!$S1235-Sheet1!$R1235","v":0},"-","-","-",{"$f":"IFERROR(Tableau1[[#This Row],[THEO]]-Tableau1[[#This Row],[Qtt 2éme lot]],\"-\")","v":"-"},"-",{"$f":"IF(Tableau1[[#This Row],[2éme lot]]=\"-\",\"-\",IFERROR(IF(Q1235=\"\",\"-\",INDEX(I:I,MATCH(Q1235,C:C,0)+1)),\"-\"))","v":"-"},"-","-"]
[2193,"MD003965","PINAQUINE LP 200MG COMP.PELLI. B/60","QUETIAPINE","191025","01.06.2022","MG/EXP1",7,"MG/EXP1-BOX6-PSY-021",null,0,null,"CHER",4677.5,"EL KENDI INDUSTRIE DE MEDICAMENTS SPA","-",null,{"$f":"SUMIF(Tableau1[Description article],Tableau1[Produits],Tableau1[Emplacement])","v":0},null,{"$f":"Sheet1!$S1236-Sheet1!$R1236","v":0},"-","-","-",{"$f":"IFERROR(Tableau1[[#This Row],[THEO]]-Tableau1[[#This Row],[Qtt 2éme lot]],\"-\")","v":"-"},"-",{"$f":"IF(Tableau1[[#This Row],[2éme lot]]=\"-\",\"-\",IFERROR(IF(Q1236=\"\",\"-\",INDEX(I:I,MATCH(Q1236,C:C,0)+1)),\"-\"))","v":"-"},"-","-"]
[2194,"MD001461","PINATEL 100MG COMP.PELLI. B/28","PINAVERIUM","109319","01.12.2022","MG/EXP1",322,"MG/EXP1-D-055",null,0,null,null,287.48,"BEKER LABORATOIRES","-",null,{"$f":"SUMIF(Tableau1[Description article],Tableau1[Produits],Tableau1[Emplacement])","v":0},null,{"$f":"Sheet1!$S1237-Sheet1!$R1237","v":0},"-","-","-",{"$f":"IFERROR(Tableau1[[#This Row],[THEO]]-Tableau1[[#This Row],[Qtt 2éme lot]],\"-\")","v":"-"},"-",{"$f":"IF(Tableau1[[#This Row],[2éme lot]]=\"-\",\"-\",IFERROR(IF(Q1237=\"\",\"-\",INDEX(I:I,MATCH(Q1237,C:C,0)+1)),\"-\"))","v":"-"},"-","-"]
[2196,"MD001463","PIROXAL 20MG SUPP. B/10","PIROXOCAM","9R360*","01.05.2022","MG/EXP1",192,"MG/EXP1-D-029",null,0,null,null,200,"SALEM LABORATOIRES SARL","-",null,{"$f":"SUMIF(Tableau1[Description article],Tableau1[Produits],Tableau1[Emplacement])","v":0},null,{"$f":"Sheet1!$S1238-Sheet1!$R1238","v":0},"-","-","-",{"$f":"IFERROR(Tableau1[[#This Row],[THEO]]-Tableau1[[#This Row],[Qtt 2éme lot]],\"-\")","v":"-"},"-",{"$f":"IF(Tableau1[[#This Row],[2éme lot]]=\"-\",\"-\",IFERROR(IF(Q1238=\"\",\"-\",INDEX(I:I,MATCH(Q1238,C:C,0)+1)),\"-\"))","v":"-"},"-","-"]
[2197,"MD001464","PIROXEN 20MG COMP.DISPER. B/12","PIROXICAM","9431","01.05.2021","MG/EXP1",90,"MG/EXP1-B-014",null,0,null,null,201,"INPHA MEDIS SPA","-",null,{"$f":"SUMIF(Tableau1[Description article],Tableau1[Produits],Tableau1[Emplacement])","v":0},null,{"$f":"Sheet1!$S1239-Sheet1!$R1239","v":0},"-","-","-",{"$f":"IFERROR(Tableau1[[#This Row],[THEO]]-Tableau1[[#This Row],[Qtt 2éme lot]],\"-\")","v":"-"},"-",{"$f":"IF(Tableau1[[#This Row],[2éme lot]]=\"-\",\"-\",IFERROR(IF(Q1239=\"\",\"-\",INDEX(I:I,MATCH(Q1239,C:C,0)+1)),\"-\"))","v":"-"},"-","-"]
[2198,"MD001465","PIROXENE 0,5% GEL DERM. T/40G","PIROXICAM","19104","01.04.2022","MG/EXP1",102,"MG/EXP1-E-067",null,0,null,null,196,"AFRO PHARM SPA","-",null,{"$f":"SUMIF(Tableau1[Description article],Tableau1[Produits],Tableau1[Emplacement])","v":0},null,{"$f":"Sheet1!$S1240-Sheet1!$R1240","v":0},"-","-","-",{"$f":"IFERROR(Tableau1[[#This Row],[THEO]]-Tableau1[[#This Row],[Qtt 2éme lot]],\"-\")","v":"-"},"-",{"$f":"IF(Tableau1[[#This Row],[2éme lot]]=\"-\",\"-\",IFERROR(IF(Q1240=\"\",\"-\",INDEX(I:I,MATCH(Q1240,C:C,0)+1)),\"-\"))","v":"-"},"-","-"]
[2199,"MD001468","PLAGREL 75MG COMP.ENRO. B/28","CLOPIDOGREL","190722","01.08.2022","MG/EXP1",10,"MG/EXP1-BOX6-008",null,0,null,null,1677.5,"EL KENDI INDUSTRIE DE MEDICAMENTS SPA","-",null,{"$f":"SUMIF(Tableau1[Description article],Tableau1[Produits],Tableau1[Emplacement])","v":0},null,{"$f":"Sheet1!$S1241-Sheet1!$R1241","v":0},"-","-","-",{"$f":"IFERROR(Tableau1[[#This Row],[THEO]]-Tableau1[[#This Row],[Qtt 2éme lot]],\"-\")","v":"-"},"-",{"$f":"IF(Tableau1[[#This Row],[2éme lot]]=\"-\",\"-\",IFERROR(IF(Q1241=\"\",\"-\",INDEX(I:I,MATCH(Q1241,C:C,0)+1)),\"-\"))","v":"-"},"-","-"]
[2201,"MD001471","PLANADIX EXTRA 500MG/65MG COMP.SEC. B/16","PARACETAMOL/CAFEINE","PC0668","01.03.2022","MG/EXP1",45,"MG/EXP1-C-020",null,0,null,null,97.83,"NADPHARMADIC","-",null,{"$f":"SUMIF(Tableau1[Description article],Tableau1[Produits],Tableau1[Emplacement])","v":0},null,{"$f":"Sheet1!$S1242-Sheet1!$R1242","v":0},"-","-","-",{"$f":"IFERROR(Tableau1[[#This Row],[THEO]]-Tableau1[[#This Row],[Qtt 2éme lot]],\"-\")","v":"-"},"-",{"$f":"IF(Tableau1[[#This Row],[2éme lot]]=\"-\",\"-\",IFERROR(IF(Q1242=\"\",\"-\",INDEX(I:I,MATCH(Q1242,C:C,0)+1)),\"-\"))","v":"-"},"-","-"]
[2203,"MD001474","PLAVIX 75MG COMP.PELLI. B/28","CLOPIDOGREL","PA011A","01.09.2021","MG/EXP1",168,"MG/EXP1-A-004",null,0,null,null,1677.5,"SANOFI AVENTIS ALGERIE SPA","-",null,{"$f":"SUMIF(Tableau1[Description article],Tableau1[Produits],Tableau1[Emplacement])","v":0},null,{"$f":"Sheet1!$S1243-Sheet1!$R1243","v":0},"-","-","-",{"$f":"IFERROR(Tableau1[[#This Row],[THEO]]-Tableau1[[#This Row],[Qtt 2éme lot]],\"-\")","v":"-"},"-",{"$f":"IF(Tableau1[[#This Row],[2éme lot]]=\"-\",\"-\",IFERROR(IF(Q1243=\"\",\"-\",INDEX(I:I,MATCH(Q1243,C:C,0)+1)),\"-\"))","v":"-"},"-","-"]
[2205,"MD001474","PLAVIX 75MG COMP.PELLI. B/28","CLOPIDOGREL","PA010A","01.09.2021","MG/EXP1",20,"MG/EXP1-A-003",null,0,null,null,1677.5,"SANOFI AVENTIS ALGERIE SPA","-",null,{"$f":"SUMIF(Tableau1[Description article],Tableau1[Produits],Tableau1[Emplacement])","v":0},null,{"$f":"Sheet1!$S1244-Sheet1!$R1244","v":0},"-","-","-",{"$f":"IFERROR(Tableau1[[#This Row],[THEO]]-Tableau1[[#This Row],[Qtt 2éme lot]],\"-\")","v":"-"},"-",{"$f":"IF(Tableau1[[#This Row],[2éme lot]]=\"-\",\"-\",IFERROR(IF(Q1244=\"\",\"-\",INDEX(I:I,MATCH(Q1244,C:C,0)+1)),\"-\"))","v":"-"},"-","-"]
[2207,"PP00202","POLIVITA SIROP F/100ml",null,"V002","01.02.2021","MG/EXP1",189,"MG/EXP1-C-053",null,0,null,null,706.86,"ABDI IBRAHIM REMED PHARMA SPA","-",null,{"$f":"SUMIF(Tableau1[Description article],Tableau1[Produits],Tableau1[Emplacement])","v":0},null,{"$f":"Sheet1!$S1245-Sheet1!$R1245","v":0},"-","-","-",{"$f":"IFERROR(Tableau1[[#This Row],[THEO]]-Tableau1[[#This Row],[Qtt 2éme lot]],\"-\")","v":"-"},"-",{"$f":"IF(Tableau1[[#This Row],[2éme lot]]=\"-\",\"-\",IFERROR(IF(Q1245=\"\",\"-\",INDEX(I:I,MATCH(Q1245,C:C,0)+1)),\"-\"))","v":"-"},"-","-"]
[2209,"MD001477","POLYDEXA 650000UI/1000000UI/0,100G/100ML SOL.AURIC.GTTES. FL/10,5ML","NEOMYCINE-POLYMYXINE-DEXAMETHASONE","M2273","31.01.2022","MG/EXP1",378,"MG/EXP1-C-043",null,0,null,null,163.21,"BIOPHARM SPA","-",null,{"$f":"SUMIF(Tableau1[Description article],Tableau1[Produits],Tableau1[Emplacement])","v":0},null,{"$f":"Sheet1!$S1246-Sheet1!$R1246","v":0},"-","-","-",{"$f":"IFERROR(Tableau1[[#This Row],[THEO]]-Tableau1[[#This Row],[Qtt 2éme lot]],\"-\")","v":"-"},"-",{"$f":"IF(Tableau1[[#This Row],[2éme lot]]=\"-\",\"-\",IFERROR(IF(Q1246=\"\",\"-\",INDEX(I:I,MATCH(Q1246,C:C,0)+1)),\"-\"))","v":"-"},"-","-"]
[2211,"MD001478","POLYGYNAX 35 000 UI/35 000 UI/100 000 UI CAPS.VAG. MOLLES B/12","NEOMYCINE -POLYMYXINE -NYSTATINE","14024","01.03.2021","MG/EXP1",98,"MG/EXP1-B-042",null,0,null,null,669.21,"UPC SARL","-",null,{"$f":"SUMIF(Tableau1[Description article],Tableau1[Produits],Tableau1[Emplacement])","v":0},null,{"$f":"Sheet1!$S1247-Sheet1!$R1247","v":0},"-","-","-",{"$f":"IFERROR(Tableau1[[#This Row],[THEO]]-Tableau1[[#This Row],[Qtt 2éme lot]],\"-\")","v":"-"},"-",{"$f":"IF(Tableau1[[#This Row],[2éme lot]]=\"-\",\"-\",IFERROR(IF(Q1247=\"\",\"-\",INDEX(I:I,MATCH(Q1247,C:C,0)+1)),\"-\"))","v":"-"},"-","-"]
[2214,"MD001480","POROSIMAX 70MG COMP. B/04","ALENDRONATE","018","01.09.2022","MG/EXP1",167,"MG/EXP1-B-014",null,0,null,null,1757.5,"PROVIVO SPA","-",null,{"$f":"SUMIF(Tableau1[Description article],Tableau1[Produits],Tableau1[Emplacement])","v":0},null,{"$f":"Sheet1!$S1248-Sheet1!$R1248","v":0},"-","-","-",{"$f":"IFERROR(Tableau1[[#This Row],[THEO]]-Tableau1[[#This Row],[Qtt 2éme lot]],\"-\")","v":"-"},"-",{"$f":"IF(Tableau1[[#This Row],[2éme lot]]=\"-\",\"-\",IFERROR(IF(Q1248=\"\",\"-\",INDEX(I:I,MATCH(Q1248,C:C,0)+1)),\"-\"))","v":"-"},"-","-"]
[2216,"MD001481","POROSIMAX PLUS 70MG/5600 UI COMP. B/04","ALENDRONATE / VITAMINE D3","011","01.12.2020","MG/EXP1",131,"MG/EXP1-A-009",null,0,null,null,1757.5,"PROVIVO SPA","-",null,{"$f":"SUMIF(Tableau1[Description article],Tableau1[Produits],Tableau1[Emplacement])","v":0},null,{"$f":"Sheet1!$S1249-Sheet1!$R1249","v":0},"-","-","-",{"$f":"IFERROR(Tableau1[[#This Row],[THEO]]-Tableau1[[#This Row],[Qtt 2éme lot]],\"-\")","v":"-"},"-",{"$f":"IF(Tableau1[[#This Row],[2éme lot]]=\"-\",\"-\",IFERROR(IF(Q1249=\"\",\"-\",INDEX(I:I,MATCH(Q1249,C:C,0)+1)),\"-\"))","v":"-"},"-","-"]
[2217,"MD001485","PRASIVAST 10MG COMP. PILUL/30","PRAVASTATINE SODIQUE","191017","01.04.2021","MG/EXP1",51,"MG/EXP1-G-009",null,0,null,null,618.43,"EL KENDI INDUSTRIE DE MEDICAMENTS SPA","-",null,{"$f":"SUMIF(Tableau1[Description article],Tableau1[Produits],Tableau1[Emplacement])","v":0},null,{"$f":"Sheet1!$S1250-Sheet1!$R1250","v":0},"-","-","-",{"$f":"IFERROR(Tableau1[[#This Row],[THEO]]-Tableau1[[#This Row],[Qtt 2éme lot]],\"-\")","v":"-"},"-",{"$f":"IF(Tableau1[[#This Row],[2éme lot]]=\"-\",\"-\",IFERROR(IF(Q1250=\"\",\"-\",INDEX(I:I,MATCH(Q1250,C:C,0)+1)),\"-\"))","v":"-"},"-","-"]
[2218,"MD001486","PRASIVAST 20MG COMP. PILUL/30","PRAVASTATINE SODIQUE","191812","01.08.2021","MG/EXP1",70,"MG/EXP1-B-035",null,0,null,null,1197.5,"EL KENDI INDUSTRIE DE MEDICAMENTS SPA","-",null,{"$f":"SUMIF(Tableau1[Description article],Tableau1[Produits],Tableau1[Emplacement])","v":0},null,{"$f":"Sheet1!$S1251-Sheet1!$R1251","v":0},"-","-","-",{"$f":"IFERROR(Tableau1[[#This Row],[THEO]]-Tableau1[[#This Row],[Qtt 2éme lot]],\"-\")","v":"-"},"-",{"$f":"IF(Tableau1[[#This Row],[2éme lot]]=\"-\",\"-\",IFERROR(IF(Q1251=\"\",\"-\",INDEX(I:I,MATCH(Q1251,C:C,0)+1)),\"-\"))","v":"-"},"-","-"]
[2219,"MD001490","PRECORTYL 5MG COMP. B/30","PREDNISONE","0556","01.05.2022","MG/EXP1",40,"MG/EXP1-A-030",null,0,null,null,147.5,"SAIDAL UNITE CENTRE","-",null,{"$f":"SUMIF(Tableau1[Description article],Tableau1[Produits],Tableau1[Emplacement])","v":0},null,{"$f":"Sheet1!$S1252-Sheet1!$R1252","v":0},"-","-","-",{"$f":"IFERROR(Tableau1[[#This Row],[THEO]]-Tableau1[[#This Row],[Qtt 2éme lot]],\"-\")","v":"-"},"-",{"$f":"IF(Tableau1[[#This Row],[2éme lot]]=\"-\",\"-\",IFERROR(IF(Q1252=\"\",\"-\",INDEX(I:I,MATCH(Q1252,C:C,0)+1)),\"-\"))","v":"-"},"-","-"]
[2224,"MD002266","PREDNAL 20MG COMP.SEC. B/20","PREDNISOLONE","381029","31.07.2021","MG/EXP1",221,"MG/EXP1-G-033",null,0,null,null,387,"SOPHAL SOCIETE PHARMACEUTIQUE ALGERIENNE","-",null,{"$f":"SUMIF(Tableau1[Description article],Tableau1[Produits],Tableau1[Emplacement])","v":0},null,{"$f":"Sheet1!$S1253-Sheet1!$R1253","v":0},"-","-","-",{"$f":"IFERROR(Tableau1[[#This Row],[THEO]]-Tableau1[[#This Row],[Qtt 2éme lot]],\"-\")","v":"-"},"-",{"$f":"IF(Tableau1[[#This Row],[2éme lot]]=\"-\",\"-\",IFERROR(IF(Q1253=\"\",\"-\",INDEX(I:I,MATCH(Q1253,C:C,0)+1)),\"-\"))","v":"-"},"-","-"]
[2225,"MD001493","PREDNISOLONE MM ORO 20MG COMP.ORODIS. B/20","PREDNISOLONE","177","01.11.2021","MG/EXP1",156,"MG/EXP1-F-045",null,0,null,null,389.5,"MM LABORATOIRE MM SARL","-",null,{"$f":"SUMIF(Tableau1[Description article],Tableau1[Produits],Tableau1[Emplacement])","v":0},null,{"$f":"Sheet1!$S1254-Sheet1!$R1254","v":0},"-","-","-",{"$f":"IFERROR(Tableau1[[#This Row],[THEO]]-Tableau1[[#This Row],[Qtt 2éme lot]],\"-\")","v":"-"},"-",{"$f":"IF(Tableau1[[#This Row],[2éme lot]]=\"-\",\"-\",IFERROR(IF(Q1254=\"\",\"-\",INDEX(I:I,MATCH(Q1254,C:C,0)+1)),\"-\"))","v":"-"},"-","-"]
[2226,"MD001494","PREDNISOLONE MM ORO 5MG COMP.ORODIS. B/30","PREDNISOLONE","034","01.05.2020","MG/EXP1",110,"MG/EXP1-E-011",null,0,null,null,237.6,"MM LABORATOIRE MM SARL","-",null,{"$f":"SUMIF(Tableau1[Description article],Tableau1[Produits],Tableau1[Emplacement])","v":0},null,{"$f":"Sheet1!$S1255-Sheet1!$R1255","v":0},"-","-","-",{"$f":"IFERROR(Tableau1[[#This Row],[THEO]]-Tableau1[[#This Row],[Qtt 2éme lot]],\"-\")","v":"-"},"-",{"$f":"IF(Tableau1[[#This Row],[2éme lot]]=\"-\",\"-\",IFERROR(IF(Q1255=\"\",\"-\",INDEX(I:I,MATCH(Q1255,C:C,0)+1)),\"-\"))","v":"-"},"-","-"]
[2227,"MD001497","PREDNOL - L 40MG PDRE.SOL.INJ. B/01+ 01","METHYLPREDNISOLONE","19B0461BA/80303008","31.01.2022","MG/EXP1",320,"MG/EXP1-E-037",null,0,null,null,172.43,"BIOPHARM SPA","-",null,{"$f":"SUMIF(Tableau1[Description article],Tableau1[Produits],Tableau1[Emplacement])","v":0},null,{"$f":"Sheet1!$S1256-Sheet1!$R1256","v":0},"-","-","-",{"$f":"IFERROR(Tableau1[[#This Row],[THEO]]-Tableau1[[#This Row],[Qtt 2éme lot]],\"-\")","v":"-"},"-",{"$f":"IF(Tableau1[[#This Row],[2éme lot]]=\"-\",\"-\",IFERROR(IF(Q1256=\"\",\"-\",INDEX(I:I,MATCH(Q1256,C:C,0)+1)),\"-\"))","v":"-"},"-","-"]
[2230,"MD003391","PRELDENE 20MG GLES. B/10","PIROXICAM","014","01.04.2021","MG/EXP1",154,"MG/EXP1-G-017",null,0,null,null,140.5,"HUP.P PHARMA SARL","-",null,{"$f":"SUMIF(Tableau1[Description article],Tableau1[Produits],Tableau1[Emplacement])","v":0},null,{"$f":"Sheet1!$S1257-Sheet1!$R1257","v":0},"-","-","-",{"$f":"IFERROR(Tableau1[[#This Row],[THEO]]-Tableau1[[#This Row],[Qtt 2éme lot]],\"-\")","v":"-"},"-",{"$f":"IF(Tableau1[[#This Row],[2éme lot]]=\"-\",\"-\",IFERROR(IF(Q1257=\"\",\"-\",INDEX(I:I,MATCH(Q1257,C:C,0)+1)),\"-\"))","v":"-"},"-","-"]
[2231,"MD001510","PRELDENE 20MG/ML SOL.INJ.IM. B/02 AMP/1ML","PIROXICAM","022","01.02.2021","MG/EXP1",297,"MG/EXP1-A-011",null,0,null,null,146.51,"HUP.P PHARMA SARL","-",null,{"$f":"SUMIF(Tableau1[Description article],Tableau1[Produits],Tableau1[Emplacement])","v":0},null,{"$f":"Sheet1!$S1258-Sheet1!$R1258","v":0},"-","-","-",{"$f":"IFERROR(Tableau1[[#This Row],[THEO]]-Tableau1[[#This Row],[Qtt 2éme lot]],\"-\")","v":"-"},"-",{"$f":"IF(Tableau1[[#This Row],[2éme lot]]=\"-\",\"-\",IFERROR(IF(Q1258=\"\",\"-\",INDEX(I:I,MATCH(Q1258,C:C,0)+1)),\"-\"))","v":"-"},"-","-"]
[2232,"PP00307","PRESERVISION 3 CAPS. MOLLES B/60","COMPLEMENT ALIMENTAIRE","180826","01.09.2020","MG/EXP1",9,"MG/EXP1-BOX6-021",null,0,null,"CHER",4022.04,"LDM LABORATOIRES DE DIAGNOSTIC MAGHREBINS","-",null,{"$f":"SUMIF(Tableau1[Description article],Tableau1[Produits],Tableau1[Emplacement])","v":0},null,{"$f":"Sheet1!$S1259-Sheet1!$R1259","v":0},"-","-","-",{"$f":"IFERROR(Tableau1[[#This Row],[THEO]]-Tableau1[[#This Row],[Qtt 2éme lot]],\"-\")","v":"-"},"-",{"$f":"IF(Tableau1[[#This Row],[2éme lot]]=\"-\",\"-\",IFERROR(IF(Q1259=\"\",\"-\",INDEX(I:I,MATCH(Q1259,C:C,0)+1)),\"-\"))","v":"-"},"-","-"]
[2233,"MD003394","PRETERAX ARGININE 2,5MG/0,625MG COMP.PELLI. PILUL/30","PERINDOPRIL ARGININE / INDAPAMIDE","630176*","08.06.2020","MG/EXP1",101,"MG/EXP1-G-037",null,0,null,null,882.79,"BIOPHARM SPA","-",null,{"$f":"SUMIF(Tableau1[Description article],Tableau1[Produits],Tableau1[Emplacement])","v":0},null,{"$f":"Sheet1!$S1260-Sheet1!$R1260","v":0},"-","-","-",{"$f":"IFERROR(Tableau1[[#This Row],[THEO]]-Tableau1[[#This Row],[Qtt 2éme lot]],\"-\")","v":"-"},"-",{"$f":"IF(Tableau1[[#This Row],[2éme lot]]=\"-\",\"-\",IFERROR(IF(Q1260=\"\",\"-\",INDEX(I:I,MATCH(Q1260,C:C,0)+1)),\"-\"))","v":"-"},"-","-"]
[2235,"MD001513","PREZIVA 10MG COMP. B/40","PRAZEPAM","079","01.09.2022","MG/EXP1",288,"MG/EXP1-BOX6-PSY-011",null,0,null,"PSY",174.3,"BIO-GALENIC SARL","-",null,{"$f":"SUMIF(Tableau1[Description article],Tableau1[Produits],Tableau1[Emplacement])","v":0},null,{"$f":"Sheet1!$S1261-Sheet1!$R1261","v":0},"-","-","-",{"$f":"IFERROR(Tableau1[[#This Row],[THEO]]-Tableau1[[#This Row],[Qtt 2éme lot]],\"-\")","v":"-"},"-",{"$f":"IF(Tableau1[[#This Row],[2éme lot]]=\"-\",\"-\",IFERROR(IF(Q1261=\"\",\"-\",INDEX(I:I,MATCH(Q1261,C:C,0)+1)),\"-\"))","v":"-"},"-","-"]
[2236,"MD004166","PRIMAL 0,05MG/ML  FL/60ML","MEQUITAZINE","22910","01.09.2021","MG/EXP1",139,"MG/EXP1-B-036",null,0,null,null,205.66,"PHARMIDAL SARL","-",null,{"$f":"SUMIF(Tableau1[Description article],Tableau1[Produits],Tableau1[Emplacement])","v":0},null,{"$f":"Sheet1!$S1262-Sheet1!$R1262","v":0},"-","-","-",{"$f":"IFERROR(Tableau1[[#This Row],[THEO]]-Tableau1[[#This Row],[Qtt 2éme lot]],\"-\")","v":"-"},"-",{"$f":"IF(Tableau1[[#This Row],[2éme lot]]=\"-\",\"-\",IFERROR(IF(Q1262=\"\",\"-\",INDEX(I:I,MATCH(Q1262,C:C,0)+1)),\"-\"))","v":"-"},"-","-"]
[2239,"MD001514","PRIMALAN 1,25MG/2,5ML SRP. FL/60ML","MEQUITAZINE","G00844*","01.06.2021","MG/EXP1",44,"MG/EXP1-A-016",null,0,null,null,213.59,"BIOPHARM SPA","-",null,{"$f":"SUMIF(Tableau1[Description article],Tableau1[Produits],Tableau1[Emplacement])","v":0},null,{"$f":"Sheet1!$S1263-Sheet1!$R1263","v":0},"-","-","-",{"$f":"IFERROR(Tableau1[[#This Row],[THEO]]-Tableau1[[#This Row],[Qtt 2éme lot]],\"-\")","v":"-"},"-",{"$f":"IF(Tableau1[[#This Row],[2éme lot]]=\"-\",\"-\",IFERROR(IF(Q1263=\"\",\"-\",INDEX(I:I,MATCH(Q1263,C:C,0)+1)),\"-\"))","v":"-"},"-","-"]
[2242,"MD001514","PRIMALAN 1,25MG/2,5ML SRP. FL/60ML","MEQUITAZINE","G00849","01.10.2021","MG/EXP1",271,"MG/EXP1-D-020",null,0,null,null,204.84,"BIOPHARM SPA","-",null,{"$f":"SUMIF(Tableau1[Description article],Tableau1[Produits],Tableau1[Emplacement])","v":0},null,{"$f":"Sheet1!$S1264-Sheet1!$R1264","v":0},"-","-","-",{"$f":"IFERROR(Tableau1[[#This Row],[THEO]]-Tableau1[[#This Row],[Qtt 2éme lot]],\"-\")","v":"-"},"-",{"$f":"IF(Tableau1[[#This Row],[2éme lot]]=\"-\",\"-\",IFERROR(IF(Q1264=\"\",\"-\",INDEX(I:I,MATCH(Q1264,C:C,0)+1)),\"-\"))","v":"-"},"-","-"]
[2243,"MD001517","PRIMAZOL 400MG/80MG COMP. B/20","SULFAMETHOXAZOLE 400  / TRIMETHOPRIME 80","141","01.07.2022","MG/EXP1",240,"MG/EXP1-B-011",null,0,null,null,112.5,"SAIDAL UNITE CENTRE","-",null,{"$f":"SUMIF(Tableau1[Description article],Tableau1[Produits],Tableau1[Emplacement])","v":0},null,{"$f":"Sheet1!$S1265-Sheet1!$R1265","v":0},"-","-","-",{"$f":"IFERROR(Tableau1[[#This Row],[THEO]]-Tableau1[[#This Row],[Qtt 2éme lot]],\"-\")","v":"-"},"-",{"$f":"IF(Tableau1[[#This Row],[2éme lot]]=\"-\",\"-\",IFERROR(IF(Q1265=\"\",\"-\",INDEX(I:I,MATCH(Q1265,C:C,0)+1)),\"-\"))","v":"-"},"-","-"]
[2244,"MD001519","PRIXAM 0,5% GEL DERM. T/50G","PIROXICAM","0408","01.10.2021","MG/EXP1",208,"MG/EXP1-D-026",null,0,null,null,117.5,"SAIDAL UNITE CENTRE","-",null,{"$f":"SUMIF(Tableau1[Description article],Tableau1[Produits],Tableau1[Emplacement])","v":0},null,{"$f":"Sheet1!$S1266-Sheet1!$R1266","v":0},"-","-","-",{"$f":"IFERROR(Tableau1[[#This Row],[THEO]]-Tableau1[[#This Row],[Qtt 2éme lot]],\"-\")","v":"-"},"-",{"$f":"IF(Tableau1[[#This Row],[2éme lot]]=\"-\",\"-\",IFERROR(IF(Q1266=\"\",\"-\",INDEX(I:I,MATCH(Q1266,C:C,0)+1)),\"-\"))","v":"-"},"-","-"]
[2245,"MD001520","PRIXAM 20MG/ML SOL.INJ.IM. B/02 AMP/1ML","PIROXICAM","306/1","01.12.2021","MG/EXP1",64,"MG/EXP1-B-025",null,0,null,null,125.1,"SAIDAL UNITE CENTRE","-",null,{"$f":"SUMIF(Tableau1[Description article],Tableau1[Produits],Tableau1[Emplacement])","v":0},null,{"$f":"Sheet1!$S1267-Sheet1!$R1267","v":0},"-","-","-",{"$f":"IFERROR(Tableau1[[#This Row],[THEO]]-Tableau1[[#This Row],[Qtt 2éme lot]],\"-\")","v":"-"},"-",{"$f":"IF(Tableau1[[#This Row],[2éme lot]]=\"-\",\"-\",IFERROR(IF(Q1267=\"\",\"-\",INDEX(I:I,MATCH(Q1267,C:C,0)+1)),\"-\"))","v":"-"},"-","-"]
[2246,"MD001523","PRODOL 10MG COMP.PELLI.SEC. B/30","BISOPROLOL","002/18","30.07.2021","MG/EXP1",240,"MG/EXP1-D-037",null,0,null,null,580,"PHARMALLIANCE EURL","-",null,{"$f":"SUMIF(Tableau1[Description article],Tableau1[Produits],Tableau1[Emplacement])","v":0},null,{"$f":"Sheet1!$S1268-Sheet1!$R1268","v":0},"-","-","-",{"$f":"IFERROR(Tableau1[[#This Row],[THEO]]-Tableau1[[#This Row],[Qtt 2éme lot]],\"-\")","v":"-"},"-",{"$f":"IF(Tableau1[[#This Row],[2éme lot]]=\"-\",\"-\",IFERROR(IF(Q1268=\"\",\"-\",INDEX(I:I,MATCH(Q1268,C:C,0)+1)),\"-\"))","v":"-"},"-","-"]
[2247,"MD001523","PRODOL 10MG COMP.PELLI.SEC. B/30","BISOPROLOL","005/18","01.09.2021","MG/EXP1",5,"MG/EXP1-D-051",null,0,null,null,580,"PHARMALLIANCE EURL","-",null,{"$f":"SUMIF(Tableau1[Description article],Tableau1[Produits],Tableau1[Emplacement])","v":0},null,{"$f":"Sheet1!$S1269-Sheet1!$R1269","v":0},"-","-","-",{"$f":"IFERROR(Tableau1[[#This Row],[THEO]]-Tableau1[[#This Row],[Qtt 2éme lot]],\"-\")","v":"-"},"-",{"$f":"IF(Tableau1[[#This Row],[2éme lot]]=\"-\",\"-\",IFERROR(IF(Q1269=\"\",\"-\",INDEX(I:I,MATCH(Q1269,C:C,0)+1)),\"-\"))","v":"-"},"-","-"]
[2250,"MD001522","PRODOL 5MG COMP.PELLI.SEC. B/30","BISOPROLOL","003/19*","01.02.2022","MG/EXP1",289,"MG/EXP1-A-029",null,0,null,null,296.1,"PHARMALLIANCE EURL","-",null,{"$f":"SUMIF(Tableau1[Description article],Tableau1[Produits],Tableau1[Emplacement])","v":0},null,{"$f":"Sheet1!$S1270-Sheet1!$R1270","v":0},"-","-","-",{"$f":"IFERROR(Tableau1[[#This Row],[THEO]]-Tableau1[[#This Row],[Qtt 2éme lot]],\"-\")","v":"-"},"-",{"$f":"IF(Tableau1[[#This Row],[2éme lot]]=\"-\",\"-\",IFERROR(IF(Q1270=\"\",\"-\",INDEX(I:I,MATCH(Q1270,C:C,0)+1)),\"-\"))","v":"-"},"-","-"]
[2251,"MD001525","PROF 20MG/ML SUSP.BUV. FL/100ML+ BCHN.DOSEUR","IBUPROFENE","190011","01.01.2022","MG/EXP1",262,"MG/EXP1-E-023",null,0,null,null,113.4,"EL KENDI INDUSTRIE DE MEDICAMENTS SPA","-",null,{"$f":"SUMIF(Tableau1[Description article],Tableau1[Produits],Tableau1[Emplacement])","v":0},null,{"$f":"Sheet1!$S1271-Sheet1!$R1271","v":0},"-","-","-",{"$f":"IFERROR(Tableau1[[#This Row],[THEO]]-Tableau1[[#This Row],[Qtt 2éme lot]],\"-\")","v":"-"},"-",{"$f":"IF(Tableau1[[#This Row],[2éme lot]]=\"-\",\"-\",IFERROR(IF(Q1271=\"\",\"-\",INDEX(I:I,MATCH(Q1271,C:C,0)+1)),\"-\"))","v":"-"},"-","-"]
[2254,"MD001524","PROF 400MG COMP.PELLI. B/30","IBUPROFENE","181491","01.08.2021","MG/EXP1",252,"MG/EXP1-E-010",null,0,null,null,224.4,"EL KENDI INDUSTRIE DE MEDICAMENTS SPA","-",null,{"$f":"SUMIF(Tableau1[Description article],Tableau1[Produits],Tableau1[Emplacement])","v":0},null,{"$f":"Sheet1!$S1272-Sheet1!$R1272","v":0},"-","-","-",{"$f":"IFERROR(Tableau1[[#This Row],[THEO]]-Tableau1[[#This Row],[Qtt 2éme lot]],\"-\")","v":"-"},"-",{"$f":"IF(Tableau1[[#This Row],[2éme lot]]=\"-\",\"-\",IFERROR(IF(Q1272=\"\",\"-\",INDEX(I:I,MATCH(Q1272,C:C,0)+1)),\"-\"))","v":"-"},"-","-"]
[2256,"MD001526","PROFEN LP 200MG GLES. A MICROGRAN.LP. B/20","KETOPROFEN","004/18","01.01.2021","MG/EXP1",59,"MG/EXP1-D-005",null,0,null,null,344.1,"PHARMALLIANCE EURL","-",null,{"$f":"SUMIF(Tableau1[Description article],Tableau1[Produits],Tableau1[Emplacement])","v":0},null,{"$f":"Sheet1!$S1273-Sheet1!$R1273","v":0},"-","-","-",{"$f":"IFERROR(Tableau1[[#This Row],[THEO]]-Tableau1[[#This Row],[Qtt 2éme lot]],\"-\")","v":"-"},"-",{"$f":"IF(Tableau1[[#This Row],[2éme lot]]=\"-\",\"-\",IFERROR(IF(Q1273=\"\",\"-\",INDEX(I:I,MATCH(Q1273,C:C,0)+1)),\"-\"))","v":"-"},"-","-"]
[2257,"MD001527","PROFENID 100MG COMP.PELLI. B/30","KETOPROFENE","PE007A","01.08.2021","MG/EXP1",167,"MG/EXP1-E-017",null,0,null,null,316.4,"SANOFI AVENTIS ALGERIE SPA","-",null,{"$f":"SUMIF(Tableau1[Description article],Tableau1[Produits],Tableau1[Emplacement])","v":0},null,{"$f":"Sheet1!$S1274-Sheet1!$R1274","v":0},"-","-","-",{"$f":"IFERROR(Tableau1[[#This Row],[THEO]]-Tableau1[[#This Row],[Qtt 2éme lot]],\"-\")","v":"-"},"-",{"$f":"IF(Tableau1[[#This Row],[2éme lot]]=\"-\",\"-\",IFERROR(IF(Q1274=\"\",\"-\",INDEX(I:I,MATCH(Q1274,C:C,0)+1)),\"-\"))","v":"-"},"-","-"]
[2265,"MD001528","PROFENID 100MG SUPP. B/12","KETOPROFENE","A146/1","01.09.2021","MG/EXP1",155,"MG/EXP1-A-020",null,0,null,null,188.5,"SANOFI AVENTIS ALGERIE SPA","-",null,{"$f":"SUMIF(Tableau1[Description article],Tableau1[Produits],Tableau1[Emplacement])","v":0},null,{"$f":"Sheet1!$S1275-Sheet1!$R1275","v":0},"-","-","-",{"$f":"IFERROR(Tableau1[[#This Row],[THEO]]-Tableau1[[#This Row],[Qtt 2éme lot]],\"-\")","v":"-"},"-",{"$f":"IF(Tableau1[[#This Row],[2éme lot]]=\"-\",\"-\",IFERROR(IF(Q1275=\"\",\"-\",INDEX(I:I,MATCH(Q1275,C:C,0)+1)),\"-\"))","v":"-"},"-","-"]
[2266,"MD001530","PROFENID LP 200MG COMP.ENRO.LP. B/14","KETOPROFEN","333059","01.10.2020","MG/EXP1",108,"MG/EXP1-B-053",null,0,null,null,406.5,"SANOFI AVENTIS ALGERIE SPA","-",null,{"$f":"SUMIF(Tableau1[Description article],Tableau1[Produits],Tableau1[Emplacement])","v":0},null,{"$f":"Sheet1!$S1276-Sheet1!$R1276","v":0},"-","-","-",{"$f":"IFERROR(Tableau1[[#This Row],[THEO]]-Tableau1[[#This Row],[Qtt 2éme lot]],\"-\")","v":"-"},"-",{"$f":"IF(Tableau1[[#This Row],[2éme lot]]=\"-\",\"-\",IFERROR(IF(Q1276=\"\",\"-\",INDEX(I:I,MATCH(Q1276,C:C,0)+1)),\"-\"))","v":"-"},"-","-"]
[2268,"MD003401","PROFLOX 250MG COMP.ENRO. B/10","CIPROFLOXACINE CHLORHYRATE MONOHYDRATE EXPRIME EN CIPROFLOXACINE","001/19","01.05.2022","MG/EXP1",136,"MG/EXP1-E-021",null,0,null,null,495,"PHARMALLIANCE EURL","-",null,{"$f":"SUMIF(Tableau1[Description article],Tableau1[Produits],Tableau1[Emplacement])","v":0},null,{"$f":"Sheet1!$S1277-Sheet1!$R1277","v":0},"-","-","-",{"$f":"IFERROR(Tableau1[[#This Row],[THEO]]-Tableau1[[#This Row],[Qtt 2éme lot]],\"-\")","v":"-"},"-",{"$f":"IF(Tableau1[[#This Row],[2éme lot]]=\"-\",\"-\",IFERROR(IF(Q1277=\"\",\"-\",INDEX(I:I,MATCH(Q1277,C:C,0)+1)),\"-\"))","v":"-"},"-","-"]
[2269,"MD003402","PROFLOX 500MG COMP.ENRO. B/10","CIPROFLOXACINE CHLORHYRATE MONOHYDRATE EXPRIME EN CIPROFLOXACINE","001/19*","01.05.2022","MG/EXP1",5,"MG/EXP1-A-044",null,0,null,null,792,"PHARMALLIANCE EURL","-",null,{"$f":"SUMIF(Tableau1[Description article],Tableau1[Produits],Tableau1[Emplacement])","v":0},null,{"$f":"Sheet1!$S1278-Sheet1!$R1278","v":0},"-","-","-",{"$f":"IFERROR(Tableau1[[#This Row],[THEO]]-Tableau1[[#This Row],[Qtt 2éme lot]],\"-\")","v":"-"},"-",{"$f":"IF(Tableau1[[#This Row],[2éme lot]]=\"-\",\"-\",IFERROR(IF(Q1278=\"\",\"-\",INDEX(I:I,MATCH(Q1278,C:C,0)+1)),\"-\"))","v":"-"},"-","-"]
[2270,"MD003402","PROFLOX 500MG COMP.ENRO. B/10","CIPROFLOXACINE CHLORHYRATE MONOHYDRATE EXPRIME EN CIPROFLOXACINE","002/19","01.11.2022","MG/EXP1",146,"MG/EXP1-A-044",null,0,null,null,792,"PHARMALLIANCE EURL","-",null,{"$f":"SUMIF(Tableau1[Description article],Tableau1[Produits],Tableau1[Emplacement])","v":0},null,{"$f":"Sheet1!$S1279-Sheet1!$R1279","v":0},"-","-","-",{"$f":"IFERROR(Tableau1[[#This Row],[THEO]]-Tableau1[[#This Row],[Qtt 2éme lot]],\"-\")","v":"-"},"-",{"$f":"IF(Tableau1[[#This Row],[2éme lot]]=\"-\",\"-\",IFERROR(IF(Q1279=\"\",\"-\",INDEX(I:I,MATCH(Q1279,C:C,0)+1)),\"-\"))","v":"-"},"-","-"]
[2272,"MD001535","PROGEVA 200MG CAPS.MOLLE ORA.&VAG. B/15","PROGESTERONE NATURELLE MICRONISEE","18F07*","01.06.2021","MG/EXP1",166,"MG/EXP1-E-045",null,0,null,null,606.53,"GB PHARMA SARL","-",null,{"$f":"SUMIF(Tableau1[Description article],Tableau1[Produits],Tableau1[Emplacement])","v":0},null,{"$f":"Sheet1!$S1280-Sheet1!$R1280","v":0},"-","-","-",{"$f":"IFERROR(Tableau1[[#This Row],[THEO]]-Tableau1[[#This Row],[Qtt 2éme lot]],\"-\")","v":"-"},"-",{"$f":"IF(Tableau1[[#This Row],[2éme lot]]=\"-\",\"-\",IFERROR(IF(Q1280=\"\",\"-\",INDEX(I:I,MATCH(Q1280,C:C,0)+1)),\"-\"))","v":"-"},"-","-"]
[2273,"PP00485","PROLIXIA SRP. FL/125ML","EXTRAIT SEC DE FEUILLES DE LIERRE","00259","01.09.2021","MG/EXP1",44,"MG/EXP1-A-029",null,0,null,null,528,"UPC SARL","-",null,{"$f":"SUMIF(Tableau1[Description article],Tableau1[Produits],Tableau1[Emplacement])","v":0},null,{"$f":"Sheet1!$S1281-Sheet1!$R1281","v":0},"-","-","-",{"$f":"IFERROR(Tableau1[[#This Row],[THEO]]-Tableau1[[#This Row],[Qtt 2éme lot]],\"-\")","v":"-"},"-",{"$f":"IF(Tableau1[[#This Row],[2éme lot]]=\"-\",\"-\",IFERROR(IF(Q1281=\"\",\"-\",INDEX(I:I,MATCH(Q1281,C:C,0)+1)),\"-\"))","v":"-"},"-","-"]
[2274,"MD001537","PROMAZ 0,04 SOL.ORA.GTTES. FL/30ML","CHLORPROMAZINE","1817/18","01.08.2021","MG/EXP1",20,"MG/EXP1-BOX6-018",null,0,null,null,200,"GROUPE SANTE LABORATOIRE",{"$f":"IFERROR(IF(Q1282=\"\",\"-\",INDEX(I:I,MATCH(Q1282,C:C,0))),\"-\")","v":"-"},null,{"$f":"SUMIF(Tableau1[Description article],Tableau1[Produits],Tableau1[Emplacement])","v":0},null,{"$f":"Sheet1!$S1282-Sheet1!$R1282","v":0},{"$f":"IFERROR(IF(Q1282=\"\",\"-\",INDEX(F:F,MATCH(Q1282,C:C,0))),\"-\")","v":"-"},{"$f":"IFERROR(IF(Q1282=\"\",\"-\",INDEX(E:E,MATCH(Q1282,C:C,0))),\"-\")","v":"-"},{"$f":"IFERROR(IF(Q1282=\"\",\"-\",INDEX(N:N,MATCH(Q1282,C:C,0))),\"-\")","v":"-"},{"$f":"IFERROR(Tableau1[[#This Row],[THEO]]-Tableau1[[#This Row],[Qtt 2éme lot]],\"-\")","v":"-"},{"$f":"IF(IF(Q1282=\"\",\"-\",INDEX(E:E,MATCH(Q1282,C:C,0)))=IF(Q1282=\"\",\"-\",INDEX(E:E,MATCH(Q1282,C:C,1))),\"-\",IF(Q1282=\"\",\"-\",INDEX(E:E,MATCH(Q1282,C:C,1))))","v":"-"},{"$f":"IF(Tableau1[[#This Row],[2éme lot]]=\"-\",\"-\",IFERROR(IF(Q1282=\"\",\"-\",INDEX(I:I,MATCH(Q1282,C:C,0)+1)),\"-\"))","v":"-"},{"$f":"IFERROR(IF(Y1282=\"\",\"-\",INDEX(N:N,MATCH(Y1282,E:E,0))),\"-\")","v":"-"},{"$f":"IFERROR(IF(AA1282=\"\",\"-\",INDEX(H:H,MATCH(Y1282,E:E,0))),\"-\")","v":"-"}]
[2275,"MD004057","PROMISEMED",null,"104051","11.03.2020","MG/EXP1",59,"MG/EXP1-A-042",null,0,null,null,0,"BIO ORGANIX SARL","-",null,{"$f":"SUMIF(Tableau1[Description article],Tableau1[Produits],Tableau1[Emplacement])","v":0},null,{"$f":"Sheet1!$S1283-Sheet1!$R1283","v":0},"-","-","-",{"$f":"IFERROR(Tableau1[[#This Row],[THEO]]-Tableau1[[#This Row],[Qtt 2éme lot]],\"-\")","v":"-"},"-",{"$f":"IF(Tableau1[[#This Row],[2éme lot]]=\"-\",\"-\",IFERROR(IF(Q1283=\"\",\"-\",INDEX(I:I,MATCH(Q1283,C:C,0)+1)),\"-\"))","v":"-"},"-","-"]
[2276,"PP00223","PROPHORE - SP",null,"Z323","01.09.2021","MG/EXP1",55,"MG/EXP1-G-020",null,0,null,null,896.84,"PROVIVO SPA","-",null,{"$f":"SUMIF(Tableau1[Description article],Tableau1[Produits],Tableau1[Emplacement])","v":0},null,{"$f":"Sheet1!$S1284-Sheet1!$R1284","v":0},"-","-","-",{"$f":"IFERROR(Tableau1[[#This Row],[THEO]]-Tableau1[[#This Row],[Qtt 2éme lot]],\"-\")","v":"-"},"-",{"$f":"IF(Tableau1[[#This Row],[2éme lot]]=\"-\",\"-\",IFERROR(IF(Q1284=\"\",\"-\",INDEX(I:I,MATCH(Q1284,C:C,0)+1)),\"-\"))","v":"-"},"-","-"]
[2278,"PP00226","PROSPAN SIROP  .F/100ML - ANTITUSSIF-",null,"05393","01.09.2022","MG/EXP1",724,"MG/EXP1-H-001",null,0,null,null,587.37,"HIKMA PHARMA ALGERIA SARL","-",null,{"$f":"SUMIF(Tableau1[Description article],Tableau1[Produits],Tableau1[Emplacement])","v":0},null,{"$f":"Sheet1!$S1285-Sheet1!$R1285","v":0},"-","-","-",{"$f":"IFERROR(Tableau1[[#This Row],[THEO]]-Tableau1[[#This Row],[Qtt 2éme lot]],\"-\")","v":"-"},"-",{"$f":"IF(Tableau1[[#This Row],[2éme lot]]=\"-\",\"-\",IFERROR(IF(Q1285=\"\",\"-\",INDEX(I:I,MATCH(Q1285,C:C,0)+1)),\"-\"))","v":"-"},"-","-"]
[2280,"PP00470","PROSTASECURA GLES. B/30","COMPLEMENT ALIMENTAIRE","17271","01.05.2021","MG/EXP1",2,"MG/EXP1-BOX6-021",null,0,null,null,1963.5,"BIOREAL PHARM SPA","-",null,{"$f":"SUMIF(Tableau1[Description article],Tableau1[Produits],Tableau1[Emplacement])","v":0},null,{"$f":"Sheet1!$S1286-Sheet1!$R1286","v":0},"-","-","-",{"$f":"IFERROR(Tableau1[[#This Row],[THEO]]-Tableau1[[#This Row],[Qtt 2éme lot]],\"-\")","v":"-"},"-",{"$f":"IF(Tableau1[[#This Row],[2éme lot]]=\"-\",\"-\",IFERROR(IF(Q1286=\"\",\"-\",INDEX(I:I,MATCH(Q1286,C:C,0)+1)),\"-\"))","v":"-"},"-","-"]
[2282,"MD001539","PROSTASIR LP 0,4MG GLES. A MICROGRAN.LP. B/30","TAMSULOSINE","026*","01.07.2021","MG/EXP1",27,"MG/EXP1-A-033",null,0,null,null,1396.5,"PROVIVO SPA","-",null,{"$f":"SUMIF(Tableau1[Description article],Tableau1[Produits],Tableau1[Emplacement])","v":0},null,{"$f":"Sheet1!$S1287-Sheet1!$R1287","v":0},"-","-","-",{"$f":"IFERROR(Tableau1[[#This Row],[THEO]]-Tableau1[[#This Row],[Qtt 2éme lot]],\"-\")","v":"-"},"-",{"$f":"IF(Tableau1[[#This Row],[2éme lot]]=\"-\",\"-\",IFERROR(IF(Q1287=\"\",\"-\",INDEX(I:I,MATCH(Q1287,C:C,0)+1)),\"-\"))","v":"-"},"-","-"]
[2283,"MD001540","PROSTAX LP 10MG COMP.LP. B/30","ALFUZOSINE","192110","01.09.2022","MG/EXP1",99,"MG/EXP1-B-023",null,0,null,null,613.89,"EL KENDI INDUSTRIE DE MEDICAMENTS SPA","-",null,{"$f":"SUMIF(Tableau1[Description article],Tableau1[Produits],Tableau1[Emplacement])","v":0},null,{"$f":"Sheet1!$S1288-Sheet1!$R1288","v":0},"-","-","-",{"$f":"IFERROR(Tableau1[[#This Row],[THEO]]-Tableau1[[#This Row],[Qtt 2éme lot]],\"-\")","v":"-"},"-",{"$f":"IF(Tableau1[[#This Row],[2éme lot]]=\"-\",\"-\",IFERROR(IF(Q1288=\"\",\"-\",INDEX(I:I,MATCH(Q1288,C:C,0)+1)),\"-\"))","v":"-"},"-","-"]
[2286,"MD001542","PROTON 20MG GLES. A MICROGRAN.GASTRORESIST B/28","OMEPRAZOL","008/19","01.01.2021","MG/EXP1",160,"MG/EXP1-A-031",null,0,null,null,310.2,"PHARMALLIANCE EURL","-",null,{"$f":"SUMIF(Tableau1[Description article],Tableau1[Produits],Tableau1[Emplacement])","v":0},null,{"$f":"Sheet1!$S1289-Sheet1!$R1289","v":0},"-","-","-",{"$f":"IFERROR(Tableau1[[#This Row],[THEO]]-Tableau1[[#This Row],[Qtt 2éme lot]],\"-\")","v":"-"},"-",{"$f":"IF(Tableau1[[#This Row],[2éme lot]]=\"-\",\"-\",IFERROR(IF(Q1289=\"\",\"-\",INDEX(I:I,MATCH(Q1289,C:C,0)+1)),\"-\"))","v":"-"},"-","-"]
[2288,"MD001545","PROVIRON 25MG COMP.SEC. B/20","MESTEROLONE","WES3B9","01.12.2023","MG/EXP1",29,"MG/EXP1-C-054",null,0,null,null,438.31,"BIOPHARM SPA","-",null,{"$f":"SUMIF(Tableau1[Description article],Tableau1[Produits],Tableau1[Emplacement])","v":0},null,{"$f":"Sheet1!$S1290-Sheet1!$R1290","v":0},"-","-","-",{"$f":"IFERROR(Tableau1[[#This Row],[THEO]]-Tableau1[[#This Row],[Qtt 2éme lot]],\"-\")","v":"-"},"-",{"$f":"IF(Tableau1[[#This Row],[2éme lot]]=\"-\",\"-\",IFERROR(IF(Q1290=\"\",\"-\",INDEX(I:I,MATCH(Q1290,C:C,0)+1)),\"-\"))","v":"-"},"-","-"]
[2290,"PP00229","PROXEED PLUS 5 GR SACHET.B/30",null,"181068","01.04.2020","MG/EXP1",2,"MG/EXP1-BOX6-005",null,0,null,"CHER",8500,"PROVIVO SPA","-",null,{"$f":"SUMIF(Tableau1[Description article],Tableau1[Produits],Tableau1[Emplacement])","v":0},null,{"$f":"Sheet1!$S1291-Sheet1!$R1291","v":0},"-","-","-",{"$f":"IFERROR(Tableau1[[#This Row],[THEO]]-Tableau1[[#This Row],[Qtt 2éme lot]],\"-\")","v":"-"},"-",{"$f":"IF(Tableau1[[#This Row],[2éme lot]]=\"-\",\"-\",IFERROR(IF(Q1291=\"\",\"-\",INDEX(I:I,MATCH(Q1291,C:C,0)+1)),\"-\"))","v":"-"},"-","-"]
[2291,"MD001548","PRURAX 0,1 CR.DERM. T/40G","CROTAMITON","0043","01.12.2021","MG/EXP1",24,"MG/EXP1-B-063",null,0,null,null,145,"SAIDAL UNITE CENTRE","-",null,{"$f":"SUMIF(Tableau1[Description article],Tableau1[Produits],Tableau1[Emplacement])","v":0},null,{"$f":"Sheet1!$S1292-Sheet1!$R1292","v":0},"-","-","-",{"$f":"IFERROR(Tableau1[[#This Row],[THEO]]-Tableau1[[#This Row],[Qtt 2éme lot]],\"-\")","v":"-"},"-",{"$f":"IF(Tableau1[[#This Row],[2éme lot]]=\"-\",\"-\",IFERROR(IF(Q1292=\"\",\"-\",INDEX(I:I,MATCH(Q1292,C:C,0)+1)),\"-\"))","v":"-"},"-","-"]
[2292,"PP00394","PSORIASENS BRULURES ET PLAIES T/50G",null,"P001","01.07.2020","MG/EXP1",189,"MG/EXP1-C-027",null,0,null,null,865,"DERMO SENS SARL","-",null,{"$f":"SUMIF(Tableau1[Description article],Tableau1[Produits],Tableau1[Emplacement])","v":0},null,{"$f":"Sheet1!$S1293-Sheet1!$R1293","v":0},"-","-","-",{"$f":"IFERROR(Tableau1[[#This Row],[THEO]]-Tableau1[[#This Row],[Qtt 2éme lot]],\"-\")","v":"-"},"-",{"$f":"IF(Tableau1[[#This Row],[2éme lot]]=\"-\",\"-\",IFERROR(IF(Q1293=\"\",\"-\",INDEX(I:I,MATCH(Q1293,C:C,0)+1)),\"-\"))","v":"-"},"-","-"]
[2293,"PP00231","PSYLLAX  SACHET .B/10",null,"PP-1913","01.01.2022","MG/EXP1",43,"MG/EXP1-F-042",null,0,null,null,550,"MAGPHARM LABORATOIRES SARL","-",null,{"$f":"SUMIF(Tableau1[Description article],Tableau1[Produits],Tableau1[Emplacement])","v":0},null,{"$f":"Sheet1!$S1294-Sheet1!$R1294","v":0},"-","-","-",{"$f":"IFERROR(Tableau1[[#This Row],[THEO]]-Tableau1[[#This Row],[Qtt 2éme lot]],\"-\")","v":"-"},"-",{"$f":"IF(Tableau1[[#This Row],[2éme lot]]=\"-\",\"-\",IFERROR(IF(Q1294=\"\",\"-\",INDEX(I:I,MATCH(Q1294,C:C,0)+1)),\"-\"))","v":"-"},"-","-"]
[2294,"MD001551","PULMICORT 0,5MG/2ML SUSP.P.INHAL./NEBULISEUR B/04 ETUIS/05 RCP.UNIDSE.","BUDESONIDE","SCWC","31.08.2021","MG/EXP1",15,"MG/EXP1-BOX6-006",null,0,null,null,3190.98,"BIOPHARM SPA","-",null,{"$f":"SUMIF(Tableau1[Description article],Tableau1[Produits],Tableau1[Emplacement])","v":0},null,{"$f":"Sheet1!$S1295-Sheet1!$R1295","v":0},"-","-","-",{"$f":"IFERROR(Tableau1[[#This Row],[THEO]]-Tableau1[[#This Row],[Qtt 2éme lot]],\"-\")","v":"-"},"-",{"$f":"IF(Tableau1[[#This Row],[2éme lot]]=\"-\",\"-\",IFERROR(IF(Q1295=\"\",\"-\",INDEX(I:I,MATCH(Q1295,C:C,0)+1)),\"-\"))","v":"-"},"-","-"]
[2295,"MD001551","PULMICORT 0,5MG/2ML SUSP.P.INHAL./NEBULISEUR B/04 ETUIS/05 RCP.UNIDSE.","BUDESONIDE","SCVE*","01.05.2021","MG/EXP1",17,"MG/EXP1-BOX6-006",null,0,null,null,3175.12,"BIOPHARM SPA","-",null,{"$f":"SUMIF(Tableau1[Description article],Tableau1[Produits],Tableau1[Emplacement])","v":0},null,{"$f":"Sheet1!$S1296-Sheet1!$R1296","v":0},"-","-","-",{"$f":"IFERROR(Tableau1[[#This Row],[THEO]]-Tableau1[[#This Row],[Qtt 2éme lot]],\"-\")","v":"-"},"-",{"$f":"IF(Tableau1[[#This Row],[2éme lot]]=\"-\",\"-\",IFERROR(IF(Q1296=\"\",\"-\",INDEX(I:I,MATCH(Q1296,C:C,0)+1)),\"-\"))","v":"-"},"-","-"]
[2296,"MD001552","PULMICORT 1MG/2ML SUSP.P.INHAL./NEBULISEUR B/04 ETUIS/05 RCP.UNIDSE.","BUDESONIDE","PCFK","30.09.2020","MG/EXP1",19,"MG/EXP1-BOX6",null,0,null,null,3437.77,"BIOPHARM SPA","-",null,{"$f":"SUMIF(Tableau1[Description article],Tableau1[Produits],Tableau1[Emplacement])","v":0},null,{"$f":"Sheet1!$S1297-Sheet1!$R1297","v":0},"-","-","-",{"$f":"IFERROR(Tableau1[[#This Row],[THEO]]-Tableau1[[#This Row],[Qtt 2éme lot]],\"-\")","v":"-"},"-",{"$f":"IF(Tableau1[[#This Row],[2éme lot]]=\"-\",\"-\",IFERROR(IF(Q1297=\"\",\"-\",INDEX(I:I,MATCH(Q1297,C:C,0)+1)),\"-\"))","v":"-"},"-","-"]
[2297,"MD001552","PULMICORT 1MG/2ML SUSP.P.INHAL./NEBULISEUR B/04 ETUIS/05 RCP.UNIDSE.","BUDESONIDE","PCHM","01.12.2020","MG/EXP1",16,"MG/EXP1-BOX6-019",null,0,null,null,3445.61,"BIOPHARM SPA","-",null,{"$f":"SUMIF(Tableau1[Description article],Tableau1[Produits],Tableau1[Emplacement])","v":0},null,{"$f":"Sheet1!$S1298-Sheet1!$R1298","v":0},"-","-","-",{"$f":"IFERROR(Tableau1[[#This Row],[THEO]]-Tableau1[[#This Row],[Qtt 2éme lot]],\"-\")","v":"-"},"-",{"$f":"IF(Tableau1[[#This Row],[2éme lot]]=\"-\",\"-\",IFERROR(IF(Q1298=\"\",\"-\",INDEX(I:I,MATCH(Q1298,C:C,0)+1)),\"-\"))","v":"-"},"-","-"]
[2299,"MD001553","PULMICORT TURBUHALER 200PG/DSE PDRE.P.INHAL.BUCC. FL/200 DSE.","BUDESONIDE MICRONISE","PAUC**","28.02.2021","MG/EXP1",97,"MG/EXP1-BOX6-008",null,0,null,null,1274.69,"BIOPHARM SPA","-",null,{"$f":"SUMIF(Tableau1[Description article],Tableau1[Produits],Tableau1[Emplacement])","v":0},null,{"$f":"Sheet1!$S1299-Sheet1!$R1299","v":0},"-","-","-",{"$f":"IFERROR(Tableau1[[#This Row],[THEO]]-Tableau1[[#This Row],[Qtt 2éme lot]],\"-\")","v":"-"},"-",{"$f":"IF(Tableau1[[#This Row],[2éme lot]]=\"-\",\"-\",IFERROR(IF(Q1299=\"\",\"-\",INDEX(I:I,MATCH(Q1299,C:C,0)+1)),\"-\"))","v":"-"},"-","-"]
[2300,"PP00331","PULMO CALYPTOL SIROP.FLC/100ML",null,"18090401*","01.09.2021","MG/EXP1",12,"MG/EXP1-G-001",null,0,null,null,424.11,"EURL NATURE NOVEA SANTE","-",null,{"$f":"SUMIF(Tableau1[Description article],Tableau1[Produits],Tableau1[Emplacement])","v":0},null,{"$f":"Sheet1!$S1300-Sheet1!$R1300","v":0},"-","-","-",{"$f":"IFERROR(Tableau1[[#This Row],[THEO]]-Tableau1[[#This Row],[Qtt 2éme lot]],\"-\")","v":"-"},"-",{"$f":"IF(Tableau1[[#This Row],[2éme lot]]=\"-\",\"-\",IFERROR(IF(Q1300=\"\",\"-\",INDEX(I:I,MATCH(Q1300,C:C,0)+1)),\"-\"))","v":"-"},"-","-"]
[2302,"MD004146","PULMOFOR SIROP ENF  FL/125ML","CARBOCISTEINE","1715/33","01.10.2020","MG/EXP1",77,"MG/EXP1-F-035",null,0,null,null,200,"GROUPE SANTE LABORATOIRE","-",null,{"$f":"SUMIF(Tableau1[Description article],Tableau1[Produits],Tableau1[Emplacement])","v":0},null,{"$f":"Sheet1!$S1301-Sheet1!$R1301","v":0},"-","-","-",{"$f":"IFERROR(Tableau1[[#This Row],[THEO]]-Tableau1[[#This Row],[Qtt 2éme lot]],\"-\")","v":"-"},"-",{"$f":"IF(Tableau1[[#This Row],[2éme lot]]=\"-\",\"-\",IFERROR(IF(Q1301=\"\",\"-\",INDEX(I:I,MATCH(Q1301,C:C,0)+1)),\"-\"))","v":"-"},"-","-"]
[2305,"MD004132","PUREGON 300 UI/0.36ML SOL.INJ. B/01 CARTCH. + 06 AIGUI.","FOLLITROPINE BETA","R006690*","01.10.2020","MG/EXP1",5,"MG/EXP1-BOX6",null,0,null,"GLAC",14766.28,"E.P.DIS EURAPHARMA SPA","-",null,{"$f":"SUMIF(Tableau1[Description article],Tableau1[Produits],Tableau1[Emplacement])","v":0},null,{"$f":"Sheet1!$S1302-Sheet1!$R1302","v":0},"-","-","-",{"$f":"IFERROR(Tableau1[[#This Row],[THEO]]-Tableau1[[#This Row],[Qtt 2éme lot]],\"-\")","v":"-"},"-",{"$f":"IF(Tableau1[[#This Row],[2éme lot]]=\"-\",\"-\",IFERROR(IF(Q1302=\"\",\"-\",INDEX(I:I,MATCH(Q1302,C:C,0)+1)),\"-\"))","v":"-"},"-","-"]
[2306,"MD004125","PUREGON 600 UI/0.72ML SOL.INJ. B/01 CARTCH. + 06 AIGUI.","FOLLITROPINE BETA","S013985","01.11.2021","MG/EXP1",10,"MG/EXP1-BOX6",null,0,null,"GLAC",27382.2,"E.P.DIS EURAPHARMA SPA","-",null,{"$f":"SUMIF(Tableau1[Description article],Tableau1[Produits],Tableau1[Emplacement])","v":0},null,{"$f":"Sheet1!$S1303-Sheet1!$R1303","v":0},"-","-","-",{"$f":"IFERROR(Tableau1[[#This Row],[THEO]]-Tableau1[[#This Row],[Qtt 2éme lot]],\"-\")","v":"-"},"-",{"$f":"IF(Tableau1[[#This Row],[2éme lot]]=\"-\",\"-\",IFERROR(IF(Q1303=\"\",\"-\",INDEX(I:I,MATCH(Q1303,C:C,0)+1)),\"-\"))","v":"-"},"-","-"]
[2307,"MD004129","PUREGON PEN","un stylo puregon","S013944","01.05.2021","MG/EXP1",6,"MG/EXP1-BOX6",null,0,null,"GLAC",0,"UPC SARL","-",null,{"$f":"SUMIF(Tableau1[Description article],Tableau1[Produits],Tableau1[Emplacement])","v":0},null,{"$f":"Sheet1!$S1304-Sheet1!$R1304","v":0},"-","-","-",{"$f":"IFERROR(Tableau1[[#This Row],[THEO]]-Tableau1[[#This Row],[Qtt 2éme lot]],\"-\")","v":"-"},"-",{"$f":"IF(Tableau1[[#This Row],[2éme lot]]=\"-\",\"-\",IFERROR(IF(Q1304=\"\",\"-\",INDEX(I:I,MATCH(Q1304,C:C,0)+1)),\"-\"))","v":"-"},"-","-"]
[2308,"MD004129","PUREGON PEN","un stylo puregon","S013944*","01.05.2021","MG/EXP1",8,"MG/EXP1-BOX6",null,0,null,"GLAC",0.1,"UPC SARL","-",null,{"$f":"SUMIF(Tableau1[Description article],Tableau1[Produits],Tableau1[Emplacement])","v":0},null,{"$f":"Sheet1!$S1305-Sheet1!$R1305","v":0},"-","-","-",{"$f":"IFERROR(Tableau1[[#This Row],[THEO]]-Tableau1[[#This Row],[Qtt 2éme lot]],\"-\")","v":"-"},"-",{"$f":"IF(Tableau1[[#This Row],[2éme lot]]=\"-\",\"-\",IFERROR(IF(Q1305=\"\",\"-\",INDEX(I:I,MATCH(Q1305,C:C,0)+1)),\"-\"))","v":"-"},"-","-"]
[2309,"MD004129","PUREGON PEN","un stylo puregon","S020093","01.07.2021","MG/EXP1",15,"MG/EXP1-BOX6",null,0,null,"GLAC",0,"UPC SARL","-",null,{"$f":"SUMIF(Tableau1[Description article],Tableau1[Produits],Tableau1[Emplacement])","v":0},null,{"$f":"Sheet1!$S1306-Sheet1!$R1306","v":0},"-","-","-",{"$f":"IFERROR(Tableau1[[#This Row],[THEO]]-Tableau1[[#This Row],[Qtt 2éme lot]],\"-\")","v":"-"},"-",{"$f":"IF(Tableau1[[#This Row],[2éme lot]]=\"-\",\"-\",IFERROR(IF(Q1306=\"\",\"-\",INDEX(I:I,MATCH(Q1306,C:C,0)+1)),\"-\"))","v":"-"},"-","-"]
[2310,"MD004129","PUREGON PEN","un stylo puregon","R008428**","01.03.2020","MG/EXP1",2,"MG/EXP1-BOX6",null,0,null,"GLAC",0,"UPC SARL","-",null,{"$f":"SUMIF(Tableau1[Description article],Tableau1[Produits],Tableau1[Emplacement])","v":0},null,{"$f":"Sheet1!$S1307-Sheet1!$R1307","v":0},"-","-","-",{"$f":"IFERROR(Tableau1[[#This Row],[THEO]]-Tableau1[[#This Row],[Qtt 2éme lot]],\"-\")","v":"-"},"-",{"$f":"IF(Tableau1[[#This Row],[2éme lot]]=\"-\",\"-\",IFERROR(IF(Q1307=\"\",\"-\",INDEX(I:I,MATCH(Q1307,C:C,0)+1)),\"-\"))","v":"-"},"-","-"]
[2312,"MD001557","PYOSTACINE 500MG COMP.PELLI.SEC. B/16","PRISTINAMYCINE","177350A","01.08.2023","MG/EXP1",36,"MG/EXP1-BOX6-024",null,0,null,null,2083.32,"SANOFI AVENTIS ALGERIE SPA","-",null,{"$f":"SUMIF(Tableau1[Description article],Tableau1[Produits],Tableau1[Emplacement])","v":0},null,{"$f":"Sheet1!$S1308-Sheet1!$R1308","v":0},"-","-","-",{"$f":"IFERROR(Tableau1[[#This Row],[THEO]]-Tableau1[[#This Row],[Qtt 2éme lot]],\"-\")","v":"-"},"-",{"$f":"IF(Tableau1[[#This Row],[2éme lot]]=\"-\",\"-\",IFERROR(IF(Q1308=\"\",\"-\",INDEX(I:I,MATCH(Q1308,C:C,0)+1)),\"-\"))","v":"-"},"-","-"]
[2313,"MD001558","QUINOX 500MG COMP.ENRO. B/10","CIPROFLOXACINE","191321","01.06.2022","MG/EXP1",89,"MG/EXP1-G-023",null,0,null,null,801.5,"EL KENDI INDUSTRIE DE MEDICAMENTS SPA","-",null,{"$f":"SUMIF(Tableau1[Description article],Tableau1[Produits],Tableau1[Emplacement])","v":0},null,{"$f":"Sheet1!$S1309-Sheet1!$R1309","v":0},"-","-","-",{"$f":"IFERROR(Tableau1[[#This Row],[THEO]]-Tableau1[[#This Row],[Qtt 2éme lot]],\"-\")","v":"-"},"-",{"$f":"IF(Tableau1[[#This Row],[2éme lot]]=\"-\",\"-\",IFERROR(IF(Q1309=\"\",\"-\",INDEX(I:I,MATCH(Q1309,C:C,0)+1)),\"-\"))","v":"-"},"-","-"]
[2314,"MD001559","RABWALYSE 0,40MG/ML SRP. FL/150ML","SALBUTAMOL","S01 J19","01.10.2022","MG/EXP1",11,"MG/EXP1-E-016",null,0,null,null,139.49,"ISOPHARM ALGERIE SARL","-",null,{"$f":"SUMIF(Tableau1[Description article],Tableau1[Produits],Tableau1[Emplacement])","v":0},null,{"$f":"Sheet1!$S1310-Sheet1!$R1310","v":0},"-","-","-",{"$f":"IFERROR(Tableau1[[#This Row],[THEO]]-Tableau1[[#This Row],[Qtt 2éme lot]],\"-\")","v":"-"},"-",{"$f":"IF(Tableau1[[#This Row],[2éme lot]]=\"-\",\"-\",IFERROR(IF(Q1310=\"\",\"-\",INDEX(I:I,MATCH(Q1310,C:C,0)+1)),\"-\"))","v":"-"},"-","-"]
[2316,"MD001563","RANITEX 150MG COMP.PELLI. B/30","RANITIDINE","050/19","01.09.2022","MG/EXP1",198,"MG/EXP1-D-026",null,0,null,null,183.01,"PHARMALLIANCE EURL","-",null,{"$f":"SUMIF(Tableau1[Description article],Tableau1[Produits],Tableau1[Emplacement])","v":0},null,{"$f":"Sheet1!$S1311-Sheet1!$R1311","v":0},"-","-","-",{"$f":"IFERROR(Tableau1[[#This Row],[THEO]]-Tableau1[[#This Row],[Qtt 2éme lot]],\"-\")","v":"-"},"-",{"$f":"IF(Tableau1[[#This Row],[2éme lot]]=\"-\",\"-\",IFERROR(IF(Q1311=\"\",\"-\",INDEX(I:I,MATCH(Q1311,C:C,0)+1)),\"-\"))","v":"-"},"-","-"]
[2318,"MD002375","RANITEX 150MG COMP.PELLI. B/60","RANITIDINE","002/19","01.10.2022","MG/EXP1",108,"MG/EXP1-E-061",null,0,null,null,330.48,"PHARMALLIANCE EURL","-",null,{"$f":"SUMIF(Tableau1[Description article],Tableau1[Produits],Tableau1[Emplacement])","v":0},null,{"$f":"Sheet1!$S1312-Sheet1!$R1312","v":0},"-","-","-",{"$f":"IFERROR(Tableau1[[#This Row],[THEO]]-Tableau1[[#This Row],[Qtt 2éme lot]],\"-\")","v":"-"},"-",{"$f":"IF(Tableau1[[#This Row],[2éme lot]]=\"-\",\"-\",IFERROR(IF(Q1312=\"\",\"-\",INDEX(I:I,MATCH(Q1312,C:C,0)+1)),\"-\"))","v":"-"},"-","-"]
[2321,"MD001564","RANITEX 300MG COMP.PELLI. B/10","RANITIDINE","009/18","30.07.2021","MG/EXP1",4,"MG/EXP1-C-018",null,0,null,null,138.68,"PHARMALLIANCE EURL","-",null,{"$f":"SUMIF(Tableau1[Description article],Tableau1[Produits],Tableau1[Emplacement])","v":0},null,{"$f":"Sheet1!$S1313-Sheet1!$R1313","v":0},"-","-","-",{"$f":"IFERROR(Tableau1[[#This Row],[THEO]]-Tableau1[[#This Row],[Qtt 2éme lot]],\"-\")","v":"-"},"-",{"$f":"IF(Tableau1[[#This Row],[2éme lot]]=\"-\",\"-\",IFERROR(IF(Q1313=\"\",\"-\",INDEX(I:I,MATCH(Q1313,C:C,0)+1)),\"-\"))","v":"-"},"-","-"]
[2324,"MD001566","RANITIDINE MABO 150MG COMP.PELLI. B/30","RANITIDINE","M28051R","30.11.2021","MG/EXP1",460,"MG/EXP1-C-013",null,0,null,null,200,"MERINAL LABORATOIRES","-",null,{"$f":"SUMIF(Tableau1[Description article],Tableau1[Produits],Tableau1[Emplacement])","v":0},null,{"$f":"Sheet1!$S1314-Sheet1!$R1314","v":0},"-","-","-",{"$f":"IFERROR(Tableau1[[#This Row],[THEO]]-Tableau1[[#This Row],[Qtt 2éme lot]],\"-\")","v":"-"},"-",{"$f":"IF(Tableau1[[#This Row],[2éme lot]]=\"-\",\"-\",IFERROR(IF(Q1314=\"\",\"-\",INDEX(I:I,MATCH(Q1314,C:C,0)+1)),\"-\"))","v":"-"},"-","-"]
[2326,"MD001565","RANITIDINE MABO 150MG COMP.PELLI. B/60","RANITIDINE","M28048R","30.11.2021","MG/EXP1",127,"MG/EXP1-A-039",null,0,null,null,396,"MERINAL LABORATOIRES","-",null,{"$f":"SUMIF(Tableau1[Description article],Tableau1[Produits],Tableau1[Emplacement])","v":0},null,{"$f":"Sheet1!$S1315-Sheet1!$R1315","v":0},"-","-","-",{"$f":"IFERROR(Tableau1[[#This Row],[THEO]]-Tableau1[[#This Row],[Qtt 2éme lot]],\"-\")","v":"-"},"-",{"$f":"IF(Tableau1[[#This Row],[2éme lot]]=\"-\",\"-\",IFERROR(IF(Q1315=\"\",\"-\",INDEX(I:I,MATCH(Q1315,C:C,0)+1)),\"-\"))","v":"-"},"-","-"]
[2329,"MD001567","RAPIDUS 50 50MG COMP.ENRO. B/20","DICLOFENAC DE POTASSIUM","190755","01.03.2022","MG/EXP1",114,"MG/EXP1-A-031",null,0,null,null,393.5,"EL KENDI INDUSTRIE DE MEDICAMENTS SPA","-",null,{"$f":"SUMIF(Tableau1[Description article],Tableau1[Produits],Tableau1[Emplacement])","v":0},null,{"$f":"Sheet1!$S1316-Sheet1!$R1316","v":0},"-","-","-",{"$f":"IFERROR(Tableau1[[#This Row],[THEO]]-Tableau1[[#This Row],[Qtt 2éme lot]],\"-\")","v":"-"},"-",{"$f":"IF(Tableau1[[#This Row],[2éme lot]]=\"-\",\"-\",IFERROR(IF(Q1316=\"\",\"-\",INDEX(I:I,MATCH(Q1316,C:C,0)+1)),\"-\"))","v":"-"},"-","-"]
[2331,"MD001568","RATIDEX 50MG/ML SOL.INJ.IM.\\IV. B/05 AMP/2ML","RANITIDINE","124","21.12.2021","MG/EXP1",777,"MG/EXP1-H-004",null,0,null,null,322.5,"PROVIVO SPA","-",null,{"$f":"SUMIF(Tableau1[Description article],Tableau1[Produits],Tableau1[Emplacement])","v":0},null,{"$f":"Sheet1!$S1317-Sheet1!$R1317","v":0},"-","-","-",{"$f":"IFERROR(Tableau1[[#This Row],[THEO]]-Tableau1[[#This Row],[Qtt 2éme lot]],\"-\")","v":"-"},"-",{"$f":"IF(Tableau1[[#This Row],[2éme lot]]=\"-\",\"-\",IFERROR(IF(Q1317=\"\",\"-\",INDEX(I:I,MATCH(Q1317,C:C,0)+1)),\"-\"))","v":"-"},"-","-"]
[2332,"MD001569","REBIF 44PG/0,5ML\\12MUI/0,5ML SOL.INJ.SC. B/12 SERING.PREREMPL/0,5ML","INTERFERON BETA -1A","AU027474","30.11.2020","MG/EXP1",8,"MG/EXP1-BOX6",null,0,null,"GLAC",81825.5,"AT PHARMA SPA","-",null,{"$f":"SUMIF(Tableau1[Description article],Tableau1[Produits],Tableau1[Emplacement])","v":0},null,{"$f":"Sheet1!$S1318-Sheet1!$R1318","v":0},"-","-","-",{"$f":"IFERROR(Tableau1[[#This Row],[THEO]]-Tableau1[[#This Row],[Qtt 2éme lot]],\"-\")","v":"-"},"-",{"$f":"IF(Tableau1[[#This Row],[2éme lot]]=\"-\",\"-\",IFERROR(IF(Q1318=\"\",\"-\",INDEX(I:I,MATCH(Q1318,C:C,0)+1)),\"-\"))","v":"-"},"-","-"]
[2334,"MD004185","REPAGLINIDE -BEKER- 0,5MG  B/30","REPAGLINIDE","003419","01.01.2021","MG/EXP1",53,"MG/EXP1-C-046",null,0,null,null,353.3,"BEKER LABORATOIRES","-",null,{"$f":"SUMIF(Tableau1[Description article],Tableau1[Produits],Tableau1[Emplacement])","v":0},null,{"$f":"Sheet1!$S1319-Sheet1!$R1319","v":0},"-","-","-",{"$f":"IFERROR(Tableau1[[#This Row],[THEO]]-Tableau1[[#This Row],[Qtt 2éme lot]],\"-\")","v":"-"},"-",{"$f":"IF(Tableau1[[#This Row],[2éme lot]]=\"-\",\"-\",IFERROR(IF(Q1319=\"\",\"-\",INDEX(I:I,MATCH(Q1319,C:C,0)+1)),\"-\"))","v":"-"},"-","-"]
[2336,"MD004186","REPAGLINIDE -BEKER- 01MG  B/30","REPAGLINIDE","003519","01.01.2021","MG/EXP1",40,"MG/EXP1-B-010",null,0,null,null,368.33,"BEKER LABORATOIRES","-",null,{"$f":"SUMIF(Tableau1[Description article],Tableau1[Produits],Tableau1[Emplacement])","v":0},null,{"$f":"Sheet1!$S1320-Sheet1!$R1320","v":0},"-","-","-",{"$f":"IFERROR(Tableau1[[#This Row],[THEO]]-Tableau1[[#This Row],[Qtt 2éme lot]],\"-\")","v":"-"},"-",{"$f":"IF(Tableau1[[#This Row],[2éme lot]]=\"-\",\"-\",IFERROR(IF(Q1320=\"\",\"-\",INDEX(I:I,MATCH(Q1320,C:C,0)+1)),\"-\"))","v":"-"},"-","-"]
[2338,"MD004187","REPAGLINIDE -BEKER- 02MG  B/30","REPAGLINIDE","061519","01.06.2021","MG/EXP1",106,"MG/EXP1-D-009",null,0,null,null,387.72,"BEKER LABORATOIRES","-",null,{"$f":"SUMIF(Tableau1[Description article],Tableau1[Produits],Tableau1[Emplacement])","v":0},null,{"$f":"Sheet1!$S1321-Sheet1!$R1321","v":0},"-","-","-",{"$f":"IFERROR(Tableau1[[#This Row],[THEO]]-Tableau1[[#This Row],[Qtt 2éme lot]],\"-\")","v":"-"},"-",{"$f":"IF(Tableau1[[#This Row],[2éme lot]]=\"-\",\"-\",IFERROR(IF(Q1321=\"\",\"-\",INDEX(I:I,MATCH(Q1321,C:C,0)+1)),\"-\"))","v":"-"},"-","-"]
[2339,"MD001585","REPANIDE 50MG COMP.ENRO. B/30","TOPIRAMATE","002/19","01.08.2022","MG/EXP1",236,"MG/EXP1-BOX6-008",null,0,null,null,1122,"PHARMALLIANCE EURL","-",null,{"$f":"SUMIF(Tableau1[Description article],Tableau1[Produits],Tableau1[Emplacement])","v":0},null,{"$f":"Sheet1!$S1322-Sheet1!$R1322","v":0},"-","-","-",{"$f":"IFERROR(Tableau1[[#This Row],[THEO]]-Tableau1[[#This Row],[Qtt 2éme lot]],\"-\")","v":"-"},"-",{"$f":"IF(Tableau1[[#This Row],[2éme lot]]=\"-\",\"-\",IFERROR(IF(Q1322=\"\",\"-\",INDEX(I:I,MATCH(Q1322,C:C,0)+1)),\"-\"))","v":"-"},"-","-"]
[2342,"MD001588","RESPINHAL 0,5MG/ML (0,05%) SOL.P.PULV.NAS. FL/15ML","OXYMETAZOLINE HCL 65 µG/0.13 ML","097","01.12.2022","MG/EXP1",309,"MG/EXP1-D-060",null,0,null,null,248.5,"BIO-GALENIC SARL","-",null,{"$f":"SUMIF(Tableau1[Description article],Tableau1[Produits],Tableau1[Emplacement])","v":0},null,{"$f":"Sheet1!$S1323-Sheet1!$R1323","v":0},"-","-","-",{"$f":"IFERROR(Tableau1[[#This Row],[THEO]]-Tableau1[[#This Row],[Qtt 2éme lot]],\"-\")","v":"-"},"-",{"$f":"IF(Tableau1[[#This Row],[2éme lot]]=\"-\",\"-\",IFERROR(IF(Q1323=\"\",\"-\",INDEX(I:I,MATCH(Q1323,C:C,0)+1)),\"-\"))","v":"-"},"-","-"]
[2343,"MD001589","RESPIROX 1MG COMP.SEC. B/20","RISPERIDONE","8106","01.08.2022","MG/EXP1",377,"MG/EXP1-BOX6-PSY-011",null,0,null,"CHER",617.5,"HIKMA PHARMA ALGERIA SARL","-",null,{"$f":"SUMIF(Tableau1[Description article],Tableau1[Produits],Tableau1[Emplacement])","v":0},null,{"$f":"Sheet1!$S1324-Sheet1!$R1324","v":0},"-","-","-",{"$f":"IFERROR(Tableau1[[#This Row],[THEO]]-Tableau1[[#This Row],[Qtt 2éme lot]],\"-\")","v":"-"},"-",{"$f":"IF(Tableau1[[#This Row],[2éme lot]]=\"-\",\"-\",IFERROR(IF(Q1324=\"\",\"-\",INDEX(I:I,MATCH(Q1324,C:C,0)+1)),\"-\"))","v":"-"},"-","-"]
[2344,"MD001589","RESPIROX 1MG COMP.SEC. B/20","RISPERIDONE","8106*","01.08.2022","MG/EXP1",2,"MG/EXP1-BOX6-PSY-011",null,0,null,"CHER",617.5,"HIKMA PHARMA ALGERIA SARL","-",null,{"$f":"SUMIF(Tableau1[Description article],Tableau1[Produits],Tableau1[Emplacement])","v":0},null,{"$f":"Sheet1!$S1325-Sheet1!$R1325","v":0},"-","-","-",{"$f":"IFERROR(Tableau1[[#This Row],[THEO]]-Tableau1[[#This Row],[Qtt 2éme lot]],\"-\")","v":"-"},"-",{"$f":"IF(Tableau1[[#This Row],[2éme lot]]=\"-\",\"-\",IFERROR(IF(Q1325=\"\",\"-\",INDEX(I:I,MATCH(Q1325,C:C,0)+1)),\"-\"))","v":"-"},"-","-"]
[2347,"MD001590","RESPIROX 2MG COMP.SEC. B/20","RISPERIDONE","81071","01.08.2021","MG/EXP1",273,"MG/EXP1-BOX6-PSY-011",null,0,null,"CHER",1377.5,"HIKMA PHARMA ALGERIA SARL","-",null,{"$f":"SUMIF(Tableau1[Description article],Tableau1[Produits],Tableau1[Emplacement])","v":0},null,{"$f":"Sheet1!$S1326-Sheet1!$R1326","v":0},"-","-","-",{"$f":"IFERROR(Tableau1[[#This Row],[THEO]]-Tableau1[[#This Row],[Qtt 2éme lot]],\"-\")","v":"-"},"-",{"$f":"IF(Tableau1[[#This Row],[2éme lot]]=\"-\",\"-\",IFERROR(IF(Q1326=\"\",\"-\",INDEX(I:I,MATCH(Q1326,C:C,0)+1)),\"-\"))","v":"-"},"-","-"]
[2349,"MD001591","RESPIROX 4MG COMP.SEC. B/20","RISPERIDONE","74352","01.03.2022","MG/EXP1",259,"MG/EXP1-BOX6-PSY-011",null,0,null,"CHER",2097.5,"HIKMA PHARMA ALGERIA SARL","-",null,{"$f":"SUMIF(Tableau1[Description article],Tableau1[Produits],Tableau1[Emplacement])","v":0},null,{"$f":"Sheet1!$S1327-Sheet1!$R1327","v":0},"-","-","-",{"$f":"IFERROR(Tableau1[[#This Row],[THEO]]-Tableau1[[#This Row],[Qtt 2éme lot]],\"-\")","v":"-"},"-",{"$f":"IF(Tableau1[[#This Row],[2éme lot]]=\"-\",\"-\",IFERROR(IF(Q1327=\"\",\"-\",INDEX(I:I,MATCH(Q1327,C:C,0)+1)),\"-\"))","v":"-"},"-","-"]
[2351,"MD001592","RESTAMINE 10MG CP B/20","LORATADINE","76145","01.04.2022","MG/EXP1",98,"MG/EXP1-C-045",null,0,null,null,239.5,"HIKMA PHARMA ALGERIA SARL","-",null,{"$f":"SUMIF(Tableau1[Description article],Tableau1[Produits],Tableau1[Emplacement])","v":0},null,{"$f":"Sheet1!$S1328-Sheet1!$R1328","v":0},"-","-","-",{"$f":"IFERROR(Tableau1[[#This Row],[THEO]]-Tableau1[[#This Row],[Qtt 2éme lot]],\"-\")","v":"-"},"-",{"$f":"IF(Tableau1[[#This Row],[2éme lot]]=\"-\",\"-\",IFERROR(IF(Q1328=\"\",\"-\",INDEX(I:I,MATCH(Q1328,C:C,0)+1)),\"-\"))","v":"-"},"-","-"]
[2353,"MD001592","RESTAMINE 10MG CP B/20","LORATADINE","6992","01.12.2021","MG/EXP1",7,"MG/EXP1-C-043",null,0,null,null,239.5,"HIKMA PHARMA ALGERIA SARL","-",null,{"$f":"SUMIF(Tableau1[Description article],Tableau1[Produits],Tableau1[Emplacement])","v":0},null,{"$f":"Sheet1!$S1329-Sheet1!$R1329","v":0},"-","-","-",{"$f":"IFERROR(Tableau1[[#This Row],[THEO]]-Tableau1[[#This Row],[Qtt 2éme lot]],\"-\")","v":"-"},"-",{"$f":"IF(Tableau1[[#This Row],[2éme lot]]=\"-\",\"-\",IFERROR(IF(Q1329=\"\",\"-\",INDEX(I:I,MATCH(Q1329,C:C,0)+1)),\"-\"))","v":"-"},"-","-"]
[2354,"MD002206","RESTILON 6MG GLES. FL/60","RIVASTIGMINE TARTRATE EXPRIME EN RIVASTIGMINE","191149","01.05.2021","MG/EXP1",20,"MG/EXP1-BOX6-PSY-021",null,0,null,"CHER",3997.37,"EL KENDI INDUSTRIE DE MEDICAMENTS SPA","-",null,{"$f":"SUMIF(Tableau1[Description article],Tableau1[Produits],Tableau1[Emplacement])","v":0},null,{"$f":"Sheet1!$S1330-Sheet1!$R1330","v":0},"-","-","-",{"$f":"IFERROR(Tableau1[[#This Row],[THEO]]-Tableau1[[#This Row],[Qtt 2éme lot]],\"-\")","v":"-"},"-",{"$f":"IF(Tableau1[[#This Row],[2éme lot]]=\"-\",\"-\",IFERROR(IF(Q1330=\"\",\"-\",INDEX(I:I,MATCH(Q1330,C:C,0)+1)),\"-\"))","v":"-"},"-","-"]
[2356,"MD001599","RETARCILINE 1 200 000 UI PDRE.SOL.INJ. B/01 FL.PDRE. + 01 AMP.SOLV/5ML","PENICILLINE G BENZATHINE","053/4","01.04.2022","MG/EXP1",113,"MG/EXP1-B-021",null,0,null,null,127.5,"SAIDAL UNITE CENTRE","-",null,{"$f":"SUMIF(Tableau1[Description article],Tableau1[Produits],Tableau1[Emplacement])","v":0},null,{"$f":"Sheet1!$S1331-Sheet1!$R1331","v":0},"-","-","-",{"$f":"IFERROR(Tableau1[[#This Row],[THEO]]-Tableau1[[#This Row],[Qtt 2éme lot]],\"-\")","v":"-"},"-",{"$f":"IF(Tableau1[[#This Row],[2éme lot]]=\"-\",\"-\",IFERROR(IF(Q1331=\"\",\"-\",INDEX(I:I,MATCH(Q1331,C:C,0)+1)),\"-\"))","v":"-"},"-","-"]
[2358,"MD001598","RETARCILINE 600 000 UI PDRE.SOL.INJ. B/01 FL.PDRE. + 01 AMP.SOLV/5ML","PENICILLINE G BENZATHINE","052/1","01.04.2022","MG/EXP1",275,"MG/EXP1-B-028",null,0,null,null,112.5,"SAIDAL UNITE CENTRE","-",null,{"$f":"SUMIF(Tableau1[Description article],Tableau1[Produits],Tableau1[Emplacement])","v":0},null,{"$f":"Sheet1!$S1332-Sheet1!$R1332","v":0},"-","-","-",{"$f":"IFERROR(Tableau1[[#This Row],[THEO]]-Tableau1[[#This Row],[Qtt 2éme lot]],\"-\")","v":"-"},"-",{"$f":"IF(Tableau1[[#This Row],[2éme lot]]=\"-\",\"-\",IFERROR(IF(Q1332=\"\",\"-\",INDEX(I:I,MATCH(Q1332,C:C,0)+1)),\"-\"))","v":"-"},"-","-"]
[2360,"MD001600","RHINATHIOL ADULTE 0,05 SRP. FL/125ML","CARBOCYTEINE","19RHA011","01.04.2022","MG/EXP1",270,"MG/EXP1-B-068",null,0,null,null,165.09,"SANOFI AVENTIS ALGERIE SPA","-",null,{"$f":"SUMIF(Tableau1[Description article],Tableau1[Produits],Tableau1[Emplacement])","v":0},null,{"$f":"Sheet1!$S1333-Sheet1!$R1333","v":0},"-","-","-",{"$f":"IFERROR(Tableau1[[#This Row],[THEO]]-Tableau1[[#This Row],[Qtt 2éme lot]],\"-\")","v":"-"},"-",{"$f":"IF(Tableau1[[#This Row],[2éme lot]]=\"-\",\"-\",IFERROR(IF(Q1333=\"\",\"-\",INDEX(I:I,MATCH(Q1333,C:C,0)+1)),\"-\"))","v":"-"},"-","-"]
[2362,"MD001601","RHINATHIOL ENFANT 0,02 SRP. FL/125ML","CARBOSYSITENE","19RHE002","01.05.2022","MG/EXP1",143,"MG/EXP1-C-050",null,0,null,null,154.07,"SANOFI AVENTIS ALGERIE SPA","-",null,{"$f":"SUMIF(Tableau1[Description article],Tableau1[Produits],Tableau1[Emplacement])","v":0},null,{"$f":"Sheet1!$S1334-Sheet1!$R1334","v":0},"-","-","-",{"$f":"IFERROR(Tableau1[[#This Row],[THEO]]-Tableau1[[#This Row],[Qtt 2éme lot]],\"-\")","v":"-"},"-",{"$f":"IF(Tableau1[[#This Row],[2éme lot]]=\"-\",\"-\",IFERROR(IF(Q1334=\"\",\"-\",INDEX(I:I,MATCH(Q1334,C:C,0)+1)),\"-\"))","v":"-"},"-","-"]
[2366,"MD001602","RHINOCORT 64PG/DSE SUSP.P.PULV.NAS. FL/120 DSE.","BUDESONIDE","MBEH","01.07.2021","MG/EXP1",470,"MG/EXP1-G-021",null,0,null,null,1005.28,"BIOPHARM SPA","-",null,{"$f":"SUMIF(Tableau1[Description article],Tableau1[Produits],Tableau1[Emplacement])","v":0},null,{"$f":"Sheet1!$S1335-Sheet1!$R1335","v":0},"-","-","-",{"$f":"IFERROR(Tableau1[[#This Row],[THEO]]-Tableau1[[#This Row],[Qtt 2éme lot]],\"-\")","v":"-"},"-",{"$f":"IF(Tableau1[[#This Row],[2éme lot]]=\"-\",\"-\",IFERROR(IF(Q1335=\"\",\"-\",INDEX(I:I,MATCH(Q1335,C:C,0)+1)),\"-\"))","v":"-"},"-","-"]
[2369,"MD001604","RHINOLACTOL 0,05 SRP.AD. FL/150ML","CARBOCYTEINE","05507","01.04.2022","MG/EXP1",48,"MG/EXP1-D-052",null,0,null,null,140,"UPC SARL","-",null,{"$f":"SUMIF(Tableau1[Description article],Tableau1[Produits],Tableau1[Emplacement])","v":0},null,{"$f":"Sheet1!$S1336-Sheet1!$R1336","v":0},"-","-","-",{"$f":"IFERROR(Tableau1[[#This Row],[THEO]]-Tableau1[[#This Row],[Qtt 2éme lot]],\"-\")","v":"-"},"-",{"$f":"IF(Tableau1[[#This Row],[2éme lot]]=\"-\",\"-\",IFERROR(IF(Q1336=\"\",\"-\",INDEX(I:I,MATCH(Q1336,C:C,0)+1)),\"-\"))","v":"-"},"-","-"]
[2371,"MD001604","RHINOLACTOL 0,05 SRP.AD. FL/150ML","CARBOCYTEINE","05407","01.04.2022","MG/EXP1",6,"MG/EXP1-D-044",null,0,null,null,140,"UPC SARL","-",null,{"$f":"SUMIF(Tableau1[Description article],Tableau1[Produits],Tableau1[Emplacement])","v":0},null,{"$f":"Sheet1!$S1337-Sheet1!$R1337","v":0},"-","-","-",{"$f":"IFERROR(Tableau1[[#This Row],[THEO]]-Tableau1[[#This Row],[Qtt 2éme lot]],\"-\")","v":"-"},"-",{"$f":"IF(Tableau1[[#This Row],[2éme lot]]=\"-\",\"-\",IFERROR(IF(Q1337=\"\",\"-\",INDEX(I:I,MATCH(Q1337,C:C,0)+1)),\"-\"))","v":"-"},"-","-"]
[2372,"MD001605","RHINOLACTOL ENFANT 0,02 SRP. FL/125ML","CARBOSYSITENE","05306","01.10.2021","MG/EXP1",126,"MG/EXP1-C-012",null,0,null,null,116,"UPC SARL","-",null,{"$f":"SUMIF(Tableau1[Description article],Tableau1[Produits],Tableau1[Emplacement])","v":0},null,{"$f":"Sheet1!$S1338-Sheet1!$R1338","v":0},"-","-","-",{"$f":"IFERROR(Tableau1[[#This Row],[THEO]]-Tableau1[[#This Row],[Qtt 2éme lot]],\"-\")","v":"-"},"-",{"$f":"IF(Tableau1[[#This Row],[2éme lot]]=\"-\",\"-\",IFERROR(IF(Q1338=\"\",\"-\",INDEX(I:I,MATCH(Q1338,C:C,0)+1)),\"-\"))","v":"-"},"-","-"]
[2374,"MD001606","RHITENE 10MG/ML SOL.BUV.GETTS. B/01 FL.COMPT.GTTES/15ML","CETIRIZINE","056","01.01.2023","MG/EXP1",188,"MG/EXP1-D-012",null,0,null,null,318.5,"BIO-GALENIC SARL","-",null,{"$f":"SUMIF(Tableau1[Description article],Tableau1[Produits],Tableau1[Emplacement])","v":0},null,{"$f":"Sheet1!$S1339-Sheet1!$R1339","v":0},"-","-","-",{"$f":"IFERROR(Tableau1[[#This Row],[THEO]]-Tableau1[[#This Row],[Qtt 2éme lot]],\"-\")","v":"-"},"-",{"$f":"IF(Tableau1[[#This Row],[2éme lot]]=\"-\",\"-\",IFERROR(IF(Q1339=\"\",\"-\",INDEX(I:I,MATCH(Q1339,C:C,0)+1)),\"-\"))","v":"-"},"-","-"]
[2376,"MD001607","RHUMAFED 2,5MG/50MG/300MG COMP. B/20","TRIPROLIDINE-PSEUDOEPHEDRINE-PARACETAMOL","4148","01.02.2022","MG/EXP1",840,"MG/EXP1-F-050",null,0,null,null,145,"SAIDAL UNITE CENTRE","-",null,{"$f":"SUMIF(Tableau1[Description article],Tableau1[Produits],Tableau1[Emplacement])","v":0},null,{"$f":"Sheet1!$S1340-Sheet1!$R1340","v":0},"-","-","-",{"$f":"IFERROR(Tableau1[[#This Row],[THEO]]-Tableau1[[#This Row],[Qtt 2éme lot]],\"-\")","v":"-"},"-",{"$f":"IF(Tableau1[[#This Row],[2éme lot]]=\"-\",\"-\",IFERROR(IF(Q1340=\"\",\"-\",INDEX(I:I,MATCH(Q1340,C:C,0)+1)),\"-\"))","v":"-"},"-","-"]
[2381,"MD001608","RIABAL 30MG COMP.PELLI. B/20","PRIFINIUM BROMURE","95741","01.05.2024","MG/EXP1",335,"MG/EXP1-G-001",null,0,null,null,201.5,"HIKMA PHARMA ALGERIA SARL","-",null,{"$f":"SUMIF(Tableau1[Description article],Tableau1[Produits],Tableau1[Emplacement])","v":0},null,{"$f":"Sheet1!$S1341-Sheet1!$R1341","v":0},"-","-","-",{"$f":"IFERROR(Tableau1[[#This Row],[THEO]]-Tableau1[[#This Row],[Qtt 2éme lot]],\"-\")","v":"-"},"-",{"$f":"IF(Tableau1[[#This Row],[2éme lot]]=\"-\",\"-\",IFERROR(IF(Q1341=\"\",\"-\",INDEX(I:I,MATCH(Q1341,C:C,0)+1)),\"-\"))","v":"-"},"-","-"]
[2383,"MD001613","RIFAMYCINE CHIBRET 1 000 000 UI/100ML COLLY.SOL. FL/10ML","RIFAMYCINE SEL DE NA","S540","01.07.2022","MG/EXP1",120,"MG/EXP1-A-001",null,0,null,null,221.2,"BIOPHARM SPA","-",null,{"$f":"SUMIF(Tableau1[Description article],Tableau1[Produits],Tableau1[Emplacement])","v":0},null,{"$f":"Sheet1!$S1342-Sheet1!$R1342","v":0},"-","-","-",{"$f":"IFERROR(Tableau1[[#This Row],[THEO]]-Tableau1[[#This Row],[Qtt 2éme lot]],\"-\")","v":"-"},"-",{"$f":"IF(Tableau1[[#This Row],[2éme lot]]=\"-\",\"-\",IFERROR(IF(Q1342=\"\",\"-\",INDEX(I:I,MATCH(Q1342,C:C,0)+1)),\"-\"))","v":"-"},"-","-"]
[2384,"MD001614","RIFAMYCINE CHIBRET 1000 000UI/100G (1%) PDE.OPHT. T/5G","RIFAMYCINE SEL DE NA","080362","30.04.2021","MG/EXP1",339,"MG/EXP1-D-004",null,0,null,null,218.39,"BIOPHARM SPA","-",null,{"$f":"SUMIF(Tableau1[Description article],Tableau1[Produits],Tableau1[Emplacement])","v":0},null,{"$f":"Sheet1!$S1343-Sheet1!$R1343","v":0},"-","-","-",{"$f":"IFERROR(Tableau1[[#This Row],[THEO]]-Tableau1[[#This Row],[Qtt 2éme lot]],\"-\")","v":"-"},"-",{"$f":"IF(Tableau1[[#This Row],[2éme lot]]=\"-\",\"-\",IFERROR(IF(Q1343=\"\",\"-\",INDEX(I:I,MATCH(Q1343,C:C,0)+1)),\"-\"))","v":"-"},"-","-"]
[2385,"MD001614","RIFAMYCINE CHIBRET 1000 000UI/100G (1%) PDE.OPHT. T/5G","RIFAMYCINE SEL DE NA","080363*","01.04.2021","MG/EXP1",270,"MG/EXP1-D-003",null,0,null,null,218.39,"BIOPHARM SPA","-",null,{"$f":"SUMIF(Tableau1[Description article],Tableau1[Produits],Tableau1[Emplacement])","v":0},null,{"$f":"Sheet1!$S1344-Sheet1!$R1344","v":0},"-","-","-",{"$f":"IFERROR(Tableau1[[#This Row],[THEO]]-Tableau1[[#This Row],[Qtt 2éme lot]],\"-\")","v":"-"},"-",{"$f":"IF(Tableau1[[#This Row],[2éme lot]]=\"-\",\"-\",IFERROR(IF(Q1344=\"\",\"-\",INDEX(I:I,MATCH(Q1344,C:C,0)+1)),\"-\"))","v":"-"},"-","-"]
[2388,"MD001615","RIFEX 120 120MG COMP.PELLI. B/20","FEXOFENADINE","M44004R","01.01.2022","MG/EXP1",163,"MG/EXP1-A-057",null,0,null,null,302.5,"MERINAL LABORATOIRES","-",null,{"$f":"SUMIF(Tableau1[Description article],Tableau1[Produits],Tableau1[Emplacement])","v":0},null,{"$f":"Sheet1!$S1345-Sheet1!$R1345","v":0},"-","-","-",{"$f":"IFERROR(Tableau1[[#This Row],[THEO]]-Tableau1[[#This Row],[Qtt 2éme lot]],\"-\")","v":"-"},"-",{"$f":"IF(Tableau1[[#This Row],[2éme lot]]=\"-\",\"-\",IFERROR(IF(Q1345=\"\",\"-\",INDEX(I:I,MATCH(Q1345,C:C,0)+1)),\"-\"))","v":"-"},"-","-"]
[2389,"MD001616","RIFEX 180 180MG COMP.PELLI. B/20","FEXOFENADINE","M45001R","30.09.2021","MG/EXP1",187,"MG/EXP1-C-066",null,0,null,null,357.1,"MERINAL LABORATOIRES",{"$f":"IFERROR(IF(Q1346=\"\",\"-\",INDEX(I:I,MATCH(Q1346,C:C,0))),\"-\")","v":"-"},null,{"$f":"SUMIF(Tableau1[Description article],Tableau1[Produits],Tableau1[Emplacement])","v":0},null,{"$f":"Sheet1!$S1346-Sheet1!$R1346","v":0},{"$f":"IFERROR(IF(Q1346=\"\",\"-\",INDEX(F:F,MATCH(Q1346,C:C,0))),\"-\")","v":"-"},{"$f":"IFERROR(IF(Q1346=\"\",\"-\",INDEX(E:E,MATCH(Q1346,C:C,0))),\"-\")","v":"-"},{"$f":"IFERROR(IF(Q1346=\"\",\"-\",INDEX(N:N,MATCH(Q1346,C:C,0))),\"-\")","v":"-"},{"$f":"IFERROR(Tableau1[[#This Row],[THEO]]-Tableau1[[#This Row],[Qtt 2éme lot]],\"-\")","v":"-"},{"$f":"IF(IF(Q1346=\"\",\"-\",INDEX(E:E,MATCH(Q1346,C:C,0)))=IF(Q1346=\"\",\"-\",INDEX(E:E,MATCH(Q1346,C:C,1))),\"-\",IF(Q1346=\"\",\"-\",INDEX(E:E,MATCH(Q1346,C:C,1))))","v":"-"},{"$f":"IF(Tableau1[[#This Row],[2éme lot]]=\"-\",\"-\",IFERROR(IF(Q1346=\"\",\"-\",INDEX(I:I,MATCH(Q1346,C:C,0)+1)),\"-\"))","v":"-"},{"$f":"IFERROR(IF(Y1346=\"\",\"-\",INDEX(N:N,MATCH(Y1346,E:E,0))),\"-\")","v":"-"},{"$f":"IFERROR(IF(AA1346=\"\",\"-\",INDEX(H:H,MATCH(Y1346,E:E,0))),\"-\")","v":"-"}]
[2391,"MD002142","RIPCYL 2MG COMP.PELLI.SEC. B/30","RISPERIDONE","M42001R","31.10.2021","MG/EXP1",100,"MG/EXP1-BOX6-020",null,0,null,"CHER",2067.5,"MERINAL LABORATOIRES","-",null,{"$f":"SUMIF(Tableau1[Description article],Tableau1[Produits],Tableau1[Emplacement])","v":0},null,{"$f":"Sheet1!$S1347-Sheet1!$R1347","v":0},"-","-","-",{"$f":"IFERROR(Tableau1[[#This Row],[THEO]]-Tableau1[[#This Row],[Qtt 2éme lot]],\"-\")","v":"-"},"-",{"$f":"IF(Tableau1[[#This Row],[2éme lot]]=\"-\",\"-\",IFERROR(IF(Q1347=\"\",\"-\",INDEX(I:I,MATCH(Q1347,C:C,0)+1)),\"-\"))","v":"-"},"-","-"]
[2392,"MD002451","RIPCYL 2MG COMP.PELLI.SEC. B/60","RISPERIDONE","M42002R","31.10.2021","MG/EXP1",100,"MG/EXP1-BOX6-020",null,0,null,"CHER",4137.5,"MERINAL LABORATOIRES","-",null,{"$f":"SUMIF(Tableau1[Description article],Tableau1[Produits],Tableau1[Emplacement])","v":0},null,{"$f":"Sheet1!$S1348-Sheet1!$R1348","v":0},"-","-","-",{"$f":"IFERROR(Tableau1[[#This Row],[THEO]]-Tableau1[[#This Row],[Qtt 2éme lot]],\"-\")","v":"-"},"-",{"$f":"IF(Tableau1[[#This Row],[2éme lot]]=\"-\",\"-\",IFERROR(IF(Q1348=\"\",\"-\",INDEX(I:I,MATCH(Q1348,C:C,0)+1)),\"-\"))","v":"-"},"-","-"]
[2393,"MD002138","RIPCYL 4MG COMP.PELLI.SEC. B/30","RISPERIDONE","M43001R","31.10.2021","MG/EXP1",100,"MG/EXP1-BOX6-020",null,0,null,"CHER",3147.5,"MERINAL LABORATOIRES","-",null,{"$f":"SUMIF(Tableau1[Description article],Tableau1[Produits],Tableau1[Emplacement])","v":0},null,{"$f":"Sheet1!$S1349-Sheet1!$R1349","v":0},"-","-","-",{"$f":"IFERROR(Tableau1[[#This Row],[THEO]]-Tableau1[[#This Row],[Qtt 2éme lot]],\"-\")","v":"-"},"-",{"$f":"IF(Tableau1[[#This Row],[2éme lot]]=\"-\",\"-\",IFERROR(IF(Q1349=\"\",\"-\",INDEX(I:I,MATCH(Q1349,C:C,0)+1)),\"-\"))","v":"-"},"-","-"]
[2394,"MD001619","RIPERAL 1MG COMP.ENRO. B/30","RISPERIDONE","191569","01.07.2021","MG/EXP1",428,"MG/EXP1-BOX6-PSY-011",null,0,null,"CHER",927.5,"EL KENDI INDUSTRIE DE MEDICAMENTS SPA","-",null,{"$f":"SUMIF(Tableau1[Description article],Tableau1[Produits],Tableau1[Emplacement])","v":0},null,{"$f":"Sheet1!$S1350-Sheet1!$R1350","v":0},"-","-","-",{"$f":"IFERROR(Tableau1[[#This Row],[THEO]]-Tableau1[[#This Row],[Qtt 2éme lot]],\"-\")","v":"-"},"-",{"$f":"IF(Tableau1[[#This Row],[2éme lot]]=\"-\",\"-\",IFERROR(IF(Q1350=\"\",\"-\",INDEX(I:I,MATCH(Q1350,C:C,0)+1)),\"-\"))","v":"-"},"-","-"]
[2396,"MD003941","RIPERAL 1MG/ML SOL.BUV.GTTES FL/120 ML","RISPERIDONE","191676","01.07.2022","MG/EXP1",197,"MG/EXP1-BOX6-PSY-020",null,0,null,"PSY",5037.5,"EL KENDI INDUSTRIE DE MEDICAMENTS SPA","-",null,{"$f":"SUMIF(Tableau1[Description article],Tableau1[Produits],Tableau1[Emplacement])","v":0},null,{"$f":"Sheet1!$S1351-Sheet1!$R1351","v":0},"-","-","-",{"$f":"IFERROR(Tableau1[[#This Row],[THEO]]-Tableau1[[#This Row],[Qtt 2éme lot]],\"-\")","v":"-"},"-",{"$f":"IF(Tableau1[[#This Row],[2éme lot]]=\"-\",\"-\",IFERROR(IF(Q1351=\"\",\"-\",INDEX(I:I,MATCH(Q1351,C:C,0)+1)),\"-\"))","v":"-"},"-","-"]
[2397,"MD001622","RIPERAL 1MG/ML SOL.BUV.GTTES FL/30ML","RISPERIDONE","191630","01.11.2022","MG/EXP1",205,"MG/EXP1-BOX6-PSY-019",null,0,null,"CHER",1257.5,"EL KENDI INDUSTRIE DE MEDICAMENTS SPA","-",null,{"$f":"SUMIF(Tableau1[Description article],Tableau1[Produits],Tableau1[Emplacement])","v":0},null,{"$f":"Sheet1!$S1352-Sheet1!$R1352","v":0},"-","-","-",{"$f":"IFERROR(Tableau1[[#This Row],[THEO]]-Tableau1[[#This Row],[Qtt 2éme lot]],\"-\")","v":"-"},"-",{"$f":"IF(Tableau1[[#This Row],[2éme lot]]=\"-\",\"-\",IFERROR(IF(Q1352=\"\",\"-\",INDEX(I:I,MATCH(Q1352,C:C,0)+1)),\"-\"))","v":"-"},"-","-"]
[2399,"MD001622","RIPERAL 1MG/ML SOL.BUV.GTTES FL/30ML","RISPERIDONE","190028","01.08.2022","MG/EXP1",1,"MG/EXP1-BOX6-PSY-020",null,0,null,"CHER",1257.5,"EL KENDI INDUSTRIE DE MEDICAMENTS SPA","-",null,{"$f":"SUMIF(Tableau1[Description article],Tableau1[Produits],Tableau1[Emplacement])","v":0},null,{"$f":"Sheet1!$S1353-Sheet1!$R1353","v":0},"-","-","-",{"$f":"IFERROR(Tableau1[[#This Row],[THEO]]-Tableau1[[#This Row],[Qtt 2éme lot]],\"-\")","v":"-"},"-",{"$f":"IF(Tableau1[[#This Row],[2éme lot]]=\"-\",\"-\",IFERROR(IF(Q1353=\"\",\"-\",INDEX(I:I,MATCH(Q1353,C:C,0)+1)),\"-\"))","v":"-"},"-","-"]
[2401,"MD001620","RIPERAL 2MG COMP.ENRO. B/30","RISPERIDONE","192025","01.09.2021","MG/EXP1",11,"MG/EXP1-BOX6-PSY-011",null,0,null,"CHER",2067.5,"EL KENDI INDUSTRIE DE MEDICAMENTS SPA","-",null,{"$f":"SUMIF(Tableau1[Description article],Tableau1[Produits],Tableau1[Emplacement])","v":0},null,{"$f":"Sheet1!$S1354-Sheet1!$R1354","v":0},"-","-","-",{"$f":"IFERROR(Tableau1[[#This Row],[THEO]]-Tableau1[[#This Row],[Qtt 2éme lot]],\"-\")","v":"-"},"-",{"$f":"IF(Tableau1[[#This Row],[2éme lot]]=\"-\",\"-\",IFERROR(IF(Q1354=\"\",\"-\",INDEX(I:I,MATCH(Q1354,C:C,0)+1)),\"-\"))","v":"-"},"-","-"]
[2403,"MD001621","RIPERAL 4MG COMP.ENRO. B/30","RISPERIDONE","191567","01.05.2021","MG/EXP1",119,"MG/EXP1-BOX6-PSY-011",null,0,null,"CHER",3147.5,"EL KENDI INDUSTRIE DE MEDICAMENTS SPA","-",null,{"$f":"SUMIF(Tableau1[Description article],Tableau1[Produits],Tableau1[Emplacement])","v":0},null,{"$f":"Sheet1!$S1355-Sheet1!$R1355","v":0},"-","-","-",{"$f":"IFERROR(Tableau1[[#This Row],[THEO]]-Tableau1[[#This Row],[Qtt 2éme lot]],\"-\")","v":"-"},"-",{"$f":"IF(Tableau1[[#This Row],[2éme lot]]=\"-\",\"-\",IFERROR(IF(Q1355=\"\",\"-\",INDEX(I:I,MATCH(Q1355,C:C,0)+1)),\"-\"))","v":"-"},"-","-"]
[2404,"MD001623","RIPSYZEN 1MG COMP.PELLI.SEC. B/30","RISPERIDONE","001/19","01.04.2022","MG/EXP1",35,"MG/EXP1-BOX6-PSY-012",null,0,null,"CHER",927.5,"PHARMALLIANCE EURL","-",null,{"$f":"SUMIF(Tableau1[Description article],Tableau1[Produits],Tableau1[Emplacement])","v":0},null,{"$f":"Sheet1!$S1356-Sheet1!$R1356","v":0},"-","-","-",{"$f":"IFERROR(Tableau1[[#This Row],[THEO]]-Tableau1[[#This Row],[Qtt 2éme lot]],\"-\")","v":"-"},"-",{"$f":"IF(Tableau1[[#This Row],[2éme lot]]=\"-\",\"-\",IFERROR(IF(Q1356=\"\",\"-\",INDEX(I:I,MATCH(Q1356,C:C,0)+1)),\"-\"))","v":"-"},"-","-"]
[2405,"MD001624","RIPSYZEN 2MG COMP.ENRO.SEC. B/30","RISPERIDONE","003/19","01.08.2022","MG/EXP1",29,"MG/EXP1-BOX6-PSY-012",null,0,null,"CHER",2067.5,"PHARMALLIANCE EURL","-",null,{"$f":"SUMIF(Tableau1[Description article],Tableau1[Produits],Tableau1[Emplacement])","v":0},null,{"$f":"Sheet1!$S1357-Sheet1!$R1357","v":0},"-","-","-",{"$f":"IFERROR(Tableau1[[#This Row],[THEO]]-Tableau1[[#This Row],[Qtt 2éme lot]],\"-\")","v":"-"},"-",{"$f":"IF(Tableau1[[#This Row],[2éme lot]]=\"-\",\"-\",IFERROR(IF(Q1357=\"\",\"-\",INDEX(I:I,MATCH(Q1357,C:C,0)+1)),\"-\"))","v":"-"},"-","-"]
[2406,"MD001626","RISPAL 1MG COMP.PELLI.SEC. B/60","RISPERIDONE","030*","01.11.2020","MG/EXP1",118,"MG/EXP1-BOX6-PSY-011",null,0,null,"CHER",1857.5,"BIOPHARM SPA","-",null,{"$f":"SUMIF(Tableau1[Description article],Tableau1[Produits],Tableau1[Emplacement])","v":0},null,{"$f":"Sheet1!$S1358-Sheet1!$R1358","v":0},"-","-","-",{"$f":"IFERROR(Tableau1[[#This Row],[THEO]]-Tableau1[[#This Row],[Qtt 2éme lot]],\"-\")","v":"-"},"-",{"$f":"IF(Tableau1[[#This Row],[2éme lot]]=\"-\",\"-\",IFERROR(IF(Q1358=\"\",\"-\",INDEX(I:I,MATCH(Q1358,C:C,0)+1)),\"-\"))","v":"-"},"-","-"]
[2407,"MD001627","RISPAL 1MG/ML SOL BUV EN GOUTTES .F/30ML","RISPERIDONE","021","01.11.2021","MG/EXP1",215,"MG/EXP1-BOX6-PSY-020",null,0,null,"PSY",1257.5,"BIOPHARM SPA","-",null,{"$f":"SUMIF(Tableau1[Description article],Tableau1[Produits],Tableau1[Emplacement])","v":0},null,{"$f":"Sheet1!$S1359-Sheet1!$R1359","v":0},"-","-","-",{"$f":"IFERROR(Tableau1[[#This Row],[THEO]]-Tableau1[[#This Row],[Qtt 2éme lot]],\"-\")","v":"-"},"-",{"$f":"IF(Tableau1[[#This Row],[2éme lot]]=\"-\",\"-\",IFERROR(IF(Q1359=\"\",\"-\",INDEX(I:I,MATCH(Q1359,C:C,0)+1)),\"-\"))","v":"-"},"-","-"]
[2408,"MD001628","RISPAL 2MG COMP.PELLI.SEC. B/60","RISPERIDONE","045","01.06.2021","MG/EXP1",42,"MG/EXP1-BOX6-PSY-011",null,0,null,"CHER",4137.5,"BIOPHARM SPA","-",null,{"$f":"SUMIF(Tableau1[Description article],Tableau1[Produits],Tableau1[Emplacement])","v":0},null,{"$f":"Sheet1!$S1360-Sheet1!$R1360","v":0},"-","-","-",{"$f":"IFERROR(Tableau1[[#This Row],[THEO]]-Tableau1[[#This Row],[Qtt 2éme lot]],\"-\")","v":"-"},"-",{"$f":"IF(Tableau1[[#This Row],[2éme lot]]=\"-\",\"-\",IFERROR(IF(Q1360=\"\",\"-\",INDEX(I:I,MATCH(Q1360,C:C,0)+1)),\"-\"))","v":"-"},"-","-"]
[2409,"MD001629","RISPAL 4MG COMP.PELLI.SEC. B/30","RISPERIDONE","052","01.07.2021","MG/EXP1",3,"MG/EXP1-BOX6-PSY-011",null,0,null,"CHER",3147.5,"BIOPHARM SPA","-",null,{"$f":"SUMIF(Tableau1[Description article],Tableau1[Produits],Tableau1[Emplacement])","v":0},null,{"$f":"Sheet1!$S1361-Sheet1!$R1361","v":0},"-","-","-",{"$f":"IFERROR(Tableau1[[#This Row],[THEO]]-Tableau1[[#This Row],[Qtt 2éme lot]],\"-\")","v":"-"},"-",{"$f":"IF(Tableau1[[#This Row],[2éme lot]]=\"-\",\"-\",IFERROR(IF(Q1361=\"\",\"-\",INDEX(I:I,MATCH(Q1361,C:C,0)+1)),\"-\"))","v":"-"},"-","-"]
[2410,"MD001629","RISPAL 4MG COMP.PELLI.SEC. B/30","RISPERIDONE","058","01.12.2021","MG/EXP1",138,"MG/EXP1-BOX6-PSY-011",null,0,null,"CHER",3147.5,"BIOPHARM SPA","-",null,{"$f":"SUMIF(Tableau1[Description article],Tableau1[Produits],Tableau1[Emplacement])","v":0},null,{"$f":"Sheet1!$S1362-Sheet1!$R1362","v":0},"-","-","-",{"$f":"IFERROR(Tableau1[[#This Row],[THEO]]-Tableau1[[#This Row],[Qtt 2éme lot]],\"-\")","v":"-"},"-",{"$f":"IF(Tableau1[[#This Row],[2éme lot]]=\"-\",\"-\",IFERROR(IF(Q1362=\"\",\"-\",INDEX(I:I,MATCH(Q1362,C:C,0)+1)),\"-\"))","v":"-"},"-","-"]
[2411,"MD001634","RISPERIDONE BEKER 1MG COMP.PELLI.SEC. B/30","RISPERIDONE","009019","23.01.2022","MG/EXP1",302,"MG/EXP1-BOX6-PSY-011",null,0,null,"PSY",927.5,"BEKER LABORATOIRES","-",null,{"$f":"SUMIF(Tableau1[Description article],Tableau1[Produits],Tableau1[Emplacement])","v":0},null,{"$f":"Sheet1!$S1363-Sheet1!$R1363","v":0},"-","-","-",{"$f":"IFERROR(Tableau1[[#This Row],[THEO]]-Tableau1[[#This Row],[Qtt 2éme lot]],\"-\")","v":"-"},"-",{"$f":"IF(Tableau1[[#This Row],[2éme lot]]=\"-\",\"-\",IFERROR(IF(Q1363=\"\",\"-\",INDEX(I:I,MATCH(Q1363,C:C,0)+1)),\"-\"))","v":"-"},"-","-"]
[2412,"MD001635","RISPERIDONE BEKER 2MG COMP.PELLI.SEC. B/60","RISPERIDONE","009119","01.01.2022","MG/EXP1",300,"MG/EXP1-BOX6-PSY-011",null,0,null,"CHER",4137.5,"BEKER LABORATOIRES","-",null,{"$f":"SUMIF(Tableau1[Description article],Tableau1[Produits],Tableau1[Emplacement])","v":0},null,{"$f":"Sheet1!$S1364-Sheet1!$R1364","v":0},"-","-","-",{"$f":"IFERROR(Tableau1[[#This Row],[THEO]]-Tableau1[[#This Row],[Qtt 2éme lot]],\"-\")","v":"-"},"-",{"$f":"IF(Tableau1[[#This Row],[2éme lot]]=\"-\",\"-\",IFERROR(IF(Q1364=\"\",\"-\",INDEX(I:I,MATCH(Q1364,C:C,0)+1)),\"-\"))","v":"-"},"-","-"]
[2415,"MD001636","RISPERIDONE BEKER 4MG COMP.PELLI.SEC. B/30","RISPERIDONE","061719","01.05.2022","MG/EXP1",408,"MG/EXP1-BOX6-PSY-011",null,0,null,"CHER",3147.5,"BEKER LABORATOIRES","-",null,{"$f":"SUMIF(Tableau1[Description article],Tableau1[Produits],Tableau1[Emplacement])","v":0},null,{"$f":"Sheet1!$S1365-Sheet1!$R1365","v":0},"-","-","-",{"$f":"IFERROR(Tableau1[[#This Row],[THEO]]-Tableau1[[#This Row],[Qtt 2éme lot]],\"-\")","v":"-"},"-",{"$f":"IF(Tableau1[[#This Row],[2éme lot]]=\"-\",\"-\",IFERROR(IF(Q1365=\"\",\"-\",INDEX(I:I,MATCH(Q1365,C:C,0)+1)),\"-\"))","v":"-"},"-","-"]
[2416,"MD001638","RISPERIDONE BEKER ORO 4MG COMP.ORODIS. B/30","RISPERIDONE","086218","27.09.2020","MG/EXP1",35,"MG/EXP1-BOX6-PSY-012",null,0,null,"CHER",3147.5,"BEKER LABORATOIRES","-",null,{"$f":"SUMIF(Tableau1[Description article],Tableau1[Produits],Tableau1[Emplacement])","v":0},null,{"$f":"Sheet1!$S1366-Sheet1!$R1366","v":0},"-","-","-",{"$f":"IFERROR(Tableau1[[#This Row],[THEO]]-Tableau1[[#This Row],[Qtt 2éme lot]],\"-\")","v":"-"},"-",{"$f":"IF(Tableau1[[#This Row],[2éme lot]]=\"-\",\"-\",IFERROR(IF(Q1366=\"\",\"-\",INDEX(I:I,MATCH(Q1366,C:C,0)+1)),\"-\"))","v":"-"},"-","-"]
[2419,"MD001642","RITADOLE 10MG COMP.SEC. B/20","LORATADINE","078","01.05.2022","MG/EXP1",137,"MG/EXP1-B-070",null,0,null,null,118,"BIO-GALENIC SARL","-",null,{"$f":"SUMIF(Tableau1[Description article],Tableau1[Produits],Tableau1[Emplacement])","v":0},null,{"$f":"Sheet1!$S1367-Sheet1!$R1367","v":0},"-","-","-",{"$f":"IFERROR(Tableau1[[#This Row],[THEO]]-Tableau1[[#This Row],[Qtt 2éme lot]],\"-\")","v":"-"},"-",{"$f":"IF(Tableau1[[#This Row],[2éme lot]]=\"-\",\"-\",IFERROR(IF(Q1367=\"\",\"-\",INDEX(I:I,MATCH(Q1367,C:C,0)+1)),\"-\"))","v":"-"},"-","-"]
[2420,"MD001644","RIVASTI 3MG GLES. B/30","RIVASTIGMINE","010","13.07.2021","MG/EXP1",45,"MG/EXP1-BOX6-PSY-012",null,0,null,null,1835.6,"BIOPHARM SPA","-",null,{"$f":"SUMIF(Tableau1[Description article],Tableau1[Produits],Tableau1[Emplacement])","v":0},null,{"$f":"Sheet1!$S1368-Sheet1!$R1368","v":0},"-","-","-",{"$f":"IFERROR(Tableau1[[#This Row],[THEO]]-Tableau1[[#This Row],[Qtt 2éme lot]],\"-\")","v":"-"},"-",{"$f":"IF(Tableau1[[#This Row],[2éme lot]]=\"-\",\"-\",IFERROR(IF(Q1368=\"\",\"-\",INDEX(I:I,MATCH(Q1368,C:C,0)+1)),\"-\"))","v":"-"},"-","-"]
[2421,"MD001646","RIVASTIG 2MG/ML SOL.BUV. SERING.DOSEUSE/3ML","RIVASTIGMINE","08901","01.02.2022","MG/EXP1",30,"MG/EXP1-BOX6-001",null,0,null,"CHER",4000.7,"PHARMIDAL SARL","-",null,{"$f":"SUMIF(Tableau1[Description article],Tableau1[Produits],Tableau1[Emplacement])","v":0},null,{"$f":"Sheet1!$S1369-Sheet1!$R1369","v":0},"-","-","-",{"$f":"IFERROR(Tableau1[[#This Row],[THEO]]-Tableau1[[#This Row],[Qtt 2éme lot]],\"-\")","v":"-"},"-",{"$f":"IF(Tableau1[[#This Row],[2éme lot]]=\"-\",\"-\",IFERROR(IF(Q1369=\"\",\"-\",INDEX(I:I,MATCH(Q1369,C:C,0)+1)),\"-\"))","v":"-"},"-","-"]
[2422,"MD001647","ROFENAC LP 100MG COMP.PELLI.LP. B/10","DICLOFENAC","1810806*","01.06.2020","MG/EXP1",58,"MG/EXP1-F-043",null,0,null,null,141.73,"SOCIETE SAOUDIENNE SPIMACO-ALGERIE-","-",null,{"$f":"SUMIF(Tableau1[Description article],Tableau1[Produits],Tableau1[Emplacement])","v":0},null,{"$f":"Sheet1!$S1370-Sheet1!$R1370","v":0},"-","-","-",{"$f":"IFERROR(Tableau1[[#This Row],[THEO]]-Tableau1[[#This Row],[Qtt 2éme lot]],\"-\")","v":"-"},"-",{"$f":"IF(Tableau1[[#This Row],[2éme lot]]=\"-\",\"-\",IFERROR(IF(Q1370=\"\",\"-\",INDEX(I:I,MATCH(Q1370,C:C,0)+1)),\"-\"))","v":"-"},"-","-"]
[2423,"MD001649","RONIDAZ 500 500MG COMP. B/20","METRONIDAZOLE","M81003R","31.12.2020","MG/EXP1",422,"MG/EXP1-A-038",null,0,null,null,247.5,"MERINAL LABORATOIRES","-",null,{"$f":"SUMIF(Tableau1[Description article],Tableau1[Produits],Tableau1[Emplacement])","v":0},null,{"$f":"Sheet1!$S1371-Sheet1!$R1371","v":0},"-","-","-",{"$f":"IFERROR(Tableau1[[#This Row],[THEO]]-Tableau1[[#This Row],[Qtt 2éme lot]],\"-\")","v":"-"},"-",{"$f":"IF(Tableau1[[#This Row],[2éme lot]]=\"-\",\"-\",IFERROR(IF(Q1371=\"\",\"-\",INDEX(I:I,MATCH(Q1371,C:C,0)+1)),\"-\"))","v":"-"},"-","-"]
[2425,"MD004138","ROSUVASTOR 10MG COMP B/30","ROSUVASTATINE","004","01.06.2020","MG/EXP1",15,"MG/EXP1-C-060",null,0,null,null,835.1,"PROVIVO SPA","-",null,{"$f":"SUMIF(Tableau1[Description article],Tableau1[Produits],Tableau1[Emplacement])","v":0},null,{"$f":"Sheet1!$S1372-Sheet1!$R1372","v":0},"-","-","-",{"$f":"IFERROR(Tableau1[[#This Row],[THEO]]-Tableau1[[#This Row],[Qtt 2éme lot]],\"-\")","v":"-"},"-",{"$f":"IF(Tableau1[[#This Row],[2éme lot]]=\"-\",\"-\",IFERROR(IF(Q1372=\"\",\"-\",INDEX(I:I,MATCH(Q1372,C:C,0)+1)),\"-\"))","v":"-"},"-","-"]
[2426,"MD004138","ROSUVASTOR 10MG COMP B/30","ROSUVASTATINE","004*","01.06.2020","MG/EXP1",2,"MG/EXP1-G-009",null,0,null,null,835.1,"PROVIVO SPA","-",null,{"$f":"SUMIF(Tableau1[Description article],Tableau1[Produits],Tableau1[Emplacement])","v":0},null,{"$f":"Sheet1!$S1373-Sheet1!$R1373","v":0},"-","-","-",{"$f":"IFERROR(Tableau1[[#This Row],[THEO]]-Tableau1[[#This Row],[Qtt 2éme lot]],\"-\")","v":"-"},"-",{"$f":"IF(Tableau1[[#This Row],[2éme lot]]=\"-\",\"-\",IFERROR(IF(Q1373=\"\",\"-\",INDEX(I:I,MATCH(Q1373,C:C,0)+1)),\"-\"))","v":"-"},"-","-"]
[2427,"MD004139","ROSUVASTOR 20MG COMP B/30","ROSUVASTATINE","005*","01.06.2020","MG/EXP1",21,"MG/EXP1-BOX6-021",null,0,null,null,1247.39,"PROVIVO SPA","-",null,{"$f":"SUMIF(Tableau1[Description article],Tableau1[Produits],Tableau1[Emplacement])","v":0},null,{"$f":"Sheet1!$S1374-Sheet1!$R1374","v":0},"-","-","-",{"$f":"IFERROR(Tableau1[[#This Row],[THEO]]-Tableau1[[#This Row],[Qtt 2éme lot]],\"-\")","v":"-"},"-",{"$f":"IF(Tableau1[[#This Row],[2éme lot]]=\"-\",\"-\",IFERROR(IF(Q1374=\"\",\"-\",INDEX(I:I,MATCH(Q1374,C:C,0)+1)),\"-\"))","v":"-"},"-","-"]
[2428,"MD001651","ROVADAL 0,375MUI/5ML SRP. FL/150ML","SPIRAMYCINE","0148","01.05.2021","MG/EXP1",89,"MG/EXP1-F-036",null,0,null,null,247.5,"SAIDAL UNITE CENTRE","-",null,{"$f":"SUMIF(Tableau1[Description article],Tableau1[Produits],Tableau1[Emplacement])","v":0},null,{"$f":"Sheet1!$S1375-Sheet1!$R1375","v":0},"-","-","-",{"$f":"IFERROR(Tableau1[[#This Row],[THEO]]-Tableau1[[#This Row],[Qtt 2éme lot]],\"-\")","v":"-"},"-",{"$f":"IF(Tableau1[[#This Row],[2éme lot]]=\"-\",\"-\",IFERROR(IF(Q1375=\"\",\"-\",INDEX(I:I,MATCH(Q1375,C:C,0)+1)),\"-\"))","v":"-"},"-","-"]
[2429,"MD001652","ROVADAL 1 500 000 UI COMP. B/16","SPIRAMYCINE","0039","01.12.2020","MG/EXP1",154,"MG/EXP1-A-046",null,0,null,null,297.5,"SAIDAL UNITE CENTRE","-",null,{"$f":"SUMIF(Tableau1[Description article],Tableau1[Produits],Tableau1[Emplacement])","v":0},null,{"$f":"Sheet1!$S1376-Sheet1!$R1376","v":0},"-","-","-",{"$f":"IFERROR(Tableau1[[#This Row],[THEO]]-Tableau1[[#This Row],[Qtt 2éme lot]],\"-\")","v":"-"},"-",{"$f":"IF(Tableau1[[#This Row],[2éme lot]]=\"-\",\"-\",IFERROR(IF(Q1376=\"\",\"-\",INDEX(I:I,MATCH(Q1376,C:C,0)+1)),\"-\"))","v":"-"},"-","-"]
[2431,"MD001653","ROVADAL 3 000 000 UI COMP. B/15","SPIRAMYCINE","0109","01.01.2021","MG/EXP1",66,"MG/EXP1-E-066",null,0,null,null,547.5,"SAIDAL UNITE CENTRE","-",null,{"$f":"SUMIF(Tableau1[Description article],Tableau1[Produits],Tableau1[Emplacement])","v":0},null,{"$f":"Sheet1!$S1377-Sheet1!$R1377","v":0},"-","-","-",{"$f":"IFERROR(Tableau1[[#This Row],[THEO]]-Tableau1[[#This Row],[Qtt 2éme lot]],\"-\")","v":"-"},"-",{"$f":"IF(Tableau1[[#This Row],[2éme lot]]=\"-\",\"-\",IFERROR(IF(Q1377=\"\",\"-\",INDEX(I:I,MATCH(Q1377,C:C,0)+1)),\"-\"))","v":"-"},"-","-"]
[2432,"MD001654","ROVAMYCINE 1 500 000 UI COMP.PELLI. B/16","SPIRAMYCINE","RM005A","01.02.2022","MG/EXP1",223,"MG/EXP1-C-011",null,0,null,null,324.39,"WINTHROP PHARMA  SAIDAL SPA","-",null,{"$f":"SUMIF(Tableau1[Description article],Tableau1[Produits],Tableau1[Emplacement])","v":0},null,{"$f":"Sheet1!$S1378-Sheet1!$R1378","v":0},"-","-","-",{"$f":"IFERROR(Tableau1[[#This Row],[THEO]]-Tableau1[[#This Row],[Qtt 2éme lot]],\"-\")","v":"-"},"-",{"$f":"IF(Tableau1[[#This Row],[2éme lot]]=\"-\",\"-\",IFERROR(IF(Q1378=\"\",\"-\",INDEX(I:I,MATCH(Q1378,C:C,0)+1)),\"-\"))","v":"-"},"-","-"]
[2433,"MD001655","ROVAMYCINE 3 000 000 UI COMP.PELLI. B/16","SPIRAMYCINE","RVS039A","01.02.2022","MG/EXP1",265,"MG/EXP1-E-010",null,0,null,null,646.8,"WINTHROP PHARMA  SAIDAL SPA","-",null,{"$f":"SUMIF(Tableau1[Description article],Tableau1[Produits],Tableau1[Emplacement])","v":0},null,{"$f":"Sheet1!$S1379-Sheet1!$R1379","v":0},"-","-","-",{"$f":"IFERROR(Tableau1[[#This Row],[THEO]]-Tableau1[[#This Row],[Qtt 2éme lot]],\"-\")","v":"-"},"-",{"$f":"IF(Tableau1[[#This Row],[2éme lot]]=\"-\",\"-\",IFERROR(IF(Q1379=\"\",\"-\",INDEX(I:I,MATCH(Q1379,C:C,0)+1)),\"-\"))","v":"-"},"-","-"]
[2435,"MD001656","ROVAZINE 500MG SUPP. B/30","MESALAZINE","19262","01.06.2022","MG/EXP1",82,"MG/EXP1-BOX6-008",null,0,null,null,1849.98,"AFRO PHARM SPA","-",null,{"$f":"SUMIF(Tableau1[Description article],Tableau1[Produits],Tableau1[Emplacement])","v":0},null,{"$f":"Sheet1!$S1380-Sheet1!$R1380","v":0},"-","-","-",{"$f":"IFERROR(Tableau1[[#This Row],[THEO]]-Tableau1[[#This Row],[Qtt 2éme lot]],\"-\")","v":"-"},"-",{"$f":"IF(Tableau1[[#This Row],[2éme lot]]=\"-\",\"-\",IFERROR(IF(Q1380=\"\",\"-\",INDEX(I:I,MATCH(Q1380,C:C,0)+1)),\"-\"))","v":"-"},"-","-"]
[2438,"MD001658","ROXAMED 150MG COMP.ENRO. B/10","ROXITHROMYCINE","AA82","01.07.2022","MG/EXP1",38,"MG/EXP1-C-022",null,0,null,null,312.3,"DAR AL DAWA SARL","-",null,{"$f":"SUMIF(Tableau1[Description article],Tableau1[Produits],Tableau1[Emplacement])","v":0},null,{"$f":"Sheet1!$S1381-Sheet1!$R1381","v":0},"-","-","-",{"$f":"IFERROR(Tableau1[[#This Row],[THEO]]-Tableau1[[#This Row],[Qtt 2éme lot]],\"-\")","v":"-"},"-",{"$f":"IF(Tableau1[[#This Row],[2éme lot]]=\"-\",\"-\",IFERROR(IF(Q1381=\"\",\"-\",INDEX(I:I,MATCH(Q1381,C:C,0)+1)),\"-\"))","v":"-"},"-","-"]
[2440,"MD001660","ROXID 150MG COMP. B/10","ROXITHROMYCINE","013/19","01.09.2022","MG/EXP1",310,"MG/EXP1-A-066",null,0,null,null,312.17,"PHARMALLIANCE EURL","-",null,{"$f":"SUMIF(Tableau1[Description article],Tableau1[Produits],Tableau1[Emplacement])","v":0},null,{"$f":"Sheet1!$S1382-Sheet1!$R1382","v":0},"-","-","-",{"$f":"IFERROR(Tableau1[[#This Row],[THEO]]-Tableau1[[#This Row],[Qtt 2éme lot]],\"-\")","v":"-"},"-",{"$f":"IF(Tableau1[[#This Row],[2éme lot]]=\"-\",\"-\",IFERROR(IF(Q1382=\"\",\"-\",INDEX(I:I,MATCH(Q1382,C:C,0)+1)),\"-\"))","v":"-"},"-","-"]
[2443,"MD001661","ROXITHROMYCINE HUP 150MG COMP.PELLI. B/10","ROXITHROMYCINE","056","01.02.2022","MG/EXP1",300,"MG/EXP1-D-045",null,0,null,null,312.3,"HUP.P PHARMA SARL","-",null,{"$f":"SUMIF(Tableau1[Description article],Tableau1[Produits],Tableau1[Emplacement])","v":0},null,{"$f":"Sheet1!$S1383-Sheet1!$R1383","v":0},"-","-","-",{"$f":"IFERROR(Tableau1[[#This Row],[THEO]]-Tableau1[[#This Row],[Qtt 2éme lot]],\"-\")","v":"-"},"-",{"$f":"IF(Tableau1[[#This Row],[2éme lot]]=\"-\",\"-\",IFERROR(IF(Q1383=\"\",\"-\",INDEX(I:I,MATCH(Q1383,C:C,0)+1)),\"-\"))","v":"-"},"-","-"]
[2445,"MD001662","ROZEMIDE 2MG COMP.SEC. B/30","GLIMEPIRIDE","001/18","31.10.2021","MG/EXP1",140,"MG/EXP1-F-011",null,0,null,null,477.5,"PHARMALLIANCE EURL","-",null,{"$f":"SUMIF(Tableau1[Description article],Tableau1[Produits],Tableau1[Emplacement])","v":0},null,{"$f":"Sheet1!$S1384-Sheet1!$R1384","v":0},"-","-","-",{"$f":"IFERROR(Tableau1[[#This Row],[THEO]]-Tableau1[[#This Row],[Qtt 2éme lot]],\"-\")","v":"-"},"-",{"$f":"IF(Tableau1[[#This Row],[2éme lot]]=\"-\",\"-\",IFERROR(IF(Q1384=\"\",\"-\",INDEX(I:I,MATCH(Q1384,C:C,0)+1)),\"-\"))","v":"-"},"-","-"]
[2446,"MD001663","ROZEMIDE 3MG COMP.SEC. B/30","GLIMEPIRIDE","001/17","21.09.2020","MG/EXP1",50,"MG/EXP1-C-024",null,0,null,null,700.92,"PHARMALLIANCE EURL","-",null,{"$f":"SUMIF(Tableau1[Description article],Tableau1[Produits],Tableau1[Emplacement])","v":0},null,{"$f":"Sheet1!$S1385-Sheet1!$R1385","v":0},"-","-","-",{"$f":"IFERROR(Tableau1[[#This Row],[THEO]]-Tableau1[[#This Row],[Qtt 2éme lot]],\"-\")","v":"-"},"-",{"$f":"IF(Tableau1[[#This Row],[2éme lot]]=\"-\",\"-\",IFERROR(IF(Q1385=\"\",\"-\",INDEX(I:I,MATCH(Q1385,C:C,0)+1)),\"-\"))","v":"-"},"-","-"]
[2447,"MD001667","RUMAVA 10MG COMP.PELLI. B/30","LEFLUNOMIDE","191565","01.07.2021","MG/EXP1",63,"MG/EXP1-BOX6-008",null,0,null,null,2107.1,"EL KENDI INDUSTRIE DE MEDICAMENTS SPA","-",null,{"$f":"SUMIF(Tableau1[Description article],Tableau1[Produits],Tableau1[Emplacement])","v":0},null,{"$f":"Sheet1!$S1386-Sheet1!$R1386","v":0},"-","-","-",{"$f":"IFERROR(Tableau1[[#This Row],[THEO]]-Tableau1[[#This Row],[Qtt 2éme lot]],\"-\")","v":"-"},"-",{"$f":"IF(Tableau1[[#This Row],[2éme lot]]=\"-\",\"-\",IFERROR(IF(Q1386=\"\",\"-\",INDEX(I:I,MATCH(Q1386,C:C,0)+1)),\"-\"))","v":"-"},"-","-"]
[2449,"MD001668","RUMAVA 20MG COMP.PELLI. B/30","LEFLUNOMIDE","192764","01.12.2022","MG/EXP1",25,"MG/EXP1-BOX6-008",null,0,null,null,2195.01,"EL KENDI INDUSTRIE DE MEDICAMENTS SPA","-",null,{"$f":"SUMIF(Tableau1[Description article],Tableau1[Produits],Tableau1[Emplacement])","v":0},null,{"$f":"Sheet1!$S1387-Sheet1!$R1387","v":0},"-","-","-",{"$f":"IFERROR(Tableau1[[#This Row],[THEO]]-Tableau1[[#This Row],[Qtt 2éme lot]],\"-\")","v":"-"},"-",{"$f":"IF(Tableau1[[#This Row],[2éme lot]]=\"-\",\"-\",IFERROR(IF(Q1387=\"\",\"-\",INDEX(I:I,MATCH(Q1387,C:C,0)+1)),\"-\"))","v":"-"},"-","-"]
[2450,"MD001670","RUPAFIN 10MG COMP. B/20","RUPATADINE","P001","01.04.2022","MG/EXP1",34,"MG/EXP1-C-028",null,0,null,null,809.24,"EL KENDI INDUSTRIE DE MEDICAMENTS SPA","-",null,{"$f":"SUMIF(Tableau1[Description article],Tableau1[Produits],Tableau1[Emplacement])","v":0},null,{"$f":"Sheet1!$S1388-Sheet1!$R1388","v":0},"-","-","-",{"$f":"IFERROR(Tableau1[[#This Row],[THEO]]-Tableau1[[#This Row],[Qtt 2éme lot]],\"-\")","v":"-"},"-",{"$f":"IF(Tableau1[[#This Row],[2éme lot]]=\"-\",\"-\",IFERROR(IF(Q1388=\"\",\"-\",INDEX(I:I,MATCH(Q1388,C:C,0)+1)),\"-\"))","v":"-"},"-","-"]
[2451,"MD001670","RUPAFIN 10MG COMP. B/20","RUPATADINE","P002","01.04.2022","MG/EXP1",100,"MG/EXP1-C-027",null,0,null,null,809.24,"EL KENDI INDUSTRIE DE MEDICAMENTS SPA","-",null,{"$f":"SUMIF(Tableau1[Description article],Tableau1[Produits],Tableau1[Emplacement])","v":0},null,{"$f":"Sheet1!$S1389-Sheet1!$R1389","v":0},"-","-","-",{"$f":"IFERROR(Tableau1[[#This Row],[THEO]]-Tableau1[[#This Row],[Qtt 2éme lot]],\"-\")","v":"-"},"-",{"$f":"IF(Tableau1[[#This Row],[2éme lot]]=\"-\",\"-\",IFERROR(IF(Q1389=\"\",\"-\",INDEX(I:I,MATCH(Q1389,C:C,0)+1)),\"-\"))","v":"-"},"-","-"]
[2453,"PP00440","RYNZA NASALE SPRAY FLC.20 ML","SOLUTION SALINE HYPERTONIQUE","034","01.03.2021","MG/EXP1",139,"MG/EXP1-A-056",null,0,null,null,500,"BIOPHARM SPA","-",null,{"$f":"SUMIF(Tableau1[Description article],Tableau1[Produits],Tableau1[Emplacement])","v":0},null,{"$f":"Sheet1!$S1390-Sheet1!$R1390","v":0},"-","-","-",{"$f":"IFERROR(Tableau1[[#This Row],[THEO]]-Tableau1[[#This Row],[Qtt 2éme lot]],\"-\")","v":"-"},"-",{"$f":"IF(Tableau1[[#This Row],[2éme lot]]=\"-\",\"-\",IFERROR(IF(Q1390=\"\",\"-\",INDEX(I:I,MATCH(Q1390,C:C,0)+1)),\"-\"))","v":"-"},"-","-"]
[2455,"MD001672","RYNZA SACH.5G PDRE.P.SOL.BUV. B/05 SACH/5G","PARACETAMOL/PHENIRAMINE/CAFEINE","295","01.10.2022","MG/EXP1",460,"MG/EXP1-B-041",null,0,null,null,168.23,"BIOPHARM SPA","-",null,{"$f":"SUMIF(Tableau1[Description article],Tableau1[Produits],Tableau1[Emplacement])","v":0},null,{"$f":"Sheet1!$S1391-Sheet1!$R1391","v":0},"-","-","-",{"$f":"IFERROR(Tableau1[[#This Row],[THEO]]-Tableau1[[#This Row],[Qtt 2éme lot]],\"-\")","v":"-"},"-",{"$f":"IF(Tableau1[[#This Row],[2éme lot]]=\"-\",\"-\",IFERROR(IF(Q1391=\"\",\"-\",INDEX(I:I,MATCH(Q1391,C:C,0)+1)),\"-\"))","v":"-"},"-","-"]
[2457,"MD001675","SAIPRIL 25MG COMP. B/30","CAPTOPRIL 25 MG CP","0034","01.08.2020","MG/EXP1",4,"MG/EXP1-G-016",null,0,null,null,104.5,"SAIDAL UNITE CENTRE","-",null,{"$f":"SUMIF(Tableau1[Description article],Tableau1[Produits],Tableau1[Emplacement])","v":0},null,{"$f":"Sheet1!$S1392-Sheet1!$R1392","v":0},"-","-","-",{"$f":"IFERROR(Tableau1[[#This Row],[THEO]]-Tableau1[[#This Row],[Qtt 2éme lot]],\"-\")","v":"-"},"-",{"$f":"IF(Tableau1[[#This Row],[2éme lot]]=\"-\",\"-\",IFERROR(IF(Q1392=\"\",\"-\",INDEX(I:I,MATCH(Q1392,C:C,0)+1)),\"-\"))","v":"-"},"-","-"]
[2459,"MD001675","SAIPRIL 25MG COMP. B/30","CAPTOPRIL 25 MG CP","0036*","01.10.2021","MG/EXP1",138,"MG/EXP1-E-015",null,0,null,null,104.5,"SAIDAL UNITE CENTRE","-",null,{"$f":"SUMIF(Tableau1[Description article],Tableau1[Produits],Tableau1[Emplacement])","v":0},null,{"$f":"Sheet1!$S1393-Sheet1!$R1393","v":0},"-","-","-",{"$f":"IFERROR(Tableau1[[#This Row],[THEO]]-Tableau1[[#This Row],[Qtt 2éme lot]],\"-\")","v":"-"},"-",{"$f":"IF(Tableau1[[#This Row],[2éme lot]]=\"-\",\"-\",IFERROR(IF(Q1393=\"\",\"-\",INDEX(I:I,MATCH(Q1393,C:C,0)+1)),\"-\"))","v":"-"},"-","-"]
[2460,"MD001677","SALAZOPYRIN EN 500MG COMP. B/100","SALAZOSULFAPYRIDINE","5089565B","31.03.2024","MG/EXP1",39,"MG/EXP1-BOX6-008",null,0,null,null,1341.36,"PFIZER PHARM ALGERIE SPA","-",null,{"$f":"SUMIF(Tableau1[Description article],Tableau1[Produits],Tableau1[Emplacement])","v":0},null,{"$f":"Sheet1!$S1394-Sheet1!$R1394","v":0},"-","-","-",{"$f":"IFERROR(Tableau1[[#This Row],[THEO]]-Tableau1[[#This Row],[Qtt 2éme lot]],\"-\")","v":"-"},"-",{"$f":"IF(Tableau1[[#This Row],[2éme lot]]=\"-\",\"-\",IFERROR(IF(Q1394=\"\",\"-\",INDEX(I:I,MATCH(Q1394,C:C,0)+1)),\"-\"))","v":"-"},"-","-"]
[2462,"MD001677","SALAZOPYRIN EN 500MG COMP. B/100","SALAZOSULFAPYRIDINE","5089565B","31.03.2024","MG/EXP1",50,"MG/EXP1-BOX6-024",null,0,null,null,1341.36,"PFIZER PHARM ALGERIE SPA","-",null,{"$f":"SUMIF(Tableau1[Description article],Tableau1[Produits],Tableau1[Emplacement])","v":0},null,{"$f":"Sheet1!$S1395-Sheet1!$R1395","v":0},"-","-","-",{"$f":"IFERROR(Tableau1[[#This Row],[THEO]]-Tableau1[[#This Row],[Qtt 2éme lot]],\"-\")","v":"-"},"-",{"$f":"IF(Tableau1[[#This Row],[2éme lot]]=\"-\",\"-\",IFERROR(IF(Q1395=\"\",\"-\",INDEX(I:I,MATCH(Q1395,C:C,0)+1)),\"-\"))","v":"-"},"-","-"]
[2464,"MD001678","SALBULAM 2MG/5ML SOL.BUV.SS.SUC. FL/125ML","SALBUTAMOL","11119","01.10.2022","MG/EXP1",3,"MG/EXP1-C-059",null,0,null,null,177.41,"LAM SARL","-",null,{"$f":"SUMIF(Tableau1[Description article],Tableau1[Produits],Tableau1[Emplacement])","v":0},null,{"$f":"Sheet1!$S1396-Sheet1!$R1396","v":0},"-","-","-",{"$f":"IFERROR(Tableau1[[#This Row],[THEO]]-Tableau1[[#This Row],[Qtt 2éme lot]],\"-\")","v":"-"},"-",{"$f":"IF(Tableau1[[#This Row],[2éme lot]]=\"-\",\"-\",IFERROR(IF(Q1396=\"\",\"-\",INDEX(I:I,MATCH(Q1396,C:C,0)+1)),\"-\"))","v":"-"},"-","-"]
[2468,"MD001680","SALBUTAMOL SAIDAL 2MG/5ML SRP. FL/150ML","SALBUTAMOL","S060219","01.02.2021","MG/EXP1",154,"MG/EXP1-B-031",null,0,null,null,148.91,"SAIDAL UNITE CENTRE","-",null,{"$f":"SUMIF(Tableau1[Description article],Tableau1[Produits],Tableau1[Emplacement])","v":0},null,{"$f":"Sheet1!$S1397-Sheet1!$R1397","v":0},"-","-","-",{"$f":"IFERROR(Tableau1[[#This Row],[THEO]]-Tableau1[[#This Row],[Qtt 2éme lot]],\"-\")","v":"-"},"-",{"$f":"IF(Tableau1[[#This Row],[2éme lot]]=\"-\",\"-\",IFERROR(IF(Q1397=\"\",\"-\",INDEX(I:I,MATCH(Q1397,C:C,0)+1)),\"-\"))","v":"-"},"-","-"]
[2471,"MD001683","SAPOFEN 600 MG CP.B/30","IBUPROFENE","1910358","29.10.2020","MG/EXP1",86,"MG/EXP1-A-049",null,0,null,null,235.49,"SOCIETE SAOUDIENNE SPIMACO-ALGERIE-","-",null,{"$f":"SUMIF(Tableau1[Description article],Tableau1[Produits],Tableau1[Emplacement])","v":0},null,{"$f":"Sheet1!$S1398-Sheet1!$R1398","v":0},"-","-","-",{"$f":"IFERROR(Tableau1[[#This Row],[THEO]]-Tableau1[[#This Row],[Qtt 2éme lot]],\"-\")","v":"-"},"-",{"$f":"IF(Tableau1[[#This Row],[2éme lot]]=\"-\",\"-\",IFERROR(IF(Q1398=\"\",\"-\",INDEX(I:I,MATCH(Q1398,C:C,0)+1)),\"-\"))","v":"-"},"-","-"]
[2474,"MD001684","SAPRAMOL 100MG PDRE.P.SOL.BUV. B/12 SACH.","PARACETAMOL","1069","01.10.2021","MG/EXP1",193,"MG/EXP1-E-007",null,0,null,null,102.24,"PROVIVO SPA","-",null,{"$f":"SUMIF(Tableau1[Description article],Tableau1[Produits],Tableau1[Emplacement])","v":0},null,{"$f":"Sheet1!$S1399-Sheet1!$R1399","v":0},"-","-","-",{"$f":"IFERROR(Tableau1[[#This Row],[THEO]]-Tableau1[[#This Row],[Qtt 2éme lot]],\"-\")","v":"-"},"-",{"$f":"IF(Tableau1[[#This Row],[2éme lot]]=\"-\",\"-\",IFERROR(IF(Q1399=\"\",\"-\",INDEX(I:I,MATCH(Q1399,C:C,0)+1)),\"-\"))","v":"-"},"-","-"]
[2476,"MD001685","SAPRAMOL 150MG PDRE.P.SOL.BUV. B/12 SACH.","PARACETAMOL","1572","01.02.2021","MG/EXP1",62,"MG/EXP1-E-034",null,0,null,null,102.24,"PROVIVO SPA","-",null,{"$f":"SUMIF(Tableau1[Description article],Tableau1[Produits],Tableau1[Emplacement])","v":0},null,{"$f":"Sheet1!$S1400-Sheet1!$R1400","v":0},"-","-","-",{"$f":"IFERROR(Tableau1[[#This Row],[THEO]]-Tableau1[[#This Row],[Qtt 2éme lot]],\"-\")","v":"-"},"-",{"$f":"IF(Tableau1[[#This Row],[2éme lot]]=\"-\",\"-\",IFERROR(IF(Q1400=\"\",\"-\",INDEX(I:I,MATCH(Q1400,C:C,0)+1)),\"-\"))","v":"-"},"-","-"]
[2477,"MD001686","SAPRAMOL 200MG PDRE.P.SOL.BUV. B/12 SACH.","PARACETAMOL","2097","01.02.2021","MG/EXP1",210,"MG/EXP1-G-041",null,0,null,null,110.28,"PROVIVO SPA","-",null,{"$f":"SUMIF(Tableau1[Description article],Tableau1[Produits],Tableau1[Emplacement])","v":0},null,{"$f":"Sheet1!$S1401-Sheet1!$R1401","v":0},"-","-","-",{"$f":"IFERROR(Tableau1[[#This Row],[THEO]]-Tableau1[[#This Row],[Qtt 2éme lot]],\"-\")","v":"-"},"-",{"$f":"IF(Tableau1[[#This Row],[2éme lot]]=\"-\",\"-\",IFERROR(IF(Q1401=\"\",\"-\",INDEX(I:I,MATCH(Q1401,C:C,0)+1)),\"-\"))","v":"-"},"-","-"]
[2479,"MD001687","SAPRAMOL 300MG PDRE.P.SOL.BUV. B/12 SACH.","PARACETAMOL","3324","01.10.2021","MG/EXP1",437,"MG/EXP1-D-018",null,0,null,null,120,"PROVIVO SPA","-",null,{"$f":"SUMIF(Tableau1[Description article],Tableau1[Produits],Tableau1[Emplacement])","v":0},null,{"$f":"Sheet1!$S1402-Sheet1!$R1402","v":0},"-","-","-",{"$f":"IFERROR(Tableau1[[#This Row],[THEO]]-Tableau1[[#This Row],[Qtt 2éme lot]],\"-\")","v":"-"},"-",{"$f":"IF(Tableau1[[#This Row],[2éme lot]]=\"-\",\"-\",IFERROR(IF(Q1402=\"\",\"-\",INDEX(I:I,MATCH(Q1402,C:C,0)+1)),\"-\"))","v":"-"},"-","-"]
[2480,"MD001688","SAPRAMOL 500MG PDRE.P.SOL.BUV. B/12 SACH.","PARACETAMOL","822","01.09.2021","MG/EXP1",500,"MG/EXP1-D-051",null,0,null,null,168.25,"PROVIVO SPA","-",null,{"$f":"SUMIF(Tableau1[Description article],Tableau1[Produits],Tableau1[Emplacement])","v":0},null,{"$f":"Sheet1!$S1403-Sheet1!$R1403","v":0},"-","-","-",{"$f":"IFERROR(Tableau1[[#This Row],[THEO]]-Tableau1[[#This Row],[Qtt 2éme lot]],\"-\")","v":"-"},"-",{"$f":"IF(Tableau1[[#This Row],[2éme lot]]=\"-\",\"-\",IFERROR(IF(Q1403=\"\",\"-\",INDEX(I:I,MATCH(Q1403,C:C,0)+1)),\"-\"))","v":"-"},"-","-"]
[2482,"MD001689","SARCAND 16MG COMP. B/30","CANDESARTAN CILEXETIL","191810","01.08.2021","MG/EXP1",203,"MG/EXP1-D-005",null,0,null,null,1287.5,"EL KENDI INDUSTRIE DE MEDICAMENTS SPA","-",null,{"$f":"SUMIF(Tableau1[Description article],Tableau1[Produits],Tableau1[Emplacement])","v":0},null,{"$f":"Sheet1!$S1404-Sheet1!$R1404","v":0},"-","-","-",{"$f":"IFERROR(Tableau1[[#This Row],[THEO]]-Tableau1[[#This Row],[Qtt 2éme lot]],\"-\")","v":"-"},"-",{"$f":"IF(Tableau1[[#This Row],[2éme lot]]=\"-\",\"-\",IFERROR(IF(Q1404=\"\",\"-\",INDEX(I:I,MATCH(Q1404,C:C,0)+1)),\"-\"))","v":"-"},"-","-"]
[2484,"MD001690","SARCAND 4MG COMP. B/30","CANDESARTAN CILEXETIL","191806","01.08.2021","MG/EXP1",173,"MG/EXP1-B-015",null,0,null,null,697.1,"EL KENDI INDUSTRIE DE MEDICAMENTS SPA","-",null,{"$f":"SUMIF(Tableau1[Description article],Tableau1[Produits],Tableau1[Emplacement])","v":0},null,{"$f":"Sheet1!$S1405-Sheet1!$R1405","v":0},"-","-","-",{"$f":"IFERROR(Tableau1[[#This Row],[THEO]]-Tableau1[[#This Row],[Qtt 2éme lot]],\"-\")","v":"-"},"-",{"$f":"IF(Tableau1[[#This Row],[2éme lot]]=\"-\",\"-\",IFERROR(IF(Q1405=\"\",\"-\",INDEX(I:I,MATCH(Q1405,C:C,0)+1)),\"-\"))","v":"-"},"-","-"]
[2487,"MD001691","SARCAND 8MG COMP. B/30","CANDESARTAN CILEXETIL","191067","01.05.2021","MG/EXP1",22,"MG/EXP1-A-071",null,0,null,null,1287.5,"EL KENDI INDUSTRIE DE MEDICAMENTS SPA","-",null,{"$f":"SUMIF(Tableau1[Description article],Tableau1[Produits],Tableau1[Emplacement])","v":0},null,{"$f":"Sheet1!$S1406-Sheet1!$R1406","v":0},"-","-","-",{"$f":"IFERROR(Tableau1[[#This Row],[THEO]]-Tableau1[[#This Row],[Qtt 2éme lot]],\"-\")","v":"-"},"-",{"$f":"IF(Tableau1[[#This Row],[2éme lot]]=\"-\",\"-\",IFERROR(IF(Q1406=\"\",\"-\",INDEX(I:I,MATCH(Q1406,C:C,0)+1)),\"-\"))","v":"-"},"-","-"]
[2488,"MD001695","SARTEG 160MG COMP.PELLI. B/30","VALSARTAN","190568","01.03.2022","MG/EXP1",1,"MG/EXP1-B-058",null,0,null,null,1377.5,"EL KENDI INDUSTRIE DE MEDICAMENTS SPA","-",null,{"$f":"SUMIF(Tableau1[Description article],Tableau1[Produits],Tableau1[Emplacement])","v":0},null,{"$f":"Sheet1!$S1407-Sheet1!$R1407","v":0},"-","-","-",{"$f":"IFERROR(Tableau1[[#This Row],[THEO]]-Tableau1[[#This Row],[Qtt 2éme lot]],\"-\")","v":"-"},"-",{"$f":"IF(Tableau1[[#This Row],[2éme lot]]=\"-\",\"-\",IFERROR(IF(Q1407=\"\",\"-\",INDEX(I:I,MATCH(Q1407,C:C,0)+1)),\"-\"))","v":"-"},"-","-"]
[2490,"MD001695","SARTEG 160MG COMP.PELLI. B/30","VALSARTAN","171300","01.07.2020","MG/EXP1",207,"MG/EXP1-D-034",null,0,null,null,1377.5,"EL KENDI INDUSTRIE DE MEDICAMENTS SPA","-",null,{"$f":"SUMIF(Tableau1[Description article],Tableau1[Produits],Tableau1[Emplacement])","v":0},null,{"$f":"Sheet1!$S1408-Sheet1!$R1408","v":0},"-","-","-",{"$f":"IFERROR(Tableau1[[#This Row],[THEO]]-Tableau1[[#This Row],[Qtt 2éme lot]],\"-\")","v":"-"},"-",{"$f":"IF(Tableau1[[#This Row],[2éme lot]]=\"-\",\"-\",IFERROR(IF(Q1408=\"\",\"-\",INDEX(I:I,MATCH(Q1408,C:C,0)+1)),\"-\"))","v":"-"},"-","-"]
[2491,"MD001696","SARTEG 320MG COMP.PELLI. B/30","VALSARTAN","191204","01.05.2022","MG/EXP1",68,"MG/EXP1-D-033",null,0,null,null,1594.99,"EL KENDI INDUSTRIE DE MEDICAMENTS SPA","-",null,{"$f":"SUMIF(Tableau1[Description article],Tableau1[Produits],Tableau1[Emplacement])","v":0},null,{"$f":"Sheet1!$S1409-Sheet1!$R1409","v":0},"-","-","-",{"$f":"IFERROR(Tableau1[[#This Row],[THEO]]-Tableau1[[#This Row],[Qtt 2éme lot]],\"-\")","v":"-"},"-",{"$f":"IF(Tableau1[[#This Row],[2éme lot]]=\"-\",\"-\",IFERROR(IF(Q1409=\"\",\"-\",INDEX(I:I,MATCH(Q1409,C:C,0)+1)),\"-\"))","v":"-"},"-","-"]
[2493,"MD001697","SARTEG 80MG COMP.PELLI. B/30","VALSARTAN","190563*","01.03.2022","MG/EXP1",168,"MG/EXP1-BOX6-008",null,0,null,null,1377.5,"EL KENDI INDUSTRIE DE MEDICAMENTS SPA",{"$f":"IFERROR(IF(Q1410=\"\",\"-\",INDEX(I:I,MATCH(Q1410,C:C,0))),\"-\")","v":"-"},null,{"$f":"SUMIF(Tableau1[Description article],Tableau1[Produits],Tableau1[Emplacement])","v":0},null,{"$f":"Sheet1!$S1410-Sheet1!$R1410","v":0},{"$f":"IFERROR(IF(Q1410=\"\",\"-\",INDEX(F:F,MATCH(Q1410,C:C,0))),\"-\")","v":"-"},{"$f":"IFERROR(IF(Q1410=\"\",\"-\",INDEX(E:E,MATCH(Q1410,C:C,0))),\"-\")","v":"-"},{"$f":"IFERROR(IF(Q1410=\"\",\"-\",INDEX(N:N,MATCH(Q1410,C:C,0))),\"-\")","v":"-"},{"$f":"IFERROR(Tableau1[[#This Row],[THEO]]-Tableau1[[#This Row],[Qtt 2éme lot]],\"-\")","v":"-"},{"$f":"IF(IF(Q1410=\"\",\"-\",INDEX(E:E,MATCH(Q1410,C:C,0)))=IF(Q1410=\"\",\"-\",INDEX(E:E,MATCH(Q1410,C:C,1))),\"-\",IF(Q1410=\"\",\"-\",INDEX(E:E,MATCH(Q1410,C:C,1))))","v":"-"},{"$f":"IF(Tableau1[[#This Row],[2éme lot]]=\"-\",\"-\",IFERROR(IF(Q1410=\"\",\"-\",INDEX(I:I,MATCH(Q1410,C:C,0)+1)),\"-\"))","v":"-"},{"$f":"IFERROR(IF(Y1410=\"\",\"-\",INDEX(N:N,MATCH(Y1410,E:E,0))),\"-\")","v":"-"},{"$f":"IFERROR(IF(AA1410=\"\",\"-\",INDEX(H:H,MATCH(Y1410,E:E,0))),\"-\")","v":"-"}]
[2494,"MD001701","SCHIZOPIN 10MG COMP.ORODIS. B/30","OLANZAPINE","05385","01.09.2022","MG/EXP1",276,"MG/EXP1-BOX6-PSY-012",null,0,null,"CHER",5997.5,"HIKMA PHARMA ALGERIA SARL","-",null,{"$f":"SUMIF(Tableau1[Description article],Tableau1[Produits],Tableau1[Emplacement])","v":0},null,{"$f":"Sheet1!$S1411-Sheet1!$R1411","v":0},"-","-","-",{"$f":"IFERROR(Tableau1[[#This Row],[THEO]]-Tableau1[[#This Row],[Qtt 2éme lot]],\"-\")","v":"-"},"-",{"$f":"IF(Tableau1[[#This Row],[2éme lot]]=\"-\",\"-\",IFERROR(IF(Q1411=\"\",\"-\",INDEX(I:I,MATCH(Q1411,C:C,0)+1)),\"-\"))","v":"-"},"-","-"]
[2496,"MD001702","SEBUTOL 200MG COMP.PELLI. B/30","ACEBUTOLOL","M13006R","01.04.2022","MG/EXP1",318,"MG/EXP1-A-060",null,0,null,null,312.2,"MERINAL LABORATOIRES","-",null,{"$f":"SUMIF(Tableau1[Description article],Tableau1[Produits],Tableau1[Emplacement])","v":0},null,{"$f":"Sheet1!$S1412-Sheet1!$R1412","v":0},"-","-","-",{"$f":"IFERROR(Tableau1[[#This Row],[THEO]]-Tableau1[[#This Row],[Qtt 2éme lot]],\"-\")","v":"-"},"-",{"$f":"IF(Tableau1[[#This Row],[2éme lot]]=\"-\",\"-\",IFERROR(IF(Q1412=\"\",\"-\",INDEX(I:I,MATCH(Q1412,C:C,0)+1)),\"-\"))","v":"-"},"-","-"]
[2498,"MD001704","SECTRAL 200MG COMP.PELLI.SEC. B/30","ACEBUTOLOL","SE008A","01.09.2022","MG/EXP1",62,"MG/EXP1-D-034",null,0,null,null,485.46,"WINTHROP PHARMA  SAIDAL SPA","-",null,{"$f":"SUMIF(Tableau1[Description article],Tableau1[Produits],Tableau1[Emplacement])","v":0},null,{"$f":"Sheet1!$S1413-Sheet1!$R1413","v":0},"-","-","-",{"$f":"IFERROR(Tableau1[[#This Row],[THEO]]-Tableau1[[#This Row],[Qtt 2éme lot]],\"-\")","v":"-"},"-",{"$f":"IF(Tableau1[[#This Row],[2éme lot]]=\"-\",\"-\",IFERROR(IF(Q1413=\"\",\"-\",INDEX(I:I,MATCH(Q1413,C:C,0)+1)),\"-\"))","v":"-"},"-","-"]
[2500,"MD001705","SECTRAL 400MG COMP.PELLI.SEC. B/30","ACEBUTOLOL","SC004A","01.02.2022","MG/EXP1",122,"MG/EXP1-A-058",null,0,null,null,904.31,"WINTHROP PHARMA  SAIDAL SPA","-",null,{"$f":"SUMIF(Tableau1[Description article],Tableau1[Produits],Tableau1[Emplacement])","v":0},null,{"$f":"Sheet1!$S1414-Sheet1!$R1414","v":0},"-","-","-",{"$f":"IFERROR(Tableau1[[#This Row],[THEO]]-Tableau1[[#This Row],[Qtt 2éme lot]],\"-\")","v":"-"},"-",{"$f":"IF(Tableau1[[#This Row],[2éme lot]]=\"-\",\"-\",IFERROR(IF(Q1414=\"\",\"-\",INDEX(I:I,MATCH(Q1414,C:C,0)+1)),\"-\"))","v":"-"},"-","-"]
[2502,"MD001709","SELOFER FOL 100MG/0,35MG COMP.A SUCER B/30","HYDROXYDE FERRIQUE POLYMALTOSE","103","01.08.2020","MG/EXP1",168,"MG/EXP1-A-054",null,0,null,null,472.08,"ABDI IBRAHIM REMED PHARMA SPA","-",null,{"$f":"SUMIF(Tableau1[Description article],Tableau1[Produits],Tableau1[Emplacement])","v":0},null,{"$f":"Sheet1!$S1415-Sheet1!$R1415","v":0},"-","-","-",{"$f":"IFERROR(Tableau1[[#This Row],[THEO]]-Tableau1[[#This Row],[Qtt 2éme lot]],\"-\")","v":"-"},"-",{"$f":"IF(Tableau1[[#This Row],[2éme lot]]=\"-\",\"-\",IFERROR(IF(Q1415=\"\",\"-\",INDEX(I:I,MATCH(Q1415,C:C,0)+1)),\"-\"))","v":"-"},"-","-"]
[2504,"MD001707","SELOFER-100 20MG/ML SRP. FL150ML + C.M.","HYDROXYDE FERRIQUE POLYMALTOSE","904007","01.08.2022","MG/EXP1",98,"MG/EXP1-D-072",null,0,null,null,365.35,"ABDI IBRAHIM REMED PHARMA SPA","-",null,{"$f":"SUMIF(Tableau1[Description article],Tableau1[Produits],Tableau1[Emplacement])","v":0},null,{"$f":"Sheet1!$S1416-Sheet1!$R1416","v":0},"-","-","-",{"$f":"IFERROR(Tableau1[[#This Row],[THEO]]-Tableau1[[#This Row],[Qtt 2éme lot]],\"-\")","v":"-"},"-",{"$f":"IF(Tableau1[[#This Row],[2éme lot]]=\"-\",\"-\",IFERROR(IF(Q1416=\"\",\"-\",INDEX(I:I,MATCH(Q1416,C:C,0)+1)),\"-\"))","v":"-"},"-","-"]
[2508,"MD001710","SELS DE REHYDRATATION (SACHET)","SELS DE REHYDRATATION","2998","01.09.2022","MG/EXP1",585,"MG/EXP1-H-004",null,0,null,null,13.5,"SAIDAL UNITE CENTRE","-",null,{"$f":"SUMIF(Tableau1[Description article],Tableau1[Produits],Tableau1[Emplacement])","v":0},null,{"$f":"Sheet1!$S1417-Sheet1!$R1417","v":0},"-","-","-",{"$f":"IFERROR(Tableau1[[#This Row],[THEO]]-Tableau1[[#This Row],[Qtt 2éme lot]],\"-\")","v":"-"},"-",{"$f":"IF(Tableau1[[#This Row],[2éme lot]]=\"-\",\"-\",IFERROR(IF(Q1417=\"\",\"-\",INDEX(I:I,MATCH(Q1417,C:C,0)+1)),\"-\"))","v":"-"},"-","-"]
[2511,"PP00383","SENS INTIME GEL FL/250ML",null,"GI005","01.10.2021","MG/EXP1",75,"MG/EXP1-D-064",null,0,null,null,295,"DERMO SENS SARL","-",null,{"$f":"SUMIF(Tableau1[Description article],Tableau1[Produits],Tableau1[Emplacement])","v":0},null,{"$f":"Sheet1!$S1418-Sheet1!$R1418","v":0},"-","-","-",{"$f":"IFERROR(Tableau1[[#This Row],[THEO]]-Tableau1[[#This Row],[Qtt 2éme lot]],\"-\")","v":"-"},"-",{"$f":"IF(Tableau1[[#This Row],[2éme lot]]=\"-\",\"-\",IFERROR(IF(Q1418=\"\",\"-\",INDEX(I:I,MATCH(Q1418,C:C,0)+1)),\"-\"))","v":"-"},"-","-"]
[2512,"MD001711","SEPTHOL 260MG/125MG/15MG/50MG/50G GEL P.APPL.CUT. T/50G","LEVOMENTHOL-VERATROL","54","01.01.2023","MG/EXP1",138,"MG/EXP1-C-059",null,0,null,null,235.19,"PHARMAGHREB","-",null,{"$f":"SUMIF(Tableau1[Description article],Tableau1[Produits],Tableau1[Emplacement])","v":0},null,{"$f":"Sheet1!$S1419-Sheet1!$R1419","v":0},"-","-","-",{"$f":"IFERROR(Tableau1[[#This Row],[THEO]]-Tableau1[[#This Row],[Qtt 2éme lot]],\"-\")","v":"-"},"-",{"$f":"IF(Tableau1[[#This Row],[2éme lot]]=\"-\",\"-\",IFERROR(IF(Q1419=\"\",\"-\",INDEX(I:I,MATCH(Q1419,C:C,0)+1)),\"-\"))","v":"-"},"-","-"]
[2515,"MD001712","SEPTHOL 260MG/260MG/21MG/10,5MG SOL.DERM. & BAIN DE BOUCHE FL/225ML","LEVOMENTHOL/VERATOL/RES ORCINOL/ACIDE SALYCYLIQUE","SE0470","01.09.2024","MG/EXP1",26,"MG/EXP1-E-012",null,0,null,null,227.81,"PHARMAGHREB","-",null,{"$f":"SUMIF(Tableau1[Description article],Tableau1[Produits],Tableau1[Emplacement])","v":0},null,{"$f":"Sheet1!$S1420-Sheet1!$R1420","v":0},"-","-","-",{"$f":"IFERROR(Tableau1[[#This Row],[THEO]]-Tableau1[[#This Row],[Qtt 2éme lot]],\"-\")","v":"-"},"-",{"$f":"IF(Tableau1[[#This Row],[2éme lot]]=\"-\",\"-\",IFERROR(IF(Q1420=\"\",\"-\",INDEX(I:I,MATCH(Q1420,C:C,0)+1)),\"-\"))","v":"-"},"-","-"]
[2517,"MD001720","SERVAL 50MG GLES. B/30","SERTRALINE HCI","8197","30.04.2020","MG/EXP1",34,"MG/EXP1-BOX6-008",null,0,null,null,1290,"INPHA MEDIS SPA","-",null,{"$f":"SUMIF(Tableau1[Description article],Tableau1[Produits],Tableau1[Emplacement])","v":0},null,{"$f":"Sheet1!$S1421-Sheet1!$R1421","v":0},"-","-","-",{"$f":"IFERROR(Tableau1[[#This Row],[THEO]]-Tableau1[[#This Row],[Qtt 2éme lot]],\"-\")","v":"-"},"-",{"$f":"IF(Tableau1[[#This Row],[2éme lot]]=\"-\",\"-\",IFERROR(IF(Q1421=\"\",\"-\",INDEX(I:I,MATCH(Q1421,C:C,0)+1)),\"-\"))","v":"-"},"-","-"]
[2518,"MD001721","SETREME 4MG COMP.PELLI. B/28","ONDANSETRON","030019","01.03.2022","MG/EXP1",108,"MG/EXP1-D-046",null,0,null,null,1997.69,"BEKER LABORATOIRES","-",null,{"$f":"SUMIF(Tableau1[Description article],Tableau1[Produits],Tableau1[Emplacement])","v":0},null,{"$f":"Sheet1!$S1422-Sheet1!$R1422","v":0},"-","-","-",{"$f":"IFERROR(Tableau1[[#This Row],[THEO]]-Tableau1[[#This Row],[Qtt 2éme lot]],\"-\")","v":"-"},"-",{"$f":"IF(Tableau1[[#This Row],[2éme lot]]=\"-\",\"-\",IFERROR(IF(Q1422=\"\",\"-\",INDEX(I:I,MATCH(Q1422,C:C,0)+1)),\"-\"))","v":"-"},"-","-"]
[2519,"MD001723","SETREME 8MG COMP.PELLI. B/07","ONDANSETRON","073719","01.07.2022","MG/EXP1",216,"MG/EXP1-A-045",null,0,null,null,798.6,"BEKER LABORATOIRES","-",null,{"$f":"SUMIF(Tableau1[Description article],Tableau1[Produits],Tableau1[Emplacement])","v":0},null,{"$f":"Sheet1!$S1423-Sheet1!$R1423","v":0},"-","-","-",{"$f":"IFERROR(Tableau1[[#This Row],[THEO]]-Tableau1[[#This Row],[Qtt 2éme lot]],\"-\")","v":"-"},"-",{"$f":"IF(Tableau1[[#This Row],[2éme lot]]=\"-\",\"-\",IFERROR(IF(Q1423=\"\",\"-\",INDEX(I:I,MATCH(Q1423,C:C,0)+1)),\"-\"))","v":"-"},"-","-"]
[2520,"MD001722","SETREME 8MG COMP.PELLI. B/28","ONDANSETRON","073919","01.07.2022","MG/EXP1",345,"MG/EXP1-BOX6-009",null,0,null,"CHER",3198.9,"BEKER LABORATOIRES","-",null,{"$f":"SUMIF(Tableau1[Description article],Tableau1[Produits],Tableau1[Emplacement])","v":0},null,{"$f":"Sheet1!$S1424-Sheet1!$R1424","v":0},"-","-","-",{"$f":"IFERROR(Tableau1[[#This Row],[THEO]]-Tableau1[[#This Row],[Qtt 2éme lot]],\"-\")","v":"-"},"-",{"$f":"IF(Tableau1[[#This Row],[2éme lot]]=\"-\",\"-\",IFERROR(IF(Q1424=\"\",\"-\",INDEX(I:I,MATCH(Q1424,C:C,0)+1)),\"-\"))","v":"-"},"-","-"]
[2521,"MD001725","SICCAFLUID 2,5MG/G GEL OPHT. FL.COMPT.GTTES/10G","CARBOMERE 974P","295519","01.09.2021","MG/EXP1",398,"MG/EXP1-B-001",null,0,null,null,334.23,"BIOPHARM SPA","-",null,{"$f":"SUMIF(Tableau1[Description article],Tableau1[Produits],Tableau1[Emplacement])","v":0},null,{"$f":"Sheet1!$S1425-Sheet1!$R1425","v":0},"-","-","-",{"$f":"IFERROR(Tableau1[[#This Row],[THEO]]-Tableau1[[#This Row],[Qtt 2éme lot]],\"-\")","v":"-"},"-",{"$f":"IF(Tableau1[[#This Row],[2éme lot]]=\"-\",\"-\",IFERROR(IF(Q1425=\"\",\"-\",INDEX(I:I,MATCH(Q1425,C:C,0)+1)),\"-\"))","v":"-"},"-","-"]
[2522,"MD001729","SINECOD 0,15% 1,5MG/ML SRP. FL/200 ML","BUTAMIRATE CITRATE","728280","30.09.2022","MG/EXP1",286,"MG/EXP1-G-019",null,0,null,null,391.82,"BIOPHARM SPA","-",null,{"$f":"SUMIF(Tableau1[Description article],Tableau1[Produits],Tableau1[Emplacement])","v":0},null,{"$f":"Sheet1!$S1426-Sheet1!$R1426","v":0},"-","-","-",{"$f":"IFERROR(Tableau1[[#This Row],[THEO]]-Tableau1[[#This Row],[Qtt 2éme lot]],\"-\")","v":"-"},"-",{"$f":"IF(Tableau1[[#This Row],[2éme lot]]=\"-\",\"-\",IFERROR(IF(Q1426=\"\",\"-\",INDEX(I:I,MATCH(Q1426,C:C,0)+1)),\"-\"))","v":"-"},"-","-"]
[2525,"MD003539","SINGULAIR 4MG SACHET. B/28","MONTELUKAST SODIQUE EXPRIME EN MONTELUKAST","S027355","01.04.2021","MG/EXP1",13,"MG/EXP1-BOX6-020",null,0,null,null,2794.93,"E.P.DIS EURAPHARMA SPA","-",null,{"$f":"SUMIF(Tableau1[Description article],Tableau1[Produits],Tableau1[Emplacement])","v":0},null,{"$f":"Sheet1!$S1427-Sheet1!$R1427","v":0},"-","-","-",{"$f":"IFERROR(Tableau1[[#This Row],[THEO]]-Tableau1[[#This Row],[Qtt 2éme lot]],\"-\")","v":"-"},"-",{"$f":"IF(Tableau1[[#This Row],[2éme lot]]=\"-\",\"-\",IFERROR(IF(Q1427=\"\",\"-\",INDEX(I:I,MATCH(Q1427,C:C,0)+1)),\"-\"))","v":"-"},"-","-"]
[2526,"MD001730","SINTROM 4MG COMP.SEC. B/30","ACENOCOUMAROL","1030841","01.01.2024","MG/EXP1",228,"MG/EXP1-B-036",null,0,null,null,217.55,"BIOPHARM SPA","-",null,{"$f":"SUMIF(Tableau1[Description article],Tableau1[Produits],Tableau1[Emplacement])","v":0},null,{"$f":"Sheet1!$S1428-Sheet1!$R1428","v":0},"-","-","-",{"$f":"IFERROR(Tableau1[[#This Row],[THEO]]-Tableau1[[#This Row],[Qtt 2éme lot]],\"-\")","v":"-"},"-",{"$f":"IF(Tableau1[[#This Row],[2éme lot]]=\"-\",\"-\",IFERROR(IF(Q1428=\"\",\"-\",INDEX(I:I,MATCH(Q1428,C:C,0)+1)),\"-\"))","v":"-"},"-","-"]
[2532,"MD004032","SMECTA FRAISE 3G/SACH. PDRE.SUSP.BUV. B/18 SACH.","DIOSMECTITE","1907022","30.09.2021","MG/EXP1",183,"MG/EXP1-B-037",null,0,null,null,235.44,"AT PHARMA SPA","-",null,{"$f":"SUMIF(Tableau1[Description article],Tableau1[Produits],Tableau1[Emplacement])","v":0},null,{"$f":"Sheet1!$S1429-Sheet1!$R1429","v":0},"-","-","-",{"$f":"IFERROR(Tableau1[[#This Row],[THEO]]-Tableau1[[#This Row],[Qtt 2éme lot]],\"-\")","v":"-"},"-",{"$f":"IF(Tableau1[[#This Row],[2éme lot]]=\"-\",\"-\",IFERROR(IF(Q1429=\"\",\"-\",INDEX(I:I,MATCH(Q1429,C:C,0)+1)),\"-\"))","v":"-"},"-","-"]
[2534,"MD001733","SMECTA ORANGE-VANILLE 3G/SACH. PDRE.SUSP.BUV. B/30 SACH.","DIOSMECTITE","1902096","13.04.2022","MG/EXP1",275,"MG/EXP1-A-049",null,0,null,null,392.4,"AT PHARMA SPA","-",null,{"$f":"SUMIF(Tableau1[Description article],Tableau1[Produits],Tableau1[Emplacement])","v":0},null,{"$f":"Sheet1!$S1430-Sheet1!$R1430","v":0},"-","-","-",{"$f":"IFERROR(Tableau1[[#This Row],[THEO]]-Tableau1[[#This Row],[Qtt 2éme lot]],\"-\")","v":"-"},"-",{"$f":"IF(Tableau1[[#This Row],[2éme lot]]=\"-\",\"-\",IFERROR(IF(Q1430=\"\",\"-\",INDEX(I:I,MATCH(Q1430,C:C,0)+1)),\"-\"))","v":"-"},"-","-"]
[2536,"MD004142","SMECTYL -HUP- 3G PDRE.SUSP.BUV. B/30 SACH. ORANGE-VA","DIOSMECTITE","028","01.04.2021","MG/EXP1",149,"MG/EXP1-A-005",null,0,null,null,319.99,"HUP.P PHARMA SARL","-",null,{"$f":"SUMIF(Tableau1[Description article],Tableau1[Produits],Tableau1[Emplacement])","v":0},null,{"$f":"Sheet1!$S1431-Sheet1!$R1431","v":0},"-","-","-",{"$f":"IFERROR(Tableau1[[#This Row],[THEO]]-Tableau1[[#This Row],[Qtt 2éme lot]],\"-\")","v":"-"},"-",{"$f":"IF(Tableau1[[#This Row],[2éme lot]]=\"-\",\"-\",IFERROR(IF(Q1431=\"\",\"-\",INDEX(I:I,MATCH(Q1431,C:C,0)+1)),\"-\"))","v":"-"},"-","-"]
[2537,"MD001734","SMEDYL 3G/SACH. PDRE.SUSP.BUV. B/30 SACH.","DIOSMECTITE","M57044R","01.09.2022","MG/EXP1",5,"MG/EXP1-A-062",null,0,null,null,319.8,"MERINAL LABORATOIRES","-",null,{"$f":"SUMIF(Tableau1[Description article],Tableau1[Produits],Tableau1[Emplacement])","v":0},null,{"$f":"Sheet1!$S1432-Sheet1!$R1432","v":0},"-","-","-",{"$f":"IFERROR(Tableau1[[#This Row],[THEO]]-Tableau1[[#This Row],[Qtt 2éme lot]],\"-\")","v":"-"},"-",{"$f":"IF(Tableau1[[#This Row],[2éme lot]]=\"-\",\"-\",IFERROR(IF(Q1432=\"\",\"-\",INDEX(I:I,MATCH(Q1432,C:C,0)+1)),\"-\"))","v":"-"},"-","-"]
[2539,"MD001734","SMEDYL 3G/SACH. PDRE.SUSP.BUV. B/30 SACH.","DIOSMECTITE","M57046R","30.09.2022","MG/EXP1",21,"MG/EXP1-G-027",null,0,null,null,319.8,"MERINAL LABORATOIRES","-",null,{"$f":"SUMIF(Tableau1[Description article],Tableau1[Produits],Tableau1[Emplacement])","v":0},null,{"$f":"Sheet1!$S1433-Sheet1!$R1433","v":0},"-","-","-",{"$f":"IFERROR(Tableau1[[#This Row],[THEO]]-Tableau1[[#This Row],[Qtt 2éme lot]],\"-\")","v":"-"},"-",{"$f":"IF(Tableau1[[#This Row],[2éme lot]]=\"-\",\"-\",IFERROR(IF(Q1433=\"\",\"-\",INDEX(I:I,MATCH(Q1433,C:C,0)+1)),\"-\"))","v":"-"},"-","-"]
[2541,"MD001736","SOCOB 40MG COMP.ENRO. B/30","SIMVASTATINE","017819","01.02.2022","MG/EXP1",73,"MG/EXP1-C-038",null,0,null,null,1977.5,"BEKER LABORATOIRES","-",null,{"$f":"SUMIF(Tableau1[Description article],Tableau1[Produits],Tableau1[Emplacement])","v":0},null,{"$f":"Sheet1!$S1434-Sheet1!$R1434","v":0},"-","-","-",{"$f":"IFERROR(Tableau1[[#This Row],[THEO]]-Tableau1[[#This Row],[Qtt 2éme lot]],\"-\")","v":"-"},"-",{"$f":"IF(Tableau1[[#This Row],[2éme lot]]=\"-\",\"-\",IFERROR(IF(Q1434=\"\",\"-\",INDEX(I:I,MATCH(Q1434,C:C,0)+1)),\"-\"))","v":"-"},"-","-"]
[2542,"MD001737","SOLIAN 200MG COMP.SEC. B/30","AMISULPRIDE","SN002C","01.12.2022","MG/EXP1",111,"MG/EXP1-BOX6-PSY-012",null,0,null,"CHER",2037.5,"SANOFI AVENTIS ALGERIE SPA","-",null,{"$f":"SUMIF(Tableau1[Description article],Tableau1[Produits],Tableau1[Emplacement])","v":0},null,{"$f":"Sheet1!$S1435-Sheet1!$R1435","v":0},"-","-","-",{"$f":"IFERROR(Tableau1[[#This Row],[THEO]]-Tableau1[[#This Row],[Qtt 2éme lot]],\"-\")","v":"-"},"-",{"$f":"IF(Tableau1[[#This Row],[2éme lot]]=\"-\",\"-\",IFERROR(IF(Q1435=\"\",\"-\",INDEX(I:I,MATCH(Q1435,C:C,0)+1)),\"-\"))","v":"-"},"-","-"]
[2543,"MD001738","SOLIAN 400MG COMP.PELLI.SEC. B/30","AMISULPRIDE","SL004A","01.09.2022","MG/EXP1",135,"MG/EXP1-BOX6-PSY-012",null,0,null,"CHER",3479.9,"SANOFI AVENTIS ALGERIE SPA","-",null,{"$f":"SUMIF(Tableau1[Description article],Tableau1[Produits],Tableau1[Emplacement])","v":0},null,{"$f":"Sheet1!$S1436-Sheet1!$R1436","v":0},"-","-","-",{"$f":"IFERROR(Tableau1[[#This Row],[THEO]]-Tableau1[[#This Row],[Qtt 2éme lot]],\"-\")","v":"-"},"-",{"$f":"IF(Tableau1[[#This Row],[2éme lot]]=\"-\",\"-\",IFERROR(IF(Q1436=\"\",\"-\",INDEX(I:I,MATCH(Q1436,C:C,0)+1)),\"-\"))","v":"-"},"-","-"]
[2544,"MD001739","SOLOPRED HUP 20MG COMP.ORODIS. B/20","PREDNISOLONE","069","01.09.2021","MG/EXP1",234,"MG/EXP1-C-038",null,0,null,null,389.5,"HUP.P PHARMA SARL","-",null,{"$f":"SUMIF(Tableau1[Description article],Tableau1[Produits],Tableau1[Emplacement])","v":0},null,{"$f":"Sheet1!$S1437-Sheet1!$R1437","v":0},"-","-","-",{"$f":"IFERROR(Tableau1[[#This Row],[THEO]]-Tableau1[[#This Row],[Qtt 2éme lot]],\"-\")","v":"-"},"-",{"$f":"IF(Tableau1[[#This Row],[2éme lot]]=\"-\",\"-\",IFERROR(IF(Q1437=\"\",\"-\",INDEX(I:I,MATCH(Q1437,C:C,0)+1)),\"-\"))","v":"-"},"-","-"]
[2547,"MD001740","SOLOTIK 100MG COMP.SEC. PILUL/15","SERTRALINE HCI","7291","01.02.2022","MG/EXP1",186,"MG/EXP1-BOX6-013",null,0,null,null,990,"HIKMA PHARMA ALGERIA SARL","-",null,{"$f":"SUMIF(Tableau1[Description article],Tableau1[Produits],Tableau1[Emplacement])","v":0},null,{"$f":"Sheet1!$S1438-Sheet1!$R1438","v":0},"-","-","-",{"$f":"IFERROR(Tableau1[[#This Row],[THEO]]-Tableau1[[#This Row],[Qtt 2éme lot]],\"-\")","v":"-"},"-",{"$f":"IF(Tableau1[[#This Row],[2éme lot]]=\"-\",\"-\",IFERROR(IF(Q1438=\"\",\"-\",INDEX(I:I,MATCH(Q1438,C:C,0)+1)),\"-\"))","v":"-"},"-","-"]
[2548,"MD001740","SOLOTIK 100MG COMP.SEC. PILUL/15","SERTRALINE HCI","6620","01.10.2021","MG/EXP1",6,"MG/EXP1-BOX6-PSY-012",null,0,null,null,990,"HIKMA PHARMA ALGERIA SARL","-",null,{"$f":"SUMIF(Tableau1[Description article],Tableau1[Produits],Tableau1[Emplacement])","v":0},null,{"$f":"Sheet1!$S1439-Sheet1!$R1439","v":0},"-","-","-",{"$f":"IFERROR(Tableau1[[#This Row],[THEO]]-Tableau1[[#This Row],[Qtt 2éme lot]],\"-\")","v":"-"},"-",{"$f":"IF(Tableau1[[#This Row],[2éme lot]]=\"-\",\"-\",IFERROR(IF(Q1439=\"\",\"-\",INDEX(I:I,MATCH(Q1439,C:C,0)+1)),\"-\"))","v":"-"},"-","-"]
[2549,"MD001741","SOLOTIK 50MG COMP.SEC. PILUL/15","SERTRALINE HCI","82081","01.08.2022","MG/EXP1",36,"MG/EXP1-BOX6-PSY-012",null,0,null,null,642.5,"HIKMA PHARMA ALGERIA SARL","-",null,{"$f":"SUMIF(Tableau1[Description article],Tableau1[Produits],Tableau1[Emplacement])","v":0},null,{"$f":"Sheet1!$S1440-Sheet1!$R1440","v":0},"-","-","-",{"$f":"IFERROR(Tableau1[[#This Row],[THEO]]-Tableau1[[#This Row],[Qtt 2éme lot]],\"-\")","v":"-"},"-",{"$f":"IF(Tableau1[[#This Row],[2éme lot]]=\"-\",\"-\",IFERROR(IF(Q1440=\"\",\"-\",INDEX(I:I,MATCH(Q1440,C:C,0)+1)),\"-\"))","v":"-"},"-","-"]
[2551,"MD001743","SOLU-MEDROL 120MG/2ML PDRE.SOL.INJ. B/01+ 01","METHYLPREDNISOLONE","S1E74A731","30.04.2021","MG/EXP1",205,"MG/EXP1-E-025",null,0,null,null,368.82,"PFIZER PHARM ALGERIE SPA","-",null,{"$f":"SUMIF(Tableau1[Description article],Tableau1[Produits],Tableau1[Emplacement])","v":0},null,{"$f":"Sheet1!$S1441-Sheet1!$R1441","v":0},"-","-","-",{"$f":"IFERROR(Tableau1[[#This Row],[THEO]]-Tableau1[[#This Row],[Qtt 2éme lot]],\"-\")","v":"-"},"-",{"$f":"IF(Tableau1[[#This Row],[2éme lot]]=\"-\",\"-\",IFERROR(IF(Q1441=\"\",\"-\",INDEX(I:I,MATCH(Q1441,C:C,0)+1)),\"-\"))","v":"-"},"-","-"]
[2552,"MD001742","SOLUGé 20MG CP SEC. B/20","PREDNISOLONE","PR0119","31.03.2022","MG/EXP1",93,"MG/EXP1-D-023",null,0,null,null,389.5,"CHIMIE PHARMACIE COMMERCE MULTIPLE SARL","-",null,{"$f":"SUMIF(Tableau1[Description article],Tableau1[Produits],Tableau1[Emplacement])","v":0},null,{"$f":"Sheet1!$S1442-Sheet1!$R1442","v":0},"-","-","-",{"$f":"IFERROR(Tableau1[[#This Row],[THEO]]-Tableau1[[#This Row],[Qtt 2éme lot]],\"-\")","v":"-"},"-",{"$f":"IF(Tableau1[[#This Row],[2éme lot]]=\"-\",\"-\",IFERROR(IF(Q1442=\"\",\"-\",INDEX(I:I,MATCH(Q1442,C:C,0)+1)),\"-\"))","v":"-"},"-","-"]
[2553,"MD001746","SOLUPRED ORO 20MG COMP.ORODIS. B/20","PREDNISOLONE","210253","01.07.2021","MG/EXP1",4395,"MG/EXP1-H-004",null,0,null,null,389.5,"SANOFI AVENTIS ALGERIE SPA","-",null,{"$f":"SUMIF(Tableau1[Description article],Tableau1[Produits],Tableau1[Emplacement])","v":0},null,{"$f":"Sheet1!$S1443-Sheet1!$R1443","v":0},"-","-","-",{"$f":"IFERROR(Tableau1[[#This Row],[THEO]]-Tableau1[[#This Row],[Qtt 2éme lot]],\"-\")","v":"-"},"-",{"$f":"IF(Tableau1[[#This Row],[2éme lot]]=\"-\",\"-\",IFERROR(IF(Q1443=\"\",\"-\",INDEX(I:I,MATCH(Q1443,C:C,0)+1)),\"-\"))","v":"-"},"-","-"]
[2554,"MD001748","SOLUXOL 0,30% SOL.BUV. FL/200 ML","AMBROXOL","015/19","01.09.2022","MG/EXP1",82,"MG/EXP1-E-024",null,0,null,null,199.32,"PHARMALLIANCE EURL","-",null,{"$f":"SUMIF(Tableau1[Description article],Tableau1[Produits],Tableau1[Emplacement])","v":0},null,{"$f":"Sheet1!$S1444-Sheet1!$R1444","v":0},"-","-","-",{"$f":"IFERROR(Tableau1[[#This Row],[THEO]]-Tableau1[[#This Row],[Qtt 2éme lot]],\"-\")","v":"-"},"-",{"$f":"IF(Tableau1[[#This Row],[2éme lot]]=\"-\",\"-\",IFERROR(IF(Q1444=\"\",\"-\",INDEX(I:I,MATCH(Q1444,C:C,0)+1)),\"-\"))","v":"-"},"-","-"]
[2556,"PP00244","SOLVITYL SP B/120ML(ENF+NRS)",null,"SLS-1904","01.08.2021","MG/EXP1",57,"MG/EXP1-B-046",null,0,null,null,590,"MAGPHARM LABORATOIRES SARL","-",null,{"$f":"SUMIF(Tableau1[Description article],Tableau1[Produits],Tableau1[Emplacement])","v":0},null,{"$f":"Sheet1!$S1445-Sheet1!$R1445","v":0},"-","-","-",{"$f":"IFERROR(Tableau1[[#This Row],[THEO]]-Tableau1[[#This Row],[Qtt 2éme lot]],\"-\")","v":"-"},"-",{"$f":"IF(Tableau1[[#This Row],[2éme lot]]=\"-\",\"-\",IFERROR(IF(Q1445=\"\",\"-\",INDEX(I:I,MATCH(Q1445,C:C,0)+1)),\"-\"))","v":"-"},"-","-"]
[2560,"PP00245","SOLYNE MAGNESIUM 300MG COMP.EFF. B/10","MAGNÉSIUM-MULTIVITAMINES","23072019J","31.07.2023","MG/EXP1",13,"MG/EXP1-G-042",null,0,null,null,599,"MAGPHARM LABORATOIRES SARL","-",null,{"$f":"SUMIF(Tableau1[Description article],Tableau1[Produits],Tableau1[Emplacement])","v":0},null,{"$f":"Sheet1!$S1446-Sheet1!$R1446","v":0},"-","-","-",{"$f":"IFERROR(Tableau1[[#This Row],[THEO]]-Tableau1[[#This Row],[Qtt 2éme lot]],\"-\")","v":"-"},"-",{"$f":"IF(Tableau1[[#This Row],[2éme lot]]=\"-\",\"-\",IFERROR(IF(Q1446=\"\",\"-\",INDEX(I:I,MATCH(Q1446,C:C,0)+1)),\"-\"))","v":"-"},"-","-"]
[2562,"PP00245","SOLYNE MAGNESIUM 300MG COMP.EFF. B/10","MAGNÉSIUM-MULTIVITAMINES","23072019H","31.07.2023","MG/EXP1",216,"MG/EXP1-G-042",null,0,null,null,599,"MAGPHARM LABORATOIRES SARL","-",null,{"$f":"SUMIF(Tableau1[Description article],Tableau1[Produits],Tableau1[Emplacement])","v":0},null,{"$f":"Sheet1!$S1447-Sheet1!$R1447","v":0},"-","-","-",{"$f":"IFERROR(Tableau1[[#This Row],[THEO]]-Tableau1[[#This Row],[Qtt 2éme lot]],\"-\")","v":"-"},"-",{"$f":"IF(Tableau1[[#This Row],[2éme lot]]=\"-\",\"-\",IFERROR(IF(Q1447=\"\",\"-\",INDEX(I:I,MATCH(Q1447,C:C,0)+1)),\"-\"))","v":"-"},"-","-"]
[2563,"PP00466","SOLYNE VITAMINE C 500MG COMP.CROQ. B/15","VITAMINE C","DCT9M18N300","30.09.2021","MG/EXP1",2,"MG/EXP1-B-001",null,0,null,null,320,"MAGPHARM LABORATOIRES SARL","-",null,{"$f":"SUMIF(Tableau1[Description article],Tableau1[Produits],Tableau1[Emplacement])","v":0},null,{"$f":"Sheet1!$S1448-Sheet1!$R1448","v":0},"-","-","-",{"$f":"IFERROR(Tableau1[[#This Row],[THEO]]-Tableau1[[#This Row],[Qtt 2éme lot]],\"-\")","v":"-"},"-",{"$f":"IF(Tableau1[[#This Row],[2éme lot]]=\"-\",\"-\",IFERROR(IF(Q1448=\"\",\"-\",INDEX(I:I,MATCH(Q1448,C:C,0)+1)),\"-\"))","v":"-"},"-","-"]
[2567,"MD001749","SOMACOLINE 100MG/ML SOL.BUV.GTTES. FL/30ML + PIPT.GRAD.","CITICOLINE","190288","01.02.2021","MG/EXP1",108,"MG/EXP1-BOX6-PSY-020",null,0,null,null,487.39,"EL KENDI INDUSTRIE DE MEDICAMENTS SPA","-",null,{"$f":"SUMIF(Tableau1[Description article],Tableau1[Produits],Tableau1[Emplacement])","v":0},null,{"$f":"Sheet1!$S1449-Sheet1!$R1449","v":0},"-","-","-",{"$f":"IFERROR(Tableau1[[#This Row],[THEO]]-Tableau1[[#This Row],[Qtt 2éme lot]],\"-\")","v":"-"},"-",{"$f":"IF(Tableau1[[#This Row],[2éme lot]]=\"-\",\"-\",IFERROR(IF(Q1449=\"\",\"-\",INDEX(I:I,MATCH(Q1449,C:C,0)+1)),\"-\"))","v":"-"},"-","-"]
[2568,"MD001750","SOMATULINE LP 120MG/SERING.0,5ML SOL.INJ.SC. B/01 SERING.PREREMPL/0,5ML + SYS.SEC. + AIGUI.","LANREOTIDE","P10440/P04683","01.02.2021","MG/EXP1",2,"MG/EXP1-BOX6",null,0,null,"GLAC",152913.25,"BIOPHARM SPA","-",null,{"$f":"SUMIF(Tableau1[Description article],Tableau1[Produits],Tableau1[Emplacement])","v":0},null,{"$f":"Sheet1!$S1450-Sheet1!$R1450","v":0},"-","-","-",{"$f":"IFERROR(Tableau1[[#This Row],[THEO]]-Tableau1[[#This Row],[Qtt 2éme lot]],\"-\")","v":"-"},"-",{"$f":"IF(Tableau1[[#This Row],[2éme lot]]=\"-\",\"-\",IFERROR(IF(Q1450=\"\",\"-\",INDEX(I:I,MATCH(Q1450,C:C,0)+1)),\"-\"))","v":"-"},"-","-"]
[2569,"MD001751","SOMATULINE LP 90MG/SERING.0,5ML SOL.INJ.SC. B/01 SERING.PREREMPL/0,5ML + SYS.SEC. + AIGUI.","LANREOTIDE","P17557/P13261","01.06.2021","MG/EXP1",2,"MG/EXP1-BOX6",null,0,null,"GLAC",140115.35,"AT PHARMA SPA","-",null,{"$f":"SUMIF(Tableau1[Description article],Tableau1[Produits],Tableau1[Emplacement])","v":0},null,{"$f":"Sheet1!$S1451-Sheet1!$R1451","v":0},"-","-","-",{"$f":"IFERROR(Tableau1[[#This Row],[THEO]]-Tableau1[[#This Row],[Qtt 2éme lot]],\"-\")","v":"-"},"-",{"$f":"IF(Tableau1[[#This Row],[2éme lot]]=\"-\",\"-\",IFERROR(IF(Q1451=\"\",\"-\",INDEX(I:I,MATCH(Q1451,C:C,0)+1)),\"-\"))","v":"-"},"-","-"]
[2571,"MD001752","SOMAZINA 100MG/ML SOL.BUV.GTTES. B/01 FL/30ML + SERING. DOSEUSE","CITICOLINE","236","01.08.2022","MG/EXP1",76,"MG/EXP1-BOX6-PSY-020",null,0,null,null,486.5,"BIOPHARM SPA","-",null,{"$f":"SUMIF(Tableau1[Description article],Tableau1[Produits],Tableau1[Emplacement])","v":0},null,{"$f":"Sheet1!$S1452-Sheet1!$R1452","v":0},"-","-","-",{"$f":"IFERROR(Tableau1[[#This Row],[THEO]]-Tableau1[[#This Row],[Qtt 2éme lot]],\"-\")","v":"-"},"-",{"$f":"IF(Tableau1[[#This Row],[2éme lot]]=\"-\",\"-\",IFERROR(IF(Q1452=\"\",\"-\",INDEX(I:I,MATCH(Q1452,C:C,0)+1)),\"-\"))","v":"-"},"-","-"]
[2573,"MD004091","SOMAZINA 500MG/4 ML SOL.INJ. B/05 AMP.","CITICOLINE","N002","01.05.2022","MG/EXP1",7,"MG/EXP1-BOX6-PSY-009",null,0,null,null,1187.3,"BIOPHARM SPA","-",null,{"$f":"SUMIF(Tableau1[Description article],Tableau1[Produits],Tableau1[Emplacement])","v":0},null,{"$f":"Sheet1!$S1453-Sheet1!$R1453","v":0},"-","-","-",{"$f":"IFERROR(Tableau1[[#This Row],[THEO]]-Tableau1[[#This Row],[Qtt 2éme lot]],\"-\")","v":"-"},"-",{"$f":"IF(Tableau1[[#This Row],[2éme lot]]=\"-\",\"-\",IFERROR(IF(Q1453=\"\",\"-\",INDEX(I:I,MATCH(Q1453,C:C,0)+1)),\"-\"))","v":"-"},"-","-"]
[2574,"PP00351","SOMNUIT (SOMMEIL ET STRESS) GELULE. B/20",null,"QC806780/1","31.01.2021","MG/EXP1",56,"MG/EXP1-G-014",null,0,null,null,700,"MERINAL LABORATOIRES","-",null,{"$f":"SUMIF(Tableau1[Description article],Tableau1[Produits],Tableau1[Emplacement])","v":0},null,{"$f":"Sheet1!$S1454-Sheet1!$R1454","v":0},"-","-","-",{"$f":"IFERROR(Tableau1[[#This Row],[THEO]]-Tableau1[[#This Row],[Qtt 2éme lot]],\"-\")","v":"-"},"-",{"$f":"IF(Tableau1[[#This Row],[2éme lot]]=\"-\",\"-\",IFERROR(IF(Q1454=\"\",\"-\",INDEX(I:I,MATCH(Q1454,C:C,0)+1)),\"-\"))","v":"-"},"-","-"]
[2575,"MD001755","SPACYL 80MG COMP.ORODIS. B/10","PHLOROGLUCINOL","M78002R","01.02.2021","MG/EXP1",3,"MG/EXP1-A-045",null,0,null,null,182,"MERINAL LABORATOIRES","-",null,{"$f":"SUMIF(Tableau1[Description article],Tableau1[Produits],Tableau1[Emplacement])","v":0},null,{"$f":"Sheet1!$S1455-Sheet1!$R1455","v":0},"-","-","-",{"$f":"IFERROR(Tableau1[[#This Row],[THEO]]-Tableau1[[#This Row],[Qtt 2éme lot]],\"-\")","v":"-"},"-",{"$f":"IF(Tableau1[[#This Row],[2éme lot]]=\"-\",\"-\",IFERROR(IF(Q1455=\"\",\"-\",INDEX(I:I,MATCH(Q1455,C:C,0)+1)),\"-\"))","v":"-"},"-","-"]
[2576,"MD001755","SPACYL 80MG COMP.ORODIS. B/10","PHLOROGLUCINOL","M78003R","01.02.2021","MG/EXP1",205,"MG/EXP1-A-048",null,0,null,null,182,"MERINAL LABORATOIRES","-",null,{"$f":"SUMIF(Tableau1[Description article],Tableau1[Produits],Tableau1[Emplacement])","v":0},null,{"$f":"Sheet1!$S1456-Sheet1!$R1456","v":0},"-","-","-",{"$f":"IFERROR(Tableau1[[#This Row],[THEO]]-Tableau1[[#This Row],[Qtt 2éme lot]],\"-\")","v":"-"},"-",{"$f":"IF(Tableau1[[#This Row],[2éme lot]]=\"-\",\"-\",IFERROR(IF(Q1456=\"\",\"-\",INDEX(I:I,MATCH(Q1456,C:C,0)+1)),\"-\"))","v":"-"},"-","-"]
[2581,"MD001756","SPACYL 80MG COMP.ORODIS. B/20","PHLOROGLUCINOL","M78016R","31.05.2021","MG/EXP1",59,"MG/EXP1-E-021",null,0,null,null,343.2,"MERINAL LABORATOIRES","-",null,{"$f":"SUMIF(Tableau1[Description article],Tableau1[Produits],Tableau1[Emplacement])","v":0},null,{"$f":"Sheet1!$S1457-Sheet1!$R1457","v":0},"-","-","-",{"$f":"IFERROR(Tableau1[[#This Row],[THEO]]-Tableau1[[#This Row],[Qtt 2éme lot]],\"-\")","v":"-"},"-",{"$f":"IF(Tableau1[[#This Row],[2éme lot]]=\"-\",\"-\",IFERROR(IF(Q1457=\"\",\"-\",INDEX(I:I,MATCH(Q1457,C:C,0)+1)),\"-\"))","v":"-"},"-","-"]
[2583,"MD002262","SPALVERINE 100MG GLES. B/30","MEBEVERINE CHLORHYDRATE","SPL 006","01.07.2020","MG/EXP1",91,"MG/EXP1-F-019",null,0,null,null,215.66,"NEOMEDIC LABORATOIRE","-",null,{"$f":"SUMIF(Tableau1[Description article],Tableau1[Produits],Tableau1[Emplacement])","v":0},null,{"$f":"Sheet1!$S1458-Sheet1!$R1458","v":0},"-","-","-",{"$f":"IFERROR(Tableau1[[#This Row],[THEO]]-Tableau1[[#This Row],[Qtt 2éme lot]],\"-\")","v":"-"},"-",{"$f":"IF(Tableau1[[#This Row],[2éme lot]]=\"-\",\"-\",IFERROR(IF(Q1458=\"\",\"-\",INDEX(I:I,MATCH(Q1458,C:C,0)+1)),\"-\"))","v":"-"},"-","-"]
[2584,"MD001757","SPALVERINE 200MG GLES. B/30","MEBEVERINE","SPA 079","01.04.2022","MG/EXP1",3,"MG/EXP1-C-028",null,0,null,null,306.24,"NEOMEDIC LABORATOIRE","-",null,{"$f":"SUMIF(Tableau1[Description article],Tableau1[Produits],Tableau1[Emplacement])","v":0},null,{"$f":"Sheet1!$S1459-Sheet1!$R1459","v":0},"-","-","-",{"$f":"IFERROR(Tableau1[[#This Row],[THEO]]-Tableau1[[#This Row],[Qtt 2éme lot]],\"-\")","v":"-"},"-",{"$f":"IF(Tableau1[[#This Row],[2éme lot]]=\"-\",\"-\",IFERROR(IF(Q1459=\"\",\"-\",INDEX(I:I,MATCH(Q1459,C:C,0)+1)),\"-\"))","v":"-"},"-","-"]
[2585,"MD001762","SPASMINE 150MG/150MG SUPP. B/10","PHLOROGLUCINOL","19189*","01.05.2022","MG/EXP1",130,"MG/EXP1-F-025",null,0,null,null,177.49,"AFRO PHARM SPA","-",null,{"$f":"SUMIF(Tableau1[Description article],Tableau1[Produits],Tableau1[Emplacement])","v":0},null,{"$f":"Sheet1!$S1460-Sheet1!$R1460","v":0},"-","-","-",{"$f":"IFERROR(Tableau1[[#This Row],[THEO]]-Tableau1[[#This Row],[Qtt 2éme lot]],\"-\")","v":"-"},"-",{"$f":"IF(Tableau1[[#This Row],[2éme lot]]=\"-\",\"-\",IFERROR(IF(Q1460=\"\",\"-\",INDEX(I:I,MATCH(Q1460,C:C,0)+1)),\"-\"))","v":"-"},"-","-"]
[2586,"MD001763","SPASMODYL 80MG COMP.ORODIS. B/10","PHLOROGLUCINOL","013","01.04.2022","MG/EXP1",450,"MG/EXP1-G-031",null,0,null,null,182,"PROVIVO SPA","-",null,{"$f":"SUMIF(Tableau1[Description article],Tableau1[Produits],Tableau1[Emplacement])","v":0},null,{"$f":"Sheet1!$S1461-Sheet1!$R1461","v":0},"-","-","-",{"$f":"IFERROR(Tableau1[[#This Row],[THEO]]-Tableau1[[#This Row],[Qtt 2éme lot]],\"-\")","v":"-"},"-",{"$f":"IF(Tableau1[[#This Row],[2éme lot]]=\"-\",\"-\",IFERROR(IF(Q1461=\"\",\"-\",INDEX(I:I,MATCH(Q1461,C:C,0)+1)),\"-\"))","v":"-"},"-","-"]
[2589,"MD001765","SPASMOL 150MG SUPP. B/10","PHLOROGLUCINOL","9R572","01.10.2022","MG/EXP1",299,"MG/EXP1-A-022",null,0,null,null,200,"SALEM LABORATOIRES SARL","-",null,{"$f":"SUMIF(Tableau1[Description article],Tableau1[Produits],Tableau1[Emplacement])","v":0},null,{"$f":"Sheet1!$S1462-Sheet1!$R1462","v":0},"-","-","-",{"$f":"IFERROR(Tableau1[[#This Row],[THEO]]-Tableau1[[#This Row],[Qtt 2éme lot]],\"-\")","v":"-"},"-",{"$f":"IF(Tableau1[[#This Row],[2éme lot]]=\"-\",\"-\",IFERROR(IF(Q1462=\"\",\"-\",INDEX(I:I,MATCH(Q1462,C:C,0)+1)),\"-\"))","v":"-"},"-","-"]
[2590,"MD004026","SPASMOL 160MG COMP. B/10","PHLOROGLUCINOL","9M593*","01.10.2021","MG/EXP1",3,"MG/EXP1-C-054",null,0,null,null,200,"SALEM LABORATOIRES SARL","-",null,{"$f":"SUMIF(Tableau1[Description article],Tableau1[Produits],Tableau1[Emplacement])","v":0},null,{"$f":"Sheet1!$S1463-Sheet1!$R1463","v":0},"-","-","-",{"$f":"IFERROR(Tableau1[[#This Row],[THEO]]-Tableau1[[#This Row],[Qtt 2éme lot]],\"-\")","v":"-"},"-",{"$f":"IF(Tableau1[[#This Row],[2éme lot]]=\"-\",\"-\",IFERROR(IF(Q1463=\"\",\"-\",INDEX(I:I,MATCH(Q1463,C:C,0)+1)),\"-\"))","v":"-"},"-","-"]
[2591,"MD004026","SPASMOL 160MG COMP. B/10","PHLOROGLUCINOL","9M592","20.10.2021","MG/EXP1",71,"MG/EXP1-C-057",null,0,null,null,200,"SALEM LABORATOIRES SARL","-",null,{"$f":"SUMIF(Tableau1[Description article],Tableau1[Produits],Tableau1[Emplacement])","v":0},null,{"$f":"Sheet1!$S1464-Sheet1!$R1464","v":0},"-","-","-",{"$f":"IFERROR(Tableau1[[#This Row],[THEO]]-Tableau1[[#This Row],[Qtt 2éme lot]],\"-\")","v":"-"},"-",{"$f":"IF(Tableau1[[#This Row],[2éme lot]]=\"-\",\"-\",IFERROR(IF(Q1464=\"\",\"-\",INDEX(I:I,MATCH(Q1464,C:C,0)+1)),\"-\"))","v":"-"},"-","-"]
[2592,"MD001766","SPIRA 1 500 000 UI COMP.PELLI. B/16","SPIRAMYCINE","021","01.05.2021","MG/EXP1",171,"MG/EXP1-G-003",null,0,null,null,317.5,"BIOPHARM SPA","-",null,{"$f":"SUMIF(Tableau1[Description article],Tableau1[Produits],Tableau1[Emplacement])","v":0},null,{"$f":"Sheet1!$S1465-Sheet1!$R1465","v":0},"-","-","-",{"$f":"IFERROR(Tableau1[[#This Row],[THEO]]-Tableau1[[#This Row],[Qtt 2éme lot]],\"-\")","v":"-"},"-",{"$f":"IF(Tableau1[[#This Row],[2éme lot]]=\"-\",\"-\",IFERROR(IF(Q1465=\"\",\"-\",INDEX(I:I,MATCH(Q1465,C:C,0)+1)),\"-\"))","v":"-"},"-","-"]
[2593,"MD001767","SPIRA 3 000 000 UI COMP.PELLI. B/10","SPIRAMYCINE","034","01.04.2021","MG/EXP1",275,"MG/EXP1-F-010",null,0,null,null,407.5,"BIOPHARM SPA","-",null,{"$f":"SUMIF(Tableau1[Description article],Tableau1[Produits],Tableau1[Emplacement])","v":0},null,{"$f":"Sheet1!$S1466-Sheet1!$R1466","v":0},"-","-","-",{"$f":"IFERROR(Tableau1[[#This Row],[THEO]]-Tableau1[[#This Row],[Qtt 2éme lot]],\"-\")","v":"-"},"-",{"$f":"IF(Tableau1[[#This Row],[2éme lot]]=\"-\",\"-\",IFERROR(IF(Q1466=\"\",\"-\",INDEX(I:I,MATCH(Q1466,C:C,0)+1)),\"-\"))","v":"-"},"-","-"]
[2594,"MD001768","SPIRACARE 1 500 000 UI COMP.PELLI. B/16","SPIRAMYCINE","1081905","01.03.2022","MG/EXP1",7,"MG/EXP1-G-006",null,0,null,null,270.32,"BIOCARE SARL","-",null,{"$f":"SUMIF(Tableau1[Description article],Tableau1[Produits],Tableau1[Emplacement])","v":0},null,{"$f":"Sheet1!$S1467-Sheet1!$R1467","v":0},"-","-","-",{"$f":"IFERROR(Tableau1[[#This Row],[THEO]]-Tableau1[[#This Row],[Qtt 2éme lot]],\"-\")","v":"-"},"-",{"$f":"IF(Tableau1[[#This Row],[2éme lot]]=\"-\",\"-\",IFERROR(IF(Q1467=\"\",\"-\",INDEX(I:I,MATCH(Q1467,C:C,0)+1)),\"-\"))","v":"-"},"-","-"]
[2595,"MD001769","SPIRACARE 3 000 000 UI COMP.PELLI. B/10","SPIRAMYCINE","921837","01.11.2021","MG/EXP1",90,"MG/EXP1-A-018",null,0,null,null,341.67,"BIOCARE SARL","-",null,{"$f":"SUMIF(Tableau1[Description article],Tableau1[Produits],Tableau1[Emplacement])","v":0},null,{"$f":"Sheet1!$S1468-Sheet1!$R1468","v":0},"-","-","-",{"$f":"IFERROR(Tableau1[[#This Row],[THEO]]-Tableau1[[#This Row],[Qtt 2éme lot]],\"-\")","v":"-"},"-",{"$f":"IF(Tableau1[[#This Row],[2éme lot]]=\"-\",\"-\",IFERROR(IF(Q1468=\"\",\"-\",INDEX(I:I,MATCH(Q1468,C:C,0)+1)),\"-\"))","v":"-"},"-","-"]
[2596,"MD002368","SPIRAMYCINE-ISO 0,375MUI/5ML SOL.BUV. FL/150ML","SPIRAMYCINE","SP01 J19","01.10.2021","MG/EXP1",42,"MG/EXP1-F-008",null,0,null,null,247.5,"ISOPHARM ALGERIE SARL","-",null,{"$f":"SUMIF(Tableau1[Description article],Tableau1[Produits],Tableau1[Emplacement])","v":0},null,{"$f":"Sheet1!$S1469-Sheet1!$R1469","v":0},"-","-","-",{"$f":"IFERROR(Tableau1[[#This Row],[THEO]]-Tableau1[[#This Row],[Qtt 2éme lot]],\"-\")","v":"-"},"-",{"$f":"IF(Tableau1[[#This Row],[2éme lot]]=\"-\",\"-\",IFERROR(IF(Q1469=\"\",\"-\",INDEX(I:I,MATCH(Q1469,C:C,0)+1)),\"-\"))","v":"-"},"-","-"]
[2598,"MD002269","SPIRAMYNAL 1 500 000 UI COMP.PELLI. B/16","SPIRAMYCINE","431008","31.08.2020","MG/EXP1",163,"MG/EXP1-C-030",null,0,null,null,317.5,"SOPHAL SOCIETE PHARMACEUTIQUE ALGERIENNE","-",null,{"$f":"SUMIF(Tableau1[Description article],Tableau1[Produits],Tableau1[Emplacement])","v":0},null,{"$f":"Sheet1!$S1470-Sheet1!$R1470","v":0},"-","-","-",{"$f":"IFERROR(Tableau1[[#This Row],[THEO]]-Tableau1[[#This Row],[Qtt 2éme lot]],\"-\")","v":"-"},"-",{"$f":"IF(Tableau1[[#This Row],[2éme lot]]=\"-\",\"-\",IFERROR(IF(Q1470=\"\",\"-\",INDEX(I:I,MATCH(Q1470,C:C,0)+1)),\"-\"))","v":"-"},"-","-"]
[2599,"MD001770","SPIRAMYNAL 3 000 000 UI COMP.PELLI. B/10","SPIRAMYCINE","432042","31.05.2021","MG/EXP1",127,"MG/EXP1-E-028",null,0,null,null,407.5,"SOPHAL SOCIETE PHARMACEUTIQUE ALGERIENNE","-",null,{"$f":"SUMIF(Tableau1[Description article],Tableau1[Produits],Tableau1[Emplacement])","v":0},null,{"$f":"Sheet1!$S1471-Sheet1!$R1471","v":0},"-","-","-",{"$f":"IFERROR(Tableau1[[#This Row],[THEO]]-Tableau1[[#This Row],[Qtt 2éme lot]],\"-\")","v":"-"},"-",{"$f":"IF(Tableau1[[#This Row],[2éme lot]]=\"-\",\"-\",IFERROR(IF(Q1471=\"\",\"-\",INDEX(I:I,MATCH(Q1471,C:C,0)+1)),\"-\"))","v":"-"},"-","-"]
[2600,"MD001772","SPIRONOLONE 75MG COMP.PELLI.SEC. B/30","SPIRONOLACTONE MICORNISEE","040","01.11.2022","MG/EXP1",347,"MG/EXP1-A-039",null,0,null,null,499.99,"BIO-GALENIC SARL","-",null,{"$f":"SUMIF(Tableau1[Description article],Tableau1[Produits],Tableau1[Emplacement])","v":0},null,{"$f":"Sheet1!$S1472-Sheet1!$R1472","v":0},"-","-","-",{"$f":"IFERROR(Tableau1[[#This Row],[THEO]]-Tableau1[[#This Row],[Qtt 2éme lot]],\"-\")","v":"-"},"-",{"$f":"IF(Tableau1[[#This Row],[2éme lot]]=\"-\",\"-\",IFERROR(IF(Q1472=\"\",\"-\",INDEX(I:I,MATCH(Q1472,C:C,0)+1)),\"-\"))","v":"-"},"-","-"]
[2602,"MD001773","SPIROZIDE 25MG/15MG COMP.PELLI.SEC. B/30","SPIRONOLACTONE ALTIZIDE","032","01.12.2021","MG/EXP1",413,"MG/EXP1-D-001",null,0,null,null,398.5,"BIO-GALENIC SARL","-",null,{"$f":"SUMIF(Tableau1[Description article],Tableau1[Produits],Tableau1[Emplacement])","v":0},null,{"$f":"Sheet1!$S1473-Sheet1!$R1473","v":0},"-","-","-",{"$f":"IFERROR(Tableau1[[#This Row],[THEO]]-Tableau1[[#This Row],[Qtt 2éme lot]],\"-\")","v":"-"},"-",{"$f":"IF(Tableau1[[#This Row],[2éme lot]]=\"-\",\"-\",IFERROR(IF(Q1473=\"\",\"-\",INDEX(I:I,MATCH(Q1473,C:C,0)+1)),\"-\"))","v":"-"},"-","-"]
[2603,"MD001773","SPIROZIDE 25MG/15MG COMP.PELLI.SEC. B/30","SPIRONOLACTONE ALTIZIDE","033","01.12.2021","MG/EXP1",185,"MG/EXP1-D-002",null,0,null,null,398.5,"BIO-GALENIC SARL",{"$f":"IFERROR(IF(Q1474=\"\",\"-\",INDEX(I:I,MATCH(Q1474,C:C,0))),\"-\")","v":"-"},null,{"$f":"SUMIF(Tableau1[Description article],Tableau1[Produits],Tableau1[Emplacement])","v":0},null,{"$f":"Sheet1!$S1474-Sheet1!$R1474","v":0},{"$f":"IFERROR(IF(Q1474=\"\",\"-\",INDEX(F:F,MATCH(Q1474,C:C,0))),\"-\")","v":"-"},{"$f":"IFERROR(IF(Q1474=\"\",\"-\",INDEX(E:E,MATCH(Q1474,C:C,0))),\"-\")","v":"-"},{"$f":"IFERROR(IF(Q1474=\"\",\"-\",INDEX(N:N,MATCH(Q1474,C:C,0))),\"-\")","v":"-"},{"$f":"IFERROR(Tableau1[[#This Row],[THEO]]-Tableau1[[#This Row],[Qtt 2éme lot]],\"-\")","v":"-"},{"$f":"IF(IF(Q1474=\"\",\"-\",INDEX(E:E,MATCH(Q1474,C:C,0)))=IF(Q1474=\"\",\"-\",INDEX(E:E,MATCH(Q1474,C:C,1))),\"-\",IF(Q1474=\"\",\"-\",INDEX(E:E,MATCH(Q1474,C:C,1))))","v":"-"},{"$f":"IF(Tableau1[[#This Row],[2éme lot]]=\"-\",\"-\",IFERROR(IF(Q1474=\"\",\"-\",INDEX(I:I,MATCH(Q1474,C:C,0)+1)),\"-\"))","v":"-"},{"$f":"IFERROR(IF(Y1474=\"\",\"-\",INDEX(N:N,MATCH(Y1474,E:E,0))),\"-\")","v":"-"},{"$f":"IFERROR(IF(AA1474=\"\",\"-\",INDEX(H:H,MATCH(Y1474,E:E,0))),\"-\")","v":"-"}]
[2605,"PP00436","SPIRUFIT 350 MG B/30 GLES.","SPIRULINA PLATENSIS","18040101","01.05.2020","MG/EXP1",2,"MG/EXP1-G-011",null,0,null,null,1050,"BIOREAL PHARM SPA","-",null,{"$f":"SUMIF(Tableau1[Description article],Tableau1[Produits],Tableau1[Emplacement])","v":0},null,{"$f":"Sheet1!$S1475-Sheet1!$R1475","v":0},"-","-","-",{"$f":"IFERROR(Tableau1[[#This Row],[THEO]]-Tableau1[[#This Row],[Qtt 2éme lot]],\"-\")","v":"-"},"-",{"$f":"IF(Tableau1[[#This Row],[2éme lot]]=\"-\",\"-\",IFERROR(IF(Q1475=\"\",\"-\",INDEX(I:I,MATCH(Q1475,C:C,0)+1)),\"-\"))","v":"-"},"-","-"]
[2606,"MD001774","STAGID 700MG COMP.SEC. B/30","METFORMINE 700 MG","E202486","01.01.2022","MG/EXP1",5,"MG/EXP1-D-014",null,0,null,null,282.88,"AT PHARMA SPA","-",null,{"$f":"SUMIF(Tableau1[Description article],Tableau1[Produits],Tableau1[Emplacement])","v":0},null,{"$f":"Sheet1!$S1476-Sheet1!$R1476","v":0},"-","-","-",{"$f":"IFERROR(Tableau1[[#This Row],[THEO]]-Tableau1[[#This Row],[Qtt 2éme lot]],\"-\")","v":"-"},"-",{"$f":"IF(Tableau1[[#This Row],[2éme lot]]=\"-\",\"-\",IFERROR(IF(Q1476=\"\",\"-\",INDEX(I:I,MATCH(Q1476,C:C,0)+1)),\"-\"))","v":"-"},"-","-"]
[2607,"PP00469","STOP-POUX","LOTION ANTIPOUX","ST04","01.04.2021","MG/EXP1",50,"MG/EXP1-D-004",null,0,null,null,660,"BIOREAL PHARM SPA","-",null,{"$f":"SUMIF(Tableau1[Description article],Tableau1[Produits],Tableau1[Emplacement])","v":0},null,{"$f":"Sheet1!$S1477-Sheet1!$R1477","v":0},"-","-","-",{"$f":"IFERROR(Tableau1[[#This Row],[THEO]]-Tableau1[[#This Row],[Qtt 2éme lot]],\"-\")","v":"-"},"-",{"$f":"IF(Tableau1[[#This Row],[2éme lot]]=\"-\",\"-\",IFERROR(IF(Q1477=\"\",\"-\",INDEX(I:I,MATCH(Q1477,C:C,0)+1)),\"-\"))","v":"-"},"-","-"]
[2608,"MD001780","STRATTERA 18MG (ATOMOXETINE HYDROCHLORIDE 20,57MG) GLES. GASTRORESIST B/28","ATOMOXETINE","D062117","01.07.2021","MG/EXP1",2,"MG/EXP1-BOX6-021",null,0,null,"CHER",9662.28,"BIOPHARM SPA","-",null,{"$f":"SUMIF(Tableau1[Description article],Tableau1[Produits],Tableau1[Emplacement])","v":0},null,{"$f":"Sheet1!$S1478-Sheet1!$R1478","v":0},"-","-","-",{"$f":"IFERROR(Tableau1[[#This Row],[THEO]]-Tableau1[[#This Row],[Qtt 2éme lot]],\"-\")","v":"-"},"-",{"$f":"IF(Tableau1[[#This Row],[2éme lot]]=\"-\",\"-\",IFERROR(IF(Q1478=\"\",\"-\",INDEX(I:I,MATCH(Q1478,C:C,0)+1)),\"-\"))","v":"-"},"-","-"]
[2609,"MD001782","STRATTERA 40MG (ATOMOXETINE HYDROCHLORIDE 45,71MG) GLES. GASTRORESIST B/28","ATOMOXETINE","D061212","01.08.2021","MG/EXP1",5,"MG/EXP1-BOX6-021",null,0,null,"CHER",9638.26,"BIOPHARM SPA","-",null,{"$f":"SUMIF(Tableau1[Description article],Tableau1[Produits],Tableau1[Emplacement])","v":0},null,{"$f":"Sheet1!$S1479-Sheet1!$R1479","v":0},"-","-","-",{"$f":"IFERROR(Tableau1[[#This Row],[THEO]]-Tableau1[[#This Row],[Qtt 2éme lot]],\"-\")","v":"-"},"-",{"$f":"IF(Tableau1[[#This Row],[2éme lot]]=\"-\",\"-\",IFERROR(IF(Q1479=\"\",\"-\",INDEX(I:I,MATCH(Q1479,C:C,0)+1)),\"-\"))","v":"-"},"-","-"]
[2611,"MD001783","STRATTERA 60MG (ATOMOXETINE HYDROCHLORIDE 68,56MG) GLES. GASTRORESIST B/28","ATOMOXETINE","C894059","01.07.2020","MG/EXP1",2,"MG/EXP1-BOX6-021",null,0,null,"CHER",9420.7,"BIOPHARM SPA","-",null,{"$f":"SUMIF(Tableau1[Description article],Tableau1[Produits],Tableau1[Emplacement])","v":0},null,{"$f":"Sheet1!$S1480-Sheet1!$R1480","v":0},"-","-","-",{"$f":"IFERROR(Tableau1[[#This Row],[THEO]]-Tableau1[[#This Row],[Qtt 2éme lot]],\"-\")","v":"-"},"-",{"$f":"IF(Tableau1[[#This Row],[2éme lot]]=\"-\",\"-\",IFERROR(IF(Q1480=\"\",\"-\",INDEX(I:I,MATCH(Q1480,C:C,0)+1)),\"-\"))","v":"-"},"-","-"]
[2615,"MD001784","STRESAM 50MG GLES. B/24","ETIFOXINE CHLORHYDRATE","3163","01.03.2024","MG/EXP1",192,"MG/EXP1-BOX6-PSY-013",null,0,null,null,239.54,"BIOPHARM SPA","-",null,{"$f":"SUMIF(Tableau1[Description article],Tableau1[Produits],Tableau1[Emplacement])","v":0},null,{"$f":"Sheet1!$S1481-Sheet1!$R1481","v":0},"-","-","-",{"$f":"IFERROR(Tableau1[[#This Row],[THEO]]-Tableau1[[#This Row],[Qtt 2éme lot]],\"-\")","v":"-"},"-",{"$f":"IF(Tableau1[[#This Row],[2éme lot]]=\"-\",\"-\",IFERROR(IF(Q1481=\"\",\"-\",INDEX(I:I,MATCH(Q1481,C:C,0)+1)),\"-\"))","v":"-"},"-","-"]
[2616,"MD001786","SULAMINE 6,25MG/5ML SRP. FL/125ML","DOXYLAMINE DE SUCCINATE","042","01.07.2022","MG/EXP1",99,"MG/EXP1-D-016",null,0,null,null,165.02,"SAIDAL UNITE CENTRE","-",null,{"$f":"SUMIF(Tableau1[Description article],Tableau1[Produits],Tableau1[Emplacement])","v":0},null,{"$f":"Sheet1!$S1482-Sheet1!$R1482","v":0},"-","-","-",{"$f":"IFERROR(Tableau1[[#This Row],[THEO]]-Tableau1[[#This Row],[Qtt 2éme lot]],\"-\")","v":"-"},"-",{"$f":"IF(Tableau1[[#This Row],[2éme lot]]=\"-\",\"-\",IFERROR(IF(Q1482=\"\",\"-\",INDEX(I:I,MATCH(Q1482,C:C,0)+1)),\"-\"))","v":"-"},"-","-"]
[2618,"MD001789","SULOZIR LP 0,4MG GLES. B/30","TAMSULOSINE","001/18","01.07.2020","MG/EXP1",1,"MG/EXP1-BOX6-005",null,0,null,null,1497.5,"PHARMALLIANCE EURL","-",null,{"$f":"SUMIF(Tableau1[Description article],Tableau1[Produits],Tableau1[Emplacement])","v":0},null,{"$f":"Sheet1!$S1483-Sheet1!$R1483","v":0},"-","-","-",{"$f":"IFERROR(Tableau1[[#This Row],[THEO]]-Tableau1[[#This Row],[Qtt 2éme lot]],\"-\")","v":"-"},"-",{"$f":"IF(Tableau1[[#This Row],[2éme lot]]=\"-\",\"-\",IFERROR(IF(Q1483=\"\",\"-\",INDEX(I:I,MATCH(Q1483,C:C,0)+1)),\"-\"))","v":"-"},"-","-"]
[2620,"MD001793","SULPRIM 400MG/80MG COMP. B/20","SULFAMETHOXAZOLE 400  / TRIMETHOPRIME 80","5951","01.05.2022","MG/EXP1",111,"MG/EXP1-C-032",null,0,null,null,155.04,"HIKMA PHARMA ALGERIA SARL","-",null,{"$f":"SUMIF(Tableau1[Description article],Tableau1[Produits],Tableau1[Emplacement])","v":0},null,{"$f":"Sheet1!$S1484-Sheet1!$R1484","v":0},"-","-","-",{"$f":"IFERROR(Tableau1[[#This Row],[THEO]]-Tableau1[[#This Row],[Qtt 2éme lot]],\"-\")","v":"-"},"-",{"$f":"IF(Tableau1[[#This Row],[2éme lot]]=\"-\",\"-\",IFERROR(IF(Q1484=\"\",\"-\",INDEX(I:I,MATCH(Q1484,C:C,0)+1)),\"-\"))","v":"-"},"-","-"]
[2622,"MD001795","SULPUREN 25MG/5ML (0,5%) SOL.BUV. FL/180 ML","SULPIRIDE","SU141219","01.12.2021","MG/EXP1",217,"MG/EXP1-F-008",null,0,null,null,103.7,"SAIDAL UNITE CENTRE","-",null,{"$f":"SUMIF(Tableau1[Description article],Tableau1[Produits],Tableau1[Emplacement])","v":0},null,{"$f":"Sheet1!$S1485-Sheet1!$R1485","v":0},"-","-","-",{"$f":"IFERROR(Tableau1[[#This Row],[THEO]]-Tableau1[[#This Row],[Qtt 2éme lot]],\"-\")","v":"-"},"-",{"$f":"IF(Tableau1[[#This Row],[2éme lot]]=\"-\",\"-\",IFERROR(IF(Q1485=\"\",\"-\",INDEX(I:I,MATCH(Q1485,C:C,0)+1)),\"-\"))","v":"-"},"-","-"]
[2623,"MD001795","SULPUREN 25MG/5ML (0,5%) SOL.BUV. FL/180 ML","SULPIRIDE","SU171219","01.12.2021","MG/EXP1",2500,"MG/EXP1-H-001",null,0,null,null,103.7,"SAIDAL UNITE CENTRE","-",null,{"$f":"SUMIF(Tableau1[Description article],Tableau1[Produits],Tableau1[Emplacement])","v":0},null,{"$f":"Sheet1!$S1486-Sheet1!$R1486","v":0},"-","-","-",{"$f":"IFERROR(Tableau1[[#This Row],[THEO]]-Tableau1[[#This Row],[Qtt 2éme lot]],\"-\")","v":"-"},"-",{"$f":"IF(Tableau1[[#This Row],[2éme lot]]=\"-\",\"-\",IFERROR(IF(Q1486=\"\",\"-\",INDEX(I:I,MATCH(Q1486,C:C,0)+1)),\"-\"))","v":"-"},"-","-"]
[2624,"MD001797","SULRID 0,5G/100ML SOL.BUV. FL/200 ML","SULPIRIDE","027/19","01.12.2022","MG/EXP1",31,"MG/EXP1-G-028",null,0,null,null,154.7,"PHARMALLIANCE EURL","-",null,{"$f":"SUMIF(Tableau1[Description article],Tableau1[Produits],Tableau1[Emplacement])","v":0},null,{"$f":"Sheet1!$S1487-Sheet1!$R1487","v":0},"-","-","-",{"$f":"IFERROR(Tableau1[[#This Row],[THEO]]-Tableau1[[#This Row],[Qtt 2éme lot]],\"-\")","v":"-"},"-",{"$f":"IF(Tableau1[[#This Row],[2éme lot]]=\"-\",\"-\",IFERROR(IF(Q1487=\"\",\"-\",INDEX(I:I,MATCH(Q1487,C:C,0)+1)),\"-\"))","v":"-"},"-","-"]
[2630,"MD001798","SUNADIL 0,5G/100ML SUSP.BUV. FL /200ML","SULPIRIDE","9624","30.11.2022","MG/EXP1",100,"MG/EXP1-B-016",null,0,null,null,165.5,"INPHA MEDIS SPA","-",null,{"$f":"SUMIF(Tableau1[Description article],Tableau1[Produits],Tableau1[Emplacement])","v":0},null,{"$f":"Sheet1!$S1488-Sheet1!$R1488","v":0},"-","-","-",{"$f":"IFERROR(Tableau1[[#This Row],[THEO]]-Tableau1[[#This Row],[Qtt 2éme lot]],\"-\")","v":"-"},"-",{"$f":"IF(Tableau1[[#This Row],[2éme lot]]=\"-\",\"-\",IFERROR(IF(Q1488=\"\",\"-\",INDEX(I:I,MATCH(Q1488,C:C,0)+1)),\"-\"))","v":"-"},"-","-"]
[2632,"MD001799","SUPERSTAT 10MG COMP.PELLI. B/30","ROSUVASTATINE CALCIUM","051701*","01.04.2022","MG/EXP1",603,"MG/EXP1-F-030",null,0,null,null,835.1,"HIKMA PHARMA ALGERIA SARL","-",null,{"$f":"SUMIF(Tableau1[Description article],Tableau1[Produits],Tableau1[Emplacement])","v":0},null,{"$f":"Sheet1!$S1489-Sheet1!$R1489","v":0},"-","-","-",{"$f":"IFERROR(Tableau1[[#This Row],[THEO]]-Tableau1[[#This Row],[Qtt 2éme lot]],\"-\")","v":"-"},"-",{"$f":"IF(Tableau1[[#This Row],[2éme lot]]=\"-\",\"-\",IFERROR(IF(Q1489=\"\",\"-\",INDEX(I:I,MATCH(Q1489,C:C,0)+1)),\"-\"))","v":"-"},"-","-"]
[2635,"MD001800","SUPERSTAT 20MG COMP.PELLI. B/30","ROSUVASTATINE CALCIUM","051732","01.04.2022","MG/EXP1",96,"MG/EXP1-D-057",null,0,null,null,1244.9,"HIKMA PHARMA ALGERIA SARL","-",null,{"$f":"SUMIF(Tableau1[Description article],Tableau1[Produits],Tableau1[Emplacement])","v":0},null,{"$f":"Sheet1!$S1490-Sheet1!$R1490","v":0},"-","-","-",{"$f":"IFERROR(Tableau1[[#This Row],[THEO]]-Tableau1[[#This Row],[Qtt 2éme lot]],\"-\")","v":"-"},"-",{"$f":"IF(Tableau1[[#This Row],[2éme lot]]=\"-\",\"-\",IFERROR(IF(Q1490=\"\",\"-\",INDEX(I:I,MATCH(Q1490,C:C,0)+1)),\"-\"))","v":"-"},"-","-"]
[2636,"MD001803","SUPPFADOL 200 200MG SUPP. B/10","PARACETAMOL - 12 A 16 KG-","18053","01.02.2021","MG/EXP1",4,"MG/EXP1-B-016",null,0,null,null,114.01,"AFRO PHARM SPA","-",null,{"$f":"SUMIF(Tableau1[Description article],Tableau1[Produits],Tableau1[Emplacement])","v":0},null,{"$f":"Sheet1!$S1491-Sheet1!$R1491","v":0},"-","-","-",{"$f":"IFERROR(Tableau1[[#This Row],[THEO]]-Tableau1[[#This Row],[Qtt 2éme lot]],\"-\")","v":"-"},"-",{"$f":"IF(Tableau1[[#This Row],[2éme lot]]=\"-\",\"-\",IFERROR(IF(Q1491=\"\",\"-\",INDEX(I:I,MATCH(Q1491,C:C,0)+1)),\"-\"))","v":"-"},"-","-"]
[2639,"MD001801","SUPPFADOL100 100MG SUPP. B/10","PARACETAMOL","18151","01.05.2021","MG/EXP1",78,"MG/EXP1-G-014",null,0,null,null,99,"AFRO PHARM SPA","-",null,{"$f":"SUMIF(Tableau1[Description article],Tableau1[Produits],Tableau1[Emplacement])","v":0},null,{"$f":"Sheet1!$S1492-Sheet1!$R1492","v":0},"-","-","-",{"$f":"IFERROR(Tableau1[[#This Row],[THEO]]-Tableau1[[#This Row],[Qtt 2éme lot]],\"-\")","v":"-"},"-",{"$f":"IF(Tableau1[[#This Row],[2éme lot]]=\"-\",\"-\",IFERROR(IF(Q1492=\"\",\"-\",INDEX(I:I,MATCH(Q1492,C:C,0)+1)),\"-\"))","v":"-"},"-","-"]
[2640,"MD001801","SUPPFADOL100 100MG SUPP. B/10","PARACETAMOL","17256***","01.08.2020","MG/EXP1",4,"MG/EXP1-G-021",null,0,null,null,99,"AFRO PHARM SPA","-",null,{"$f":"SUMIF(Tableau1[Description article],Tableau1[Produits],Tableau1[Emplacement])","v":0},null,{"$f":"Sheet1!$S1493-Sheet1!$R1493","v":0},"-","-","-",{"$f":"IFERROR(Tableau1[[#This Row],[THEO]]-Tableau1[[#This Row],[Qtt 2éme lot]],\"-\")","v":"-"},"-",{"$f":"IF(Tableau1[[#This Row],[2éme lot]]=\"-\",\"-\",IFERROR(IF(Q1493=\"\",\"-\",INDEX(I:I,MATCH(Q1493,C:C,0)+1)),\"-\"))","v":"-"},"-","-"]
[2642,"MD001802","SUPPFADOL150 150MG SUPP. B/10","PARACETAMOL","18184","30.06.2021","MG/EXP1",28,"MG/EXP1-E-049",null,0,null,null,104.02,"AFRO PHARM SPA","-",null,{"$f":"SUMIF(Tableau1[Description article],Tableau1[Produits],Tableau1[Emplacement])","v":0},null,{"$f":"Sheet1!$S1494-Sheet1!$R1494","v":0},"-","-","-",{"$f":"IFERROR(Tableau1[[#This Row],[THEO]]-Tableau1[[#This Row],[Qtt 2éme lot]],\"-\")","v":"-"},"-",{"$f":"IF(Tableau1[[#This Row],[2éme lot]]=\"-\",\"-\",IFERROR(IF(Q1494=\"\",\"-\",INDEX(I:I,MATCH(Q1494,C:C,0)+1)),\"-\"))","v":"-"},"-","-"]
[2644,"MD001807","SUPRIMIDE 200MG COMP. B/28","AMISULPRIDE","180844","01.04.2021","MG/EXP1",33,"MG/EXP1-BOX6-PSY-013",null,0,null,null,1921.92,"EL KENDI INDUSTRIE DE MEDICAMENTS SPA","-",null,{"$f":"SUMIF(Tableau1[Description article],Tableau1[Produits],Tableau1[Emplacement])","v":0},null,{"$f":"Sheet1!$S1495-Sheet1!$R1495","v":0},"-","-","-",{"$f":"IFERROR(Tableau1[[#This Row],[THEO]]-Tableau1[[#This Row],[Qtt 2éme lot]],\"-\")","v":"-"},"-",{"$f":"IF(Tableau1[[#This Row],[2éme lot]]=\"-\",\"-\",IFERROR(IF(Q1495=\"\",\"-\",INDEX(I:I,MATCH(Q1495,C:C,0)+1)),\"-\"))","v":"-"},"-","-"]
[2647,"MD001809","SURMONTIL 0,04 SOL.BUV.GTTES. FL/30ML COMPT.GTTES.","TRIMIPRAMINE MESILATE","056","01.01.2022","MG/EXP1",266,"MG/EXP1-BOX6-PSY-010",null,0,null,null,352.65,"BIOPHARM SPA","-",null,{"$f":"SUMIF(Tableau1[Description article],Tableau1[Produits],Tableau1[Emplacement])","v":0},null,{"$f":"Sheet1!$S1496-Sheet1!$R1496","v":0},"-","-","-",{"$f":"IFERROR(Tableau1[[#This Row],[THEO]]-Tableau1[[#This Row],[Qtt 2éme lot]],\"-\")","v":"-"},"-",{"$f":"IF(Tableau1[[#This Row],[2éme lot]]=\"-\",\"-\",IFERROR(IF(Q1496=\"\",\"-\",INDEX(I:I,MATCH(Q1496,C:C,0)+1)),\"-\"))","v":"-"},"-","-"]
[2648,"MD001808","SURMONTIL 25MG COMP.SEC. B/50","TRIMIPRAMINE MESILATE","311","01.11.2020","MG/EXP1",182,"MG/EXP1-BOX6-PSY-012",null,0,null,null,492.8,"BIOPHARM SPA","-",null,{"$f":"SUMIF(Tableau1[Description article],Tableau1[Produits],Tableau1[Emplacement])","v":0},null,{"$f":"Sheet1!$S1497-Sheet1!$R1497","v":0},"-","-","-",{"$f":"IFERROR(Tableau1[[#This Row],[THEO]]-Tableau1[[#This Row],[Qtt 2éme lot]],\"-\")","v":"-"},"-",{"$f":"IF(Tableau1[[#This Row],[2éme lot]]=\"-\",\"-\",IFERROR(IF(Q1497=\"\",\"-\",INDEX(I:I,MATCH(Q1497,C:C,0)+1)),\"-\"))","v":"-"},"-","-"]
[2649,"MD001495","SWOR 20MG COMP.ORODIS.SEC. PILUL/20","PREDNISOLONE","J7009*","31.05.2020","MG/EXP1",180,"MG/EXP1-A-021",null,0,null,null,440,"AGD PHARM SARL","-",null,{"$f":"SUMIF(Tableau1[Description article],Tableau1[Produits],Tableau1[Emplacement])","v":0},null,{"$f":"Sheet1!$S1498-Sheet1!$R1498","v":0},"-","-","-",{"$f":"IFERROR(Tableau1[[#This Row],[THEO]]-Tableau1[[#This Row],[Qtt 2éme lot]],\"-\")","v":"-"},"-",{"$f":"IF(Tableau1[[#This Row],[2éme lot]]=\"-\",\"-\",IFERROR(IF(Q1498=\"\",\"-\",INDEX(I:I,MATCH(Q1498,C:C,0)+1)),\"-\"))","v":"-"},"-","-"]
[2651,"MD001496","SWOR 5MG COMP.ORODIS. PILUL/30","PREDNISOLONE","17003","01.05.2020","MG/EXP1",42,"MG/EXP1-C-039",null,0,null,null,290,"AGD PHARM SARL","-",null,{"$f":"SUMIF(Tableau1[Description article],Tableau1[Produits],Tableau1[Emplacement])","v":0},null,{"$f":"Sheet1!$S1499-Sheet1!$R1499","v":0},"-","-","-",{"$f":"IFERROR(Tableau1[[#This Row],[THEO]]-Tableau1[[#This Row],[Qtt 2éme lot]],\"-\")","v":"-"},"-",{"$f":"IF(Tableau1[[#This Row],[2éme lot]]=\"-\",\"-\",IFERROR(IF(Q1499=\"\",\"-\",INDEX(I:I,MATCH(Q1499,C:C,0)+1)),\"-\"))","v":"-"},"-","-"]
[2652,"MD001810","SYMBICORT TURBUHALER 100PG/6PG/DSE. PDRE.P.INHAL. FL/120 DSE.","BUDESONIDE/ FORMOTEROL FUMARATE DIHYDRAT","HAYA*","31.03.2021","MG/EXP1",42,"MG/EXP1-BOX6-009",null,0,null,null,2467.1,"BIOPHARM SPA","-",null,{"$f":"SUMIF(Tableau1[Description article],Tableau1[Produits],Tableau1[Emplacement])","v":0},null,{"$f":"Sheet1!$S1500-Sheet1!$R1500","v":0},"-","-","-",{"$f":"IFERROR(Tableau1[[#This Row],[THEO]]-Tableau1[[#This Row],[Qtt 2éme lot]],\"-\")","v":"-"},"-",{"$f":"IF(Tableau1[[#This Row],[2éme lot]]=\"-\",\"-\",IFERROR(IF(Q1500=\"\",\"-\",INDEX(I:I,MATCH(Q1500,C:C,0)+1)),\"-\"))","v":"-"},"-","-"]
[2653,"MD001810","SYMBICORT TURBUHALER 100PG/6PG/DSE. PDRE.P.INHAL. FL/120 DSE.","BUDESONIDE/ FORMOTEROL FUMARATE DIHYDRAT","HAYA","31.03.2021","MG/EXP1",61,"MG/EXP1-BOX6-009",null,0,null,null,2467.1,"BIOPHARM SPA","-",null,{"$f":"SUMIF(Tableau1[Description article],Tableau1[Produits],Tableau1[Emplacement])","v":0},null,{"$f":"Sheet1!$S1501-Sheet1!$R1501","v":0},"-","-","-",{"$f":"IFERROR(Tableau1[[#This Row],[THEO]]-Tableau1[[#This Row],[Qtt 2éme lot]],\"-\")","v":"-"},"-",{"$f":"IF(Tableau1[[#This Row],[2éme lot]]=\"-\",\"-\",IFERROR(IF(Q1501=\"\",\"-\",INDEX(I:I,MATCH(Q1501,C:C,0)+1)),\"-\"))","v":"-"},"-","-"]
[2657,"MD001811","SYMBICORT TURBUHALER 200PG/6PG/DSE. PDRE.P.INHAL. FL/120 DSE.","BUDESONIDE/ FORMOTEROL FUMARATE DIHYDRAT","SKSV","30.06.2021","MG/EXP1",113,"MG/EXP1-BOX6-009",null,0,null,null,2596.7,"BIOPHARM SPA","-",null,{"$f":"SUMIF(Tableau1[Description article],Tableau1[Produits],Tableau1[Emplacement])","v":0},null,{"$f":"Sheet1!$S1502-Sheet1!$R1502","v":0},"-","-","-",{"$f":"IFERROR(Tableau1[[#This Row],[THEO]]-Tableau1[[#This Row],[Qtt 2éme lot]],\"-\")","v":"-"},"-",{"$f":"IF(Tableau1[[#This Row],[2éme lot]]=\"-\",\"-\",IFERROR(IF(Q1502=\"\",\"-\",INDEX(I:I,MATCH(Q1502,C:C,0)+1)),\"-\"))","v":"-"},"-","-"]
[2658,"MD001812","SYMBICORT TURBUHALER 400PG/12PG/DSE. PDRE.P.INHAL. FL/60 DSE.","BUDESONIDE/ FORMOTEROL FUMARATE DIHYDRAT","PGGV","01.09.2021","MG/EXP1",531,"MG/EXP1-BOX6-026",null,0,null,null,2596.7,"BIOPHARM SPA","-",null,{"$f":"SUMIF(Tableau1[Description article],Tableau1[Produits],Tableau1[Emplacement])","v":0},null,{"$f":"Sheet1!$S1503-Sheet1!$R1503","v":0},"-","-","-",{"$f":"IFERROR(Tableau1[[#This Row],[THEO]]-Tableau1[[#This Row],[Qtt 2éme lot]],\"-\")","v":"-"},"-",{"$f":"IF(Tableau1[[#This Row],[2éme lot]]=\"-\",\"-\",IFERROR(IF(Q1503=\"\",\"-\",INDEX(I:I,MATCH(Q1503,C:C,0)+1)),\"-\"))","v":"-"},"-","-"]
[2660,"MD001815","SYNOSIA 10MG COMP.PELLI. B/30","DONEPEZIL","015","01.03.2022","MG/EXP1",17,"MG/EXP1-BOX6-PSY-012",null,0,null,"CHER",4347.5,"BIOPHARM SPA","-",null,{"$f":"SUMIF(Tableau1[Description article],Tableau1[Produits],Tableau1[Emplacement])","v":0},null,{"$f":"Sheet1!$S1504-Sheet1!$R1504","v":0},"-","-","-",{"$f":"IFERROR(Tableau1[[#This Row],[THEO]]-Tableau1[[#This Row],[Qtt 2éme lot]],\"-\")","v":"-"},"-",{"$f":"IF(Tableau1[[#This Row],[2éme lot]]=\"-\",\"-\",IFERROR(IF(Q1504=\"\",\"-\",INDEX(I:I,MATCH(Q1504,C:C,0)+1)),\"-\"))","v":"-"},"-","-"]
[2663,"MD001817","TABETA 0,1% PDE.DERM. T/15G","BETAMETHASONE","190869","01.04.2022","MG/EXP1",144,"MG/EXP1-F-046",null,0,null,null,137.5,"EL KENDI INDUSTRIE DE MEDICAMENTS SPA","-",null,{"$f":"SUMIF(Tableau1[Description article],Tableau1[Produits],Tableau1[Emplacement])","v":0},null,{"$f":"Sheet1!$S1505-Sheet1!$R1505","v":0},"-","-","-",{"$f":"IFERROR(Tableau1[[#This Row],[THEO]]-Tableau1[[#This Row],[Qtt 2éme lot]],\"-\")","v":"-"},"-",{"$f":"IF(Tableau1[[#This Row],[2éme lot]]=\"-\",\"-\",IFERROR(IF(Q1505=\"\",\"-\",INDEX(I:I,MATCH(Q1505,C:C,0)+1)),\"-\"))","v":"-"},"-","-"]
[2664,"MD001818","TABETA 0,5MG/ML SOL.BUV.GTTES. F/30ML + PIPT.GRAD.","BETAMETHASONE","190522","01.02.2022","MG/EXP1",283,"MG/EXP1-B-012",null,0,null,null,122.36,"EL KENDI INDUSTRIE DE MEDICAMENTS SPA","-",null,{"$f":"SUMIF(Tableau1[Description article],Tableau1[Produits],Tableau1[Emplacement])","v":0},null,{"$f":"Sheet1!$S1506-Sheet1!$R1506","v":0},"-","-","-",{"$f":"IFERROR(Tableau1[[#This Row],[THEO]]-Tableau1[[#This Row],[Qtt 2éme lot]],\"-\")","v":"-"},"-",{"$f":"IF(Tableau1[[#This Row],[2éme lot]]=\"-\",\"-\",IFERROR(IF(Q1506=\"\",\"-\",INDEX(I:I,MATCH(Q1506,C:C,0)+1)),\"-\"))","v":"-"},"-","-"]
[2666,"MD003583","TABICLOR 125MG/5ML SUSP.BUV. FL/75ML","CEFACLOR","9AM120","01.03.2021","MG/EXP1",27,"MG/EXP1-E-036",null,0,null,null,430.66,"GB PHARMA SARL","-",null,{"$f":"SUMIF(Tableau1[Description article],Tableau1[Produits],Tableau1[Emplacement])","v":0},null,{"$f":"Sheet1!$S1507-Sheet1!$R1507","v":0},"-","-","-",{"$f":"IFERROR(Tableau1[[#This Row],[THEO]]-Tableau1[[#This Row],[Qtt 2éme lot]],\"-\")","v":"-"},"-",{"$f":"IF(Tableau1[[#This Row],[2éme lot]]=\"-\",\"-\",IFERROR(IF(Q1507=\"\",\"-\",INDEX(I:I,MATCH(Q1507,C:C,0)+1)),\"-\"))","v":"-"},"-","-"]
[2668,"MD001819","TABICLOR 250MG/5ML SUSP.BUV. FL/75ML","CEFACLOR","9CV297","01.03.2021","MG/EXP1",140,"MG/EXP1-A-032",null,0,null,null,627.11,"LDM LABORATOIRES DE DIAGNOSTIC MAGHREBINS","-",null,{"$f":"SUMIF(Tableau1[Description article],Tableau1[Produits],Tableau1[Emplacement])","v":0},null,{"$f":"Sheet1!$S1508-Sheet1!$R1508","v":0},"-","-","-",{"$f":"IFERROR(Tableau1[[#This Row],[THEO]]-Tableau1[[#This Row],[Qtt 2éme lot]],\"-\")","v":"-"},"-",{"$f":"IF(Tableau1[[#This Row],[2éme lot]]=\"-\",\"-\",IFERROR(IF(Q1508=\"\",\"-\",INDEX(I:I,MATCH(Q1508,C:C,0)+1)),\"-\"))","v":"-"},"-","-"]
[2670,"MD001821","TABIFLEX COOL 0,01 GEL EMULS.DERM. T/50G","DICLOFENAC","192242","01.10.2022","MG/EXP1",429,"MG/EXP1-G-008",null,0,null,null,168,"EL KENDI INDUSTRIE DE MEDICAMENTS SPA","-",null,{"$f":"SUMIF(Tableau1[Description article],Tableau1[Produits],Tableau1[Emplacement])","v":0},null,{"$f":"Sheet1!$S1509-Sheet1!$R1509","v":0},"-","-","-",{"$f":"IFERROR(Tableau1[[#This Row],[THEO]]-Tableau1[[#This Row],[Qtt 2éme lot]],\"-\")","v":"-"},"-",{"$f":"IF(Tableau1[[#This Row],[2éme lot]]=\"-\",\"-\",IFERROR(IF(Q1509=\"\",\"-\",INDEX(I:I,MATCH(Q1509,C:C,0)+1)),\"-\"))","v":"-"},"-","-"]
[2673,"MD001822","TADALIS 20MG COMP.PELLI.SEC. B/02","TADALAFIL","069619","01.07.2022","MG/EXP1",223,"MG/EXP1-BOX6-009",null,0,null,null,605.73,"BEKER LABORATOIRES","-",null,{"$f":"SUMIF(Tableau1[Description article],Tableau1[Produits],Tableau1[Emplacement])","v":0},null,{"$f":"Sheet1!$S1510-Sheet1!$R1510","v":0},"-","-","-",{"$f":"IFERROR(Tableau1[[#This Row],[THEO]]-Tableau1[[#This Row],[Qtt 2éme lot]],\"-\")","v":"-"},"-",{"$f":"IF(Tableau1[[#This Row],[2éme lot]]=\"-\",\"-\",IFERROR(IF(Q1510=\"\",\"-\",INDEX(I:I,MATCH(Q1510,C:C,0)+1)),\"-\"))","v":"-"},"-","-"]
[2675,"MD001823","TADALIS 20MG COMP.PELLI.SEC. B/08","TADALAFIL","087819","01.10.2022","MG/EXP1",63,"MG/EXP1-BOX6-009",null,0,null,null,2085.98,"BEKER LABORATOIRES","-",null,{"$f":"SUMIF(Tableau1[Description article],Tableau1[Produits],Tableau1[Emplacement])","v":0},null,{"$f":"Sheet1!$S1511-Sheet1!$R1511","v":0},"-","-","-",{"$f":"IFERROR(Tableau1[[#This Row],[THEO]]-Tableau1[[#This Row],[Qtt 2éme lot]],\"-\")","v":"-"},"-",{"$f":"IF(Tableau1[[#This Row],[2éme lot]]=\"-\",\"-\",IFERROR(IF(Q1511=\"\",\"-\",INDEX(I:I,MATCH(Q1511,C:C,0)+1)),\"-\"))","v":"-"},"-","-"]
[2677,"MD001823","TADALIS 20MG COMP.PELLI.SEC. B/08","TADALAFIL","005719","01.01.2022","MG/EXP1",2,"MG/EXP1-BOX6-009",null,0,null,null,2085.98,"BEKER LABORATOIRES","-",null,{"$f":"SUMIF(Tableau1[Description article],Tableau1[Produits],Tableau1[Emplacement])","v":0},null,{"$f":"Sheet1!$S1512-Sheet1!$R1512","v":0},"-","-","-",{"$f":"IFERROR(Tableau1[[#This Row],[THEO]]-Tableau1[[#This Row],[Qtt 2éme lot]],\"-\")","v":"-"},"-",{"$f":"IF(Tableau1[[#This Row],[2éme lot]]=\"-\",\"-\",IFERROR(IF(Q1512=\"\",\"-\",INDEX(I:I,MATCH(Q1512,C:C,0)+1)),\"-\"))","v":"-"},"-","-"]
[2678,"MD002322","TADALIS 5MG COMP.PELLI. B/30","TADALAFIL","076219","01.07.2021","MG/EXP1",67,"MG/EXP1-BOX6-009",null,0,null,null,1497.5,"BEKER LABORATOIRES","-",null,{"$f":"SUMIF(Tableau1[Description article],Tableau1[Produits],Tableau1[Emplacement])","v":0},null,{"$f":"Sheet1!$S1513-Sheet1!$R1513","v":0},"-","-","-",{"$f":"IFERROR(Tableau1[[#This Row],[THEO]]-Tableau1[[#This Row],[Qtt 2éme lot]],\"-\")","v":"-"},"-",{"$f":"IF(Tableau1[[#This Row],[2éme lot]]=\"-\",\"-\",IFERROR(IF(Q1513=\"\",\"-\",INDEX(I:I,MATCH(Q1513,C:C,0)+1)),\"-\"))","v":"-"},"-","-"]
[2680,"MD001824","TAHOR 10MG COMP.PELLI. B/28","ATORVASTATINE","19623712","30.09.2022","MG/EXP1",201,"MG/EXP1-C-067",null,0,null,null,779.26,"PFIZER PHARM ALGERIE SPA","-",null,{"$f":"SUMIF(Tableau1[Description article],Tableau1[Produits],Tableau1[Emplacement])","v":0},null,{"$f":"Sheet1!$S1514-Sheet1!$R1514","v":0},"-","-","-",{"$f":"IFERROR(Tableau1[[#This Row],[THEO]]-Tableau1[[#This Row],[Qtt 2éme lot]],\"-\")","v":"-"},"-",{"$f":"IF(Tableau1[[#This Row],[2éme lot]]=\"-\",\"-\",IFERROR(IF(Q1514=\"\",\"-\",INDEX(I:I,MATCH(Q1514,C:C,0)+1)),\"-\"))","v":"-"},"-","-"]
[2684,"MD001825","TAHOR 20MG COMP.PELLI. B/28","ATORVASTATINE","19623820","01.08.2022","MG/EXP1",14,"MG/EXP1-BOX6-005",null,0,null,null,1161.74,"PFIZER PHARM ALGERIE SPA","-",null,{"$f":"SUMIF(Tableau1[Description article],Tableau1[Produits],Tableau1[Emplacement])","v":0},null,{"$f":"Sheet1!$S1515-Sheet1!$R1515","v":0},"-","-","-",{"$f":"IFERROR(Tableau1[[#This Row],[THEO]]-Tableau1[[#This Row],[Qtt 2éme lot]],\"-\")","v":"-"},"-",{"$f":"IF(Tableau1[[#This Row],[2éme lot]]=\"-\",\"-\",IFERROR(IF(Q1515=\"\",\"-\",INDEX(I:I,MATCH(Q1515,C:C,0)+1)),\"-\"))","v":"-"},"-","-"]
[2687,"MD001826","TAHOR 40MG COMP.PELLI. B/28","ATORVASTATINE","19623925","31.08.2022","MG/EXP1",57,"MG/EXP1-B-030",null,0,null,null,1845.5,"PFIZER PHARM ALGERIE SPA","-",null,{"$f":"SUMIF(Tableau1[Description article],Tableau1[Produits],Tableau1[Emplacement])","v":0},null,{"$f":"Sheet1!$S1516-Sheet1!$R1516","v":0},"-","-","-",{"$f":"IFERROR(Tableau1[[#This Row],[THEO]]-Tableau1[[#This Row],[Qtt 2éme lot]],\"-\")","v":"-"},"-",{"$f":"IF(Tableau1[[#This Row],[2éme lot]]=\"-\",\"-\",IFERROR(IF(Q1516=\"\",\"-\",INDEX(I:I,MATCH(Q1516,C:C,0)+1)),\"-\"))","v":"-"},"-","-"]
[2688,"MD001827","TALOPREX 10MG COMP.PELLI. B/30","ESCITALOPRAM","192513","01.11.2022","MG/EXP1",271,"MG/EXP1-BOX6-022",null,0,null,null,388.4,"EL KENDI INDUSTRIE DE MEDICAMENTS SPA","-",null,{"$f":"SUMIF(Tableau1[Description article],Tableau1[Produits],Tableau1[Emplacement])","v":0},null,{"$f":"Sheet1!$S1517-Sheet1!$R1517","v":0},"-","-","-",{"$f":"IFERROR(Tableau1[[#This Row],[THEO]]-Tableau1[[#This Row],[Qtt 2éme lot]],\"-\")","v":"-"},"-",{"$f":"IF(Tableau1[[#This Row],[2éme lot]]=\"-\",\"-\",IFERROR(IF(Q1517=\"\",\"-\",INDEX(I:I,MATCH(Q1517,C:C,0)+1)),\"-\"))","v":"-"},"-","-"]
[2690,"PP00263","TAMOLIN POMMADE .T/45G",null,"10DL","01.06.2021","MG/EXP1",58,"MG/EXP1-E-027",null,0,null,null,1222.96,"DAR AL DAWA SARL","-",null,{"$f":"SUMIF(Tableau1[Description article],Tableau1[Produits],Tableau1[Emplacement])","v":0},null,{"$f":"Sheet1!$S1518-Sheet1!$R1518","v":0},"-","-","-",{"$f":"IFERROR(Tableau1[[#This Row],[THEO]]-Tableau1[[#This Row],[Qtt 2éme lot]],\"-\")","v":"-"},"-",{"$f":"IF(Tableau1[[#This Row],[2éme lot]]=\"-\",\"-\",IFERROR(IF(Q1518=\"\",\"-\",INDEX(I:I,MATCH(Q1518,C:C,0)+1)),\"-\"))","v":"-"},"-","-"]
[2691,"MD001828","TAMOXIFEN SANDOZ 20MG B/30 CP(nolvadex)","TAMOXIFENE CITRATE","JN5411","30.06.2022","MG/EXP1",50,"MG/EXP1-A-005",null,0,null,null,927.28,"SANDOZ SPA","-",null,{"$f":"SUMIF(Tableau1[Description article],Tableau1[Produits],Tableau1[Emplacement])","v":0},null,{"$f":"Sheet1!$S1519-Sheet1!$R1519","v":0},"-","-","-",{"$f":"IFERROR(Tableau1[[#This Row],[THEO]]-Tableau1[[#This Row],[Qtt 2éme lot]],\"-\")","v":"-"},"-",{"$f":"IF(Tableau1[[#This Row],[2éme lot]]=\"-\",\"-\",IFERROR(IF(Q1519=\"\",\"-\",INDEX(I:I,MATCH(Q1519,C:C,0)+1)),\"-\"))","v":"-"},"-","-"]
[2692,"MD001831","TAMSULOSINE BEKER 0,4MG GLES. A MICROGRAN.LP. B/30","TAMSULOSINE","029419","01.12.2020","MG/EXP1",304,"MG/EXP1-BOX6-009",null,0,null,null,1497.5,"BEKER LABORATOIRES","-",null,{"$f":"SUMIF(Tableau1[Description article],Tableau1[Produits],Tableau1[Emplacement])","v":0},null,{"$f":"Sheet1!$S1520-Sheet1!$R1520","v":0},"-","-","-",{"$f":"IFERROR(Tableau1[[#This Row],[THEO]]-Tableau1[[#This Row],[Qtt 2éme lot]],\"-\")","v":"-"},"-",{"$f":"IF(Tableau1[[#This Row],[2éme lot]]=\"-\",\"-\",IFERROR(IF(Q1520=\"\",\"-\",INDEX(I:I,MATCH(Q1520,C:C,0)+1)),\"-\"))","v":"-"},"-","-"]
[2695,"MD001833","TAMSUMED LP 0,4MG GLES. A MICROGRAN.LP. B/30","TAMSULOSINE","V003","01.11.2021","MG/EXP1",220,"MG/EXP1-BOX6-009",null,0,null,null,1497.5,"ABDI IBRAHIM REMED PHARMA SPA","-",null,{"$f":"SUMIF(Tableau1[Description article],Tableau1[Produits],Tableau1[Emplacement])","v":0},null,{"$f":"Sheet1!$S1521-Sheet1!$R1521","v":0},"-","-","-",{"$f":"IFERROR(Tableau1[[#This Row],[THEO]]-Tableau1[[#This Row],[Qtt 2éme lot]],\"-\")","v":"-"},"-",{"$f":"IF(Tableau1[[#This Row],[2éme lot]]=\"-\",\"-\",IFERROR(IF(Q1521=\"\",\"-\",INDEX(I:I,MATCH(Q1521,C:C,0)+1)),\"-\"))","v":"-"},"-","-"]
[2696,"MD002181","TANATRIL 1,25MG COMP. B/30","RAMIPRIL","002/19","01.02.2021","MG/EXP1",113,"MG/EXP1-F-057",null,0,null,null,179.37,"PHARMALLIANCE EURL","-",null,{"$f":"SUMIF(Tableau1[Description article],Tableau1[Produits],Tableau1[Emplacement])","v":0},null,{"$f":"Sheet1!$S1522-Sheet1!$R1522","v":0},"-","-","-",{"$f":"IFERROR(Tableau1[[#This Row],[THEO]]-Tableau1[[#This Row],[Qtt 2éme lot]],\"-\")","v":"-"},"-",{"$f":"IF(Tableau1[[#This Row],[2éme lot]]=\"-\",\"-\",IFERROR(IF(Q1522=\"\",\"-\",INDEX(I:I,MATCH(Q1522,C:C,0)+1)),\"-\"))","v":"-"},"-","-"]
[2697,"MD004189","TANATRIL 10MG COMP.SEC.B/30","RAMIPRIL","001/19","01.01.2021","MG/EXP1",70,"MG/EXP1-B-019",null,0,null,null,1042.67,"PHARMALLIANCE EURL","-",null,{"$f":"SUMIF(Tableau1[Description article],Tableau1[Produits],Tableau1[Emplacement])","v":0},null,{"$f":"Sheet1!$S1523-Sheet1!$R1523","v":0},"-","-","-",{"$f":"IFERROR(Tableau1[[#This Row],[THEO]]-Tableau1[[#This Row],[Qtt 2éme lot]],\"-\")","v":"-"},"-",{"$f":"IF(Tableau1[[#This Row],[2éme lot]]=\"-\",\"-\",IFERROR(IF(Q1523=\"\",\"-\",INDEX(I:I,MATCH(Q1523,C:C,0)+1)),\"-\"))","v":"-"},"-","-"]
[2698,"MD004188","TANATRIL 2.5MG COMP.SEC.B/30","RAMIPRIL","001/19","01.01.2021","MG/EXP1",9,"MG/EXP1-A-015",null,0,null,null,547.51,"PHARMALLIANCE EURL","-",null,{"$f":"SUMIF(Tableau1[Description article],Tableau1[Produits],Tableau1[Emplacement])","v":0},null,{"$f":"Sheet1!$S1524-Sheet1!$R1524","v":0},"-","-","-",{"$f":"IFERROR(Tableau1[[#This Row],[THEO]]-Tableau1[[#This Row],[Qtt 2éme lot]],\"-\")","v":"-"},"-",{"$f":"IF(Tableau1[[#This Row],[2éme lot]]=\"-\",\"-\",IFERROR(IF(Q1524=\"\",\"-\",INDEX(I:I,MATCH(Q1524,C:C,0)+1)),\"-\"))","v":"-"},"-","-"]
[2700,"MD002180","TANATRIL 5MG COMP.SEC. B/30","RAMIPRIL","001/19","01.02.2021","MG/EXP1",76,"MG/EXP1-G-035",null,0,null,null,802.55,"PHARMALLIANCE EURL","-",null,{"$f":"SUMIF(Tableau1[Description article],Tableau1[Produits],Tableau1[Emplacement])","v":0},null,{"$f":"Sheet1!$S1525-Sheet1!$R1525","v":0},"-","-","-",{"$f":"IFERROR(Tableau1[[#This Row],[THEO]]-Tableau1[[#This Row],[Qtt 2éme lot]],\"-\")","v":"-"},"-",{"$f":"IF(Tableau1[[#This Row],[2éme lot]]=\"-\",\"-\",IFERROR(IF(Q1525=\"\",\"-\",INDEX(I:I,MATCH(Q1525,C:C,0)+1)),\"-\"))","v":"-"},"-","-"]
[2701,"MD002180","TANATRIL 5MG COMP.SEC. B/30","RAMIPRIL","002/18","01.12.2020","MG/EXP1",4,"MG/EXP1-G-042",null,0,null,null,802.55,"PHARMALLIANCE EURL","-",null,{"$f":"SUMIF(Tableau1[Description article],Tableau1[Produits],Tableau1[Emplacement])","v":0},null,{"$f":"Sheet1!$S1526-Sheet1!$R1526","v":0},"-","-","-",{"$f":"IFERROR(Tableau1[[#This Row],[THEO]]-Tableau1[[#This Row],[Qtt 2éme lot]],\"-\")","v":"-"},"-",{"$f":"IF(Tableau1[[#This Row],[2éme lot]]=\"-\",\"-\",IFERROR(IF(Q1526=\"\",\"-\",INDEX(I:I,MATCH(Q1526,C:C,0)+1)),\"-\"))","v":"-"},"-","-"]
[2702,"MD004190","TANATRIL+ 5MG/12,5MG COMP. B/30","RAMIPRIL / HYDROCHLORTHIAZID","001/19","01.01.2021","MG/EXP1",115,"MG/EXP1-C-022",null,0,null,null,1029.6,"PHARMALLIANCE EURL","-",null,{"$f":"SUMIF(Tableau1[Description article],Tableau1[Produits],Tableau1[Emplacement])","v":0},null,{"$f":"Sheet1!$S1527-Sheet1!$R1527","v":0},"-","-","-",{"$f":"IFERROR(Tableau1[[#This Row],[THEO]]-Tableau1[[#This Row],[Qtt 2éme lot]],\"-\")","v":"-"},"-",{"$f":"IF(Tableau1[[#This Row],[2éme lot]]=\"-\",\"-\",IFERROR(IF(Q1527=\"\",\"-\",INDEX(I:I,MATCH(Q1527,C:C,0)+1)),\"-\"))","v":"-"},"-","-"]
[2703,"MD001835","TANGANIL 500MG COMP. B/30","ACETYL DL LEUCINE","G01630","01.09.2022","MG/EXP1",237,"MG/EXP1-D-004",null,0,null,null,358.85,"BIOPHARM SPA","-",null,{"$f":"SUMIF(Tableau1[Description article],Tableau1[Produits],Tableau1[Emplacement])","v":0},null,{"$f":"Sheet1!$S1528-Sheet1!$R1528","v":0},"-","-","-",{"$f":"IFERROR(Tableau1[[#This Row],[THEO]]-Tableau1[[#This Row],[Qtt 2éme lot]],\"-\")","v":"-"},"-",{"$f":"IF(Tableau1[[#This Row],[2éme lot]]=\"-\",\"-\",IFERROR(IF(Q1528=\"\",\"-\",INDEX(I:I,MATCH(Q1528,C:C,0)+1)),\"-\"))","v":"-"},"-","-"]
[2705,"MD001835","TANGANIL 500MG COMP. B/30","ACETYL DL LEUCINE","G01644","01.10.2022","MG/EXP1",5,"MG/EXP1-F-001",null,0,null,null,359.41,"BIOPHARM SPA","-",null,{"$f":"SUMIF(Tableau1[Description article],Tableau1[Produits],Tableau1[Emplacement])","v":0},null,{"$f":"Sheet1!$S1529-Sheet1!$R1529","v":0},"-","-","-",{"$f":"IFERROR(Tableau1[[#This Row],[THEO]]-Tableau1[[#This Row],[Qtt 2éme lot]],\"-\")","v":"-"},"-",{"$f":"IF(Tableau1[[#This Row],[2éme lot]]=\"-\",\"-\",IFERROR(IF(Q1529=\"\",\"-\",INDEX(I:I,MATCH(Q1529,C:C,0)+1)),\"-\"))","v":"-"},"-","-"]
[2706,"MD001840","TARDYFERON 80MG COMP.ENRO. B/30","FER FERREUX","G04400","30.04.2022","MG/EXP1",35,"MG/EXP1-A-011",null,0,null,null,284.75,"BIOPHARM SPA","-",null,{"$f":"SUMIF(Tableau1[Description article],Tableau1[Produits],Tableau1[Emplacement])","v":0},null,{"$f":"Sheet1!$S1530-Sheet1!$R1530","v":0},"-","-","-",{"$f":"IFERROR(Tableau1[[#This Row],[THEO]]-Tableau1[[#This Row],[Qtt 2éme lot]],\"-\")","v":"-"},"-",{"$f":"IF(Tableau1[[#This Row],[2éme lot]]=\"-\",\"-\",IFERROR(IF(Q1530=\"\",\"-\",INDEX(I:I,MATCH(Q1530,C:C,0)+1)),\"-\"))","v":"-"},"-","-"]
[2710,"MD001842","TAREG 160MG COMP.PELLI. B/28","VALSARTAN","142071","01.02.2022","MG/EXP1",41,"MG/EXP1-B-035",null,0,null,null,1285.5,"BIOPHARM SPA","-",null,{"$f":"SUMIF(Tableau1[Description article],Tableau1[Produits],Tableau1[Emplacement])","v":0},null,{"$f":"Sheet1!$S1531-Sheet1!$R1531","v":0},"-","-","-",{"$f":"IFERROR(Tableau1[[#This Row],[THEO]]-Tableau1[[#This Row],[Qtt 2éme lot]],\"-\")","v":"-"},"-",{"$f":"IF(Tableau1[[#This Row],[2éme lot]]=\"-\",\"-\",IFERROR(IF(Q1531=\"\",\"-\",INDEX(I:I,MATCH(Q1531,C:C,0)+1)),\"-\"))","v":"-"},"-","-"]
[2713,"MD001843","TAREG 80MG COMP.PELLI. B/28","VALSARTAN","135062","01.01.2022","MG/EXP1",27,"MG/EXP1-BOX6-009",null,0,null,null,1285.5,"AT PHARMA SPA","-",null,{"$f":"SUMIF(Tableau1[Description article],Tableau1[Produits],Tableau1[Emplacement])","v":0},null,{"$f":"Sheet1!$S1532-Sheet1!$R1532","v":0},"-","-","-",{"$f":"IFERROR(Tableau1[[#This Row],[THEO]]-Tableau1[[#This Row],[Qtt 2éme lot]],\"-\")","v":"-"},"-",{"$f":"IF(Tableau1[[#This Row],[2éme lot]]=\"-\",\"-\",IFERROR(IF(Q1532=\"\",\"-\",INDEX(I:I,MATCH(Q1532,C:C,0)+1)),\"-\"))","v":"-"},"-","-"]
[2716,"MD004193","TAUBRIGENE 0,3%/0,1% COLLY.SUSP. FL/5ML","TOBRAMYCINE 0.3% / DEXAMETHASONE 0.1 %","0011*","30.07.2021","MG/EXP1",92,"MG/EXP1-B-035",null,0,null,null,387.92,"GENERICLAB SARL","-",null,{"$f":"SUMIF(Tableau1[Description article],Tableau1[Produits],Tableau1[Emplacement])","v":0},null,{"$f":"Sheet1!$S1533-Sheet1!$R1533","v":0},"-","-","-",{"$f":"IFERROR(Tableau1[[#This Row],[THEO]]-Tableau1[[#This Row],[Qtt 2éme lot]],\"-\")","v":"-"},"-",{"$f":"IF(Tableau1[[#This Row],[2éme lot]]=\"-\",\"-\",IFERROR(IF(Q1533=\"\",\"-\",INDEX(I:I,MATCH(Q1533,C:C,0)+1)),\"-\"))","v":"-"},"-","-"]
[2717,"MD001846","TEGRETOL 200MG COMP.SEC. B/50","CARBAMAZEPINE","JT9308","01.04.2021","MG/EXP1",84,"MG/EXP1-BOX6-PSY-013",null,0,null,null,433.5,"SANDOZ SPA","-",null,{"$f":"SUMIF(Tableau1[Description article],Tableau1[Produits],Tableau1[Emplacement])","v":0},null,{"$f":"Sheet1!$S1534-Sheet1!$R1534","v":0},"-","-","-",{"$f":"IFERROR(Tableau1[[#This Row],[THEO]]-Tableau1[[#This Row],[Qtt 2éme lot]],\"-\")","v":"-"},"-",{"$f":"IF(Tableau1[[#This Row],[2éme lot]]=\"-\",\"-\",IFERROR(IF(Q1534=\"\",\"-\",INDEX(I:I,MATCH(Q1534,C:C,0)+1)),\"-\"))","v":"-"},"-","-"]
[2719,"MD001848","TELEBRIX 35 650,9MG/96,6MG/ML (I=350MG/ML) SOL.INJ. FL/100ML","LOXITALAMATE DE MEGLUMINE","17TT009A01*","01.11.2020","MG/EXP1",46,"MG/EXP1-B-021",null,0,null,null,1835.25,"DIMED SARL","-",null,{"$f":"SUMIF(Tableau1[Description article],Tableau1[Produits],Tableau1[Emplacement])","v":0},null,{"$f":"Sheet1!$S1535-Sheet1!$R1535","v":0},"-","-","-",{"$f":"IFERROR(Tableau1[[#This Row],[THEO]]-Tableau1[[#This Row],[Qtt 2éme lot]],\"-\")","v":"-"},"-",{"$f":"IF(Tableau1[[#This Row],[2éme lot]]=\"-\",\"-\",IFERROR(IF(Q1535=\"\",\"-\",INDEX(I:I,MATCH(Q1535,C:C,0)+1)),\"-\"))","v":"-"},"-","-"]
[2721,"MD001850","TELFAST 120MG COMP.PELLI. B/15","FEXOFENADINE","TE014A","01.12.2021","MG/EXP1",201,"MG/EXP1-A-043",null,0,null,null,226.5,"SANOFI AVENTIS ALGERIE SPA","-",null,{"$f":"SUMIF(Tableau1[Description article],Tableau1[Produits],Tableau1[Emplacement])","v":0},null,{"$f":"Sheet1!$S1536-Sheet1!$R1536","v":0},"-","-","-",{"$f":"IFERROR(Tableau1[[#This Row],[THEO]]-Tableau1[[#This Row],[Qtt 2éme lot]],\"-\")","v":"-"},"-",{"$f":"IF(Tableau1[[#This Row],[2éme lot]]=\"-\",\"-\",IFERROR(IF(Q1536=\"\",\"-\",INDEX(I:I,MATCH(Q1536,C:C,0)+1)),\"-\"))","v":"-"},"-","-"]
[2723,"MD001851","TELFAST 180MG COMP.PELLI. B/15","FEXOFENADINE","TL021A","01.12.2021","MG/EXP1",187,"MG/EXP1-D-021",null,0,null,null,267.45,"SANOFI AVENTIS ALGERIE SPA","-",null,{"$f":"SUMIF(Tableau1[Description article],Tableau1[Produits],Tableau1[Emplacement])","v":0},null,{"$f":"Sheet1!$S1537-Sheet1!$R1537","v":0},"-","-","-",{"$f":"IFERROR(Tableau1[[#This Row],[THEO]]-Tableau1[[#This Row],[Qtt 2éme lot]],\"-\")","v":"-"},"-",{"$f":"IF(Tableau1[[#This Row],[2éme lot]]=\"-\",\"-\",IFERROR(IF(Q1537=\"\",\"-\",INDEX(I:I,MATCH(Q1537,C:C,0)+1)),\"-\"))","v":"-"},"-","-"]
[2725,"MD003600","TELMIDIS 40MG COMP. B/30","TELMISARTAN","013","01.05.2020","MG/EXP1",211,"MG/EXP1-G-024",null,0,null,null,1287.5,"PROVIVO SPA",{"$f":"IFERROR(IF(Q1538=\"\",\"-\",INDEX(I:I,MATCH(Q1538,C:C,0))),\"-\")","v":"-"},null,{"$f":"SUMIF(Tableau1[Description article],Tableau1[Produits],Tableau1[Emplacement])","v":0},null,{"$f":"Sheet1!$S1538-Sheet1!$R1538","v":0},{"$f":"IFERROR(IF(Q1538=\"\",\"-\",INDEX(F:F,MATCH(Q1538,C:C,0))),\"-\")","v":"-"},{"$f":"IFERROR(IF(Q1538=\"\",\"-\",INDEX(E:E,MATCH(Q1538,C:C,0))),\"-\")","v":"-"},{"$f":"IFERROR(IF(Q1538=\"\",\"-\",INDEX(N:N,MATCH(Q1538,C:C,0))),\"-\")","v":"-"},{"$f":"IFERROR(Tableau1[[#This Row],[THEO]]-Tableau1[[#This Row],[Qtt 2éme lot]],\"-\")","v":"-"},{"$f":"IF(IF(Q1538=\"\",\"-\",INDEX(E:E,MATCH(Q1538,C:C,0)))=IF(Q1538=\"\",\"-\",INDEX(E:E,MATCH(Q1538,C:C,1))),\"-\",IF(Q1538=\"\",\"-\",INDEX(E:E,MATCH(Q1538,C:C,1))))","v":"-"},{"$f":"IF(Tableau1[[#This Row],[2éme lot]]=\"-\",\"-\",IFERROR(IF(Q1538=\"\",\"-\",INDEX(I:I,MATCH(Q1538,C:C,0)+1)),\"-\"))","v":"-"},{"$f":"IFERROR(IF(Y1538=\"\",\"-\",INDEX(N:N,MATCH(Y1538,E:E,0))),\"-\")","v":"-"},{"$f":"IFERROR(IF(AA1538=\"\",\"-\",INDEX(H:H,MATCH(Y1538,E:E,0))),\"-\")","v":"-"}]
[2728,"MD001852","TELMIDIS 80MG COMP. B/30","TELMISARTAN","015","01.08.2020","MG/EXP1",42,"MG/EXP1-C-071",null,0,null,null,1287.5,"PROVIVO SPA","-",null,{"$f":"SUMIF(Tableau1[Description article],Tableau1[Produits],Tableau1[Emplacement])","v":0},null,{"$f":"Sheet1!$S1539-Sheet1!$R1539","v":0},"-","-","-",{"$f":"IFERROR(Tableau1[[#This Row],[THEO]]-Tableau1[[#This Row],[Qtt 2éme lot]],\"-\")","v":"-"},"-",{"$f":"IF(Tableau1[[#This Row],[2éme lot]]=\"-\",\"-\",IFERROR(IF(Q1539=\"\",\"-\",INDEX(I:I,MATCH(Q1539,C:C,0)+1)),\"-\"))","v":"-"},"-","-"]
[2731,"MD001854","TELMISARTE + 40mg/12.5mg Bte /30 Comp.","TELMISARTAN","010/19","01.05.2021","MG/EXP1",53,"MG/EXP1-D-029",null,0,null,null,1074.48,"PHARMALLIANCE EURL","-",null,{"$f":"SUMIF(Tableau1[Description article],Tableau1[Produits],Tableau1[Emplacement])","v":0},null,{"$f":"Sheet1!$S1540-Sheet1!$R1540","v":0},"-","-","-",{"$f":"IFERROR(Tableau1[[#This Row],[THEO]]-Tableau1[[#This Row],[Qtt 2éme lot]],\"-\")","v":"-"},"-",{"$f":"IF(Tableau1[[#This Row],[2éme lot]]=\"-\",\"-\",IFERROR(IF(Q1540=\"\",\"-\",INDEX(I:I,MATCH(Q1540,C:C,0)+1)),\"-\"))","v":"-"},"-","-"]
[2734,"MD001855","TELMISARTE + 80mg /12.5mg Bte/30 Comp.","TELMISARTAN","026/19","01.08.2021","MG/EXP1",187,"MG/EXP1-B-005",null,0,null,null,1093.45,"PHARMALLIANCE EURL","-",null,{"$f":"SUMIF(Tableau1[Description article],Tableau1[Produits],Tableau1[Emplacement])","v":0},null,{"$f":"Sheet1!$S1541-Sheet1!$R1541","v":0},"-","-","-",{"$f":"IFERROR(Tableau1[[#This Row],[THEO]]-Tableau1[[#This Row],[Qtt 2éme lot]],\"-\")","v":"-"},"-",{"$f":"IF(Tableau1[[#This Row],[2éme lot]]=\"-\",\"-\",IFERROR(IF(Q1541=\"\",\"-\",INDEX(I:I,MATCH(Q1541,C:C,0)+1)),\"-\"))","v":"-"},"-","-"]
[2735,"MD004096","TELMISARTE + 80mg /25mg Bte/30 Comp.","TELMISARTAN","001/19","01.03.2021","MG/EXP1",190,"MG/EXP1-E-055",null,0,null,null,1093.45,"PHARMALLIANCE EURL","-",null,{"$f":"SUMIF(Tableau1[Description article],Tableau1[Produits],Tableau1[Emplacement])","v":0},null,{"$f":"Sheet1!$S1542-Sheet1!$R1542","v":0},"-","-","-",{"$f":"IFERROR(Tableau1[[#This Row],[THEO]]-Tableau1[[#This Row],[Qtt 2éme lot]],\"-\")","v":"-"},"-",{"$f":"IF(Tableau1[[#This Row],[2éme lot]]=\"-\",\"-\",IFERROR(IF(Q1542=\"\",\"-\",INDEX(I:I,MATCH(Q1542,C:C,0)+1)),\"-\"))","v":"-"},"-","-"]
[2736,"MD001856","TELMISARTE 40MG COMP. B/30","TELMISARTAN","006/19","01.08.2021","MG/EXP1",183,"MG/EXP1-C-038",null,0,null,null,1287.5,"PHARMALLIANCE EURL","-",null,{"$f":"SUMIF(Tableau1[Description article],Tableau1[Produits],Tableau1[Emplacement])","v":0},null,{"$f":"Sheet1!$S1543-Sheet1!$R1543","v":0},"-","-","-",{"$f":"IFERROR(Tableau1[[#This Row],[THEO]]-Tableau1[[#This Row],[Qtt 2éme lot]],\"-\")","v":"-"},"-",{"$f":"IF(Tableau1[[#This Row],[2éme lot]]=\"-\",\"-\",IFERROR(IF(Q1543=\"\",\"-\",INDEX(I:I,MATCH(Q1543,C:C,0)+1)),\"-\"))","v":"-"},"-","-"]
[2737,"MD001853","TELMISARTE 80MG COMP. B/30","TELMISARTAN","007/19","01.08.2021","MG/EXP1",233,"MG/EXP1-F-017",null,0,null,null,1287.5,"PHARMALLIANCE EURL","-",null,{"$f":"SUMIF(Tableau1[Description article],Tableau1[Produits],Tableau1[Emplacement])","v":0},null,{"$f":"Sheet1!$S1544-Sheet1!$R1544","v":0},"-","-","-",{"$f":"IFERROR(Tableau1[[#This Row],[THEO]]-Tableau1[[#This Row],[Qtt 2éme lot]],\"-\")","v":"-"},"-",{"$f":"IF(Tableau1[[#This Row],[2éme lot]]=\"-\",\"-\",IFERROR(IF(Q1544=\"\",\"-\",INDEX(I:I,MATCH(Q1544,C:C,0)+1)),\"-\"))","v":"-"},"-","-"]
[2738,"MD001861","TENSODIPINE 10MG GLES. B/30","AMLODIPINE","049","01.06.2022","MG/EXP1",8,"MG/EXP1-A-028",null,0,null,null,660.5,"PROVIVO SPA","-",null,{"$f":"SUMIF(Tableau1[Description article],Tableau1[Produits],Tableau1[Emplacement])","v":0},null,{"$f":"Sheet1!$S1545-Sheet1!$R1545","v":0},"-","-","-",{"$f":"IFERROR(Tableau1[[#This Row],[THEO]]-Tableau1[[#This Row],[Qtt 2éme lot]],\"-\")","v":"-"},"-",{"$f":"IF(Tableau1[[#This Row],[2éme lot]]=\"-\",\"-\",IFERROR(IF(Q1545=\"\",\"-\",INDEX(I:I,MATCH(Q1545,C:C,0)+1)),\"-\"))","v":"-"},"-","-"]
[2739,"MD001861","TENSODIPINE 10MG GLES. B/30","AMLODIPINE","050","01.06.2022","MG/EXP1",109,"MG/EXP1-F-039",null,0,null,null,660.5,"PROVIVO SPA","-",null,{"$f":"SUMIF(Tableau1[Description article],Tableau1[Produits],Tableau1[Emplacement])","v":0},null,{"$f":"Sheet1!$S1546-Sheet1!$R1546","v":0},"-","-","-",{"$f":"IFERROR(Tableau1[[#This Row],[THEO]]-Tableau1[[#This Row],[Qtt 2éme lot]],\"-\")","v":"-"},"-",{"$f":"IF(Tableau1[[#This Row],[2éme lot]]=\"-\",\"-\",IFERROR(IF(Q1546=\"\",\"-\",INDEX(I:I,MATCH(Q1546,C:C,0)+1)),\"-\"))","v":"-"},"-","-"]
[2741,"MD001862","TENSODIPINE 5MG GLES. B/30","AMLODIPINE","147","01.06.2022","MG/EXP1",164,"MG/EXP1-E-009",null,0,null,null,609.5,"PROVIVO SPA","-",null,{"$f":"SUMIF(Tableau1[Description article],Tableau1[Produits],Tableau1[Emplacement])","v":0},null,{"$f":"Sheet1!$S1547-Sheet1!$R1547","v":0},"-","-","-",{"$f":"IFERROR(Tableau1[[#This Row],[THEO]]-Tableau1[[#This Row],[Qtt 2éme lot]],\"-\")","v":"-"},"-",{"$f":"IF(Tableau1[[#This Row],[2éme lot]]=\"-\",\"-\",IFERROR(IF(Q1547=\"\",\"-\",INDEX(I:I,MATCH(Q1547,C:C,0)+1)),\"-\"))","v":"-"},"-","-"]
[2744,"MD001863","TENSOPREL 25MG COMP.QUADRISEC. B/60","CAPTOPRIL 25 MG CP","M19001R","30.04.2022","MG/EXP1",56,"MG/EXP1-B-007",null,0,null,null,295.1,"MERINAL LABORATOIRES","-",null,{"$f":"SUMIF(Tableau1[Description article],Tableau1[Produits],Tableau1[Emplacement])","v":0},null,{"$f":"Sheet1!$S1548-Sheet1!$R1548","v":0},"-","-","-",{"$f":"IFERROR(Tableau1[[#This Row],[THEO]]-Tableau1[[#This Row],[Qtt 2éme lot]],\"-\")","v":"-"},"-",{"$f":"IF(Tableau1[[#This Row],[2éme lot]]=\"-\",\"-\",IFERROR(IF(Q1548=\"\",\"-\",INDEX(I:I,MATCH(Q1548,C:C,0)+1)),\"-\"))","v":"-"},"-","-"]
[2745,"MD001863","TENSOPREL 25MG COMP.QUADRISEC. B/60","CAPTOPRIL 25 MG CP","M19001R","30.04.2022","MG/EXP1",33,"MG/EXP1-C-053",null,0,null,null,295.1,"MERINAL LABORATOIRES","-",null,{"$f":"SUMIF(Tableau1[Description article],Tableau1[Produits],Tableau1[Emplacement])","v":0},null,{"$f":"Sheet1!$S1549-Sheet1!$R1549","v":0},"-","-","-",{"$f":"IFERROR(Tableau1[[#This Row],[THEO]]-Tableau1[[#This Row],[Qtt 2éme lot]],\"-\")","v":"-"},"-",{"$f":"IF(Tableau1[[#This Row],[2éme lot]]=\"-\",\"-\",IFERROR(IF(Q1549=\"\",\"-\",INDEX(I:I,MATCH(Q1549,C:C,0)+1)),\"-\"))","v":"-"},"-","-"]
[2747,"MD001864","TENSOPREL 50MG COMP.SEC. B/30","CAPTOPRIL","M20003R","31.03.2022","MG/EXP1",285,"MG/EXP1-A-056",null,0,null,null,282.5,"MERINAL LABORATOIRES","-",null,{"$f":"SUMIF(Tableau1[Description article],Tableau1[Produits],Tableau1[Emplacement])","v":0},null,{"$f":"Sheet1!$S1550-Sheet1!$R1550","v":0},"-","-","-",{"$f":"IFERROR(Tableau1[[#This Row],[THEO]]-Tableau1[[#This Row],[Qtt 2éme lot]],\"-\")","v":"-"},"-",{"$f":"IF(Tableau1[[#This Row],[2éme lot]]=\"-\",\"-\",IFERROR(IF(Q1550=\"\",\"-\",INDEX(I:I,MATCH(Q1550,C:C,0)+1)),\"-\"))","v":"-"},"-","-"]
[2748,"MD001870","TEOLAR 80MG COMP.PELLI. B/30","ATORVASTATINE","008/18","29.12.2021","MG/EXP1",76,"MG/EXP1-A-009",null,0,null,null,2037.5,"PHARMALLIANCE EURL","-",null,{"$f":"SUMIF(Tableau1[Description article],Tableau1[Produits],Tableau1[Emplacement])","v":0},null,{"$f":"Sheet1!$S1551-Sheet1!$R1551","v":0},"-","-","-",{"$f":"IFERROR(Tableau1[[#This Row],[THEO]]-Tableau1[[#This Row],[Qtt 2éme lot]],\"-\")","v":"-"},"-",{"$f":"IF(Tableau1[[#This Row],[2éme lot]]=\"-\",\"-\",IFERROR(IF(Q1551=\"\",\"-\",INDEX(I:I,MATCH(Q1551,C:C,0)+1)),\"-\"))","v":"-"},"-","-"]
[2749,"MD001871","TERBIDAL 1% 0,01 SOL.P.APPL.LOC. B/01 FL.PLVERISAT/15ML","TERBINAFINE CHLORHYDRATE 1%","18909","01.09.2021","MG/EXP1",308,"MG/EXP1-C-005",null,0,null,null,298.34,"PHARMIDAL SARL","-",null,{"$f":"SUMIF(Tableau1[Description article],Tableau1[Produits],Tableau1[Emplacement])","v":0},null,{"$f":"Sheet1!$S1552-Sheet1!$R1552","v":0},"-","-","-",{"$f":"IFERROR(Tableau1[[#This Row],[THEO]]-Tableau1[[#This Row],[Qtt 2éme lot]],\"-\")","v":"-"},"-",{"$f":"IF(Tableau1[[#This Row],[2éme lot]]=\"-\",\"-\",IFERROR(IF(Q1552=\"\",\"-\",INDEX(I:I,MATCH(Q1552,C:C,0)+1)),\"-\"))","v":"-"},"-","-"]
[2751,"MD001872","TERBIFINE 0,01 CR. T/15G","TERBINAFINE CHLORHYDRATE","025/18","01.10.2020","MG/EXP1",58,"MG/EXP1-E-017",null,0,null,null,200.16,"PHARMALLIANCE EURL","-",null,{"$f":"SUMIF(Tableau1[Description article],Tableau1[Produits],Tableau1[Emplacement])","v":0},null,{"$f":"Sheet1!$S1553-Sheet1!$R1553","v":0},"-","-","-",{"$f":"IFERROR(Tableau1[[#This Row],[THEO]]-Tableau1[[#This Row],[Qtt 2éme lot]],\"-\")","v":"-"},"-",{"$f":"IF(Tableau1[[#This Row],[2éme lot]]=\"-\",\"-\",IFERROR(IF(Q1553=\"\",\"-\",INDEX(I:I,MATCH(Q1553,C:C,0)+1)),\"-\"))","v":"-"},"-","-"]
[2752,"MD001873","TERBIFINE 250MG COMP.SEC. B/10","TERBINAFINE CHLORHYDRATE","002/18","01.10.2020","MG/EXP1",1,"MG/EXP1-E-005",null,0,null,null,747.5,"PHARMALLIANCE EURL","-",null,{"$f":"SUMIF(Tableau1[Description article],Tableau1[Produits],Tableau1[Emplacement])","v":0},null,{"$f":"Sheet1!$S1554-Sheet1!$R1554","v":0},"-","-","-",{"$f":"IFERROR(Tableau1[[#This Row],[THEO]]-Tableau1[[#This Row],[Qtt 2éme lot]],\"-\")","v":"-"},"-",{"$f":"IF(Tableau1[[#This Row],[2éme lot]]=\"-\",\"-\",IFERROR(IF(Q1554=\"\",\"-\",INDEX(I:I,MATCH(Q1554,C:C,0)+1)),\"-\"))","v":"-"},"-","-"]
[2753,"MD001874","TERBIFINE 250MG COMP.SEC. B/20","TERBINAFINE CHLORHYDRATE","001/19","01.04.2021","MG/EXP1",165,"MG/EXP1-A-067",null,0,null,null,1497.5,"PHARMALLIANCE EURL","-",null,{"$f":"SUMIF(Tableau1[Description article],Tableau1[Produits],Tableau1[Emplacement])","v":0},null,{"$f":"Sheet1!$S1555-Sheet1!$R1555","v":0},"-","-","-",{"$f":"IFERROR(Tableau1[[#This Row],[THEO]]-Tableau1[[#This Row],[Qtt 2éme lot]],\"-\")","v":"-"},"-",{"$f":"IF(Tableau1[[#This Row],[2éme lot]]=\"-\",\"-\",IFERROR(IF(Q1555=\"\",\"-\",INDEX(I:I,MATCH(Q1555,C:C,0)+1)),\"-\"))","v":"-"},"-","-"]
[2754,"MD004210","TERBINAFINE BEKER 250MG COMP.SEC. B/20","TERBINAFINE","066919","01.06.2021","MG/EXP1",277,"MG/EXP1-E-006",null,0,null,null,1498.5,"BEKER LABORATOIRES","-",null,{"$f":"SUMIF(Tableau1[Description article],Tableau1[Produits],Tableau1[Emplacement])","v":0},null,{"$f":"Sheet1!$S1556-Sheet1!$R1556","v":0},"-","-","-",{"$f":"IFERROR(Tableau1[[#This Row],[THEO]]-Tableau1[[#This Row],[Qtt 2éme lot]],\"-\")","v":"-"},"-",{"$f":"IF(Tableau1[[#This Row],[2éme lot]]=\"-\",\"-\",IFERROR(IF(Q1556=\"\",\"-\",INDEX(I:I,MATCH(Q1556,C:C,0)+1)),\"-\"))","v":"-"},"-","-"]
[2755,"MD001876","TERBINAFINE LDM 250MG COMP.SEC. B/14","TERBINAFINE CHLORHYDRATE","8107","28.02.2021","MG/EXP1",12,"MG/EXP1-G-001",null,0,null,null,1047.5,"LDM LABORATOIRES DE DIAGNOSTIC MAGHREBINS","-",null,{"$f":"SUMIF(Tableau1[Description article],Tableau1[Produits],Tableau1[Emplacement])","v":0},null,{"$f":"Sheet1!$S1557-Sheet1!$R1557","v":0},"-","-","-",{"$f":"IFERROR(Tableau1[[#This Row],[THEO]]-Tableau1[[#This Row],[Qtt 2éme lot]],\"-\")","v":"-"},"-",{"$f":"IF(Tableau1[[#This Row],[2éme lot]]=\"-\",\"-\",IFERROR(IF(Q1557=\"\",\"-\",INDEX(I:I,MATCH(Q1557,C:C,0)+1)),\"-\"))","v":"-"},"-","-"]
[2758,"MD001877","TERBINAN 0,01 CR. T/15G","TERBINAFINE CHLORHYDRATE","052","01.04.2021","MG/EXP1",462,"MG/EXP1-F-011",null,0,null,null,208.5,"BIOPHARM SPA","-",null,{"$f":"SUMIF(Tableau1[Description article],Tableau1[Produits],Tableau1[Emplacement])","v":0},null,{"$f":"Sheet1!$S1558-Sheet1!$R1558","v":0},"-","-","-",{"$f":"IFERROR(Tableau1[[#This Row],[THEO]]-Tableau1[[#This Row],[Qtt 2éme lot]],\"-\")","v":"-"},"-",{"$f":"IF(Tableau1[[#This Row],[2éme lot]]=\"-\",\"-\",IFERROR(IF(Q1558=\"\",\"-\",INDEX(I:I,MATCH(Q1558,C:C,0)+1)),\"-\"))","v":"-"},"-","-"]
[2759,"MD001878","TERBINAN 250MG COMP.SEC. B/14","TERBINAFINE CHLORHYDRATE","028","01.04.2021","MG/EXP1",178,"MG/EXP1-A-025",null,0,null,null,1014.26,"BIOPHARM SPA","-",null,{"$f":"SUMIF(Tableau1[Description article],Tableau1[Produits],Tableau1[Emplacement])","v":0},null,{"$f":"Sheet1!$S1559-Sheet1!$R1559","v":0},"-","-","-",{"$f":"IFERROR(Tableau1[[#This Row],[THEO]]-Tableau1[[#This Row],[Qtt 2éme lot]],\"-\")","v":"-"},"-",{"$f":"IF(Tableau1[[#This Row],[2éme lot]]=\"-\",\"-\",IFERROR(IF(Q1559=\"\",\"-\",INDEX(I:I,MATCH(Q1559,C:C,0)+1)),\"-\"))","v":"-"},"-","-"]
[2760,"MD001880","TERGYNAN 500MG/65000 UI/1 000 00 UI COMP.VAG. B/10","TERNIDAZOLE","M620*","01.12.2020","MG/EXP1",66,"MG/EXP1-C-068",null,0,null,null,324.71,"BIOPHARM SPA","-",null,{"$f":"SUMIF(Tableau1[Description article],Tableau1[Produits],Tableau1[Emplacement])","v":0},null,{"$f":"Sheet1!$S1560-Sheet1!$R1560","v":0},"-","-","-",{"$f":"IFERROR(Tableau1[[#This Row],[THEO]]-Tableau1[[#This Row],[Qtt 2éme lot]],\"-\")","v":"-"},"-",{"$f":"IF(Tableau1[[#This Row],[2éme lot]]=\"-\",\"-\",IFERROR(IF(Q1560=\"\",\"-\",INDEX(I:I,MATCH(Q1560,C:C,0)+1)),\"-\"))","v":"-"},"-","-"]
[2761,"PP00393","THEALOSE 3% SOL.OPHT.FL/10ML",null,"215512*","01.04.2021","MG/EXP1",261,"MG/EXP1-BOX6",null,0,null,null,2634.38,"BIOPHARM SPA","-",null,{"$f":"SUMIF(Tableau1[Description article],Tableau1[Produits],Tableau1[Emplacement])","v":0},null,{"$f":"Sheet1!$S1561-Sheet1!$R1561","v":0},"-","-","-",{"$f":"IFERROR(Tableau1[[#This Row],[THEO]]-Tableau1[[#This Row],[Qtt 2éme lot]],\"-\")","v":"-"},"-",{"$f":"IF(Tableau1[[#This Row],[2éme lot]]=\"-\",\"-\",IFERROR(IF(Q1561=\"\",\"-\",INDEX(I:I,MATCH(Q1561,C:C,0)+1)),\"-\"))","v":"-"},"-","-"]
[2762,"MD001882","THEOSTAT LP 200MG COMP.LP. B/30","THEOPHYLLINE MONOHYDRATE","G00362","01.07.2021","MG/EXP1",5,"MG/EXP1-D-011",null,0,null,null,195.59,"BIOPHARM SPA","-",null,{"$f":"SUMIF(Tableau1[Description article],Tableau1[Produits],Tableau1[Emplacement])","v":0},null,{"$f":"Sheet1!$S1562-Sheet1!$R1562","v":0},"-","-","-",{"$f":"IFERROR(Tableau1[[#This Row],[THEO]]-Tableau1[[#This Row],[Qtt 2éme lot]],\"-\")","v":"-"},"-",{"$f":"IF(Tableau1[[#This Row],[2éme lot]]=\"-\",\"-\",IFERROR(IF(Q1562=\"\",\"-\",INDEX(I:I,MATCH(Q1562,C:C,0)+1)),\"-\"))","v":"-"},"-","-"]
[2763,"MD004051","THIN LANCETS 50","lancettes","Y219003","01.10.2018","MG/EXP1",29,"MG/EXP1-BOX6-005",null,0,null,null,0,"AT PHARMA SPA","-",null,{"$f":"SUMIF(Tableau1[Description article],Tableau1[Produits],Tableau1[Emplacement])","v":0},null,{"$f":"Sheet1!$S1563-Sheet1!$R1563","v":0},"-","-","-",{"$f":"IFERROR(Tableau1[[#This Row],[THEO]]-Tableau1[[#This Row],[Qtt 2éme lot]],\"-\")","v":"-"},"-",{"$f":"IF(Tableau1[[#This Row],[2éme lot]]=\"-\",\"-\",IFERROR(IF(Q1563=\"\",\"-\",INDEX(I:I,MATCH(Q1563,C:C,0)+1)),\"-\"))","v":"-"},"-","-"]
[2765,"PP00272","THYMO SEPTINE HIVER CALME - SIROP",null,"18J09*","01.10.2022","MG/EXP1",102,"MG/EXP1-A-023",null,0,null,null,730,"MAGPHARM LABORATOIRES SARL","-",null,{"$f":"SUMIF(Tableau1[Description article],Tableau1[Produits],Tableau1[Emplacement])","v":0},null,{"$f":"Sheet1!$S1564-Sheet1!$R1564","v":0},"-","-","-",{"$f":"IFERROR(Tableau1[[#This Row],[THEO]]-Tableau1[[#This Row],[Qtt 2éme lot]],\"-\")","v":"-"},"-",{"$f":"IF(Tableau1[[#This Row],[2éme lot]]=\"-\",\"-\",IFERROR(IF(Q1564=\"\",\"-\",INDEX(I:I,MATCH(Q1564,C:C,0)+1)),\"-\"))","v":"-"},"-","-"]
[2767,"MD001887","TIFEN 1MG COMP. B/30","KETOTIFEN","012/19","01.09.2022","MG/EXP1",607,"MG/EXP1-D-028",null,0,null,null,185.67,"PHARMALLIANCE EURL","-",null,{"$f":"SUMIF(Tableau1[Description article],Tableau1[Produits],Tableau1[Emplacement])","v":0},null,{"$f":"Sheet1!$S1565-Sheet1!$R1565","v":0},"-","-","-",{"$f":"IFERROR(Tableau1[[#This Row],[THEO]]-Tableau1[[#This Row],[Qtt 2éme lot]],\"-\")","v":"-"},"-",{"$f":"IF(Tableau1[[#This Row],[2éme lot]]=\"-\",\"-\",IFERROR(IF(Q1565=\"\",\"-\",INDEX(I:I,MATCH(Q1565,C:C,0)+1)),\"-\"))","v":"-"},"-","-"]
[2770,"MD001888","TIFEN 1MG/5ML SRP. FL/100ML","KETOTIFENE","061/19","01.11.2022","MG/EXP1",200,"MG/EXP1-B-035",null,0,null,null,154.7,"PHARMALLIANCE EURL","-",null,{"$f":"SUMIF(Tableau1[Description article],Tableau1[Produits],Tableau1[Emplacement])","v":0},null,{"$f":"Sheet1!$S1566-Sheet1!$R1566","v":0},"-","-","-",{"$f":"IFERROR(Tableau1[[#This Row],[THEO]]-Tableau1[[#This Row],[Qtt 2éme lot]],\"-\")","v":"-"},"-",{"$f":"IF(Tableau1[[#This Row],[2éme lot]]=\"-\",\"-\",IFERROR(IF(Q1566=\"\",\"-\",INDEX(I:I,MATCH(Q1566,C:C,0)+1)),\"-\"))","v":"-"},"-","-"]
[2771,"MD001888","TIFEN 1MG/5ML SRP. FL/100ML","KETOTIFENE","057/19","01.11.2022","MG/EXP1",125,"MG/EXP1-B-036",null,0,null,null,154.7,"PHARMALLIANCE EURL","-",null,{"$f":"SUMIF(Tableau1[Description article],Tableau1[Produits],Tableau1[Emplacement])","v":0},null,{"$f":"Sheet1!$S1567-Sheet1!$R1567","v":0},"-","-","-",{"$f":"IFERROR(Tableau1[[#This Row],[THEO]]-Tableau1[[#This Row],[Qtt 2éme lot]],\"-\")","v":"-"},"-",{"$f":"IF(Tableau1[[#This Row],[2éme lot]]=\"-\",\"-\",IFERROR(IF(Q1567=\"\",\"-\",INDEX(I:I,MATCH(Q1567,C:C,0)+1)),\"-\"))","v":"-"},"-","-"]
[2773,"MD001889","TILDIEM 60MG COMP. B/30","DILTIAZEM","ET024","01.06.2022","MG/EXP1",201,"MG/EXP1-C-057",null,0,null,null,393.71,"WINTHROP PHARMA  SAIDAL SPA","-",null,{"$f":"SUMIF(Tableau1[Description article],Tableau1[Produits],Tableau1[Emplacement])","v":0},null,{"$f":"Sheet1!$S1568-Sheet1!$R1568","v":0},"-","-","-",{"$f":"IFERROR(Tableau1[[#This Row],[THEO]]-Tableau1[[#This Row],[Qtt 2éme lot]],\"-\")","v":"-"},"-",{"$f":"IF(Tableau1[[#This Row],[2éme lot]]=\"-\",\"-\",IFERROR(IF(Q1568=\"\",\"-\",INDEX(I:I,MATCH(Q1568,C:C,0)+1)),\"-\"))","v":"-"},"-","-"]
[2774,"MD004144","TIMOLAMIDE COLLY. FL/05 ML","DORZOLAMIDE/TIMOLOL","40071904","01.02.2021","MG/EXP1",141,"MG/EXP1-D-022",null,0,null,null,852.9,"SARL BIOTHERA","-",null,{"$f":"SUMIF(Tableau1[Description article],Tableau1[Produits],Tableau1[Emplacement])","v":0},null,{"$f":"Sheet1!$S1569-Sheet1!$R1569","v":0},"-","-","-",{"$f":"IFERROR(Tableau1[[#This Row],[THEO]]-Tableau1[[#This Row],[Qtt 2éme lot]],\"-\")","v":"-"},"-",{"$f":"IF(Tableau1[[#This Row],[2éme lot]]=\"-\",\"-\",IFERROR(IF(Q1569=\"\",\"-\",INDEX(I:I,MATCH(Q1569,C:C,0)+1)),\"-\"))","v":"-"},"-","-"]
[2776,"MD002136","TIMOZINE 10MG/5ML SRP. FL/100ML","TIEMONIUM METHYLSULFATE","1812/09","01.03.2021","MG/EXP1",84,"MG/EXP1-E-015",null,0,null,null,250,"GROUPE SANTE LABORATOIRE","-",null,{"$f":"SUMIF(Tableau1[Description article],Tableau1[Produits],Tableau1[Emplacement])","v":0},null,{"$f":"Sheet1!$S1570-Sheet1!$R1570","v":0},"-","-","-",{"$f":"IFERROR(Tableau1[[#This Row],[THEO]]-Tableau1[[#This Row],[Qtt 2éme lot]],\"-\")","v":"-"},"-",{"$f":"IF(Tableau1[[#This Row],[2éme lot]]=\"-\",\"-\",IFERROR(IF(Q1570=\"\",\"-\",INDEX(I:I,MATCH(Q1570,C:C,0)+1)),\"-\"))","v":"-"},"-","-"]
[2778,"MD001895","TIRLOR 10MG COMP. B/20","LORATADINE","JW8066","30.06.2022","MG/EXP1",300,"MG/EXP1-A-035",null,0,null,null,288.02,"SANDOZ SPA","-",null,{"$f":"SUMIF(Tableau1[Description article],Tableau1[Produits],Tableau1[Emplacement])","v":0},null,{"$f":"Sheet1!$S1571-Sheet1!$R1571","v":0},"-","-","-",{"$f":"IFERROR(Tableau1[[#This Row],[THEO]]-Tableau1[[#This Row],[Qtt 2éme lot]],\"-\")","v":"-"},"-",{"$f":"IF(Tableau1[[#This Row],[2éme lot]]=\"-\",\"-\",IFERROR(IF(Q1571=\"\",\"-\",INDEX(I:I,MATCH(Q1571,C:C,0)+1)),\"-\"))","v":"-"},"-","-"]
[2779,"MD001897","TITANOREINE 0,3G/0,2G/0,4G SUPP. B/12","CARRAGHENATES-ZINC OXYD-TITAN","UL321","01.05.2022","MG/EXP1",79,"MG/EXP1-G-040",null,0,null,null,212.31,"BIOPHARM SPA","-",null,{"$f":"SUMIF(Tableau1[Description article],Tableau1[Produits],Tableau1[Emplacement])","v":0},null,{"$f":"Sheet1!$S1572-Sheet1!$R1572","v":0},"-","-","-",{"$f":"IFERROR(Tableau1[[#This Row],[THEO]]-Tableau1[[#This Row],[Qtt 2éme lot]],\"-\")","v":"-"},"-",{"$f":"IF(Tableau1[[#This Row],[2éme lot]]=\"-\",\"-\",IFERROR(IF(Q1572=\"\",\"-\",INDEX(I:I,MATCH(Q1572,C:C,0)+1)),\"-\"))","v":"-"},"-","-"]
[2780,"MD001896","TITANOREINE A LA LIDOCAINE 2% 2,5G/2G/2G/2G/100G CR. T/20G","CARRAGHENATES-ZINC OXYD-TITANE+LIDOCAÏNE","JGH0700","01.06.2022","MG/EXP1",80,"MG/EXP1-A-048",null,0,null,null,198.4,"BIOPHARM SPA","-",null,{"$f":"SUMIF(Tableau1[Description article],Tableau1[Produits],Tableau1[Emplacement])","v":0},null,{"$f":"Sheet1!$S1573-Sheet1!$R1573","v":0},"-","-","-",{"$f":"IFERROR(Tableau1[[#This Row],[THEO]]-Tableau1[[#This Row],[Qtt 2éme lot]],\"-\")","v":"-"},"-",{"$f":"IF(Tableau1[[#This Row],[2éme lot]]=\"-\",\"-\",IFERROR(IF(Q1573=\"\",\"-\",INDEX(I:I,MATCH(Q1573,C:C,0)+1)),\"-\"))","v":"-"},"-","-"]
[2781,"PP00474","TITANOROIDE CR. T/30G","HEMORROIDES & FISSURES ANALES","T001","01.10.2022","MG/EXP1",424,"MG/EXP1-E-043",null,0,null,null,375,"OLEA SENS laboratoire","-",null,{"$f":"SUMIF(Tableau1[Description article],Tableau1[Produits],Tableau1[Emplacement])","v":0},null,{"$f":"Sheet1!$S1574-Sheet1!$R1574","v":0},"-","-","-",{"$f":"IFERROR(Tableau1[[#This Row],[THEO]]-Tableau1[[#This Row],[Qtt 2éme lot]],\"-\")","v":"-"},"-",{"$f":"IF(Tableau1[[#This Row],[2éme lot]]=\"-\",\"-\",IFERROR(IF(Q1574=\"\",\"-\",INDEX(I:I,MATCH(Q1574,C:C,0)+1)),\"-\"))","v":"-"},"-","-"]
[2783,"PP00306","TITARROIDE 30G PDE.","EXTRAIT DE PLANTES MEDICINALES","885","01.09.2021","MG/EXP1",380,"MG/EXP1-E-012",null,0,null,null,390,"MM LABORATOIRE MM SARL","-",null,{"$f":"SUMIF(Tableau1[Description article],Tableau1[Produits],Tableau1[Emplacement])","v":0},null,{"$f":"Sheet1!$S1575-Sheet1!$R1575","v":0},"-","-","-",{"$f":"IFERROR(Tableau1[[#This Row],[THEO]]-Tableau1[[#This Row],[Qtt 2éme lot]],\"-\")","v":"-"},"-",{"$f":"IF(Tableau1[[#This Row],[2éme lot]]=\"-\",\"-\",IFERROR(IF(Q1575=\"\",\"-\",INDEX(I:I,MATCH(Q1575,C:C,0)+1)),\"-\"))","v":"-"},"-","-"]
[2785,"MD001904","TOPLEXIL 0,33MG/ML SRP. FL/150ML","OXOMEMAZINE","19TP078","01.09.2022","MG/EXP1",195,"MG/EXP1-H-001",null,0,null,null,116,"WINTHROP PHARMA  SAIDAL SPA","-",null,{"$f":"SUMIF(Tableau1[Description article],Tableau1[Produits],Tableau1[Emplacement])","v":0},null,{"$f":"Sheet1!$S1576-Sheet1!$R1576","v":0},"-","-","-",{"$f":"IFERROR(Tableau1[[#This Row],[THEO]]-Tableau1[[#This Row],[Qtt 2éme lot]],\"-\")","v":"-"},"-",{"$f":"IF(Tableau1[[#This Row],[2éme lot]]=\"-\",\"-\",IFERROR(IF(Q1576=\"\",\"-\",INDEX(I:I,MATCH(Q1576,C:C,0)+1)),\"-\"))","v":"-"},"-","-"]
[2786,"MD001904","TOPLEXIL 0,33MG/ML SRP. FL/150ML","OXOMEMAZINE","19TP078","01.09.2022","MG/EXP1",1618,"MG/EXP1-H-003",null,0,null,null,116,"WINTHROP PHARMA  SAIDAL SPA","-",null,{"$f":"SUMIF(Tableau1[Description article],Tableau1[Produits],Tableau1[Emplacement])","v":0},null,{"$f":"Sheet1!$S1577-Sheet1!$R1577","v":0},"-","-","-",{"$f":"IFERROR(Tableau1[[#This Row],[THEO]]-Tableau1[[#This Row],[Qtt 2éme lot]],\"-\")","v":"-"},"-",{"$f":"IF(Tableau1[[#This Row],[2éme lot]]=\"-\",\"-\",IFERROR(IF(Q1577=\"\",\"-\",INDEX(I:I,MATCH(Q1577,C:C,0)+1)),\"-\"))","v":"-"},"-","-"]
[2787,"MD001905","TORVAST 10MG COMP. B/30","ATORVASTATINE","67422","01.10.2021","MG/EXP1",128,"MG/EXP1-F-009",null,0,null,null,835.1,"HIKMA PHARMA ALGERIA SARL","-",null,{"$f":"SUMIF(Tableau1[Description article],Tableau1[Produits],Tableau1[Emplacement])","v":0},null,{"$f":"Sheet1!$S1578-Sheet1!$R1578","v":0},"-","-","-",{"$f":"IFERROR(Tableau1[[#This Row],[THEO]]-Tableau1[[#This Row],[Qtt 2éme lot]],\"-\")","v":"-"},"-",{"$f":"IF(Tableau1[[#This Row],[2éme lot]]=\"-\",\"-\",IFERROR(IF(Q1578=\"\",\"-\",INDEX(I:I,MATCH(Q1578,C:C,0)+1)),\"-\"))","v":"-"},"-","-"]
[2789,"MD001906","TORVAST 20MG COMP. B/30","ATORVASTATINE","61815*","01.07.2021","MG/EXP1",64,"MG/EXP1-E-054",null,0,null,null,1062.5,"HIKMA PHARMA ALGERIA SARL","-",null,{"$f":"SUMIF(Tableau1[Description article],Tableau1[Produits],Tableau1[Emplacement])","v":0},null,{"$f":"Sheet1!$S1579-Sheet1!$R1579","v":0},"-","-","-",{"$f":"IFERROR(Tableau1[[#This Row],[THEO]]-Tableau1[[#This Row],[Qtt 2éme lot]],\"-\")","v":"-"},"-",{"$f":"IF(Tableau1[[#This Row],[2éme lot]]=\"-\",\"-\",IFERROR(IF(Q1579=\"\",\"-\",INDEX(I:I,MATCH(Q1579,C:C,0)+1)),\"-\"))","v":"-"},"-","-"]
[2791,"MD001907","TORVAST 40MG COMP.PELLI. B/30","ATORVASTATINE","67431","01.10.2021","MG/EXP1",31,"MG/EXP1-G-034",null,0,null,null,1742.4,"HIKMA PHARMA ALGERIA SARL","-",null,{"$f":"SUMIF(Tableau1[Description article],Tableau1[Produits],Tableau1[Emplacement])","v":0},null,{"$f":"Sheet1!$S1580-Sheet1!$R1580","v":0},"-","-","-",{"$f":"IFERROR(Tableau1[[#This Row],[THEO]]-Tableau1[[#This Row],[Qtt 2éme lot]],\"-\")","v":"-"},"-",{"$f":"IF(Tableau1[[#This Row],[2éme lot]]=\"-\",\"-\",IFERROR(IF(Q1580=\"\",\"-\",INDEX(I:I,MATCH(Q1580,C:C,0)+1)),\"-\"))","v":"-"},"-","-"]
[2792,"MD001907","TORVAST 40MG COMP.PELLI. B/30","ATORVASTATINE","67432","01.10.2021","MG/EXP1",37,"MG/EXP1-G-033",null,0,null,null,1742.4,"HIKMA PHARMA ALGERIA SARL","-",null,{"$f":"SUMIF(Tableau1[Description article],Tableau1[Produits],Tableau1[Emplacement])","v":0},null,{"$f":"Sheet1!$S1581-Sheet1!$R1581","v":0},"-","-","-",{"$f":"IFERROR(Tableau1[[#This Row],[THEO]]-Tableau1[[#This Row],[Qtt 2éme lot]],\"-\")","v":"-"},"-",{"$f":"IF(Tableau1[[#This Row],[2éme lot]]=\"-\",\"-\",IFERROR(IF(Q1581=\"\",\"-\",INDEX(I:I,MATCH(Q1581,C:C,0)+1)),\"-\"))","v":"-"},"-","-"]
[2793,"MD001908","TORVAST 80MG COMP.PELLI. PILUL/30","ATORVASTATINE","82561","01.08.2022","MG/EXP1",41,"MG/EXP1-BOX6-010",null,0,null,null,2036.76,"HIKMA PHARMA ALGERIA SARL","-",null,{"$f":"SUMIF(Tableau1[Description article],Tableau1[Produits],Tableau1[Emplacement])","v":0},null,{"$f":"Sheet1!$S1582-Sheet1!$R1582","v":0},"-","-","-",{"$f":"IFERROR(Tableau1[[#This Row],[THEO]]-Tableau1[[#This Row],[Qtt 2éme lot]],\"-\")","v":"-"},"-",{"$f":"IF(Tableau1[[#This Row],[2éme lot]]=\"-\",\"-\",IFERROR(IF(Q1582=\"\",\"-\",INDEX(I:I,MATCH(Q1582,C:C,0)+1)),\"-\"))","v":"-"},"-","-"]
[2794,"MD001913","TOT'HEMA 50MG/1,33MG/0,70MG/10ML SOL.BUV. B/20 AMP/10ML","FER+MANGANESE+CUIVRE","48202","01.03.2021","MG/EXP1",15,"MG/EXP1-F-016",null,0,null,null,591.26,"UPC SARL","-",null,{"$f":"SUMIF(Tableau1[Description article],Tableau1[Produits],Tableau1[Emplacement])","v":0},null,{"$f":"Sheet1!$S1583-Sheet1!$R1583","v":0},"-","-","-",{"$f":"IFERROR(Tableau1[[#This Row],[THEO]]-Tableau1[[#This Row],[Qtt 2éme lot]],\"-\")","v":"-"},"-",{"$f":"IF(Tableau1[[#This Row],[2éme lot]]=\"-\",\"-\",IFERROR(IF(Q1583=\"\",\"-\",INDEX(I:I,MATCH(Q1583,C:C,0)+1)),\"-\"))","v":"-"},"-","-"]
[2797,"MD001915","TOTINAL 1MG COMP. B/30","KETOTIFEN","05213","01.04.2022","MG/EXP1",189,"MG/EXP1-A-037",null,0,null,null,160.08,"HIKMA PHARMA ALGERIA SARL","-",null,{"$f":"SUMIF(Tableau1[Description article],Tableau1[Produits],Tableau1[Emplacement])","v":0},null,{"$f":"Sheet1!$S1584-Sheet1!$R1584","v":0},"-","-","-",{"$f":"IFERROR(Tableau1[[#This Row],[THEO]]-Tableau1[[#This Row],[Qtt 2éme lot]],\"-\")","v":"-"},"-",{"$f":"IF(Tableau1[[#This Row],[2éme lot]]=\"-\",\"-\",IFERROR(IF(Q1584=\"\",\"-\",INDEX(I:I,MATCH(Q1584,C:C,0)+1)),\"-\"))","v":"-"},"-","-"]
[2801,"PP00274","TOUX KID .SIROP .F/100ML",null,"TS-1950","01.07.2022","MG/EXP1",315,"MG/EXP1-B-045",null,0,null,null,495,"MAGPHARM LABORATOIRES SARL","-",null,{"$f":"SUMIF(Tableau1[Description article],Tableau1[Produits],Tableau1[Emplacement])","v":0},null,{"$f":"Sheet1!$S1585-Sheet1!$R1585","v":0},"-","-","-",{"$f":"IFERROR(Tableau1[[#This Row],[THEO]]-Tableau1[[#This Row],[Qtt 2éme lot]],\"-\")","v":"-"},"-",{"$f":"IF(Tableau1[[#This Row],[2éme lot]]=\"-\",\"-\",IFERROR(IF(Q1585=\"\",\"-\",INDEX(I:I,MATCH(Q1585,C:C,0)+1)),\"-\"))","v":"-"},"-","-"]
[2803,"MD001922","TRANSACALM 100MG COMP. B/30","TRIMEBUTINE","JS4183","31.03.2022","MG/EXP1",69,"MG/EXP1-G-029",null,0,null,null,180.6,"SANDOZ SPA","-",null,{"$f":"SUMIF(Tableau1[Description article],Tableau1[Produits],Tableau1[Emplacement])","v":0},null,{"$f":"Sheet1!$S1586-Sheet1!$R1586","v":0},"-","-","-",{"$f":"IFERROR(Tableau1[[#This Row],[THEO]]-Tableau1[[#This Row],[Qtt 2éme lot]],\"-\")","v":"-"},"-",{"$f":"IF(Tableau1[[#This Row],[2éme lot]]=\"-\",\"-\",IFERROR(IF(Q1586=\"\",\"-\",INDEX(I:I,MATCH(Q1586,C:C,0)+1)),\"-\"))","v":"-"},"-","-"]
[2804,"PP00353","TRANSILAX FLAC.BUV.10ML - B/10",null,"T692","30.06.2020","MG/EXP1",5,"MG/EXP1-F-020",null,0,null,null,586.55,"PROVIVO SPA","-",null,{"$f":"SUMIF(Tableau1[Description article],Tableau1[Produits],Tableau1[Emplacement])","v":0},null,{"$f":"Sheet1!$S1587-Sheet1!$R1587","v":0},"-","-","-",{"$f":"IFERROR(Tableau1[[#This Row],[THEO]]-Tableau1[[#This Row],[Qtt 2éme lot]],\"-\")","v":"-"},"-",{"$f":"IF(Tableau1[[#This Row],[2éme lot]]=\"-\",\"-\",IFERROR(IF(Q1587=\"\",\"-\",INDEX(I:I,MATCH(Q1587,C:C,0)+1)),\"-\"))","v":"-"},"-","-"]
[2805,"MD004073","TRAVOST COLLYRE FL/2.5 ml",null,"40061816","01.08.2020","MG/EXP1",91,"MG/EXP1-BOX6-010",null,0,null,null,1545.73,"SARL BIOTHERA","-",null,{"$f":"SUMIF(Tableau1[Description article],Tableau1[Produits],Tableau1[Emplacement])","v":0},null,{"$f":"Sheet1!$S1588-Sheet1!$R1588","v":0},"-","-","-",{"$f":"IFERROR(Tableau1[[#This Row],[THEO]]-Tableau1[[#This Row],[Qtt 2éme lot]],\"-\")","v":"-"},"-",{"$f":"IF(Tableau1[[#This Row],[2éme lot]]=\"-\",\"-\",IFERROR(IF(Q1588=\"\",\"-\",INDEX(I:I,MATCH(Q1588,C:C,0)+1)),\"-\"))","v":"-"},"-","-"]
[2808,"MD001925","TRIAMCINOLONE CIDERMEX -NEOMYCINE- PDE","TRIAMCINOLONE ACETONIDE","402069","01.09.2021","MG/EXP1",146,"MG/EXP1-F-052",null,0,null,null,304.23,"GB PHARMA SARL","-",null,{"$f":"SUMIF(Tableau1[Description article],Tableau1[Produits],Tableau1[Emplacement])","v":0},null,{"$f":"Sheet1!$S1589-Sheet1!$R1589","v":0},"-","-","-",{"$f":"IFERROR(Tableau1[[#This Row],[THEO]]-Tableau1[[#This Row],[Qtt 2éme lot]],\"-\")","v":"-"},"-",{"$f":"IF(Tableau1[[#This Row],[2éme lot]]=\"-\",\"-\",IFERROR(IF(Q1589=\"\",\"-\",INDEX(I:I,MATCH(Q1589,C:C,0)+1)),\"-\"))","v":"-"},"-","-"]
[2809,"MD001926","TRIAMPEX 2,5MG GLES. B/30","RAMIPRIL","039","01.10.2021","MG/EXP1",198,"MG/EXP1-F-006",null,0,null,null,657.19,"PROVIVO SPA","-",null,{"$f":"SUMIF(Tableau1[Description article],Tableau1[Produits],Tableau1[Emplacement])","v":0},null,{"$f":"Sheet1!$S1590-Sheet1!$R1590","v":0},"-","-","-",{"$f":"IFERROR(Tableau1[[#This Row],[THEO]]-Tableau1[[#This Row],[Qtt 2éme lot]],\"-\")","v":"-"},"-",{"$f":"IF(Tableau1[[#This Row],[2éme lot]]=\"-\",\"-\",IFERROR(IF(Q1590=\"\",\"-\",INDEX(I:I,MATCH(Q1590,C:C,0)+1)),\"-\"))","v":"-"},"-","-"]
[2811,"MD001927","TRIAMPEX 5MG GLES. B/30","RAMIPRIL","075","01.09.2021","MG/EXP1",202,"MG/EXP1-D-013",null,0,null,null,962.99,"PROVIVO SPA","-",null,{"$f":"SUMIF(Tableau1[Description article],Tableau1[Produits],Tableau1[Emplacement])","v":0},null,{"$f":"Sheet1!$S1591-Sheet1!$R1591","v":0},"-","-","-",{"$f":"IFERROR(Tableau1[[#This Row],[THEO]]-Tableau1[[#This Row],[Qtt 2éme lot]],\"-\")","v":"-"},"-",{"$f":"IF(Tableau1[[#This Row],[2éme lot]]=\"-\",\"-\",IFERROR(IF(Q1591=\"\",\"-\",INDEX(I:I,MATCH(Q1591,C:C,0)+1)),\"-\"))","v":"-"},"-","-"]
[2813,"MD001928","TRIATEC 10MG COMP.SEC. B/28","RAMIPRIL","TD005A","01.12.2021","MG/EXP1",116,"MG/EXP1-D-009",null,0,null,null,1012.5,"SANOFI AVENTIS ALGERIE SPA","-",null,{"$f":"SUMIF(Tableau1[Description article],Tableau1[Produits],Tableau1[Emplacement])","v":0},null,{"$f":"Sheet1!$S1592-Sheet1!$R1592","v":0},"-","-","-",{"$f":"IFERROR(Tableau1[[#This Row],[THEO]]-Tableau1[[#This Row],[Qtt 2éme lot]],\"-\")","v":"-"},"-",{"$f":"IF(Tableau1[[#This Row],[2éme lot]]=\"-\",\"-\",IFERROR(IF(Q1592=\"\",\"-\",INDEX(I:I,MATCH(Q1592,C:C,0)+1)),\"-\"))","v":"-"},"-","-"]
[2815,"MD001929","TRIATEC 2,5MG COMP.SEC. B/28","RAMIPRIL","TR027A","01.04.2022","MG/EXP1",140,"MG/EXP1-E-060",null,0,null,null,613.22,"SANOFI AVENTIS ALGERIE SPA","-",null,{"$f":"SUMIF(Tableau1[Description article],Tableau1[Produits],Tableau1[Emplacement])","v":0},null,{"$f":"Sheet1!$S1593-Sheet1!$R1593","v":0},"-","-","-",{"$f":"IFERROR(Tableau1[[#This Row],[THEO]]-Tableau1[[#This Row],[Qtt 2éme lot]],\"-\")","v":"-"},"-",{"$f":"IF(Tableau1[[#This Row],[2éme lot]]=\"-\",\"-\",IFERROR(IF(Q1593=\"\",\"-\",INDEX(I:I,MATCH(Q1593,C:C,0)+1)),\"-\"))","v":"-"},"-","-"]
[2819,"MD001930","TRIATEC 5MG COMP.SEC. B/28","RAMIPRIL","TC002C","01.07.2022","MG/EXP1",350,"MG/EXP1-B-003",null,0,null,null,748.78,"SANOFI AVENTIS ALGERIE SPA","-",null,{"$f":"SUMIF(Tableau1[Description article],Tableau1[Produits],Tableau1[Emplacement])","v":0},null,{"$f":"Sheet1!$S1594-Sheet1!$R1594","v":0},"-","-","-",{"$f":"IFERROR(Tableau1[[#This Row],[THEO]]-Tableau1[[#This Row],[Qtt 2éme lot]],\"-\")","v":"-"},"-",{"$f":"IF(Tableau1[[#This Row],[2éme lot]]=\"-\",\"-\",IFERROR(IF(Q1594=\"\",\"-\",INDEX(I:I,MATCH(Q1594,C:C,0)+1)),\"-\"))","v":"-"},"-","-"]
[2821,"MD001932","TRIAXONE 200MG COMP.SEC. B/30","AMIODARONE","034/19","01.11.2021","MG/EXP1",124,"MG/EXP1-D-068",null,0,null,null,417.52,"PHARMALLIANCE EURL","-",null,{"$f":"SUMIF(Tableau1[Description article],Tableau1[Produits],Tableau1[Emplacement])","v":0},null,{"$f":"Sheet1!$S1595-Sheet1!$R1595","v":0},"-","-","-",{"$f":"IFERROR(Tableau1[[#This Row],[THEO]]-Tableau1[[#This Row],[Qtt 2éme lot]],\"-\")","v":"-"},"-",{"$f":"IF(Tableau1[[#This Row],[2éme lot]]=\"-\",\"-\",IFERROR(IF(Q1595=\"\",\"-\",INDEX(I:I,MATCH(Q1595,C:C,0)+1)),\"-\"))","v":"-"},"-","-"]
[2825,"MD001935","TRIFER FOL 100MG/0,35MG COMP.PELLI. B/30","HYDROXYDE FERRIQUE POLYMALTOSE","054","01.11.2020","MG/EXP1",50,"MG/EXP1-A-006",null,0,null,null,470.92,"ABDI IBRAHIM REMED PHARMA SPA","-",null,{"$f":"SUMIF(Tableau1[Description article],Tableau1[Produits],Tableau1[Emplacement])","v":0},null,{"$f":"Sheet1!$S1596-Sheet1!$R1596","v":0},"-","-","-",{"$f":"IFERROR(Tableau1[[#This Row],[THEO]]-Tableau1[[#This Row],[Qtt 2éme lot]],\"-\")","v":"-"},"-",{"$f":"IF(Tableau1[[#This Row],[2éme lot]]=\"-\",\"-\",IFERROR(IF(Q1596=\"\",\"-\",INDEX(I:I,MATCH(Q1596,C:C,0)+1)),\"-\"))","v":"-"},"-","-"]
[2829,"MD001941","TRIMEBUTINE B 0,787G/100G GRAN.P.SUSP.BUV. FL/250ML/152,5G + GBL.DOSEUR","TRIMEBUINE","055","01.12.2022","MG/EXP1",267,"MG/EXP1-H-001",null,0,null,null,348.5,"BIO-GALENIC SARL","-",null,{"$f":"SUMIF(Tableau1[Description article],Tableau1[Produits],Tableau1[Emplacement])","v":0},null,{"$f":"Sheet1!$S1597-Sheet1!$R1597","v":0},"-","-","-",{"$f":"IFERROR(Tableau1[[#This Row],[THEO]]-Tableau1[[#This Row],[Qtt 2éme lot]],\"-\")","v":"-"},"-",{"$f":"IF(Tableau1[[#This Row],[2éme lot]]=\"-\",\"-\",IFERROR(IF(Q1597=\"\",\"-\",INDEX(I:I,MATCH(Q1597,C:C,0)+1)),\"-\"))","v":"-"},"-","-"]
[2830,"MD001938","TRIMEBUTINE B 200MG COMP. B/30","TRIMEBUTINE","072*","01.09.2022","MG/EXP1",270,"MG/EXP1-G-023",null,0,null,null,248.5,"BIO-GALENIC SARL","-",null,{"$f":"SUMIF(Tableau1[Description article],Tableau1[Produits],Tableau1[Emplacement])","v":0},null,{"$f":"Sheet1!$S1598-Sheet1!$R1598","v":0},"-","-","-",{"$f":"IFERROR(Tableau1[[#This Row],[THEO]]-Tableau1[[#This Row],[Qtt 2éme lot]],\"-\")","v":"-"},"-",{"$f":"IF(Tableau1[[#This Row],[2éme lot]]=\"-\",\"-\",IFERROR(IF(Q1598=\"\",\"-\",INDEX(I:I,MATCH(Q1598,C:C,0)+1)),\"-\"))","v":"-"},"-","-"]
[2831,"MD001940","TRIMEBUTINE HUP 100MG COMP. B/30","TRIMEBUTINE","096","01.07.2021","MG/EXP1",244,"MG/EXP1-C-039",null,0,null,null,271.5,"HUP.P PHARMA SARL","-",null,{"$f":"SUMIF(Tableau1[Description article],Tableau1[Produits],Tableau1[Emplacement])","v":0},null,{"$f":"Sheet1!$S1599-Sheet1!$R1599","v":0},"-","-","-",{"$f":"IFERROR(Tableau1[[#This Row],[THEO]]-Tableau1[[#This Row],[Qtt 2éme lot]],\"-\")","v":"-"},"-",{"$f":"IF(Tableau1[[#This Row],[2éme lot]]=\"-\",\"-\",IFERROR(IF(Q1599=\"\",\"-\",INDEX(I:I,MATCH(Q1599,C:C,0)+1)),\"-\"))","v":"-"},"-","-"]
[2833,"MD001945","TRITAZIDE 10MG/12,5MG COMP. B/28","RAMIPRIL / HYDROCHLORTHIAZID","ZA003A","01.04.2022","MG/EXP1",199,"MG/EXP1-D-031",null,0,null,null,967.42,"SANOFI AVENTIS ALGERIE SPA","-",null,{"$f":"SUMIF(Tableau1[Description article],Tableau1[Produits],Tableau1[Emplacement])","v":0},null,{"$f":"Sheet1!$S1600-Sheet1!$R1600","v":0},"-","-","-",{"$f":"IFERROR(Tableau1[[#This Row],[THEO]]-Tableau1[[#This Row],[Qtt 2éme lot]],\"-\")","v":"-"},"-",{"$f":"IF(Tableau1[[#This Row],[2éme lot]]=\"-\",\"-\",IFERROR(IF(Q1600=\"\",\"-\",INDEX(I:I,MATCH(Q1600,C:C,0)+1)),\"-\"))","v":"-"},"-","-"]
[2835,"MD001946","TRITAZIDE 10MG/25MG COMP. B/28","RAMIPRIL / HYDROCHLORTHIAZID","ZC001A","01.08.2021","MG/EXP1",82,"MG/EXP1-BOX6-009",null,0,null,null,1131.5,"SANOFI AVENTIS ALGERIE SPA","-",null,{"$f":"SUMIF(Tableau1[Description article],Tableau1[Produits],Tableau1[Emplacement])","v":0},null,{"$f":"Sheet1!$S1601-Sheet1!$R1601","v":0},"-","-","-",{"$f":"IFERROR(Tableau1[[#This Row],[THEO]]-Tableau1[[#This Row],[Qtt 2éme lot]],\"-\")","v":"-"},"-",{"$f":"IF(Tableau1[[#This Row],[2éme lot]]=\"-\",\"-\",IFERROR(IF(Q1601=\"\",\"-\",INDEX(I:I,MATCH(Q1601,C:C,0)+1)),\"-\"))","v":"-"},"-","-"]
[2837,"MD001947","TRITAZIDE 5MG/12,5MG COMP. B/28","RAMIPRIL / HYDROCHLORTHIAZID","ZT002A","01.12.2021","MG/EXP1",65,"MG/EXP1-BOX6-009",null,0,null,null,907.57,"SANOFI AVENTIS ALGERIE SPA",{"$f":"IFERROR(IF(Q1602=\"\",\"-\",INDEX(I:I,MATCH(Q1602,C:C,0))),\"-\")","v":"-"},null,{"$f":"SUMIF(Tableau1[Description article],Tableau1[Produits],Tableau1[Emplacement])","v":0},null,{"$f":"Sheet1!$S1602-Sheet1!$R1602","v":0},{"$f":"IFERROR(IF(Q1602=\"\",\"-\",INDEX(F:F,MATCH(Q1602,C:C,0))),\"-\")","v":"-"},{"$f":"IFERROR(IF(Q1602=\"\",\"-\",INDEX(E:E,MATCH(Q1602,C:C,0))),\"-\")","v":"-"},{"$f":"IFERROR(IF(Q1602=\"\",\"-\",INDEX(N:N,MATCH(Q1602,C:C,0))),\"-\")","v":"-"},{"$f":"IFERROR(Tableau1[[#This Row],[THEO]]-Tableau1[[#This Row],[Qtt 2éme lot]],\"-\")","v":"-"},{"$f":"IF(IF(Q1602=\"\",\"-\",INDEX(E:E,MATCH(Q1602,C:C,0)))=IF(Q1602=\"\",\"-\",INDEX(E:E,MATCH(Q1602,C:C,1))),\"-\",IF(Q1602=\"\",\"-\",INDEX(E:E,MATCH(Q1602,C:C,1))))","v":"-"},{"$f":"IF(Tableau1[[#This Row],[2éme lot]]=\"-\",\"-\",IFERROR(IF(Q1602=\"\",\"-\",INDEX(I:I,MATCH(Q1602,C:C,0)+1)),\"-\"))","v":"-"},{"$f":"IFERROR(IF(Y1602=\"\",\"-\",INDEX(N:N,MATCH(Y1602,E:E,0))),\"-\")","v":"-"},{"$f":"IFERROR(IF(AA1602=\"\",\"-\",INDEX(H:H,MATCH(Y1602,E:E,0))),\"-\")","v":"-"}]
[2838,"MD004092","TROMBIX 15MG COMP.PELLI. B/30","rivaroxaban","079319","01.09.2021","MG/EXP1",41,"MG/EXP1-BOX6-014",null,0,null,"CHER",6661.12,"BEKER LABORATOIRES","-",null,{"$f":"SUMIF(Tableau1[Description article],Tableau1[Produits],Tableau1[Emplacement])","v":0},null,{"$f":"Sheet1!$S1603-Sheet1!$R1603","v":0},"-","-","-",{"$f":"IFERROR(Tableau1[[#This Row],[THEO]]-Tableau1[[#This Row],[Qtt 2éme lot]],\"-\")","v":"-"},"-",{"$f":"IF(Tableau1[[#This Row],[2éme lot]]=\"-\",\"-\",IFERROR(IF(Q1603=\"\",\"-\",INDEX(I:I,MATCH(Q1603,C:C,0)+1)),\"-\"))","v":"-"},"-","-"]
[2840,"MD004093","TROMBIX 20MG COMP.PELLI. B/30","rivaroxaban","079519","22.09.2021","MG/EXP1",64,"MG/EXP1-BOX6-014",null,0,null,"CHER",6661.12,"BEKER LABORATOIRES","-",null,{"$f":"SUMIF(Tableau1[Description article],Tableau1[Produits],Tableau1[Emplacement])","v":0},null,{"$f":"Sheet1!$S1604-Sheet1!$R1604","v":0},"-","-","-",{"$f":"IFERROR(Tableau1[[#This Row],[THEO]]-Tableau1[[#This Row],[Qtt 2éme lot]],\"-\")","v":"-"},"-",{"$f":"IF(Tableau1[[#This Row],[2éme lot]]=\"-\",\"-\",IFERROR(IF(Q1604=\"\",\"-\",INDEX(I:I,MATCH(Q1604,C:C,0)+1)),\"-\"))","v":"-"},"-","-"]
[2841,"MD001955","TUSSIDEX 0,1G/100ML ( 5MG/5ML) SRP. B/01 FL/125ML + GBL.DOSEUR","BROMHYDRATE DE DEXTROMETHORPHANE","8699","31.08.2021","MG/EXP1",60,"MG/EXP1-C-023",null,0,null,null,132.85,"INPHA MEDIS SPA","-",null,{"$f":"SUMIF(Tableau1[Description article],Tableau1[Produits],Tableau1[Emplacement])","v":0},null,{"$f":"Sheet1!$S1605-Sheet1!$R1605","v":0},"-","-","-",{"$f":"IFERROR(Tableau1[[#This Row],[THEO]]-Tableau1[[#This Row],[Qtt 2éme lot]],\"-\")","v":"-"},"-",{"$f":"IF(Tableau1[[#This Row],[2éme lot]]=\"-\",\"-\",IFERROR(IF(Q1605=\"\",\"-\",INDEX(I:I,MATCH(Q1605,C:C,0)+1)),\"-\"))","v":"-"},"-","-"]
[2843,"MD001956","TUSSIDEX 0,2% SRP. B/01 FL/125ML + GBL.DOSEUR","BROMHYDRATE DE DEXTROMETHORPHANE","8713","30.09.2020","MG/EXP1",132,"MG/EXP1-D-024",null,0,null,null,148.22,"INPHA MEDIS SPA","-",null,{"$f":"SUMIF(Tableau1[Description article],Tableau1[Produits],Tableau1[Emplacement])","v":0},null,{"$f":"Sheet1!$S1606-Sheet1!$R1606","v":0},"-","-","-",{"$f":"IFERROR(Tableau1[[#This Row],[THEO]]-Tableau1[[#This Row],[Qtt 2éme lot]],\"-\")","v":"-"},"-",{"$f":"IF(Tableau1[[#This Row],[2éme lot]]=\"-\",\"-\",IFERROR(IF(Q1606=\"\",\"-\",INDEX(I:I,MATCH(Q1606,C:C,0)+1)),\"-\"))","v":"-"},"-","-"]
[2848,"MD001963","ULTRA-LEVURE 100MG PDRE.SOL.ORA. B/14 SACH.","SACCHAROMYCES BOULARDI","3359","01.02.2022","MG/EXP1",32,"MG/EXP1-C-046",null,0,null,null,218.09,"BIOPHARM SPA","-",null,{"$f":"SUMIF(Tableau1[Description article],Tableau1[Produits],Tableau1[Emplacement])","v":0},null,{"$f":"Sheet1!$S1607-Sheet1!$R1607","v":0},"-","-","-",{"$f":"IFERROR(Tableau1[[#This Row],[THEO]]-Tableau1[[#This Row],[Qtt 2éme lot]],\"-\")","v":"-"},"-",{"$f":"IF(Tableau1[[#This Row],[2éme lot]]=\"-\",\"-\",IFERROR(IF(Q1607=\"\",\"-\",INDEX(I:I,MATCH(Q1607,C:C,0)+1)),\"-\"))","v":"-"},"-","-"]
[2850,"MD001964","ULTRA-LEVURE 200MG GLES. B/10","SACCHAROMYCES BOULARDI","66*","01.02.2022","MG/EXP1",21,"MG/EXP1-G-028",null,0,null,null,317.53,"BIOPHARM SPA","-",null,{"$f":"SUMIF(Tableau1[Description article],Tableau1[Produits],Tableau1[Emplacement])","v":0},null,{"$f":"Sheet1!$S1608-Sheet1!$R1608","v":0},"-","-","-",{"$f":"IFERROR(Tableau1[[#This Row],[THEO]]-Tableau1[[#This Row],[Qtt 2éme lot]],\"-\")","v":"-"},"-",{"$f":"IF(Tableau1[[#This Row],[2éme lot]]=\"-\",\"-\",IFERROR(IF(Q1608=\"\",\"-\",INDEX(I:I,MATCH(Q1608,C:C,0)+1)),\"-\"))","v":"-"},"-","-"]
[2851,"MD001967","UN-ALFA 0,25PG CAPS.ORA. B/30","ALFACALCIDOL","C14420","10.06.2022","MG/EXP1",24,"MG/EXP1-F-032",null,0,null,null,640.52,"BIOPHARM SPA","-",null,{"$f":"SUMIF(Tableau1[Description article],Tableau1[Produits],Tableau1[Emplacement])","v":0},null,{"$f":"Sheet1!$S1609-Sheet1!$R1609","v":0},"-","-","-",{"$f":"IFERROR(Tableau1[[#This Row],[THEO]]-Tableau1[[#This Row],[Qtt 2éme lot]],\"-\")","v":"-"},"-",{"$f":"IF(Tableau1[[#This Row],[2éme lot]]=\"-\",\"-\",IFERROR(IF(Q1609=\"\",\"-\",INDEX(I:I,MATCH(Q1609,C:C,0)+1)),\"-\"))","v":"-"},"-","-"]
[2852,"MD001968","UN-ALFA 1PG CAPS.ORA. B/30","ALFACALCIDOL","C12565","21.03.2022","MG/EXP1",1,"MG/EXP1-A-061",null,0,null,null,1439.64,"BIOPHARM SPA","-",null,{"$f":"SUMIF(Tableau1[Description article],Tableau1[Produits],Tableau1[Emplacement])","v":0},null,{"$f":"Sheet1!$S1610-Sheet1!$R1610","v":0},"-","-","-",{"$f":"IFERROR(Tableau1[[#This Row],[THEO]]-Tableau1[[#This Row],[Qtt 2éme lot]],\"-\")","v":"-"},"-",{"$f":"IF(Tableau1[[#This Row],[2éme lot]]=\"-\",\"-\",IFERROR(IF(Q1610=\"\",\"-\",INDEX(I:I,MATCH(Q1610,C:C,0)+1)),\"-\"))","v":"-"},"-","-"]
[2854,"MD004136","UNISIA 08/05MG COMP.B/30","CANDESARTAN /AMLODIPINE BESILATE","956215","01.07.2021","MG/EXP1",167,"MG/EXP1-D-011",null,0,null,null,1497.5,"HIKMA PHARMA ALGERIA SARL","-",null,{"$f":"SUMIF(Tableau1[Description article],Tableau1[Produits],Tableau1[Emplacement])","v":0},null,{"$f":"Sheet1!$S1611-Sheet1!$R1611","v":0},"-","-","-",{"$f":"IFERROR(Tableau1[[#This Row],[THEO]]-Tableau1[[#This Row],[Qtt 2éme lot]],\"-\")","v":"-"},"-",{"$f":"IF(Tableau1[[#This Row],[2éme lot]]=\"-\",\"-\",IFERROR(IF(Q1611=\"\",\"-\",INDEX(I:I,MATCH(Q1611,C:C,0)+1)),\"-\"))","v":"-"},"-","-"]
[2856,"MD001969","UPFEN 200MG COMP.PELLI. B/20","IBUPROFENE","S8003*","01.10.2020","MG/EXP1",324,"MG/EXP1-C-005",null,0,null,null,152.95,"PROPHARMAL SPA","-",null,{"$f":"SUMIF(Tableau1[Description article],Tableau1[Produits],Tableau1[Emplacement])","v":0},null,{"$f":"Sheet1!$S1612-Sheet1!$R1612","v":0},"-","-","-",{"$f":"IFERROR(Tableau1[[#This Row],[THEO]]-Tableau1[[#This Row],[Qtt 2éme lot]],\"-\")","v":"-"},"-",{"$f":"IF(Tableau1[[#This Row],[2éme lot]]=\"-\",\"-\",IFERROR(IF(Q1612=\"\",\"-\",INDEX(I:I,MATCH(Q1612,C:C,0)+1)),\"-\"))","v":"-"},"-","-"]
[2859,"MD004150","URILAX 05 MG CP PEL B/30","SOLIFENACINE SUCCINATE","9YX016","01.04.2021","MG/EXP1",12,"MG/EXP1-BOX6-021",null,0,null,"CHER",3001.84,"VECOPHARM SARL","-",null,{"$f":"SUMIF(Tableau1[Description article],Tableau1[Produits],Tableau1[Emplacement])","v":0},null,{"$f":"Sheet1!$S1613-Sheet1!$R1613","v":0},"-","-","-",{"$f":"IFERROR(Tableau1[[#This Row],[THEO]]-Tableau1[[#This Row],[Qtt 2éme lot]],\"-\")","v":"-"},"-",{"$f":"IF(Tableau1[[#This Row],[2éme lot]]=\"-\",\"-\",IFERROR(IF(Q1613=\"\",\"-\",INDEX(I:I,MATCH(Q1613,C:C,0)+1)),\"-\"))","v":"-"},"-","-"]
[2860,"MD004150","URILAX 05 MG CP PEL B/30","SOLIFENACINE SUCCINATE","9YX016**","30.04.2021","MG/EXP1",49,"MG/EXP1-BOX6-021",null,0,null,"CHER",3146.62,"VECOPHARM SARL","-",null,{"$f":"SUMIF(Tableau1[Description article],Tableau1[Produits],Tableau1[Emplacement])","v":0},null,{"$f":"Sheet1!$S1614-Sheet1!$R1614","v":0},"-","-","-",{"$f":"IFERROR(Tableau1[[#This Row],[THEO]]-Tableau1[[#This Row],[Qtt 2éme lot]],\"-\")","v":"-"},"-",{"$f":"IF(Tableau1[[#This Row],[2éme lot]]=\"-\",\"-\",IFERROR(IF(Q1614=\"\",\"-\",INDEX(I:I,MATCH(Q1614,C:C,0)+1)),\"-\"))","v":"-"},"-","-"]
[2862,"MD001972","USENIL 400MG SUPP.SEC.ENF. B/08","MORNIFLUMATE","134/18","01.12.2021","MG/EXP1",105,"MG/EXP1-D-015",null,0,null,null,106.48,"PHARMALLIANCE EURL","-",null,{"$f":"SUMIF(Tableau1[Description article],Tableau1[Produits],Tableau1[Emplacement])","v":0},null,{"$f":"Sheet1!$S1615-Sheet1!$R1615","v":0},"-","-","-",{"$f":"IFERROR(Tableau1[[#This Row],[THEO]]-Tableau1[[#This Row],[Qtt 2éme lot]],\"-\")","v":"-"},"-",{"$f":"IF(Tableau1[[#This Row],[2éme lot]]=\"-\",\"-\",IFERROR(IF(Q1615=\"\",\"-\",INDEX(I:I,MATCH(Q1615,C:C,0)+1)),\"-\"))","v":"-"},"-","-"]
[2865,"MD001973","USENIL 700MG SUPP.AD. B/08","MORNIFLUMATE","081/18","28.12.2021","MG/EXP1",173,"MG/EXP1-B-029",null,0,null,null,135.63,"PHARMALLIANCE EURL","-",null,{"$f":"SUMIF(Tableau1[Description article],Tableau1[Produits],Tableau1[Emplacement])","v":0},null,{"$f":"Sheet1!$S1616-Sheet1!$R1616","v":0},"-","-","-",{"$f":"IFERROR(Tableau1[[#This Row],[THEO]]-Tableau1[[#This Row],[Qtt 2éme lot]],\"-\")","v":"-"},"-",{"$f":"IF(Tableau1[[#This Row],[2éme lot]]=\"-\",\"-\",IFERROR(IF(Q1616=\"\",\"-\",INDEX(I:I,MATCH(Q1616,C:C,0)+1)),\"-\"))","v":"-"},"-","-"]
[2866,"MD001975","UTROGESTAN 200MG CAPS.MOLLE ORA.&VAG. B/15","PROGESTERONE NATURELLE MICRONISEE","192011","01.06.2022","MG/EXP1",60,"MG/EXP1-A-014",null,0,null,null,803,"E.P.DIS EURAPHARMA SPA","-",null,{"$f":"SUMIF(Tableau1[Description article],Tableau1[Produits],Tableau1[Emplacement])","v":0},null,{"$f":"Sheet1!$S1617-Sheet1!$R1617","v":0},"-","-","-",{"$f":"IFERROR(Tableau1[[#This Row],[THEO]]-Tableau1[[#This Row],[Qtt 2éme lot]],\"-\")","v":"-"},"-",{"$f":"IF(Tableau1[[#This Row],[2éme lot]]=\"-\",\"-\",IFERROR(IF(Q1617=\"\",\"-\",INDEX(I:I,MATCH(Q1617,C:C,0)+1)),\"-\"))","v":"-"},"-","-"]
[2871,"MD003683","VAINCOR 10MG 10MG COMP.PELLI. B/07","OLANZAPINE","7578**","01.10.2020","MG/EXP1",10,"MG/EXP1-BOX6-PSY-010",null,0,null,null,1397.5,"INPHA MEDIS SPA","-",null,{"$f":"SUMIF(Tableau1[Description article],Tableau1[Produits],Tableau1[Emplacement])","v":0},null,{"$f":"Sheet1!$S1618-Sheet1!$R1618","v":0},"-","-","-",{"$f":"IFERROR(Tableau1[[#This Row],[THEO]]-Tableau1[[#This Row],[Qtt 2éme lot]],\"-\")","v":"-"},"-",{"$f":"IF(Tableau1[[#This Row],[2éme lot]]=\"-\",\"-\",IFERROR(IF(Q1618=\"\",\"-\",INDEX(I:I,MATCH(Q1618,C:C,0)+1)),\"-\"))","v":"-"},"-","-"]
[2872,"MD001977","VAINCOR 10MG 10MG COMP.PELLI. B/28","OLANZAPINE","9473","30.06.2022","MG/EXP1",68,"MG/EXP1-BOX6-PSY-013",null,0,null,"CHER",5597.5,"INPHA MEDIS SPA","-",null,{"$f":"SUMIF(Tableau1[Description article],Tableau1[Produits],Tableau1[Emplacement])","v":0},null,{"$f":"Sheet1!$S1619-Sheet1!$R1619","v":0},"-","-","-",{"$f":"IFERROR(Tableau1[[#This Row],[THEO]]-Tableau1[[#This Row],[Qtt 2éme lot]],\"-\")","v":"-"},"-",{"$f":"IF(Tableau1[[#This Row],[2éme lot]]=\"-\",\"-\",IFERROR(IF(Q1619=\"\",\"-\",INDEX(I:I,MATCH(Q1619,C:C,0)+1)),\"-\"))","v":"-"},"-","-"]
[2874,"MD002428","VALASTAN 160MG COMP.PELLI. B/30","VALSARTAN","085918","01.09.2021","MG/EXP1",100,"MG/EXP1-E-012",null,0,null,null,1377.5,"BEKER LABORATOIRES","-",null,{"$f":"SUMIF(Tableau1[Description article],Tableau1[Produits],Tableau1[Emplacement])","v":0},null,{"$f":"Sheet1!$S1620-Sheet1!$R1620","v":0},"-","-","-",{"$f":"IFERROR(Tableau1[[#This Row],[THEO]]-Tableau1[[#This Row],[Qtt 2éme lot]],\"-\")","v":"-"},"-",{"$f":"IF(Tableau1[[#This Row],[2éme lot]]=\"-\",\"-\",IFERROR(IF(Q1620=\"\",\"-\",INDEX(I:I,MATCH(Q1620,C:C,0)+1)),\"-\"))","v":"-"},"-","-"]
[2875,"MD003976","VALASTAN 80MG COMP.PELLI. B/30","VALSARTAN","042217*","01.05.2020","MG/EXP1",200,"MG/EXP1-BOX6-010",null,0,null,null,1377.5,"BEKER LABORATOIRES","-",null,{"$f":"SUMIF(Tableau1[Description article],Tableau1[Produits],Tableau1[Emplacement])","v":0},null,{"$f":"Sheet1!$S1621-Sheet1!$R1621","v":0},"-","-","-",{"$f":"IFERROR(Tableau1[[#This Row],[THEO]]-Tableau1[[#This Row],[Qtt 2éme lot]],\"-\")","v":"-"},"-",{"$f":"IF(Tableau1[[#This Row],[2éme lot]]=\"-\",\"-\",IFERROR(IF(Q1621=\"\",\"-\",INDEX(I:I,MATCH(Q1621,C:C,0)+1)),\"-\"))","v":"-"},"-","-"]
[2876,"MD003976","VALASTAN 80MG COMP.PELLI. B/30","VALSARTAN","085618*","19.09.2021","MG/EXP1",12,"MG/EXP1-BOX6-010",null,0,null,null,1377.5,"BEKER LABORATOIRES","-",null,{"$f":"SUMIF(Tableau1[Description article],Tableau1[Produits],Tableau1[Emplacement])","v":0},null,{"$f":"Sheet1!$S1622-Sheet1!$R1622","v":0},"-","-","-",{"$f":"IFERROR(Tableau1[[#This Row],[THEO]]-Tableau1[[#This Row],[Qtt 2éme lot]],\"-\")","v":"-"},"-",{"$f":"IF(Tableau1[[#This Row],[2éme lot]]=\"-\",\"-\",IFERROR(IF(Q1622=\"\",\"-\",INDEX(I:I,MATCH(Q1622,C:C,0)+1)),\"-\"))","v":"-"},"-","-"]
[2877,"PP00447","VAPOSENS BAUME 40 ML","décongestionnant nasal antitussif","VS001","01.02.2021","MG/EXP1",139,"MG/EXP1-A-054",null,0,null,null,160,"DERMO SENS SARL","-",null,{"$f":"SUMIF(Tableau1[Description article],Tableau1[Produits],Tableau1[Emplacement])","v":0},null,{"$f":"Sheet1!$S1623-Sheet1!$R1623","v":0},"-","-","-",{"$f":"IFERROR(Tableau1[[#This Row],[THEO]]-Tableau1[[#This Row],[Qtt 2éme lot]],\"-\")","v":"-"},"-",{"$f":"IF(Tableau1[[#This Row],[2éme lot]]=\"-\",\"-\",IFERROR(IF(Q1623=\"\",\"-\",INDEX(I:I,MATCH(Q1623,C:C,0)+1)),\"-\"))","v":"-"},"-","-"]
[2878,"MD001992","VASKOL 10MG COMP.PELLI. B/30","ATORVASTATINE","M35002R","31.12.2021","MG/EXP1",127,"MG/EXP1-A-013",null,0,null,null,835.1,"MERINAL LABORATOIRES","-",null,{"$f":"SUMIF(Tableau1[Description article],Tableau1[Produits],Tableau1[Emplacement])","v":0},null,{"$f":"Sheet1!$S1624-Sheet1!$R1624","v":0},"-","-","-",{"$f":"IFERROR(Tableau1[[#This Row],[THEO]]-Tableau1[[#This Row],[Qtt 2éme lot]],\"-\")","v":"-"},"-",{"$f":"IF(Tableau1[[#This Row],[2éme lot]]=\"-\",\"-\",IFERROR(IF(Q1624=\"\",\"-\",INDEX(I:I,MATCH(Q1624,C:C,0)+1)),\"-\"))","v":"-"},"-","-"]
[2882,"MD001993","VASKOL 20 20MG COMP.PELLI. B/30","ATORVASTATINE","M33006R","01.01.2022","MG/EXP1",326,"MG/EXP1-G-003",null,0,null,null,1244.9,"MERINAL LABORATOIRES","-",null,{"$f":"SUMIF(Tableau1[Description article],Tableau1[Produits],Tableau1[Emplacement])","v":0},null,{"$f":"Sheet1!$S1625-Sheet1!$R1625","v":0},"-","-","-",{"$f":"IFERROR(Tableau1[[#This Row],[THEO]]-Tableau1[[#This Row],[Qtt 2éme lot]],\"-\")","v":"-"},"-",{"$f":"IF(Tableau1[[#This Row],[2éme lot]]=\"-\",\"-\",IFERROR(IF(Q1625=\"\",\"-\",INDEX(I:I,MATCH(Q1625,C:C,0)+1)),\"-\"))","v":"-"},"-","-"]
[2883,"MD001994","VASTA 20MG COMP.ENRO. B/30","SIMVASTATINE","190977","01.04.2021","MG/EXP1",2,"MG/EXP1-BOX6-010",null,0,null,null,1244.9,"EL KENDI INDUSTRIE DE MEDICAMENTS SPA","-",null,{"$f":"SUMIF(Tableau1[Description article],Tableau1[Produits],Tableau1[Emplacement])","v":0},null,{"$f":"Sheet1!$S1626-Sheet1!$R1626","v":0},"-","-","-",{"$f":"IFERROR(Tableau1[[#This Row],[THEO]]-Tableau1[[#This Row],[Qtt 2éme lot]],\"-\")","v":"-"},"-",{"$f":"IF(Tableau1[[#This Row],[2éme lot]]=\"-\",\"-\",IFERROR(IF(Q1626=\"\",\"-\",INDEX(I:I,MATCH(Q1626,C:C,0)+1)),\"-\"))","v":"-"},"-","-"]
[2885,"MD001994","VASTA 20MG COMP.ENRO. B/30","SIMVASTATINE","190977*","01.04.2021","MG/EXP1",2,"MG/EXP1-BOX6-010",null,0,null,null,1244.9,"EL KENDI INDUSTRIE DE MEDICAMENTS SPA","-",null,{"$f":"SUMIF(Tableau1[Description article],Tableau1[Produits],Tableau1[Emplacement])","v":0},null,{"$f":"Sheet1!$S1627-Sheet1!$R1627","v":0},"-","-","-",{"$f":"IFERROR(Tableau1[[#This Row],[THEO]]-Tableau1[[#This Row],[Qtt 2éme lot]],\"-\")","v":"-"},"-",{"$f":"IF(Tableau1[[#This Row],[2éme lot]]=\"-\",\"-\",IFERROR(IF(Q1627=\"\",\"-\",INDEX(I:I,MATCH(Q1627,C:C,0)+1)),\"-\"))","v":"-"},"-","-"]
[2887,"MD001995","VASTAREL 35MG COMP.PELLI.LM. B/60","TRIMETAZIDINE","9316","30.09.2022","MG/EXP1",149,"MG/EXP1-C-059",null,0,null,null,840.85,"LDM LABORATOIRES DE DIAGNOSTIC MAGHREBINS","-",null,{"$f":"SUMIF(Tableau1[Description article],Tableau1[Produits],Tableau1[Emplacement])","v":0},null,{"$f":"Sheet1!$S1628-Sheet1!$R1628","v":0},"-","-","-",{"$f":"IFERROR(Tableau1[[#This Row],[THEO]]-Tableau1[[#This Row],[Qtt 2éme lot]],\"-\")","v":"-"},"-",{"$f":"IF(Tableau1[[#This Row],[2éme lot]]=\"-\",\"-\",IFERROR(IF(Q1628=\"\",\"-\",INDEX(I:I,MATCH(Q1628,C:C,0)+1)),\"-\"))","v":"-"},"-","-"]
[2892,"MD001996","VASTOR 20MG COMP.PELLI. B/60","TRIMETAZIDINE","003/19","01.09.2022","MG/EXP1",189,"MG/EXP1-E-041",null,0,null,null,390,"PHARMALLIANCE EURL","-",null,{"$f":"SUMIF(Tableau1[Description article],Tableau1[Produits],Tableau1[Emplacement])","v":0},null,{"$f":"Sheet1!$S1629-Sheet1!$R1629","v":0},"-","-","-",{"$f":"IFERROR(Tableau1[[#This Row],[THEO]]-Tableau1[[#This Row],[Qtt 2éme lot]],\"-\")","v":"-"},"-",{"$f":"IF(Tableau1[[#This Row],[2éme lot]]=\"-\",\"-\",IFERROR(IF(Q1629=\"\",\"-\",INDEX(I:I,MATCH(Q1629,C:C,0)+1)),\"-\"))","v":"-"},"-","-"]
[2894,"MD001998","VAVO 0,02 CR.DERM. T/15G","KETOCONAZOLE","192644","01.01.2022","MG/EXP1",192,"MG/EXP1-C-047",null,0,null,null,184.8,"EL KENDI INDUSTRIE DE MEDICAMENTS SPA","-",null,{"$f":"SUMIF(Tableau1[Description article],Tableau1[Produits],Tableau1[Emplacement])","v":0},null,{"$f":"Sheet1!$S1630-Sheet1!$R1630","v":0},"-","-","-",{"$f":"IFERROR(Tableau1[[#This Row],[THEO]]-Tableau1[[#This Row],[Qtt 2éme lot]],\"-\")","v":"-"},"-",{"$f":"IF(Tableau1[[#This Row],[2éme lot]]=\"-\",\"-\",IFERROR(IF(Q1630=\"\",\"-\",INDEX(I:I,MATCH(Q1630,C:C,0)+1)),\"-\"))","v":"-"},"-","-"]
[2895,"MD001997","VAVO SHAMPOO 0,02 SHAMP. FL/100ML","KETOCONAZOL SHAMPOING","9NN633","01.04.2022","MG/EXP1",4,"MG/EXP1-E-018",null,0,null,null,755.33,"LDM LABORATOIRES DE DIAGNOSTIC MAGHREBINS","-",null,{"$f":"SUMIF(Tableau1[Description article],Tableau1[Produits],Tableau1[Emplacement])","v":0},null,{"$f":"Sheet1!$S1631-Sheet1!$R1631","v":0},"-","-","-",{"$f":"IFERROR(Tableau1[[#This Row],[THEO]]-Tableau1[[#This Row],[Qtt 2éme lot]],\"-\")","v":"-"},"-",{"$f":"IF(Tableau1[[#This Row],[2éme lot]]=\"-\",\"-\",IFERROR(IF(Q1631=\"\",\"-\",INDEX(I:I,MATCH(Q1631,C:C,0)+1)),\"-\"))","v":"-"},"-","-"]
[2896,"MD001999","VAZOTEK 2 2MG COMP.SEC. B/30","MOLSIDOMINE","M16001R","31.03.2021","MG/EXP1",548,"MG/EXP1-B-055",null,0,null,null,261.5,"MERINAL LABORATOIRES","-",null,{"$f":"SUMIF(Tableau1[Description article],Tableau1[Produits],Tableau1[Emplacement])","v":0},null,{"$f":"Sheet1!$S1632-Sheet1!$R1632","v":0},"-","-","-",{"$f":"IFERROR(Tableau1[[#This Row],[THEO]]-Tableau1[[#This Row],[Qtt 2éme lot]],\"-\")","v":"-"},"-",{"$f":"IF(Tableau1[[#This Row],[2éme lot]]=\"-\",\"-\",IFERROR(IF(Q1632=\"\",\"-\",INDEX(I:I,MATCH(Q1632,C:C,0)+1)),\"-\"))","v":"-"},"-","-"]
[2899,"MD002000","VAZOTEK 4 4MG COMP.SEC. B/30","MOLSIDOMINE","M17001R","31.03.2021","MG/EXP1",183,"MG/EXP1-C-071",null,0,null,null,447.5,"MERINAL LABORATOIRES","-",null,{"$f":"SUMIF(Tableau1[Description article],Tableau1[Produits],Tableau1[Emplacement])","v":0},null,{"$f":"Sheet1!$S1633-Sheet1!$R1633","v":0},"-","-","-",{"$f":"IFERROR(Tableau1[[#This Row],[THEO]]-Tableau1[[#This Row],[Qtt 2éme lot]],\"-\")","v":"-"},"-",{"$f":"IF(Tableau1[[#This Row],[2éme lot]]=\"-\",\"-\",IFERROR(IF(Q1633=\"\",\"-\",INDEX(I:I,MATCH(Q1633,C:C,0)+1)),\"-\"))","v":"-"},"-","-"]
[2900,"MD002004","VENLAXOR LP 75MG GLES.LP B/30","VENLAFAXINE","005","01.06.2020","MG/EXP1",39,"MG/EXP1-BOX6-PSY-013",null,0,null,null,1738.7,"PROVIVO SPA","-",null,{"$f":"SUMIF(Tableau1[Description article],Tableau1[Produits],Tableau1[Emplacement])","v":0},null,{"$f":"Sheet1!$S1634-Sheet1!$R1634","v":0},"-","-","-",{"$f":"IFERROR(Tableau1[[#This Row],[THEO]]-Tableau1[[#This Row],[Qtt 2éme lot]],\"-\")","v":"-"},"-",{"$f":"IF(Tableau1[[#This Row],[2éme lot]]=\"-\",\"-\",IFERROR(IF(Q1634=\"\",\"-\",INDEX(I:I,MATCH(Q1634,C:C,0)+1)),\"-\"))","v":"-"},"-","-"]
[2901,"MD002005","VENOFER 20MG/ML SOL.INJ.P.PERF.IV.\\INJ.EN DIALYSEUR B/05 AMP/5ML","HYDROXYDE FERRIQUE SACCHAROSE","9291012AB","01.02.2022","MG/EXP1",1,"MG/EXP1-BOX6-PSY-013",null,0,null,"CHER",3850.17,"ABDI IBRAHIM REMED PHARMA SPA","-",null,{"$f":"SUMIF(Tableau1[Description article],Tableau1[Produits],Tableau1[Emplacement])","v":0},null,{"$f":"Sheet1!$S1635-Sheet1!$R1635","v":0},"-","-","-",{"$f":"IFERROR(Tableau1[[#This Row],[THEO]]-Tableau1[[#This Row],[Qtt 2éme lot]],\"-\")","v":"-"},"-",{"$f":"IF(Tableau1[[#This Row],[2éme lot]]=\"-\",\"-\",IFERROR(IF(Q1635=\"\",\"-\",INDEX(I:I,MATCH(Q1635,C:C,0)+1)),\"-\"))","v":"-"},"-","-"]
[2902,"PP00450","VENOLITE PATCH HYDROGEL SACHET/2.FEUILLES 10cmX12cm","PATCH HYDROGEL","CV17014","01.06.2020","MG/EXP1",30,"MG/EXP1-A-041",null,0,null,null,300,"BIOPHARM SPA","-",null,{"$f":"SUMIF(Tableau1[Description article],Tableau1[Produits],Tableau1[Emplacement])","v":0},null,{"$f":"Sheet1!$S1636-Sheet1!$R1636","v":0},"-","-","-",{"$f":"IFERROR(Tableau1[[#This Row],[THEO]]-Tableau1[[#This Row],[Qtt 2éme lot]],\"-\")","v":"-"},"-",{"$f":"IF(Tableau1[[#This Row],[2éme lot]]=\"-\",\"-\",IFERROR(IF(Q1636=\"\",\"-\",INDEX(I:I,MATCH(Q1636,C:C,0)+1)),\"-\"))","v":"-"},"-","-"]
[2903,"MD004183","VENOSMIL 200MG GLES. B/60","HYDROSMINE","3338","01.01.2024","MG/EXP1",14,"MG/EXP1-F-028",null,0,null,null,1023.68,"BIOPHARM SPA","-",null,{"$f":"SUMIF(Tableau1[Description article],Tableau1[Produits],Tableau1[Emplacement])","v":0},null,{"$f":"Sheet1!$S1637-Sheet1!$R1637","v":0},"-","-","-",{"$f":"IFERROR(Tableau1[[#This Row],[THEO]]-Tableau1[[#This Row],[Qtt 2éme lot]],\"-\")","v":"-"},"-",{"$f":"IF(Tableau1[[#This Row],[2éme lot]]=\"-\",\"-\",IFERROR(IF(Q1637=\"\",\"-\",INDEX(I:I,MATCH(Q1637,C:C,0)+1)),\"-\"))","v":"-"},"-","-"]
[2905,"MD004183","VENOSMIL 200MG GLES. B/60","HYDROSMINE","3339","01.03.2024","MG/EXP1",192,"MG/EXP1-F-027",null,0,null,null,1023.68,"BIOPHARM SPA","-",null,{"$f":"SUMIF(Tableau1[Description article],Tableau1[Produits],Tableau1[Emplacement])","v":0},null,{"$f":"Sheet1!$S1638-Sheet1!$R1638","v":0},"-","-","-",{"$f":"IFERROR(Tableau1[[#This Row],[THEO]]-Tableau1[[#This Row],[Qtt 2éme lot]],\"-\")","v":"-"},"-",{"$f":"IF(Tableau1[[#This Row],[2éme lot]]=\"-\",\"-\",IFERROR(IF(Q1638=\"\",\"-\",INDEX(I:I,MATCH(Q1638,C:C,0)+1)),\"-\"))","v":"-"},"-","-"]
[2906,"MD002007","VENTOLINE 100PG/DSE AERO. FL/200 DSE.","SALBUTAMOL","UB3G","01.06.2021","MG/EXP1",1030,"MG/EXP1-H-001",null,0,null,null,293.33,"GlaxoSmithKline","-",null,{"$f":"SUMIF(Tableau1[Description article],Tableau1[Produits],Tableau1[Emplacement])","v":0},null,{"$f":"Sheet1!$S1639-Sheet1!$R1639","v":0},"-","-","-",{"$f":"IFERROR(Tableau1[[#This Row],[THEO]]-Tableau1[[#This Row],[Qtt 2éme lot]],\"-\")","v":"-"},"-",{"$f":"IF(Tableau1[[#This Row],[2éme lot]]=\"-\",\"-\",IFERROR(IF(Q1639=\"\",\"-\",INDEX(I:I,MATCH(Q1639,C:C,0)+1)),\"-\"))","v":"-"},"-","-"]
[2910,"MD002007","VENTOLINE 100PG/DSE AERO. FL/200 DSE.","SALBUTAMOL","CA4S","01.08.2021","MG/EXP1",70,"MG/EXP1-A-015",null,0,null,null,292.24,"GlaxoSmithKline","-",null,{"$f":"SUMIF(Tableau1[Description article],Tableau1[Produits],Tableau1[Emplacement])","v":0},null,{"$f":"Sheet1!$S1640-Sheet1!$R1640","v":0},"-","-","-",{"$f":"IFERROR(Tableau1[[#This Row],[THEO]]-Tableau1[[#This Row],[Qtt 2éme lot]],\"-\")","v":"-"},"-",{"$f":"IF(Tableau1[[#This Row],[2éme lot]]=\"-\",\"-\",IFERROR(IF(Q1640=\"\",\"-\",INDEX(I:I,MATCH(Q1640,C:C,0)+1)),\"-\"))","v":"-"},"-","-"]
[2912,"MD004066","VERSEC 24 MG CP B/60","BETAHISTINE","048","01.04.2021","MG/EXP1",86,"MG/EXP1-D-051",null,0,null,null,925.7,"BIOPHARM SPA","-",null,{"$f":"SUMIF(Tableau1[Description article],Tableau1[Produits],Tableau1[Emplacement])","v":0},null,{"$f":"Sheet1!$S1641-Sheet1!$R1641","v":0},"-","-","-",{"$f":"IFERROR(Tableau1[[#This Row],[THEO]]-Tableau1[[#This Row],[Qtt 2éme lot]],\"-\")","v":"-"},"-",{"$f":"IF(Tableau1[[#This Row],[2éme lot]]=\"-\",\"-\",IFERROR(IF(Q1641=\"\",\"-\",INDEX(I:I,MATCH(Q1641,C:C,0)+1)),\"-\"))","v":"-"},"-","-"]
[2915,"MD002008","VERTEN 400MG COMP. B/01","ALBENDAZOLE","020*","01.11.2022","MG/EXP1",473,"MG/EXP1-C-019",null,0,null,null,191.22,"BIO-GALENIC SARL","-",null,{"$f":"SUMIF(Tableau1[Description article],Tableau1[Produits],Tableau1[Emplacement])","v":0},null,{"$f":"Sheet1!$S1642-Sheet1!$R1642","v":0},"-","-","-",{"$f":"IFERROR(Tableau1[[#This Row],[THEO]]-Tableau1[[#This Row],[Qtt 2éme lot]],\"-\")","v":"-"},"-",{"$f":"IF(Tableau1[[#This Row],[2éme lot]]=\"-\",\"-\",IFERROR(IF(Q1642=\"\",\"-\",INDEX(I:I,MATCH(Q1642,C:C,0)+1)),\"-\"))","v":"-"},"-","-"]
[2916,"MD002010","VESICARE 5MG COMP.PELLI. B/30","SOLIFENACINE SUCCINATE","19D0904*","31.03.2022","MG/EXP1",77,"MG/EXP1-BOX6-020",null,0,null,"CHER",2796.72,"BIOPHARM SPA","-",null,{"$f":"SUMIF(Tableau1[Description article],Tableau1[Produits],Tableau1[Emplacement])","v":0},null,{"$f":"Sheet1!$S1643-Sheet1!$R1643","v":0},"-","-","-",{"$f":"IFERROR(Tableau1[[#This Row],[THEO]]-Tableau1[[#This Row],[Qtt 2éme lot]],\"-\")","v":"-"},"-",{"$f":"IF(Tableau1[[#This Row],[2éme lot]]=\"-\",\"-\",IFERROR(IF(Q1643=\"\",\"-\",INDEX(I:I,MATCH(Q1643,C:C,0)+1)),\"-\"))","v":"-"},"-","-"]
[2917,"MD002010","VESICARE 5MG COMP.PELLI. B/30","SOLIFENACINE SUCCINATE","19D0904","01.03.2022","MG/EXP1",2,"MG/EXP1-BOX6-020",null,0,null,"CHER",2877.37,"BIOPHARM SPA","-",null,{"$f":"SUMIF(Tableau1[Description article],Tableau1[Produits],Tableau1[Emplacement])","v":0},null,{"$f":"Sheet1!$S1644-Sheet1!$R1644","v":0},"-","-","-",{"$f":"IFERROR(Tableau1[[#This Row],[THEO]]-Tableau1[[#This Row],[Qtt 2éme lot]],\"-\")","v":"-"},"-",{"$f":"IF(Tableau1[[#This Row],[2éme lot]]=\"-\",\"-\",IFERROR(IF(Q1644=\"\",\"-\",INDEX(I:I,MATCH(Q1644,C:C,0)+1)),\"-\"))","v":"-"},"-","-"]
[2918,"MD003996","VESTAG 160MG COMP.PELLI. B/30","VALSARTAN","014","09.01.2021","MG/EXP1",12,"MG/EXP1-A-025",null,0,null,null,1377.5,"MM LABORATOIRE MM SARL","-",null,{"$f":"SUMIF(Tableau1[Description article],Tableau1[Produits],Tableau1[Emplacement])","v":0},null,{"$f":"Sheet1!$S1645-Sheet1!$R1645","v":0},"-","-","-",{"$f":"IFERROR(Tableau1[[#This Row],[THEO]]-Tableau1[[#This Row],[Qtt 2éme lot]],\"-\")","v":"-"},"-",{"$f":"IF(Tableau1[[#This Row],[2éme lot]]=\"-\",\"-\",IFERROR(IF(Q1645=\"\",\"-\",INDEX(I:I,MATCH(Q1645,C:C,0)+1)),\"-\"))","v":"-"},"-","-"]
[2919,"MD002011","VESTAG 80MG COMP.PELLI. B/30","VALSARTAN","009","09.11.2020","MG/EXP1",16,"MG/EXP1-D-026",null,0,null,null,1377.5,"MM LABORATOIRE MM SARL","-",null,{"$f":"SUMIF(Tableau1[Description article],Tableau1[Produits],Tableau1[Emplacement])","v":0},null,{"$f":"Sheet1!$S1646-Sheet1!$R1646","v":0},"-","-","-",{"$f":"IFERROR(Tableau1[[#This Row],[THEO]]-Tableau1[[#This Row],[Qtt 2éme lot]],\"-\")","v":"-"},"-",{"$f":"IF(Tableau1[[#This Row],[2éme lot]]=\"-\",\"-\",IFERROR(IF(Q1646=\"\",\"-\",INDEX(I:I,MATCH(Q1646,C:C,0)+1)),\"-\"))","v":"-"},"-","-"]
[2920,"MD002014","VETRAM 250MG COMP.PELLI.SEC. B/30","LEVETIRACETAM","05271","01.06.2022","MG/EXP1",173,"MG/EXP1-BOX6-013",null,0,null,null,846.02,"HIKMA PHARMA ALGERIA SARL","-",null,{"$f":"SUMIF(Tableau1[Description article],Tableau1[Produits],Tableau1[Emplacement])","v":0},null,{"$f":"Sheet1!$S1647-Sheet1!$R1647","v":0},"-","-","-",{"$f":"IFERROR(Tableau1[[#This Row],[THEO]]-Tableau1[[#This Row],[Qtt 2éme lot]],\"-\")","v":"-"},"-",{"$f":"IF(Tableau1[[#This Row],[2éme lot]]=\"-\",\"-\",IFERROR(IF(Q1647=\"\",\"-\",INDEX(I:I,MATCH(Q1647,C:C,0)+1)),\"-\"))","v":"-"},"-","-"]
[2921,"MD002015","VETRAM 500MG COMP.PELLI.SEC. B/30","LEVETIRACETAM","05462","01.10.2022","MG/EXP1",260,"MG/EXP1-BOX6-PSY-013",null,0,null,null,1692.46,"HIKMA PHARMA ALGERIA SARL","-",null,{"$f":"SUMIF(Tableau1[Description article],Tableau1[Produits],Tableau1[Emplacement])","v":0},null,{"$f":"Sheet1!$S1648-Sheet1!$R1648","v":0},"-","-","-",{"$f":"IFERROR(Tableau1[[#This Row],[THEO]]-Tableau1[[#This Row],[Qtt 2éme lot]],\"-\")","v":"-"},"-",{"$f":"IF(Tableau1[[#This Row],[2éme lot]]=\"-\",\"-\",IFERROR(IF(Q1648=\"\",\"-\",INDEX(I:I,MATCH(Q1648,C:C,0)+1)),\"-\"))","v":"-"},"-","-"]
[2923,"MD002016","VETRAM 750MG COMP.PELLI.SEC. B/30","LEVETIRACETAM","05276","01.06.2022","MG/EXP1",44,"MG/EXP1-BOX6-PSY-013",null,0,null,null,2307.5,"HIKMA PHARMA ALGERIA SARL","-",null,{"$f":"SUMIF(Tableau1[Description article],Tableau1[Produits],Tableau1[Emplacement])","v":0},null,{"$f":"Sheet1!$S1649-Sheet1!$R1649","v":0},"-","-","-",{"$f":"IFERROR(Tableau1[[#This Row],[THEO]]-Tableau1[[#This Row],[Qtt 2éme lot]],\"-\")","v":"-"},"-",{"$f":"IF(Tableau1[[#This Row],[2éme lot]]=\"-\",\"-\",IFERROR(IF(Q1649=\"\",\"-\",INDEX(I:I,MATCH(Q1649,C:C,0)+1)),\"-\"))","v":"-"},"-","-"]
[2924,"MD002017","VIABEK 100MG COMP.PELLI. B/04","SILDENAFIL","001819","10.01.2023","MG/EXP1",113,"MG/EXP1-BOX6-010",null,0,null,null,1437.49,"BEKER LABORATOIRES","-",null,{"$f":"SUMIF(Tableau1[Description article],Tableau1[Produits],Tableau1[Emplacement])","v":0},null,{"$f":"Sheet1!$S1650-Sheet1!$R1650","v":0},"-","-","-",{"$f":"IFERROR(Tableau1[[#This Row],[THEO]]-Tableau1[[#This Row],[Qtt 2éme lot]],\"-\")","v":"-"},"-",{"$f":"IF(Tableau1[[#This Row],[2éme lot]]=\"-\",\"-\",IFERROR(IF(Q1650=\"\",\"-\",INDEX(I:I,MATCH(Q1650,C:C,0)+1)),\"-\"))","v":"-"},"-","-"]
[2925,"MD002019","VIABEK 50MG COMP.PELLI.SEC. B/02","SILDENAFIL","124918","09.01.2023","MG/EXP1",54,"MG/EXP1-F-037",null,0,null,null,297.5,"BEKER LABORATOIRES","-",null,{"$f":"SUMIF(Tableau1[Description article],Tableau1[Produits],Tableau1[Emplacement])","v":0},null,{"$f":"Sheet1!$S1651-Sheet1!$R1651","v":0},"-","-","-",{"$f":"IFERROR(Tableau1[[#This Row],[THEO]]-Tableau1[[#This Row],[Qtt 2éme lot]],\"-\")","v":"-"},"-",{"$f":"IF(Tableau1[[#This Row],[2éme lot]]=\"-\",\"-\",IFERROR(IF(Q1651=\"\",\"-\",INDEX(I:I,MATCH(Q1651,C:C,0)+1)),\"-\"))","v":"-"},"-","-"]
[2928,"MD002018","VIABEK 50MG COMP.PELLI.SEC. B/08","SILDENAFIL","125018","10.01.2023","MG/EXP1",214,"MG/EXP1-C-045",null,0,null,null,1197.5,"BEKER LABORATOIRES","-",null,{"$f":"SUMIF(Tableau1[Description article],Tableau1[Produits],Tableau1[Emplacement])","v":0},null,{"$f":"Sheet1!$S1652-Sheet1!$R1652","v":0},"-","-","-",{"$f":"IFERROR(Tableau1[[#This Row],[THEO]]-Tableau1[[#This Row],[Qtt 2éme lot]],\"-\")","v":"-"},"-",{"$f":"IF(Tableau1[[#This Row],[2éme lot]]=\"-\",\"-\",IFERROR(IF(Q1652=\"\",\"-\",INDEX(I:I,MATCH(Q1652,C:C,0)+1)),\"-\"))","v":"-"},"-","-"]
[2933,"MD002020","VIACTAL 50MG COMP. B/02","SILDENAFIL","059","01.10.2022","MG/EXP1",64,"MG/EXP1-B-035",null,0,null,null,317.5,"SAIDAL UNITE CENTRE","-",null,{"$f":"SUMIF(Tableau1[Description article],Tableau1[Produits],Tableau1[Emplacement])","v":0},null,{"$f":"Sheet1!$S1653-Sheet1!$R1653","v":0},"-","-","-",{"$f":"IFERROR(Tableau1[[#This Row],[THEO]]-Tableau1[[#This Row],[Qtt 2éme lot]],\"-\")","v":"-"},"-",{"$f":"IF(Tableau1[[#This Row],[2éme lot]]=\"-\",\"-\",IFERROR(IF(Q1653=\"\",\"-\",INDEX(I:I,MATCH(Q1653,C:C,0)+1)),\"-\"))","v":"-"},"-","-"]
[2935,"MD002021","VIACTAL 50MG COMP. B/08","SILDENAFIL","108","01.11.2022","MG/EXP1",171,"MG/EXP1-A-010",null,0,null,null,1197.5,"SAIDAL UNITE CENTRE","-",null,{"$f":"SUMIF(Tableau1[Description article],Tableau1[Produits],Tableau1[Emplacement])","v":0},null,{"$f":"Sheet1!$S1654-Sheet1!$R1654","v":0},"-","-","-",{"$f":"IFERROR(Tableau1[[#This Row],[THEO]]-Tableau1[[#This Row],[Qtt 2éme lot]],\"-\")","v":"-"},"-",{"$f":"IF(Tableau1[[#This Row],[2éme lot]]=\"-\",\"-\",IFERROR(IF(Q1654=\"\",\"-\",INDEX(I:I,MATCH(Q1654,C:C,0)+1)),\"-\"))","v":"-"},"-","-"]
[2937,"MD002022","VIADIS 50MG COMP.PELLI. B/02","SILDENAFIL","8873","01.10.2021","MG/EXP1",33,"MG/EXP1-A-013",null,0,null,null,347,"INPHA MEDIS SPA","-",null,{"$f":"SUMIF(Tableau1[Description article],Tableau1[Produits],Tableau1[Emplacement])","v":0},null,{"$f":"Sheet1!$S1655-Sheet1!$R1655","v":0},"-","-","-",{"$f":"IFERROR(Tableau1[[#This Row],[THEO]]-Tableau1[[#This Row],[Qtt 2éme lot]],\"-\")","v":"-"},"-",{"$f":"IF(Tableau1[[#This Row],[2éme lot]]=\"-\",\"-\",IFERROR(IF(Q1655=\"\",\"-\",INDEX(I:I,MATCH(Q1655,C:C,0)+1)),\"-\"))","v":"-"},"-","-"]
[2938,"MD002023","VIADIS 50MG COMP.PELLI. B/04","SILDENAFIL","8874","01.10.2021","MG/EXP1",46,"MG/EXP1-BOX6-010",null,0,null,null,646.8,"INPHA MEDIS SPA","-",null,{"$f":"SUMIF(Tableau1[Description article],Tableau1[Produits],Tableau1[Emplacement])","v":0},null,{"$f":"Sheet1!$S1656-Sheet1!$R1656","v":0},"-","-","-",{"$f":"IFERROR(Tableau1[[#This Row],[THEO]]-Tableau1[[#This Row],[Qtt 2éme lot]],\"-\")","v":"-"},"-",{"$f":"IF(Tableau1[[#This Row],[2éme lot]]=\"-\",\"-\",IFERROR(IF(Q1656=\"\",\"-\",INDEX(I:I,MATCH(Q1656,C:C,0)+1)),\"-\"))","v":"-"},"-","-"]
[2939,"MD002024","VIAGNAFIL 50MG COMP.PELLI. B/04","SILDENAFIL","010","01.09.2021","MG/EXP1",32,"MG/EXP1-F-060",null,0,null,null,517.51,"HUP.P PHARMA SARL","-",null,{"$f":"SUMIF(Tableau1[Description article],Tableau1[Produits],Tableau1[Emplacement])","v":0},null,{"$f":"Sheet1!$S1657-Sheet1!$R1657","v":0},"-","-","-",{"$f":"IFERROR(Tableau1[[#This Row],[THEO]]-Tableau1[[#This Row],[Qtt 2éme lot]],\"-\")","v":"-"},"-",{"$f":"IF(Tableau1[[#This Row],[2éme lot]]=\"-\",\"-\",IFERROR(IF(Q1657=\"\",\"-\",INDEX(I:I,MATCH(Q1657,C:C,0)+1)),\"-\"))","v":"-"},"-","-"]
[2940,"MD002025","VIAGRA 50MG COMP.PELLI. B/02","SILDENAFIL","19628303","30.06.2024","MG/EXP1",114,"MG/EXP1-B-005",null,0,null,null,447.5,"PFIZER PHARM ALGERIE SPA","-",null,{"$f":"SUMIF(Tableau1[Description article],Tableau1[Produits],Tableau1[Emplacement])","v":0},null,{"$f":"Sheet1!$S1658-Sheet1!$R1658","v":0},"-","-","-",{"$f":"IFERROR(Tableau1[[#This Row],[THEO]]-Tableau1[[#This Row],[Qtt 2éme lot]],\"-\")","v":"-"},"-",{"$f":"IF(Tableau1[[#This Row],[2éme lot]]=\"-\",\"-\",IFERROR(IF(Q1658=\"\",\"-\",INDEX(I:I,MATCH(Q1658,C:C,0)+1)),\"-\"))","v":"-"},"-","-"]
[2943,"MD002027","VIANAFIL 50MG COMP.PELLI. B/4","SILDENAFIL","001/18","29.12.2020","MG/EXP1",141,"MG/EXP1-A-041",null,0,null,null,517.52,"PHARMALLIANCE EURL","-",null,{"$f":"SUMIF(Tableau1[Description article],Tableau1[Produits],Tableau1[Emplacement])","v":0},null,{"$f":"Sheet1!$S1659-Sheet1!$R1659","v":0},"-","-","-",{"$f":"IFERROR(Tableau1[[#This Row],[THEO]]-Tableau1[[#This Row],[Qtt 2éme lot]],\"-\")","v":"-"},"-",{"$f":"IF(Tableau1[[#This Row],[2éme lot]]=\"-\",\"-\",IFERROR(IF(Q1659=\"\",\"-\",INDEX(I:I,MATCH(Q1659,C:C,0)+1)),\"-\"))","v":"-"},"-","-"]
[2946,"MD002028","VIBRAMYCINE 100MG COMP.SEC. B/05","DOXYCYCLINE","19625804**","30.09.2023","MG/EXP1",345,"MG/EXP1-G-019",null,0,null,null,90.5,"PFIZER PHARM ALGERIE SPA","-",null,{"$f":"SUMIF(Tableau1[Description article],Tableau1[Produits],Tableau1[Emplacement])","v":0},null,{"$f":"Sheet1!$S1660-Sheet1!$R1660","v":0},"-","-","-",{"$f":"IFERROR(Tableau1[[#This Row],[THEO]]-Tableau1[[#This Row],[Qtt 2éme lot]],\"-\")","v":"-"},"-",{"$f":"IF(Tableau1[[#This Row],[2éme lot]]=\"-\",\"-\",IFERROR(IF(Q1660=\"\",\"-\",INDEX(I:I,MATCH(Q1660,C:C,0)+1)),\"-\"))","v":"-"},"-","-"]
[2947,"MD002029","VICTOZA 6MG/ML SOL.INJ.SC. B/02 STY.PREREMPL/3ML","LIRAGLUTIDE","JS68A47","01.05.2021","MG/EXP1",20,"MG/EXP1-BOX6",null,0,null,"GLAC",12570.04,"ALDAPH SPA","-",null,{"$f":"SUMIF(Tableau1[Description article],Tableau1[Produits],Tableau1[Emplacement])","v":0},null,{"$f":"Sheet1!$S1661-Sheet1!$R1661","v":0},"-","-","-",{"$f":"IFERROR(Tableau1[[#This Row],[THEO]]-Tableau1[[#This Row],[Qtt 2éme lot]],\"-\")","v":"-"},"-",{"$f":"IF(Tableau1[[#This Row],[2éme lot]]=\"-\",\"-\",IFERROR(IF(Q1661=\"\",\"-\",INDEX(I:I,MATCH(Q1661,C:C,0)+1)),\"-\"))","v":"-"},"-","-"]
[2948,"MD002031","VIRCET 100MG GLES. B/07","FLUCONAZOLE","007/18","01.07.2021","MG/EXP1",86,"MG/EXP1-F-043",null,0,null,null,860.22,"PHARMALLIANCE EURL","-",null,{"$f":"SUMIF(Tableau1[Description article],Tableau1[Produits],Tableau1[Emplacement])","v":0},null,{"$f":"Sheet1!$S1662-Sheet1!$R1662","v":0},"-","-","-",{"$f":"IFERROR(Tableau1[[#This Row],[THEO]]-Tableau1[[#This Row],[Qtt 2éme lot]],\"-\")","v":"-"},"-",{"$f":"IF(Tableau1[[#This Row],[2éme lot]]=\"-\",\"-\",IFERROR(IF(Q1662=\"\",\"-\",INDEX(I:I,MATCH(Q1662,C:C,0)+1)),\"-\"))","v":"-"},"-","-"]
[2949,"MD002034","VIRCET 50MG GLES. B/07","FLUCONAZOLE","003/18","01.07.2021","MG/EXP1",16,"MG/EXP1-E-015",null,0,null,null,508.5,"PHARMALLIANCE EURL","-",null,{"$f":"SUMIF(Tableau1[Description article],Tableau1[Produits],Tableau1[Emplacement])","v":0},null,{"$f":"Sheet1!$S1663-Sheet1!$R1663","v":0},"-","-","-",{"$f":"IFERROR(Tableau1[[#This Row],[THEO]]-Tableau1[[#This Row],[Qtt 2éme lot]],\"-\")","v":"-"},"-",{"$f":"IF(Tableau1[[#This Row],[2éme lot]]=\"-\",\"-\",IFERROR(IF(Q1663=\"\",\"-\",INDEX(I:I,MATCH(Q1663,C:C,0)+1)),\"-\"))","v":"-"},"-","-"]
[2950,"MD002035","VIRGAN 0,15% GEL OPHT. T/5G","GANCICLOVIR","480413","30.04.2022","MG/EXP1",150,"MG/EXP1-B-001",null,0,null,null,1056.59,"UPC SARL","-",null,{"$f":"SUMIF(Tableau1[Description article],Tableau1[Produits],Tableau1[Emplacement])","v":0},null,{"$f":"Sheet1!$S1664-Sheet1!$R1664","v":0},"-","-","-",{"$f":"IFERROR(Tableau1[[#This Row],[THEO]]-Tableau1[[#This Row],[Qtt 2éme lot]],\"-\")","v":"-"},"-",{"$f":"IF(Tableau1[[#This Row],[2éme lot]]=\"-\",\"-\",IFERROR(IF(Q1664=\"\",\"-\",INDEX(I:I,MATCH(Q1664,C:C,0)+1)),\"-\"))","v":"-"},"-","-"]
[2951,"MD002036","VISANNE 2MG COMP. B/28","DIENOGEST","WER3U3","01.03.2021","MG/EXP1",12,"MG/EXP1-BOX6-021",null,0,null,"CHER",6462.52,"BIOPHARM SPA","-",null,{"$f":"SUMIF(Tableau1[Description article],Tableau1[Produits],Tableau1[Emplacement])","v":0},null,{"$f":"Sheet1!$S1665-Sheet1!$R1665","v":0},"-","-","-",{"$f":"IFERROR(Tableau1[[#This Row],[THEO]]-Tableau1[[#This Row],[Qtt 2éme lot]],\"-\")","v":"-"},"-",{"$f":"IF(Tableau1[[#This Row],[2éme lot]]=\"-\",\"-\",IFERROR(IF(Q1665=\"\",\"-\",INDEX(I:I,MATCH(Q1665,C:C,0)+1)),\"-\"))","v":"-"},"-","-"]
[2952,"MD002036","VISANNE 2MG COMP. B/28","DIENOGEST","WER3U3**","01.03.2021","MG/EXP1",11,"MG/EXP1-BOX6-021",null,0,null,"CHER",6415.54,"BIOPHARM SPA",{"$f":"IFERROR(IF(Q1666=\"\",\"-\",INDEX(I:I,MATCH(Q1666,C:C,0))),\"-\")","v":"-"},null,{"$f":"SUMIF(Tableau1[Description article],Tableau1[Produits],Tableau1[Emplacement])","v":0},null,{"$f":"Sheet1!$S1666-Sheet1!$R1666","v":0},{"$f":"IFERROR(IF(Q1666=\"\",\"-\",INDEX(F:F,MATCH(Q1666,C:C,0))),\"-\")","v":"-"},{"$f":"IFERROR(IF(Q1666=\"\",\"-\",INDEX(E:E,MATCH(Q1666,C:C,0))),\"-\")","v":"-"},{"$f":"IFERROR(IF(Q1666=\"\",\"-\",INDEX(N:N,MATCH(Q1666,C:C,0))),\"-\")","v":"-"},{"$f":"IFERROR(Tableau1[[#This Row],[THEO]]-Tableau1[[#This Row],[Qtt 2éme lot]],\"-\")","v":"-"},{"$f":"IF(IF(Q1666=\"\",\"-\",INDEX(E:E,MATCH(Q1666,C:C,0)))=IF(Q1666=\"\",\"-\",INDEX(E:E,MATCH(Q1666,C:C,1))),\"-\",IF(Q1666=\"\",\"-\",INDEX(E:E,MATCH(Q1666,C:C,1))))","v":"-"},{"$f":"IF(Tableau1[[#This Row],[2éme lot]]=\"-\",\"-\",IFERROR(IF(Q1666=\"\",\"-\",INDEX(I:I,MATCH(Q1666,C:C,0)+1)),\"-\"))","v":"-"},{"$f":"IFERROR(IF(Y1666=\"\",\"-\",INDEX(N:N,MATCH(Y1666,E:E,0))),\"-\")","v":"-"},{"$f":"IFERROR(IF(AA1666=\"\",\"-\",INDEX(H:H,MATCH(Y1666,E:E,0))),\"-\")","v":"-"}]
[2953,"MD002391","VIT B12 1000µg/2ML SOL.INJ.IM.\\BUV. B/05 AMP/2ML","CYANOCOBALAMINE (OU VIT.B12)","010","01.11.2021","MG/EXP1",479,"MG/EXP1-C-004",null,0,null,null,220,"HUP.P PHARMA SARL","-",null,{"$f":"SUMIF(Tableau1[Description article],Tableau1[Produits],Tableau1[Emplacement])","v":0},null,{"$f":"Sheet1!$S1667-Sheet1!$R1667","v":0},"-","-","-",{"$f":"IFERROR(Tableau1[[#This Row],[THEO]]-Tableau1[[#This Row],[Qtt 2éme lot]],\"-\")","v":"-"},"-",{"$f":"IF(Tableau1[[#This Row],[2éme lot]]=\"-\",\"-\",IFERROR(IF(Q1667=\"\",\"-\",INDEX(I:I,MATCH(Q1667,C:C,0)+1)),\"-\"))","v":"-"},"-","-"]
[2954,"MD002040","VITA-C 500MG COMP. B/20","ACIDE ASCORBIQUE","366","01.01.2021","MG/EXP1",34,"MG/EXP1-D-042",null,0,null,null,178.89,"SAIDAL UNITE CENTRE","-",null,{"$f":"SUMIF(Tableau1[Description article],Tableau1[Produits],Tableau1[Emplacement])","v":0},null,{"$f":"Sheet1!$S1668-Sheet1!$R1668","v":0},"-","-","-",{"$f":"IFERROR(Tableau1[[#This Row],[THEO]]-Tableau1[[#This Row],[Qtt 2éme lot]],\"-\")","v":"-"},"-",{"$f":"IF(Tableau1[[#This Row],[2éme lot]]=\"-\",\"-\",IFERROR(IF(Q1668=\"\",\"-\",INDEX(I:I,MATCH(Q1668,C:C,0)+1)),\"-\"))","v":"-"},"-","-"]
[2955,"MD002040","VITA-C 500MG COMP. B/20","ACIDE ASCORBIQUE","370","01.01.2021","MG/EXP1",126,"MG/EXP1-D-041",null,0,null,null,178.89,"SAIDAL UNITE CENTRE","-",null,{"$f":"SUMIF(Tableau1[Description article],Tableau1[Produits],Tableau1[Emplacement])","v":0},null,{"$f":"Sheet1!$S1669-Sheet1!$R1669","v":0},"-","-","-",{"$f":"IFERROR(Tableau1[[#This Row],[THEO]]-Tableau1[[#This Row],[Qtt 2éme lot]],\"-\")","v":"-"},"-",{"$f":"IF(Tableau1[[#This Row],[2éme lot]]=\"-\",\"-\",IFERROR(IF(Q1669=\"\",\"-\",INDEX(I:I,MATCH(Q1669,C:C,0)+1)),\"-\"))","v":"-"},"-","-"]
[2957,"PP000445","VITADAD D3 COMP.PELL.1000UI. B/60 (COMPLEMENT ALIMENTAIRE)","VITAMINE D3","86BZ","01.12.2020","MG/EXP1",51,"MG/EXP1-B-008",null,0,null,null,999,"DAR AL DAWA SARL","-",null,{"$f":"SUMIF(Tableau1[Description article],Tableau1[Produits],Tableau1[Emplacement])","v":0},null,{"$f":"Sheet1!$S1670-Sheet1!$R1670","v":0},"-","-","-",{"$f":"IFERROR(Tableau1[[#This Row],[THEO]]-Tableau1[[#This Row],[Qtt 2éme lot]],\"-\")","v":"-"},"-",{"$f":"IF(Tableau1[[#This Row],[2éme lot]]=\"-\",\"-\",IFERROR(IF(Q1670=\"\",\"-\",INDEX(I:I,MATCH(Q1670,C:C,0)+1)),\"-\"))","v":"-"},"-","-"]
[2958,"PP00471","VITADONE D3 1000 UI GTTES.BUV. FL/20ML","VITAMINE D3","AA188","01.09.2021","MG/EXP1",7,"MG/EXP1-D-034",null,0,null,null,850,"PHARMA Sphere","-",null,{"$f":"SUMIF(Tableau1[Description article],Tableau1[Produits],Tableau1[Emplacement])","v":0},null,{"$f":"Sheet1!$S1671-Sheet1!$R1671","v":0},"-","-","-",{"$f":"IFERROR(Tableau1[[#This Row],[THEO]]-Tableau1[[#This Row],[Qtt 2éme lot]],\"-\")","v":"-"},"-",{"$f":"IF(Tableau1[[#This Row],[2éme lot]]=\"-\",\"-\",IFERROR(IF(Q1671=\"\",\"-\",INDEX(I:I,MATCH(Q1671,C:C,0)+1)),\"-\"))","v":"-"},"-","-"]
[2959,"PP00472","VITADONE D3 400 UI GTTES.BUV. FL/10ML","VITAMINE D3","AA187","01.09.2021","MG/EXP1",12,"MG/EXP1-G-048",null,0,null,null,650,"PHARMA Sphere","-",null,{"$f":"SUMIF(Tableau1[Description article],Tableau1[Produits],Tableau1[Emplacement])","v":0},null,{"$f":"Sheet1!$S1672-Sheet1!$R1672","v":0},"-","-","-",{"$f":"IFERROR(Tableau1[[#This Row],[THEO]]-Tableau1[[#This Row],[Qtt 2éme lot]],\"-\")","v":"-"},"-",{"$f":"IF(Tableau1[[#This Row],[2éme lot]]=\"-\",\"-\",IFERROR(IF(Q1672=\"\",\"-\",INDEX(I:I,MATCH(Q1672,C:C,0)+1)),\"-\"))","v":"-"},"-","-"]
[2962,"MD002041","VITAFORM SOL.BUV.GTTES. FL/50ML","COMPLEXE VITAMINIQUE","1168","01.05.2021","MG/EXP1",291,"MG/EXP1-F-040",null,0,null,null,168,"SAIDAL UNITE CENTRE","-",null,{"$f":"SUMIF(Tableau1[Description article],Tableau1[Produits],Tableau1[Emplacement])","v":0},null,{"$f":"Sheet1!$S1673-Sheet1!$R1673","v":0},"-","-","-",{"$f":"IFERROR(Tableau1[[#This Row],[THEO]]-Tableau1[[#This Row],[Qtt 2éme lot]],\"-\")","v":"-"},"-",{"$f":"IF(Tableau1[[#This Row],[2éme lot]]=\"-\",\"-\",IFERROR(IF(Q1673=\"\",\"-\",INDEX(I:I,MATCH(Q1673,C:C,0)+1)),\"-\"))","v":"-"},"-","-"]
[2963,"PP00345","VITAL C LP 450MG GLES. B/30",null,"005/18","01.09.2021","MG/EXP1",159,"MG/EXP1-C-015",null,0,null,null,463.32,"PHARMALLIANCE EURL","-",null,{"$f":"SUMIF(Tableau1[Description article],Tableau1[Produits],Tableau1[Emplacement])","v":0},null,{"$f":"Sheet1!$S1674-Sheet1!$R1674","v":0},"-","-","-",{"$f":"IFERROR(Tableau1[[#This Row],[THEO]]-Tableau1[[#This Row],[Qtt 2éme lot]],\"-\")","v":"-"},"-",{"$f":"IF(Tableau1[[#This Row],[2éme lot]]=\"-\",\"-\",IFERROR(IF(Q1674=\"\",\"-\",INDEX(I:I,MATCH(Q1674,C:C,0)+1)),\"-\"))","v":"-"},"-","-"]
[2964,"MD002043","VITAL CHECK BANDELETTES B/50","BANDELETTES DE TEST DE GLYCEMIE","BTL0421","01.12.2021","MG/EXP1",390,"MG/EXP1-BOX6-025",null,0,null,null,1500,"SARL VITAL CARE PRODUCTION","-",null,{"$f":"SUMIF(Tableau1[Description article],Tableau1[Produits],Tableau1[Emplacement])","v":0},null,{"$f":"Sheet1!$S1675-Sheet1!$R1675","v":0},"-","-","-",{"$f":"IFERROR(Tableau1[[#This Row],[THEO]]-Tableau1[[#This Row],[Qtt 2éme lot]],\"-\")","v":"-"},"-",{"$f":"IF(Tableau1[[#This Row],[2éme lot]]=\"-\",\"-\",IFERROR(IF(Q1675=\"\",\"-\",INDEX(I:I,MATCH(Q1675,C:C,0)+1)),\"-\"))","v":"-"},"-","-"]
[2965,"MD002042","VITAL CHECK KIT GLYCEMIE","LECTEUR DE GLYCEMIE","LBTH19A","01.08.2021","MG/EXP1",24,"MG/EXP1-BOX6-025",null,0,null,null,0,"SARL VITAL CARE PRODUCTION","-",null,{"$f":"SUMIF(Tableau1[Description article],Tableau1[Produits],Tableau1[Emplacement])","v":0},null,{"$f":"Sheet1!$S1676-Sheet1!$R1676","v":0},"-","-","-",{"$f":"IFERROR(Tableau1[[#This Row],[THEO]]-Tableau1[[#This Row],[Qtt 2éme lot]],\"-\")","v":"-"},"-",{"$f":"IF(Tableau1[[#This Row],[2éme lot]]=\"-\",\"-\",IFERROR(IF(Q1676=\"\",\"-\",INDEX(I:I,MATCH(Q1676,C:C,0)+1)),\"-\"))","v":"-"},"-","-"]
[2966,"MD002042","VITAL CHECK KIT GLYCEMIE","LECTEUR DE GLYCEMIE","LBTH17A","01.08.2021","MG/EXP1",149,"MG/EXP1-BOX6-025",null,0,null,null,0,"SARL VITAL CARE PRODUCTION","-",null,{"$f":"SUMIF(Tableau1[Description article],Tableau1[Produits],Tableau1[Emplacement])","v":0},null,{"$f":"Sheet1!$S1677-Sheet1!$R1677","v":0},"-","-","-",{"$f":"IFERROR(Tableau1[[#This Row],[THEO]]-Tableau1[[#This Row],[Qtt 2éme lot]],\"-\")","v":"-"},"-",{"$f":"IF(Tableau1[[#This Row],[2éme lot]]=\"-\",\"-\",IFERROR(IF(Q1677=\"\",\"-\",INDEX(I:I,MATCH(Q1677,C:C,0)+1)),\"-\"))","v":"-"},"-","-"]
[2968,"PP00392","VITAM KIDS  SIROP .F/125ML",null,"K0217","01.09.2020","MG/EXP1",60,"MG/EXP1-G-008",null,0,null,null,250,"GROUPE SANTE LABORATOIRE","-",null,{"$f":"SUMIF(Tableau1[Description article],Tableau1[Produits],Tableau1[Emplacement])","v":0},null,{"$f":"Sheet1!$S1678-Sheet1!$R1678","v":0},"-","-","-",{"$f":"IFERROR(Tableau1[[#This Row],[THEO]]-Tableau1[[#This Row],[Qtt 2éme lot]],\"-\")","v":"-"},"-",{"$f":"IF(Tableau1[[#This Row],[2éme lot]]=\"-\",\"-\",IFERROR(IF(Q1678=\"\",\"-\",INDEX(I:I,MATCH(Q1678,C:C,0)+1)),\"-\"))","v":"-"},"-","-"]
[2969,"PP00392","VITAM KIDS  SIROP .F/125ML",null,"K0217","01.09.2020","MG/EXP1",7,"MG/EXP1-G-036",null,0,null,null,250,"GROUPE SANTE LABORATOIRE","-",null,{"$f":"SUMIF(Tableau1[Description article],Tableau1[Produits],Tableau1[Emplacement])","v":0},null,{"$f":"Sheet1!$S1679-Sheet1!$R1679","v":0},"-","-","-",{"$f":"IFERROR(Tableau1[[#This Row],[THEO]]-Tableau1[[#This Row],[Qtt 2éme lot]],\"-\")","v":"-"},"-",{"$f":"IF(Tableau1[[#This Row],[2éme lot]]=\"-\",\"-\",IFERROR(IF(Q1679=\"\",\"-\",INDEX(I:I,MATCH(Q1679,C:C,0)+1)),\"-\"))","v":"-"},"-","-"]
[{"$nulls":15},"-",null,{"$f":"SUMIF(Tableau1[Description article],Tableau1[Produits],Tableau1[Emplacement])","v":0},null,{"$f":"Sheet1!$S1680-Sheet1!$R1680","v":0},"-","-","-",{"$f":"IFERROR(Tableau1[[#This Row],[THEO]]-Tableau1[[#This Row],[Qtt 2éme lot]],\"-\")","v":"-"},"-",{"$f":"IF(Tableau1[[#This Row],[2éme lot]]=\"-\",\"-\",IFERROR(IF(Q1680=\"\",\"-\",INDEX(I:I,MATCH(Q1680,C:C,0)+1)),\"-\"))","v":"-"},"-","-"]
[{"$nulls":15},"-",null,{"$f":"SUMIF(Tableau1[Description article],Tableau1[Produits],Tableau1[Emplacement])","v":0},null,{"$f":"Sheet1!$S1681-Sheet1!$R1681","v":0},"-","-","-",{"$f":"IFERROR(Tableau1[[#This Row],[THEO]]-Tableau1[[#This Row],[Qtt 2éme lot]],\"-\")","v":"-"},"-",{"$f":"IF(Tableau1[[#This Row],[2éme lot]]=\"-\",\"-\",IFERROR(IF(Q1681=\"\",\"-\",INDEX(I:I,MATCH(Q1681,C:C,0)+1)),\"-\"))","v":"-"},"-","-"]
[{"$nulls":15},"-",null,{"$f":"SUMIF(Tableau1[Description article],Tableau1[Produits],Tableau1[Emplacement])","v":0},null,{"$f":"Sheet1!$S1682-Sheet1!$R1682","v":0},"-","-","-",{"$f":"IFERROR(Tableau1[[#This Row],[THEO]]-Tableau1[[#This Row],[Qtt 2éme lot]],\"-\")","v":"-"},"-",{"$f":"IF(Tableau1[[#This Row],[2éme lot]]=\"-\",\"-\",IFERROR(IF(Q1682=\"\",\"-\",INDEX(I:I,MATCH(Q1682,C:C,0)+1)),\"-\"))","v":"-"},"-","-"]
[{"$nulls":15},"-",null,{"$f":"SUMIF(Tableau1[Description article],Tableau1[Produits],Tableau1[Emplacement])","v":0},null,{"$f":"Sheet1!$S1683-Sheet1!$R1683","v":0},"-","-","-",{"$f":"IFERROR(Tableau1[[#This Row],[THEO]]-Tableau1[[#This Row],[Qtt 2éme lot]],\"-\")","v":"-"},"-",{"$f":"IF(Tableau1[[#This Row],[2éme lot]]=\"-\",\"-\",IFERROR(IF(Q1683=\"\",\"-\",INDEX(I:I,MATCH(Q1683,C:C,0)+1)),\"-\"))","v":"-"},"-","-"]
[{"$nulls":15},"-",null,{"$f":"SUMIF(Tableau1[Description article],Tableau1[Produits],Tableau1[Emplacement])","v":0},null,{"$f":"Sheet1!$S1684-Sheet1!$R1684","v":0},"-","-","-",{"$f":"IFERROR(Tableau1[[#This Row],[THEO]]-Tableau1[[#This Row],[Qtt 2éme lot]],\"-\")","v":"-"},"-",{"$f":"IF(Tableau1[[#This Row],[2éme lot]]=\"-\",\"-\",IFERROR(IF(Q1684=\"\",\"-\",INDEX(I:I,MATCH(Q1684,C:C,0)+1)),\"-\"))","v":"-"},"-","-"]
[{"$nulls":15},"-",null,{"$f":"SUMIF(Tableau1[Description article],Tableau1[Produits],Tableau1[Emplacement])","v":0},null,{"$f":"Sheet1!$S1685-Sheet1!$R1685","v":0},"-","-","-",{"$f":"IFERROR(Tableau1[[#This Row],[THEO]]-Tableau1[[#This Row],[Qtt 2éme lot]],\"-\")","v":"-"},"-",{"$f":"IF(Tableau1[[#This Row],[2éme lot]]=\"-\",\"-\",IFERROR(IF(Q1685=\"\",\"-\",INDEX(I:I,MATCH(Q1685,C:C,0)+1)),\"-\"))","v":"-"},"-","-"]
[{"$nulls":15},"-",null,{"$f":"SUMIF(Tableau1[Description article],Tableau1[Produits],Tableau1[Emplacement])","v":0},null,{"$f":"Sheet1!$S1686-Sheet1!$R1686","v":0},"-","-","-",{"$f":"IFERROR(Tableau1[[#This Row],[THEO]]-Tableau1[[#This Row],[Qtt 2éme lot]],\"-\")","v":"-"},"-",{"$f":"IF(Tableau1[[#This Row],[2éme lot]]=\"-\",\"-\",IFERROR(IF(Q1686=\"\",\"-\",INDEX(I:I,MATCH(Q1686,C:C,0)+1)),\"-\"))","v":"-"},"-","-"]
[{"$nulls":15},"-",null,{"$f":"SUMIF(Tableau1[Description article],Tableau1[Produits],Tableau1[Emplacement])","v":0},null,{"$f":"Sheet1!$S1687-Sheet1!$R1687","v":0},"-","-","-",{"$f":"IFERROR(Tableau1[[#This Row],[THEO]]-Tableau1[[#This Row],[Qtt 2éme lot]],\"-\")","v":"-"},"-",{"$f":"IF(Tableau1[[#This Row],[2éme lot]]=\"-\",\"-\",IFERROR(IF(Q1687=\"\",\"-\",INDEX(I:I,MATCH(Q1687,C:C,0)+1)),\"-\"))","v":"-"},"-","-"]
[{"$nulls":15},"-",null,{"$f":"SUMIF(Tableau1[Description article],Tableau1[Produits],Tableau1[Emplacement])","v":0},null,{"$f":"Sheet1!$S1688-Sheet1!$R1688","v":0},"-","-","-",{"$f":"IFERROR(Tableau1[[#This Row],[THEO]]-Tableau1[[#This Row],[Qtt 2éme lot]],\"-\")","v":"-"},"-",{"$f":"IF(Tableau1[[#This Row],[2éme lot]]=\"-\",\"-\",IFERROR(IF(Q1688=\"\",\"-\",INDEX(I:I,MATCH(Q1688,C:C,0)+1)),\"-\"))","v":"-"},"-","-"]
[{"$nulls":15},"-",null,{"$f":"SUMIF(Tableau1[Description article],Tableau1[Produits],Tableau1[Emplacement])","v":0},null,{"$f":"Sheet1!$S1689-Sheet1!$R1689","v":0},"-","-","-",{"$f":"IFERROR(Tableau1[[#This Row],[THEO]]-Tableau1[[#This Row],[Qtt 2éme lot]],\"-\")","v":"-"},"-",{"$f":"IF(Tableau1[[#This Row],[2éme lot]]=\"-\",\"-\",IFERROR(IF(Q1689=\"\",\"-\",INDEX(I:I,MATCH(Q1689,C:C,0)+1)),\"-\"))","v":"-"},"-","-"]
[{"$nulls":15},"-",null,{"$f":"SUMIF(Tableau1[Description article],Tableau1[Produits],Tableau1[Emplacement])","v":0},null,{"$f":"Sheet1!$S1690-Sheet1!$R1690","v":0},"-","-","-",{"$f":"IFERROR(Tableau1[[#This Row],[THEO]]-Tableau1[[#This Row],[Qtt 2éme lot]],\"-\")","v":"-"},"-",{"$f":"IF(Tableau1[[#This Row],[2éme lot]]=\"-\",\"-\",IFERROR(IF(Q1690=\"\",\"-\",INDEX(I:I,MATCH(Q1690,C:C,0)+1)),\"-\"))","v":"-"},"-","-"]
[{"$nulls":15},"-",null,{"$f":"SUMIF(Tableau1[Description article],Tableau1[Produits],Tableau1[Emplacement])","v":0},null,{"$f":"Sheet1!$S1691-Sheet1!$R1691","v":0},"-","-","-",{"$f":"IFERROR(Tableau1[[#This Row],[THEO]]-Tableau1[[#This Row],[Qtt 2éme lot]],\"-\")","v":"-"},"-",{"$f":"IF(Tableau1[[#This Row],[2éme lot]]=\"-\",\"-\",IFERROR(IF(Q1691=\"\",\"-\",INDEX(I:I,MATCH(Q1691,C:C,0)+1)),\"-\"))","v":"-"},"-","-"]
[{"$nulls":15},"-",null,{"$f":"SUMIF(Tableau1[Description article],Tableau1[Produits],Tableau1[Emplacement])","v":0},null,{"$f":"Sheet1!$S1692-Sheet1!$R1692","v":0},"-","-","-",{"$f":"IFERROR(Tableau1[[#This Row],[THEO]]-Tableau1[[#This Row],[Qtt 2éme lot]],\"-\")","v":"-"},"-",{"$f":"IF(Tableau1[[#This Row],[2éme lot]]=\"-\",\"-\",IFERROR(IF(Q1692=\"\",\"-\",INDEX(I:I,MATCH(Q1692,C:C,0)+1)),\"-\"))","v":"-"},"-","-"]
[{"$nulls":15},"-",null,{"$f":"SUMIF(Tableau1[Description article],Tableau1[Produits],Tableau1[Emplacement])","v":0},null,{"$f":"Sheet1!$S1693-Sheet1!$R1693","v":0},"-","-","-",{"$f":"IFERROR(Tableau1[[#This Row],[THEO]]-Tableau1[[#This Row],[Qtt 2éme lot]],\"-\")","v":"-"},"-",{"$f":"IF(Tableau1[[#This Row],[2éme lot]]=\"-\",\"-\",IFERROR(IF(Q1693=\"\",\"-\",INDEX(I:I,MATCH(Q1693,C:C,0)+1)),\"-\"))","v":"-"},"-","-"]
[{"$nulls":15},"-",null,{"$f":"SUMIF(Tableau1[Description article],Tableau1[Produits],Tableau1[Emplacement])","v":0},null,{"$f":"Sheet1!$S1694-Sheet1!$R1694","v":0},"-","-","-",{"$f":"IFERROR(Tableau1[[#This Row],[THEO]]-Tableau1[[#This Row],[Qtt 2éme lot]],\"-\")","v":"-"},"-",{"$f":"IF(Tableau1[[#This Row],[2éme lot]]=\"-\",\"-\",IFERROR(IF(Q1694=\"\",\"-\",INDEX(I:I,MATCH(Q1694,C:C,0)+1)),\"-\"))","v":"-"},"-","-"]
[{"$nulls":15},"-",null,{"$f":"SUMIF(Tableau1[Description article],Tableau1[Produits],Tableau1[Emplacement])","v":0},null,{"$f":"Sheet1!$S1695-Sheet1!$R1695","v":0},"-","-","-",{"$f":"IFERROR(Tableau1[[#This Row],[THEO]]-Tableau1[[#This Row],[Qtt 2éme lot]],\"-\")","v":"-"},"-",{"$f":"IF(Tableau1[[#This Row],[2éme lot]]=\"-\",\"-\",IFERROR(IF(Q1695=\"\",\"-\",INDEX(I:I,MATCH(Q1695,C:C,0)+1)),\"-\"))","v":"-"},"-","-"]
[{"$nulls":15},"-",null,{"$f":"SUMIF(Tableau1[Description article],Tableau1[Produits],Tableau1[Emplacement])","v":0},null,{"$f":"Sheet1!$S1696-Sheet1!$R1696","v":0},"-","-","-",{"$f":"IFERROR(Tableau1[[#This Row],[THEO]]-Tableau1[[#This Row],[Qtt 2éme lot]],\"-\")","v":"-"},"-",{"$f":"IF(Tableau1[[#This Row],[2éme lot]]=\"-\",\"-\",IFERROR(IF(Q1696=\"\",\"-\",INDEX(I:I,MATCH(Q1696,C:C,0)+1)),\"-\"))","v":"-"},"-","-"]
[{"$nulls":15},"-",null,{"$f":"SUMIF(Tableau1[Description article],Tableau1[Produits],Tableau1[Emplacement])","v":0},null,{"$f":"Sheet1!$S1697-Sheet1!$R1697","v":0},"-","-","-",{"$f":"IFERROR(Tableau1[[#This Row],[THEO]]-Tableau1[[#This Row],[Qtt 2éme lot]],\"-\")","v":"-"},"-",{"$f":"IF(Tableau1[[#This Row],[2éme lot]]=\"-\",\"-\",IFERROR(IF(Q1697=\"\",\"-\",INDEX(I:I,MATCH(Q1697,C:C,0)+1)),\"-\"))","v":"-"},"-","-"]
[{"$nulls":15},"-",null,{"$f":"SUMIF(Tableau1[Description article],Tableau1[Produits],Tableau1[Emplacement])","v":0},null,{"$f":"Sheet1!$S1698-Sheet1!$R1698","v":0},"-","-","-",{"$f":"IFERROR(Tableau1[[#This Row],[THEO]]-Tableau1[[#This Row],[Qtt 2éme lot]],\"-\")","v":"-"},"-",{"$f":"IF(Tableau1[[#This Row],[2éme lot]]=\"-\",\"-\",IFERROR(IF(Q1698=\"\",\"-\",INDEX(I:I,MATCH(Q1698,C:C,0)+1)),\"-\"))","v":"-"},"-","-"]
[{"$nulls":15},"-",null,{"$f":"SUMIF(Tableau1[Description article],Tableau1[Produits],Tableau1[Emplacement])","v":0},null,{"$f":"Sheet1!$S1699-Sheet1!$R1699","v":0},"-","-","-",{"$f":"IFERROR(Tableau1[[#This Row],[THEO]]-Tableau1[[#This Row],[Qtt 2éme lot]],\"-\")","v":"-"},"-",{"$f":"IF(Tableau1[[#This Row],[2éme lot]]=\"-\",\"-\",IFERROR(IF(Q1699=\"\",\"-\",INDEX(I:I,MATCH(Q1699,C:C,0)+1)),\"-\"))","v":"-"},"-","-"]
[{"$nulls":15},"-",null,{"$f":"SUMIF(Tableau1[Description article],Tableau1[Produits],Tableau1[Emplacement])","v":0},null,{"$f":"Sheet1!$S1700-Sheet1!$R1700","v":0},"-","-","-",{"$f":"IFERROR(Tableau1[[#This Row],[THEO]]-Tableau1[[#This Row],[Qtt 2éme lot]],\"-\")","v":"-"},"-",{"$f":"IF(Tableau1[[#This Row],[2éme lot]]=\"-\",\"-\",IFERROR(IF(Q1700=\"\",\"-\",INDEX(I:I,MATCH(Q1700,C:C,0)+1)),\"-\"))","v":"-"},"-","-"]
[{"$nulls":15},"-",null,{"$f":"SUMIF(Tableau1[Description article],Tableau1[Produits],Tableau1[Emplacement])","v":0},null,{"$f":"Sheet1!$S1701-Sheet1!$R1701","v":0},"-","-","-",{"$f":"IFERROR(Tableau1[[#This Row],[THEO]]-Tableau1[[#This Row],[Qtt 2éme lot]],\"-\")","v":"-"},"-",{"$f":"IF(Tableau1[[#This Row],[2éme lot]]=\"-\",\"-\",IFERROR(IF(Q1701=\"\",\"-\",INDEX(I:I,MATCH(Q1701,C:C,0)+1)),\"-\"))","v":"-"},"-","-"]
[{"$nulls":15},"-",null,{"$f":"SUMIF(Tableau1[Description article],Tableau1[Produits],Tableau1[Emplacement])","v":0},null,{"$f":"Sheet1!$S1702-Sheet1!$R1702","v":0},"-","-","-",{"$f":"IFERROR(Tableau1[[#This Row],[THEO]]-Tableau1[[#This Row],[Qtt 2éme lot]],\"-\")","v":"-"},"-",{"$f":"IF(Tableau1[[#This Row],[2éme lot]]=\"-\",\"-\",IFERROR(IF(Q1702=\"\",\"-\",INDEX(I:I,MATCH(Q1702,C:C,0)+1)),\"-\"))","v":"-"},"-","-"]
[{"$nulls":15},"-",null,{"$f":"SUMIF(Tableau1[Description article],Tableau1[Produits],Tableau1[Emplacement])","v":0},null,{"$f":"Sheet1!$S1703-Sheet1!$R1703","v":0},"-","-","-",{"$f":"IFERROR(Tableau1[[#This Row],[THEO]]-Tableau1[[#This Row],[Qtt 2éme lot]],\"-\")","v":"-"},"-",{"$f":"IF(Tableau1[[#This Row],[2éme lot]]=\"-\",\"-\",IFERROR(IF(Q1703=\"\",\"-\",INDEX(I:I,MATCH(Q1703,C:C,0)+1)),\"-\"))","v":"-"},"-","-"]
[{"$nulls":15},"-",null,{"$f":"SUMIF(Tableau1[Description article],Tableau1[Produits],Tableau1[Emplacement])","v":0},null,{"$f":"Sheet1!$S1704-Sheet1!$R1704","v":0},"-","-","-",{"$f":"IFERROR(Tableau1[[#This Row],[THEO]]-Tableau1[[#This Row],[Qtt 2éme lot]],\"-\")","v":"-"},"-",{"$f":"IF(Tableau1[[#This Row],[2éme lot]]=\"-\",\"-\",IFERROR(IF(Q1704=\"\",\"-\",INDEX(I:I,MATCH(Q1704,C:C,0)+1)),\"-\"))","v":"-"},"-","-"]
[{"$nulls":15},"-",null,{"$f":"SUMIF(Tableau1[Description article],Tableau1[Produits],Tableau1[Emplacement])","v":0},null,{"$f":"Sheet1!$S1705-Sheet1!$R1705","v":0},"-","-","-",{"$f":"IFERROR(Tableau1[[#This Row],[THEO]]-Tableau1[[#This Row],[Qtt 2éme lot]],\"-\")","v":"-"},"-",{"$f":"IF(Tableau1[[#This Row],[2éme lot]]=\"-\",\"-\",IFERROR(IF(Q1705=\"\",\"-\",INDEX(I:I,MATCH(Q1705,C:C,0)+1)),\"-\"))","v":"-"},"-","-"]
[{"$nulls":15},"-",null,{"$f":"SUMIF(Tableau1[Description article],Tableau1[Produits],Tableau1[Emplacement])","v":0},null,{"$f":"Sheet1!$S1706-Sheet1!$R1706","v":0},"-","-","-",{"$f":"IFERROR(Tableau1[[#This Row],[THEO]]-Tableau1[[#This Row],[Qtt 2éme lot]],\"-\")","v":"-"},"-",{"$f":"IF(Tableau1[[#This Row],[2éme lot]]=\"-\",\"-\",IFERROR(IF(Q1706=\"\",\"-\",INDEX(I:I,MATCH(Q1706,C:C,0)+1)),\"-\"))","v":"-"},"-","-"]
[{"$nulls":15},"-",null,{"$f":"SUMIF(Tableau1[Description article],Tableau1[Produits],Tableau1[Emplacement])","v":0},null,{"$f":"Sheet1!$S1707-Sheet1!$R1707","v":0},"-","-","-",{"$f":"IFERROR(Tableau1[[#This Row],[THEO]]-Tableau1[[#This Row],[Qtt 2éme lot]],\"-\")","v":"-"},"-",{"$f":"IF(Tableau1[[#This Row],[2éme lot]]=\"-\",\"-\",IFERROR(IF(Q1707=\"\",\"-\",INDEX(I:I,MATCH(Q1707,C:C,0)+1)),\"-\"))","v":"-"},"-","-"]
[{"$nulls":15},"-",null,{"$f":"SUMIF(Tableau1[Description article],Tableau1[Produits],Tableau1[Emplacement])","v":0},null,{"$f":"Sheet1!$S1708-Sheet1!$R1708","v":0},"-","-","-",{"$f":"IFERROR(Tableau1[[#This Row],[THEO]]-Tableau1[[#This Row],[Qtt 2éme lot]],\"-\")","v":"-"},"-",{"$f":"IF(Tableau1[[#This Row],[2éme lot]]=\"-\",\"-\",IFERROR(IF(Q1708=\"\",\"-\",INDEX(I:I,MATCH(Q1708,C:C,0)+1)),\"-\"))","v":"-"},"-","-"]
[{"$nulls":15},"-",null,{"$f":"SUMIF(Tableau1[Description article],Tableau1[Produits],Tableau1[Emplacement])","v":0},null,{"$f":"Sheet1!$S1709-Sheet1!$R1709","v":0},"-","-","-",{"$f":"IFERROR(Tableau1[[#This Row],[THEO]]-Tableau1[[#This Row],[Qtt 2éme lot]],\"-\")","v":"-"},"-",{"$f":"IF(Tableau1[[#This Row],[2éme lot]]=\"-\",\"-\",IFERROR(IF(Q1709=\"\",\"-\",INDEX(I:I,MATCH(Q1709,C:C,0)+1)),\"-\"))","v":"-"},"-","-"]
[{"$nulls":15},"-",null,{"$f":"SUMIF(Tableau1[Description article],Tableau1[Produits],Tableau1[Emplacement])","v":0},null,{"$f":"Sheet1!$S1710-Sheet1!$R1710","v":0},"-","-","-",{"$f":"IFERROR(Tableau1[[#This Row],[THEO]]-Tableau1[[#This Row],[Qtt 2éme lot]],\"-\")","v":"-"},"-",{"$f":"IF(Tableau1[[#This Row],[2éme lot]]=\"-\",\"-\",IFERROR(IF(Q1710=\"\",\"-\",INDEX(I:I,MATCH(Q1710,C:C,0)+1)),\"-\"))","v":"-"},"-","-"]
[{"$nulls":15},"-",null,{"$f":"SUMIF(Tableau1[Description article],Tableau1[Produits],Tableau1[Emplacement])","v":0},null,{"$f":"Sheet1!$S1711-Sheet1!$R1711","v":0},"-","-","-",{"$f":"IFERROR(Tableau1[[#This Row],[THEO]]-Tableau1[[#This Row],[Qtt 2éme lot]],\"-\")","v":"-"},"-",{"$f":"IF(Tableau1[[#This Row],[2éme lot]]=\"-\",\"-\",IFERROR(IF(Q1711=\"\",\"-\",INDEX(I:I,MATCH(Q1711,C:C,0)+1)),\"-\"))","v":"-"},"-","-"]
[{"$nulls":15},"-",null,{"$f":"SUMIF(Tableau1[Description article],Tableau1[Produits],Tableau1[Emplacement])","v":0},null,{"$f":"Sheet1!$S1712-Sheet1!$R1712","v":0},"-","-","-",{"$f":"IFERROR(Tableau1[[#This Row],[THEO]]-Tableau1[[#This Row],[Qtt 2éme lot]],\"-\")","v":"-"},"-",{"$f":"IF(Tableau1[[#This Row],[2éme lot]]=\"-\",\"-\",IFERROR(IF(Q1712=\"\",\"-\",INDEX(I:I,MATCH(Q1712,C:C,0)+1)),\"-\"))","v":"-"},"-","-"]
[{"$nulls":15},"-",null,{"$f":"SUMIF(Tableau1[Description article],Tableau1[Produits],Tableau1[Emplacement])","v":0},null,{"$f":"Sheet1!$S1713-Sheet1!$R1713","v":0},"-","-","-",{"$f":"IFERROR(Tableau1[[#This Row],[THEO]]-Tableau1[[#This Row],[Qtt 2éme lot]],\"-\")","v":"-"},"-",{"$f":"IF(Tableau1[[#This Row],[2éme lot]]=\"-\",\"-\",IFERROR(IF(Q1713=\"\",\"-\",INDEX(I:I,MATCH(Q1713,C:C,0)+1)),\"-\"))","v":"-"},"-","-"]
[{"$nulls":15},"-",null,{"$f":"SUMIF(Tableau1[Description article],Tableau1[Produits],Tableau1[Emplacement])","v":0},null,{"$f":"Sheet1!$S1714-Sheet1!$R1714","v":0},"-","-","-",{"$f":"IFERROR(Tableau1[[#This Row],[THEO]]-Tableau1[[#This Row],[Qtt 2éme lot]],\"-\")","v":"-"},"-",{"$f":"IF(Tableau1[[#This Row],[2éme lot]]=\"-\",\"-\",IFERROR(IF(Q1714=\"\",\"-\",INDEX(I:I,MATCH(Q1714,C:C,0)+1)),\"-\"))","v":"-"},"-","-"]
[{"$nulls":15},"-",null,{"$f":"SUMIF(Tableau1[Description article],Tableau1[Produits],Tableau1[Emplacement])","v":0},null,{"$f":"Sheet1!$S1715-Sheet1!$R1715","v":0},"-","-","-",{"$f":"IFERROR(Tableau1[[#This Row],[THEO]]-Tableau1[[#This Row],[Qtt 2éme lot]],\"-\")","v":"-"},"-",{"$f":"IF(Tableau1[[#This Row],[2éme lot]]=\"-\",\"-\",IFERROR(IF(Q1715=\"\",\"-\",INDEX(I:I,MATCH(Q1715,C:C,0)+1)),\"-\"))","v":"-"},"-","-"]
[{"$nulls":15},"-",null,{"$f":"SUMIF(Tableau1[Description article],Tableau1[Produits],Tableau1[Emplacement])","v":0},null,{"$f":"Sheet1!$S1716-Sheet1!$R1716","v":0},"-","-","-",{"$f":"IFERROR(Tableau1[[#This Row],[THEO]]-Tableau1[[#This Row],[Qtt 2éme lot]],\"-\")","v":"-"},"-",{"$f":"IF(Tableau1[[#This Row],[2éme lot]]=\"-\",\"-\",IFERROR(IF(Q1716=\"\",\"-\",INDEX(I:I,MATCH(Q1716,C:C,0)+1)),\"-\"))","v":"-"},"-","-"]
[{"$nulls":15},"-",null,{"$f":"SUMIF(Tableau1[Description article],Tableau1[Produits],Tableau1[Emplacement])","v":0},null,{"$f":"Sheet1!$S1717-Sheet1!$R1717","v":0},"-","-","-",{"$f":"IFERROR(Tableau1[[#This Row],[THEO]]-Tableau1[[#This Row],[Qtt 2éme lot]],\"-\")","v":"-"},"-",{"$f":"IF(Tableau1[[#This Row],[2éme lot]]=\"-\",\"-\",IFERROR(IF(Q1717=\"\",\"-\",INDEX(I:I,MATCH(Q1717,C:C,0)+1)),\"-\"))","v":"-"},"-","-"]
[{"$nulls":15},"-",null,{"$f":"SUMIF(Tableau1[Description article],Tableau1[Produits],Tableau1[Emplacement])","v":0},null,{"$f":"Sheet1!$S1718-Sheet1!$R1718","v":0},"-","-","-",{"$f":"IFERROR(Tableau1[[#This Row],[THEO]]-Tableau1[[#This Row],[Qtt 2éme lot]],\"-\")","v":"-"},"-",{"$f":"IF(Tableau1[[#This Row],[2éme lot]]=\"-\",\"-\",IFERROR(IF(Q1718=\"\",\"-\",INDEX(I:I,MATCH(Q1718,C:C,0)+1)),\"-\"))","v":"-"},"-","-"]
[{"$nulls":15},"-",null,{"$f":"SUMIF(Tableau1[Description article],Tableau1[Produits],Tableau1[Emplacement])","v":0},null,{"$f":"Sheet1!$S1719-Sheet1!$R1719","v":0},"-","-","-",{"$f":"IFERROR(Tableau1[[#This Row],[THEO]]-Tableau1[[#This Row],[Qtt 2éme lot]],\"-\")","v":"-"},"-",{"$f":"IF(Tableau1[[#This Row],[2éme lot]]=\"-\",\"-\",IFERROR(IF(Q1719=\"\",\"-\",INDEX(I:I,MATCH(Q1719,C:C,0)+1)),\"-\"))","v":"-"},"-","-"]
[{"$nulls":15},"-",null,{"$f":"SUMIF(Tableau1[Description article],Tableau1[Produits],Tableau1[Emplacement])","v":0},null,{"$f":"Sheet1!$S1720-Sheet1!$R1720","v":0},"-","-","-",{"$f":"IFERROR(Tableau1[[#This Row],[THEO]]-Tableau1[[#This Row],[Qtt 2éme lot]],\"-\")","v":"-"},"-",{"$f":"IF(Tableau1[[#This Row],[2éme lot]]=\"-\",\"-\",IFERROR(IF(Q1720=\"\",\"-\",INDEX(I:I,MATCH(Q1720,C:C,0)+1)),\"-\"))","v":"-"},"-","-"]
[{"$nulls":15},"-",null,{"$f":"SUMIF(Tableau1[Description article],Tableau1[Produits],Tableau1[Emplacement])","v":0},null,{"$f":"Sheet1!$S1721-Sheet1!$R1721","v":0},"-","-","-",{"$f":"IFERROR(Tableau1[[#This Row],[THEO]]-Tableau1[[#This Row],[Qtt 2éme lot]],\"-\")","v":"-"},"-",{"$f":"IF(Tableau1[[#This Row],[2éme lot]]=\"-\",\"-\",IFERROR(IF(Q1721=\"\",\"-\",INDEX(I:I,MATCH(Q1721,C:C,0)+1)),\"-\"))","v":"-"},"-","-"]
[{"$nulls":15},"-",null,{"$f":"SUMIF(Tableau1[Description article],Tableau1[Produits],Tableau1[Emplacement])","v":0},null,{"$f":"Sheet1!$S1722-Sheet1!$R1722","v":0},"-","-","-",{"$f":"IFERROR(Tableau1[[#This Row],[THEO]]-Tableau1[[#This Row],[Qtt 2éme lot]],\"-\")","v":"-"},"-",{"$f":"IF(Tableau1[[#This Row],[2éme lot]]=\"-\",\"-\",IFERROR(IF(Q1722=\"\",\"-\",INDEX(I:I,MATCH(Q1722,C:C,0)+1)),\"-\"))","v":"-"},"-","-"]
[{"$nulls":15},"-",null,{"$f":"SUMIF(Tableau1[Description article],Tableau1[Produits],Tableau1[Emplacement])","v":0},null,{"$f":"Sheet1!$S1723-Sheet1!$R1723","v":0},"-","-","-",{"$f":"IFERROR(Tableau1[[#This Row],[THEO]]-Tableau1[[#This Row],[Qtt 2éme lot]],\"-\")","v":"-"},"-",{"$f":"IF(Tableau1[[#This Row],[2éme lot]]=\"-\",\"-\",IFERROR(IF(Q1723=\"\",\"-\",INDEX(I:I,MATCH(Q1723,C:C,0)+1)),\"-\"))","v":"-"},"-","-"]
[{"$nulls":15},"-",null,{"$f":"SUMIF(Tableau1[Description article],Tableau1[Produits],Tableau1[Emplacement])","v":0},null,{"$f":"Sheet1!$S1724-Sheet1!$R1724","v":0},"-","-","-",{"$f":"IFERROR(Tableau1[[#This Row],[THEO]]-Tableau1[[#This Row],[Qtt 2éme lot]],\"-\")","v":"-"},"-",{"$f":"IF(Tableau1[[#This Row],[2éme lot]]=\"-\",\"-\",IFERROR(IF(Q1724=\"\",\"-\",INDEX(I:I,MATCH(Q1724,C:C,0)+1)),\"-\"))","v":"-"},"-","-"]
[{"$nulls":15},"-",null,{"$f":"SUMIF(Tableau1[Description article],Tableau1[Produits],Tableau1[Emplacement])","v":0},null,{"$f":"Sheet1!$S1725-Sheet1!$R1725","v":0},"-","-","-",{"$f":"IFERROR(Tableau1[[#This Row],[THEO]]-Tableau1[[#This Row],[Qtt 2éme lot]],\"-\")","v":"-"},"-",{"$f":"IF(Tableau1[[#This Row],[2éme lot]]=\"-\",\"-\",IFERROR(IF(Q1725=\"\",\"-\",INDEX(I:I,MATCH(Q1725,C:C,0)+1)),\"-\"))","v":"-"},"-","-"]
[{"$nulls":15},"-",null,{"$f":"SUMIF(Tableau1[Description article],Tableau1[Produits],Tableau1[Emplacement])","v":0},null,{"$f":"Sheet1!$S1726-Sheet1!$R1726","v":0},"-","-","-",{"$f":"IFERROR(Tableau1[[#This Row],[THEO]]-Tableau1[[#This Row],[Qtt 2éme lot]],\"-\")","v":"-"},"-",{"$f":"IF(Tableau1[[#This Row],[2éme lot]]=\"-\",\"-\",IFERROR(IF(Q1726=\"\",\"-\",INDEX(I:I,MATCH(Q1726,C:C,0)+1)),\"-\"))","v":"-"},"-","-"]
[{"$nulls":15},"-",null,{"$f":"SUMIF(Tableau1[Description article],Tableau1[Produits],Tableau1[Emplacement])","v":0},null,{"$f":"Sheet1!$S1727-Sheet1!$R1727","v":0},"-","-","-",{"$f":"IFERROR(Tableau1[[#This Row],[THEO]]-Tableau1[[#This Row],[Qtt 2éme lot]],\"-\")","v":"-"},"-",{"$f":"IF(Tableau1[[#This Row],[2éme lot]]=\"-\",\"-\",IFERROR(IF(Q1727=\"\",\"-\",INDEX(I:I,MATCH(Q1727,C:C,0)+1)),\"-\"))","v":"-"},"-","-"]
[{"$nulls":15},"-",null,{"$f":"SUMIF(Tableau1[Description article],Tableau1[Produits],Tableau1[Emplacement])","v":0},null,{"$f":"Sheet1!$S1728-Sheet1!$R1728","v":0},"-","-","-",{"$f":"IFERROR(Tableau1[[#This Row],[THEO]]-Tableau1[[#This Row],[Qtt 2éme lot]],\"-\")","v":"-"},"-",{"$f":"IF(Tableau1[[#This Row],[2éme lot]]=\"-\",\"-\",IFERROR(IF(Q1728=\"\",\"-\",INDEX(I:I,MATCH(Q1728,C:C,0)+1)),\"-\"))","v":"-"},"-","-"]
[{"$nulls":15},"-",null,{"$f":"SUMIF(Tableau1[Description article],Tableau1[Produits],Tableau1[Emplacement])","v":0},null,{"$f":"Sheet1!$S1729-Sheet1!$R1729","v":0},"-","-","-",{"$f":"IFERROR(Tableau1[[#This Row],[THEO]]-Tableau1[[#This Row],[Qtt 2éme lot]],\"-\")","v":"-"},"-",{"$f":"IF(Tableau1[[#This Row],[2éme lot]]=\"-\",\"-\",IFERROR(IF(Q1729=\"\",\"-\",INDEX(I:I,MATCH(Q1729,C:C,0)+1)),\"-\"))","v":"-"},"-","-"]
[{"$nulls":15},{"$f":"IFERROR(IF(Q1730=\"\",\"-\",INDEX(I:I,MATCH(Q1730,C:C,0))),\"-\")","v":"-"},null,{"$f":"SUMIF(Tableau1[Description article],Tableau1[Produits],Tableau1[Emplacement])","v":0},null,{"$f":"Sheet1!$S1730-Sheet1!$R1730","v":0},{"$f":"IFERROR(IF(Q1730=\"\",\"-\",INDEX(F:F,MATCH(Q1730,C:C,0))),\"-\")","v":"-"},{"$f":"IFERROR(IF(Q1730=\"\",\"-\",INDEX(E:E,MATCH(Q1730,C:C,0))),\"-\")","v":"-"},{"$f":"IFERROR(IF(Q1730=\"\",\"-\",INDEX(N:N,MATCH(Q1730,C:C,0))),\"-\")","v":"-"},{"$f":"IFERROR(Tableau1[[#This Row],[THEO]]-Tableau1[[#This Row],[Qtt 2éme lot]],\"-\")","v":"-"},{"$f":"IF(IF(Q1730=\"\",\"-\",INDEX(E:E,MATCH(Q1730,C:C,0)))=IF(Q1730=\"\",\"-\",INDEX(E:E,MATCH(Q1730,C:C,1))),\"-\",IF(Q1730=\"\",\"-\",INDEX(E:E,MATCH(Q1730,C:C,1))))","v":"-"},{"$f":"IF(Tableau1[[#This Row],[2éme lot]]=\"-\",\"-\",IFERROR(IF(Q1730=\"\",\"-\",INDEX(I:I,MATCH(Q1730,C:C,0)+1)),\"-\"))","v":"-"},{"$f":"IFERROR(IF(Y1730=\"\",\"-\",INDEX(N:N,MATCH(Y1730,E:E,0))),\"-\")","v":"-"},{"$f":"IFERROR(IF(AA1730=\"\",\"-\",INDEX(H:H,MATCH(Y1730,E:E,0))),\"-\")","v":"-"}]
[{"$nulls":15},"-",null,{"$f":"SUMIF(Tableau1[Description article],Tableau1[Produits],Tableau1[Emplacement])","v":0},null,{"$f":"Sheet1!$S1731-Sheet1!$R1731","v":0},"-","-","-",{"$f":"IFERROR(Tableau1[[#This Row],[THEO]]-Tableau1[[#This Row],[Qtt 2éme lot]],\"-\")","v":"-"},"-",{"$f":"IF(Tableau1[[#This Row],[2éme lot]]=\"-\",\"-\",IFERROR(IF(Q1731=\"\",\"-\",INDEX(I:I,MATCH(Q1731,C:C,0)+1)),\"-\"))","v":"-"},"-","-"]
[{"$nulls":15},"-",null,{"$f":"SUMIF(Tableau1[Description article],Tableau1[Produits],Tableau1[Emplacement])","v":0},null,{"$f":"Sheet1!$S1732-Sheet1!$R1732","v":0},"-","-","-",{"$f":"IFERROR(Tableau1[[#This Row],[THEO]]-Tableau1[[#This Row],[Qtt 2éme lot]],\"-\")","v":"-"},"-",{"$f":"IF(Tableau1[[#This Row],[2éme lot]]=\"-\",\"-\",IFERROR(IF(Q1732=\"\",\"-\",INDEX(I:I,MATCH(Q1732,C:C,0)+1)),\"-\"))","v":"-"},"-","-"]
[{"$nulls":15},"-",null,{"$f":"SUMIF(Tableau1[Description article],Tableau1[Produits],Tableau1[Emplacement])","v":0},null,{"$f":"Sheet1!$S1733-Sheet1!$R1733","v":0},"-","-","-",{"$f":"IFERROR(Tableau1[[#This Row],[THEO]]-Tableau1[[#This Row],[Qtt 2éme lot]],\"-\")","v":"-"},"-",{"$f":"IF(Tableau1[[#This Row],[2éme lot]]=\"-\",\"-\",IFERROR(IF(Q1733=\"\",\"-\",INDEX(I:I,MATCH(Q1733,C:C,0)+1)),\"-\"))","v":"-"},"-","-"]
[{"$nulls":15},"-",null,{"$f":"SUMIF(Tableau1[Description article],Tableau1[Produits],Tableau1[Emplacement])","v":0},null,{"$f":"Sheet1!$S1734-Sheet1!$R1734","v":0},"-","-","-",{"$f":"IFERROR(Tableau1[[#This Row],[THEO]]-Tableau1[[#This Row],[Qtt 2éme lot]],\"-\")","v":"-"},"-",{"$f":"IF(Tableau1[[#This Row],[2éme lot]]=\"-\",\"-\",IFERROR(IF(Q1734=\"\",\"-\",INDEX(I:I,MATCH(Q1734,C:C,0)+1)),\"-\"))","v":"-"},"-","-"]
[{"$nulls":15},"-",null,{"$f":"SUMIF(Tableau1[Description article],Tableau1[Produits],Tableau1[Emplacement])","v":0},null,{"$f":"Sheet1!$S1735-Sheet1!$R1735","v":0},"-","-","-",{"$f":"IFERROR(Tableau1[[#This Row],[THEO]]-Tableau1[[#This Row],[Qtt 2éme lot]],\"-\")","v":"-"},"-",{"$f":"IF(Tableau1[[#This Row],[2éme lot]]=\"-\",\"-\",IFERROR(IF(Q1735=\"\",\"-\",INDEX(I:I,MATCH(Q1735,C:C,0)+1)),\"-\"))","v":"-"},"-","-"]
[{"$nulls":15},"-",null,{"$f":"SUMIF(Tableau1[Description article],Tableau1[Produits],Tableau1[Emplacement])","v":0},null,{"$f":"Sheet1!$S1736-Sheet1!$R1736","v":0},"-","-","-",{"$f":"IFERROR(Tableau1[[#This Row],[THEO]]-Tableau1[[#This Row],[Qtt 2éme lot]],\"-\")","v":"-"},"-",{"$f":"IF(Tableau1[[#This Row],[2éme lot]]=\"-\",\"-\",IFERROR(IF(Q1736=\"\",\"-\",INDEX(I:I,MATCH(Q1736,C:C,0)+1)),\"-\"))","v":"-"},"-","-"]
[{"$nulls":15},"-",null,{"$f":"SUMIF(Tableau1[Description article],Tableau1[Produits],Tableau1[Emplacement])","v":0},null,{"$f":"Sheet1!$S1737-Sheet1!$R1737","v":0},"-","-","-",{"$f":"IFERROR(Tableau1[[#This Row],[THEO]]-Tableau1[[#This Row],[Qtt 2éme lot]],\"-\")","v":"-"},"-",{"$f":"IF(Tableau1[[#This Row],[2éme lot]]=\"-\",\"-\",IFERROR(IF(Q1737=\"\",\"-\",INDEX(I:I,MATCH(Q1737,C:C,0)+1)),\"-\"))","v":"-"},"-","-"]
[{"$nulls":15},"-",null,{"$f":"SUMIF(Tableau1[Description article],Tableau1[Produits],Tableau1[Emplacement])","v":0},null,{"$f":"Sheet1!$S1738-Sheet1!$R1738","v":0},"-","-","-",{"$f":"IFERROR(Tableau1[[#This Row],[THEO]]-Tableau1[[#This Row],[Qtt 2éme lot]],\"-\")","v":"-"},"-",{"$f":"IF(Tableau1[[#This Row],[2éme lot]]=\"-\",\"-\",IFERROR(IF(Q1738=\"\",\"-\",INDEX(I:I,MATCH(Q1738,C:C,0)+1)),\"-\"))","v":"-"},"-","-"]
[{"$nulls":15},"-",null,{"$f":"SUMIF(Tableau1[Description article],Tableau1[Produits],Tableau1[Emplacement])","v":0},null,{"$f":"Sheet1!$S1739-Sheet1!$R1739","v":0},"-","-","-",{"$f":"IFERROR(Tableau1[[#This Row],[THEO]]-Tableau1[[#This Row],[Qtt 2éme lot]],\"-\")","v":"-"},"-",{"$f":"IF(Tableau1[[#This Row],[2éme lot]]=\"-\",\"-\",IFERROR(IF(Q1739=\"\",\"-\",INDEX(I:I,MATCH(Q1739,C:C,0)+1)),\"-\"))","v":"-"},"-","-"]
[{"$nulls":15},"-",null,{"$f":"SUMIF(Tableau1[Description article],Tableau1[Produits],Tableau1[Emplacement])","v":0},null,{"$f":"Sheet1!$S1740-Sheet1!$R1740","v":0},"-","-","-",{"$f":"IFERROR(Tableau1[[#This Row],[THEO]]-Tableau1[[#This Row],[Qtt 2éme lot]],\"-\")","v":"-"},"-",{"$f":"IF(Tableau1[[#This Row],[2éme lot]]=\"-\",\"-\",IFERROR(IF(Q1740=\"\",\"-\",INDEX(I:I,MATCH(Q1740,C:C,0)+1)),\"-\"))","v":"-"},"-","-"]
[{"$nulls":15},"-",null,{"$f":"SUMIF(Tableau1[Description article],Tableau1[Produits],Tableau1[Emplacement])","v":0},null,{"$f":"Sheet1!$S1741-Sheet1!$R1741","v":0},"-","-","-",{"$f":"IFERROR(Tableau1[[#This Row],[THEO]]-Tableau1[[#This Row],[Qtt 2éme lot]],\"-\")","v":"-"},"-",{"$f":"IF(Tableau1[[#This Row],[2éme lot]]=\"-\",\"-\",IFERROR(IF(Q1741=\"\",\"-\",INDEX(I:I,MATCH(Q1741,C:C,0)+1)),\"-\"))","v":"-"},"-","-"]
[{"$nulls":15},"-",null,{"$f":"SUMIF(Tableau1[Description article],Tableau1[Produits],Tableau1[Emplacement])","v":0},null,{"$f":"Sheet1!$S1742-Sheet1!$R1742","v":0},"-","-","-",{"$f":"IFERROR(Tableau1[[#This Row],[THEO]]-Tableau1[[#This Row],[Qtt 2éme lot]],\"-\")","v":"-"},"-",{"$f":"IF(Tableau1[[#This Row],[2éme lot]]=\"-\",\"-\",IFERROR(IF(Q1742=\"\",\"-\",INDEX(I:I,MATCH(Q1742,C:C,0)+1)),\"-\"))","v":"-"},"-","-"]
[{"$nulls":15},"-",null,{"$f":"SUMIF(Tableau1[Description article],Tableau1[Produits],Tableau1[Emplacement])","v":0},null,{"$f":"Sheet1!$S1743-Sheet1!$R1743","v":0},"-","-","-",{"$f":"IFERROR(Tableau1[[#This Row],[THEO]]-Tableau1[[#This Row],[Qtt 2éme lot]],\"-\")","v":"-"},"-",{"$f":"IF(Tableau1[[#This Row],[2éme lot]]=\"-\",\"-\",IFERROR(IF(Q1743=\"\",\"-\",INDEX(I:I,MATCH(Q1743,C:C,0)+1)),\"-\"))","v":"-"},"-","-"]
[{"$nulls":15},"-",null,{"$f":"SUMIF(Tableau1[Description article],Tableau1[Produits],Tableau1[Emplacement])","v":0},null,{"$f":"Sheet1!$S1744-Sheet1!$R1744","v":0},"-","-","-",{"$f":"IFERROR(Tableau1[[#This Row],[THEO]]-Tableau1[[#This Row],[Qtt 2éme lot]],\"-\")","v":"-"},"-",{"$f":"IF(Tableau1[[#This Row],[2éme lot]]=\"-\",\"-\",IFERROR(IF(Q1744=\"\",\"-\",INDEX(I:I,MATCH(Q1744,C:C,0)+1)),\"-\"))","v":"-"},"-","-"]
[{"$nulls":15},"-",null,{"$f":"SUMIF(Tableau1[Description article],Tableau1[Produits],Tableau1[Emplacement])","v":0},null,{"$f":"Sheet1!$S1745-Sheet1!$R1745","v":0},"-","-","-",{"$f":"IFERROR(Tableau1[[#This Row],[THEO]]-Tableau1[[#This Row],[Qtt 2éme lot]],\"-\")","v":"-"},"-",{"$f":"IF(Tableau1[[#This Row],[2éme lot]]=\"-\",\"-\",IFERROR(IF(Q1745=\"\",\"-\",INDEX(I:I,MATCH(Q1745,C:C,0)+1)),\"-\"))","v":"-"},"-","-"]
[{"$nulls":15},"-",null,{"$f":"SUMIF(Tableau1[Description article],Tableau1[Produits],Tableau1[Emplacement])","v":0},null,{"$f":"Sheet1!$S1746-Sheet1!$R1746","v":0},"-","-","-",{"$f":"IFERROR(Tableau1[[#This Row],[THEO]]-Tableau1[[#This Row],[Qtt 2éme lot]],\"-\")","v":"-"},"-",{"$f":"IF(Tableau1[[#This Row],[2éme lot]]=\"-\",\"-\",IFERROR(IF(Q1746=\"\",\"-\",INDEX(I:I,MATCH(Q1746,C:C,0)+1)),\"-\"))","v":"-"},"-","-"]
[{"$nulls":15},"-",null,{"$f":"SUMIF(Tableau1[Description article],Tableau1[Produits],Tableau1[Emplacement])","v":0},null,{"$f":"Sheet1!$S1747-Sheet1!$R1747","v":0},"-","-","-",{"$f":"IFERROR(Tableau1[[#This Row],[THEO]]-Tableau1[[#This Row],[Qtt 2éme lot]],\"-\")","v":"-"},"-",{"$f":"IF(Tableau1[[#This Row],[2éme lot]]=\"-\",\"-\",IFERROR(IF(Q1747=\"\",\"-\",INDEX(I:I,MATCH(Q1747,C:C,0)+1)),\"-\"))","v":"-"},"-","-"]
[{"$nulls":15},"-",null,{"$f":"SUMIF(Tableau1[Description article],Tableau1[Produits],Tableau1[Emplacement])","v":0},null,{"$f":"Sheet1!$S1748-Sheet1!$R1748","v":0},"-","-","-",{"$f":"IFERROR(Tableau1[[#This Row],[THEO]]-Tableau1[[#This Row],[Qtt 2éme lot]],\"-\")","v":"-"},"-",{"$f":"IF(Tableau1[[#This Row],[2éme lot]]=\"-\",\"-\",IFERROR(IF(Q1748=\"\",\"-\",INDEX(I:I,MATCH(Q1748,C:C,0)+1)),\"-\"))","v":"-"},"-","-"]
[{"$nulls":15},"-",null,{"$f":"SUMIF(Tableau1[Description article],Tableau1[Produits],Tableau1[Emplacement])","v":0},null,{"$f":"Sheet1!$S1749-Sheet1!$R1749","v":0},"-","-","-",{"$f":"IFERROR(Tableau1[[#This Row],[THEO]]-Tableau1[[#This Row],[Qtt 2éme lot]],\"-\")","v":"-"},"-",{"$f":"IF(Tableau1[[#This Row],[2éme lot]]=\"-\",\"-\",IFERROR(IF(Q1749=\"\",\"-\",INDEX(I:I,MATCH(Q1749,C:C,0)+1)),\"-\"))","v":"-"},"-","-"]
[{"$nulls":15},"-",null,{"$f":"SUMIF(Tableau1[Description article],Tableau1[Produits],Tableau1[Emplacement])","v":0},null,{"$f":"Sheet1!$S1750-Sheet1!$R1750","v":0},"-","-","-",{"$f":"IFERROR(Tableau1[[#This Row],[THEO]]-Tableau1[[#This Row],[Qtt 2éme lot]],\"-\")","v":"-"},"-",{"$f":"IF(Tableau1[[#This Row],[2éme lot]]=\"-\",\"-\",IFERROR(IF(Q1750=\"\",\"-\",INDEX(I:I,MATCH(Q1750,C:C,0)+1)),\"-\"))","v":"-"},"-","-"]
[{"$nulls":15},"-",null,{"$f":"SUMIF(Tableau1[Description article],Tableau1[Produits],Tableau1[Emplacement])","v":0},null,{"$f":"Sheet1!$S1751-Sheet1!$R1751","v":0},"-","-","-",{"$f":"IFERROR(Tableau1[[#This Row],[THEO]]-Tableau1[[#This Row],[Qtt 2éme lot]],\"-\")","v":"-"},"-",{"$f":"IF(Tableau1[[#This Row],[2éme lot]]=\"-\",\"-\",IFERROR(IF(Q1751=\"\",\"-\",INDEX(I:I,MATCH(Q1751,C:C,0)+1)),\"-\"))","v":"-"},"-","-"]
[{"$nulls":15},"-",null,{"$f":"SUMIF(Tableau1[Description article],Tableau1[Produits],Tableau1[Emplacement])","v":0},null,{"$f":"Sheet1!$S1752-Sheet1!$R1752","v":0},"-","-","-",{"$f":"IFERROR(Tableau1[[#This Row],[THEO]]-Tableau1[[#This Row],[Qtt 2éme lot]],\"-\")","v":"-"},"-",{"$f":"IF(Tableau1[[#This Row],[2éme lot]]=\"-\",\"-\",IFERROR(IF(Q1752=\"\",\"-\",INDEX(I:I,MATCH(Q1752,C:C,0)+1)),\"-\"))","v":"-"},"-","-"]
[{"$nulls":15},"-",null,{"$f":"SUMIF(Tableau1[Description article],Tableau1[Produits],Tableau1[Emplacement])","v":0},null,{"$f":"Sheet1!$S1753-Sheet1!$R1753","v":0},"-","-","-",{"$f":"IFERROR(Tableau1[[#This Row],[THEO]]-Tableau1[[#This Row],[Qtt 2éme lot]],\"-\")","v":"-"},"-",{"$f":"IF(Tableau1[[#This Row],[2éme lot]]=\"-\",\"-\",IFERROR(IF(Q1753=\"\",\"-\",INDEX(I:I,MATCH(Q1753,C:C,0)+1)),\"-\"))","v":"-"},"-","-"]
[{"$nulls":15},"-",null,{"$f":"SUMIF(Tableau1[Description article],Tableau1[Produits],Tableau1[Emplacement])","v":0},null,{"$f":"Sheet1!$S1754-Sheet1!$R1754","v":0},"-","-","-",{"$f":"IFERROR(Tableau1[[#This Row],[THEO]]-Tableau1[[#This Row],[Qtt 2éme lot]],\"-\")","v":"-"},"-",{"$f":"IF(Tableau1[[#This Row],[2éme lot]]=\"-\",\"-\",IFERROR(IF(Q1754=\"\",\"-\",INDEX(I:I,MATCH(Q1754,C:C,0)+1)),\"-\"))","v":"-"},"-","-"]
[{"$nulls":15},"-",null,{"$f":"SUMIF(Tableau1[Description article],Tableau1[Produits],Tableau1[Emplacement])","v":0},null,{"$f":"Sheet1!$S1755-Sheet1!$R1755","v":0},"-","-","-",{"$f":"IFERROR(Tableau1[[#This Row],[THEO]]-Tableau1[[#This Row],[Qtt 2éme lot]],\"-\")","v":"-"},"-",{"$f":"IF(Tableau1[[#This Row],[2éme lot]]=\"-\",\"-\",IFERROR(IF(Q1755=\"\",\"-\",INDEX(I:I,MATCH(Q1755,C:C,0)+1)),\"-\"))","v":"-"},"-","-"]
[{"$nulls":15},"-",null,{"$f":"SUMIF(Tableau1[Description article],Tableau1[Produits],Tableau1[Emplacement])","v":0},null,{"$f":"Sheet1!$S1756-Sheet1!$R1756","v":0},"-","-","-",{"$f":"IFERROR(Tableau1[[#This Row],[THEO]]-Tableau1[[#This Row],[Qtt 2éme lot]],\"-\")","v":"-"},"-",{"$f":"IF(Tableau1[[#This Row],[2éme lot]]=\"-\",\"-\",IFERROR(IF(Q1756=\"\",\"-\",INDEX(I:I,MATCH(Q1756,C:C,0)+1)),\"-\"))","v":"-"},"-","-"]
[{"$nulls":15},"-",null,{"$f":"SUMIF(Tableau1[Description article],Tableau1[Produits],Tableau1[Emplacement])","v":0},null,{"$f":"Sheet1!$S1757-Sheet1!$R1757","v":0},"-","-","-",{"$f":"IFERROR(Tableau1[[#This Row],[THEO]]-Tableau1[[#This Row],[Qtt 2éme lot]],\"-\")","v":"-"},"-",{"$f":"IF(Tableau1[[#This Row],[2éme lot]]=\"-\",\"-\",IFERROR(IF(Q1757=\"\",\"-\",INDEX(I:I,MATCH(Q1757,C:C,0)+1)),\"-\"))","v":"-"},"-","-"]
[{"$nulls":15},"-",null,{"$f":"SUMIF(Tableau1[Description article],Tableau1[Produits],Tableau1[Emplacement])","v":0},null,{"$f":"Sheet1!$S1758-Sheet1!$R1758","v":0},"-","-","-",{"$f":"IFERROR(Tableau1[[#This Row],[THEO]]-Tableau1[[#This Row],[Qtt 2éme lot]],\"-\")","v":"-"},"-",{"$f":"IF(Tableau1[[#This Row],[2éme lot]]=\"-\",\"-\",IFERROR(IF(Q1758=\"\",\"-\",INDEX(I:I,MATCH(Q1758,C:C,0)+1)),\"-\"))","v":"-"},"-","-"]
[{"$nulls":15},"-",null,{"$f":"SUMIF(Tableau1[Description article],Tableau1[Produits],Tableau1[Emplacement])","v":0},null,{"$f":"Sheet1!$S1759-Sheet1!$R1759","v":0},"-","-","-",{"$f":"IFERROR(Tableau1[[#This Row],[THEO]]-Tableau1[[#This Row],[Qtt 2éme lot]],\"-\")","v":"-"},"-",{"$f":"IF(Tableau1[[#This Row],[2éme lot]]=\"-\",\"-\",IFERROR(IF(Q1759=\"\",\"-\",INDEX(I:I,MATCH(Q1759,C:C,0)+1)),\"-\"))","v":"-"},"-","-"]
[{"$nulls":15},"-",null,{"$f":"SUMIF(Tableau1[Description article],Tableau1[Produits],Tableau1[Emplacement])","v":0},null,{"$f":"Sheet1!$S1760-Sheet1!$R1760","v":0},"-","-","-",{"$f":"IFERROR(Tableau1[[#This Row],[THEO]]-Tableau1[[#This Row],[Qtt 2éme lot]],\"-\")","v":"-"},"-",{"$f":"IF(Tableau1[[#This Row],[2éme lot]]=\"-\",\"-\",IFERROR(IF(Q1760=\"\",\"-\",INDEX(I:I,MATCH(Q1760,C:C,0)+1)),\"-\"))","v":"-"},"-","-"]
[{"$nulls":15},"-",null,{"$f":"SUMIF(Tableau1[Description article],Tableau1[Produits],Tableau1[Emplacement])","v":0},null,{"$f":"Sheet1!$S1761-Sheet1!$R1761","v":0},"-","-","-",{"$f":"IFERROR(Tableau1[[#This Row],[THEO]]-Tableau1[[#This Row],[Qtt 2éme lot]],\"-\")","v":"-"},"-",{"$f":"IF(Tableau1[[#This Row],[2éme lot]]=\"-\",\"-\",IFERROR(IF(Q1761=\"\",\"-\",INDEX(I:I,MATCH(Q1761,C:C,0)+1)),\"-\"))","v":"-"},"-","-"]
[{"$nulls":15},"-",null,{"$f":"SUMIF(Tableau1[Description article],Tableau1[Produits],Tableau1[Emplacement])","v":0},null,{"$f":"Sheet1!$S1762-Sheet1!$R1762","v":0},"-","-","-",{"$f":"IFERROR(Tableau1[[#This Row],[THEO]]-Tableau1[[#This Row],[Qtt 2éme lot]],\"-\")","v":"-"},"-",{"$f":"IF(Tableau1[[#This Row],[2éme lot]]=\"-\",\"-\",IFERROR(IF(Q1762=\"\",\"-\",INDEX(I:I,MATCH(Q1762,C:C,0)+1)),\"-\"))","v":"-"},"-","-"]
[{"$nulls":15},"-",null,{"$f":"SUMIF(Tableau1[Description article],Tableau1[Produits],Tableau1[Emplacement])","v":0},null,{"$f":"Sheet1!$S1763-Sheet1!$R1763","v":0},"-","-","-",{"$f":"IFERROR(Tableau1[[#This Row],[THEO]]-Tableau1[[#This Row],[Qtt 2éme lot]],\"-\")","v":"-"},"-",{"$f":"IF(Tableau1[[#This Row],[2éme lot]]=\"-\",\"-\",IFERROR(IF(Q1763=\"\",\"-\",INDEX(I:I,MATCH(Q1763,C:C,0)+1)),\"-\"))","v":"-"},"-","-"]
[{"$nulls":15},"-",null,{"$f":"SUMIF(Tableau1[Description article],Tableau1[Produits],Tableau1[Emplacement])","v":0},null,{"$f":"Sheet1!$S1764-Sheet1!$R1764","v":0},"-","-","-",{"$f":"IFERROR(Tableau1[[#This Row],[THEO]]-Tableau1[[#This Row],[Qtt 2éme lot]],\"-\")","v":"-"},"-",{"$f":"IF(Tableau1[[#This Row],[2éme lot]]=\"-\",\"-\",IFERROR(IF(Q1764=\"\",\"-\",INDEX(I:I,MATCH(Q1764,C:C,0)+1)),\"-\"))","v":"-"},"-","-"]
[{"$nulls":15},"-",null,{"$f":"SUMIF(Tableau1[Description article],Tableau1[Produits],Tableau1[Emplacement])","v":0},null,{"$f":"Sheet1!$S1765-Sheet1!$R1765","v":0},"-","-","-",{"$f":"IFERROR(Tableau1[[#This Row],[THEO]]-Tableau1[[#This Row],[Qtt 2éme lot]],\"-\")","v":"-"},"-",{"$f":"IF(Tableau1[[#This Row],[2éme lot]]=\"-\",\"-\",IFERROR(IF(Q1765=\"\",\"-\",INDEX(I:I,MATCH(Q1765,C:C,0)+1)),\"-\"))","v":"-"},"-","-"]
[{"$nulls":15},"-",null,{"$f":"SUMIF(Tableau1[Description article],Tableau1[Produits],Tableau1[Emplacement])","v":0},null,{"$f":"Sheet1!$S1766-Sheet1!$R1766","v":0},"-","-","-",{"$f":"IFERROR(Tableau1[[#This Row],[THEO]]-Tableau1[[#This Row],[Qtt 2éme lot]],\"-\")","v":"-"},"-",{"$f":"IF(Tableau1[[#This Row],[2éme lot]]=\"-\",\"-\",IFERROR(IF(Q1766=\"\",\"-\",INDEX(I:I,MATCH(Q1766,C:C,0)+1)),\"-\"))","v":"-"},"-","-"]
[{"$nulls":15},"-",null,{"$f":"SUMIF(Tableau1[Description article],Tableau1[Produits],Tableau1[Emplacement])","v":0},null,{"$f":"Sheet1!$S1767-Sheet1!$R1767","v":0},"-","-","-",{"$f":"IFERROR(Tableau1[[#This Row],[THEO]]-Tableau1[[#This Row],[Qtt 2éme lot]],\"-\")","v":"-"},"-",{"$f":"IF(Tableau1[[#This Row],[2éme lot]]=\"-\",\"-\",IFERROR(IF(Q1767=\"\",\"-\",INDEX(I:I,MATCH(Q1767,C:C,0)+1)),\"-\"))","v":"-"},"-","-"]
[{"$nulls":15},"-",null,{"$f":"SUMIF(Tableau1[Description article],Tableau1[Produits],Tableau1[Emplacement])","v":0},null,{"$f":"Sheet1!$S1768-Sheet1!$R1768","v":0},"-","-","-",{"$f":"IFERROR(Tableau1[[#This Row],[THEO]]-Tableau1[[#This Row],[Qtt 2éme lot]],\"-\")","v":"-"},"-",{"$f":"IF(Tableau1[[#This Row],[2éme lot]]=\"-\",\"-\",IFERROR(IF(Q1768=\"\",\"-\",INDEX(I:I,MATCH(Q1768,C:C,0)+1)),\"-\"))","v":"-"},"-","-"]
[{"$nulls":15},"-",null,{"$f":"SUMIF(Tableau1[Description article],Tableau1[Produits],Tableau1[Emplacement])","v":0},null,{"$f":"Sheet1!$S1769-Sheet1!$R1769","v":0},"-","-","-",{"$f":"IFERROR(Tableau1[[#This Row],[THEO]]-Tableau1[[#This Row],[Qtt 2éme lot]],\"-\")","v":"-"},"-",{"$f":"IF(Tableau1[[#This Row],[2éme lot]]=\"-\",\"-\",IFERROR(IF(Q1769=\"\",\"-\",INDEX(I:I,MATCH(Q1769,C:C,0)+1)),\"-\"))","v":"-"},"-","-"]
[{"$nulls":15},"-",null,{"$f":"SUMIF(Tableau1[Description article],Tableau1[Produits],Tableau1[Emplacement])","v":0},null,{"$f":"Sheet1!$S1770-Sheet1!$R1770","v":0},"-","-","-",{"$f":"IFERROR(Tableau1[[#This Row],[THEO]]-Tableau1[[#This Row],[Qtt 2éme lot]],\"-\")","v":"-"},"-",{"$f":"IF(Tableau1[[#This Row],[2éme lot]]=\"-\",\"-\",IFERROR(IF(Q1770=\"\",\"-\",INDEX(I:I,MATCH(Q1770,C:C,0)+1)),\"-\"))","v":"-"},"-","-"]
[{"$nulls":15},"-",null,{"$f":"SUMIF(Tableau1[Description article],Tableau1[Produits],Tableau1[Emplacement])","v":0},null,{"$f":"Sheet1!$S1771-Sheet1!$R1771","v":0},"-","-","-",{"$f":"IFERROR(Tableau1[[#This Row],[THEO]]-Tableau1[[#This Row],[Qtt 2éme lot]],\"-\")","v":"-"},"-",{"$f":"IF(Tableau1[[#This Row],[2éme lot]]=\"-\",\"-\",IFERROR(IF(Q1771=\"\",\"-\",INDEX(I:I,MATCH(Q1771,C:C,0)+1)),\"-\"))","v":"-"},"-","-"]
[{"$nulls":15},"-",null,{"$f":"SUMIF(Tableau1[Description article],Tableau1[Produits],Tableau1[Emplacement])","v":0},null,{"$f":"Sheet1!$S1772-Sheet1!$R1772","v":0},"-","-","-",{"$f":"IFERROR(Tableau1[[#This Row],[THEO]]-Tableau1[[#This Row],[Qtt 2éme lot]],\"-\")","v":"-"},"-",{"$f":"IF(Tableau1[[#This Row],[2éme lot]]=\"-\",\"-\",IFERROR(IF(Q1772=\"\",\"-\",INDEX(I:I,MATCH(Q1772,C:C,0)+1)),\"-\"))","v":"-"},"-","-"]
[{"$nulls":15},"-",null,{"$f":"SUMIF(Tableau1[Description article],Tableau1[Produits],Tableau1[Emplacement])","v":0},null,{"$f":"Sheet1!$S1773-Sheet1!$R1773","v":0},"-","-","-",{"$f":"IFERROR(Tableau1[[#This Row],[THEO]]-Tableau1[[#This Row],[Qtt 2éme lot]],\"-\")","v":"-"},"-",{"$f":"IF(Tableau1[[#This Row],[2éme lot]]=\"-\",\"-\",IFERROR(IF(Q1773=\"\",\"-\",INDEX(I:I,MATCH(Q1773,C:C,0)+1)),\"-\"))","v":"-"},"-","-"]
[{"$nulls":15},"-",null,{"$f":"SUMIF(Tableau1[Description article],Tableau1[Produits],Tableau1[Emplacement])","v":0},null,{"$f":"Sheet1!$S1774-Sheet1!$R1774","v":0},"-","-","-",{"$f":"IFERROR(Tableau1[[#This Row],[THEO]]-Tableau1[[#This Row],[Qtt 2éme lot]],\"-\")","v":"-"},"-",{"$f":"IF(Tableau1[[#This Row],[2éme lot]]=\"-\",\"-\",IFERROR(IF(Q1774=\"\",\"-\",INDEX(I:I,MATCH(Q1774,C:C,0)+1)),\"-\"))","v":"-"},"-","-"]
[{"$nulls":15},"-",null,{"$f":"SUMIF(Tableau1[Description article],Tableau1[Produits],Tableau1[Emplacement])","v":0},null,{"$f":"Sheet1!$S1775-Sheet1!$R1775","v":0},"-","-","-",{"$f":"IFERROR(Tableau1[[#This Row],[THEO]]-Tableau1[[#This Row],[Qtt 2éme lot]],\"-\")","v":"-"},"-",{"$f":"IF(Tableau1[[#This Row],[2éme lot]]=\"-\",\"-\",IFERROR(IF(Q1775=\"\",\"-\",INDEX(I:I,MATCH(Q1775,C:C,0)+1)),\"-\"))","v":"-"},"-","-"]
[{"$nulls":15},"-",null,{"$f":"SUMIF(Tableau1[Description article],Tableau1[Produits],Tableau1[Emplacement])","v":0},null,{"$f":"Sheet1!$S1776-Sheet1!$R1776","v":0},"-","-","-",{"$f":"IFERROR(Tableau1[[#This Row],[THEO]]-Tableau1[[#This Row],[Qtt 2éme lot]],\"-\")","v":"-"},"-",{"$f":"IF(Tableau1[[#This Row],[2éme lot]]=\"-\",\"-\",IFERROR(IF(Q1776=\"\",\"-\",INDEX(I:I,MATCH(Q1776,C:C,0)+1)),\"-\"))","v":"-"},"-","-"]
[{"$nulls":15},"-",null,{"$f":"SUMIF(Tableau1[Description article],Tableau1[Produits],Tableau1[Emplacement])","v":0},null,{"$f":"Sheet1!$S1777-Sheet1!$R1777","v":0},"-","-","-",{"$f":"IFERROR(Tableau1[[#This Row],[THEO]]-Tableau1[[#This Row],[Qtt 2éme lot]],\"-\")","v":"-"},"-",{"$f":"IF(Tableau1[[#This Row],[2éme lot]]=\"-\",\"-\",IFERROR(IF(Q1777=\"\",\"-\",INDEX(I:I,MATCH(Q1777,C:C,0)+1)),\"-\"))","v":"-"},"-","-"]
[{"$nulls":15},"-",null,{"$f":"SUMIF(Tableau1[Description article],Tableau1[Produits],Tableau1[Emplacement])","v":0},null,{"$f":"Sheet1!$S1778-Sheet1!$R1778","v":0},"-","-","-",{"$f":"IFERROR(Tableau1[[#This Row],[THEO]]-Tableau1[[#This Row],[Qtt 2éme lot]],\"-\")","v":"-"},"-",{"$f":"IF(Tableau1[[#This Row],[2éme lot]]=\"-\",\"-\",IFERROR(IF(Q1778=\"\",\"-\",INDEX(I:I,MATCH(Q1778,C:C,0)+1)),\"-\"))","v":"-"},"-","-"]
[{"$nulls":15},"-",null,{"$f":"SUMIF(Tableau1[Description article],Tableau1[Produits],Tableau1[Emplacement])","v":0},null,{"$f":"Sheet1!$S1779-Sheet1!$R1779","v":0},"-","-","-",{"$f":"IFERROR(Tableau1[[#This Row],[THEO]]-Tableau1[[#This Row],[Qtt 2éme lot]],\"-\")","v":"-"},"-",{"$f":"IF(Tableau1[[#This Row],[2éme lot]]=\"-\",\"-\",IFERROR(IF(Q1779=\"\",\"-\",INDEX(I:I,MATCH(Q1779,C:C,0)+1)),\"-\"))","v":"-"},"-","-"]
[{"$nulls":15},"-",null,{"$f":"SUMIF(Tableau1[Description article],Tableau1[Produits],Tableau1[Emplacement])","v":0},null,{"$f":"Sheet1!$S1780-Sheet1!$R1780","v":0},"-","-","-",{"$f":"IFERROR(Tableau1[[#This Row],[THEO]]-Tableau1[[#This Row],[Qtt 2éme lot]],\"-\")","v":"-"},"-",{"$f":"IF(Tableau1[[#This Row],[2éme lot]]=\"-\",\"-\",IFERROR(IF(Q1780=\"\",\"-\",INDEX(I:I,MATCH(Q1780,C:C,0)+1)),\"-\"))","v":"-"},"-","-"]
[{"$nulls":15},"-",null,{"$f":"SUMIF(Tableau1[Description article],Tableau1[Produits],Tableau1[Emplacement])","v":0},null,{"$f":"Sheet1!$S1781-Sheet1!$R1781","v":0},"-","-","-",{"$f":"IFERROR(Tableau1[[#This Row],[THEO]]-Tableau1[[#This Row],[Qtt 2éme lot]],\"-\")","v":"-"},"-",{"$f":"IF(Tableau1[[#This Row],[2éme lot]]=\"-\",\"-\",IFERROR(IF(Q1781=\"\",\"-\",INDEX(I:I,MATCH(Q1781,C:C,0)+1)),\"-\"))","v":"-"},"-","-"]
[{"$nulls":15},"-",null,{"$f":"SUMIF(Tableau1[Description article],Tableau1[Produits],Tableau1[Emplacement])","v":0},null,{"$f":"Sheet1!$S1782-Sheet1!$R1782","v":0},"-","-","-",{"$f":"IFERROR(Tableau1[[#This Row],[THEO]]-Tableau1[[#This Row],[Qtt 2éme lot]],\"-\")","v":"-"},"-",{"$f":"IF(Tableau1[[#This Row],[2éme lot]]=\"-\",\"-\",IFERROR(IF(Q1782=\"\",\"-\",INDEX(I:I,MATCH(Q1782,C:C,0)+1)),\"-\"))","v":"-"},"-","-"]
[{"$nulls":15},"-",null,{"$f":"SUMIF(Tableau1[Description article],Tableau1[Produits],Tableau1[Emplacement])","v":0},null,{"$f":"Sheet1!$S1783-Sheet1!$R1783","v":0},"-","-","-",{"$f":"IFERROR(Tableau1[[#This Row],[THEO]]-Tableau1[[#This Row],[Qtt 2éme lot]],\"-\")","v":"-"},"-",{"$f":"IF(Tableau1[[#This Row],[2éme lot]]=\"-\",\"-\",IFERROR(IF(Q1783=\"\",\"-\",INDEX(I:I,MATCH(Q1783,C:C,0)+1)),\"-\"))","v":"-"},"-","-"]
[{"$nulls":15},"-",null,{"$f":"SUMIF(Tableau1[Description article],Tableau1[Produits],Tableau1[Emplacement])","v":0},null,{"$f":"Sheet1!$S1784-Sheet1!$R1784","v":0},"-","-","-",{"$f":"IFERROR(Tableau1[[#This Row],[THEO]]-Tableau1[[#This Row],[Qtt 2éme lot]],\"-\")","v":"-"},"-",{"$f":"IF(Tableau1[[#This Row],[2éme lot]]=\"-\",\"-\",IFERROR(IF(Q1784=\"\",\"-\",INDEX(I:I,MATCH(Q1784,C:C,0)+1)),\"-\"))","v":"-"},"-","-"]
[{"$nulls":15},"-",null,{"$f":"SUMIF(Tableau1[Description article],Tableau1[Produits],Tableau1[Emplacement])","v":0},null,{"$f":"Sheet1!$S1785-Sheet1!$R1785","v":0},"-","-","-",{"$f":"IFERROR(Tableau1[[#This Row],[THEO]]-Tableau1[[#This Row],[Qtt 2éme lot]],\"-\")","v":"-"},"-",{"$f":"IF(Tableau1[[#This Row],[2éme lot]]=\"-\",\"-\",IFERROR(IF(Q1785=\"\",\"-\",INDEX(I:I,MATCH(Q1785,C:C,0)+1)),\"-\"))","v":"-"},"-","-"]
[{"$nulls":15},"-",null,{"$f":"SUMIF(Tableau1[Description article],Tableau1[Produits],Tableau1[Emplacement])","v":0},null,{"$f":"Sheet1!$S1786-Sheet1!$R1786","v":0},"-","-","-",{"$f":"IFERROR(Tableau1[[#This Row],[THEO]]-Tableau1[[#This Row],[Qtt 2éme lot]],\"-\")","v":"-"},"-",{"$f":"IF(Tableau1[[#This Row],[2éme lot]]=\"-\",\"-\",IFERROR(IF(Q1786=\"\",\"-\",INDEX(I:I,MATCH(Q1786,C:C,0)+1)),\"-\"))","v":"-"},"-","-"]
[{"$nulls":15},"-",null,{"$f":"SUMIF(Tableau1[Description article],Tableau1[Produits],Tableau1[Emplacement])","v":0},null,{"$f":"Sheet1!$S1787-Sheet1!$R1787","v":0},"-","-","-",{"$f":"IFERROR(Tableau1[[#This Row],[THEO]]-Tableau1[[#This Row],[Qtt 2éme lot]],\"-\")","v":"-"},"-",{"$f":"IF(Tableau1[[#This Row],[2éme lot]]=\"-\",\"-\",IFERROR(IF(Q1787=\"\",\"-\",INDEX(I:I,MATCH(Q1787,C:C,0)+1)),\"-\"))","v":"-"},"-","-"]
[{"$nulls":15},"-",null,{"$f":"SUMIF(Tableau1[Description article],Tableau1[Produits],Tableau1[Emplacement])","v":0},null,{"$f":"Sheet1!$S1788-Sheet1!$R1788","v":0},"-","-","-",{"$f":"IFERROR(Tableau1[[#This Row],[THEO]]-Tableau1[[#This Row],[Qtt 2éme lot]],\"-\")","v":"-"},"-",{"$f":"IF(Tableau1[[#This Row],[2éme lot]]=\"-\",\"-\",IFERROR(IF(Q1788=\"\",\"-\",INDEX(I:I,MATCH(Q1788,C:C,0)+1)),\"-\"))","v":"-"},"-","-"]
[{"$nulls":15},"-",null,{"$f":"SUMIF(Tableau1[Description article],Tableau1[Produits],Tableau1[Emplacement])","v":0},null,{"$f":"Sheet1!$S1789-Sheet1!$R1789","v":0},"-","-","-",{"$f":"IFERROR(Tableau1[[#This Row],[THEO]]-Tableau1[[#This Row],[Qtt 2éme lot]],\"-\")","v":"-"},"-",{"$f":"IF(Tableau1[[#This Row],[2éme lot]]=\"-\",\"-\",IFERROR(IF(Q1789=\"\",\"-\",INDEX(I:I,MATCH(Q1789,C:C,0)+1)),\"-\"))","v":"-"},"-","-"]
[{"$nulls":15},"-",null,{"$f":"SUMIF(Tableau1[Description article],Tableau1[Produits],Tableau1[Emplacement])","v":0},null,{"$f":"Sheet1!$S1790-Sheet1!$R1790","v":0},"-","-","-",{"$f":"IFERROR(Tableau1[[#This Row],[THEO]]-Tableau1[[#This Row],[Qtt 2éme lot]],\"-\")","v":"-"},"-",{"$f":"IF(Tableau1[[#This Row],[2éme lot]]=\"-\",\"-\",IFERROR(IF(Q1790=\"\",\"-\",INDEX(I:I,MATCH(Q1790,C:C,0)+1)),\"-\"))","v":"-"},"-","-"]
[{"$nulls":15},"-",null,{"$f":"SUMIF(Tableau1[Description article],Tableau1[Produits],Tableau1[Emplacement])","v":0},null,{"$f":"Sheet1!$S1791-Sheet1!$R1791","v":0},"-","-","-",{"$f":"IFERROR(Tableau1[[#This Row],[THEO]]-Tableau1[[#This Row],[Qtt 2éme lot]],\"-\")","v":"-"},"-",{"$f":"IF(Tableau1[[#This Row],[2éme lot]]=\"-\",\"-\",IFERROR(IF(Q1791=\"\",\"-\",INDEX(I:I,MATCH(Q1791,C:C,0)+1)),\"-\"))","v":"-"},"-","-"]
[{"$nulls":15},"-",null,{"$f":"SUMIF(Tableau1[Description article],Tableau1[Produits],Tableau1[Emplacement])","v":0},null,{"$f":"Sheet1!$S1792-Sheet1!$R1792","v":0},"-","-","-",{"$f":"IFERROR(Tableau1[[#This Row],[THEO]]-Tableau1[[#This Row],[Qtt 2éme lot]],\"-\")","v":"-"},"-",{"$f":"IF(Tableau1[[#This Row],[2éme lot]]=\"-\",\"-\",IFERROR(IF(Q1792=\"\",\"-\",INDEX(I:I,MATCH(Q1792,C:C,0)+1)),\"-\"))","v":"-"},"-","-"]
[{"$nulls":15},"-",null,{"$f":"SUMIF(Tableau1[Description article],Tableau1[Produits],Tableau1[Emplacement])","v":0},null,{"$f":"Sheet1!$S1793-Sheet1!$R1793","v":0},"-","-","-",{"$f":"IFERROR(Tableau1[[#This Row],[THEO]]-Tableau1[[#This Row],[Qtt 2éme lot]],\"-\")","v":"-"},"-",{"$f":"IF(Tableau1[[#This Row],[2éme lot]]=\"-\",\"-\",IFERROR(IF(Q1793=\"\",\"-\",INDEX(I:I,MATCH(Q1793,C:C,0)+1)),\"-\"))","v":"-"},"-","-"]
[{"$nulls":15},{"$f":"IFERROR(IF(Q1794=\"\",\"-\",INDEX(I:I,MATCH(Q1794,C:C,0))),\"-\")","v":"-"},null,{"$f":"SUMIF(Tableau1[Description article],Tableau1[Produits],Tableau1[Emplacement])","v":0},null,{"$f":"Sheet1!$S1794-Sheet1!$R1794","v":0},{"$f":"IFERROR(IF(Q1794=\"\",\"-\",INDEX(F:F,MATCH(Q1794,C:C,0))),\"-\")","v":"-"},{"$f":"IFERROR(IF(Q1794=\"\",\"-\",INDEX(E:E,MATCH(Q1794,C:C,0))),\"-\")","v":"-"},{"$f":"IFERROR(IF(Q1794=\"\",\"-\",INDEX(N:N,MATCH(Q1794,C:C,0))),\"-\")","v":"-"},{"$f":"IFERROR(Tableau1[[#This Row],[THEO]]-Tableau1[[#This Row],[Qtt 2éme lot]],\"-\")","v":"-"},{"$f":"IF(IF(Q1794=\"\",\"-\",INDEX(E:E,MATCH(Q1794,C:C,0)))=IF(Q1794=\"\",\"-\",INDEX(E:E,MATCH(Q1794,C:C,1))),\"-\",IF(Q1794=\"\",\"-\",INDEX(E:E,MATCH(Q1794,C:C,1))))","v":"-"},{"$f":"IF(Tableau1[[#This Row],[2éme lot]]=\"-\",\"-\",IFERROR(IF(Q1794=\"\",\"-\",INDEX(I:I,MATCH(Q1794,C:C,0)+1)),\"-\"))","v":"-"},{"$f":"IFERROR(IF(Y1794=\"\",\"-\",INDEX(N:N,MATCH(Y1794,E:E,0))),\"-\")","v":"-"},{"$f":"IFERROR(IF(AA1794=\"\",\"-\",INDEX(H:H,MATCH(Y1794,E:E,0))),\"-\")","v":"-"}]
[{"$nulls":15},"-",null,{"$f":"SUMIF(Tableau1[Description article],Tableau1[Produits],Tableau1[Emplacement])","v":0},null,{"$f":"Sheet1!$S1795-Sheet1!$R1795","v":0},"-","-","-",{"$f":"IFERROR(Tableau1[[#This Row],[THEO]]-Tableau1[[#This Row],[Qtt 2éme lot]],\"-\")","v":"-"},"-",{"$f":"IF(Tableau1[[#This Row],[2éme lot]]=\"-\",\"-\",IFERROR(IF(Q1795=\"\",\"-\",INDEX(I:I,MATCH(Q1795,C:C,0)+1)),\"-\"))","v":"-"},"-","-"]
[{"$nulls":15},"-",null,{"$f":"SUMIF(Tableau1[Description article],Tableau1[Produits],Tableau1[Emplacement])","v":0},null,{"$f":"Sheet1!$S1796-Sheet1!$R1796","v":0},"-","-","-",{"$f":"IFERROR(Tableau1[[#This Row],[THEO]]-Tableau1[[#This Row],[Qtt 2éme lot]],\"-\")","v":"-"},"-",{"$f":"IF(Tableau1[[#This Row],[2éme lot]]=\"-\",\"-\",IFERROR(IF(Q1796=\"\",\"-\",INDEX(I:I,MATCH(Q1796,C:C,0)+1)),\"-\"))","v":"-"},"-","-"]
[{"$nulls":15},"-",null,{"$f":"SUMIF(Tableau1[Description article],Tableau1[Produits],Tableau1[Emplacement])","v":0},null,{"$f":"Sheet1!$S1797-Sheet1!$R1797","v":0},"-","-","-",{"$f":"IFERROR(Tableau1[[#This Row],[THEO]]-Tableau1[[#This Row],[Qtt 2éme lot]],\"-\")","v":"-"},"-",{"$f":"IF(Tableau1[[#This Row],[2éme lot]]=\"-\",\"-\",IFERROR(IF(Q1797=\"\",\"-\",INDEX(I:I,MATCH(Q1797,C:C,0)+1)),\"-\"))","v":"-"},"-","-"]
[{"$nulls":15},"-",null,{"$f":"SUMIF(Tableau1[Description article],Tableau1[Produits],Tableau1[Emplacement])","v":0},null,{"$f":"Sheet1!$S1798-Sheet1!$R1798","v":0},"-","-","-",{"$f":"IFERROR(Tableau1[[#This Row],[THEO]]-Tableau1[[#This Row],[Qtt 2éme lot]],\"-\")","v":"-"},"-",{"$f":"IF(Tableau1[[#This Row],[2éme lot]]=\"-\",\"-\",IFERROR(IF(Q1798=\"\",\"-\",INDEX(I:I,MATCH(Q1798,C:C,0)+1)),\"-\"))","v":"-"},"-","-"]
[{"$nulls":15},"-",null,{"$f":"SUMIF(Tableau1[Description article],Tableau1[Produits],Tableau1[Emplacement])","v":0},null,{"$f":"Sheet1!$S1799-Sheet1!$R1799","v":0},"-","-","-",{"$f":"IFERROR(Tableau1[[#This Row],[THEO]]-Tableau1[[#This Row],[Qtt 2éme lot]],\"-\")","v":"-"},"-",{"$f":"IF(Tableau1[[#This Row],[2éme lot]]=\"-\",\"-\",IFERROR(IF(Q1799=\"\",\"-\",INDEX(I:I,MATCH(Q1799,C:C,0)+1)),\"-\"))","v":"-"},"-","-"]
[{"$nulls":15},"-",null,{"$f":"SUMIF(Tableau1[Description article],Tableau1[Produits],Tableau1[Emplacement])","v":0},null,{"$f":"Sheet1!$S1800-Sheet1!$R1800","v":0},"-","-","-",{"$f":"IFERROR(Tableau1[[#This Row],[THEO]]-Tableau1[[#This Row],[Qtt 2éme lot]],\"-\")","v":"-"},"-",{"$f":"IF(Tableau1[[#This Row],[2éme lot]]=\"-\",\"-\",IFERROR(IF(Q1800=\"\",\"-\",INDEX(I:I,MATCH(Q1800,C:C,0)+1)),\"-\"))","v":"-"},"-","-"]
[{"$nulls":15},"-",null,{"$f":"SUMIF(Tableau1[Description article],Tableau1[Produits],Tableau1[Emplacement])","v":0},null,{"$f":"Sheet1!$S1801-Sheet1!$R1801","v":0},"-","-","-",{"$f":"IFERROR(Tableau1[[#This Row],[THEO]]-Tableau1[[#This Row],[Qtt 2éme lot]],\"-\")","v":"-"},"-",{"$f":"IF(Tableau1[[#This Row],[2éme lot]]=\"-\",\"-\",IFERROR(IF(Q1801=\"\",\"-\",INDEX(I:I,MATCH(Q1801,C:C,0)+1)),\"-\"))","v":"-"},"-","-"]
[{"$nulls":15},"-",null,{"$f":"SUMIF(Tableau1[Description article],Tableau1[Produits],Tableau1[Emplacement])","v":0},null,{"$f":"Sheet1!$S1802-Sheet1!$R1802","v":0},"-","-","-",{"$f":"IFERROR(Tableau1[[#This Row],[THEO]]-Tableau1[[#This Row],[Qtt 2éme lot]],\"-\")","v":"-"},"-",{"$f":"IF(Tableau1[[#This Row],[2éme lot]]=\"-\",\"-\",IFERROR(IF(Q1802=\"\",\"-\",INDEX(I:I,MATCH(Q1802,C:C,0)+1)),\"-\"))","v":"-"},"-","-"]
[{"$nulls":15},"-",null,{"$f":"SUMIF(Tableau1[Description article],Tableau1[Produits],Tableau1[Emplacement])","v":0},null,{"$f":"Sheet1!$S1803-Sheet1!$R1803","v":0},"-","-","-",{"$f":"IFERROR(Tableau1[[#This Row],[THEO]]-Tableau1[[#This Row],[Qtt 2éme lot]],\"-\")","v":"-"},"-",{"$f":"IF(Tableau1[[#This Row],[2éme lot]]=\"-\",\"-\",IFERROR(IF(Q1803=\"\",\"-\",INDEX(I:I,MATCH(Q1803,C:C,0)+1)),\"-\"))","v":"-"},"-","-"]
[{"$nulls":15},"-",null,{"$f":"SUMIF(Tableau1[Description article],Tableau1[Produits],Tableau1[Emplacement])","v":0},null,{"$f":"Sheet1!$S1804-Sheet1!$R1804","v":0},"-","-","-",{"$f":"IFERROR(Tableau1[[#This Row],[THEO]]-Tableau1[[#This Row],[Qtt 2éme lot]],\"-\")","v":"-"},"-",{"$f":"IF(Tableau1[[#This Row],[2éme lot]]=\"-\",\"-\",IFERROR(IF(Q1804=\"\",\"-\",INDEX(I:I,MATCH(Q1804,C:C,0)+1)),\"-\"))","v":"-"},"-","-"]
[{"$nulls":15},"-",null,{"$f":"SUMIF(Tableau1[Description article],Tableau1[Produits],Tableau1[Emplacement])","v":0},null,{"$f":"Sheet1!$S1805-Sheet1!$R1805","v":0},"-","-","-",{"$f":"IFERROR(Tableau1[[#This Row],[THEO]]-Tableau1[[#This Row],[Qtt 2éme lot]],\"-\")","v":"-"},"-",{"$f":"IF(Tableau1[[#This Row],[2éme lot]]=\"-\",\"-\",IFERROR(IF(Q1805=\"\",\"-\",INDEX(I:I,MATCH(Q1805,C:C,0)+1)),\"-\"))","v":"-"},"-","-"]
[{"$nulls":15},"-",null,{"$f":"SUMIF(Tableau1[Description article],Tableau1[Produits],Tableau1[Emplacement])","v":0},null,{"$f":"Sheet1!$S1806-Sheet1!$R1806","v":0},"-","-","-",{"$f":"IFERROR(Tableau1[[#This Row],[THEO]]-Tableau1[[#This Row],[Qtt 2éme lot]],\"-\")","v":"-"},"-",{"$f":"IF(Tableau1[[#This Row],[2éme lot]]=\"-\",\"-\",IFERROR(IF(Q1806=\"\",\"-\",INDEX(I:I,MATCH(Q1806,C:C,0)+1)),\"-\"))","v":"-"},"-","-"]
[{"$nulls":15},"-",null,{"$f":"SUMIF(Tableau1[Description article],Tableau1[Produits],Tableau1[Emplacement])","v":0},null,{"$f":"Sheet1!$S1807-Sheet1!$R1807","v":0},"-","-","-",{"$f":"IFERROR(Tableau1[[#This Row],[THEO]]-Tableau1[[#This Row],[Qtt 2éme lot]],\"-\")","v":"-"},"-",{"$f":"IF(Tableau1[[#This Row],[2éme lot]]=\"-\",\"-\",IFERROR(IF(Q1807=\"\",\"-\",INDEX(I:I,MATCH(Q1807,C:C,0)+1)),\"-\"))","v":"-"},"-","-"]
[{"$nulls":15},"-",null,{"$f":"SUMIF(Tableau1[Description article],Tableau1[Produits],Tableau1[Emplacement])","v":0},null,{"$f":"Sheet1!$S1808-Sheet1!$R1808","v":0},"-","-","-",{"$f":"IFERROR(Tableau1[[#This Row],[THEO]]-Tableau1[[#This Row],[Qtt 2éme lot]],\"-\")","v":"-"},"-",{"$f":"IF(Tableau1[[#This Row],[2éme lot]]=\"-\",\"-\",IFERROR(IF(Q1808=\"\",\"-\",INDEX(I:I,MATCH(Q1808,C:C,0)+1)),\"-\"))","v":"-"},"-","-"]
[{"$nulls":15},"-",null,{"$f":"SUMIF(Tableau1[Description article],Tableau1[Produits],Tableau1[Emplacement])","v":0},null,{"$f":"Sheet1!$S1809-Sheet1!$R1809","v":0},"-","-","-",{"$f":"IFERROR(Tableau1[[#This Row],[THEO]]-Tableau1[[#This Row],[Qtt 2éme lot]],\"-\")","v":"-"},"-",{"$f":"IF(Tableau1[[#This Row],[2éme lot]]=\"-\",\"-\",IFERROR(IF(Q1809=\"\",\"-\",INDEX(I:I,MATCH(Q1809,C:C,0)+1)),\"-\"))","v":"-"},"-","-"]
[{"$nulls":15},"-",null,{"$f":"SUMIF(Tableau1[Description article],Tableau1[Produits],Tableau1[Emplacement])","v":0},null,{"$f":"Sheet1!$S1810-Sheet1!$R1810","v":0},"-","-","-",{"$f":"IFERROR(Tableau1[[#This Row],[THEO]]-Tableau1[[#This Row],[Qtt 2éme lot]],\"-\")","v":"-"},"-",{"$f":"IF(Tableau1[[#This Row],[2éme lot]]=\"-\",\"-\",IFERROR(IF(Q1810=\"\",\"-\",INDEX(I:I,MATCH(Q1810,C:C,0)+1)),\"-\"))","v":"-"},"-","-"]
[{"$nulls":15},"-",null,{"$f":"SUMIF(Tableau1[Description article],Tableau1[Produits],Tableau1[Emplacement])","v":0},null,{"$f":"Sheet1!$S1811-Sheet1!$R1811","v":0},"-","-","-",{"$f":"IFERROR(Tableau1[[#This Row],[THEO]]-Tableau1[[#This Row],[Qtt 2éme lot]],\"-\")","v":"-"},"-",{"$f":"IF(Tableau1[[#This Row],[2éme lot]]=\"-\",\"-\",IFERROR(IF(Q1811=\"\",\"-\",INDEX(I:I,MATCH(Q1811,C:C,0)+1)),\"-\"))","v":"-"},"-","-"]
[{"$nulls":15},"-",null,{"$f":"SUMIF(Tableau1[Description article],Tableau1[Produits],Tableau1[Emplacement])","v":0},null,{"$f":"Sheet1!$S1812-Sheet1!$R1812","v":0},"-","-","-",{"$f":"IFERROR(Tableau1[[#This Row],[THEO]]-Tableau1[[#This Row],[Qtt 2éme lot]],\"-\")","v":"-"},"-",{"$f":"IF(Tableau1[[#This Row],[2éme lot]]=\"-\",\"-\",IFERROR(IF(Q1812=\"\",\"-\",INDEX(I:I,MATCH(Q1812,C:C,0)+1)),\"-\"))","v":"-"},"-","-"]
[{"$nulls":15},"-",null,{"$f":"SUMIF(Tableau1[Description article],Tableau1[Produits],Tableau1[Emplacement])","v":0},null,{"$f":"Sheet1!$S1813-Sheet1!$R1813","v":0},"-","-","-",{"$f":"IFERROR(Tableau1[[#This Row],[THEO]]-Tableau1[[#This Row],[Qtt 2éme lot]],\"-\")","v":"-"},"-",{"$f":"IF(Tableau1[[#This Row],[2éme lot]]=\"-\",\"-\",IFERROR(IF(Q1813=\"\",\"-\",INDEX(I:I,MATCH(Q1813,C:C,0)+1)),\"-\"))","v":"-"},"-","-"]
[{"$nulls":15},"-",null,{"$f":"SUMIF(Tableau1[Description article],Tableau1[Produits],Tableau1[Emplacement])","v":0},null,{"$f":"Sheet1!$S1814-Sheet1!$R1814","v":0},"-","-","-",{"$f":"IFERROR(Tableau1[[#This Row],[THEO]]-Tableau1[[#This Row],[Qtt 2éme lot]],\"-\")","v":"-"},"-",{"$f":"IF(Tableau1[[#This Row],[2éme lot]]=\"-\",\"-\",IFERROR(IF(Q1814=\"\",\"-\",INDEX(I:I,MATCH(Q1814,C:C,0)+1)),\"-\"))","v":"-"},"-","-"]
[{"$nulls":15},"-",null,{"$f":"SUMIF(Tableau1[Description article],Tableau1[Produits],Tableau1[Emplacement])","v":0},null,{"$f":"Sheet1!$S1815-Sheet1!$R1815","v":0},"-","-","-",{"$f":"IFERROR(Tableau1[[#This Row],[THEO]]-Tableau1[[#This Row],[Qtt 2éme lot]],\"-\")","v":"-"},"-",{"$f":"IF(Tableau1[[#This Row],[2éme lot]]=\"-\",\"-\",IFERROR(IF(Q1815=\"\",\"-\",INDEX(I:I,MATCH(Q1815,C:C,0)+1)),\"-\"))","v":"-"},"-","-"]
[{"$nulls":15},"-",null,{"$f":"SUMIF(Tableau1[Description article],Tableau1[Produits],Tableau1[Emplacement])","v":0},null,{"$f":"Sheet1!$S1816-Sheet1!$R1816","v":0},"-","-","-",{"$f":"IFERROR(Tableau1[[#This Row],[THEO]]-Tableau1[[#This Row],[Qtt 2éme lot]],\"-\")","v":"-"},"-",{"$f":"IF(Tableau1[[#This Row],[2éme lot]]=\"-\",\"-\",IFERROR(IF(Q1816=\"\",\"-\",INDEX(I:I,MATCH(Q1816,C:C,0)+1)),\"-\"))","v":"-"},"-","-"]
[{"$nulls":15},"-",null,{"$f":"SUMIF(Tableau1[Description article],Tableau1[Produits],Tableau1[Emplacement])","v":0},null,{"$f":"Sheet1!$S1817-Sheet1!$R1817","v":0},"-","-","-",{"$f":"IFERROR(Tableau1[[#This Row],[THEO]]-Tableau1[[#This Row],[Qtt 2éme lot]],\"-\")","v":"-"},"-",{"$f":"IF(Tableau1[[#This Row],[2éme lot]]=\"-\",\"-\",IFERROR(IF(Q1817=\"\",\"-\",INDEX(I:I,MATCH(Q1817,C:C,0)+1)),\"-\"))","v":"-"},"-","-"]
[{"$nulls":15},"-",null,{"$f":"SUMIF(Tableau1[Description article],Tableau1[Produits],Tableau1[Emplacement])","v":0},null,{"$f":"Sheet1!$S1818-Sheet1!$R1818","v":0},"-","-","-",{"$f":"IFERROR(Tableau1[[#This Row],[THEO]]-Tableau1[[#This Row],[Qtt 2éme lot]],\"-\")","v":"-"},"-",{"$f":"IF(Tableau1[[#This Row],[2éme lot]]=\"-\",\"-\",IFERROR(IF(Q1818=\"\",\"-\",INDEX(I:I,MATCH(Q1818,C:C,0)+1)),\"-\"))","v":"-"},"-","-"]
[{"$nulls":15},"-",null,{"$f":"SUMIF(Tableau1[Description article],Tableau1[Produits],Tableau1[Emplacement])","v":0},null,{"$f":"Sheet1!$S1819-Sheet1!$R1819","v":0},"-","-","-",{"$f":"IFERROR(Tableau1[[#This Row],[THEO]]-Tableau1[[#This Row],[Qtt 2éme lot]],\"-\")","v":"-"},"-",{"$f":"IF(Tableau1[[#This Row],[2éme lot]]=\"-\",\"-\",IFERROR(IF(Q1819=\"\",\"-\",INDEX(I:I,MATCH(Q1819,C:C,0)+1)),\"-\"))","v":"-"},"-","-"]
[{"$nulls":15},"-",null,{"$f":"SUMIF(Tableau1[Description article],Tableau1[Produits],Tableau1[Emplacement])","v":0},null,{"$f":"Sheet1!$S1820-Sheet1!$R1820","v":0},"-","-","-",{"$f":"IFERROR(Tableau1[[#This Row],[THEO]]-Tableau1[[#This Row],[Qtt 2éme lot]],\"-\")","v":"-"},"-",{"$f":"IF(Tableau1[[#This Row],[2éme lot]]=\"-\",\"-\",IFERROR(IF(Q1820=\"\",\"-\",INDEX(I:I,MATCH(Q1820,C:C,0)+1)),\"-\"))","v":"-"},"-","-"]
[{"$nulls":15},"-",null,{"$f":"SUMIF(Tableau1[Description article],Tableau1[Produits],Tableau1[Emplacement])","v":0},null,{"$f":"Sheet1!$S1821-Sheet1!$R1821","v":0},"-","-","-",{"$f":"IFERROR(Tableau1[[#This Row],[THEO]]-Tableau1[[#This Row],[Qtt 2éme lot]],\"-\")","v":"-"},"-",{"$f":"IF(Tableau1[[#This Row],[2éme lot]]=\"-\",\"-\",IFERROR(IF(Q1821=\"\",\"-\",INDEX(I:I,MATCH(Q1821,C:C,0)+1)),\"-\"))","v":"-"},"-","-"]
[{"$nulls":15},"-",null,{"$f":"SUMIF(Tableau1[Description article],Tableau1[Produits],Tableau1[Emplacement])","v":0},null,{"$f":"Sheet1!$S1822-Sheet1!$R1822","v":0},"-","-","-",{"$f":"IFERROR(Tableau1[[#This Row],[THEO]]-Tableau1[[#This Row],[Qtt 2éme lot]],\"-\")","v":"-"},"-",{"$f":"IF(Tableau1[[#This Row],[2éme lot]]=\"-\",\"-\",IFERROR(IF(Q1822=\"\",\"-\",INDEX(I:I,MATCH(Q1822,C:C,0)+1)),\"-\"))","v":"-"},"-","-"]
[{"$nulls":15},"-",null,{"$f":"SUMIF(Tableau1[Description article],Tableau1[Produits],Tableau1[Emplacement])","v":0},null,{"$f":"Sheet1!$S1823-Sheet1!$R1823","v":0},"-","-","-",{"$f":"IFERROR(Tableau1[[#This Row],[THEO]]-Tableau1[[#This Row],[Qtt 2éme lot]],\"-\")","v":"-"},"-",{"$f":"IF(Tableau1[[#This Row],[2éme lot]]=\"-\",\"-\",IFERROR(IF(Q1823=\"\",\"-\",INDEX(I:I,MATCH(Q1823,C:C,0)+1)),\"-\"))","v":"-"},"-","-"]
[{"$nulls":15},"-",null,{"$f":"SUMIF(Tableau1[Description article],Tableau1[Produits],Tableau1[Emplacement])","v":0},null,{"$f":"Sheet1!$S1824-Sheet1!$R1824","v":0},"-","-","-",{"$f":"IFERROR(Tableau1[[#This Row],[THEO]]-Tableau1[[#This Row],[Qtt 2éme lot]],\"-\")","v":"-"},"-",{"$f":"IF(Tableau1[[#This Row],[2éme lot]]=\"-\",\"-\",IFERROR(IF(Q1824=\"\",\"-\",INDEX(I:I,MATCH(Q1824,C:C,0)+1)),\"-\"))","v":"-"},"-","-"]
[{"$nulls":15},"-",null,{"$f":"SUMIF(Tableau1[Description article],Tableau1[Produits],Tableau1[Emplacement])","v":0},null,{"$f":"Sheet1!$S1825-Sheet1!$R1825","v":0},"-","-","-",{"$f":"IFERROR(Tableau1[[#This Row],[THEO]]-Tableau1[[#This Row],[Qtt 2éme lot]],\"-\")","v":"-"},"-",{"$f":"IF(Tableau1[[#This Row],[2éme lot]]=\"-\",\"-\",IFERROR(IF(Q1825=\"\",\"-\",INDEX(I:I,MATCH(Q1825,C:C,0)+1)),\"-\"))","v":"-"},"-","-"]
[{"$nulls":15},"-",null,{"$f":"SUMIF(Tableau1[Description article],Tableau1[Produits],Tableau1[Emplacement])","v":0},null,{"$f":"Sheet1!$S1826-Sheet1!$R1826","v":0},"-","-","-",{"$f":"IFERROR(Tableau1[[#This Row],[THEO]]-Tableau1[[#This Row],[Qtt 2éme lot]],\"-\")","v":"-"},"-",{"$f":"IF(Tableau1[[#This Row],[2éme lot]]=\"-\",\"-\",IFERROR(IF(Q1826=\"\",\"-\",INDEX(I:I,MATCH(Q1826,C:C,0)+1)),\"-\"))","v":"-"},"-","-"]
[{"$nulls":15},"-",null,{"$f":"SUMIF(Tableau1[Description article],Tableau1[Produits],Tableau1[Emplacement])","v":0},null,{"$f":"Sheet1!$S1827-Sheet1!$R1827","v":0},"-","-","-",{"$f":"IFERROR(Tableau1[[#This Row],[THEO]]-Tableau1[[#This Row],[Qtt 2éme lot]],\"-\")","v":"-"},"-",{"$f":"IF(Tableau1[[#This Row],[2éme lot]]=\"-\",\"-\",IFERROR(IF(Q1827=\"\",\"-\",INDEX(I:I,MATCH(Q1827,C:C,0)+1)),\"-\"))","v":"-"},"-","-"]
[{"$nulls":15},"-",null,{"$f":"SUMIF(Tableau1[Description article],Tableau1[Produits],Tableau1[Emplacement])","v":0},null,{"$f":"Sheet1!$S1828-Sheet1!$R1828","v":0},"-","-","-",{"$f":"IFERROR(Tableau1[[#This Row],[THEO]]-Tableau1[[#This Row],[Qtt 2éme lot]],\"-\")","v":"-"},"-",{"$f":"IF(Tableau1[[#This Row],[2éme lot]]=\"-\",\"-\",IFERROR(IF(Q1828=\"\",\"-\",INDEX(I:I,MATCH(Q1828,C:C,0)+1)),\"-\"))","v":"-"},"-","-"]
[{"$nulls":15},"-",null,{"$f":"SUMIF(Tableau1[Description article],Tableau1[Produits],Tableau1[Emplacement])","v":0},null,{"$f":"Sheet1!$S1829-Sheet1!$R1829","v":0},"-","-","-",{"$f":"IFERROR(Tableau1[[#This Row],[THEO]]-Tableau1[[#This Row],[Qtt 2éme lot]],\"-\")","v":"-"},"-",{"$f":"IF(Tableau1[[#This Row],[2éme lot]]=\"-\",\"-\",IFERROR(IF(Q1829=\"\",\"-\",INDEX(I:I,MATCH(Q1829,C:C,0)+1)),\"-\"))","v":"-"},"-","-"]
[{"$nulls":15},"-",null,{"$f":"SUMIF(Tableau1[Description article],Tableau1[Produits],Tableau1[Emplacement])","v":0},null,{"$f":"Sheet1!$S1830-Sheet1!$R1830","v":0},"-","-","-",{"$f":"IFERROR(Tableau1[[#This Row],[THEO]]-Tableau1[[#This Row],[Qtt 2éme lot]],\"-\")","v":"-"},"-",{"$f":"IF(Tableau1[[#This Row],[2éme lot]]=\"-\",\"-\",IFERROR(IF(Q1830=\"\",\"-\",INDEX(I:I,MATCH(Q1830,C:C,0)+1)),\"-\"))","v":"-"},"-","-"]
[{"$nulls":15},"-",null,{"$f":"SUMIF(Tableau1[Description article],Tableau1[Produits],Tableau1[Emplacement])","v":0},null,{"$f":"Sheet1!$S1831-Sheet1!$R1831","v":0},"-","-","-",{"$f":"IFERROR(Tableau1[[#This Row],[THEO]]-Tableau1[[#This Row],[Qtt 2éme lot]],\"-\")","v":"-"},"-",{"$f":"IF(Tableau1[[#This Row],[2éme lot]]=\"-\",\"-\",IFERROR(IF(Q1831=\"\",\"-\",INDEX(I:I,MATCH(Q1831,C:C,0)+1)),\"-\"))","v":"-"},"-","-"]
[{"$nulls":15},"-",null,{"$f":"SUMIF(Tableau1[Description article],Tableau1[Produits],Tableau1[Emplacement])","v":0},null,{"$f":"Sheet1!$S1832-Sheet1!$R1832","v":0},"-","-","-",{"$f":"IFERROR(Tableau1[[#This Row],[THEO]]-Tableau1[[#This Row],[Qtt 2éme lot]],\"-\")","v":"-"},"-",{"$f":"IF(Tableau1[[#This Row],[2éme lot]]=\"-\",\"-\",IFERROR(IF(Q1832=\"\",\"-\",INDEX(I:I,MATCH(Q1832,C:C,0)+1)),\"-\"))","v":"-"},"-","-"]
[{"$nulls":15},"-",null,{"$f":"SUMIF(Tableau1[Description article],Tableau1[Produits],Tableau1[Emplacement])","v":0},null,{"$f":"Sheet1!$S1833-Sheet1!$R1833","v":0},"-","-","-",{"$f":"IFERROR(Tableau1[[#This Row],[THEO]]-Tableau1[[#This Row],[Qtt 2éme lot]],\"-\")","v":"-"},"-",{"$f":"IF(Tableau1[[#This Row],[2éme lot]]=\"-\",\"-\",IFERROR(IF(Q1833=\"\",\"-\",INDEX(I:I,MATCH(Q1833,C:C,0)+1)),\"-\"))","v":"-"},"-","-"]
[{"$nulls":15},"-",null,{"$f":"SUMIF(Tableau1[Description article],Tableau1[Produits],Tableau1[Emplacement])","v":0},null,{"$f":"Sheet1!$S1834-Sheet1!$R1834","v":0},"-","-","-",{"$f":"IFERROR(Tableau1[[#This Row],[THEO]]-Tableau1[[#This Row],[Qtt 2éme lot]],\"-\")","v":"-"},"-",{"$f":"IF(Tableau1[[#This Row],[2éme lot]]=\"-\",\"-\",IFERROR(IF(Q1834=\"\",\"-\",INDEX(I:I,MATCH(Q1834,C:C,0)+1)),\"-\"))","v":"-"},"-","-"]
[{"$nulls":15},"-",null,{"$f":"SUMIF(Tableau1[Description article],Tableau1[Produits],Tableau1[Emplacement])","v":0},null,{"$f":"Sheet1!$S1835-Sheet1!$R1835","v":0},"-","-","-",{"$f":"IFERROR(Tableau1[[#This Row],[THEO]]-Tableau1[[#This Row],[Qtt 2éme lot]],\"-\")","v":"-"},"-",{"$f":"IF(Tableau1[[#This Row],[2éme lot]]=\"-\",\"-\",IFERROR(IF(Q1835=\"\",\"-\",INDEX(I:I,MATCH(Q1835,C:C,0)+1)),\"-\"))","v":"-"},"-","-"]
[{"$nulls":15},"-",null,{"$f":"SUMIF(Tableau1[Description article],Tableau1[Produits],Tableau1[Emplacement])","v":0},null,{"$f":"Sheet1!$S1836-Sheet1!$R1836","v":0},"-","-","-",{"$f":"IFERROR(Tableau1[[#This Row],[THEO]]-Tableau1[[#This Row],[Qtt 2éme lot]],\"-\")","v":"-"},"-",{"$f":"IF(Tableau1[[#This Row],[2éme lot]]=\"-\",\"-\",IFERROR(IF(Q1836=\"\",\"-\",INDEX(I:I,MATCH(Q1836,C:C,0)+1)),\"-\"))","v":"-"},"-","-"]
[{"$nulls":15},"-",null,{"$f":"SUMIF(Tableau1[Description article],Tableau1[Produits],Tableau1[Emplacement])","v":0},null,{"$f":"Sheet1!$S1837-Sheet1!$R1837","v":0},"-","-","-",{"$f":"IFERROR(Tableau1[[#This Row],[THEO]]-Tableau1[[#This Row],[Qtt 2éme lot]],\"-\")","v":"-"},"-",{"$f":"IF(Tableau1[[#This Row],[2éme lot]]=\"-\",\"-\",IFERROR(IF(Q1837=\"\",\"-\",INDEX(I:I,MATCH(Q1837,C:C,0)+1)),\"-\"))","v":"-"},"-","-"]
[{"$nulls":15},"-",null,{"$f":"SUMIF(Tableau1[Description article],Tableau1[Produits],Tableau1[Emplacement])","v":0},null,{"$f":"Sheet1!$S1838-Sheet1!$R1838","v":0},"-","-","-",{"$f":"IFERROR(Tableau1[[#This Row],[THEO]]-Tableau1[[#This Row],[Qtt 2éme lot]],\"-\")","v":"-"},"-",{"$f":"IF(Tableau1[[#This Row],[2éme lot]]=\"-\",\"-\",IFERROR(IF(Q1838=\"\",\"-\",INDEX(I:I,MATCH(Q1838,C:C,0)+1)),\"-\"))","v":"-"},"-","-"]
[{"$nulls":15},"-",null,{"$f":"SUMIF(Tableau1[Description article],Tableau1[Produits],Tableau1[Emplacement])","v":0},null,{"$f":"Sheet1!$S1839-Sheet1!$R1839","v":0},"-","-","-",{"$f":"IFERROR(Tableau1[[#This Row],[THEO]]-Tableau1[[#This Row],[Qtt 2éme lot]],\"-\")","v":"-"},"-",{"$f":"IF(Tableau1[[#This Row],[2éme lot]]=\"-\",\"-\",IFERROR(IF(Q1839=\"\",\"-\",INDEX(I:I,MATCH(Q1839,C:C,0)+1)),\"-\"))","v":"-"},"-","-"]
[{"$nulls":15},"-",null,{"$f":"SUMIF(Tableau1[Description article],Tableau1[Produits],Tableau1[Emplacement])","v":0},null,{"$f":"Sheet1!$S1840-Sheet1!$R1840","v":0},"-","-","-",{"$f":"IFERROR(Tableau1[[#This Row],[THEO]]-Tableau1[[#This Row],[Qtt 2éme lot]],\"-\")","v":"-"},"-",{"$f":"IF(Tableau1[[#This Row],[2éme lot]]=\"-\",\"-\",IFERROR(IF(Q1840=\"\",\"-\",INDEX(I:I,MATCH(Q1840,C:C,0)+1)),\"-\"))","v":"-"},"-","-"]
[{"$nulls":15},"-",null,{"$f":"SUMIF(Tableau1[Description article],Tableau1[Produits],Tableau1[Emplacement])","v":0},null,{"$f":"Sheet1!$S1841-Sheet1!$R1841","v":0},"-","-","-",{"$f":"IFERROR(Tableau1[[#This Row],[THEO]]-Tableau1[[#This Row],[Qtt 2éme lot]],\"-\")","v":"-"},"-",{"$f":"IF(Tableau1[[#This Row],[2éme lot]]=\"-\",\"-\",IFERROR(IF(Q1841=\"\",\"-\",INDEX(I:I,MATCH(Q1841,C:C,0)+1)),\"-\"))","v":"-"},"-","-"]
[{"$nulls":15},"-",null,{"$f":"SUMIF(Tableau1[Description article],Tableau1[Produits],Tableau1[Emplacement])","v":0},null,{"$f":"Sheet1!$S1842-Sheet1!$R1842","v":0},"-","-","-",{"$f":"IFERROR(Tableau1[[#This Row],[THEO]]-Tableau1[[#This Row],[Qtt 2éme lot]],\"-\")","v":"-"},"-",{"$f":"IF(Tableau1[[#This Row],[2éme lot]]=\"-\",\"-\",IFERROR(IF(Q1842=\"\",\"-\",INDEX(I:I,MATCH(Q1842,C:C,0)+1)),\"-\"))","v":"-"},"-","-"]
[{"$nulls":15},"-",null,{"$f":"SUMIF(Tableau1[Description article],Tableau1[Produits],Tableau1[Emplacement])","v":0},null,{"$f":"Sheet1!$S1843-Sheet1!$R1843","v":0},"-","-","-",{"$f":"IFERROR(Tableau1[[#This Row],[THEO]]-Tableau1[[#This Row],[Qtt 2éme lot]],\"-\")","v":"-"},"-",{"$f":"IF(Tableau1[[#This Row],[2éme lot]]=\"-\",\"-\",IFERROR(IF(Q1843=\"\",\"-\",INDEX(I:I,MATCH(Q1843,C:C,0)+1)),\"-\"))","v":"-"},"-","-"]
[{"$nulls":15},"-",null,{"$f":"SUMIF(Tableau1[Description article],Tableau1[Produits],Tableau1[Emplacement])","v":0},null,{"$f":"Sheet1!$S1844-Sheet1!$R1844","v":0},"-","-","-",{"$f":"IFERROR(Tableau1[[#This Row],[THEO]]-Tableau1[[#This Row],[Qtt 2éme lot]],\"-\")","v":"-"},"-",{"$f":"IF(Tableau1[[#This Row],[2éme lot]]=\"-\",\"-\",IFERROR(IF(Q1844=\"\",\"-\",INDEX(I:I,MATCH(Q1844,C:C,0)+1)),\"-\"))","v":"-"},"-","-"]
[{"$nulls":15},"-",null,{"$f":"SUMIF(Tableau1[Description article],Tableau1[Produits],Tableau1[Emplacement])","v":0},null,{"$f":"Sheet1!$S1845-Sheet1!$R1845","v":0},"-","-","-",{"$f":"IFERROR(Tableau1[[#This Row],[THEO]]-Tableau1[[#This Row],[Qtt 2éme lot]],\"-\")","v":"-"},"-",{"$f":"IF(Tableau1[[#This Row],[2éme lot]]=\"-\",\"-\",IFERROR(IF(Q1845=\"\",\"-\",INDEX(I:I,MATCH(Q1845,C:C,0)+1)),\"-\"))","v":"-"},"-","-"]
[{"$nulls":15},"-",null,{"$f":"SUMIF(Tableau1[Description article],Tableau1[Produits],Tableau1[Emplacement])","v":0},null,{"$f":"Sheet1!$S1846-Sheet1!$R1846","v":0},"-","-","-",{"$f":"IFERROR(Tableau1[[#This Row],[THEO]]-Tableau1[[#This Row],[Qtt 2éme lot]],\"-\")","v":"-"},"-",{"$f":"IF(Tableau1[[#This Row],[2éme lot]]=\"-\",\"-\",IFERROR(IF(Q1846=\"\",\"-\",INDEX(I:I,MATCH(Q1846,C:C,0)+1)),\"-\"))","v":"-"},"-","-"]
[{"$nulls":15},"-",null,{"$f":"SUMIF(Tableau1[Description article],Tableau1[Produits],Tableau1[Emplacement])","v":0},null,{"$f":"Sheet1!$S1847-Sheet1!$R1847","v":0},"-","-","-",{"$f":"IFERROR(Tableau1[[#This Row],[THEO]]-Tableau1[[#This Row],[Qtt 2éme lot]],\"-\")","v":"-"},"-",{"$f":"IF(Tableau1[[#This Row],[2éme lot]]=\"-\",\"-\",IFERROR(IF(Q1847=\"\",\"-\",INDEX(I:I,MATCH(Q1847,C:C,0)+1)),\"-\"))","v":"-"},"-","-"]
[{"$nulls":15},"-",null,{"$f":"SUMIF(Tableau1[Description article],Tableau1[Produits],Tableau1[Emplacement])","v":0},null,{"$f":"Sheet1!$S1848-Sheet1!$R1848","v":0},"-","-","-",{"$f":"IFERROR(Tableau1[[#This Row],[THEO]]-Tableau1[[#This Row],[Qtt 2éme lot]],\"-\")","v":"-"},"-",{"$f":"IF(Tableau1[[#This Row],[2éme lot]]=\"-\",\"-\",IFERROR(IF(Q1848=\"\",\"-\",INDEX(I:I,MATCH(Q1848,C:C,0)+1)),\"-\"))","v":"-"},"-","-"]
[{"$nulls":15},"-",null,{"$f":"SUMIF(Tableau1[Description article],Tableau1[Produits],Tableau1[Emplacement])","v":0},null,{"$f":"Sheet1!$S1849-Sheet1!$R1849","v":0},"-","-","-",{"$f":"IFERROR(Tableau1[[#This Row],[THEO]]-Tableau1[[#This Row],[Qtt 2éme lot]],\"-\")","v":"-"},"-",{"$f":"IF(Tableau1[[#This Row],[2éme lot]]=\"-\",\"-\",IFERROR(IF(Q1849=\"\",\"-\",INDEX(I:I,MATCH(Q1849,C:C,0)+1)),\"-\"))","v":"-"},"-","-"]
[{"$nulls":15},"-",null,{"$f":"SUMIF(Tableau1[Description article],Tableau1[Produits],Tableau1[Emplacement])","v":0},null,{"$f":"Sheet1!$S1850-Sheet1!$R1850","v":0},"-","-","-",{"$f":"IFERROR(Tableau1[[#This Row],[THEO]]-Tableau1[[#This Row],[Qtt 2éme lot]],\"-\")","v":"-"},"-",{"$f":"IF(Tableau1[[#This Row],[2éme lot]]=\"-\",\"-\",IFERROR(IF(Q1850=\"\",\"-\",INDEX(I:I,MATCH(Q1850,C:C,0)+1)),\"-\"))","v":"-"},"-","-"]
[{"$nulls":15},"-",null,{"$f":"SUMIF(Tableau1[Description article],Tableau1[Produits],Tableau1[Emplacement])","v":0},null,{"$f":"Sheet1!$S1851-Sheet1!$R1851","v":0},"-","-","-",{"$f":"IFERROR(Tableau1[[#This Row],[THEO]]-Tableau1[[#This Row],[Qtt 2éme lot]],\"-\")","v":"-"},"-",{"$f":"IF(Tableau1[[#This Row],[2éme lot]]=\"-\",\"-\",IFERROR(IF(Q1851=\"\",\"-\",INDEX(I:I,MATCH(Q1851,C:C,0)+1)),\"-\"))","v":"-"},"-","-"]
[{"$nulls":15},"-",null,{"$f":"SUMIF(Tableau1[Description article],Tableau1[Produits],Tableau1[Emplacement])","v":0},null,{"$f":"Sheet1!$S1852-Sheet1!$R1852","v":0},"-","-","-",{"$f":"IFERROR(Tableau1[[#This Row],[THEO]]-Tableau1[[#This Row],[Qtt 2éme lot]],\"-\")","v":"-"},"-",{"$f":"IF(Tableau1[[#This Row],[2éme lot]]=\"-\",\"-\",IFERROR(IF(Q1852=\"\",\"-\",INDEX(I:I,MATCH(Q1852,C:C,0)+1)),\"-\"))","v":"-"},"-","-"]
[{"$nulls":15},"-",null,{"$f":"SUMIF(Tableau1[Description article],Tableau1[Produits],Tableau1[Emplacement])","v":0},null,{"$f":"Sheet1!$S1853-Sheet1!$R1853","v":0},"-","-","-",{"$f":"IFERROR(Tableau1[[#This Row],[THEO]]-Tableau1[[#This Row],[Qtt 2éme lot]],\"-\")","v":"-"},"-",{"$f":"IF(Tableau1[[#This Row],[2éme lot]]=\"-\",\"-\",IFERROR(IF(Q1853=\"\",\"-\",INDEX(I:I,MATCH(Q1853,C:C,0)+1)),\"-\"))","v":"-"},"-","-"]
[{"$nulls":15},"-",null,{"$f":"SUMIF(Tableau1[Description article],Tableau1[Produits],Tableau1[Emplacement])","v":0},null,{"$f":"Sheet1!$S1854-Sheet1!$R1854","v":0},"-","-","-",{"$f":"IFERROR(Tableau1[[#This Row],[THEO]]-Tableau1[[#This Row],[Qtt 2éme lot]],\"-\")","v":"-"},"-",{"$f":"IF(Tableau1[[#This Row],[2éme lot]]=\"-\",\"-\",IFERROR(IF(Q1854=\"\",\"-\",INDEX(I:I,MATCH(Q1854,C:C,0)+1)),\"-\"))","v":"-"},"-","-"]
[{"$nulls":15},"-",null,{"$f":"SUMIF(Tableau1[Description article],Tableau1[Produits],Tableau1[Emplacement])","v":0},null,{"$f":"Sheet1!$S1855-Sheet1!$R1855","v":0},"-","-","-",{"$f":"IFERROR(Tableau1[[#This Row],[THEO]]-Tableau1[[#This Row],[Qtt 2éme lot]],\"-\")","v":"-"},"-",{"$f":"IF(Tableau1[[#This Row],[2éme lot]]=\"-\",\"-\",IFERROR(IF(Q1855=\"\",\"-\",INDEX(I:I,MATCH(Q1855,C:C,0)+1)),\"-\"))","v":"-"},"-","-"]
[{"$nulls":15},"-",null,{"$f":"SUMIF(Tableau1[Description article],Tableau1[Produits],Tableau1[Emplacement])","v":0},null,{"$f":"Sheet1!$S1856-Sheet1!$R1856","v":0},"-","-","-",{"$f":"IFERROR(Tableau1[[#This Row],[THEO]]-Tableau1[[#This Row],[Qtt 2éme lot]],\"-\")","v":"-"},"-",{"$f":"IF(Tableau1[[#This Row],[2éme lot]]=\"-\",\"-\",IFERROR(IF(Q1856=\"\",\"-\",INDEX(I:I,MATCH(Q1856,C:C,0)+1)),\"-\"))","v":"-"},"-","-"]
[{"$nulls":15},"-",null,{"$f":"SUMIF(Tableau1[Description article],Tableau1[Produits],Tableau1[Emplacement])","v":0},null,{"$f":"Sheet1!$S1857-Sheet1!$R1857","v":0},"-","-","-",{"$f":"IFERROR(Tableau1[[#This Row],[THEO]]-Tableau1[[#This Row],[Qtt 2éme lot]],\"-\")","v":"-"},"-",{"$f":"IF(Tableau1[[#This Row],[2éme lot]]=\"-\",\"-\",IFERROR(IF(Q1857=\"\",\"-\",INDEX(I:I,MATCH(Q1857,C:C,0)+1)),\"-\"))","v":"-"},"-","-"]
[{"$nulls":15},{"$f":"IFERROR(IF(Q1858=\"\",\"-\",INDEX(I:I,MATCH(Q1858,C:C,0))),\"-\")","v":"-"},null,{"$f":"SUMIF(Tableau1[Description article],Tableau1[Produits],Tableau1[Emplacement])","v":0},null,{"$f":"Sheet1!$S1858-Sheet1!$R1858","v":0},{"$f":"IFERROR(IF(Q1858=\"\",\"-\",INDEX(F:F,MATCH(Q1858,C:C,0))),\"-\")","v":"-"},{"$f":"IFERROR(IF(Q1858=\"\",\"-\",INDEX(E:E,MATCH(Q1858,C:C,0))),\"-\")","v":"-"},{"$f":"IFERROR(IF(Q1858=\"\",\"-\",INDEX(N:N,MATCH(Q1858,C:C,0))),\"-\")","v":"-"},{"$f":"IFERROR(Tableau1[[#This Row],[THEO]]-Tableau1[[#This Row],[Qtt 2éme lot]],\"-\")","v":"-"},{"$f":"IF(IF(Q1858=\"\",\"-\",INDEX(E:E,MATCH(Q1858,C:C,0)))=IF(Q1858=\"\",\"-\",INDEX(E:E,MATCH(Q1858,C:C,1))),\"-\",IF(Q1858=\"\",\"-\",INDEX(E:E,MATCH(Q1858,C:C,1))))","v":"-"},{"$f":"IF(Tableau1[[#This Row],[2éme lot]]=\"-\",\"-\",IFERROR(IF(Q1858=\"\",\"-\",INDEX(I:I,MATCH(Q1858,C:C,0)+1)),\"-\"))","v":"-"},{"$f":"IFERROR(IF(Y1858=\"\",\"-\",INDEX(N:N,MATCH(Y1858,E:E,0))),\"-\")","v":"-"},{"$f":"IFERROR(IF(AA1858=\"\",\"-\",INDEX(H:H,MATCH(Y1858,E:E,0))),\"-\")","v":"-"}]
[{"$nulls":15},"-",null,{"$f":"SUMIF(Tableau1[Description article],Tableau1[Produits],Tableau1[Emplacement])","v":0},null,{"$f":"Sheet1!$S1859-Sheet1!$R1859","v":0},"-","-","-",{"$f":"IFERROR(Tableau1[[#This Row],[THEO]]-Tableau1[[#This Row],[Qtt 2éme lot]],\"-\")","v":"-"},"-",{"$f":"IF(Tableau1[[#This Row],[2éme lot]]=\"-\",\"-\",IFERROR(IF(Q1859=\"\",\"-\",INDEX(I:I,MATCH(Q1859,C:C,0)+1)),\"-\"))","v":"-"},"-","-"]
[{"$nulls":15},"-",null,{"$f":"SUMIF(Tableau1[Description article],Tableau1[Produits],Tableau1[Emplacement])","v":0},null,{"$f":"Sheet1!$S1860-Sheet1!$R1860","v":0},"-","-","-",{"$f":"IFERROR(Tableau1[[#This Row],[THEO]]-Tableau1[[#This Row],[Qtt 2éme lot]],\"-\")","v":"-"},"-",{"$f":"IF(Tableau1[[#This Row],[2éme lot]]=\"-\",\"-\",IFERROR(IF(Q1860=\"\",\"-\",INDEX(I:I,MATCH(Q1860,C:C,0)+1)),\"-\"))","v":"-"},"-","-"]
[{"$nulls":15},"-",null,{"$f":"SUMIF(Tableau1[Description article],Tableau1[Produits],Tableau1[Emplacement])","v":0},null,{"$f":"Sheet1!$S1861-Sheet1!$R1861","v":0},"-","-","-",{"$f":"IFERROR(Tableau1[[#This Row],[THEO]]-Tableau1[[#This Row],[Qtt 2éme lot]],\"-\")","v":"-"},"-",{"$f":"IF(Tableau1[[#This Row],[2éme lot]]=\"-\",\"-\",IFERROR(IF(Q1861=\"\",\"-\",INDEX(I:I,MATCH(Q1861,C:C,0)+1)),\"-\"))","v":"-"},"-","-"]
[{"$nulls":15},"-",null,{"$f":"SUMIF(Tableau1[Description article],Tableau1[Produits],Tableau1[Emplacement])","v":0},null,{"$f":"Sheet1!$S1862-Sheet1!$R1862","v":0},"-","-","-",{"$f":"IFERROR(Tableau1[[#This Row],[THEO]]-Tableau1[[#This Row],[Qtt 2éme lot]],\"-\")","v":"-"},"-",{"$f":"IF(Tableau1[[#This Row],[2éme lot]]=\"-\",\"-\",IFERROR(IF(Q1862=\"\",\"-\",INDEX(I:I,MATCH(Q1862,C:C,0)+1)),\"-\"))","v":"-"},"-","-"]
[{"$nulls":15},"-",null,{"$f":"SUMIF(Tableau1[Description article],Tableau1[Produits],Tableau1[Emplacement])","v":0},null,{"$f":"Sheet1!$S1863-Sheet1!$R1863","v":0},"-","-","-",{"$f":"IFERROR(Tableau1[[#This Row],[THEO]]-Tableau1[[#This Row],[Qtt 2éme lot]],\"-\")","v":"-"},"-",{"$f":"IF(Tableau1[[#This Row],[2éme lot]]=\"-\",\"-\",IFERROR(IF(Q1863=\"\",\"-\",INDEX(I:I,MATCH(Q1863,C:C,0)+1)),\"-\"))","v":"-"},"-","-"]
[{"$nulls":15},"-",null,{"$f":"SUMIF(Tableau1[Description article],Tableau1[Produits],Tableau1[Emplacement])","v":0},null,{"$f":"Sheet1!$S1864-Sheet1!$R1864","v":0},"-","-","-",{"$f":"IFERROR(Tableau1[[#This Row],[THEO]]-Tableau1[[#This Row],[Qtt 2éme lot]],\"-\")","v":"-"},"-",{"$f":"IF(Tableau1[[#This Row],[2éme lot]]=\"-\",\"-\",IFERROR(IF(Q1864=\"\",\"-\",INDEX(I:I,MATCH(Q1864,C:C,0)+1)),\"-\"))","v":"-"},"-","-"]
[{"$nulls":15},"-",null,{"$f":"SUMIF(Tableau1[Description article],Tableau1[Produits],Tableau1[Emplacement])","v":0},null,{"$f":"Sheet1!$S1865-Sheet1!$R1865","v":0},"-","-","-",{"$f":"IFERROR(Tableau1[[#This Row],[THEO]]-Tableau1[[#This Row],[Qtt 2éme lot]],\"-\")","v":"-"},"-",{"$f":"IF(Tableau1[[#This Row],[2éme lot]]=\"-\",\"-\",IFERROR(IF(Q1865=\"\",\"-\",INDEX(I:I,MATCH(Q1865,C:C,0)+1)),\"-\"))","v":"-"},"-","-"]
[{"$nulls":15},"-",null,{"$f":"SUMIF(Tableau1[Description article],Tableau1[Produits],Tableau1[Emplacement])","v":0},null,{"$f":"Sheet1!$S1866-Sheet1!$R1866","v":0},"-","-","-",{"$f":"IFERROR(Tableau1[[#This Row],[THEO]]-Tableau1[[#This Row],[Qtt 2éme lot]],\"-\")","v":"-"},"-",{"$f":"IF(Tableau1[[#This Row],[2éme lot]]=\"-\",\"-\",IFERROR(IF(Q1866=\"\",\"-\",INDEX(I:I,MATCH(Q1866,C:C,0)+1)),\"-\"))","v":"-"},"-","-"]
[{"$nulls":15},"-",null,{"$f":"SUMIF(Tableau1[Description article],Tableau1[Produits],Tableau1[Emplacement])","v":0},null,{"$f":"Sheet1!$S1867-Sheet1!$R1867","v":0},"-","-","-",{"$f":"IFERROR(Tableau1[[#This Row],[THEO]]-Tableau1[[#This Row],[Qtt 2éme lot]],\"-\")","v":"-"},"-",{"$f":"IF(Tableau1[[#This Row],[2éme lot]]=\"-\",\"-\",IFERROR(IF(Q1867=\"\",\"-\",INDEX(I:I,MATCH(Q1867,C:C,0)+1)),\"-\"))","v":"-"},"-","-"]
[{"$nulls":15},"-",null,{"$f":"SUMIF(Tableau1[Description article],Tableau1[Produits],Tableau1[Emplacement])","v":0},null,{"$f":"Sheet1!$S1868-Sheet1!$R1868","v":0},"-","-","-",{"$f":"IFERROR(Tableau1[[#This Row],[THEO]]-Tableau1[[#This Row],[Qtt 2éme lot]],\"-\")","v":"-"},"-",{"$f":"IF(Tableau1[[#This Row],[2éme lot]]=\"-\",\"-\",IFERROR(IF(Q1868=\"\",\"-\",INDEX(I:I,MATCH(Q1868,C:C,0)+1)),\"-\"))","v":"-"},"-","-"]
[{"$nulls":15},"-",null,{"$f":"SUMIF(Tableau1[Description article],Tableau1[Produits],Tableau1[Emplacement])","v":0},null,{"$f":"Sheet1!$S1869-Sheet1!$R1869","v":0},"-","-","-",{"$f":"IFERROR(Tableau1[[#This Row],[THEO]]-Tableau1[[#This Row],[Qtt 2éme lot]],\"-\")","v":"-"},"-",{"$f":"IF(Tableau1[[#This Row],[2éme lot]]=\"-\",\"-\",IFERROR(IF(Q1869=\"\",\"-\",INDEX(I:I,MATCH(Q1869,C:C,0)+1)),\"-\"))","v":"-"},"-","-"]
[{"$nulls":15},"-",null,{"$f":"SUMIF(Tableau1[Description article],Tableau1[Produits],Tableau1[Emplacement])","v":0},null,{"$f":"Sheet1!$S1870-Sheet1!$R1870","v":0},"-","-","-",{"$f":"IFERROR(Tableau1[[#This Row],[THEO]]-Tableau1[[#This Row],[Qtt 2éme lot]],\"-\")","v":"-"},"-",{"$f":"IF(Tableau1[[#This Row],[2éme lot]]=\"-\",\"-\",IFERROR(IF(Q1870=\"\",\"-\",INDEX(I:I,MATCH(Q1870,C:C,0)+1)),\"-\"))","v":"-"},"-","-"]
[{"$nulls":15},"-",null,{"$f":"SUMIF(Tableau1[Description article],Tableau1[Produits],Tableau1[Emplacement])","v":0},null,{"$f":"Sheet1!$S1871-Sheet1!$R1871","v":0},"-","-","-",{"$f":"IFERROR(Tableau1[[#This Row],[THEO]]-Tableau1[[#This Row],[Qtt 2éme lot]],\"-\")","v":"-"},"-",{"$f":"IF(Tableau1[[#This Row],[2éme lot]]=\"-\",\"-\",IFERROR(IF(Q1871=\"\",\"-\",INDEX(I:I,MATCH(Q1871,C:C,0)+1)),\"-\"))","v":"-"},"-","-"]
[{"$nulls":15},"-",null,{"$f":"SUMIF(Tableau1[Description article],Tableau1[Produits],Tableau1[Emplacement])","v":0},null,{"$f":"Sheet1!$S1872-Sheet1!$R1872","v":0},"-","-","-",{"$f":"IFERROR(Tableau1[[#This Row],[THEO]]-Tableau1[[#This Row],[Qtt 2éme lot]],\"-\")","v":"-"},"-",{"$f":"IF(Tableau1[[#This Row],[2éme lot]]=\"-\",\"-\",IFERROR(IF(Q1872=\"\",\"-\",INDEX(I:I,MATCH(Q1872,C:C,0)+1)),\"-\"))","v":"-"},"-","-"]
[{"$nulls":15},"-",null,{"$f":"SUMIF(Tableau1[Description article],Tableau1[Produits],Tableau1[Emplacement])","v":0},null,{"$f":"Sheet1!$S1873-Sheet1!$R1873","v":0},"-","-","-",{"$f":"IFERROR(Tableau1[[#This Row],[THEO]]-Tableau1[[#This Row],[Qtt 2éme lot]],\"-\")","v":"-"},"-",{"$f":"IF(Tableau1[[#This Row],[2éme lot]]=\"-\",\"-\",IFERROR(IF(Q1873=\"\",\"-\",INDEX(I:I,MATCH(Q1873,C:C,0)+1)),\"-\"))","v":"-"},"-","-"]
[{"$nulls":15},"-",null,{"$f":"SUMIF(Tableau1[Description article],Tableau1[Produits],Tableau1[Emplacement])","v":0},null,{"$f":"Sheet1!$S1874-Sheet1!$R1874","v":0},"-","-","-",{"$f":"IFERROR(Tableau1[[#This Row],[THEO]]-Tableau1[[#This Row],[Qtt 2éme lot]],\"-\")","v":"-"},"-",{"$f":"IF(Tableau1[[#This Row],[2éme lot]]=\"-\",\"-\",IFERROR(IF(Q1874=\"\",\"-\",INDEX(I:I,MATCH(Q1874,C:C,0)+1)),\"-\"))","v":"-"},"-","-"]
[{"$nulls":15},"-",null,{"$f":"SUMIF(Tableau1[Description article],Tableau1[Produits],Tableau1[Emplacement])","v":0},null,{"$f":"Sheet1!$S1875-Sheet1!$R1875","v":0},"-","-","-",{"$f":"IFERROR(Tableau1[[#This Row],[THEO]]-Tableau1[[#This Row],[Qtt 2éme lot]],\"-\")","v":"-"},"-",{"$f":"IF(Tableau1[[#This Row],[2éme lot]]=\"-\",\"-\",IFERROR(IF(Q1875=\"\",\"-\",INDEX(I:I,MATCH(Q1875,C:C,0)+1)),\"-\"))","v":"-"},"-","-"]
[{"$nulls":15},"-",null,{"$f":"SUMIF(Tableau1[Description article],Tableau1[Produits],Tableau1[Emplacement])","v":0},null,{"$f":"Sheet1!$S1876-Sheet1!$R1876","v":0},"-","-","-",{"$f":"IFERROR(Tableau1[[#This Row],[THEO]]-Tableau1[[#This Row],[Qtt 2éme lot]],\"-\")","v":"-"},"-",{"$f":"IF(Tableau1[[#This Row],[2éme lot]]=\"-\",\"-\",IFERROR(IF(Q1876=\"\",\"-\",INDEX(I:I,MATCH(Q1876,C:C,0)+1)),\"-\"))","v":"-"},"-","-"]
[{"$nulls":15},"-",null,{"$f":"SUMIF(Tableau1[Description article],Tableau1[Produits],Tableau1[Emplacement])","v":0},null,{"$f":"Sheet1!$S1877-Sheet1!$R1877","v":0},"-","-","-",{"$f":"IFERROR(Tableau1[[#This Row],[THEO]]-Tableau1[[#This Row],[Qtt 2éme lot]],\"-\")","v":"-"},"-",{"$f":"IF(Tableau1[[#This Row],[2éme lot]]=\"-\",\"-\",IFERROR(IF(Q1877=\"\",\"-\",INDEX(I:I,MATCH(Q1877,C:C,0)+1)),\"-\"))","v":"-"},"-","-"]
[{"$nulls":15},"-",null,{"$f":"SUMIF(Tableau1[Description article],Tableau1[Produits],Tableau1[Emplacement])","v":0},null,{"$f":"Sheet1!$S1878-Sheet1!$R1878","v":0},"-","-","-",{"$f":"IFERROR(Tableau1[[#This Row],[THEO]]-Tableau1[[#This Row],[Qtt 2éme lot]],\"-\")","v":"-"},"-",{"$f":"IF(Tableau1[[#This Row],[2éme lot]]=\"-\",\"-\",IFERROR(IF(Q1878=\"\",\"-\",INDEX(I:I,MATCH(Q1878,C:C,0)+1)),\"-\"))","v":"-"},"-","-"]
[{"$nulls":15},"-",null,{"$f":"SUMIF(Tableau1[Description article],Tableau1[Produits],Tableau1[Emplacement])","v":0},null,{"$f":"Sheet1!$S1879-Sheet1!$R1879","v":0},"-","-","-",{"$f":"IFERROR(Tableau1[[#This Row],[THEO]]-Tableau1[[#This Row],[Qtt 2éme lot]],\"-\")","v":"-"},"-",{"$f":"IF(Tableau1[[#This Row],[2éme lot]]=\"-\",\"-\",IFERROR(IF(Q1879=\"\",\"-\",INDEX(I:I,MATCH(Q1879,C:C,0)+1)),\"-\"))","v":"-"},"-","-"]
[{"$nulls":15},"-",null,{"$f":"SUMIF(Tableau1[Description article],Tableau1[Produits],Tableau1[Emplacement])","v":0},null,{"$f":"Sheet1!$S1880-Sheet1!$R1880","v":0},"-","-","-",{"$f":"IFERROR(Tableau1[[#This Row],[THEO]]-Tableau1[[#This Row],[Qtt 2éme lot]],\"-\")","v":"-"},"-",{"$f":"IF(Tableau1[[#This Row],[2éme lot]]=\"-\",\"-\",IFERROR(IF(Q1880=\"\",\"-\",INDEX(I:I,MATCH(Q1880,C:C,0)+1)),\"-\"))","v":"-"},"-","-"]
[{"$nulls":15},"-",null,{"$f":"SUMIF(Tableau1[Description article],Tableau1[Produits],Tableau1[Emplacement])","v":0},null,{"$f":"Sheet1!$S1881-Sheet1!$R1881","v":0},"-","-","-",{"$f":"IFERROR(Tableau1[[#This Row],[THEO]]-Tableau1[[#This Row],[Qtt 2éme lot]],\"-\")","v":"-"},"-",{"$f":"IF(Tableau1[[#This Row],[2éme lot]]=\"-\",\"-\",IFERROR(IF(Q1881=\"\",\"-\",INDEX(I:I,MATCH(Q1881,C:C,0)+1)),\"-\"))","v":"-"},"-","-"]
[{"$nulls":15},"-",null,{"$f":"SUMIF(Tableau1[Description article],Tableau1[Produits],Tableau1[Emplacement])","v":0},null,{"$f":"Sheet1!$S1882-Sheet1!$R1882","v":0},"-","-","-",{"$f":"IFERROR(Tableau1[[#This Row],[THEO]]-Tableau1[[#This Row],[Qtt 2éme lot]],\"-\")","v":"-"},"-",{"$f":"IF(Tableau1[[#This Row],[2éme lot]]=\"-\",\"-\",IFERROR(IF(Q1882=\"\",\"-\",INDEX(I:I,MATCH(Q1882,C:C,0)+1)),\"-\"))","v":"-"},"-","-"]
[{"$nulls":15},"-",null,{"$f":"SUMIF(Tableau1[Description article],Tableau1[Produits],Tableau1[Emplacement])","v":0},null,{"$f":"Sheet1!$S1883-Sheet1!$R1883","v":0},"-","-","-",{"$f":"IFERROR(Tableau1[[#This Row],[THEO]]-Tableau1[[#This Row],[Qtt 2éme lot]],\"-\")","v":"-"},"-",{"$f":"IF(Tableau1[[#This Row],[2éme lot]]=\"-\",\"-\",IFERROR(IF(Q1883=\"\",\"-\",INDEX(I:I,MATCH(Q1883,C:C,0)+1)),\"-\"))","v":"-"},"-","-"]
[{"$nulls":15},"-",null,{"$f":"SUMIF(Tableau1[Description article],Tableau1[Produits],Tableau1[Emplacement])","v":0},null,{"$f":"Sheet1!$S1884-Sheet1!$R1884","v":0},"-","-","-",{"$f":"IFERROR(Tableau1[[#This Row],[THEO]]-Tableau1[[#This Row],[Qtt 2éme lot]],\"-\")","v":"-"},"-",{"$f":"IF(Tableau1[[#This Row],[2éme lot]]=\"-\",\"-\",IFERROR(IF(Q1884=\"\",\"-\",INDEX(I:I,MATCH(Q1884,C:C,0)+1)),\"-\"))","v":"-"},"-","-"]
[{"$nulls":15},"-",null,{"$f":"SUMIF(Tableau1[Description article],Tableau1[Produits],Tableau1[Emplacement])","v":0},null,{"$f":"Sheet1!$S1885-Sheet1!$R1885","v":0},"-","-","-",{"$f":"IFERROR(Tableau1[[#This Row],[THEO]]-Tableau1[[#This Row],[Qtt 2éme lot]],\"-\")","v":"-"},"-",{"$f":"IF(Tableau1[[#This Row],[2éme lot]]=\"-\",\"-\",IFERROR(IF(Q1885=\"\",\"-\",INDEX(I:I,MATCH(Q1885,C:C,0)+1)),\"-\"))","v":"-"},"-","-"]
[{"$nulls":15},"-",null,{"$f":"SUMIF(Tableau1[Description article],Tableau1[Produits],Tableau1[Emplacement])","v":0},null,{"$f":"Sheet1!$S1886-Sheet1!$R1886","v":0},"-","-","-",{"$f":"IFERROR(Tableau1[[#This Row],[THEO]]-Tableau1[[#This Row],[Qtt 2éme lot]],\"-\")","v":"-"},"-",{"$f":"IF(Tableau1[[#This Row],[2éme lot]]=\"-\",\"-\",IFERROR(IF(Q1886=\"\",\"-\",INDEX(I:I,MATCH(Q1886,C:C,0)+1)),\"-\"))","v":"-"},"-","-"]
[{"$nulls":15},"-",null,{"$f":"SUMIF(Tableau1[Description article],Tableau1[Produits],Tableau1[Emplacement])","v":0},null,{"$f":"Sheet1!$S1887-Sheet1!$R1887","v":0},"-","-","-",{"$f":"IFERROR(Tableau1[[#This Row],[THEO]]-Tableau1[[#This Row],[Qtt 2éme lot]],\"-\")","v":"-"},"-",{"$f":"IF(Tableau1[[#This Row],[2éme lot]]=\"-\",\"-\",IFERROR(IF(Q1887=\"\",\"-\",INDEX(I:I,MATCH(Q1887,C:C,0)+1)),\"-\"))","v":"-"},"-","-"]
[{"$nulls":15},"-",null,{"$f":"SUMIF(Tableau1[Description article],Tableau1[Produits],Tableau1[Emplacement])","v":0},null,{"$f":"Sheet1!$S1888-Sheet1!$R1888","v":0},"-","-","-",{"$f":"IFERROR(Tableau1[[#This Row],[THEO]]-Tableau1[[#This Row],[Qtt 2éme lot]],\"-\")","v":"-"},"-",{"$f":"IF(Tableau1[[#This Row],[2éme lot]]=\"-\",\"-\",IFERROR(IF(Q1888=\"\",\"-\",INDEX(I:I,MATCH(Q1888,C:C,0)+1)),\"-\"))","v":"-"},"-","-"]
[{"$nulls":15},"-",null,{"$f":"SUMIF(Tableau1[Description article],Tableau1[Produits],Tableau1[Emplacement])","v":0},null,{"$f":"Sheet1!$S1889-Sheet1!$R1889","v":0},"-","-","-",{"$f":"IFERROR(Tableau1[[#This Row],[THEO]]-Tableau1[[#This Row],[Qtt 2éme lot]],\"-\")","v":"-"},"-",{"$f":"IF(Tableau1[[#This Row],[2éme lot]]=\"-\",\"-\",IFERROR(IF(Q1889=\"\",\"-\",INDEX(I:I,MATCH(Q1889,C:C,0)+1)),\"-\"))","v":"-"},"-","-"]
[{"$nulls":15},"-",null,{"$f":"SUMIF(Tableau1[Description article],Tableau1[Produits],Tableau1[Emplacement])","v":0},null,{"$f":"Sheet1!$S1890-Sheet1!$R1890","v":0},"-","-","-",{"$f":"IFERROR(Tableau1[[#This Row],[THEO]]-Tableau1[[#This Row],[Qtt 2éme lot]],\"-\")","v":"-"},"-",{"$f":"IF(Tableau1[[#This Row],[2éme lot]]=\"-\",\"-\",IFERROR(IF(Q1890=\"\",\"-\",INDEX(I:I,MATCH(Q1890,C:C,0)+1)),\"-\"))","v":"-"},"-","-"]
[{"$nulls":15},"-",null,{"$f":"SUMIF(Tableau1[Description article],Tableau1[Produits],Tableau1[Emplacement])","v":0},null,{"$f":"Sheet1!$S1891-Sheet1!$R1891","v":0},"-","-","-",{"$f":"IFERROR(Tableau1[[#This Row],[THEO]]-Tableau1[[#This Row],[Qtt 2éme lot]],\"-\")","v":"-"},"-",{"$f":"IF(Tableau1[[#This Row],[2éme lot]]=\"-\",\"-\",IFERROR(IF(Q1891=\"\",\"-\",INDEX(I:I,MATCH(Q1891,C:C,0)+1)),\"-\"))","v":"-"},"-","-"]
[{"$nulls":15},"-",null,{"$f":"SUMIF(Tableau1[Description article],Tableau1[Produits],Tableau1[Emplacement])","v":0},null,{"$f":"Sheet1!$S1892-Sheet1!$R1892","v":0},"-","-","-",{"$f":"IFERROR(Tableau1[[#This Row],[THEO]]-Tableau1[[#This Row],[Qtt 2éme lot]],\"-\")","v":"-"},"-",{"$f":"IF(Tableau1[[#This Row],[2éme lot]]=\"-\",\"-\",IFERROR(IF(Q1892=\"\",\"-\",INDEX(I:I,MATCH(Q1892,C:C,0)+1)),\"-\"))","v":"-"},"-","-"]
[{"$nulls":15},"-",null,{"$f":"SUMIF(Tableau1[Description article],Tableau1[Produits],Tableau1[Emplacement])","v":0},null,{"$f":"Sheet1!$S1893-Sheet1!$R1893","v":0},"-","-","-",{"$f":"IFERROR(Tableau1[[#This Row],[THEO]]-Tableau1[[#This Row],[Qtt 2éme lot]],\"-\")","v":"-"},"-",{"$f":"IF(Tableau1[[#This Row],[2éme lot]]=\"-\",\"-\",IFERROR(IF(Q1893=\"\",\"-\",INDEX(I:I,MATCH(Q1893,C:C,0)+1)),\"-\"))","v":"-"},"-","-"]
[{"$nulls":15},"-",null,{"$f":"SUMIF(Tableau1[Description article],Tableau1[Produits],Tableau1[Emplacement])","v":0},null,{"$f":"Sheet1!$S1894-Sheet1!$R1894","v":0},"-","-","-",{"$f":"IFERROR(Tableau1[[#This Row],[THEO]]-Tableau1[[#This Row],[Qtt 2éme lot]],\"-\")","v":"-"},"-",{"$f":"IF(Tableau1[[#This Row],[2éme lot]]=\"-\",\"-\",IFERROR(IF(Q1894=\"\",\"-\",INDEX(I:I,MATCH(Q1894,C:C,0)+1)),\"-\"))","v":"-"},"-","-"]
[{"$nulls":15},"-",null,{"$f":"SUMIF(Tableau1[Description article],Tableau1[Produits],Tableau1[Emplacement])","v":0},null,{"$f":"Sheet1!$S1895-Sheet1!$R1895","v":0},"-","-","-",{"$f":"IFERROR(Tableau1[[#This Row],[THEO]]-Tableau1[[#This Row],[Qtt 2éme lot]],\"-\")","v":"-"},"-",{"$f":"IF(Tableau1[[#This Row],[2éme lot]]=\"-\",\"-\",IFERROR(IF(Q1895=\"\",\"-\",INDEX(I:I,MATCH(Q1895,C:C,0)+1)),\"-\"))","v":"-"},"-","-"]
[{"$nulls":15},"-",null,{"$f":"SUMIF(Tableau1[Description article],Tableau1[Produits],Tableau1[Emplacement])","v":0},null,{"$f":"Sheet1!$S1896-Sheet1!$R1896","v":0},"-","-","-",{"$f":"IFERROR(Tableau1[[#This Row],[THEO]]-Tableau1[[#This Row],[Qtt 2éme lot]],\"-\")","v":"-"},"-",{"$f":"IF(Tableau1[[#This Row],[2éme lot]]=\"-\",\"-\",IFERROR(IF(Q1896=\"\",\"-\",INDEX(I:I,MATCH(Q1896,C:C,0)+1)),\"-\"))","v":"-"},"-","-"]
[{"$nulls":15},"-",null,{"$f":"SUMIF(Tableau1[Description article],Tableau1[Produits],Tableau1[Emplacement])","v":0},null,{"$f":"Sheet1!$S1897-Sheet1!$R1897","v":0},"-","-","-",{"$f":"IFERROR(Tableau1[[#This Row],[THEO]]-Tableau1[[#This Row],[Qtt 2éme lot]],\"-\")","v":"-"},"-",{"$f":"IF(Tableau1[[#This Row],[2éme lot]]=\"-\",\"-\",IFERROR(IF(Q1897=\"\",\"-\",INDEX(I:I,MATCH(Q1897,C:C,0)+1)),\"-\"))","v":"-"},"-","-"]
[{"$nulls":15},"-",null,{"$f":"SUMIF(Tableau1[Description article],Tableau1[Produits],Tableau1[Emplacement])","v":0},null,{"$f":"Sheet1!$S1898-Sheet1!$R1898","v":0},"-","-","-",{"$f":"IFERROR(Tableau1[[#This Row],[THEO]]-Tableau1[[#This Row],[Qtt 2éme lot]],\"-\")","v":"-"},"-",{"$f":"IF(Tableau1[[#This Row],[2éme lot]]=\"-\",\"-\",IFERROR(IF(Q1898=\"\",\"-\",INDEX(I:I,MATCH(Q1898,C:C,0)+1)),\"-\"))","v":"-"},"-","-"]
[{"$nulls":15},"-",null,{"$f":"SUMIF(Tableau1[Description article],Tableau1[Produits],Tableau1[Emplacement])","v":0},null,{"$f":"Sheet1!$S1899-Sheet1!$R1899","v":0},"-","-","-",{"$f":"IFERROR(Tableau1[[#This Row],[THEO]]-Tableau1[[#This Row],[Qtt 2éme lot]],\"-\")","v":"-"},"-",{"$f":"IF(Tableau1[[#This Row],[2éme lot]]=\"-\",\"-\",IFERROR(IF(Q1899=\"\",\"-\",INDEX(I:I,MATCH(Q1899,C:C,0)+1)),\"-\"))","v":"-"},"-","-"]
[{"$nulls":15},"-",null,{"$f":"SUMIF(Tableau1[Description article],Tableau1[Produits],Tableau1[Emplacement])","v":0},null,{"$f":"Sheet1!$S1900-Sheet1!$R1900","v":0},"-","-","-",{"$f":"IFERROR(Tableau1[[#This Row],[THEO]]-Tableau1[[#This Row],[Qtt 2éme lot]],\"-\")","v":"-"},"-",{"$f":"IF(Tableau1[[#This Row],[2éme lot]]=\"-\",\"-\",IFERROR(IF(Q1900=\"\",\"-\",INDEX(I:I,MATCH(Q1900,C:C,0)+1)),\"-\"))","v":"-"},"-","-"]
[{"$nulls":15},"-",null,{"$f":"SUMIF(Tableau1[Description article],Tableau1[Produits],Tableau1[Emplacement])","v":0},null,{"$f":"Sheet1!$S1901-Sheet1!$R1901","v":0},"-","-","-",{"$f":"IFERROR(Tableau1[[#This Row],[THEO]]-Tableau1[[#This Row],[Qtt 2éme lot]],\"-\")","v":"-"},"-",{"$f":"IF(Tableau1[[#This Row],[2éme lot]]=\"-\",\"-\",IFERROR(IF(Q1901=\"\",\"-\",INDEX(I:I,MATCH(Q1901,C:C,0)+1)),\"-\"))","v":"-"},"-","-"]
[{"$nulls":15},"-",null,{"$f":"SUMIF(Tableau1[Description article],Tableau1[Produits],Tableau1[Emplacement])","v":0},null,{"$f":"Sheet1!$S1902-Sheet1!$R1902","v":0},"-","-","-",{"$f":"IFERROR(Tableau1[[#This Row],[THEO]]-Tableau1[[#This Row],[Qtt 2éme lot]],\"-\")","v":"-"},"-",{"$f":"IF(Tableau1[[#This Row],[2éme lot]]=\"-\",\"-\",IFERROR(IF(Q1902=\"\",\"-\",INDEX(I:I,MATCH(Q1902,C:C,0)+1)),\"-\"))","v":"-"},"-","-"]
[{"$nulls":15},"-",null,{"$f":"SUMIF(Tableau1[Description article],Tableau1[Produits],Tableau1[Emplacement])","v":0},null,{"$f":"Sheet1!$S1903-Sheet1!$R1903","v":0},"-","-","-",{"$f":"IFERROR(Tableau1[[#This Row],[THEO]]-Tableau1[[#This Row],[Qtt 2éme lot]],\"-\")","v":"-"},"-",{"$f":"IF(Tableau1[[#This Row],[2éme lot]]=\"-\",\"-\",IFERROR(IF(Q1903=\"\",\"-\",INDEX(I:I,MATCH(Q1903,C:C,0)+1)),\"-\"))","v":"-"},"-","-"]
[{"$nulls":15},"-",null,{"$f":"SUMIF(Tableau1[Description article],Tableau1[Produits],Tableau1[Emplacement])","v":0},null,{"$f":"Sheet1!$S1904-Sheet1!$R1904","v":0},"-","-","-",{"$f":"IFERROR(Tableau1[[#This Row],[THEO]]-Tableau1[[#This Row],[Qtt 2éme lot]],\"-\")","v":"-"},"-",{"$f":"IF(Tableau1[[#This Row],[2éme lot]]=\"-\",\"-\",IFERROR(IF(Q1904=\"\",\"-\",INDEX(I:I,MATCH(Q1904,C:C,0)+1)),\"-\"))","v":"-"},"-","-"]
[{"$nulls":15},"-",null,{"$f":"SUMIF(Tableau1[Description article],Tableau1[Produits],Tableau1[Emplacement])","v":0},null,{"$f":"Sheet1!$S1905-Sheet1!$R1905","v":0},"-","-","-",{"$f":"IFERROR(Tableau1[[#This Row],[THEO]]-Tableau1[[#This Row],[Qtt 2éme lot]],\"-\")","v":"-"},"-",{"$f":"IF(Tableau1[[#This Row],[2éme lot]]=\"-\",\"-\",IFERROR(IF(Q1905=\"\",\"-\",INDEX(I:I,MATCH(Q1905,C:C,0)+1)),\"-\"))","v":"-"},"-","-"]
[{"$nulls":15},"-",null,{"$f":"SUMIF(Tableau1[Description article],Tableau1[Produits],Tableau1[Emplacement])","v":0},null,{"$f":"Sheet1!$S1906-Sheet1!$R1906","v":0},"-","-","-",{"$f":"IFERROR(Tableau1[[#This Row],[THEO]]-Tableau1[[#This Row],[Qtt 2éme lot]],\"-\")","v":"-"},"-",{"$f":"IF(Tableau1[[#This Row],[2éme lot]]=\"-\",\"-\",IFERROR(IF(Q1906=\"\",\"-\",INDEX(I:I,MATCH(Q1906,C:C,0)+1)),\"-\"))","v":"-"},"-","-"]
[{"$nulls":15},"-",null,{"$f":"SUMIF(Tableau1[Description article],Tableau1[Produits],Tableau1[Emplacement])","v":0},null,{"$f":"Sheet1!$S1907-Sheet1!$R1907","v":0},"-","-","-",{"$f":"IFERROR(Tableau1[[#This Row],[THEO]]-Tableau1[[#This Row],[Qtt 2éme lot]],\"-\")","v":"-"},"-",{"$f":"IF(Tableau1[[#This Row],[2éme lot]]=\"-\",\"-\",IFERROR(IF(Q1907=\"\",\"-\",INDEX(I:I,MATCH(Q1907,C:C,0)+1)),\"-\"))","v":"-"},"-","-"]
[{"$nulls":15},"-",null,{"$f":"SUMIF(Tableau1[Description article],Tableau1[Produits],Tableau1[Emplacement])","v":0},null,{"$f":"Sheet1!$S1908-Sheet1!$R1908","v":0},"-","-","-",{"$f":"IFERROR(Tableau1[[#This Row],[THEO]]-Tableau1[[#This Row],[Qtt 2éme lot]],\"-\")","v":"-"},"-",{"$f":"IF(Tableau1[[#This Row],[2éme lot]]=\"-\",\"-\",IFERROR(IF(Q1908=\"\",\"-\",INDEX(I:I,MATCH(Q1908,C:C,0)+1)),\"-\"))","v":"-"},"-","-"]
[{"$nulls":15},"-",null,{"$f":"SUMIF(Tableau1[Description article],Tableau1[Produits],Tableau1[Emplacement])","v":0},null,{"$f":"Sheet1!$S1909-Sheet1!$R1909","v":0},"-","-","-",{"$f":"IFERROR(Tableau1[[#This Row],[THEO]]-Tableau1[[#This Row],[Qtt 2éme lot]],\"-\")","v":"-"},"-",{"$f":"IF(Tableau1[[#This Row],[2éme lot]]=\"-\",\"-\",IFERROR(IF(Q1909=\"\",\"-\",INDEX(I:I,MATCH(Q1909,C:C,0)+1)),\"-\"))","v":"-"},"-","-"]
[{"$nulls":15},"-",null,{"$f":"SUMIF(Tableau1[Description article],Tableau1[Produits],Tableau1[Emplacement])","v":0},null,{"$f":"Sheet1!$S1910-Sheet1!$R1910","v":0},"-","-","-",{"$f":"IFERROR(Tableau1[[#This Row],[THEO]]-Tableau1[[#This Row],[Qtt 2éme lot]],\"-\")","v":"-"},"-",{"$f":"IF(Tableau1[[#This Row],[2éme lot]]=\"-\",\"-\",IFERROR(IF(Q1910=\"\",\"-\",INDEX(I:I,MATCH(Q1910,C:C,0)+1)),\"-\"))","v":"-"},"-","-"]
[{"$nulls":15},"-",null,{"$f":"SUMIF(Tableau1[Description article],Tableau1[Produits],Tableau1[Emplacement])","v":0},null,{"$f":"Sheet1!$S1911-Sheet1!$R1911","v":0},"-","-","-",{"$f":"IFERROR(Tableau1[[#This Row],[THEO]]-Tableau1[[#This Row],[Qtt 2éme lot]],\"-\")","v":"-"},"-",{"$f":"IF(Tableau1[[#This Row],[2éme lot]]=\"-\",\"-\",IFERROR(IF(Q1911=\"\",\"-\",INDEX(I:I,MATCH(Q1911,C:C,0)+1)),\"-\"))","v":"-"},"-","-"]
[{"$nulls":15},"-",null,{"$f":"SUMIF(Tableau1[Description article],Tableau1[Produits],Tableau1[Emplacement])","v":0},null,{"$f":"Sheet1!$S1912-Sheet1!$R1912","v":0},"-","-","-",{"$f":"IFERROR(Tableau1[[#This Row],[THEO]]-Tableau1[[#This Row],[Qtt 2éme lot]],\"-\")","v":"-"},"-",{"$f":"IF(Tableau1[[#This Row],[2éme lot]]=\"-\",\"-\",IFERROR(IF(Q1912=\"\",\"-\",INDEX(I:I,MATCH(Q1912,C:C,0)+1)),\"-\"))","v":"-"},"-","-"]
[{"$nulls":15},"-",null,{"$f":"SUMIF(Tableau1[Description article],Tableau1[Produits],Tableau1[Emplacement])","v":0},null,{"$f":"Sheet1!$S1913-Sheet1!$R1913","v":0},"-","-","-",{"$f":"IFERROR(Tableau1[[#This Row],[THEO]]-Tableau1[[#This Row],[Qtt 2éme lot]],\"-\")","v":"-"},"-",{"$f":"IF(Tableau1[[#This Row],[2éme lot]]=\"-\",\"-\",IFERROR(IF(Q1913=\"\",\"-\",INDEX(I:I,MATCH(Q1913,C:C,0)+1)),\"-\"))","v":"-"},"-","-"]
[{"$nulls":15},"-",null,{"$f":"SUMIF(Tableau1[Description article],Tableau1[Produits],Tableau1[Emplacement])","v":0},null,{"$f":"Sheet1!$S1914-Sheet1!$R1914","v":0},"-","-","-",{"$f":"IFERROR(Tableau1[[#This Row],[THEO]]-Tableau1[[#This Row],[Qtt 2éme lot]],\"-\")","v":"-"},"-",{"$f":"IF(Tableau1[[#This Row],[2éme lot]]=\"-\",\"-\",IFERROR(IF(Q1914=\"\",\"-\",INDEX(I:I,MATCH(Q1914,C:C,0)+1)),\"-\"))","v":"-"},"-","-"]
[{"$nulls":15},"-",null,{"$f":"SUMIF(Tableau1[Description article],Tableau1[Produits],Tableau1[Emplacement])","v":0},null,{"$f":"Sheet1!$S1915-Sheet1!$R1915","v":0},"-","-","-",{"$f":"IFERROR(Tableau1[[#This Row],[THEO]]-Tableau1[[#This Row],[Qtt 2éme lot]],\"-\")","v":"-"},"-",{"$f":"IF(Tableau1[[#This Row],[2éme lot]]=\"-\",\"-\",IFERROR(IF(Q1915=\"\",\"-\",INDEX(I:I,MATCH(Q1915,C:C,0)+1)),\"-\"))","v":"-"},"-","-"]
[{"$nulls":15},"-",null,{"$f":"SUMIF(Tableau1[Description article],Tableau1[Produits],Tableau1[Emplacement])","v":0},null,{"$f":"Sheet1!$S1916-Sheet1!$R1916","v":0},"-","-","-",{"$f":"IFERROR(Tableau1[[#This Row],[THEO]]-Tableau1[[#This Row],[Qtt 2éme lot]],\"-\")","v":"-"},"-",{"$f":"IF(Tableau1[[#This Row],[2éme lot]]=\"-\",\"-\",IFERROR(IF(Q1916=\"\",\"-\",INDEX(I:I,MATCH(Q1916,C:C,0)+1)),\"-\"))","v":"-"},"-","-"]
[{"$nulls":15},"-",null,{"$f":"SUMIF(Tableau1[Description article],Tableau1[Produits],Tableau1[Emplacement])","v":0},null,{"$f":"Sheet1!$S1917-Sheet1!$R1917","v":0},"-","-","-",{"$f":"IFERROR(Tableau1[[#This Row],[THEO]]-Tableau1[[#This Row],[Qtt 2éme lot]],\"-\")","v":"-"},"-",{"$f":"IF(Tableau1[[#This Row],[2éme lot]]=\"-\",\"-\",IFERROR(IF(Q1917=\"\",\"-\",INDEX(I:I,MATCH(Q1917,C:C,0)+1)),\"-\"))","v":"-"},"-","-"]
[{"$nulls":15},"-",null,{"$f":"SUMIF(Tableau1[Description article],Tableau1[Produits],Tableau1[Emplacement])","v":0},null,{"$f":"Sheet1!$S1918-Sheet1!$R1918","v":0},"-","-","-",{"$f":"IFERROR(Tableau1[[#This Row],[THEO]]-Tableau1[[#This Row],[Qtt 2éme lot]],\"-\")","v":"-"},"-",{"$f":"IF(Tableau1[[#This Row],[2éme lot]]=\"-\",\"-\",IFERROR(IF(Q1918=\"\",\"-\",INDEX(I:I,MATCH(Q1918,C:C,0)+1)),\"-\"))","v":"-"},"-","-"]
[{"$nulls":15},"-",null,{"$f":"SUMIF(Tableau1[Description article],Tableau1[Produits],Tableau1[Emplacement])","v":0},null,{"$f":"Sheet1!$S1919-Sheet1!$R1919","v":0},"-","-","-",{"$f":"IFERROR(Tableau1[[#This Row],[THEO]]-Tableau1[[#This Row],[Qtt 2éme lot]],\"-\")","v":"-"},"-",{"$f":"IF(Tableau1[[#This Row],[2éme lot]]=\"-\",\"-\",IFERROR(IF(Q1919=\"\",\"-\",INDEX(I:I,MATCH(Q1919,C:C,0)+1)),\"-\"))","v":"-"},"-","-"]
[{"$nulls":15},"-",null,{"$f":"SUMIF(Tableau1[Description article],Tableau1[Produits],Tableau1[Emplacement])","v":0},null,{"$f":"Sheet1!$S1920-Sheet1!$R1920","v":0},"-","-","-",{"$f":"IFERROR(Tableau1[[#This Row],[THEO]]-Tableau1[[#This Row],[Qtt 2éme lot]],\"-\")","v":"-"},"-",{"$f":"IF(Tableau1[[#This Row],[2éme lot]]=\"-\",\"-\",IFERROR(IF(Q1920=\"\",\"-\",INDEX(I:I,MATCH(Q1920,C:C,0)+1)),\"-\"))","v":"-"},"-","-"]
[{"$nulls":15},"-",null,{"$f":"SUMIF(Tableau1[Description article],Tableau1[Produits],Tableau1[Emplacement])","v":0},null,{"$f":"Sheet1!$S1921-Sheet1!$R1921","v":0},"-","-","-",{"$f":"IFERROR(Tableau1[[#This Row],[THEO]]-Tableau1[[#This Row],[Qtt 2éme lot]],\"-\")","v":"-"},"-",{"$f":"IF(Tableau1[[#This Row],[2éme lot]]=\"-\",\"-\",IFERROR(IF(Q1921=\"\",\"-\",INDEX(I:I,MATCH(Q1921,C:C,0)+1)),\"-\"))","v":"-"},"-","-"]
[{"$nulls":15},{"$f":"IFERROR(IF(Q1922=\"\",\"-\",INDEX(I:I,MATCH(Q1922,C:C,0))),\"-\")","v":"-"},null,{"$f":"SUMIF(Tableau1[Description article],Tableau1[Produits],Tableau1[Emplacement])","v":0},null,{"$f":"Sheet1!$S1922-Sheet1!$R1922","v":0},{"$f":"IFERROR(IF(Q1922=\"\",\"-\",INDEX(F:F,MATCH(Q1922,C:C,0))),\"-\")","v":"-"},{"$f":"IFERROR(IF(Q1922=\"\",\"-\",INDEX(E:E,MATCH(Q1922,C:C,0))),\"-\")","v":"-"},{"$f":"IFERROR(IF(Q1922=\"\",\"-\",INDEX(N:N,MATCH(Q1922,C:C,0))),\"-\")","v":"-"},{"$f":"IFERROR(Tableau1[[#This Row],[THEO]]-Tableau1[[#This Row],[Qtt 2éme lot]],\"-\")","v":"-"},{"$f":"IF(IF(Q1922=\"\",\"-\",INDEX(E:E,MATCH(Q1922,C:C,0)))=IF(Q1922=\"\",\"-\",INDEX(E:E,MATCH(Q1922,C:C,1))),\"-\",IF(Q1922=\"\",\"-\",INDEX(E:E,MATCH(Q1922,C:C,1))))","v":"-"},{"$f":"IF(Tableau1[[#This Row],[2éme lot]]=\"-\",\"-\",IFERROR(IF(Q1922=\"\",\"-\",INDEX(I:I,MATCH(Q1922,C:C,0)+1)),\"-\"))","v":"-"},{"$f":"IFERROR(IF(Y1922=\"\",\"-\",INDEX(N:N,MATCH(Y1922,E:E,0))),\"-\")","v":"-"},{"$f":"IFERROR(IF(AA1922=\"\",\"-\",INDEX(H:H,MATCH(Y1922,E:E,0))),\"-\")","v":"-"}]
[{"$nulls":15},"-",null,{"$f":"SUMIF(Tableau1[Description article],Tableau1[Produits],Tableau1[Emplacement])","v":0},null,{"$f":"Sheet1!$S1923-Sheet1!$R1923","v":0},"-","-","-",{"$f":"IFERROR(Tableau1[[#This Row],[THEO]]-Tableau1[[#This Row],[Qtt 2éme lot]],\"-\")","v":"-"},"-",{"$f":"IF(Tableau1[[#This Row],[2éme lot]]=\"-\",\"-\",IFERROR(IF(Q1923=\"\",\"-\",INDEX(I:I,MATCH(Q1923,C:C,0)+1)),\"-\"))","v":"-"},"-","-"]
[{"$nulls":15},"-",null,{"$f":"SUMIF(Tableau1[Description article],Tableau1[Produits],Tableau1[Emplacement])","v":0},null,{"$f":"Sheet1!$S1924-Sheet1!$R1924","v":0},"-","-","-",{"$f":"IFERROR(Tableau1[[#This Row],[THEO]]-Tableau1[[#This Row],[Qtt 2éme lot]],\"-\")","v":"-"},"-",{"$f":"IF(Tableau1[[#This Row],[2éme lot]]=\"-\",\"-\",IFERROR(IF(Q1924=\"\",\"-\",INDEX(I:I,MATCH(Q1924,C:C,0)+1)),\"-\"))","v":"-"},"-","-"]
[{"$nulls":15},"-",null,{"$f":"SUMIF(Tableau1[Description article],Tableau1[Produits],Tableau1[Emplacement])","v":0},null,{"$f":"Sheet1!$S1925-Sheet1!$R1925","v":0},"-","-","-",{"$f":"IFERROR(Tableau1[[#This Row],[THEO]]-Tableau1[[#This Row],[Qtt 2éme lot]],\"-\")","v":"-"},"-",{"$f":"IF(Tableau1[[#This Row],[2éme lot]]=\"-\",\"-\",IFERROR(IF(Q1925=\"\",\"-\",INDEX(I:I,MATCH(Q1925,C:C,0)+1)),\"-\"))","v":"-"},"-","-"]
[{"$nulls":15},"-",null,{"$f":"SUMIF(Tableau1[Description article],Tableau1[Produits],Tableau1[Emplacement])","v":0},null,{"$f":"Sheet1!$S1926-Sheet1!$R1926","v":0},"-","-","-",{"$f":"IFERROR(Tableau1[[#This Row],[THEO]]-Tableau1[[#This Row],[Qtt 2éme lot]],\"-\")","v":"-"},"-",{"$f":"IF(Tableau1[[#This Row],[2éme lot]]=\"-\",\"-\",IFERROR(IF(Q1926=\"\",\"-\",INDEX(I:I,MATCH(Q1926,C:C,0)+1)),\"-\"))","v":"-"},"-","-"]
[{"$nulls":15},"-",null,{"$f":"SUMIF(Tableau1[Description article],Tableau1[Produits],Tableau1[Emplacement])","v":0},null,{"$f":"Sheet1!$S1927-Sheet1!$R1927","v":0},"-","-","-",{"$f":"IFERROR(Tableau1[[#This Row],[THEO]]-Tableau1[[#This Row],[Qtt 2éme lot]],\"-\")","v":"-"},"-",{"$f":"IF(Tableau1[[#This Row],[2éme lot]]=\"-\",\"-\",IFERROR(IF(Q1927=\"\",\"-\",INDEX(I:I,MATCH(Q1927,C:C,0)+1)),\"-\"))","v":"-"},"-","-"]
[{"$nulls":15},"-",null,{"$f":"SUMIF(Tableau1[Description article],Tableau1[Produits],Tableau1[Emplacement])","v":0},null,{"$f":"Sheet1!$S1928-Sheet1!$R1928","v":0},"-","-","-",{"$f":"IFERROR(Tableau1[[#This Row],[THEO]]-Tableau1[[#This Row],[Qtt 2éme lot]],\"-\")","v":"-"},"-",{"$f":"IF(Tableau1[[#This Row],[2éme lot]]=\"-\",\"-\",IFERROR(IF(Q1928=\"\",\"-\",INDEX(I:I,MATCH(Q1928,C:C,0)+1)),\"-\"))","v":"-"},"-","-"]
[{"$nulls":15},"-",null,{"$f":"SUMIF(Tableau1[Description article],Tableau1[Produits],Tableau1[Emplacement])","v":0},null,{"$f":"Sheet1!$S1929-Sheet1!$R1929","v":0},"-","-","-",{"$f":"IFERROR(Tableau1[[#This Row],[THEO]]-Tableau1[[#This Row],[Qtt 2éme lot]],\"-\")","v":"-"},"-",{"$f":"IF(Tableau1[[#This Row],[2éme lot]]=\"-\",\"-\",IFERROR(IF(Q1929=\"\",\"-\",INDEX(I:I,MATCH(Q1929,C:C,0)+1)),\"-\"))","v":"-"},"-","-"]
[{"$nulls":15},"-",null,{"$f":"SUMIF(Tableau1[Description article],Tableau1[Produits],Tableau1[Emplacement])","v":0},null,{"$f":"Sheet1!$S1930-Sheet1!$R1930","v":0},"-","-","-",{"$f":"IFERROR(Tableau1[[#This Row],[THEO]]-Tableau1[[#This Row],[Qtt 2éme lot]],\"-\")","v":"-"},"-",{"$f":"IF(Tableau1[[#This Row],[2éme lot]]=\"-\",\"-\",IFERROR(IF(Q1930=\"\",\"-\",INDEX(I:I,MATCH(Q1930,C:C,0)+1)),\"-\"))","v":"-"},"-","-"]
[{"$nulls":15},"-",null,{"$f":"SUMIF(Tableau1[Description article],Tableau1[Produits],Tableau1[Emplacement])","v":0},null,{"$f":"Sheet1!$S1931-Sheet1!$R1931","v":0},"-","-","-",{"$f":"IFERROR(Tableau1[[#This Row],[THEO]]-Tableau1[[#This Row],[Qtt 2éme lot]],\"-\")","v":"-"},"-",{"$f":"IF(Tableau1[[#This Row],[2éme lot]]=\"-\",\"-\",IFERROR(IF(Q1931=\"\",\"-\",INDEX(I:I,MATCH(Q1931,C:C,0)+1)),\"-\"))","v":"-"},"-","-"]
[{"$nulls":15},"-",null,{"$f":"SUMIF(Tableau1[Description article],Tableau1[Produits],Tableau1[Emplacement])","v":0},null,{"$f":"Sheet1!$S1932-Sheet1!$R1932","v":0},"-","-","-",{"$f":"IFERROR(Tableau1[[#This Row],[THEO]]-Tableau1[[#This Row],[Qtt 2éme lot]],\"-\")","v":"-"},"-",{"$f":"IF(Tableau1[[#This Row],[2éme lot]]=\"-\",\"-\",IFERROR(IF(Q1932=\"\",\"-\",INDEX(I:I,MATCH(Q1932,C:C,0)+1)),\"-\"))","v":"-"},"-","-"]
[{"$nulls":15},"-",null,{"$f":"SUMIF(Tableau1[Description article],Tableau1[Produits],Tableau1[Emplacement])","v":0},null,{"$f":"Sheet1!$S1933-Sheet1!$R1933","v":0},"-","-","-",{"$f":"IFERROR(Tableau1[[#This Row],[THEO]]-Tableau1[[#This Row],[Qtt 2éme lot]],\"-\")","v":"-"},"-",{"$f":"IF(Tableau1[[#This Row],[2éme lot]]=\"-\",\"-\",IFERROR(IF(Q1933=\"\",\"-\",INDEX(I:I,MATCH(Q1933,C:C,0)+1)),\"-\"))","v":"-"},"-","-"]
[{"$nulls":15},"-",null,{"$f":"SUMIF(Tableau1[Description article],Tableau1[Produits],Tableau1[Emplacement])","v":0},null,{"$f":"Sheet1!$S1934-Sheet1!$R1934","v":0},"-","-","-",{"$f":"IFERROR(Tableau1[[#This Row],[THEO]]-Tableau1[[#This Row],[Qtt 2éme lot]],\"-\")","v":"-"},"-",{"$f":"IF(Tableau1[[#This Row],[2éme lot]]=\"-\",\"-\",IFERROR(IF(Q1934=\"\",\"-\",INDEX(I:I,MATCH(Q1934,C:C,0)+1)),\"-\"))","v":"-"},"-","-"]
[{"$nulls":15},"-",null,{"$f":"SUMIF(Tableau1[Description article],Tableau1[Produits],Tableau1[Emplacement])","v":0},null,{"$f":"Sheet1!$S1935-Sheet1!$R1935","v":0},"-","-","-",{"$f":"IFERROR(Tableau1[[#This Row],[THEO]]-Tableau1[[#This Row],[Qtt 2éme lot]],\"-\")","v":"-"},"-",{"$f":"IF(Tableau1[[#This Row],[2éme lot]]=\"-\",\"-\",IFERROR(IF(Q1935=\"\",\"-\",INDEX(I:I,MATCH(Q1935,C:C,0)+1)),\"-\"))","v":"-"},"-","-"]
[{"$nulls":15},"-",null,{"$f":"SUMIF(Tableau1[Description article],Tableau1[Produits],Tableau1[Emplacement])","v":0},null,{"$f":"Sheet1!$S1936-Sheet1!$R1936","v":0},"-","-","-",{"$f":"IFERROR(Tableau1[[#This Row],[THEO]]-Tableau1[[#This Row],[Qtt 2éme lot]],\"-\")","v":"-"},"-",{"$f":"IF(Tableau1[[#This Row],[2éme lot]]=\"-\",\"-\",IFERROR(IF(Q1936=\"\",\"-\",INDEX(I:I,MATCH(Q1936,C:C,0)+1)),\"-\"))","v":"-"},"-","-"]
[{"$nulls":15},"-",null,{"$f":"SUMIF(Tableau1[Description article],Tableau1[Produits],Tableau1[Emplacement])","v":0},null,{"$f":"Sheet1!$S1937-Sheet1!$R1937","v":0},"-","-","-",{"$f":"IFERROR(Tableau1[[#This Row],[THEO]]-Tableau1[[#This Row],[Qtt 2éme lot]],\"-\")","v":"-"},"-",{"$f":"IF(Tableau1[[#This Row],[2éme lot]]=\"-\",\"-\",IFERROR(IF(Q1937=\"\",\"-\",INDEX(I:I,MATCH(Q1937,C:C,0)+1)),\"-\"))","v":"-"},"-","-"]
[{"$nulls":15},"-",null,{"$f":"SUMIF(Tableau1[Description article],Tableau1[Produits],Tableau1[Emplacement])","v":0},null,{"$f":"Sheet1!$S1938-Sheet1!$R1938","v":0},"-","-","-",{"$f":"IFERROR(Tableau1[[#This Row],[THEO]]-Tableau1[[#This Row],[Qtt 2éme lot]],\"-\")","v":"-"},"-",{"$f":"IF(Tableau1[[#This Row],[2éme lot]]=\"-\",\"-\",IFERROR(IF(Q1938=\"\",\"-\",INDEX(I:I,MATCH(Q1938,C:C,0)+1)),\"-\"))","v":"-"},"-","-"]
[{"$nulls":15},"-",null,{"$f":"SUMIF(Tableau1[Description article],Tableau1[Produits],Tableau1[Emplacement])","v":0},null,{"$f":"Sheet1!$S1939-Sheet1!$R1939","v":0},"-","-","-",{"$f":"IFERROR(Tableau1[[#This Row],[THEO]]-Tableau1[[#This Row],[Qtt 2éme lot]],\"-\")","v":"-"},"-",{"$f":"IF(Tableau1[[#This Row],[2éme lot]]=\"-\",\"-\",IFERROR(IF(Q1939=\"\",\"-\",INDEX(I:I,MATCH(Q1939,C:C,0)+1)),\"-\"))","v":"-"},"-","-"]
[{"$nulls":15},"-",null,{"$f":"SUMIF(Tableau1[Description article],Tableau1[Produits],Tableau1[Emplacement])","v":0},null,{"$f":"Sheet1!$S1940-Sheet1!$R1940","v":0},"-","-","-",{"$f":"IFERROR(Tableau1[[#This Row],[THEO]]-Tableau1[[#This Row],[Qtt 2éme lot]],\"-\")","v":"-"},"-",{"$f":"IF(Tableau1[[#This Row],[2éme lot]]=\"-\",\"-\",IFERROR(IF(Q1940=\"\",\"-\",INDEX(I:I,MATCH(Q1940,C:C,0)+1)),\"-\"))","v":"-"},"-","-"]
[{"$nulls":15},"-",null,{"$f":"SUMIF(Tableau1[Description article],Tableau1[Produits],Tableau1[Emplacement])","v":0},null,{"$f":"Sheet1!$S1941-Sheet1!$R1941","v":0},"-","-","-",{"$f":"IFERROR(Tableau1[[#This Row],[THEO]]-Tableau1[[#This Row],[Qtt 2éme lot]],\"-\")","v":"-"},"-",{"$f":"IF(Tableau1[[#This Row],[2éme lot]]=\"-\",\"-\",IFERROR(IF(Q1941=\"\",\"-\",INDEX(I:I,MATCH(Q1941,C:C,0)+1)),\"-\"))","v":"-"},"-","-"]
[{"$nulls":15},"-",null,{"$f":"SUMIF(Tableau1[Description article],Tableau1[Produits],Tableau1[Emplacement])","v":0},null,{"$f":"Sheet1!$S1942-Sheet1!$R1942","v":0},"-","-","-",{"$f":"IFERROR(Tableau1[[#This Row],[THEO]]-Tableau1[[#This Row],[Qtt 2éme lot]],\"-\")","v":"-"},"-",{"$f":"IF(Tableau1[[#This Row],[2éme lot]]=\"-\",\"-\",IFERROR(IF(Q1942=\"\",\"-\",INDEX(I:I,MATCH(Q1942,C:C,0)+1)),\"-\"))","v":"-"},"-","-"]
[{"$nulls":15},"-",null,{"$f":"SUMIF(Tableau1[Description article],Tableau1[Produits],Tableau1[Emplacement])","v":0},null,{"$f":"Sheet1!$S1943-Sheet1!$R1943","v":0},"-","-","-",{"$f":"IFERROR(Tableau1[[#This Row],[THEO]]-Tableau1[[#This Row],[Qtt 2éme lot]],\"-\")","v":"-"},"-",{"$f":"IF(Tableau1[[#This Row],[2éme lot]]=\"-\",\"-\",IFERROR(IF(Q1943=\"\",\"-\",INDEX(I:I,MATCH(Q1943,C:C,0)+1)),\"-\"))","v":"-"},"-","-"]
[{"$nulls":15},"-",null,{"$f":"SUMIF(Tableau1[Description article],Tableau1[Produits],Tableau1[Emplacement])","v":0},null,{"$f":"Sheet1!$S1944-Sheet1!$R1944","v":0},"-","-","-",{"$f":"IFERROR(Tableau1[[#This Row],[THEO]]-Tableau1[[#This Row],[Qtt 2éme lot]],\"-\")","v":"-"},"-",{"$f":"IF(Tableau1[[#This Row],[2éme lot]]=\"-\",\"-\",IFERROR(IF(Q1944=\"\",\"-\",INDEX(I:I,MATCH(Q1944,C:C,0)+1)),\"-\"))","v":"-"},"-","-"]
[{"$nulls":15},"-",null,{"$f":"SUMIF(Tableau1[Description article],Tableau1[Produits],Tableau1[Emplacement])","v":0},null,{"$f":"Sheet1!$S1945-Sheet1!$R1945","v":0},"-","-","-",{"$f":"IFERROR(Tableau1[[#This Row],[THEO]]-Tableau1[[#This Row],[Qtt 2éme lot]],\"-\")","v":"-"},"-",{"$f":"IF(Tableau1[[#This Row],[2éme lot]]=\"-\",\"-\",IFERROR(IF(Q1945=\"\",\"-\",INDEX(I:I,MATCH(Q1945,C:C,0)+1)),\"-\"))","v":"-"},"-","-"]
[{"$nulls":15},"-",null,{"$f":"SUMIF(Tableau1[Description article],Tableau1[Produits],Tableau1[Emplacement])","v":0},null,{"$f":"Sheet1!$S1946-Sheet1!$R1946","v":0},"-","-","-",{"$f":"IFERROR(Tableau1[[#This Row],[THEO]]-Tableau1[[#This Row],[Qtt 2éme lot]],\"-\")","v":"-"},"-",{"$f":"IF(Tableau1[[#This Row],[2éme lot]]=\"-\",\"-\",IFERROR(IF(Q1946=\"\",\"-\",INDEX(I:I,MATCH(Q1946,C:C,0)+1)),\"-\"))","v":"-"},"-","-"]
[{"$nulls":15},"-",null,{"$f":"SUMIF(Tableau1[Description article],Tableau1[Produits],Tableau1[Emplacement])","v":0},null,{"$f":"Sheet1!$S1947-Sheet1!$R1947","v":0},"-","-","-",{"$f":"IFERROR(Tableau1[[#This Row],[THEO]]-Tableau1[[#This Row],[Qtt 2éme lot]],\"-\")","v":"-"},"-",{"$f":"IF(Tableau1[[#This Row],[2éme lot]]=\"-\",\"-\",IFERROR(IF(Q1947=\"\",\"-\",INDEX(I:I,MATCH(Q1947,C:C,0)+1)),\"-\"))","v":"-"},"-","-"]
[{"$nulls":15},"-",null,{"$f":"SUMIF(Tableau1[Description article],Tableau1[Produits],Tableau1[Emplacement])","v":0},null,{"$f":"Sheet1!$S1948-Sheet1!$R1948","v":0},"-","-","-",{"$f":"IFERROR(Tableau1[[#This Row],[THEO]]-Tableau1[[#This Row],[Qtt 2éme lot]],\"-\")","v":"-"},"-",{"$f":"IF(Tableau1[[#This Row],[2éme lot]]=\"-\",\"-\",IFERROR(IF(Q1948=\"\",\"-\",INDEX(I:I,MATCH(Q1948,C:C,0)+1)),\"-\"))","v":"-"},"-","-"]
[{"$nulls":15},"-",null,{"$f":"SUMIF(Tableau1[Description article],Tableau1[Produits],Tableau1[Emplacement])","v":0},null,{"$f":"Sheet1!$S1949-Sheet1!$R1949","v":0},"-","-","-",{"$f":"IFERROR(Tableau1[[#This Row],[THEO]]-Tableau1[[#This Row],[Qtt 2éme lot]],\"-\")","v":"-"},"-",{"$f":"IF(Tableau1[[#This Row],[2éme lot]]=\"-\",\"-\",IFERROR(IF(Q1949=\"\",\"-\",INDEX(I:I,MATCH(Q1949,C:C,0)+1)),\"-\"))","v":"-"},"-","-"]
[{"$nulls":15},"-",null,{"$f":"SUMIF(Tableau1[Description article],Tableau1[Produits],Tableau1[Emplacement])","v":0},null,{"$f":"Sheet1!$S1950-Sheet1!$R1950","v":0},"-","-","-",{"$f":"IFERROR(Tableau1[[#This Row],[THEO]]-Tableau1[[#This Row],[Qtt 2éme lot]],\"-\")","v":"-"},"-",{"$f":"IF(Tableau1[[#This Row],[2éme lot]]=\"-\",\"-\",IFERROR(IF(Q1950=\"\",\"-\",INDEX(I:I,MATCH(Q1950,C:C,0)+1)),\"-\"))","v":"-"},"-","-"]
[{"$nulls":15},"-",null,{"$f":"SUMIF(Tableau1[Description article],Tableau1[Produits],Tableau1[Emplacement])","v":0},null,{"$f":"Sheet1!$S1951-Sheet1!$R1951","v":0},"-","-","-",{"$f":"IFERROR(Tableau1[[#This Row],[THEO]]-Tableau1[[#This Row],[Qtt 2éme lot]],\"-\")","v":"-"},"-",{"$f":"IF(Tableau1[[#This Row],[2éme lot]]=\"-\",\"-\",IFERROR(IF(Q1951=\"\",\"-\",INDEX(I:I,MATCH(Q1951,C:C,0)+1)),\"-\"))","v":"-"},"-","-"]
[{"$nulls":15},"-",null,{"$f":"SUMIF(Tableau1[Description article],Tableau1[Produits],Tableau1[Emplacement])","v":0},null,{"$f":"Sheet1!$S1952-Sheet1!$R1952","v":0},"-","-","-",{"$f":"IFERROR(Tableau1[[#This Row],[THEO]]-Tableau1[[#This Row],[Qtt 2éme lot]],\"-\")","v":"-"},"-",{"$f":"IF(Tableau1[[#This Row],[2éme lot]]=\"-\",\"-\",IFERROR(IF(Q1952=\"\",\"-\",INDEX(I:I,MATCH(Q1952,C:C,0)+1)),\"-\"))","v":"-"},"-","-"]
[{"$nulls":15},"-",null,{"$f":"SUMIF(Tableau1[Description article],Tableau1[Produits],Tableau1[Emplacement])","v":0},null,{"$f":"Sheet1!$S1953-Sheet1!$R1953","v":0},"-","-","-",{"$f":"IFERROR(Tableau1[[#This Row],[THEO]]-Tableau1[[#This Row],[Qtt 2éme lot]],\"-\")","v":"-"},"-",{"$f":"IF(Tableau1[[#This Row],[2éme lot]]=\"-\",\"-\",IFERROR(IF(Q1953=\"\",\"-\",INDEX(I:I,MATCH(Q1953,C:C,0)+1)),\"-\"))","v":"-"},"-","-"]
[{"$nulls":15},"-",null,{"$f":"SUMIF(Tableau1[Description article],Tableau1[Produits],Tableau1[Emplacement])","v":0},null,{"$f":"Sheet1!$S1954-Sheet1!$R1954","v":0},"-","-","-",{"$f":"IFERROR(Tableau1[[#This Row],[THEO]]-Tableau1[[#This Row],[Qtt 2éme lot]],\"-\")","v":"-"},"-",{"$f":"IF(Tableau1[[#This Row],[2éme lot]]=\"-\",\"-\",IFERROR(IF(Q1954=\"\",\"-\",INDEX(I:I,MATCH(Q1954,C:C,0)+1)),\"-\"))","v":"-"},"-","-"]
[{"$nulls":15},"-",null,{"$f":"SUMIF(Tableau1[Description article],Tableau1[Produits],Tableau1[Emplacement])","v":0},null,{"$f":"Sheet1!$S1955-Sheet1!$R1955","v":0},"-","-","-",{"$f":"IFERROR(Tableau1[[#This Row],[THEO]]-Tableau1[[#This Row],[Qtt 2éme lot]],\"-\")","v":"-"},"-",{"$f":"IF(Tableau1[[#This Row],[2éme lot]]=\"-\",\"-\",IFERROR(IF(Q1955=\"\",\"-\",INDEX(I:I,MATCH(Q1955,C:C,0)+1)),\"-\"))","v":"-"},"-","-"]
[{"$nulls":15},"-",null,{"$f":"SUMIF(Tableau1[Description article],Tableau1[Produits],Tableau1[Emplacement])","v":0},null,{"$f":"Sheet1!$S1956-Sheet1!$R1956","v":0},"-","-","-",{"$f":"IFERROR(Tableau1[[#This Row],[THEO]]-Tableau1[[#This Row],[Qtt 2éme lot]],\"-\")","v":"-"},"-",{"$f":"IF(Tableau1[[#This Row],[2éme lot]]=\"-\",\"-\",IFERROR(IF(Q1956=\"\",\"-\",INDEX(I:I,MATCH(Q1956,C:C,0)+1)),\"-\"))","v":"-"},"-","-"]
[{"$nulls":15},"-",null,{"$f":"SUMIF(Tableau1[Description article],Tableau1[Produits],Tableau1[Emplacement])","v":0},null,{"$f":"Sheet1!$S1957-Sheet1!$R1957","v":0},"-","-","-",{"$f":"IFERROR(Tableau1[[#This Row],[THEO]]-Tableau1[[#This Row],[Qtt 2éme lot]],\"-\")","v":"-"},"-",{"$f":"IF(Tableau1[[#This Row],[2éme lot]]=\"-\",\"-\",IFERROR(IF(Q1957=\"\",\"-\",INDEX(I:I,MATCH(Q1957,C:C,0)+1)),\"-\"))","v":"-"},"-","-"]
[{"$nulls":15},"-",null,{"$f":"SUMIF(Tableau1[Description article],Tableau1[Produits],Tableau1[Emplacement])","v":0},null,{"$f":"Sheet1!$S1958-Sheet1!$R1958","v":0},"-","-","-",{"$f":"IFERROR(Tableau1[[#This Row],[THEO]]-Tableau1[[#This Row],[Qtt 2éme lot]],\"-\")","v":"-"},"-",{"$f":"IF(Tableau1[[#This Row],[2éme lot]]=\"-\",\"-\",IFERROR(IF(Q1958=\"\",\"-\",INDEX(I:I,MATCH(Q1958,C:C,0)+1)),\"-\"))","v":"-"},"-","-"]
[{"$nulls":15},"-",null,{"$f":"SUMIF(Tableau1[Description article],Tableau1[Produits],Tableau1[Emplacement])","v":0},null,{"$f":"Sheet1!$S1959-Sheet1!$R1959","v":0},"-","-","-",{"$f":"IFERROR(Tableau1[[#This Row],[THEO]]-Tableau1[[#This Row],[Qtt 2éme lot]],\"-\")","v":"-"},"-",{"$f":"IF(Tableau1[[#This Row],[2éme lot]]=\"-\",\"-\",IFERROR(IF(Q1959=\"\",\"-\",INDEX(I:I,MATCH(Q1959,C:C,0)+1)),\"-\"))","v":"-"},"-","-"]
[{"$nulls":15},"-",null,{"$f":"SUMIF(Tableau1[Description article],Tableau1[Produits],Tableau1[Emplacement])","v":0},null,{"$f":"Sheet1!$S1960-Sheet1!$R1960","v":0},"-","-","-",{"$f":"IFERROR(Tableau1[[#This Row],[THEO]]-Tableau1[[#This Row],[Qtt 2éme lot]],\"-\")","v":"-"},"-",{"$f":"IF(Tableau1[[#This Row],[2éme lot]]=\"-\",\"-\",IFERROR(IF(Q1960=\"\",\"-\",INDEX(I:I,MATCH(Q1960,C:C,0)+1)),\"-\"))","v":"-"},"-","-"]
[{"$nulls":15},"-",null,{"$f":"SUMIF(Tableau1[Description article],Tableau1[Produits],Tableau1[Emplacement])","v":0},null,{"$f":"Sheet1!$S1961-Sheet1!$R1961","v":0},"-","-","-",{"$f":"IFERROR(Tableau1[[#This Row],[THEO]]-Tableau1[[#This Row],[Qtt 2éme lot]],\"-\")","v":"-"},"-",{"$f":"IF(Tableau1[[#This Row],[2éme lot]]=\"-\",\"-\",IFERROR(IF(Q1961=\"\",\"-\",INDEX(I:I,MATCH(Q1961,C:C,0)+1)),\"-\"))","v":"-"},"-","-"]
[{"$nulls":15},"-",null,{"$f":"SUMIF(Tableau1[Description article],Tableau1[Produits],Tableau1[Emplacement])","v":0},null,{"$f":"Sheet1!$S1962-Sheet1!$R1962","v":0},"-","-","-",{"$f":"IFERROR(Tableau1[[#This Row],[THEO]]-Tableau1[[#This Row],[Qtt 2éme lot]],\"-\")","v":"-"},"-",{"$f":"IF(Tableau1[[#This Row],[2éme lot]]=\"-\",\"-\",IFERROR(IF(Q1962=\"\",\"-\",INDEX(I:I,MATCH(Q1962,C:C,0)+1)),\"-\"))","v":"-"},"-","-"]
[{"$nulls":15},"-",null,{"$f":"SUMIF(Tableau1[Description article],Tableau1[Produits],Tableau1[Emplacement])","v":0},null,{"$f":"Sheet1!$S1963-Sheet1!$R1963","v":0},"-","-","-",{"$f":"IFERROR(Tableau1[[#This Row],[THEO]]-Tableau1[[#This Row],[Qtt 2éme lot]],\"-\")","v":"-"},"-",{"$f":"IF(Tableau1[[#This Row],[2éme lot]]=\"-\",\"-\",IFERROR(IF(Q1963=\"\",\"-\",INDEX(I:I,MATCH(Q1963,C:C,0)+1)),\"-\"))","v":"-"},"-","-"]
[{"$nulls":15},"-",null,{"$f":"SUMIF(Tableau1[Description article],Tableau1[Produits],Tableau1[Emplacement])","v":0},null,{"$f":"Sheet1!$S1964-Sheet1!$R1964","v":0},"-","-","-",{"$f":"IFERROR(Tableau1[[#This Row],[THEO]]-Tableau1[[#This Row],[Qtt 2éme lot]],\"-\")","v":"-"},"-",{"$f":"IF(Tableau1[[#This Row],[2éme lot]]=\"-\",\"-\",IFERROR(IF(Q1964=\"\",\"-\",INDEX(I:I,MATCH(Q1964,C:C,0)+1)),\"-\"))","v":"-"},"-","-"]
[{"$nulls":15},"-",null,{"$f":"SUMIF(Tableau1[Description article],Tableau1[Produits],Tableau1[Emplacement])","v":0},null,{"$f":"Sheet1!$S1965-Sheet1!$R1965","v":0},"-","-","-",{"$f":"IFERROR(Tableau1[[#This Row],[THEO]]-Tableau1[[#This Row],[Qtt 2éme lot]],\"-\")","v":"-"},"-",{"$f":"IF(Tableau1[[#This Row],[2éme lot]]=\"-\",\"-\",IFERROR(IF(Q1965=\"\",\"-\",INDEX(I:I,MATCH(Q1965,C:C,0)+1)),\"-\"))","v":"-"},"-","-"]
[{"$nulls":15},"-",null,{"$f":"SUMIF(Tableau1[Description article],Tableau1[Produits],Tableau1[Emplacement])","v":0},null,{"$f":"Sheet1!$S1966-Sheet1!$R1966","v":0},"-","-","-",{"$f":"IFERROR(Tableau1[[#This Row],[THEO]]-Tableau1[[#This Row],[Qtt 2éme lot]],\"-\")","v":"-"},"-",{"$f":"IF(Tableau1[[#This Row],[2éme lot]]=\"-\",\"-\",IFERROR(IF(Q1966=\"\",\"-\",INDEX(I:I,MATCH(Q1966,C:C,0)+1)),\"-\"))","v":"-"},"-","-"]
[{"$nulls":15},"-",null,{"$f":"SUMIF(Tableau1[Description article],Tableau1[Produits],Tableau1[Emplacement])","v":0},null,{"$f":"Sheet1!$S1967-Sheet1!$R1967","v":0},"-","-","-",{"$f":"IFERROR(Tableau1[[#This Row],[THEO]]-Tableau1[[#This Row],[Qtt 2éme lot]],\"-\")","v":"-"},"-",{"$f":"IF(Tableau1[[#This Row],[2éme lot]]=\"-\",\"-\",IFERROR(IF(Q1967=\"\",\"-\",INDEX(I:I,MATCH(Q1967,C:C,0)+1)),\"-\"))","v":"-"},"-","-"]
[{"$nulls":15},"-",null,{"$f":"SUMIF(Tableau1[Description article],Tableau1[Produits],Tableau1[Emplacement])","v":0},null,{"$f":"Sheet1!$S1968-Sheet1!$R1968","v":0},"-","-","-",{"$f":"IFERROR(Tableau1[[#This Row],[THEO]]-Tableau1[[#This Row],[Qtt 2éme lot]],\"-\")","v":"-"},"-",{"$f":"IF(Tableau1[[#This Row],[2éme lot]]=\"-\",\"-\",IFERROR(IF(Q1968=\"\",\"-\",INDEX(I:I,MATCH(Q1968,C:C,0)+1)),\"-\"))","v":"-"},"-","-"]
[{"$nulls":15},"-",null,{"$f":"SUMIF(Tableau1[Description article],Tableau1[Produits],Tableau1[Emplacement])","v":0},null,{"$f":"Sheet1!$S1969-Sheet1!$R1969","v":0},"-","-","-",{"$f":"IFERROR(Tableau1[[#This Row],[THEO]]-Tableau1[[#This Row],[Qtt 2éme lot]],\"-\")","v":"-"},"-",{"$f":"IF(Tableau1[[#This Row],[2éme lot]]=\"-\",\"-\",IFERROR(IF(Q1969=\"\",\"-\",INDEX(I:I,MATCH(Q1969,C:C,0)+1)),\"-\"))","v":"-"},"-","-"]
[{"$nulls":15},"-",null,{"$f":"SUMIF(Tableau1[Description article],Tableau1[Produits],Tableau1[Emplacement])","v":0},null,{"$f":"Sheet1!$S1970-Sheet1!$R1970","v":0},"-","-","-",{"$f":"IFERROR(Tableau1[[#This Row],[THEO]]-Tableau1[[#This Row],[Qtt 2éme lot]],\"-\")","v":"-"},"-",{"$f":"IF(Tableau1[[#This Row],[2éme lot]]=\"-\",\"-\",IFERROR(IF(Q1970=\"\",\"-\",INDEX(I:I,MATCH(Q1970,C:C,0)+1)),\"-\"))","v":"-"},"-","-"]
[{"$nulls":15},"-",null,{"$f":"SUMIF(Tableau1[Description article],Tableau1[Produits],Tableau1[Emplacement])","v":0},null,{"$f":"Sheet1!$S1971-Sheet1!$R1971","v":0},"-","-","-",{"$f":"IFERROR(Tableau1[[#This Row],[THEO]]-Tableau1[[#This Row],[Qtt 2éme lot]],\"-\")","v":"-"},"-",{"$f":"IF(Tableau1[[#This Row],[2éme lot]]=\"-\",\"-\",IFERROR(IF(Q1971=\"\",\"-\",INDEX(I:I,MATCH(Q1971,C:C,0)+1)),\"-\"))","v":"-"},"-","-"]
[{"$nulls":15},"-",null,{"$f":"SUMIF(Tableau1[Description article],Tableau1[Produits],Tableau1[Emplacement])","v":0},null,{"$f":"Sheet1!$S1972-Sheet1!$R1972","v":0},"-","-","-",{"$f":"IFERROR(Tableau1[[#This Row],[THEO]]-Tableau1[[#This Row],[Qtt 2éme lot]],\"-\")","v":"-"},"-",{"$f":"IF(Tableau1[[#This Row],[2éme lot]]=\"-\",\"-\",IFERROR(IF(Q1972=\"\",\"-\",INDEX(I:I,MATCH(Q1972,C:C,0)+1)),\"-\"))","v":"-"},"-","-"]
[{"$nulls":15},"-",null,{"$f":"SUMIF(Tableau1[Description article],Tableau1[Produits],Tableau1[Emplacement])","v":0},null,{"$f":"Sheet1!$S1973-Sheet1!$R1973","v":0},"-","-","-",{"$f":"IFERROR(Tableau1[[#This Row],[THEO]]-Tableau1[[#This Row],[Qtt 2éme lot]],\"-\")","v":"-"},"-",{"$f":"IF(Tableau1[[#This Row],[2éme lot]]=\"-\",\"-\",IFERROR(IF(Q1973=\"\",\"-\",INDEX(I:I,MATCH(Q1973,C:C,0)+1)),\"-\"))","v":"-"},"-","-"]
[{"$nulls":15},"-",null,{"$f":"SUMIF(Tableau1[Description article],Tableau1[Produits],Tableau1[Emplacement])","v":0},null,{"$f":"Sheet1!$S1974-Sheet1!$R1974","v":0},"-","-","-",{"$f":"IFERROR(Tableau1[[#This Row],[THEO]]-Tableau1[[#This Row],[Qtt 2éme lot]],\"-\")","v":"-"},"-",{"$f":"IF(Tableau1[[#This Row],[2éme lot]]=\"-\",\"-\",IFERROR(IF(Q1974=\"\",\"-\",INDEX(I:I,MATCH(Q1974,C:C,0)+1)),\"-\"))","v":"-"},"-","-"]
[{"$nulls":15},"-",null,{"$f":"SUMIF(Tableau1[Description article],Tableau1[Produits],Tableau1[Emplacement])","v":0},null,{"$f":"Sheet1!$S1975-Sheet1!$R1975","v":0},"-","-","-",{"$f":"IFERROR(Tableau1[[#This Row],[THEO]]-Tableau1[[#This Row],[Qtt 2éme lot]],\"-\")","v":"-"},"-",{"$f":"IF(Tableau1[[#This Row],[2éme lot]]=\"-\",\"-\",IFERROR(IF(Q1975=\"\",\"-\",INDEX(I:I,MATCH(Q1975,C:C,0)+1)),\"-\"))","v":"-"},"-","-"]
[{"$nulls":15},"-",null,{"$f":"SUMIF(Tableau1[Description article],Tableau1[Produits],Tableau1[Emplacement])","v":0},null,{"$f":"Sheet1!$S1976-Sheet1!$R1976","v":0},"-","-","-",{"$f":"IFERROR(Tableau1[[#This Row],[THEO]]-Tableau1[[#This Row],[Qtt 2éme lot]],\"-\")","v":"-"},"-",{"$f":"IF(Tableau1[[#This Row],[2éme lot]]=\"-\",\"-\",IFERROR(IF(Q1976=\"\",\"-\",INDEX(I:I,MATCH(Q1976,C:C,0)+1)),\"-\"))","v":"-"},"-","-"]
[{"$nulls":15},"-",null,{"$f":"SUMIF(Tableau1[Description article],Tableau1[Produits],Tableau1[Emplacement])","v":0},null,{"$f":"Sheet1!$S1977-Sheet1!$R1977","v":0},"-","-","-",{"$f":"IFERROR(Tableau1[[#This Row],[THEO]]-Tableau1[[#This Row],[Qtt 2éme lot]],\"-\")","v":"-"},"-",{"$f":"IF(Tableau1[[#This Row],[2éme lot]]=\"-\",\"-\",IFERROR(IF(Q1977=\"\",\"-\",INDEX(I:I,MATCH(Q1977,C:C,0)+1)),\"-\"))","v":"-"},"-","-"]
[{"$nulls":15},"-",null,{"$f":"SUMIF(Tableau1[Description article],Tableau1[Produits],Tableau1[Emplacement])","v":0},null,{"$f":"Sheet1!$S1978-Sheet1!$R1978","v":0},"-","-","-",{"$f":"IFERROR(Tableau1[[#This Row],[THEO]]-Tableau1[[#This Row],[Qtt 2éme lot]],\"-\")","v":"-"},"-",{"$f":"IF(Tableau1[[#This Row],[2éme lot]]=\"-\",\"-\",IFERROR(IF(Q1978=\"\",\"-\",INDEX(I:I,MATCH(Q1978,C:C,0)+1)),\"-\"))","v":"-"},"-","-"]
[{"$nulls":15},"-",null,{"$f":"SUMIF(Tableau1[Description article],Tableau1[Produits],Tableau1[Emplacement])","v":0},null,{"$f":"Sheet1!$S1979-Sheet1!$R1979","v":0},"-","-","-",{"$f":"IFERROR(Tableau1[[#This Row],[THEO]]-Tableau1[[#This Row],[Qtt 2éme lot]],\"-\")","v":"-"},"-",{"$f":"IF(Tableau1[[#This Row],[2éme lot]]=\"-\",\"-\",IFERROR(IF(Q1979=\"\",\"-\",INDEX(I:I,MATCH(Q1979,C:C,0)+1)),\"-\"))","v":"-"},"-","-"]
[{"$nulls":15},"-",null,{"$f":"SUMIF(Tableau1[Description article],Tableau1[Produits],Tableau1[Emplacement])","v":0},null,{"$f":"Sheet1!$S1980-Sheet1!$R1980","v":0},"-","-","-",{"$f":"IFERROR(Tableau1[[#This Row],[THEO]]-Tableau1[[#This Row],[Qtt 2éme lot]],\"-\")","v":"-"},"-",{"$f":"IF(Tableau1[[#This Row],[2éme lot]]=\"-\",\"-\",IFERROR(IF(Q1980=\"\",\"-\",INDEX(I:I,MATCH(Q1980,C:C,0)+1)),\"-\"))","v":"-"},"-","-"]
[{"$nulls":15},"-",null,{"$f":"SUMIF(Tableau1[Description article],Tableau1[Produits],Tableau1[Emplacement])","v":0},null,{"$f":"Sheet1!$S1981-Sheet1!$R1981","v":0},"-","-","-",{"$f":"IFERROR(Tableau1[[#This Row],[THEO]]-Tableau1[[#This Row],[Qtt 2éme lot]],\"-\")","v":"-"},"-",{"$f":"IF(Tableau1[[#This Row],[2éme lot]]=\"-\",\"-\",IFERROR(IF(Q1981=\"\",\"-\",INDEX(I:I,MATCH(Q1981,C:C,0)+1)),\"-\"))","v":"-"},"-","-"]
[{"$nulls":15},"-",null,{"$f":"SUMIF(Tableau1[Description article],Tableau1[Produits],Tableau1[Emplacement])","v":0},null,{"$f":"Sheet1!$S1982-Sheet1!$R1982","v":0},"-","-","-",{"$f":"IFERROR(Tableau1[[#This Row],[THEO]]-Tableau1[[#This Row],[Qtt 2éme lot]],\"-\")","v":"-"},"-",{"$f":"IF(Tableau1[[#This Row],[2éme lot]]=\"-\",\"-\",IFERROR(IF(Q1982=\"\",\"-\",INDEX(I:I,MATCH(Q1982,C:C,0)+1)),\"-\"))","v":"-"},"-","-"]
[{"$nulls":15},"-",null,{"$f":"SUMIF(Tableau1[Description article],Tableau1[Produits],Tableau1[Emplacement])","v":0},null,{"$f":"Sheet1!$S1983-Sheet1!$R1983","v":0},"-","-","-",{"$f":"IFERROR(Tableau1[[#This Row],[THEO]]-Tableau1[[#This Row],[Qtt 2éme lot]],\"-\")","v":"-"},"-",{"$f":"IF(Tableau1[[#This Row],[2éme lot]]=\"-\",\"-\",IFERROR(IF(Q1983=\"\",\"-\",INDEX(I:I,MATCH(Q1983,C:C,0)+1)),\"-\"))","v":"-"},"-","-"]
[{"$nulls":15},"-",null,{"$f":"SUMIF(Tableau1[Description article],Tableau1[Produits],Tableau1[Emplacement])","v":0},null,{"$f":"Sheet1!$S1984-Sheet1!$R1984","v":0},"-","-","-",{"$f":"IFERROR(Tableau1[[#This Row],[THEO]]-Tableau1[[#This Row],[Qtt 2éme lot]],\"-\")","v":"-"},"-",{"$f":"IF(Tableau1[[#This Row],[2éme lot]]=\"-\",\"-\",IFERROR(IF(Q1984=\"\",\"-\",INDEX(I:I,MATCH(Q1984,C:C,0)+1)),\"-\"))","v":"-"},"-","-"]
[{"$nulls":15},"-",null,{"$f":"SUMIF(Tableau1[Description article],Tableau1[Produits],Tableau1[Emplacement])","v":0},null,{"$f":"Sheet1!$S1985-Sheet1!$R1985","v":0},"-","-","-",{"$f":"IFERROR(Tableau1[[#This Row],[THEO]]-Tableau1[[#This Row],[Qtt 2éme lot]],\"-\")","v":"-"},"-",{"$f":"IF(Tableau1[[#This Row],[2éme lot]]=\"-\",\"-\",IFERROR(IF(Q1985=\"\",\"-\",INDEX(I:I,MATCH(Q1985,C:C,0)+1)),\"-\"))","v":"-"},"-","-"]
[{"$nulls":15},{"$f":"IFERROR(IF(Q1986=\"\",\"-\",INDEX(I:I,MATCH(Q1986,C:C,0))),\"-\")","v":"-"},null,{"$f":"SUMIF(Tableau1[Description article],Tableau1[Produits],Tableau1[Emplacement])","v":0},null,{"$f":"Sheet1!$S1986-Sheet1!$R1986","v":0},{"$f":"IFERROR(IF(Q1986=\"\",\"-\",INDEX(F:F,MATCH(Q1986,C:C,0))),\"-\")","v":"-"},{"$f":"IFERROR(IF(Q1986=\"\",\"-\",INDEX(E:E,MATCH(Q1986,C:C,0))),\"-\")","v":"-"},{"$f":"IFERROR(IF(Q1986=\"\",\"-\",INDEX(N:N,MATCH(Q1986,C:C,0))),\"-\")","v":"-"},{"$f":"IFERROR(Tableau1[[#This Row],[THEO]]-Tableau1[[#This Row],[Qtt 2éme lot]],\"-\")","v":"-"},{"$f":"IF(IF(Q1986=\"\",\"-\",INDEX(E:E,MATCH(Q1986,C:C,0)))=IF(Q1986=\"\",\"-\",INDEX(E:E,MATCH(Q1986,C:C,1))),\"-\",IF(Q1986=\"\",\"-\",INDEX(E:E,MATCH(Q1986,C:C,1))))","v":"-"},{"$f":"IF(Tableau1[[#This Row],[2éme lot]]=\"-\",\"-\",IFERROR(IF(Q1986=\"\",\"-\",INDEX(I:I,MATCH(Q1986,C:C,0)+1)),\"-\"))","v":"-"},{"$f":"IFERROR(IF(Y1986=\"\",\"-\",INDEX(N:N,MATCH(Y1986,E:E,0))),\"-\")","v":"-"},{"$f":"IFERROR(IF(AA1986=\"\",\"-\",INDEX(H:H,MATCH(Y1986,E:E,0))),\"-\")","v":"-"}]
[{"$nulls":15},"-",null,{"$f":"SUMIF(Tableau1[Description article],Tableau1[Produits],Tableau1[Emplacement])","v":0},null,{"$f":"Sheet1!$S1987-Sheet1!$R1987","v":0},"-","-","-",{"$f":"IFERROR(Tableau1[[#This Row],[THEO]]-Tableau1[[#This Row],[Qtt 2éme lot]],\"-\")","v":"-"},"-",{"$f":"IF(Tableau1[[#This Row],[2éme lot]]=\"-\",\"-\",IFERROR(IF(Q1987=\"\",\"-\",INDEX(I:I,MATCH(Q1987,C:C,0)+1)),\"-\"))","v":"-"},"-","-"]
[{"$nulls":15},"-",null,{"$f":"SUMIF(Tableau1[Description article],Tableau1[Produits],Tableau1[Emplacement])","v":0},null,{"$f":"Sheet1!$S1988-Sheet1!$R1988","v":0},"-","-","-",{"$f":"IFERROR(Tableau1[[#This Row],[THEO]]-Tableau1[[#This Row],[Qtt 2éme lot]],\"-\")","v":"-"},"-",{"$f":"IF(Tableau1[[#This Row],[2éme lot]]=\"-\",\"-\",IFERROR(IF(Q1988=\"\",\"-\",INDEX(I:I,MATCH(Q1988,C:C,0)+1)),\"-\"))","v":"-"},"-","-"]
[{"$nulls":15},"-",null,{"$f":"SUMIF(Tableau1[Description article],Tableau1[Produits],Tableau1[Emplacement])","v":0},null,{"$f":"Sheet1!$S1989-Sheet1!$R1989","v":0},"-","-","-",{"$f":"IFERROR(Tableau1[[#This Row],[THEO]]-Tableau1[[#This Row],[Qtt 2éme lot]],\"-\")","v":"-"},"-",{"$f":"IF(Tableau1[[#This Row],[2éme lot]]=\"-\",\"-\",IFERROR(IF(Q1989=\"\",\"-\",INDEX(I:I,MATCH(Q1989,C:C,0)+1)),\"-\"))","v":"-"},"-","-"]
[{"$nulls":15},"-",null,{"$f":"SUMIF(Tableau1[Description article],Tableau1[Produits],Tableau1[Emplacement])","v":0},null,{"$f":"Sheet1!$S1990-Sheet1!$R1990","v":0},"-","-","-",{"$f":"IFERROR(Tableau1[[#This Row],[THEO]]-Tableau1[[#This Row],[Qtt 2éme lot]],\"-\")","v":"-"},"-",{"$f":"IF(Tableau1[[#This Row],[2éme lot]]=\"-\",\"-\",IFERROR(IF(Q1990=\"\",\"-\",INDEX(I:I,MATCH(Q1990,C:C,0)+1)),\"-\"))","v":"-"},"-","-"]
[{"$nulls":15},"-",null,{"$f":"SUMIF(Tableau1[Description article],Tableau1[Produits],Tableau1[Emplacement])","v":0},null,{"$f":"Sheet1!$S1991-Sheet1!$R1991","v":0},"-","-","-",{"$f":"IFERROR(Tableau1[[#This Row],[THEO]]-Tableau1[[#This Row],[Qtt 2éme lot]],\"-\")","v":"-"},"-",{"$f":"IF(Tableau1[[#This Row],[2éme lot]]=\"-\",\"-\",IFERROR(IF(Q1991=\"\",\"-\",INDEX(I:I,MATCH(Q1991,C:C,0)+1)),\"-\"))","v":"-"},"-","-"]
[{"$nulls":15},"-",null,{"$f":"SUMIF(Tableau1[Description article],Tableau1[Produits],Tableau1[Emplacement])","v":0},null,{"$f":"Sheet1!$S1992-Sheet1!$R1992","v":0},"-","-","-",{"$f":"IFERROR(Tableau1[[#This Row],[THEO]]-Tableau1[[#This Row],[Qtt 2éme lot]],\"-\")","v":"-"},"-",{"$f":"IF(Tableau1[[#This Row],[2éme lot]]=\"-\",\"-\",IFERROR(IF(Q1992=\"\",\"-\",INDEX(I:I,MATCH(Q1992,C:C,0)+1)),\"-\"))","v":"-"},"-","-"]
[{"$nulls":15},"-",null,{"$f":"SUMIF(Tableau1[Description article],Tableau1[Produits],Tableau1[Emplacement])","v":0},null,{"$f":"Sheet1!$S1993-Sheet1!$R1993","v":0},"-","-","-",{"$f":"IFERROR(Tableau1[[#This Row],[THEO]]-Tableau1[[#This Row],[Qtt 2éme lot]],\"-\")","v":"-"},"-",{"$f":"IF(Tableau1[[#This Row],[2éme lot]]=\"-\",\"-\",IFERROR(IF(Q1993=\"\",\"-\",INDEX(I:I,MATCH(Q1993,C:C,0)+1)),\"-\"))","v":"-"},"-","-"]
[{"$nulls":15},"-",null,{"$f":"SUMIF(Tableau1[Description article],Tableau1[Produits],Tableau1[Emplacement])","v":0},null,{"$f":"Sheet1!$S1994-Sheet1!$R1994","v":0},"-","-","-",{"$f":"IFERROR(Tableau1[[#This Row],[THEO]]-Tableau1[[#This Row],[Qtt 2éme lot]],\"-\")","v":"-"},"-",{"$f":"IF(Tableau1[[#This Row],[2éme lot]]=\"-\",\"-\",IFERROR(IF(Q1994=\"\",\"-\",INDEX(I:I,MATCH(Q1994,C:C,0)+1)),\"-\"))","v":"-"},"-","-"]
[{"$nulls":15},"-",null,{"$f":"SUMIF(Tableau1[Description article],Tableau1[Produits],Tableau1[Emplacement])","v":0},null,{"$f":"Sheet1!$S1995-Sheet1!$R1995","v":0},"-","-","-",{"$f":"IFERROR(Tableau1[[#This Row],[THEO]]-Tableau1[[#This Row],[Qtt 2éme lot]],\"-\")","v":"-"},"-",{"$f":"IF(Tableau1[[#This Row],[2éme lot]]=\"-\",\"-\",IFERROR(IF(Q1995=\"\",\"-\",INDEX(I:I,MATCH(Q1995,C:C,0)+1)),\"-\"))","v":"-"},"-","-"]
[{"$nulls":15},"-",null,{"$f":"SUMIF(Tableau1[Description article],Tableau1[Produits],Tableau1[Emplacement])","v":0},null,{"$f":"Sheet1!$S1996-Sheet1!$R1996","v":0},"-","-","-",{"$f":"IFERROR(Tableau1[[#This Row],[THEO]]-Tableau1[[#This Row],[Qtt 2éme lot]],\"-\")","v":"-"},"-",{"$f":"IF(Tableau1[[#This Row],[2éme lot]]=\"-\",\"-\",IFERROR(IF(Q1996=\"\",\"-\",INDEX(I:I,MATCH(Q1996,C:C,0)+1)),\"-\"))","v":"-"},"-","-"]
[{"$nulls":15},"-",null,{"$f":"SUMIF(Tableau1[Description article],Tableau1[Produits],Tableau1[Emplacement])","v":0},null,{"$f":"Sheet1!$S1997-Sheet1!$R1997","v":0},"-","-","-",{"$f":"IFERROR(Tableau1[[#This Row],[THEO]]-Tableau1[[#This Row],[Qtt 2éme lot]],\"-\")","v":"-"},"-",{"$f":"IF(Tableau1[[#This Row],[2éme lot]]=\"-\",\"-\",IFERROR(IF(Q1997=\"\",\"-\",INDEX(I:I,MATCH(Q1997,C:C,0)+1)),\"-\"))","v":"-"},"-","-"]
[{"$nulls":15},"-",null,{"$f":"SUMIF(Tableau1[Description article],Tableau1[Produits],Tableau1[Emplacement])","v":0},null,{"$f":"Sheet1!$S1998-Sheet1!$R1998","v":0},"-","-","-",{"$f":"IFERROR(Tableau1[[#This Row],[THEO]]-Tableau1[[#This Row],[Qtt 2éme lot]],\"-\")","v":"-"},"-",{"$f":"IF(Tableau1[[#This Row],[2éme lot]]=\"-\",\"-\",IFERROR(IF(Q1998=\"\",\"-\",INDEX(I:I,MATCH(Q1998,C:C,0)+1)),\"-\"))","v":"-"},"-","-"]
[{"$nulls":15},"-",null,{"$f":"SUMIF(Tableau1[Description article],Tableau1[Produits],Tableau1[Emplacement])","v":0},null,{"$f":"Sheet1!$S1999-Sheet1!$R1999","v":0},"-","-","-",{"$f":"IFERROR(Tableau1[[#This Row],[THEO]]-Tableau1[[#This Row],[Qtt 2éme lot]],\"-\")","v":"-"},"-",{"$f":"IF(Tableau1[[#This Row],[2éme lot]]=\"-\",\"-\",IFERROR(IF(Q1999=\"\",\"-\",INDEX(I:I,MATCH(Q1999,C:C,0)+1)),\"-\"))","v":"-"},"-","-"]
[{"$nulls":15},"-",null,{"$f":"SUMIF(Tableau1[Description article],Tableau1[Produits],Tableau1[Emplacement])","v":0},null,{"$f":"Sheet1!$S2000-Sheet1!$R2000","v":0},"-","-","-",{"$f":"IFERROR(Tableau1[[#This Row],[THEO]]-Tableau1[[#This Row],[Qtt 2éme lot]],\"-\")","v":"-"},"-",{"$f":"IF(Tableau1[[#This Row],[2éme lot]]=\"-\",\"-\",IFERROR(IF(Q2000=\"\",\"-\",INDEX(I:I,MATCH(Q2000,C:C,0)+1)),\"-\"))","v":"-"},"-","-"]
[{"$nulls":15},"-",null,{"$f":"SUMIF(Tableau1[Description article],Tableau1[Produits],Tableau1[Emplacement])","v":0},null,{"$f":"Sheet1!$S2001-Sheet1!$R2001","v":0},"-","-","-",{"$f":"IFERROR(Tableau1[[#This Row],[THEO]]-Tableau1[[#This Row],[Qtt 2éme lot]],\"-\")","v":"-"},"-",{"$f":"IF(Tableau1[[#This Row],[2éme lot]]=\"-\",\"-\",IFERROR(IF(Q2001=\"\",\"-\",INDEX(I:I,MATCH(Q2001,C:C,0)+1)),\"-\"))","v":"-"},"-","-"]
[{"$nulls":15},"-",null,{"$f":"SUMIF(Tableau1[Description article],Tableau1[Produits],Tableau1[Emplacement])","v":0},null,{"$f":"Sheet1!$S2002-Sheet1!$R2002","v":0},"-","-","-",{"$f":"IFERROR(Tableau1[[#This Row],[THEO]]-Tableau1[[#This Row],[Qtt 2éme lot]],\"-\")","v":"-"},"-",{"$f":"IF(Tableau1[[#This Row],[2éme lot]]=\"-\",\"-\",IFERROR(IF(Q2002=\"\",\"-\",INDEX(I:I,MATCH(Q2002,C:C,0)+1)),\"-\"))","v":"-"},"-","-"]
[{"$nulls":15},"-",null,{"$f":"SUMIF(Tableau1[Description article],Tableau1[Produits],Tableau1[Emplacement])","v":0},null,{"$f":"Sheet1!$S2003-Sheet1!$R2003","v":0},"-","-","-",{"$f":"IFERROR(Tableau1[[#This Row],[THEO]]-Tableau1[[#This Row],[Qtt 2éme lot]],\"-\")","v":"-"},"-",{"$f":"IF(Tableau1[[#This Row],[2éme lot]]=\"-\",\"-\",IFERROR(IF(Q2003=\"\",\"-\",INDEX(I:I,MATCH(Q2003,C:C,0)+1)),\"-\"))","v":"-"},"-","-"]
[{"$nulls":15},"-",null,{"$f":"SUMIF(Tableau1[Description article],Tableau1[Produits],Tableau1[Emplacement])","v":0},null,{"$f":"Sheet1!$S2004-Sheet1!$R2004","v":0},"-","-","-",{"$f":"IFERROR(Tableau1[[#This Row],[THEO]]-Tableau1[[#This Row],[Qtt 2éme lot]],\"-\")","v":"-"},"-",{"$f":"IF(Tableau1[[#This Row],[2éme lot]]=\"-\",\"-\",IFERROR(IF(Q2004=\"\",\"-\",INDEX(I:I,MATCH(Q2004,C:C,0)+1)),\"-\"))","v":"-"},"-","-"]
[{"$nulls":15},"-",null,{"$f":"SUMIF(Tableau1[Description article],Tableau1[Produits],Tableau1[Emplacement])","v":0},null,{"$f":"Sheet1!$S2005-Sheet1!$R2005","v":0},"-","-","-",{"$f":"IFERROR(Tableau1[[#This Row],[THEO]]-Tableau1[[#This Row],[Qtt 2éme lot]],\"-\")","v":"-"},"-",{"$f":"IF(Tableau1[[#This Row],[2éme lot]]=\"-\",\"-\",IFERROR(IF(Q2005=\"\",\"-\",INDEX(I:I,MATCH(Q2005,C:C,0)+1)),\"-\"))","v":"-"},"-","-"]
[{"$nulls":15},"-",null,{"$f":"SUMIF(Tableau1[Description article],Tableau1[Produits],Tableau1[Emplacement])","v":0},null,{"$f":"Sheet1!$S2006-Sheet1!$R2006","v":0},"-","-","-",{"$f":"IFERROR(Tableau1[[#This Row],[THEO]]-Tableau1[[#This Row],[Qtt 2éme lot]],\"-\")","v":"-"},"-",{"$f":"IF(Tableau1[[#This Row],[2éme lot]]=\"-\",\"-\",IFERROR(IF(Q2006=\"\",\"-\",INDEX(I:I,MATCH(Q2006,C:C,0)+1)),\"-\"))","v":"-"},"-","-"]
[{"$nulls":15},"-",null,{"$f":"SUMIF(Tableau1[Description article],Tableau1[Produits],Tableau1[Emplacement])","v":0},null,{"$f":"Sheet1!$S2007-Sheet1!$R2007","v":0},"-","-","-",{"$f":"IFERROR(Tableau1[[#This Row],[THEO]]-Tableau1[[#This Row],[Qtt 2éme lot]],\"-\")","v":"-"},"-",{"$f":"IF(Tableau1[[#This Row],[2éme lot]]=\"-\",\"-\",IFERROR(IF(Q2007=\"\",\"-\",INDEX(I:I,MATCH(Q2007,C:C,0)+1)),\"-\"))","v":"-"},"-","-"]
[{"$nulls":15},"-",null,{"$f":"SUMIF(Tableau1[Description article],Tableau1[Produits],Tableau1[Emplacement])","v":0},null,{"$f":"Sheet1!$S2008-Sheet1!$R2008","v":0},"-","-","-",{"$f":"IFERROR(Tableau1[[#This Row],[THEO]]-Tableau1[[#This Row],[Qtt 2éme lot]],\"-\")","v":"-"},"-",{"$f":"IF(Tableau1[[#This Row],[2éme lot]]=\"-\",\"-\",IFERROR(IF(Q2008=\"\",\"-\",INDEX(I:I,MATCH(Q2008,C:C,0)+1)),\"-\"))","v":"-"},"-","-"]
[{"$nulls":15},"-",null,{"$f":"SUMIF(Tableau1[Description article],Tableau1[Produits],Tableau1[Emplacement])","v":0},null,{"$f":"Sheet1!$S2009-Sheet1!$R2009","v":0},"-","-","-",{"$f":"IFERROR(Tableau1[[#This Row],[THEO]]-Tableau1[[#This Row],[Qtt 2éme lot]],\"-\")","v":"-"},"-",{"$f":"IF(Tableau1[[#This Row],[2éme lot]]=\"-\",\"-\",IFERROR(IF(Q2009=\"\",\"-\",INDEX(I:I,MATCH(Q2009,C:C,0)+1)),\"-\"))","v":"-"},"-","-"]
[{"$nulls":15},"-",null,{"$f":"SUMIF(Tableau1[Description article],Tableau1[Produits],Tableau1[Emplacement])","v":0},null,{"$f":"Sheet1!$S2010-Sheet1!$R2010","v":0},"-","-","-",{"$f":"IFERROR(Tableau1[[#This Row],[THEO]]-Tableau1[[#This Row],[Qtt 2éme lot]],\"-\")","v":"-"},"-",{"$f":"IF(Tableau1[[#This Row],[2éme lot]]=\"-\",\"-\",IFERROR(IF(Q2010=\"\",\"-\",INDEX(I:I,MATCH(Q2010,C:C,0)+1)),\"-\"))","v":"-"},"-","-"]
[{"$nulls":15},"-",null,{"$f":"SUMIF(Tableau1[Description article],Tableau1[Produits],Tableau1[Emplacement])","v":0},null,{"$f":"Sheet1!$S2011-Sheet1!$R2011","v":0},"-","-","-",{"$f":"IFERROR(Tableau1[[#This Row],[THEO]]-Tableau1[[#This Row],[Qtt 2éme lot]],\"-\")","v":"-"},"-",{"$f":"IF(Tableau1[[#This Row],[2éme lot]]=\"-\",\"-\",IFERROR(IF(Q2011=\"\",\"-\",INDEX(I:I,MATCH(Q2011,C:C,0)+1)),\"-\"))","v":"-"},"-","-"]
[{"$nulls":15},"-",null,{"$f":"SUMIF(Tableau1[Description article],Tableau1[Produits],Tableau1[Emplacement])","v":0},null,{"$f":"Sheet1!$S2012-Sheet1!$R2012","v":0},"-","-","-",{"$f":"IFERROR(Tableau1[[#This Row],[THEO]]-Tableau1[[#This Row],[Qtt 2éme lot]],\"-\")","v":"-"},"-",{"$f":"IF(Tableau1[[#This Row],[2éme lot]]=\"-\",\"-\",IFERROR(IF(Q2012=\"\",\"-\",INDEX(I:I,MATCH(Q2012,C:C,0)+1)),\"-\"))","v":"-"},"-","-"]
[{"$nulls":15},"-",null,{"$f":"SUMIF(Tableau1[Description article],Tableau1[Produits],Tableau1[Emplacement])","v":0},null,{"$f":"Sheet1!$S2013-Sheet1!$R2013","v":0},"-","-","-",{"$f":"IFERROR(Tableau1[[#This Row],[THEO]]-Tableau1[[#This Row],[Qtt 2éme lot]],\"-\")","v":"-"},"-",{"$f":"IF(Tableau1[[#This Row],[2éme lot]]=\"-\",\"-\",IFERROR(IF(Q2013=\"\",\"-\",INDEX(I:I,MATCH(Q2013,C:C,0)+1)),\"-\"))","v":"-"},"-","-"]
[{"$nulls":15},"-",null,{"$f":"SUMIF(Tableau1[Description article],Tableau1[Produits],Tableau1[Emplacement])","v":0},null,{"$f":"Sheet1!$S2014-Sheet1!$R2014","v":0},"-","-","-",{"$f":"IFERROR(Tableau1[[#This Row],[THEO]]-Tableau1[[#This Row],[Qtt 2éme lot]],\"-\")","v":"-"},"-",{"$f":"IF(Tableau1[[#This Row],[2éme lot]]=\"-\",\"-\",IFERROR(IF(Q2014=\"\",\"-\",INDEX(I:I,MATCH(Q2014,C:C,0)+1)),\"-\"))","v":"-"},"-","-"]
[{"$nulls":15},"-",null,{"$f":"SUMIF(Tableau1[Description article],Tableau1[Produits],Tableau1[Emplacement])","v":0},null,{"$f":"Sheet1!$S2015-Sheet1!$R2015","v":0},"-","-","-",{"$f":"IFERROR(Tableau1[[#This Row],[THEO]]-Tableau1[[#This Row],[Qtt 2éme lot]],\"-\")","v":"-"},"-",{"$f":"IF(Tableau1[[#This Row],[2éme lot]]=\"-\",\"-\",IFERROR(IF(Q2015=\"\",\"-\",INDEX(I:I,MATCH(Q2015,C:C,0)+1)),\"-\"))","v":"-"},"-","-"]
[{"$nulls":15},"-",null,{"$f":"SUMIF(Tableau1[Description article],Tableau1[Produits],Tableau1[Emplacement])","v":0},null,{"$f":"Sheet1!$S2016-Sheet1!$R2016","v":0},"-","-","-",{"$f":"IFERROR(Tableau1[[#This Row],[THEO]]-Tableau1[[#This Row],[Qtt 2éme lot]],\"-\")","v":"-"},"-",{"$f":"IF(Tableau1[[#This Row],[2éme lot]]=\"-\",\"-\",IFERROR(IF(Q2016=\"\",\"-\",INDEX(I:I,MATCH(Q2016,C:C,0)+1)),\"-\"))","v":"-"},"-","-"]
[{"$nulls":15},"-",null,{"$f":"SUMIF(Tableau1[Description article],Tableau1[Produits],Tableau1[Emplacement])","v":0},null,{"$f":"Sheet1!$S2017-Sheet1!$R2017","v":0},"-","-","-",{"$f":"IFERROR(Tableau1[[#This Row],[THEO]]-Tableau1[[#This Row],[Qtt 2éme lot]],\"-\")","v":"-"},"-",{"$f":"IF(Tableau1[[#This Row],[2éme lot]]=\"-\",\"-\",IFERROR(IF(Q2017=\"\",\"-\",INDEX(I:I,MATCH(Q2017,C:C,0)+1)),\"-\"))","v":"-"},"-","-"]
[{"$nulls":15},"-",null,{"$f":"SUMIF(Tableau1[Description article],Tableau1[Produits],Tableau1[Emplacement])","v":0},null,{"$f":"Sheet1!$S2018-Sheet1!$R2018","v":0},"-","-","-",{"$f":"IFERROR(Tableau1[[#This Row],[THEO]]-Tableau1[[#This Row],[Qtt 2éme lot]],\"-\")","v":"-"},"-",{"$f":"IF(Tableau1[[#This Row],[2éme lot]]=\"-\",\"-\",IFERROR(IF(Q2018=\"\",\"-\",INDEX(I:I,MATCH(Q2018,C:C,0)+1)),\"-\"))","v":"-"},"-","-"]
[{"$nulls":15},"-",null,{"$f":"SUMIF(Tableau1[Description article],Tableau1[Produits],Tableau1[Emplacement])","v":0},null,{"$f":"Sheet1!$S2019-Sheet1!$R2019","v":0},"-","-","-",{"$f":"IFERROR(Tableau1[[#This Row],[THEO]]-Tableau1[[#This Row],[Qtt 2éme lot]],\"-\")","v":"-"},"-",{"$f":"IF(Tableau1[[#This Row],[2éme lot]]=\"-\",\"-\",IFERROR(IF(Q2019=\"\",\"-\",INDEX(I:I,MATCH(Q2019,C:C,0)+1)),\"-\"))","v":"-"},"-","-"]
[{"$nulls":15},"-",null,{"$f":"SUMIF(Tableau1[Description article],Tableau1[Produits],Tableau1[Emplacement])","v":0},null,{"$f":"Sheet1!$S2020-Sheet1!$R2020","v":0},"-","-","-",{"$f":"IFERROR(Tableau1[[#This Row],[THEO]]-Tableau1[[#This Row],[Qtt 2éme lot]],\"-\")","v":"-"},"-",{"$f":"IF(Tableau1[[#This Row],[2éme lot]]=\"-\",\"-\",IFERROR(IF(Q2020=\"\",\"-\",INDEX(I:I,MATCH(Q2020,C:C,0)+1)),\"-\"))","v":"-"},"-","-"]
[{"$nulls":15},"-",null,{"$f":"SUMIF(Tableau1[Description article],Tableau1[Produits],Tableau1[Emplacement])","v":0},null,{"$f":"Sheet1!$S2021-Sheet1!$R2021","v":0},"-","-","-",{"$f":"IFERROR(Tableau1[[#This Row],[THEO]]-Tableau1[[#This Row],[Qtt 2éme lot]],\"-\")","v":"-"},"-",{"$f":"IF(Tableau1[[#This Row],[2éme lot]]=\"-\",\"-\",IFERROR(IF(Q2021=\"\",\"-\",INDEX(I:I,MATCH(Q2021,C:C,0)+1)),\"-\"))","v":"-"},"-","-"]
[{"$nulls":15},"-",null,{"$f":"SUMIF(Tableau1[Description article],Tableau1[Produits],Tableau1[Emplacement])","v":0},null,{"$f":"Sheet1!$S2022-Sheet1!$R2022","v":0},"-","-","-",{"$f":"IFERROR(Tableau1[[#This Row],[THEO]]-Tableau1[[#This Row],[Qtt 2éme lot]],\"-\")","v":"-"},"-",{"$f":"IF(Tableau1[[#This Row],[2éme lot]]=\"-\",\"-\",IFERROR(IF(Q2022=\"\",\"-\",INDEX(I:I,MATCH(Q2022,C:C,0)+1)),\"-\"))","v":"-"},"-","-"]
[{"$nulls":15},"-",null,{"$f":"SUMIF(Tableau1[Description article],Tableau1[Produits],Tableau1[Emplacement])","v":0},null,{"$f":"Sheet1!$S2023-Sheet1!$R2023","v":0},"-","-","-",{"$f":"IFERROR(Tableau1[[#This Row],[THEO]]-Tableau1[[#This Row],[Qtt 2éme lot]],\"-\")","v":"-"},"-",{"$f":"IF(Tableau1[[#This Row],[2éme lot]]=\"-\",\"-\",IFERROR(IF(Q2023=\"\",\"-\",INDEX(I:I,MATCH(Q2023,C:C,0)+1)),\"-\"))","v":"-"},"-","-"]
[{"$nulls":15},"-",null,{"$f":"SUMIF(Tableau1[Description article],Tableau1[Produits],Tableau1[Emplacement])","v":0},null,{"$f":"Sheet1!$S2024-Sheet1!$R2024","v":0},"-","-","-",{"$f":"IFERROR(Tableau1[[#This Row],[THEO]]-Tableau1[[#This Row],[Qtt 2éme lot]],\"-\")","v":"-"},"-",{"$f":"IF(Tableau1[[#This Row],[2éme lot]]=\"-\",\"-\",IFERROR(IF(Q2024=\"\",\"-\",INDEX(I:I,MATCH(Q2024,C:C,0)+1)),\"-\"))","v":"-"},"-","-"]
[{"$nulls":15},"-",null,{"$f":"SUMIF(Tableau1[Description article],Tableau1[Produits],Tableau1[Emplacement])","v":0},null,{"$f":"Sheet1!$S2025-Sheet1!$R2025","v":0},"-","-","-",{"$f":"IFERROR(Tableau1[[#This Row],[THEO]]-Tableau1[[#This Row],[Qtt 2éme lot]],\"-\")","v":"-"},"-",{"$f":"IF(Tableau1[[#This Row],[2éme lot]]=\"-\",\"-\",IFERROR(IF(Q2025=\"\",\"-\",INDEX(I:I,MATCH(Q2025,C:C,0)+1)),\"-\"))","v":"-"},"-","-"]
[{"$nulls":15},"-",null,{"$f":"SUMIF(Tableau1[Description article],Tableau1[Produits],Tableau1[Emplacement])","v":0},null,{"$f":"Sheet1!$S2026-Sheet1!$R2026","v":0},"-","-","-",{"$f":"IFERROR(Tableau1[[#This Row],[THEO]]-Tableau1[[#This Row],[Qtt 2éme lot]],\"-\")","v":"-"},"-",{"$f":"IF(Tableau1[[#This Row],[2éme lot]]=\"-\",\"-\",IFERROR(IF(Q2026=\"\",\"-\",INDEX(I:I,MATCH(Q2026,C:C,0)+1)),\"-\"))","v":"-"},"-","-"]
[{"$nulls":15},"-",null,{"$f":"SUMIF(Tableau1[Description article],Tableau1[Produits],Tableau1[Emplacement])","v":0},null,{"$f":"Sheet1!$S2027-Sheet1!$R2027","v":0},"-","-","-",{"$f":"IFERROR(Tableau1[[#This Row],[THEO]]-Tableau1[[#This Row],[Qtt 2éme lot]],\"-\")","v":"-"},"-",{"$f":"IF(Tableau1[[#This Row],[2éme lot]]=\"-\",\"-\",IFERROR(IF(Q2027=\"\",\"-\",INDEX(I:I,MATCH(Q2027,C:C,0)+1)),\"-\"))","v":"-"},"-","-"]
[{"$nulls":15},"-",null,{"$f":"SUMIF(Tableau1[Description article],Tableau1[Produits],Tableau1[Emplacement])","v":0},null,{"$f":"Sheet1!$S2028-Sheet1!$R2028","v":0},"-","-","-",{"$f":"IFERROR(Tableau1[[#This Row],[THEO]]-Tableau1[[#This Row],[Qtt 2éme lot]],\"-\")","v":"-"},"-",{"$f":"IF(Tableau1[[#This Row],[2éme lot]]=\"-\",\"-\",IFERROR(IF(Q2028=\"\",\"-\",INDEX(I:I,MATCH(Q2028,C:C,0)+1)),\"-\"))","v":"-"},"-","-"]
[{"$nulls":15},"-",null,{"$f":"SUMIF(Tableau1[Description article],Tableau1[Produits],Tableau1[Emplacement])","v":0},null,{"$f":"Sheet1!$S2029-Sheet1!$R2029","v":0},"-","-","-",{"$f":"IFERROR(Tableau1[[#This Row],[THEO]]-Tableau1[[#This Row],[Qtt 2éme lot]],\"-\")","v":"-"},"-",{"$f":"IF(Tableau1[[#This Row],[2éme lot]]=\"-\",\"-\",IFERROR(IF(Q2029=\"\",\"-\",INDEX(I:I,MATCH(Q2029,C:C,0)+1)),\"-\"))","v":"-"},"-","-"]
[{"$nulls":15},"-",null,{"$f":"SUMIF(Tableau1[Description article],Tableau1[Produits],Tableau1[Emplacement])","v":0},null,{"$f":"Sheet1!$S2030-Sheet1!$R2030","v":0},"-","-","-",{"$f":"IFERROR(Tableau1[[#This Row],[THEO]]-Tableau1[[#This Row],[Qtt 2éme lot]],\"-\")","v":"-"},"-",{"$f":"IF(Tableau1[[#This Row],[2éme lot]]=\"-\",\"-\",IFERROR(IF(Q2030=\"\",\"-\",INDEX(I:I,MATCH(Q2030,C:C,0)+1)),\"-\"))","v":"-"},"-","-"]
[{"$nulls":15},"-",null,{"$f":"SUMIF(Tableau1[Description article],Tableau1[Produits],Tableau1[Emplacement])","v":0},null,{"$f":"Sheet1!$S2031-Sheet1!$R2031","v":0},"-","-","-",{"$f":"IFERROR(Tableau1[[#This Row],[THEO]]-Tableau1[[#This Row],[Qtt 2éme lot]],\"-\")","v":"-"},"-",{"$f":"IF(Tableau1[[#This Row],[2éme lot]]=\"-\",\"-\",IFERROR(IF(Q2031=\"\",\"-\",INDEX(I:I,MATCH(Q2031,C:C,0)+1)),\"-\"))","v":"-"},"-","-"]
[{"$nulls":15},"-",null,{"$f":"SUMIF(Tableau1[Description article],Tableau1[Produits],Tableau1[Emplacement])","v":0},null,{"$f":"Sheet1!$S2032-Sheet1!$R2032","v":0},"-","-","-",{"$f":"IFERROR(Tableau1[[#This Row],[THEO]]-Tableau1[[#This Row],[Qtt 2éme lot]],\"-\")","v":"-"},"-",{"$f":"IF(Tableau1[[#This Row],[2éme lot]]=\"-\",\"-\",IFERROR(IF(Q2032=\"\",\"-\",INDEX(I:I,MATCH(Q2032,C:C,0)+1)),\"-\"))","v":"-"},"-","-"]
[{"$nulls":15},"-",null,{"$f":"SUMIF(Tableau1[Description article],Tableau1[Produits],Tableau1[Emplacement])","v":0},null,{"$f":"Sheet1!$S2033-Sheet1!$R2033","v":0},"-","-","-",{"$f":"IFERROR(Tableau1[[#This Row],[THEO]]-Tableau1[[#This Row],[Qtt 2éme lot]],\"-\")","v":"-"},"-",{"$f":"IF(Tableau1[[#This Row],[2éme lot]]=\"-\",\"-\",IFERROR(IF(Q2033=\"\",\"-\",INDEX(I:I,MATCH(Q2033,C:C,0)+1)),\"-\"))","v":"-"},"-","-"]
[{"$nulls":15},"-",null,{"$f":"SUMIF(Tableau1[Description article],Tableau1[Produits],Tableau1[Emplacement])","v":0},null,{"$f":"Sheet1!$S2034-Sheet1!$R2034","v":0},"-","-","-",{"$f":"IFERROR(Tableau1[[#This Row],[THEO]]-Tableau1[[#This Row],[Qtt 2éme lot]],\"-\")","v":"-"},"-",{"$f":"IF(Tableau1[[#This Row],[2éme lot]]=\"-\",\"-\",IFERROR(IF(Q2034=\"\",\"-\",INDEX(I:I,MATCH(Q2034,C:C,0)+1)),\"-\"))","v":"-"},"-","-"]
[{"$nulls":15},"-",null,{"$f":"SUMIF(Tableau1[Description article],Tableau1[Produits],Tableau1[Emplacement])","v":0},null,{"$f":"Sheet1!$S2035-Sheet1!$R2035","v":0},"-","-","-",{"$f":"IFERROR(Tableau1[[#This Row],[THEO]]-Tableau1[[#This Row],[Qtt 2éme lot]],\"-\")","v":"-"},"-",{"$f":"IF(Tableau1[[#This Row],[2éme lot]]=\"-\",\"-\",IFERROR(IF(Q2035=\"\",\"-\",INDEX(I:I,MATCH(Q2035,C:C,0)+1)),\"-\"))","v":"-"},"-","-"]
[{"$nulls":15},"-",null,{"$f":"SUMIF(Tableau1[Description article],Tableau1[Produits],Tableau1[Emplacement])","v":0},null,{"$f":"Sheet1!$S2036-Sheet1!$R2036","v":0},"-","-","-",{"$f":"IFERROR(Tableau1[[#This Row],[THEO]]-Tableau1[[#This Row],[Qtt 2éme lot]],\"-\")","v":"-"},"-",{"$f":"IF(Tableau1[[#This Row],[2éme lot]]=\"-\",\"-\",IFERROR(IF(Q2036=\"\",\"-\",INDEX(I:I,MATCH(Q2036,C:C,0)+1)),\"-\"))","v":"-"},"-","-"]
[{"$nulls":15},"-",null,{"$f":"SUMIF(Tableau1[Description article],Tableau1[Produits],Tableau1[Emplacement])","v":0},null,{"$f":"Sheet1!$S2037-Sheet1!$R2037","v":0},"-","-","-",{"$f":"IFERROR(Tableau1[[#This Row],[THEO]]-Tableau1[[#This Row],[Qtt 2éme lot]],\"-\")","v":"-"},"-",{"$f":"IF(Tableau1[[#This Row],[2éme lot]]=\"-\",\"-\",IFERROR(IF(Q2037=\"\",\"-\",INDEX(I:I,MATCH(Q2037,C:C,0)+1)),\"-\"))","v":"-"},"-","-"]
[{"$nulls":15},"-",null,{"$f":"SUMIF(Tableau1[Description article],Tableau1[Produits],Tableau1[Emplacement])","v":0},null,{"$f":"Sheet1!$S2038-Sheet1!$R2038","v":0},"-","-","-",{"$f":"IFERROR(Tableau1[[#This Row],[THEO]]-Tableau1[[#This Row],[Qtt 2éme lot]],\"-\")","v":"-"},"-",{"$f":"IF(Tableau1[[#This Row],[2éme lot]]=\"-\",\"-\",IFERROR(IF(Q2038=\"\",\"-\",INDEX(I:I,MATCH(Q2038,C:C,0)+1)),\"-\"))","v":"-"},"-","-"]
[{"$nulls":15},"-",null,{"$f":"SUMIF(Tableau1[Description article],Tableau1[Produits],Tableau1[Emplacement])","v":0},null,{"$f":"Sheet1!$S2039-Sheet1!$R2039","v":0},"-","-","-",{"$f":"IFERROR(Tableau1[[#This Row],[THEO]]-Tableau1[[#This Row],[Qtt 2éme lot]],\"-\")","v":"-"},"-",{"$f":"IF(Tableau1[[#This Row],[2éme lot]]=\"-\",\"-\",IFERROR(IF(Q2039=\"\",\"-\",INDEX(I:I,MATCH(Q2039,C:C,0)+1)),\"-\"))","v":"-"},"-","-"]
[{"$nulls":15},"-",null,{"$f":"SUMIF(Tableau1[Description article],Tableau1[Produits],Tableau1[Emplacement])","v":0},null,{"$f":"Sheet1!$S2040-Sheet1!$R2040","v":0},"-","-","-",{"$f":"IFERROR(Tableau1[[#This Row],[THEO]]-Tableau1[[#This Row],[Qtt 2éme lot]],\"-\")","v":"-"},"-",{"$f":"IF(Tableau1[[#This Row],[2éme lot]]=\"-\",\"-\",IFERROR(IF(Q2040=\"\",\"-\",INDEX(I:I,MATCH(Q2040,C:C,0)+1)),\"-\"))","v":"-"},"-","-"]
[{"$nulls":15},"-",null,{"$f":"SUMIF(Tableau1[Description article],Tableau1[Produits],Tableau1[Emplacement])","v":0},null,{"$f":"Sheet1!$S2041-Sheet1!$R2041","v":0},"-","-","-",{"$f":"IFERROR(Tableau1[[#This Row],[THEO]]-Tableau1[[#This Row],[Qtt 2éme lot]],\"-\")","v":"-"},"-",{"$f":"IF(Tableau1[[#This Row],[2éme lot]]=\"-\",\"-\",IFERROR(IF(Q2041=\"\",\"-\",INDEX(I:I,MATCH(Q2041,C:C,0)+1)),\"-\"))","v":"-"},"-","-"]
[{"$nulls":15},"-",null,{"$f":"SUMIF(Tableau1[Description article],Tableau1[Produits],Tableau1[Emplacement])","v":0},null,{"$f":"Sheet1!$S2042-Sheet1!$R2042","v":0},"-","-","-",{"$f":"IFERROR(Tableau1[[#This Row],[THEO]]-Tableau1[[#This Row],[Qtt 2éme lot]],\"-\")","v":"-"},"-",{"$f":"IF(Tableau1[[#This Row],[2éme lot]]=\"-\",\"-\",IFERROR(IF(Q2042=\"\",\"-\",INDEX(I:I,MATCH(Q2042,C:C,0)+1)),\"-\"))","v":"-"},"-","-"]
[{"$nulls":15},"-",null,{"$f":"SUMIF(Tableau1[Description article],Tableau1[Produits],Tableau1[Emplacement])","v":0},null,{"$f":"Sheet1!$S2043-Sheet1!$R2043","v":0},"-","-","-",{"$f":"IFERROR(Tableau1[[#This Row],[THEO]]-Tableau1[[#This Row],[Qtt 2éme lot]],\"-\")","v":"-"},"-",{"$f":"IF(Tableau1[[#This Row],[2éme lot]]=\"-\",\"-\",IFERROR(IF(Q2043=\"\",\"-\",INDEX(I:I,MATCH(Q2043,C:C,0)+1)),\"-\"))","v":"-"},"-","-"]
[{"$nulls":15},"-",null,{"$f":"SUMIF(Tableau1[Description article],Tableau1[Produits],Tableau1[Emplacement])","v":0},null,{"$f":"Sheet1!$S2044-Sheet1!$R2044","v":0},"-","-","-",{"$f":"IFERROR(Tableau1[[#This Row],[THEO]]-Tableau1[[#This Row],[Qtt 2éme lot]],\"-\")","v":"-"},"-",{"$f":"IF(Tableau1[[#This Row],[2éme lot]]=\"-\",\"-\",IFERROR(IF(Q2044=\"\",\"-\",INDEX(I:I,MATCH(Q2044,C:C,0)+1)),\"-\"))","v":"-"},"-","-"]
[{"$nulls":15},"-",null,{"$f":"SUMIF(Tableau1[Description article],Tableau1[Produits],Tableau1[Emplacement])","v":0},null,{"$f":"Sheet1!$S2045-Sheet1!$R2045","v":0},"-","-","-",{"$f":"IFERROR(Tableau1[[#This Row],[THEO]]-Tableau1[[#This Row],[Qtt 2éme lot]],\"-\")","v":"-"},"-",{"$f":"IF(Tableau1[[#This Row],[2éme lot]]=\"-\",\"-\",IFERROR(IF(Q2045=\"\",\"-\",INDEX(I:I,MATCH(Q2045,C:C,0)+1)),\"-\"))","v":"-"},"-","-"]
[{"$nulls":15},"-",null,{"$f":"SUMIF(Tableau1[Description article],Tableau1[Produits],Tableau1[Emplacement])","v":0},null,{"$f":"Sheet1!$S2046-Sheet1!$R2046","v":0},"-","-","-",{"$f":"IFERROR(Tableau1[[#This Row],[THEO]]-Tableau1[[#This Row],[Qtt 2éme lot]],\"-\")","v":"-"},"-",{"$f":"IF(Tableau1[[#This Row],[2éme lot]]=\"-\",\"-\",IFERROR(IF(Q2046=\"\",\"-\",INDEX(I:I,MATCH(Q2046,C:C,0)+1)),\"-\"))","v":"-"},"-","-"]
[{"$nulls":15},"-",null,{"$f":"SUMIF(Tableau1[Description article],Tableau1[Produits],Tableau1[Emplacement])","v":0},null,{"$f":"Sheet1!$S2047-Sheet1!$R2047","v":0},"-","-","-",{"$f":"IFERROR(Tableau1[[#This Row],[THEO]]-Tableau1[[#This Row],[Qtt 2éme lot]],\"-\")","v":"-"},"-",{"$f":"IF(Tableau1[[#This Row],[2éme lot]]=\"-\",\"-\",IFERROR(IF(Q2047=\"\",\"-\",INDEX(I:I,MATCH(Q2047,C:C,0)+1)),\"-\"))","v":"-"},"-","-"]
[{"$nulls":15},"-",null,{"$f":"SUMIF(Tableau1[Description article],Tableau1[Produits],Tableau1[Emplacement])","v":0},null,{"$f":"Sheet1!$S2048-Sheet1!$R2048","v":0},"-","-","-",{"$f":"IFERROR(Tableau1[[#This Row],[THEO]]-Tableau1[[#This Row],[Qtt 2éme lot]],\"-\")","v":"-"},"-",{"$f":"IF(Tableau1[[#This Row],[2éme lot]]=\"-\",\"-\",IFERROR(IF(Q2048=\"\",\"-\",INDEX(I:I,MATCH(Q2048,C:C,0)+1)),\"-\"))","v":"-"},"-","-"]
[{"$nulls":15},"-",null,{"$f":"SUMIF(Tableau1[Description article],Tableau1[Produits],Tableau1[Emplacement])","v":0},null,{"$f":"Sheet1!$S2049-Sheet1!$R2049","v":0},"-","-","-",{"$f":"IFERROR(Tableau1[[#This Row],[THEO]]-Tableau1[[#This Row],[Qtt 2éme lot]],\"-\")","v":"-"},"-",{"$f":"IF(Tableau1[[#This Row],[2éme lot]]=\"-\",\"-\",IFERROR(IF(Q2049=\"\",\"-\",INDEX(I:I,MATCH(Q2049,C:C,0)+1)),\"-\"))","v":"-"},"-","-"]
[{"$nulls":15},{"$f":"IFERROR(IF(Q2050=\"\",\"-\",INDEX(I:I,MATCH(Q2050,C:C,0))),\"-\")","v":"-"},null,{"$f":"SUMIF(Tableau1[Description article],Tableau1[Produits],Tableau1[Emplacement])","v":0},null,{"$f":"Sheet1!$S2050-Sheet1!$R2050","v":0},{"$f":"IFERROR(IF(Q2050=\"\",\"-\",INDEX(F:F,MATCH(Q2050,C:C,0))),\"-\")","v":"-"},{"$f":"IFERROR(IF(Q2050=\"\",\"-\",INDEX(E:E,MATCH(Q2050,C:C,0))),\"-\")","v":"-"},{"$f":"IFERROR(IF(Q2050=\"\",\"-\",INDEX(N:N,MATCH(Q2050,C:C,0))),\"-\")","v":"-"},{"$f":"IFERROR(Tableau1[[#This Row],[THEO]]-Tableau1[[#This Row],[Qtt 2éme lot]],\"-\")","v":"-"},{"$f":"IF(IF(Q2050=\"\",\"-\",INDEX(E:E,MATCH(Q2050,C:C,0)))=IF(Q2050=\"\",\"-\",INDEX(E:E,MATCH(Q2050,C:C,1))),\"-\",IF(Q2050=\"\",\"-\",INDEX(E:E,MATCH(Q2050,C:C,1))))","v":"-"},{"$f":"IF(Tableau1[[#This Row],[2éme lot]]=\"-\",\"-\",IFERROR(IF(Q2050=\"\",\"-\",INDEX(I:I,MATCH(Q2050,C:C,0)+1)),\"-\"))","v":"-"},{"$f":"IFERROR(IF(Y2050=\"\",\"-\",INDEX(N:N,MATCH(Y2050,E:E,0))),\"-\")","v":"-"},{"$f":"IFERROR(IF(AA2050=\"\",\"-\",INDEX(H:H,MATCH(Y2050,E:E,0))),\"-\")","v":"-"}]
[{"$nulls":15},"-",null,{"$f":"SUMIF(Tableau1[Description article],Tableau1[Produits],Tableau1[Emplacement])","v":0},null,{"$f":"Sheet1!$S2051-Sheet1!$R2051","v":0},"-","-","-",{"$f":"IFERROR(Tableau1[[#This Row],[THEO]]-Tableau1[[#This Row],[Qtt 2éme lot]],\"-\")","v":"-"},"-",{"$f":"IF(Tableau1[[#This Row],[2éme lot]]=\"-\",\"-\",IFERROR(IF(Q2051=\"\",\"-\",INDEX(I:I,MATCH(Q2051,C:C,0)+1)),\"-\"))","v":"-"},"-","-"]
[{"$nulls":15},"-",null,{"$f":"SUMIF(Tableau1[Description article],Tableau1[Produits],Tableau1[Emplacement])","v":0},null,{"$f":"Sheet1!$S2052-Sheet1!$R2052","v":0},"-","-","-",{"$f":"IFERROR(Tableau1[[#This Row],[THEO]]-Tableau1[[#This Row],[Qtt 2éme lot]],\"-\")","v":"-"},"-",{"$f":"IF(Tableau1[[#This Row],[2éme lot]]=\"-\",\"-\",IFERROR(IF(Q2052=\"\",\"-\",INDEX(I:I,MATCH(Q2052,C:C,0)+1)),\"-\"))","v":"-"},"-","-"]
[{"$nulls":15},"-",null,{"$f":"SUMIF(Tableau1[Description article],Tableau1[Produits],Tableau1[Emplacement])","v":0},null,{"$f":"Sheet1!$S2053-Sheet1!$R2053","v":0},"-","-","-",{"$f":"IFERROR(Tableau1[[#This Row],[THEO]]-Tableau1[[#This Row],[Qtt 2éme lot]],\"-\")","v":"-"},"-",{"$f":"IF(Tableau1[[#This Row],[2éme lot]]=\"-\",\"-\",IFERROR(IF(Q2053=\"\",\"-\",INDEX(I:I,MATCH(Q2053,C:C,0)+1)),\"-\"))","v":"-"},"-","-"]
[{"$nulls":15},"-",null,{"$f":"SUMIF(Tableau1[Description article],Tableau1[Produits],Tableau1[Emplacement])","v":0},null,{"$f":"Sheet1!$S2054-Sheet1!$R2054","v":0},"-","-","-",{"$f":"IFERROR(Tableau1[[#This Row],[THEO]]-Tableau1[[#This Row],[Qtt 2éme lot]],\"-\")","v":"-"},"-",{"$f":"IF(Tableau1[[#This Row],[2éme lot]]=\"-\",\"-\",IFERROR(IF(Q2054=\"\",\"-\",INDEX(I:I,MATCH(Q2054,C:C,0)+1)),\"-\"))","v":"-"},"-","-"]
[{"$nulls":15},"-",null,{"$f":"SUMIF(Tableau1[Description article],Tableau1[Produits],Tableau1[Emplacement])","v":0},null,{"$f":"Sheet1!$S2055-Sheet1!$R2055","v":0},"-","-","-",{"$f":"IFERROR(Tableau1[[#This Row],[THEO]]-Tableau1[[#This Row],[Qtt 2éme lot]],\"-\")","v":"-"},"-",{"$f":"IF(Tableau1[[#This Row],[2éme lot]]=\"-\",\"-\",IFERROR(IF(Q2055=\"\",\"-\",INDEX(I:I,MATCH(Q2055,C:C,0)+1)),\"-\"))","v":"-"},"-","-"]
[{"$nulls":15},"-",null,{"$f":"SUMIF(Tableau1[Description article],Tableau1[Produits],Tableau1[Emplacement])","v":0},null,{"$f":"Sheet1!$S2056-Sheet1!$R2056","v":0},"-","-","-",{"$f":"IFERROR(Tableau1[[#This Row],[THEO]]-Tableau1[[#This Row],[Qtt 2éme lot]],\"-\")","v":"-"},"-",{"$f":"IF(Tableau1[[#This Row],[2éme lot]]=\"-\",\"-\",IFERROR(IF(Q2056=\"\",\"-\",INDEX(I:I,MATCH(Q2056,C:C,0)+1)),\"-\"))","v":"-"},"-","-"]
[{"$nulls":15},"-",null,{"$f":"SUMIF(Tableau1[Description article],Tableau1[Produits],Tableau1[Emplacement])","v":0},null,{"$f":"Sheet1!$S2057-Sheet1!$R2057","v":0},"-","-","-",{"$f":"IFERROR(Tableau1[[#This Row],[THEO]]-Tableau1[[#This Row],[Qtt 2éme lot]],\"-\")","v":"-"},"-",{"$f":"IF(Tableau1[[#This Row],[2éme lot]]=\"-\",\"-\",IFERROR(IF(Q2057=\"\",\"-\",INDEX(I:I,MATCH(Q2057,C:C,0)+1)),\"-\"))","v":"-"},"-","-"]
[{"$nulls":15},"-",null,{"$f":"SUMIF(Tableau1[Description article],Tableau1[Produits],Tableau1[Emplacement])","v":0},null,{"$f":"Sheet1!$S2058-Sheet1!$R2058","v":0},"-","-","-",{"$f":"IFERROR(Tableau1[[#This Row],[THEO]]-Tableau1[[#This Row],[Qtt 2éme lot]],\"-\")","v":"-"},"-",{"$f":"IF(Tableau1[[#This Row],[2éme lot]]=\"-\",\"-\",IFERROR(IF(Q2058=\"\",\"-\",INDEX(I:I,MATCH(Q2058,C:C,0)+1)),\"-\"))","v":"-"},"-","-"]
[{"$nulls":15},"-",null,{"$f":"SUMIF(Tableau1[Description article],Tableau1[Produits],Tableau1[Emplacement])","v":0},null,{"$f":"Sheet1!$S2059-Sheet1!$R2059","v":0},"-","-","-",{"$f":"IFERROR(Tableau1[[#This Row],[THEO]]-Tableau1[[#This Row],[Qtt 2éme lot]],\"-\")","v":"-"},"-",{"$f":"IF(Tableau1[[#This Row],[2éme lot]]=\"-\",\"-\",IFERROR(IF(Q2059=\"\",\"-\",INDEX(I:I,MATCH(Q2059,C:C,0)+1)),\"-\"))","v":"-"},"-","-"]
[{"$nulls":15},"-",null,{"$f":"SUMIF(Tableau1[Description article],Tableau1[Produits],Tableau1[Emplacement])","v":0},null,{"$f":"Sheet1!$S2060-Sheet1!$R2060","v":0},"-","-","-",{"$f":"IFERROR(Tableau1[[#This Row],[THEO]]-Tableau1[[#This Row],[Qtt 2éme lot]],\"-\")","v":"-"},"-",{"$f":"IF(Tableau1[[#This Row],[2éme lot]]=\"-\",\"-\",IFERROR(IF(Q2060=\"\",\"-\",INDEX(I:I,MATCH(Q2060,C:C,0)+1)),\"-\"))","v":"-"},"-","-"]
[{"$nulls":15},"-",null,{"$f":"SUMIF(Tableau1[Description article],Tableau1[Produits],Tableau1[Emplacement])","v":0},null,{"$f":"Sheet1!$S2061-Sheet1!$R2061","v":0},"-","-","-",{"$f":"IFERROR(Tableau1[[#This Row],[THEO]]-Tableau1[[#This Row],[Qtt 2éme lot]],\"-\")","v":"-"},"-",{"$f":"IF(Tableau1[[#This Row],[2éme lot]]=\"-\",\"-\",IFERROR(IF(Q2061=\"\",\"-\",INDEX(I:I,MATCH(Q2061,C:C,0)+1)),\"-\"))","v":"-"},"-","-"]
[{"$nulls":15},"-",null,{"$f":"SUMIF(Tableau1[Description article],Tableau1[Produits],Tableau1[Emplacement])","v":0},null,{"$f":"Sheet1!$S2062-Sheet1!$R2062","v":0},"-","-","-",{"$f":"IFERROR(Tableau1[[#This Row],[THEO]]-Tableau1[[#This Row],[Qtt 2éme lot]],\"-\")","v":"-"},"-",{"$f":"IF(Tableau1[[#This Row],[2éme lot]]=\"-\",\"-\",IFERROR(IF(Q2062=\"\",\"-\",INDEX(I:I,MATCH(Q2062,C:C,0)+1)),\"-\"))","v":"-"},"-","-"]
[{"$nulls":15},"-",null,{"$f":"SUMIF(Tableau1[Description article],Tableau1[Produits],Tableau1[Emplacement])","v":0},null,{"$f":"Sheet1!$S2063-Sheet1!$R2063","v":0},"-","-","-",{"$f":"IFERROR(Tableau1[[#This Row],[THEO]]-Tableau1[[#This Row],[Qtt 2éme lot]],\"-\")","v":"-"},"-",{"$f":"IF(Tableau1[[#This Row],[2éme lot]]=\"-\",\"-\",IFERROR(IF(Q2063=\"\",\"-\",INDEX(I:I,MATCH(Q2063,C:C,0)+1)),\"-\"))","v":"-"},"-","-"]
[{"$nulls":15},"-",null,{"$f":"SUMIF(Tableau1[Description article],Tableau1[Produits],Tableau1[Emplacement])","v":0},null,{"$f":"Sheet1!$S2064-Sheet1!$R2064","v":0},"-","-","-",{"$f":"IFERROR(Tableau1[[#This Row],[THEO]]-Tableau1[[#This Row],[Qtt 2éme lot]],\"-\")","v":"-"},"-",{"$f":"IF(Tableau1[[#This Row],[2éme lot]]=\"-\",\"-\",IFERROR(IF(Q2064=\"\",\"-\",INDEX(I:I,MATCH(Q2064,C:C,0)+1)),\"-\"))","v":"-"},"-","-"]
[{"$nulls":15},"-",null,{"$f":"SUMIF(Tableau1[Description article],Tableau1[Produits],Tableau1[Emplacement])","v":0},null,{"$f":"Sheet1!$S2065-Sheet1!$R2065","v":0},"-","-","-",{"$f":"IFERROR(Tableau1[[#This Row],[THEO]]-Tableau1[[#This Row],[Qtt 2éme lot]],\"-\")","v":"-"},"-",{"$f":"IF(Tableau1[[#This Row],[2éme lot]]=\"-\",\"-\",IFERROR(IF(Q2065=\"\",\"-\",INDEX(I:I,MATCH(Q2065,C:C,0)+1)),\"-\"))","v":"-"},"-","-"]
[{"$nulls":15},"-",null,{"$f":"SUMIF(Tableau1[Description article],Tableau1[Produits],Tableau1[Emplacement])","v":0},null,{"$f":"Sheet1!$S2066-Sheet1!$R2066","v":0},"-","-","-",{"$f":"IFERROR(Tableau1[[#This Row],[THEO]]-Tableau1[[#This Row],[Qtt 2éme lot]],\"-\")","v":"-"},"-",{"$f":"IF(Tableau1[[#This Row],[2éme lot]]=\"-\",\"-\",IFERROR(IF(Q2066=\"\",\"-\",INDEX(I:I,MATCH(Q2066,C:C,0)+1)),\"-\"))","v":"-"},"-","-"]
[{"$nulls":15},"-",null,{"$f":"SUMIF(Tableau1[Description article],Tableau1[Produits],Tableau1[Emplacement])","v":0},null,{"$f":"Sheet1!$S2067-Sheet1!$R2067","v":0},"-","-","-",{"$f":"IFERROR(Tableau1[[#This Row],[THEO]]-Tableau1[[#This Row],[Qtt 2éme lot]],\"-\")","v":"-"},"-",{"$f":"IF(Tableau1[[#This Row],[2éme lot]]=\"-\",\"-\",IFERROR(IF(Q2067=\"\",\"-\",INDEX(I:I,MATCH(Q2067,C:C,0)+1)),\"-\"))","v":"-"},"-","-"]
[{"$nulls":15},"-",null,{"$f":"SUMIF(Tableau1[Description article],Tableau1[Produits],Tableau1[Emplacement])","v":0},null,{"$f":"Sheet1!$S2068-Sheet1!$R2068","v":0},"-","-","-",{"$f":"IFERROR(Tableau1[[#This Row],[THEO]]-Tableau1[[#This Row],[Qtt 2éme lot]],\"-\")","v":"-"},"-",{"$f":"IF(Tableau1[[#This Row],[2éme lot]]=\"-\",\"-\",IFERROR(IF(Q2068=\"\",\"-\",INDEX(I:I,MATCH(Q2068,C:C,0)+1)),\"-\"))","v":"-"},"-","-"]
[{"$nulls":15},"-",null,{"$f":"SUMIF(Tableau1[Description article],Tableau1[Produits],Tableau1[Emplacement])","v":0},null,{"$f":"Sheet1!$S2069-Sheet1!$R2069","v":0},"-","-","-",{"$f":"IFERROR(Tableau1[[#This Row],[THEO]]-Tableau1[[#This Row],[Qtt 2éme lot]],\"-\")","v":"-"},"-",{"$f":"IF(Tableau1[[#This Row],[2éme lot]]=\"-\",\"-\",IFERROR(IF(Q2069=\"\",\"-\",INDEX(I:I,MATCH(Q2069,C:C,0)+1)),\"-\"))","v":"-"},"-","-"]
[{"$nulls":15},"-",null,{"$f":"SUMIF(Tableau1[Description article],Tableau1[Produits],Tableau1[Emplacement])","v":0},null,{"$f":"Sheet1!$S2070-Sheet1!$R2070","v":0},"-","-","-",{"$f":"IFERROR(Tableau1[[#This Row],[THEO]]-Tableau1[[#This Row],[Qtt 2éme lot]],\"-\")","v":"-"},"-",{"$f":"IF(Tableau1[[#This Row],[2éme lot]]=\"-\",\"-\",IFERROR(IF(Q2070=\"\",\"-\",INDEX(I:I,MATCH(Q2070,C:C,0)+1)),\"-\"))","v":"-"},"-","-"]
[{"$nulls":15},"-",null,{"$f":"SUMIF(Tableau1[Description article],Tableau1[Produits],Tableau1[Emplacement])","v":0},null,{"$f":"Sheet1!$S2071-Sheet1!$R2071","v":0},"-","-","-",{"$f":"IFERROR(Tableau1[[#This Row],[THEO]]-Tableau1[[#This Row],[Qtt 2éme lot]],\"-\")","v":"-"},"-",{"$f":"IF(Tableau1[[#This Row],[2éme lot]]=\"-\",\"-\",IFERROR(IF(Q2071=\"\",\"-\",INDEX(I:I,MATCH(Q2071,C:C,0)+1)),\"-\"))","v":"-"},"-","-"]
[{"$nulls":15},"-",null,{"$f":"SUMIF(Tableau1[Description article],Tableau1[Produits],Tableau1[Emplacement])","v":0},null,{"$f":"Sheet1!$S2072-Sheet1!$R2072","v":0},"-","-","-",{"$f":"IFERROR(Tableau1[[#This Row],[THEO]]-Tableau1[[#This Row],[Qtt 2éme lot]],\"-\")","v":"-"},"-",{"$f":"IF(Tableau1[[#This Row],[2éme lot]]=\"-\",\"-\",IFERROR(IF(Q2072=\"\",\"-\",INDEX(I:I,MATCH(Q2072,C:C,0)+1)),\"-\"))","v":"-"},"-","-"]
[{"$nulls":15},"-",null,{"$f":"SUMIF(Tableau1[Description article],Tableau1[Produits],Tableau1[Emplacement])","v":0},null,{"$f":"Sheet1!$S2073-Sheet1!$R2073","v":0},"-","-","-",{"$f":"IFERROR(Tableau1[[#This Row],[THEO]]-Tableau1[[#This Row],[Qtt 2éme lot]],\"-\")","v":"-"},"-",{"$f":"IF(Tableau1[[#This Row],[2éme lot]]=\"-\",\"-\",IFERROR(IF(Q2073=\"\",\"-\",INDEX(I:I,MATCH(Q2073,C:C,0)+1)),\"-\"))","v":"-"},"-","-"]
[{"$nulls":15},"-",null,{"$f":"SUMIF(Tableau1[Description article],Tableau1[Produits],Tableau1[Emplacement])","v":0},null,{"$f":"Sheet1!$S2074-Sheet1!$R2074","v":0},"-","-","-",{"$f":"IFERROR(Tableau1[[#This Row],[THEO]]-Tableau1[[#This Row],[Qtt 2éme lot]],\"-\")","v":"-"},"-",{"$f":"IF(Tableau1[[#This Row],[2éme lot]]=\"-\",\"-\",IFERROR(IF(Q2074=\"\",\"-\",INDEX(I:I,MATCH(Q2074,C:C,0)+1)),\"-\"))","v":"-"},"-","-"]
[{"$nulls":15},"-",null,{"$f":"SUMIF(Tableau1[Description article],Tableau1[Produits],Tableau1[Emplacement])","v":0},null,{"$f":"Sheet1!$S2075-Sheet1!$R2075","v":0},"-","-","-",{"$f":"IFERROR(Tableau1[[#This Row],[THEO]]-Tableau1[[#This Row],[Qtt 2éme lot]],\"-\")","v":"-"},"-",{"$f":"IF(Tableau1[[#This Row],[2éme lot]]=\"-\",\"-\",IFERROR(IF(Q2075=\"\",\"-\",INDEX(I:I,MATCH(Q2075,C:C,0)+1)),\"-\"))","v":"-"},"-","-"]
[{"$nulls":15},"-",null,{"$f":"SUMIF(Tableau1[Description article],Tableau1[Produits],Tableau1[Emplacement])","v":0},null,{"$f":"Sheet1!$S2076-Sheet1!$R2076","v":0},"-","-","-",{"$f":"IFERROR(Tableau1[[#This Row],[THEO]]-Tableau1[[#This Row],[Qtt 2éme lot]],\"-\")","v":"-"},"-",{"$f":"IF(Tableau1[[#This Row],[2éme lot]]=\"-\",\"-\",IFERROR(IF(Q2076=\"\",\"-\",INDEX(I:I,MATCH(Q2076,C:C,0)+1)),\"-\"))","v":"-"},"-","-"]
[{"$nulls":15},"-",null,{"$f":"SUMIF(Tableau1[Description article],Tableau1[Produits],Tableau1[Emplacement])","v":0},null,{"$f":"Sheet1!$S2077-Sheet1!$R2077","v":0},"-","-","-",{"$f":"IFERROR(Tableau1[[#This Row],[THEO]]-Tableau1[[#This Row],[Qtt 2éme lot]],\"-\")","v":"-"},"-",{"$f":"IF(Tableau1[[#This Row],[2éme lot]]=\"-\",\"-\",IFERROR(IF(Q2077=\"\",\"-\",INDEX(I:I,MATCH(Q2077,C:C,0)+1)),\"-\"))","v":"-"},"-","-"]
[{"$nulls":15},"-",null,{"$f":"SUMIF(Tableau1[Description article],Tableau1[Produits],Tableau1[Emplacement])","v":0},null,{"$f":"Sheet1!$S2078-Sheet1!$R2078","v":0},"-","-","-",{"$f":"IFERROR(Tableau1[[#This Row],[THEO]]-Tableau1[[#This Row],[Qtt 2éme lot]],\"-\")","v":"-"},"-",{"$f":"IF(Tableau1[[#This Row],[2éme lot]]=\"-\",\"-\",IFERROR(IF(Q2078=\"\",\"-\",INDEX(I:I,MATCH(Q2078,C:C,0)+1)),\"-\"))","v":"-"},"-","-"]
[{"$nulls":15},"-",null,{"$f":"SUMIF(Tableau1[Description article],Tableau1[Produits],Tableau1[Emplacement])","v":0},null,{"$f":"Sheet1!$S2079-Sheet1!$R2079","v":0},"-","-","-",{"$f":"IFERROR(Tableau1[[#This Row],[THEO]]-Tableau1[[#This Row],[Qtt 2éme lot]],\"-\")","v":"-"},"-",{"$f":"IF(Tableau1[[#This Row],[2éme lot]]=\"-\",\"-\",IFERROR(IF(Q2079=\"\",\"-\",INDEX(I:I,MATCH(Q2079,C:C,0)+1)),\"-\"))","v":"-"},"-","-"]
[{"$nulls":15},"-",null,{"$f":"SUMIF(Tableau1[Description article],Tableau1[Produits],Tableau1[Emplacement])","v":0},null,{"$f":"Sheet1!$S2080-Sheet1!$R2080","v":0},"-","-","-",{"$f":"IFERROR(Tableau1[[#This Row],[THEO]]-Tableau1[[#This Row],[Qtt 2éme lot]],\"-\")","v":"-"},"-",{"$f":"IF(Tableau1[[#This Row],[2éme lot]]=\"-\",\"-\",IFERROR(IF(Q2080=\"\",\"-\",INDEX(I:I,MATCH(Q2080,C:C,0)+1)),\"-\"))","v":"-"},"-","-"]
[{"$nulls":15},"-",null,{"$f":"SUMIF(Tableau1[Description article],Tableau1[Produits],Tableau1[Emplacement])","v":0},null,{"$f":"Sheet1!$S2081-Sheet1!$R2081","v":0},"-","-","-",{"$f":"IFERROR(Tableau1[[#This Row],[THEO]]-Tableau1[[#This Row],[Qtt 2éme lot]],\"-\")","v":"-"},"-",{"$f":"IF(Tableau1[[#This Row],[2éme lot]]=\"-\",\"-\",IFERROR(IF(Q2081=\"\",\"-\",INDEX(I:I,MATCH(Q2081,C:C,0)+1)),\"-\"))","v":"-"},"-","-"]
[{"$nulls":15},"-",null,{"$f":"SUMIF(Tableau1[Description article],Tableau1[Produits],Tableau1[Emplacement])","v":0},null,{"$f":"Sheet1!$S2082-Sheet1!$R2082","v":0},"-","-","-",{"$f":"IFERROR(Tableau1[[#This Row],[THEO]]-Tableau1[[#This Row],[Qtt 2éme lot]],\"-\")","v":"-"},"-",{"$f":"IF(Tableau1[[#This Row],[2éme lot]]=\"-\",\"-\",IFERROR(IF(Q2082=\"\",\"-\",INDEX(I:I,MATCH(Q2082,C:C,0)+1)),\"-\"))","v":"-"},"-","-"]
[{"$nulls":15},"-",null,{"$f":"SUMIF(Tableau1[Description article],Tableau1[Produits],Tableau1[Emplacement])","v":0},null,{"$f":"Sheet1!$S2083-Sheet1!$R2083","v":0},"-","-","-",{"$f":"IFERROR(Tableau1[[#This Row],[THEO]]-Tableau1[[#This Row],[Qtt 2éme lot]],\"-\")","v":"-"},"-",{"$f":"IF(Tableau1[[#This Row],[2éme lot]]=\"-\",\"-\",IFERROR(IF(Q2083=\"\",\"-\",INDEX(I:I,MATCH(Q2083,C:C,0)+1)),\"-\"))","v":"-"},"-","-"]
[{"$nulls":15},"-",null,{"$f":"SUMIF(Tableau1[Description article],Tableau1[Produits],Tableau1[Emplacement])","v":0},null,{"$f":"Sheet1!$S2084-Sheet1!$R2084","v":0},"-","-","-",{"$f":"IFERROR(Tableau1[[#This Row],[THEO]]-Tableau1[[#This Row],[Qtt 2éme lot]],\"-\")","v":"-"},"-",{"$f":"IF(Tableau1[[#This Row],[2éme lot]]=\"-\",\"-\",IFERROR(IF(Q2084=\"\",\"-\",INDEX(I:I,MATCH(Q2084,C:C,0)+1)),\"-\"))","v":"-"},"-","-"]
[{"$nulls":15},"-",null,{"$f":"SUMIF(Tableau1[Description article],Tableau1[Produits],Tableau1[Emplacement])","v":0},null,{"$f":"Sheet1!$S2085-Sheet1!$R2085","v":0},"-","-","-",{"$f":"IFERROR(Tableau1[[#This Row],[THEO]]-Tableau1[[#This Row],[Qtt 2éme lot]],\"-\")","v":"-"},"-",{"$f":"IF(Tableau1[[#This Row],[2éme lot]]=\"-\",\"-\",IFERROR(IF(Q2085=\"\",\"-\",INDEX(I:I,MATCH(Q2085,C:C,0)+1)),\"-\"))","v":"-"},"-","-"]
[{"$nulls":15},"-",null,{"$f":"SUMIF(Tableau1[Description article],Tableau1[Produits],Tableau1[Emplacement])","v":0},null,{"$f":"Sheet1!$S2086-Sheet1!$R2086","v":0},"-","-","-",{"$f":"IFERROR(Tableau1[[#This Row],[THEO]]-Tableau1[[#This Row],[Qtt 2éme lot]],\"-\")","v":"-"},"-",{"$f":"IF(Tableau1[[#This Row],[2éme lot]]=\"-\",\"-\",IFERROR(IF(Q2086=\"\",\"-\",INDEX(I:I,MATCH(Q2086,C:C,0)+1)),\"-\"))","v":"-"},"-","-"]
[{"$nulls":15},"-",null,{"$f":"SUMIF(Tableau1[Description article],Tableau1[Produits],Tableau1[Emplacement])","v":0},null,{"$f":"Sheet1!$S2087-Sheet1!$R2087","v":0},"-","-","-",{"$f":"IFERROR(Tableau1[[#This Row],[THEO]]-Tableau1[[#This Row],[Qtt 2éme lot]],\"-\")","v":"-"},"-",{"$f":"IF(Tableau1[[#This Row],[2éme lot]]=\"-\",\"-\",IFERROR(IF(Q2087=\"\",\"-\",INDEX(I:I,MATCH(Q2087,C:C,0)+1)),\"-\"))","v":"-"},"-","-"]
[{"$nulls":15},"-",null,{"$f":"SUMIF(Tableau1[Description article],Tableau1[Produits],Tableau1[Emplacement])","v":0},null,{"$f":"Sheet1!$S2088-Sheet1!$R2088","v":0},"-","-","-",{"$f":"IFERROR(Tableau1[[#This Row],[THEO]]-Tableau1[[#This Row],[Qtt 2éme lot]],\"-\")","v":"-"},"-",{"$f":"IF(Tableau1[[#This Row],[2éme lot]]=\"-\",\"-\",IFERROR(IF(Q2088=\"\",\"-\",INDEX(I:I,MATCH(Q2088,C:C,0)+1)),\"-\"))","v":"-"},"-","-"]
[{"$nulls":15},"-",null,{"$f":"SUMIF(Tableau1[Description article],Tableau1[Produits],Tableau1[Emplacement])","v":0},null,{"$f":"Sheet1!$S2089-Sheet1!$R2089","v":0},"-","-","-",{"$f":"IFERROR(Tableau1[[#This Row],[THEO]]-Tableau1[[#This Row],[Qtt 2éme lot]],\"-\")","v":"-"},"-",{"$f":"IF(Tableau1[[#This Row],[2éme lot]]=\"-\",\"-\",IFERROR(IF(Q2089=\"\",\"-\",INDEX(I:I,MATCH(Q2089,C:C,0)+1)),\"-\"))","v":"-"},"-","-"]
[{"$nulls":15},"-",null,{"$f":"SUMIF(Tableau1[Description article],Tableau1[Produits],Tableau1[Emplacement])","v":0},null,{"$f":"Sheet1!$S2090-Sheet1!$R2090","v":0},"-","-","-",{"$f":"IFERROR(Tableau1[[#This Row],[THEO]]-Tableau1[[#This Row],[Qtt 2éme lot]],\"-\")","v":"-"},"-",{"$f":"IF(Tableau1[[#This Row],[2éme lot]]=\"-\",\"-\",IFERROR(IF(Q2090=\"\",\"-\",INDEX(I:I,MATCH(Q2090,C:C,0)+1)),\"-\"))","v":"-"},"-","-"]
[{"$nulls":15},"-",null,{"$f":"SUMIF(Tableau1[Description article],Tableau1[Produits],Tableau1[Emplacement])","v":0},null,{"$f":"Sheet1!$S2091-Sheet1!$R2091","v":0},"-","-","-",{"$f":"IFERROR(Tableau1[[#This Row],[THEO]]-Tableau1[[#This Row],[Qtt 2éme lot]],\"-\")","v":"-"},"-",{"$f":"IF(Tableau1[[#This Row],[2éme lot]]=\"-\",\"-\",IFERROR(IF(Q2091=\"\",\"-\",INDEX(I:I,MATCH(Q2091,C:C,0)+1)),\"-\"))","v":"-"},"-","-"]
[{"$nulls":15},"-",null,{"$f":"SUMIF(Tableau1[Description article],Tableau1[Produits],Tableau1[Emplacement])","v":0},null,{"$f":"Sheet1!$S2092-Sheet1!$R2092","v":0},"-","-","-",{"$f":"IFERROR(Tableau1[[#This Row],[THEO]]-Tableau1[[#This Row],[Qtt 2éme lot]],\"-\")","v":"-"},"-",{"$f":"IF(Tableau1[[#This Row],[2éme lot]]=\"-\",\"-\",IFERROR(IF(Q2092=\"\",\"-\",INDEX(I:I,MATCH(Q2092,C:C,0)+1)),\"-\"))","v":"-"},"-","-"]
[{"$nulls":15},"-",null,{"$f":"SUMIF(Tableau1[Description article],Tableau1[Produits],Tableau1[Emplacement])","v":0},null,{"$f":"Sheet1!$S2093-Sheet1!$R2093","v":0},"-","-","-",{"$f":"IFERROR(Tableau1[[#This Row],[THEO]]-Tableau1[[#This Row],[Qtt 2éme lot]],\"-\")","v":"-"},"-",{"$f":"IF(Tableau1[[#This Row],[2éme lot]]=\"-\",\"-\",IFERROR(IF(Q2093=\"\",\"-\",INDEX(I:I,MATCH(Q2093,C:C,0)+1)),\"-\"))","v":"-"},"-","-"]
[{"$nulls":15},"-",null,{"$f":"SUMIF(Tableau1[Description article],Tableau1[Produits],Tableau1[Emplacement])","v":0},null,{"$f":"Sheet1!$S2094-Sheet1!$R2094","v":0},"-","-","-",{"$f":"IFERROR(Tableau1[[#This Row],[THEO]]-Tableau1[[#This Row],[Qtt 2éme lot]],\"-\")","v":"-"},"-",{"$f":"IF(Tableau1[[#This Row],[2éme lot]]=\"-\",\"-\",IFERROR(IF(Q2094=\"\",\"-\",INDEX(I:I,MATCH(Q2094,C:C,0)+1)),\"-\"))","v":"-"},"-","-"]
[{"$nulls":15},"-",null,{"$f":"SUMIF(Tableau1[Description article],Tableau1[Produits],Tableau1[Emplacement])","v":0},null,{"$f":"Sheet1!$S2095-Sheet1!$R2095","v":0},"-","-","-",{"$f":"IFERROR(Tableau1[[#This Row],[THEO]]-Tableau1[[#This Row],[Qtt 2éme lot]],\"-\")","v":"-"},"-",{"$f":"IF(Tableau1[[#This Row],[2éme lot]]=\"-\",\"-\",IFERROR(IF(Q2095=\"\",\"-\",INDEX(I:I,MATCH(Q2095,C:C,0)+1)),\"-\"))","v":"-"},"-","-"]
[{"$nulls":15},"-",null,{"$f":"SUMIF(Tableau1[Description article],Tableau1[Produits],Tableau1[Emplacement])","v":0},null,{"$f":"Sheet1!$S2096-Sheet1!$R2096","v":0},"-","-","-",{"$f":"IFERROR(Tableau1[[#This Row],[THEO]]-Tableau1[[#This Row],[Qtt 2éme lot]],\"-\")","v":"-"},"-",{"$f":"IF(Tableau1[[#This Row],[2éme lot]]=\"-\",\"-\",IFERROR(IF(Q2096=\"\",\"-\",INDEX(I:I,MATCH(Q2096,C:C,0)+1)),\"-\"))","v":"-"},"-","-"]
[{"$nulls":15},"-",null,{"$f":"SUMIF(Tableau1[Description article],Tableau1[Produits],Tableau1[Emplacement])","v":0},null,{"$f":"Sheet1!$S2097-Sheet1!$R2097","v":0},"-","-","-",{"$f":"IFERROR(Tableau1[[#This Row],[THEO]]-Tableau1[[#This Row],[Qtt 2éme lot]],\"-\")","v":"-"},"-",{"$f":"IF(Tableau1[[#This Row],[2éme lot]]=\"-\",\"-\",IFERROR(IF(Q2097=\"\",\"-\",INDEX(I:I,MATCH(Q2097,C:C,0)+1)),\"-\"))","v":"-"},"-","-"]
[{"$nulls":15},"-",null,{"$f":"SUMIF(Tableau1[Description article],Tableau1[Produits],Tableau1[Emplacement])","v":0},null,{"$f":"Sheet1!$S2098-Sheet1!$R2098","v":0},"-","-","-",{"$f":"IFERROR(Tableau1[[#This Row],[THEO]]-Tableau1[[#This Row],[Qtt 2éme lot]],\"-\")","v":"-"},"-",{"$f":"IF(Tableau1[[#This Row],[2éme lot]]=\"-\",\"-\",IFERROR(IF(Q2098=\"\",\"-\",INDEX(I:I,MATCH(Q2098,C:C,0)+1)),\"-\"))","v":"-"},"-","-"]
[{"$nulls":15},"-",null,{"$f":"SUMIF(Tableau1[Description article],Tableau1[Produits],Tableau1[Emplacement])","v":0},null,{"$f":"Sheet1!$S2099-Sheet1!$R2099","v":0},"-","-","-",{"$f":"IFERROR(Tableau1[[#This Row],[THEO]]-Tableau1[[#This Row],[Qtt 2éme lot]],\"-\")","v":"-"},"-",{"$f":"IF(Tableau1[[#This Row],[2éme lot]]=\"-\",\"-\",IFERROR(IF(Q2099=\"\",\"-\",INDEX(I:I,MATCH(Q2099,C:C,0)+1)),\"-\"))","v":"-"},"-","-"]
[{"$nulls":15},"-",null,{"$f":"SUMIF(Tableau1[Description article],Tableau1[Produits],Tableau1[Emplacement])","v":0},null,{"$f":"Sheet1!$S2100-Sheet1!$R2100","v":0},"-","-","-",{"$f":"IFERROR(Tableau1[[#This Row],[THEO]]-Tableau1[[#This Row],[Qtt 2éme lot]],\"-\")","v":"-"},"-",{"$f":"IF(Tableau1[[#This Row],[2éme lot]]=\"-\",\"-\",IFERROR(IF(Q2100=\"\",\"-\",INDEX(I:I,MATCH(Q2100,C:C,0)+1)),\"-\"))","v":"-"},"-","-"]
[{"$nulls":15},"-",null,{"$f":"SUMIF(Tableau1[Description article],Tableau1[Produits],Tableau1[Emplacement])","v":0},null,{"$f":"Sheet1!$S2101-Sheet1!$R2101","v":0},"-","-","-",{"$f":"IFERROR(Tableau1[[#This Row],[THEO]]-Tableau1[[#This Row],[Qtt 2éme lot]],\"-\")","v":"-"},"-",{"$f":"IF(Tableau1[[#This Row],[2éme lot]]=\"-\",\"-\",IFERROR(IF(Q2101=\"\",\"-\",INDEX(I:I,MATCH(Q2101,C:C,0)+1)),\"-\"))","v":"-"},"-","-"]
[{"$nulls":15},"-",null,{"$f":"SUMIF(Tableau1[Description article],Tableau1[Produits],Tableau1[Emplacement])","v":0},null,{"$f":"Sheet1!$S2102-Sheet1!$R2102","v":0},"-","-","-",{"$f":"IFERROR(Tableau1[[#This Row],[THEO]]-Tableau1[[#This Row],[Qtt 2éme lot]],\"-\")","v":"-"},"-",{"$f":"IF(Tableau1[[#This Row],[2éme lot]]=\"-\",\"-\",IFERROR(IF(Q2102=\"\",\"-\",INDEX(I:I,MATCH(Q2102,C:C,0)+1)),\"-\"))","v":"-"},"-","-"]
[{"$nulls":15},"-",null,{"$f":"SUMIF(Tableau1[Description article],Tableau1[Produits],Tableau1[Emplacement])","v":0},null,{"$f":"Sheet1!$S2103-Sheet1!$R2103","v":0},"-","-","-",{"$f":"IFERROR(Tableau1[[#This Row],[THEO]]-Tableau1[[#This Row],[Qtt 2éme lot]],\"-\")","v":"-"},"-",{"$f":"IF(Tableau1[[#This Row],[2éme lot]]=\"-\",\"-\",IFERROR(IF(Q2103=\"\",\"-\",INDEX(I:I,MATCH(Q2103,C:C,0)+1)),\"-\"))","v":"-"},"-","-"]
[{"$nulls":15},"-",null,{"$f":"SUMIF(Tableau1[Description article],Tableau1[Produits],Tableau1[Emplacement])","v":0},null,{"$f":"Sheet1!$S2104-Sheet1!$R2104","v":0},"-","-","-",{"$f":"IFERROR(Tableau1[[#This Row],[THEO]]-Tableau1[[#This Row],[Qtt 2éme lot]],\"-\")","v":"-"},"-",{"$f":"IF(Tableau1[[#This Row],[2éme lot]]=\"-\",\"-\",IFERROR(IF(Q2104=\"\",\"-\",INDEX(I:I,MATCH(Q2104,C:C,0)+1)),\"-\"))","v":"-"},"-","-"]
[{"$nulls":15},"-",null,{"$f":"SUMIF(Tableau1[Description article],Tableau1[Produits],Tableau1[Emplacement])","v":0},null,{"$f":"Sheet1!$S2105-Sheet1!$R2105","v":0},"-","-","-",{"$f":"IFERROR(Tableau1[[#This Row],[THEO]]-Tableau1[[#This Row],[Qtt 2éme lot]],\"-\")","v":"-"},"-",{"$f":"IF(Tableau1[[#This Row],[2éme lot]]=\"-\",\"-\",IFERROR(IF(Q2105=\"\",\"-\",INDEX(I:I,MATCH(Q2105,C:C,0)+1)),\"-\"))","v":"-"},"-","-"]
[{"$nulls":15},"-",null,{"$f":"SUMIF(Tableau1[Description article],Tableau1[Produits],Tableau1[Emplacement])","v":0},null,{"$f":"Sheet1!$S2106-Sheet1!$R2106","v":0},"-","-","-",{"$f":"IFERROR(Tableau1[[#This Row],[THEO]]-Tableau1[[#This Row],[Qtt 2éme lot]],\"-\")","v":"-"},"-",{"$f":"IF(Tableau1[[#This Row],[2éme lot]]=\"-\",\"-\",IFERROR(IF(Q2106=\"\",\"-\",INDEX(I:I,MATCH(Q2106,C:C,0)+1)),\"-\"))","v":"-"},"-","-"]
[{"$nulls":15},"-",null,{"$f":"SUMIF(Tableau1[Description article],Tableau1[Produits],Tableau1[Emplacement])","v":0},null,{"$f":"Sheet1!$S2107-Sheet1!$R2107","v":0},"-","-","-",{"$f":"IFERROR(Tableau1[[#This Row],[THEO]]-Tableau1[[#This Row],[Qtt 2éme lot]],\"-\")","v":"-"},"-",{"$f":"IF(Tableau1[[#This Row],[2éme lot]]=\"-\",\"-\",IFERROR(IF(Q2107=\"\",\"-\",INDEX(I:I,MATCH(Q2107,C:C,0)+1)),\"-\"))","v":"-"},"-","-"]
[{"$nulls":15},"-",null,{"$f":"SUMIF(Tableau1[Description article],Tableau1[Produits],Tableau1[Emplacement])","v":0},null,{"$f":"Sheet1!$S2108-Sheet1!$R2108","v":0},"-","-","-",{"$f":"IFERROR(Tableau1[[#This Row],[THEO]]-Tableau1[[#This Row],[Qtt 2éme lot]],\"-\")","v":"-"},"-",{"$f":"IF(Tableau1[[#This Row],[2éme lot]]=\"-\",\"-\",IFERROR(IF(Q2108=\"\",\"-\",INDEX(I:I,MATCH(Q2108,C:C,0)+1)),\"-\"))","v":"-"},"-","-"]
[{"$nulls":15},"-",null,{"$f":"SUMIF(Tableau1[Description article],Tableau1[Produits],Tableau1[Emplacement])","v":0},null,{"$f":"Sheet1!$S2109-Sheet1!$R2109","v":0},"-","-","-",{"$f":"IFERROR(Tableau1[[#This Row],[THEO]]-Tableau1[[#This Row],[Qtt 2éme lot]],\"-\")","v":"-"},"-",{"$f":"IF(Tableau1[[#This Row],[2éme lot]]=\"-\",\"-\",IFERROR(IF(Q2109=\"\",\"-\",INDEX(I:I,MATCH(Q2109,C:C,0)+1)),\"-\"))","v":"-"},"-","-"]
[{"$nulls":15},"-",null,{"$f":"SUMIF(Tableau1[Description article],Tableau1[Produits],Tableau1[Emplacement])","v":0},null,{"$f":"Sheet1!$S2110-Sheet1!$R2110","v":0},"-","-","-",{"$f":"IFERROR(Tableau1[[#This Row],[THEO]]-Tableau1[[#This Row],[Qtt 2éme lot]],\"-\")","v":"-"},"-",{"$f":"IF(Tableau1[[#This Row],[2éme lot]]=\"-\",\"-\",IFERROR(IF(Q2110=\"\",\"-\",INDEX(I:I,MATCH(Q2110,C:C,0)+1)),\"-\"))","v":"-"},"-","-"]
[{"$nulls":15},"-",null,{"$f":"SUMIF(Tableau1[Description article],Tableau1[Produits],Tableau1[Emplacement])","v":0},null,{"$f":"Sheet1!$S2111-Sheet1!$R2111","v":0},"-","-","-",{"$f":"IFERROR(Tableau1[[#This Row],[THEO]]-Tableau1[[#This Row],[Qtt 2éme lot]],\"-\")","v":"-"},"-",{"$f":"IF(Tableau1[[#This Row],[2éme lot]]=\"-\",\"-\",IFERROR(IF(Q2111=\"\",\"-\",INDEX(I:I,MATCH(Q2111,C:C,0)+1)),\"-\"))","v":"-"},"-","-"]
[{"$nulls":15},"-",null,{"$f":"SUMIF(Tableau1[Description article],Tableau1[Produits],Tableau1[Emplacement])","v":0},null,{"$f":"Sheet1!$S2112-Sheet1!$R2112","v":0},"-","-","-",{"$f":"IFERROR(Tableau1[[#This Row],[THEO]]-Tableau1[[#This Row],[Qtt 2éme lot]],\"-\")","v":"-"},"-",{"$f":"IF(Tableau1[[#This Row],[2éme lot]]=\"-\",\"-\",IFERROR(IF(Q2112=\"\",\"-\",INDEX(I:I,MATCH(Q2112,C:C,0)+1)),\"-\"))","v":"-"},"-","-"]
[{"$nulls":15},"-",null,{"$f":"SUMIF(Tableau1[Description article],Tableau1[Produits],Tableau1[Emplacement])","v":0},null,{"$f":"Sheet1!$S2113-Sheet1!$R2113","v":0},"-","-","-",{"$f":"IFERROR(Tableau1[[#This Row],[THEO]]-Tableau1[[#This Row],[Qtt 2éme lot]],\"-\")","v":"-"},"-",{"$f":"IF(Tableau1[[#This Row],[2éme lot]]=\"-\",\"-\",IFERROR(IF(Q2113=\"\",\"-\",INDEX(I:I,MATCH(Q2113,C:C,0)+1)),\"-\"))","v":"-"},"-","-"]
[{"$nulls":15},{"$f":"IFERROR(IF(Q2114=\"\",\"-\",INDEX(I:I,MATCH(Q2114,C:C,0))),\"-\")","v":"-"},null,{"$f":"SUMIF(Tableau1[Description article],Tableau1[Produits],Tableau1[Emplacement])","v":0},null,{"$f":"Sheet1!$S2114-Sheet1!$R2114","v":0},{"$f":"IFERROR(IF(Q2114=\"\",\"-\",INDEX(F:F,MATCH(Q2114,C:C,0))),\"-\")","v":"-"},{"$f":"IFERROR(IF(Q2114=\"\",\"-\",INDEX(E:E,MATCH(Q2114,C:C,0))),\"-\")","v":"-"},{"$f":"IFERROR(IF(Q2114=\"\",\"-\",INDEX(N:N,MATCH(Q2114,C:C,0))),\"-\")","v":"-"},{"$f":"IFERROR(Tableau1[[#This Row],[THEO]]-Tableau1[[#This Row],[Qtt 2éme lot]],\"-\")","v":"-"},{"$f":"IF(IF(Q2114=\"\",\"-\",INDEX(E:E,MATCH(Q2114,C:C,0)))=IF(Q2114=\"\",\"-\",INDEX(E:E,MATCH(Q2114,C:C,1))),\"-\",IF(Q2114=\"\",\"-\",INDEX(E:E,MATCH(Q2114,C:C,1))))","v":"-"},{"$f":"IF(Tableau1[[#This Row],[2éme lot]]=\"-\",\"-\",IFERROR(IF(Q2114=\"\",\"-\",INDEX(I:I,MATCH(Q2114,C:C,0)+1)),\"-\"))","v":"-"},{"$f":"IFERROR(IF(Y2114=\"\",\"-\",INDEX(N:N,MATCH(Y2114,E:E,0))),\"-\")","v":"-"},{"$f":"IFERROR(IF(AA2114=\"\",\"-\",INDEX(H:H,MATCH(Y2114,E:E,0))),\"-\")","v":"-"}]
[{"$nulls":15},"-",null,{"$f":"SUMIF(Tableau1[Description article],Tableau1[Produits],Tableau1[Emplacement])","v":0},null,{"$f":"Sheet1!$S2115-Sheet1!$R2115","v":0},"-","-","-",{"$f":"IFERROR(Tableau1[[#This Row],[THEO]]-Tableau1[[#This Row],[Qtt 2éme lot]],\"-\")","v":"-"},"-",{"$f":"IF(Tableau1[[#This Row],[2éme lot]]=\"-\",\"-\",IFERROR(IF(Q2115=\"\",\"-\",INDEX(I:I,MATCH(Q2115,C:C,0)+1)),\"-\"))","v":"-"},"-","-"]
[{"$nulls":15},"-",null,{"$f":"SUMIF(Tableau1[Description article],Tableau1[Produits],Tableau1[Emplacement])","v":0},null,{"$f":"Sheet1!$S2116-Sheet1!$R2116","v":0},"-","-","-",{"$f":"IFERROR(Tableau1[[#This Row],[THEO]]-Tableau1[[#This Row],[Qtt 2éme lot]],\"-\")","v":"-"},"-",{"$f":"IF(Tableau1[[#This Row],[2éme lot]]=\"-\",\"-\",IFERROR(IF(Q2116=\"\",\"-\",INDEX(I:I,MATCH(Q2116,C:C,0)+1)),\"-\"))","v":"-"},"-","-"]
[{"$nulls":15},"-",null,{"$f":"SUMIF(Tableau1[Description article],Tableau1[Produits],Tableau1[Emplacement])","v":0},null,{"$f":"Sheet1!$S2117-Sheet1!$R2117","v":0},"-","-","-",{"$f":"IFERROR(Tableau1[[#This Row],[THEO]]-Tableau1[[#This Row],[Qtt 2éme lot]],\"-\")","v":"-"},"-",{"$f":"IF(Tableau1[[#This Row],[2éme lot]]=\"-\",\"-\",IFERROR(IF(Q2117=\"\",\"-\",INDEX(I:I,MATCH(Q2117,C:C,0)+1)),\"-\"))","v":"-"},"-","-"]
[{"$nulls":15},"-",null,{"$f":"SUMIF(Tableau1[Description article],Tableau1[Produits],Tableau1[Emplacement])","v":0},null,{"$f":"Sheet1!$S2118-Sheet1!$R2118","v":0},"-","-","-",{"$f":"IFERROR(Tableau1[[#This Row],[THEO]]-Tableau1[[#This Row],[Qtt 2éme lot]],\"-\")","v":"-"},"-",{"$f":"IF(Tableau1[[#This Row],[2éme lot]]=\"-\",\"-\",IFERROR(IF(Q2118=\"\",\"-\",INDEX(I:I,MATCH(Q2118,C:C,0)+1)),\"-\"))","v":"-"},"-","-"]
[{"$nulls":15},"-",null,{"$f":"SUMIF(Tableau1[Description article],Tableau1[Produits],Tableau1[Emplacement])","v":0},null,{"$f":"Sheet1!$S2119-Sheet1!$R2119","v":0},"-","-","-",{"$f":"IFERROR(Tableau1[[#This Row],[THEO]]-Tableau1[[#This Row],[Qtt 2éme lot]],\"-\")","v":"-"},"-",{"$f":"IF(Tableau1[[#This Row],[2éme lot]]=\"-\",\"-\",IFERROR(IF(Q2119=\"\",\"-\",INDEX(I:I,MATCH(Q2119,C:C,0)+1)),\"-\"))","v":"-"},"-","-"]
[{"$nulls":15},"-",null,{"$f":"SUMIF(Tableau1[Description article],Tableau1[Produits],Tableau1[Emplacement])","v":0},null,{"$f":"Sheet1!$S2120-Sheet1!$R2120","v":0},"-","-","-",{"$f":"IFERROR(Tableau1[[#This Row],[THEO]]-Tableau1[[#This Row],[Qtt 2éme lot]],\"-\")","v":"-"},"-",{"$f":"IF(Tableau1[[#This Row],[2éme lot]]=\"-\",\"-\",IFERROR(IF(Q2120=\"\",\"-\",INDEX(I:I,MATCH(Q2120,C:C,0)+1)),\"-\"))","v":"-"},"-","-"]
[{"$nulls":15},"-",null,{"$f":"SUMIF(Tableau1[Description article],Tableau1[Produits],Tableau1[Emplacement])","v":0},null,{"$f":"Sheet1!$S2121-Sheet1!$R2121","v":0},"-","-","-",{"$f":"IFERROR(Tableau1[[#This Row],[THEO]]-Tableau1[[#This Row],[Qtt 2éme lot]],\"-\")","v":"-"},"-",{"$f":"IF(Tableau1[[#This Row],[2éme lot]]=\"-\",\"-\",IFERROR(IF(Q2121=\"\",\"-\",INDEX(I:I,MATCH(Q2121,C:C,0)+1)),\"-\"))","v":"-"},"-","-"]
[{"$nulls":15},"-",null,{"$f":"SUMIF(Tableau1[Description article],Tableau1[Produits],Tableau1[Emplacement])","v":0},null,{"$f":"Sheet1!$S2122-Sheet1!$R2122","v":0},"-","-","-",{"$f":"IFERROR(Tableau1[[#This Row],[THEO]]-Tableau1[[#This Row],[Qtt 2éme lot]],\"-\")","v":"-"},"-",{"$f":"IF(Tableau1[[#This Row],[2éme lot]]=\"-\",\"-\",IFERROR(IF(Q2122=\"\",\"-\",INDEX(I:I,MATCH(Q2122,C:C,0)+1)),\"-\"))","v":"-"},"-","-"]
[{"$nulls":15},"-",null,{"$f":"SUMIF(Tableau1[Description article],Tableau1[Produits],Tableau1[Emplacement])","v":0},null,{"$f":"Sheet1!$S2123-Sheet1!$R2123","v":0},"-","-","-",{"$f":"IFERROR(Tableau1[[#This Row],[THEO]]-Tableau1[[#This Row],[Qtt 2éme lot]],\"-\")","v":"-"},"-",{"$f":"IF(Tableau1[[#This Row],[2éme lot]]=\"-\",\"-\",IFERROR(IF(Q2123=\"\",\"-\",INDEX(I:I,MATCH(Q2123,C:C,0)+1)),\"-\"))","v":"-"},"-","-"]
[{"$nulls":15},"-",null,{"$f":"SUMIF(Tableau1[Description article],Tableau1[Produits],Tableau1[Emplacement])","v":0},null,{"$f":"Sheet1!$S2124-Sheet1!$R2124","v":0},"-","-","-",{"$f":"IFERROR(Tableau1[[#This Row],[THEO]]-Tableau1[[#This Row],[Qtt 2éme lot]],\"-\")","v":"-"},"-",{"$f":"IF(Tableau1[[#This Row],[2éme lot]]=\"-\",\"-\",IFERROR(IF(Q2124=\"\",\"-\",INDEX(I:I,MATCH(Q2124,C:C,0)+1)),\"-\"))","v":"-"},"-","-"]
[{"$nulls":15},"-",null,{"$f":"SUMIF(Tableau1[Description article],Tableau1[Produits],Tableau1[Emplacement])","v":0},null,{"$f":"Sheet1!$S2125-Sheet1!$R2125","v":0},"-","-","-",{"$f":"IFERROR(Tableau1[[#This Row],[THEO]]-Tableau1[[#This Row],[Qtt 2éme lot]],\"-\")","v":"-"},"-",{"$f":"IF(Tableau1[[#This Row],[2éme lot]]=\"-\",\"-\",IFERROR(IF(Q2125=\"\",\"-\",INDEX(I:I,MATCH(Q2125,C:C,0)+1)),\"-\"))","v":"-"},"-","-"]
[{"$nulls":15},"-",null,{"$f":"SUMIF(Tableau1[Description article],Tableau1[Produits],Tableau1[Emplacement])","v":0},null,{"$f":"Sheet1!$S2126-Sheet1!$R2126","v":0},"-","-","-",{"$f":"IFERROR(Tableau1[[#This Row],[THEO]]-Tableau1[[#This Row],[Qtt 2éme lot]],\"-\")","v":"-"},"-",{"$f":"IF(Tableau1[[#This Row],[2éme lot]]=\"-\",\"-\",IFERROR(IF(Q2126=\"\",\"-\",INDEX(I:I,MATCH(Q2126,C:C,0)+1)),\"-\"))","v":"-"},"-","-"]
[{"$nulls":15},"-",null,{"$f":"SUMIF(Tableau1[Description article],Tableau1[Produits],Tableau1[Emplacement])","v":0},null,{"$f":"Sheet1!$S2127-Sheet1!$R2127","v":0},"-","-","-",{"$f":"IFERROR(Tableau1[[#This Row],[THEO]]-Tableau1[[#This Row],[Qtt 2éme lot]],\"-\")","v":"-"},"-",{"$f":"IF(Tableau1[[#This Row],[2éme lot]]=\"-\",\"-\",IFERROR(IF(Q2127=\"\",\"-\",INDEX(I:I,MATCH(Q2127,C:C,0)+1)),\"-\"))","v":"-"},"-","-"]
[{"$nulls":15},"-",null,{"$f":"SUMIF(Tableau1[Description article],Tableau1[Produits],Tableau1[Emplacement])","v":0},null,{"$f":"Sheet1!$S2128-Sheet1!$R2128","v":0},"-","-","-",{"$f":"IFERROR(Tableau1[[#This Row],[THEO]]-Tableau1[[#This Row],[Qtt 2éme lot]],\"-\")","v":"-"},"-",{"$f":"IF(Tableau1[[#This Row],[2éme lot]]=\"-\",\"-\",IFERROR(IF(Q2128=\"\",\"-\",INDEX(I:I,MATCH(Q2128,C:C,0)+1)),\"-\"))","v":"-"},"-","-"]
[{"$nulls":15},"-",null,{"$f":"SUMIF(Tableau1[Description article],Tableau1[Produits],Tableau1[Emplacement])","v":0},null,{"$f":"Sheet1!$S2129-Sheet1!$R2129","v":0},"-","-","-",{"$f":"IFERROR(Tableau1[[#This Row],[THEO]]-Tableau1[[#This Row],[Qtt 2éme lot]],\"-\")","v":"-"},"-",{"$f":"IF(Tableau1[[#This Row],[2éme lot]]=\"-\",\"-\",IFERROR(IF(Q2129=\"\",\"-\",INDEX(I:I,MATCH(Q2129,C:C,0)+1)),\"-\"))","v":"-"},"-","-"]
[{"$nulls":15},"-",null,{"$f":"SUMIF(Tableau1[Description article],Tableau1[Produits],Tableau1[Emplacement])","v":0},null,{"$f":"Sheet1!$S2130-Sheet1!$R2130","v":0},"-","-","-",{"$f":"IFERROR(Tableau1[[#This Row],[THEO]]-Tableau1[[#This Row],[Qtt 2éme lot]],\"-\")","v":"-"},"-",{"$f":"IF(Tableau1[[#This Row],[2éme lot]]=\"-\",\"-\",IFERROR(IF(Q2130=\"\",\"-\",INDEX(I:I,MATCH(Q2130,C:C,0)+1)),\"-\"))","v":"-"},"-","-"]
[{"$nulls":15},"-",null,{"$f":"SUMIF(Tableau1[Description article],Tableau1[Produits],Tableau1[Emplacement])","v":0},null,{"$f":"Sheet1!$S2131-Sheet1!$R2131","v":0},"-","-","-",{"$f":"IFERROR(Tableau1[[#This Row],[THEO]]-Tableau1[[#This Row],[Qtt 2éme lot]],\"-\")","v":"-"},"-",{"$f":"IF(Tableau1[[#This Row],[2éme lot]]=\"-\",\"-\",IFERROR(IF(Q2131=\"\",\"-\",INDEX(I:I,MATCH(Q2131,C:C,0)+1)),\"-\"))","v":"-"},"-","-"]
[{"$nulls":15},"-",null,{"$f":"SUMIF(Tableau1[Description article],Tableau1[Produits],Tableau1[Emplacement])","v":0},null,{"$f":"Sheet1!$S2132-Sheet1!$R2132","v":0},"-","-","-",{"$f":"IFERROR(Tableau1[[#This Row],[THEO]]-Tableau1[[#This Row],[Qtt 2éme lot]],\"-\")","v":"-"},"-",{"$f":"IF(Tableau1[[#This Row],[2éme lot]]=\"-\",\"-\",IFERROR(IF(Q2132=\"\",\"-\",INDEX(I:I,MATCH(Q2132,C:C,0)+1)),\"-\"))","v":"-"},"-","-"]
[{"$nulls":15},"-",null,{"$f":"SUMIF(Tableau1[Description article],Tableau1[Produits],Tableau1[Emplacement])","v":0},null,{"$f":"Sheet1!$S2133-Sheet1!$R2133","v":0},"-","-","-",{"$f":"IFERROR(Tableau1[[#This Row],[THEO]]-Tableau1[[#This Row],[Qtt 2éme lot]],\"-\")","v":"-"},"-",{"$f":"IF(Tableau1[[#This Row],[2éme lot]]=\"-\",\"-\",IFERROR(IF(Q2133=\"\",\"-\",INDEX(I:I,MATCH(Q2133,C:C,0)+1)),\"-\"))","v":"-"},"-","-"]
[{"$nulls":15},"-",null,{"$f":"SUMIF(Tableau1[Description article],Tableau1[Produits],Tableau1[Emplacement])","v":0},null,{"$f":"Sheet1!$S2134-Sheet1!$R2134","v":0},"-","-","-",{"$f":"IFERROR(Tableau1[[#This Row],[THEO]]-Tableau1[[#This Row],[Qtt 2éme lot]],\"-\")","v":"-"},"-",{"$f":"IF(Tableau1[[#This Row],[2éme lot]]=\"-\",\"-\",IFERROR(IF(Q2134=\"\",\"-\",INDEX(I:I,MATCH(Q2134,C:C,0)+1)),\"-\"))","v":"-"},"-","-"]
[{"$nulls":15},"-",null,{"$f":"SUMIF(Tableau1[Description article],Tableau1[Produits],Tableau1[Emplacement])","v":0},null,{"$f":"Sheet1!$S2135-Sheet1!$R2135","v":0},"-","-","-",{"$f":"IFERROR(Tableau1[[#This Row],[THEO]]-Tableau1[[#This Row],[Qtt 2éme lot]],\"-\")","v":"-"},"-",{"$f":"IF(Tableau1[[#This Row],[2éme lot]]=\"-\",\"-\",IFERROR(IF(Q2135=\"\",\"-\",INDEX(I:I,MATCH(Q2135,C:C,0)+1)),\"-\"))","v":"-"},"-","-"]
[{"$nulls":15},"-",null,{"$f":"SUMIF(Tableau1[Description article],Tableau1[Produits],Tableau1[Emplacement])","v":0},null,{"$f":"Sheet1!$S2136-Sheet1!$R2136","v":0},"-","-","-",{"$f":"IFERROR(Tableau1[[#This Row],[THEO]]-Tableau1[[#This Row],[Qtt 2éme lot]],\"-\")","v":"-"},"-",{"$f":"IF(Tableau1[[#This Row],[2éme lot]]=\"-\",\"-\",IFERROR(IF(Q2136=\"\",\"-\",INDEX(I:I,MATCH(Q2136,C:C,0)+1)),\"-\"))","v":"-"},"-","-"]
[{"$nulls":15},"-",null,{"$f":"SUMIF(Tableau1[Description article],Tableau1[Produits],Tableau1[Emplacement])","v":0},null,{"$f":"Sheet1!$S2137-Sheet1!$R2137","v":0},"-","-","-",{"$f":"IFERROR(Tableau1[[#This Row],[THEO]]-Tableau1[[#This Row],[Qtt 2éme lot]],\"-\")","v":"-"},"-",{"$f":"IF(Tableau1[[#This Row],[2éme lot]]=\"-\",\"-\",IFERROR(IF(Q2137=\"\",\"-\",INDEX(I:I,MATCH(Q2137,C:C,0)+1)),\"-\"))","v":"-"},"-","-"]
[{"$nulls":15},"-",null,{"$f":"SUMIF(Tableau1[Description article],Tableau1[Produits],Tableau1[Emplacement])","v":0},null,{"$f":"Sheet1!$S2138-Sheet1!$R2138","v":0},"-","-","-",{"$f":"IFERROR(Tableau1[[#This Row],[THEO]]-Tableau1[[#This Row],[Qtt 2éme lot]],\"-\")","v":"-"},"-",{"$f":"IF(Tableau1[[#This Row],[2éme lot]]=\"-\",\"-\",IFERROR(IF(Q2138=\"\",\"-\",INDEX(I:I,MATCH(Q2138,C:C,0)+1)),\"-\"))","v":"-"},"-","-"]
[{"$nulls":15},"-",null,{"$f":"SUMIF(Tableau1[Description article],Tableau1[Produits],Tableau1[Emplacement])","v":0},null,{"$f":"Sheet1!$S2139-Sheet1!$R2139","v":0},"-","-","-",{"$f":"IFERROR(Tableau1[[#This Row],[THEO]]-Tableau1[[#This Row],[Qtt 2éme lot]],\"-\")","v":"-"},"-",{"$f":"IF(Tableau1[[#This Row],[2éme lot]]=\"-\",\"-\",IFERROR(IF(Q2139=\"\",\"-\",INDEX(I:I,MATCH(Q2139,C:C,0)+1)),\"-\"))","v":"-"},"-","-"]
[{"$nulls":15},"-",null,{"$f":"SUMIF(Tableau1[Description article],Tableau1[Produits],Tableau1[Emplacement])","v":0},null,{"$f":"Sheet1!$S2140-Sheet1!$R2140","v":0},"-","-","-",{"$f":"IFERROR(Tableau1[[#This Row],[THEO]]-Tableau1[[#This Row],[Qtt 2éme lot]],\"-\")","v":"-"},"-",{"$f":"IF(Tableau1[[#This Row],[2éme lot]]=\"-\",\"-\",IFERROR(IF(Q2140=\"\",\"-\",INDEX(I:I,MATCH(Q2140,C:C,0)+1)),\"-\"))","v":"-"},"-","-"]
[{"$nulls":15},"-",null,{"$f":"SUMIF(Tableau1[Description article],Tableau1[Produits],Tableau1[Emplacement])","v":0},null,{"$f":"Sheet1!$S2141-Sheet1!$R2141","v":0},"-","-","-",{"$f":"IFERROR(Tableau1[[#This Row],[THEO]]-Tableau1[[#This Row],[Qtt 2éme lot]],\"-\")","v":"-"},"-",{"$f":"IF(Tableau1[[#This Row],[2éme lot]]=\"-\",\"-\",IFERROR(IF(Q2141=\"\",\"-\",INDEX(I:I,MATCH(Q2141,C:C,0)+1)),\"-\"))","v":"-"},"-","-"]
[{"$nulls":15},"-",null,{"$f":"SUMIF(Tableau1[Description article],Tableau1[Produits],Tableau1[Emplacement])","v":0},null,{"$f":"Sheet1!$S2142-Sheet1!$R2142","v":0},"-","-","-",{"$f":"IFERROR(Tableau1[[#This Row],[THEO]]-Tableau1[[#This Row],[Qtt 2éme lot]],\"-\")","v":"-"},"-",{"$f":"IF(Tableau1[[#This Row],[2éme lot]]=\"-\",\"-\",IFERROR(IF(Q2142=\"\",\"-\",INDEX(I:I,MATCH(Q2142,C:C,0)+1)),\"-\"))","v":"-"},"-","-"]
[{"$nulls":15},"-",null,{"$f":"SUMIF(Tableau1[Description article],Tableau1[Produits],Tableau1[Emplacement])","v":0},null,{"$f":"Sheet1!$S2143-Sheet1!$R2143","v":0},"-","-","-",{"$f":"IFERROR(Tableau1[[#This Row],[THEO]]-Tableau1[[#This Row],[Qtt 2éme lot]],\"-\")","v":"-"},"-",{"$f":"IF(Tableau1[[#This Row],[2éme lot]]=\"-\",\"-\",IFERROR(IF(Q2143=\"\",\"-\",INDEX(I:I,MATCH(Q2143,C:C,0)+1)),\"-\"))","v":"-"},"-","-"]
[{"$nulls":15},"-",null,{"$f":"SUMIF(Tableau1[Description article],Tableau1[Produits],Tableau1[Emplacement])","v":0},null,{"$f":"Sheet1!$S2144-Sheet1!$R2144","v":0},"-","-","-",{"$f":"IFERROR(Tableau1[[#This Row],[THEO]]-Tableau1[[#This Row],[Qtt 2éme lot]],\"-\")","v":"-"},"-",{"$f":"IF(Tableau1[[#This Row],[2éme lot]]=\"-\",\"-\",IFERROR(IF(Q2144=\"\",\"-\",INDEX(I:I,MATCH(Q2144,C:C,0)+1)),\"-\"))","v":"-"},"-","-"]
[{"$nulls":15},"-",null,{"$f":"SUMIF(Tableau1[Description article],Tableau1[Produits],Tableau1[Emplacement])","v":0},null,{"$f":"Sheet1!$S2145-Sheet1!$R2145","v":0},"-","-","-",{"$f":"IFERROR(Tableau1[[#This Row],[THEO]]-Tableau1[[#This Row],[Qtt 2éme lot]],\"-\")","v":"-"},"-",{"$f":"IF(Tableau1[[#This Row],[2éme lot]]=\"-\",\"-\",IFERROR(IF(Q2145=\"\",\"-\",INDEX(I:I,MATCH(Q2145,C:C,0)+1)),\"-\"))","v":"-"},"-","-"]
[{"$nulls":15},"-",null,{"$f":"SUMIF(Tableau1[Description article],Tableau1[Produits],Tableau1[Emplacement])","v":0},null,{"$f":"Sheet1!$S2146-Sheet1!$R2146","v":0},"-","-","-",{"$f":"IFERROR(Tableau1[[#This Row],[THEO]]-Tableau1[[#This Row],[Qtt 2éme lot]],\"-\")","v":"-"},"-",{"$f":"IF(Tableau1[[#This Row],[2éme lot]]=\"-\",\"-\",IFERROR(IF(Q2146=\"\",\"-\",INDEX(I:I,MATCH(Q2146,C:C,0)+1)),\"-\"))","v":"-"},"-","-"]
[{"$nulls":15},"-",null,{"$f":"SUMIF(Tableau1[Description article],Tableau1[Produits],Tableau1[Emplacement])","v":0},null,{"$f":"Sheet1!$S2147-Sheet1!$R2147","v":0},"-","-","-",{"$f":"IFERROR(Tableau1[[#This Row],[THEO]]-Tableau1[[#This Row],[Qtt 2éme lot]],\"-\")","v":"-"},"-",{"$f":"IF(Tableau1[[#This Row],[2éme lot]]=\"-\",\"-\",IFERROR(IF(Q2147=\"\",\"-\",INDEX(I:I,MATCH(Q2147,C:C,0)+1)),\"-\"))","v":"-"},"-","-"]
[{"$nulls":15},"-",null,{"$f":"SUMIF(Tableau1[Description article],Tableau1[Produits],Tableau1[Emplacement])","v":0},null,{"$f":"Sheet1!$S2148-Sheet1!$R2148","v":0},"-","-","-",{"$f":"IFERROR(Tableau1[[#This Row],[THEO]]-Tableau1[[#This Row],[Qtt 2éme lot]],\"-\")","v":"-"},"-",{"$f":"IF(Tableau1[[#This Row],[2éme lot]]=\"-\",\"-\",IFERROR(IF(Q2148=\"\",\"-\",INDEX(I:I,MATCH(Q2148,C:C,0)+1)),\"-\"))","v":"-"},"-","-"]
[{"$nulls":15},"-",null,{"$f":"SUMIF(Tableau1[Description article],Tableau1[Produits],Tableau1[Emplacement])","v":0},null,{"$f":"Sheet1!$S2149-Sheet1!$R2149","v":0},"-","-","-",{"$f":"IFERROR(Tableau1[[#This Row],[THEO]]-Tableau1[[#This Row],[Qtt 2éme lot]],\"-\")","v":"-"},"-",{"$f":"IF(Tableau1[[#This Row],[2éme lot]]=\"-\",\"-\",IFERROR(IF(Q2149=\"\",\"-\",INDEX(I:I,MATCH(Q2149,C:C,0)+1)),\"-\"))","v":"-"},"-","-"]
[{"$nulls":15},"-",null,{"$f":"SUMIF(Tableau1[Description article],Tableau1[Produits],Tableau1[Emplacement])","v":0},null,{"$f":"Sheet1!$S2150-Sheet1!$R2150","v":0},"-","-","-",{"$f":"IFERROR(Tableau1[[#This Row],[THEO]]-Tableau1[[#This Row],[Qtt 2éme lot]],\"-\")","v":"-"},"-",{"$f":"IF(Tableau1[[#This Row],[2éme lot]]=\"-\",\"-\",IFERROR(IF(Q2150=\"\",\"-\",INDEX(I:I,MATCH(Q2150,C:C,0)+1)),\"-\"))","v":"-"},"-","-"]
[{"$nulls":15},"-",null,{"$f":"SUMIF(Tableau1[Description article],Tableau1[Produits],Tableau1[Emplacement])","v":0},null,{"$f":"Sheet1!$S2151-Sheet1!$R2151","v":0},"-","-","-",{"$f":"IFERROR(Tableau1[[#This Row],[THEO]]-Tableau1[[#This Row],[Qtt 2éme lot]],\"-\")","v":"-"},"-",{"$f":"IF(Tableau1[[#This Row],[2éme lot]]=\"-\",\"-\",IFERROR(IF(Q2151=\"\",\"-\",INDEX(I:I,MATCH(Q2151,C:C,0)+1)),\"-\"))","v":"-"},"-","-"]
[{"$nulls":15},"-",null,{"$f":"SUMIF(Tableau1[Description article],Tableau1[Produits],Tableau1[Emplacement])","v":0},null,{"$f":"Sheet1!$S2152-Sheet1!$R2152","v":0},"-","-","-",{"$f":"IFERROR(Tableau1[[#This Row],[THEO]]-Tableau1[[#This Row],[Qtt 2éme lot]],\"-\")","v":"-"},"-",{"$f":"IF(Tableau1[[#This Row],[2éme lot]]=\"-\",\"-\",IFERROR(IF(Q2152=\"\",\"-\",INDEX(I:I,MATCH(Q2152,C:C,0)+1)),\"-\"))","v":"-"},"-","-"]
[{"$nulls":15},"-",null,{"$f":"SUMIF(Tableau1[Description article],Tableau1[Produits],Tableau1[Emplacement])","v":0},null,{"$f":"Sheet1!$S2153-Sheet1!$R2153","v":0},"-","-","-",{"$f":"IFERROR(Tableau1[[#This Row],[THEO]]-Tableau1[[#This Row],[Qtt 2éme lot]],\"-\")","v":"-"},"-",{"$f":"IF(Tableau1[[#This Row],[2éme lot]]=\"-\",\"-\",IFERROR(IF(Q2153=\"\",\"-\",INDEX(I:I,MATCH(Q2153,C:C,0)+1)),\"-\"))","v":"-"},"-","-"]
[{"$nulls":15},"-",null,{"$f":"SUMIF(Tableau1[Description article],Tableau1[Produits],Tableau1[Emplacement])","v":0},null,{"$f":"Sheet1!$S2154-Sheet1!$R2154","v":0},"-","-","-",{"$f":"IFERROR(Tableau1[[#This Row],[THEO]]-Tableau1[[#This Row],[Qtt 2éme lot]],\"-\")","v":"-"},"-",{"$f":"IF(Tableau1[[#This Row],[2éme lot]]=\"-\",\"-\",IFERROR(IF(Q2154=\"\",\"-\",INDEX(I:I,MATCH(Q2154,C:C,0)+1)),\"-\"))","v":"-"},"-","-"]
[{"$nulls":15},"-",null,{"$f":"SUMIF(Tableau1[Description article],Tableau1[Produits],Tableau1[Emplacement])","v":0},null,{"$f":"Sheet1!$S2155-Sheet1!$R2155","v":0},"-","-","-",{"$f":"IFERROR(Tableau1[[#This Row],[THEO]]-Tableau1[[#This Row],[Qtt 2éme lot]],\"-\")","v":"-"},"-",{"$f":"IF(Tableau1[[#This Row],[2éme lot]]=\"-\",\"-\",IFERROR(IF(Q2155=\"\",\"-\",INDEX(I:I,MATCH(Q2155,C:C,0)+1)),\"-\"))","v":"-"},"-","-"]
[{"$nulls":15},"-",null,{"$f":"SUMIF(Tableau1[Description article],Tableau1[Produits],Tableau1[Emplacement])","v":0},null,{"$f":"Sheet1!$S2156-Sheet1!$R2156","v":0},"-","-","-",{"$f":"IFERROR(Tableau1[[#This Row],[THEO]]-Tableau1[[#This Row],[Qtt 2éme lot]],\"-\")","v":"-"},"-",{"$f":"IF(Tableau1[[#This Row],[2éme lot]]=\"-\",\"-\",IFERROR(IF(Q2156=\"\",\"-\",INDEX(I:I,MATCH(Q2156,C:C,0)+1)),\"-\"))","v":"-"},"-","-"]
[{"$nulls":15},"-",null,{"$f":"SUMIF(Tableau1[Description article],Tableau1[Produits],Tableau1[Emplacement])","v":0},null,{"$f":"Sheet1!$S2157-Sheet1!$R2157","v":0},"-","-","-",{"$f":"IFERROR(Tableau1[[#This Row],[THEO]]-Tableau1[[#This Row],[Qtt 2éme lot]],\"-\")","v":"-"},"-",{"$f":"IF(Tableau1[[#This Row],[2éme lot]]=\"-\",\"-\",IFERROR(IF(Q2157=\"\",\"-\",INDEX(I:I,MATCH(Q2157,C:C,0)+1)),\"-\"))","v":"-"},"-","-"]
[{"$nulls":15},"-",null,{"$f":"SUMIF(Tableau1[Description article],Tableau1[Produits],Tableau1[Emplacement])","v":0},null,{"$f":"Sheet1!$S2158-Sheet1!$R2158","v":0},"-","-","-",{"$f":"IFERROR(Tableau1[[#This Row],[THEO]]-Tableau1[[#This Row],[Qtt 2éme lot]],\"-\")","v":"-"},"-",{"$f":"IF(Tableau1[[#This Row],[2éme lot]]=\"-\",\"-\",IFERROR(IF(Q2158=\"\",\"-\",INDEX(I:I,MATCH(Q2158,C:C,0)+1)),\"-\"))","v":"-"},"-","-"]
[{"$nulls":15},"-",null,{"$f":"SUMIF(Tableau1[Description article],Tableau1[Produits],Tableau1[Emplacement])","v":0},null,{"$f":"Sheet1!$S2159-Sheet1!$R2159","v":0},"-","-","-",{"$f":"IFERROR(Tableau1[[#This Row],[THEO]]-Tableau1[[#This Row],[Qtt 2éme lot]],\"-\")","v":"-"},"-",{"$f":"IF(Tableau1[[#This Row],[2éme lot]]=\"-\",\"-\",IFERROR(IF(Q2159=\"\",\"-\",INDEX(I:I,MATCH(Q2159,C:C,0)+1)),\"-\"))","v":"-"},"-","-"]
[{"$nulls":15},"-",null,{"$f":"SUMIF(Tableau1[Description article],Tableau1[Produits],Tableau1[Emplacement])","v":0},null,{"$f":"Sheet1!$S2160-Sheet1!$R2160","v":0},"-","-","-",{"$f":"IFERROR(Tableau1[[#This Row],[THEO]]-Tableau1[[#This Row],[Qtt 2éme lot]],\"-\")","v":"-"},"-",{"$f":"IF(Tableau1[[#This Row],[2éme lot]]=\"-\",\"-\",IFERROR(IF(Q2160=\"\",\"-\",INDEX(I:I,MATCH(Q2160,C:C,0)+1)),\"-\"))","v":"-"},"-","-"]
[{"$nulls":15},"-",null,{"$f":"SUMIF(Tableau1[Description article],Tableau1[Produits],Tableau1[Emplacement])","v":0},null,{"$f":"Sheet1!$S2161-Sheet1!$R2161","v":0},"-","-","-",{"$f":"IFERROR(Tableau1[[#This Row],[THEO]]-Tableau1[[#This Row],[Qtt 2éme lot]],\"-\")","v":"-"},"-",{"$f":"IF(Tableau1[[#This Row],[2éme lot]]=\"-\",\"-\",IFERROR(IF(Q2161=\"\",\"-\",INDEX(I:I,MATCH(Q2161,C:C,0)+1)),\"-\"))","v":"-"},"-","-"]
[{"$nulls":15},"-",null,{"$f":"SUMIF(Tableau1[Description article],Tableau1[Produits],Tableau1[Emplacement])","v":0},null,{"$f":"Sheet1!$S2162-Sheet1!$R2162","v":0},"-","-","-",{"$f":"IFERROR(Tableau1[[#This Row],[THEO]]-Tableau1[[#This Row],[Qtt 2éme lot]],\"-\")","v":"-"},"-",{"$f":"IF(Tableau1[[#This Row],[2éme lot]]=\"-\",\"-\",IFERROR(IF(Q2162=\"\",\"-\",INDEX(I:I,MATCH(Q2162,C:C,0)+1)),\"-\"))","v":"-"},"-","-"]
[{"$nulls":15},"-",null,{"$f":"SUMIF(Tableau1[Description article],Tableau1[Produits],Tableau1[Emplacement])","v":0},null,{"$f":"Sheet1!$S2163-Sheet1!$R2163","v":0},"-","-","-",{"$f":"IFERROR(Tableau1[[#This Row],[THEO]]-Tableau1[[#This Row],[Qtt 2éme lot]],\"-\")","v":"-"},"-",{"$f":"IF(Tableau1[[#This Row],[2éme lot]]=\"-\",\"-\",IFERROR(IF(Q2163=\"\",\"-\",INDEX(I:I,MATCH(Q2163,C:C,0)+1)),\"-\"))","v":"-"},"-","-"]
[{"$nulls":15},"-",null,{"$f":"SUMIF(Tableau1[Description article],Tableau1[Produits],Tableau1[Emplacement])","v":0},null,{"$f":"Sheet1!$S2164-Sheet1!$R2164","v":0},"-","-","-",{"$f":"IFERROR(Tableau1[[#This Row],[THEO]]-Tableau1[[#This Row],[Qtt 2éme lot]],\"-\")","v":"-"},"-",{"$f":"IF(Tableau1[[#This Row],[2éme lot]]=\"-\",\"-\",IFERROR(IF(Q2164=\"\",\"-\",INDEX(I:I,MATCH(Q2164,C:C,0)+1)),\"-\"))","v":"-"},"-","-"]
[{"$nulls":15},"-",null,{"$f":"SUMIF(Tableau1[Description article],Tableau1[Produits],Tableau1[Emplacement])","v":0},null,{"$f":"Sheet1!$S2165-Sheet1!$R2165","v":0},"-","-","-",{"$f":"IFERROR(Tableau1[[#This Row],[THEO]]-Tableau1[[#This Row],[Qtt 2éme lot]],\"-\")","v":"-"},"-",{"$f":"IF(Tableau1[[#This Row],[2éme lot]]=\"-\",\"-\",IFERROR(IF(Q2165=\"\",\"-\",INDEX(I:I,MATCH(Q2165,C:C,0)+1)),\"-\"))","v":"-"},"-","-"]
[{"$nulls":15},"-",null,{"$f":"SUMIF(Tableau1[Description article],Tableau1[Produits],Tableau1[Emplacement])","v":0},null,{"$f":"Sheet1!$S2166-Sheet1!$R2166","v":0},"-","-","-",{"$f":"IFERROR(Tableau1[[#This Row],[THEO]]-Tableau1[[#This Row],[Qtt 2éme lot]],\"-\")","v":"-"},"-",{"$f":"IF(Tableau1[[#This Row],[2éme lot]]=\"-\",\"-\",IFERROR(IF(Q2166=\"\",\"-\",INDEX(I:I,MATCH(Q2166,C:C,0)+1)),\"-\"))","v":"-"},"-","-"]
[{"$nulls":15},"-",null,{"$f":"SUMIF(Tableau1[Description article],Tableau1[Produits],Tableau1[Emplacement])","v":0},null,{"$f":"Sheet1!$S2167-Sheet1!$R2167","v":0},"-","-","-",{"$f":"IFERROR(Tableau1[[#This Row],[THEO]]-Tableau1[[#This Row],[Qtt 2éme lot]],\"-\")","v":"-"},"-",{"$f":"IF(Tableau1[[#This Row],[2éme lot]]=\"-\",\"-\",IFERROR(IF(Q2167=\"\",\"-\",INDEX(I:I,MATCH(Q2167,C:C,0)+1)),\"-\"))","v":"-"},"-","-"]
[{"$nulls":15},"-",null,{"$f":"SUMIF(Tableau1[Description article],Tableau1[Produits],Tableau1[Emplacement])","v":0},null,{"$f":"Sheet1!$S2168-Sheet1!$R2168","v":0},"-","-","-",{"$f":"IFERROR(Tableau1[[#This Row],[THEO]]-Tableau1[[#This Row],[Qtt 2éme lot]],\"-\")","v":"-"},"-",{"$f":"IF(Tableau1[[#This Row],[2éme lot]]=\"-\",\"-\",IFERROR(IF(Q2168=\"\",\"-\",INDEX(I:I,MATCH(Q2168,C:C,0)+1)),\"-\"))","v":"-"},"-","-"]
[{"$nulls":15},"-",null,{"$f":"SUMIF(Tableau1[Description article],Tableau1[Produits],Tableau1[Emplacement])","v":0},null,{"$f":"Sheet1!$S2169-Sheet1!$R2169","v":0},"-","-","-",{"$f":"IFERROR(Tableau1[[#This Row],[THEO]]-Tableau1[[#This Row],[Qtt 2éme lot]],\"-\")","v":"-"},"-",{"$f":"IF(Tableau1[[#This Row],[2éme lot]]=\"-\",\"-\",IFERROR(IF(Q2169=\"\",\"-\",INDEX(I:I,MATCH(Q2169,C:C,0)+1)),\"-\"))","v":"-"},"-","-"]
[{"$nulls":15},"-",null,{"$f":"SUMIF(Tableau1[Description article],Tableau1[Produits],Tableau1[Emplacement])","v":0},null,{"$f":"Sheet1!$S2170-Sheet1!$R2170","v":0},"-","-","-",{"$f":"IFERROR(Tableau1[[#This Row],[THEO]]-Tableau1[[#This Row],[Qtt 2éme lot]],\"-\")","v":"-"},"-",{"$f":"IF(Tableau1[[#This Row],[2éme lot]]=\"-\",\"-\",IFERROR(IF(Q2170=\"\",\"-\",INDEX(I:I,MATCH(Q2170,C:C,0)+1)),\"-\"))","v":"-"},"-","-"]
[{"$nulls":15},"-",null,{"$f":"SUMIF(Tableau1[Description article],Tableau1[Produits],Tableau1[Emplacement])","v":0},null,{"$f":"Sheet1!$S2171-Sheet1!$R2171","v":0},"-","-","-",{"$f":"IFERROR(Tableau1[[#This Row],[THEO]]-Tableau1[[#This Row],[Qtt 2éme lot]],\"-\")","v":"-"},"-",{"$f":"IF(Tableau1[[#This Row],[2éme lot]]=\"-\",\"-\",IFERROR(IF(Q2171=\"\",\"-\",INDEX(I:I,MATCH(Q2171,C:C,0)+1)),\"-\"))","v":"-"},"-","-"]
[{"$nulls":15},"-",null,{"$f":"SUMIF(Tableau1[Description article],Tableau1[Produits],Tableau1[Emplacement])","v":0},null,{"$f":"Sheet1!$S2172-Sheet1!$R2172","v":0},"-","-","-",{"$f":"IFERROR(Tableau1[[#This Row],[THEO]]-Tableau1[[#This Row],[Qtt 2éme lot]],\"-\")","v":"-"},"-",{"$f":"IF(Tableau1[[#This Row],[2éme lot]]=\"-\",\"-\",IFERROR(IF(Q2172=\"\",\"-\",INDEX(I:I,MATCH(Q2172,C:C,0)+1)),\"-\"))","v":"-"},"-","-"]
[{"$nulls":15},"-",null,{"$f":"SUMIF(Tableau1[Description article],Tableau1[Produits],Tableau1[Emplacement])","v":0},null,{"$f":"Sheet1!$S2173-Sheet1!$R2173","v":0},"-","-","-",{"$f":"IFERROR(Tableau1[[#This Row],[THEO]]-Tableau1[[#This Row],[Qtt 2éme lot]],\"-\")","v":"-"},"-",{"$f":"IF(Tableau1[[#This Row],[2éme lot]]=\"-\",\"-\",IFERROR(IF(Q2173=\"\",\"-\",INDEX(I:I,MATCH(Q2173,C:C,0)+1)),\"-\"))","v":"-"},"-","-"]
[{"$nulls":15},"-",null,{"$f":"SUMIF(Tableau1[Description article],Tableau1[Produits],Tableau1[Emplacement])","v":0},null,{"$f":"Sheet1!$S2174-Sheet1!$R2174","v":0},"-","-","-",{"$f":"IFERROR(Tableau1[[#This Row],[THEO]]-Tableau1[[#This Row],[Qtt 2éme lot]],\"-\")","v":"-"},"-",{"$f":"IF(Tableau1[[#This Row],[2éme lot]]=\"-\",\"-\",IFERROR(IF(Q2174=\"\",\"-\",INDEX(I:I,MATCH(Q2174,C:C,0)+1)),\"-\"))","v":"-"},"-","-"]
[{"$nulls":15},"-",null,{"$f":"SUMIF(Tableau1[Description article],Tableau1[Produits],Tableau1[Emplacement])","v":0},null,{"$f":"Sheet1!$S2175-Sheet1!$R2175","v":0},"-","-","-",{"$f":"IFERROR(Tableau1[[#This Row],[THEO]]-Tableau1[[#This Row],[Qtt 2éme lot]],\"-\")","v":"-"},"-",{"$f":"IF(Tableau1[[#This Row],[2éme lot]]=\"-\",\"-\",IFERROR(IF(Q2175=\"\",\"-\",INDEX(I:I,MATCH(Q2175,C:C,0)+1)),\"-\"))","v":"-"},"-","-"]
[{"$nulls":15},"-",null,{"$f":"SUMIF(Tableau1[Description article],Tableau1[Produits],Tableau1[Emplacement])","v":0},null,{"$f":"Sheet1!$S2176-Sheet1!$R2176","v":0},"-","-","-",{"$f":"IFERROR(Tableau1[[#This Row],[THEO]]-Tableau1[[#This Row],[Qtt 2éme lot]],\"-\")","v":"-"},"-",{"$f":"IF(Tableau1[[#This Row],[2éme lot]]=\"-\",\"-\",IFERROR(IF(Q2176=\"\",\"-\",INDEX(I:I,MATCH(Q2176,C:C,0)+1)),\"-\"))","v":"-"},"-","-"]
[{"$nulls":15},"-",null,{"$f":"SUMIF(Tableau1[Description article],Tableau1[Produits],Tableau1[Emplacement])","v":0},null,{"$f":"Sheet1!$S2177-Sheet1!$R2177","v":0},"-","-","-",{"$f":"IFERROR(Tableau1[[#This Row],[THEO]]-Tableau1[[#This Row],[Qtt 2éme lot]],\"-\")","v":"-"},"-",{"$f":"IF(Tableau1[[#This Row],[2éme lot]]=\"-\",\"-\",IFERROR(IF(Q2177=\"\",\"-\",INDEX(I:I,MATCH(Q2177,C:C,0)+1)),\"-\"))","v":"-"},"-","-"]
[{"$nulls":15},{"$f":"IFERROR(IF(Q2178=\"\",\"-\",INDEX(I:I,MATCH(Q2178,C:C,0))),\"-\")","v":"-"},null,{"$f":"SUMIF(Tableau1[Description article],Tableau1[Produits],Tableau1[Emplacement])","v":0},null,{"$f":"Sheet1!$S2178-Sheet1!$R2178","v":0},{"$f":"IFERROR(IF(Q2178=\"\",\"-\",INDEX(F:F,MATCH(Q2178,C:C,0))),\"-\")","v":"-"},{"$f":"IFERROR(IF(Q2178=\"\",\"-\",INDEX(E:E,MATCH(Q2178,C:C,0))),\"-\")","v":"-"},{"$f":"IFERROR(IF(Q2178=\"\",\"-\",INDEX(N:N,MATCH(Q2178,C:C,0))),\"-\")","v":"-"},{"$f":"IFERROR(Tableau1[[#This Row],[THEO]]-Tableau1[[#This Row],[Qtt 2éme lot]],\"-\")","v":"-"},{"$f":"IF(IF(Q2178=\"\",\"-\",INDEX(E:E,MATCH(Q2178,C:C,0)))=IF(Q2178=\"\",\"-\",INDEX(E:E,MATCH(Q2178,C:C,1))),\"-\",IF(Q2178=\"\",\"-\",INDEX(E:E,MATCH(Q2178,C:C,1))))","v":"-"},{"$f":"IF(Tableau1[[#This Row],[2éme lot]]=\"-\",\"-\",IFERROR(IF(Q2178=\"\",\"-\",INDEX(I:I,MATCH(Q2178,C:C,0)+1)),\"-\"))","v":"-"},{"$f":"IFERROR(IF(Y2178=\"\",\"-\",INDEX(N:N,MATCH(Y2178,E:E,0))),\"-\")","v":"-"},{"$f":"IFERROR(IF(AA2178=\"\",\"-\",INDEX(H:H,MATCH(Y2178,E:E,0))),\"-\")","v":"-"}]
[{"$nulls":15},"-",null,{"$f":"SUMIF(Tableau1[Description article],Tableau1[Produits],Tableau1[Emplacement])","v":0},null,{"$f":"Sheet1!$S2179-Sheet1!$R2179","v":0},"-","-","-",{"$f":"IFERROR(Tableau1[[#This Row],[THEO]]-Tableau1[[#This Row],[Qtt 2éme lot]],\"-\")","v":"-"},"-",{"$f":"IF(Tableau1[[#This Row],[2éme lot]]=\"-\",\"-\",IFERROR(IF(Q2179=\"\",\"-\",INDEX(I:I,MATCH(Q2179,C:C,0)+1)),\"-\"))","v":"-"},"-","-"]
[{"$nulls":15},"-",null,{"$f":"SUMIF(Tableau1[Description article],Tableau1[Produits],Tableau1[Emplacement])","v":0},null,{"$f":"Sheet1!$S2180-Sheet1!$R2180","v":0},"-","-","-",{"$f":"IFERROR(Tableau1[[#This Row],[THEO]]-Tableau1[[#This Row],[Qtt 2éme lot]],\"-\")","v":"-"},"-",{"$f":"IF(Tableau1[[#This Row],[2éme lot]]=\"-\",\"-\",IFERROR(IF(Q2180=\"\",\"-\",INDEX(I:I,MATCH(Q2180,C:C,0)+1)),\"-\"))","v":"-"},"-","-"]
[{"$nulls":15},"-",null,{"$f":"SUMIF(Tableau1[Description article],Tableau1[Produits],Tableau1[Emplacement])","v":0},null,{"$f":"Sheet1!$S2181-Sheet1!$R2181","v":0},"-","-","-",{"$f":"IFERROR(Tableau1[[#This Row],[THEO]]-Tableau1[[#This Row],[Qtt 2éme lot]],\"-\")","v":"-"},"-",{"$f":"IF(Tableau1[[#This Row],[2éme lot]]=\"-\",\"-\",IFERROR(IF(Q2181=\"\",\"-\",INDEX(I:I,MATCH(Q2181,C:C,0)+1)),\"-\"))","v":"-"},"-","-"]
[{"$nulls":15},"-",null,{"$f":"SUMIF(Tableau1[Description article],Tableau1[Produits],Tableau1[Emplacement])","v":0},null,{"$f":"Sheet1!$S2182-Sheet1!$R2182","v":0},"-","-","-",{"$f":"IFERROR(Tableau1[[#This Row],[THEO]]-Tableau1[[#This Row],[Qtt 2éme lot]],\"-\")","v":"-"},"-",{"$f":"IF(Tableau1[[#This Row],[2éme lot]]=\"-\",\"-\",IFERROR(IF(Q2182=\"\",\"-\",INDEX(I:I,MATCH(Q2182,C:C,0)+1)),\"-\"))","v":"-"},"-","-"]
[{"$nulls":15},"-",null,{"$f":"SUMIF(Tableau1[Description article],Tableau1[Produits],Tableau1[Emplacement])","v":0},null,{"$f":"Sheet1!$S2183-Sheet1!$R2183","v":0},"-","-","-",{"$f":"IFERROR(Tableau1[[#This Row],[THEO]]-Tableau1[[#This Row],[Qtt 2éme lot]],\"-\")","v":"-"},"-",{"$f":"IF(Tableau1[[#This Row],[2éme lot]]=\"-\",\"-\",IFERROR(IF(Q2183=\"\",\"-\",INDEX(I:I,MATCH(Q2183,C:C,0)+1)),\"-\"))","v":"-"},"-","-"]
[{"$nulls":15},"-",null,{"$f":"SUMIF(Tableau1[Description article],Tableau1[Produits],Tableau1[Emplacement])","v":0},null,{"$f":"Sheet1!$S2184-Sheet1!$R2184","v":0},"-","-","-",{"$f":"IFERROR(Tableau1[[#This Row],[THEO]]-Tableau1[[#This Row],[Qtt 2éme lot]],\"-\")","v":"-"},"-",{"$f":"IF(Tableau1[[#This Row],[2éme lot]]=\"-\",\"-\",IFERROR(IF(Q2184=\"\",\"-\",INDEX(I:I,MATCH(Q2184,C:C,0)+1)),\"-\"))","v":"-"},"-","-"]
[{"$nulls":15},"-",null,{"$f":"SUMIF(Tableau1[Description article],Tableau1[Produits],Tableau1[Emplacement])","v":0},null,{"$f":"Sheet1!$S2185-Sheet1!$R2185","v":0},"-","-","-",{"$f":"IFERROR(Tableau1[[#This Row],[THEO]]-Tableau1[[#This Row],[Qtt 2éme lot]],\"-\")","v":"-"},"-",{"$f":"IF(Tableau1[[#This Row],[2éme lot]]=\"-\",\"-\",IFERROR(IF(Q2185=\"\",\"-\",INDEX(I:I,MATCH(Q2185,C:C,0)+1)),\"-\"))","v":"-"},"-","-"]
[{"$nulls":15},"-",null,{"$f":"SUMIF(Tableau1[Description article],Tableau1[Produits],Tableau1[Emplacement])","v":0},null,{"$f":"Sheet1!$S2186-Sheet1!$R2186","v":0},"-","-","-",{"$f":"IFERROR(Tableau1[[#This Row],[THEO]]-Tableau1[[#This Row],[Qtt 2éme lot]],\"-\")","v":"-"},"-",{"$f":"IF(Tableau1[[#This Row],[2éme lot]]=\"-\",\"-\",IFERROR(IF(Q2186=\"\",\"-\",INDEX(I:I,MATCH(Q2186,C:C,0)+1)),\"-\"))","v":"-"},"-","-"]
[{"$nulls":15},"-",null,{"$f":"SUMIF(Tableau1[Description article],Tableau1[Produits],Tableau1[Emplacement])","v":0},null,{"$f":"Sheet1!$S2187-Sheet1!$R2187","v":0},"-","-","-",{"$f":"IFERROR(Tableau1[[#This Row],[THEO]]-Tableau1[[#This Row],[Qtt 2éme lot]],\"-\")","v":"-"},"-",{"$f":"IF(Tableau1[[#This Row],[2éme lot]]=\"-\",\"-\",IFERROR(IF(Q2187=\"\",\"-\",INDEX(I:I,MATCH(Q2187,C:C,0)+1)),\"-\"))","v":"-"},"-","-"]
[{"$nulls":15},"-",null,{"$f":"SUMIF(Tableau1[Description article],Tableau1[Produits],Tableau1[Emplacement])","v":0},null,{"$f":"Sheet1!$S2188-Sheet1!$R2188","v":0},"-","-","-",{"$f":"IFERROR(Tableau1[[#This Row],[THEO]]-Tableau1[[#This Row],[Qtt 2éme lot]],\"-\")","v":"-"},"-",{"$f":"IF(Tableau1[[#This Row],[2éme lot]]=\"-\",\"-\",IFERROR(IF(Q2188=\"\",\"-\",INDEX(I:I,MATCH(Q2188,C:C,0)+1)),\"-\"))","v":"-"},"-","-"]
[{"$nulls":15},"-",null,{"$f":"SUMIF(Tableau1[Description article],Tableau1[Produits],Tableau1[Emplacement])","v":0},null,{"$f":"Sheet1!$S2189-Sheet1!$R2189","v":0},"-","-","-",{"$f":"IFERROR(Tableau1[[#This Row],[THEO]]-Tableau1[[#This Row],[Qtt 2éme lot]],\"-\")","v":"-"},"-",{"$f":"IF(Tableau1[[#This Row],[2éme lot]]=\"-\",\"-\",IFERROR(IF(Q2189=\"\",\"-\",INDEX(I:I,MATCH(Q2189,C:C,0)+1)),\"-\"))","v":"-"},"-","-"]
[{"$nulls":15},"-",null,{"$f":"SUMIF(Tableau1[Description article],Tableau1[Produits],Tableau1[Emplacement])","v":0},null,{"$f":"Sheet1!$S2190-Sheet1!$R2190","v":0},"-","-","-",{"$f":"IFERROR(Tableau1[[#This Row],[THEO]]-Tableau1[[#This Row],[Qtt 2éme lot]],\"-\")","v":"-"},"-",{"$f":"IF(Tableau1[[#This Row],[2éme lot]]=\"-\",\"-\",IFERROR(IF(Q2190=\"\",\"-\",INDEX(I:I,MATCH(Q2190,C:C,0)+1)),\"-\"))","v":"-"},"-","-"]
[{"$nulls":15},"-",null,{"$f":"SUMIF(Tableau1[Description article],Tableau1[Produits],Tableau1[Emplacement])","v":0},null,{"$f":"Sheet1!$S2191-Sheet1!$R2191","v":0},"-","-","-",{"$f":"IFERROR(Tableau1[[#This Row],[THEO]]-Tableau1[[#This Row],[Qtt 2éme lot]],\"-\")","v":"-"},"-",{"$f":"IF(Tableau1[[#This Row],[2éme lot]]=\"-\",\"-\",IFERROR(IF(Q2191=\"\",\"-\",INDEX(I:I,MATCH(Q2191,C:C,0)+1)),\"-\"))","v":"-"},"-","-"]
[{"$nulls":15},"-",null,{"$f":"SUMIF(Tableau1[Description article],Tableau1[Produits],Tableau1[Emplacement])","v":0},null,{"$f":"Sheet1!$S2192-Sheet1!$R2192","v":0},"-","-","-",{"$f":"IFERROR(Tableau1[[#This Row],[THEO]]-Tableau1[[#This Row],[Qtt 2éme lot]],\"-\")","v":"-"},"-",{"$f":"IF(Tableau1[[#This Row],[2éme lot]]=\"-\",\"-\",IFERROR(IF(Q2192=\"\",\"-\",INDEX(I:I,MATCH(Q2192,C:C,0)+1)),\"-\"))","v":"-"},"-","-"]
[{"$nulls":15},"-",null,{"$f":"SUMIF(Tableau1[Description article],Tableau1[Produits],Tableau1[Emplacement])","v":0},null,{"$f":"Sheet1!$S2193-Sheet1!$R2193","v":0},"-","-","-",{"$f":"IFERROR(Tableau1[[#This Row],[THEO]]-Tableau1[[#This Row],[Qtt 2éme lot]],\"-\")","v":"-"},"-",{"$f":"IF(Tableau1[[#This Row],[2éme lot]]=\"-\",\"-\",IFERROR(IF(Q2193=\"\",\"-\",INDEX(I:I,MATCH(Q2193,C:C,0)+1)),\"-\"))","v":"-"},"-","-"]
[{"$nulls":15},"-",null,{"$f":"SUMIF(Tableau1[Description article],Tableau1[Produits],Tableau1[Emplacement])","v":0},null,{"$f":"Sheet1!$S2194-Sheet1!$R2194","v":0},"-","-","-",{"$f":"IFERROR(Tableau1[[#This Row],[THEO]]-Tableau1[[#This Row],[Qtt 2éme lot]],\"-\")","v":"-"},"-",{"$f":"IF(Tableau1[[#This Row],[2éme lot]]=\"-\",\"-\",IFERROR(IF(Q2194=\"\",\"-\",INDEX(I:I,MATCH(Q2194,C:C,0)+1)),\"-\"))","v":"-"},"-","-"]
[{"$nulls":15},"-",null,{"$f":"SUMIF(Tableau1[Description article],Tableau1[Produits],Tableau1[Emplacement])","v":0},null,{"$f":"Sheet1!$S2195-Sheet1!$R2195","v":0},"-","-","-",{"$f":"IFERROR(Tableau1[[#This Row],[THEO]]-Tableau1[[#This Row],[Qtt 2éme lot]],\"-\")","v":"-"},"-",{"$f":"IF(Tableau1[[#This Row],[2éme lot]]=\"-\",\"-\",IFERROR(IF(Q2195=\"\",\"-\",INDEX(I:I,MATCH(Q2195,C:C,0)+1)),\"-\"))","v":"-"},"-","-"]
[{"$nulls":15},"-",null,{"$f":"SUMIF(Tableau1[Description article],Tableau1[Produits],Tableau1[Emplacement])","v":0},null,{"$f":"Sheet1!$S2196-Sheet1!$R2196","v":0},"-","-","-",{"$f":"IFERROR(Tableau1[[#This Row],[THEO]]-Tableau1[[#This Row],[Qtt 2éme lot]],\"-\")","v":"-"},"-",{"$f":"IF(Tableau1[[#This Row],[2éme lot]]=\"-\",\"-\",IFERROR(IF(Q2196=\"\",\"-\",INDEX(I:I,MATCH(Q2196,C:C,0)+1)),\"-\"))","v":"-"},"-","-"]
[{"$nulls":15},"-",null,{"$f":"SUMIF(Tableau1[Description article],Tableau1[Produits],Tableau1[Emplacement])","v":0},null,{"$f":"Sheet1!$S2197-Sheet1!$R2197","v":0},"-","-","-",{"$f":"IFERROR(Tableau1[[#This Row],[THEO]]-Tableau1[[#This Row],[Qtt 2éme lot]],\"-\")","v":"-"},"-",{"$f":"IF(Tableau1[[#This Row],[2éme lot]]=\"-\",\"-\",IFERROR(IF(Q2197=\"\",\"-\",INDEX(I:I,MATCH(Q2197,C:C,0)+1)),\"-\"))","v":"-"},"-","-"]
[{"$nulls":15},"-",null,{"$f":"SUMIF(Tableau1[Description article],Tableau1[Produits],Tableau1[Emplacement])","v":0},null,{"$f":"Sheet1!$S2198-Sheet1!$R2198","v":0},"-","-","-",{"$f":"IFERROR(Tableau1[[#This Row],[THEO]]-Tableau1[[#This Row],[Qtt 2éme lot]],\"-\")","v":"-"},"-",{"$f":"IF(Tableau1[[#This Row],[2éme lot]]=\"-\",\"-\",IFERROR(IF(Q2198=\"\",\"-\",INDEX(I:I,MATCH(Q2198,C:C,0)+1)),\"-\"))","v":"-"},"-","-"]
[{"$nulls":15},"-",null,{"$f":"SUMIF(Tableau1[Description article],Tableau1[Produits],Tableau1[Emplacement])","v":0},null,{"$f":"Sheet1!$S2199-Sheet1!$R2199","v":0},"-","-","-",{"$f":"IFERROR(Tableau1[[#This Row],[THEO]]-Tableau1[[#This Row],[Qtt 2éme lot]],\"-\")","v":"-"},"-",{"$f":"IF(Tableau1[[#This Row],[2éme lot]]=\"-\",\"-\",IFERROR(IF(Q2199=\"\",\"-\",INDEX(I:I,MATCH(Q2199,C:C,0)+1)),\"-\"))","v":"-"},"-","-"]
[{"$nulls":15},"-",null,{"$f":"SUMIF(Tableau1[Description article],Tableau1[Produits],Tableau1[Emplacement])","v":0},null,{"$f":"Sheet1!$S2200-Sheet1!$R2200","v":0},"-","-","-",{"$f":"IFERROR(Tableau1[[#This Row],[THEO]]-Tableau1[[#This Row],[Qtt 2éme lot]],\"-\")","v":"-"},"-",{"$f":"IF(Tableau1[[#This Row],[2éme lot]]=\"-\",\"-\",IFERROR(IF(Q2200=\"\",\"-\",INDEX(I:I,MATCH(Q2200,C:C,0)+1)),\"-\"))","v":"-"},"-","-"]
[{"$nulls":15},"-",null,{"$f":"SUMIF(Tableau1[Description article],Tableau1[Produits],Tableau1[Emplacement])","v":0},null,{"$f":"Sheet1!$S2201-Sheet1!$R2201","v":0},"-","-","-",{"$f":"IFERROR(Tableau1[[#This Row],[THEO]]-Tableau1[[#This Row],[Qtt 2éme lot]],\"-\")","v":"-"},"-",{"$f":"IF(Tableau1[[#This Row],[2éme lot]]=\"-\",\"-\",IFERROR(IF(Q2201=\"\",\"-\",INDEX(I:I,MATCH(Q2201,C:C,0)+1)),\"-\"))","v":"-"},"-","-"]
[{"$nulls":15},"-",null,{"$f":"SUMIF(Tableau1[Description article],Tableau1[Produits],Tableau1[Emplacement])","v":0},null,{"$f":"Sheet1!$S2202-Sheet1!$R2202","v":0},"-","-","-",{"$f":"IFERROR(Tableau1[[#This Row],[THEO]]-Tableau1[[#This Row],[Qtt 2éme lot]],\"-\")","v":"-"},"-",{"$f":"IF(Tableau1[[#This Row],[2éme lot]]=\"-\",\"-\",IFERROR(IF(Q2202=\"\",\"-\",INDEX(I:I,MATCH(Q2202,C:C,0)+1)),\"-\"))","v":"-"},"-","-"]
[{"$nulls":15},"-",null,{"$f":"SUMIF(Tableau1[Description article],Tableau1[Produits],Tableau1[Emplacement])","v":0},null,{"$f":"Sheet1!$S2203-Sheet1!$R2203","v":0},"-","-","-",{"$f":"IFERROR(Tableau1[[#This Row],[THEO]]-Tableau1[[#This Row],[Qtt 2éme lot]],\"-\")","v":"-"},"-",{"$f":"IF(Tableau1[[#This Row],[2éme lot]]=\"-\",\"-\",IFERROR(IF(Q2203=\"\",\"-\",INDEX(I:I,MATCH(Q2203,C:C,0)+1)),\"-\"))","v":"-"},"-","-"]
[{"$nulls":15},"-",null,{"$f":"SUMIF(Tableau1[Description article],Tableau1[Produits],Tableau1[Emplacement])","v":0},null,{"$f":"Sheet1!$S2204-Sheet1!$R2204","v":0},"-","-","-",{"$f":"IFERROR(Tableau1[[#This Row],[THEO]]-Tableau1[[#This Row],[Qtt 2éme lot]],\"-\")","v":"-"},"-",{"$f":"IF(Tableau1[[#This Row],[2éme lot]]=\"-\",\"-\",IFERROR(IF(Q2204=\"\",\"-\",INDEX(I:I,MATCH(Q2204,C:C,0)+1)),\"-\"))","v":"-"},"-","-"]
[{"$nulls":15},"-",null,{"$f":"SUMIF(Tableau1[Description article],Tableau1[Produits],Tableau1[Emplacement])","v":0},null,{"$f":"Sheet1!$S2205-Sheet1!$R2205","v":0},"-","-","-",{"$f":"IFERROR(Tableau1[[#This Row],[THEO]]-Tableau1[[#This Row],[Qtt 2éme lot]],\"-\")","v":"-"},"-",{"$f":"IF(Tableau1[[#This Row],[2éme lot]]=\"-\",\"-\",IFERROR(IF(Q2205=\"\",\"-\",INDEX(I:I,MATCH(Q2205,C:C,0)+1)),\"-\"))","v":"-"},"-","-"]
[{"$nulls":15},"-",null,{"$f":"SUMIF(Tableau1[Description article],Tableau1[Produits],Tableau1[Emplacement])","v":0},null,{"$f":"Sheet1!$S2206-Sheet1!$R2206","v":0},"-","-","-",{"$f":"IFERROR(Tableau1[[#This Row],[THEO]]-Tableau1[[#This Row],[Qtt 2éme lot]],\"-\")","v":"-"},"-",{"$f":"IF(Tableau1[[#This Row],[2éme lot]]=\"-\",\"-\",IFERROR(IF(Q2206=\"\",\"-\",INDEX(I:I,MATCH(Q2206,C:C,0)+1)),\"-\"))","v":"-"},"-","-"]
[{"$nulls":15},"-",null,{"$f":"SUMIF(Tableau1[Description article],Tableau1[Produits],Tableau1[Emplacement])","v":0},null,{"$f":"Sheet1!$S2207-Sheet1!$R2207","v":0},"-","-","-",{"$f":"IFERROR(Tableau1[[#This Row],[THEO]]-Tableau1[[#This Row],[Qtt 2éme lot]],\"-\")","v":"-"},"-",{"$f":"IF(Tableau1[[#This Row],[2éme lot]]=\"-\",\"-\",IFERROR(IF(Q2207=\"\",\"-\",INDEX(I:I,MATCH(Q2207,C:C,0)+1)),\"-\"))","v":"-"},"-","-"]
[{"$nulls":15},"-",null,{"$f":"SUMIF(Tableau1[Description article],Tableau1[Produits],Tableau1[Emplacement])","v":0},null,{"$f":"Sheet1!$S2208-Sheet1!$R2208","v":0},"-","-","-",{"$f":"IFERROR(Tableau1[[#This Row],[THEO]]-Tableau1[[#This Row],[Qtt 2éme lot]],\"-\")","v":"-"},"-",{"$f":"IF(Tableau1[[#This Row],[2éme lot]]=\"-\",\"-\",IFERROR(IF(Q2208=\"\",\"-\",INDEX(I:I,MATCH(Q2208,C:C,0)+1)),\"-\"))","v":"-"},"-","-"]
[{"$nulls":15},"-",null,{"$f":"SUMIF(Tableau1[Description article],Tableau1[Produits],Tableau1[Emplacement])","v":0},null,{"$f":"Sheet1!$S2209-Sheet1!$R2209","v":0},"-","-","-",{"$f":"IFERROR(Tableau1[[#This Row],[THEO]]-Tableau1[[#This Row],[Qtt 2éme lot]],\"-\")","v":"-"},"-",{"$f":"IF(Tableau1[[#This Row],[2éme lot]]=\"-\",\"-\",IFERROR(IF(Q2209=\"\",\"-\",INDEX(I:I,MATCH(Q2209,C:C,0)+1)),\"-\"))","v":"-"},"-","-"]
[{"$nulls":15},"-",null,{"$f":"SUMIF(Tableau1[Description article],Tableau1[Produits],Tableau1[Emplacement])","v":0},null,{"$f":"Sheet1!$S2210-Sheet1!$R2210","v":0},"-","-","-",{"$f":"IFERROR(Tableau1[[#This Row],[THEO]]-Tableau1[[#This Row],[Qtt 2éme lot]],\"-\")","v":"-"},"-",{"$f":"IF(Tableau1[[#This Row],[2éme lot]]=\"-\",\"-\",IFERROR(IF(Q2210=\"\",\"-\",INDEX(I:I,MATCH(Q2210,C:C,0)+1)),\"-\"))","v":"-"},"-","-"]
[{"$nulls":15},"-",null,{"$f":"SUMIF(Tableau1[Description article],Tableau1[Produits],Tableau1[Emplacement])","v":0},null,{"$f":"Sheet1!$S2211-Sheet1!$R2211","v":0},"-","-","-",{"$f":"IFERROR(Tableau1[[#This Row],[THEO]]-Tableau1[[#This Row],[Qtt 2éme lot]],\"-\")","v":"-"},"-",{"$f":"IF(Tableau1[[#This Row],[2éme lot]]=\"-\",\"-\",IFERROR(IF(Q2211=\"\",\"-\",INDEX(I:I,MATCH(Q2211,C:C,0)+1)),\"-\"))","v":"-"},"-","-"]
[{"$nulls":15},"-",null,{"$f":"SUMIF(Tableau1[Description article],Tableau1[Produits],Tableau1[Emplacement])","v":0},null,{"$f":"Sheet1!$S2212-Sheet1!$R2212","v":0},"-","-","-",{"$f":"IFERROR(Tableau1[[#This Row],[THEO]]-Tableau1[[#This Row],[Qtt 2éme lot]],\"-\")","v":"-"},"-",{"$f":"IF(Tableau1[[#This Row],[2éme lot]]=\"-\",\"-\",IFERROR(IF(Q2212=\"\",\"-\",INDEX(I:I,MATCH(Q2212,C:C,0)+1)),\"-\"))","v":"-"},"-","-"]
[{"$nulls":15},"-",null,{"$f":"SUMIF(Tableau1[Description article],Tableau1[Produits],Tableau1[Emplacement])","v":0},null,{"$f":"Sheet1!$S2213-Sheet1!$R2213","v":0},"-","-","-",{"$f":"IFERROR(Tableau1[[#This Row],[THEO]]-Tableau1[[#This Row],[Qtt 2éme lot]],\"-\")","v":"-"},"-",{"$f":"IF(Tableau1[[#This Row],[2éme lot]]=\"-\",\"-\",IFERROR(IF(Q2213=\"\",\"-\",INDEX(I:I,MATCH(Q2213,C:C,0)+1)),\"-\"))","v":"-"},"-","-"]
[{"$nulls":15},"-",null,{"$f":"SUMIF(Tableau1[Description article],Tableau1[Produits],Tableau1[Emplacement])","v":0},null,{"$f":"Sheet1!$S2214-Sheet1!$R2214","v":0},"-","-","-",{"$f":"IFERROR(Tableau1[[#This Row],[THEO]]-Tableau1[[#This Row],[Qtt 2éme lot]],\"-\")","v":"-"},"-",{"$f":"IF(Tableau1[[#This Row],[2éme lot]]=\"-\",\"-\",IFERROR(IF(Q2214=\"\",\"-\",INDEX(I:I,MATCH(Q2214,C:C,0)+1)),\"-\"))","v":"-"},"-","-"]
[{"$nulls":15},"-",null,{"$f":"SUMIF(Tableau1[Description article],Tableau1[Produits],Tableau1[Emplacement])","v":0},null,{"$f":"Sheet1!$S2215-Sheet1!$R2215","v":0},"-","-","-",{"$f":"IFERROR(Tableau1[[#This Row],[THEO]]-Tableau1[[#This Row],[Qtt 2éme lot]],\"-\")","v":"-"},"-",{"$f":"IF(Tableau1[[#This Row],[2éme lot]]=\"-\",\"-\",IFERROR(IF(Q2215=\"\",\"-\",INDEX(I:I,MATCH(Q2215,C:C,0)+1)),\"-\"))","v":"-"},"-","-"]
[{"$nulls":15},"-",null,{"$f":"SUMIF(Tableau1[Description article],Tableau1[Produits],Tableau1[Emplacement])","v":0},null,{"$f":"Sheet1!$S2216-Sheet1!$R2216","v":0},"-","-","-",{"$f":"IFERROR(Tableau1[[#This Row],[THEO]]-Tableau1[[#This Row],[Qtt 2éme lot]],\"-\")","v":"-"},"-",{"$f":"IF(Tableau1[[#This Row],[2éme lot]]=\"-\",\"-\",IFERROR(IF(Q2216=\"\",\"-\",INDEX(I:I,MATCH(Q2216,C:C,0)+1)),\"-\"))","v":"-"},"-","-"]
[{"$nulls":15},"-",null,{"$f":"SUMIF(Tableau1[Description article],Tableau1[Produits],Tableau1[Emplacement])","v":0},null,{"$f":"Sheet1!$S2217-Sheet1!$R2217","v":0},"-","-","-",{"$f":"IFERROR(Tableau1[[#This Row],[THEO]]-Tableau1[[#This Row],[Qtt 2éme lot]],\"-\")","v":"-"},"-",{"$f":"IF(Tableau1[[#This Row],[2éme lot]]=\"-\",\"-\",IFERROR(IF(Q2217=\"\",\"-\",INDEX(I:I,MATCH(Q2217,C:C,0)+1)),\"-\"))","v":"-"},"-","-"]
[{"$nulls":15},"-",null,{"$f":"SUMIF(Tableau1[Description article],Tableau1[Produits],Tableau1[Emplacement])","v":0},null,{"$f":"Sheet1!$S2218-Sheet1!$R2218","v":0},"-","-","-",{"$f":"IFERROR(Tableau1[[#This Row],[THEO]]-Tableau1[[#This Row],[Qtt 2éme lot]],\"-\")","v":"-"},"-",{"$f":"IF(Tableau1[[#This Row],[2éme lot]]=\"-\",\"-\",IFERROR(IF(Q2218=\"\",\"-\",INDEX(I:I,MATCH(Q2218,C:C,0)+1)),\"-\"))","v":"-"},"-","-"]
[{"$nulls":15},"-",null,{"$f":"SUMIF(Tableau1[Description article],Tableau1[Produits],Tableau1[Emplacement])","v":0},null,{"$f":"Sheet1!$S2219-Sheet1!$R2219","v":0},"-","-","-",{"$f":"IFERROR(Tableau1[[#This Row],[THEO]]-Tableau1[[#This Row],[Qtt 2éme lot]],\"-\")","v":"-"},"-",{"$f":"IF(Tableau1[[#This Row],[2éme lot]]=\"-\",\"-\",IFERROR(IF(Q2219=\"\",\"-\",INDEX(I:I,MATCH(Q2219,C:C,0)+1)),\"-\"))","v":"-"},"-","-"]
[{"$nulls":15},"-",null,{"$f":"SUMIF(Tableau1[Description article],Tableau1[Produits],Tableau1[Emplacement])","v":0},null,{"$f":"Sheet1!$S2220-Sheet1!$R2220","v":0},"-","-","-",{"$f":"IFERROR(Tableau1[[#This Row],[THEO]]-Tableau1[[#This Row],[Qtt 2éme lot]],\"-\")","v":"-"},"-",{"$f":"IF(Tableau1[[#This Row],[2éme lot]]=\"-\",\"-\",IFERROR(IF(Q2220=\"\",\"-\",INDEX(I:I,MATCH(Q2220,C:C,0)+1)),\"-\"))","v":"-"},"-","-"]
[{"$nulls":15},"-",null,{"$f":"SUMIF(Tableau1[Description article],Tableau1[Produits],Tableau1[Emplacement])","v":0},null,{"$f":"Sheet1!$S2221-Sheet1!$R2221","v":0},"-","-","-",{"$f":"IFERROR(Tableau1[[#This Row],[THEO]]-Tableau1[[#This Row],[Qtt 2éme lot]],\"-\")","v":"-"},"-",{"$f":"IF(Tableau1[[#This Row],[2éme lot]]=\"-\",\"-\",IFERROR(IF(Q2221=\"\",\"-\",INDEX(I:I,MATCH(Q2221,C:C,0)+1)),\"-\"))","v":"-"},"-","-"]
[{"$nulls":15},"-",null,{"$f":"SUMIF(Tableau1[Description article],Tableau1[Produits],Tableau1[Emplacement])","v":0},null,{"$f":"Sheet1!$S2222-Sheet1!$R2222","v":0},"-","-","-",{"$f":"IFERROR(Tableau1[[#This Row],[THEO]]-Tableau1[[#This Row],[Qtt 2éme lot]],\"-\")","v":"-"},"-",{"$f":"IF(Tableau1[[#This Row],[2éme lot]]=\"-\",\"-\",IFERROR(IF(Q2222=\"\",\"-\",INDEX(I:I,MATCH(Q2222,C:C,0)+1)),\"-\"))","v":"-"},"-","-"]
[{"$nulls":15},"-",null,{"$f":"SUMIF(Tableau1[Description article],Tableau1[Produits],Tableau1[Emplacement])","v":0},null,{"$f":"Sheet1!$S2223-Sheet1!$R2223","v":0},"-","-","-",{"$f":"IFERROR(Tableau1[[#This Row],[THEO]]-Tableau1[[#This Row],[Qtt 2éme lot]],\"-\")","v":"-"},"-",{"$f":"IF(Tableau1[[#This Row],[2éme lot]]=\"-\",\"-\",IFERROR(IF(Q2223=\"\",\"-\",INDEX(I:I,MATCH(Q2223,C:C,0)+1)),\"-\"))","v":"-"},"-","-"]
[{"$nulls":15},"-",null,{"$f":"SUMIF(Tableau1[Description article],Tableau1[Produits],Tableau1[Emplacement])","v":0},null,{"$f":"Sheet1!$S2224-Sheet1!$R2224","v":0},"-","-","-",{"$f":"IFERROR(Tableau1[[#This Row],[THEO]]-Tableau1[[#This Row],[Qtt 2éme lot]],\"-\")","v":"-"},"-",{"$f":"IF(Tableau1[[#This Row],[2éme lot]]=\"-\",\"-\",IFERROR(IF(Q2224=\"\",\"-\",INDEX(I:I,MATCH(Q2224,C:C,0)+1)),\"-\"))","v":"-"},"-","-"]
[{"$nulls":15},"-",null,{"$f":"SUMIF(Tableau1[Description article],Tableau1[Produits],Tableau1[Emplacement])","v":0},null,{"$f":"Sheet1!$S2225-Sheet1!$R2225","v":0},"-","-","-",{"$f":"IFERROR(Tableau1[[#This Row],[THEO]]-Tableau1[[#This Row],[Qtt 2éme lot]],\"-\")","v":"-"},"-",{"$f":"IF(Tableau1[[#This Row],[2éme lot]]=\"-\",\"-\",IFERROR(IF(Q2225=\"\",\"-\",INDEX(I:I,MATCH(Q2225,C:C,0)+1)),\"-\"))","v":"-"},"-","-"]
[{"$nulls":15},"-",null,{"$f":"SUMIF(Tableau1[Description article],Tableau1[Produits],Tableau1[Emplacement])","v":0},null,{"$f":"Sheet1!$S2226-Sheet1!$R2226","v":0},"-","-","-",{"$f":"IFERROR(Tableau1[[#This Row],[THEO]]-Tableau1[[#This Row],[Qtt 2éme lot]],\"-\")","v":"-"},"-",{"$f":"IF(Tableau1[[#This Row],[2éme lot]]=\"-\",\"-\",IFERROR(IF(Q2226=\"\",\"-\",INDEX(I:I,MATCH(Q2226,C:C,0)+1)),\"-\"))","v":"-"},"-","-"]
[{"$nulls":15},"-",null,{"$f":"SUMIF(Tableau1[Description article],Tableau1[Produits],Tableau1[Emplacement])","v":0},null,{"$f":"Sheet1!$S2227-Sheet1!$R2227","v":0},"-","-","-",{"$f":"IFERROR(Tableau1[[#This Row],[THEO]]-Tableau1[[#This Row],[Qtt 2éme lot]],\"-\")","v":"-"},"-",{"$f":"IF(Tableau1[[#This Row],[2éme lot]]=\"-\",\"-\",IFERROR(IF(Q2227=\"\",\"-\",INDEX(I:I,MATCH(Q2227,C:C,0)+1)),\"-\"))","v":"-"},"-","-"]
[{"$nulls":15},"-",null,{"$f":"SUMIF(Tableau1[Description article],Tableau1[Produits],Tableau1[Emplacement])","v":0},null,{"$f":"Sheet1!$S2228-Sheet1!$R2228","v":0},"-","-","-",{"$f":"IFERROR(Tableau1[[#This Row],[THEO]]-Tableau1[[#This Row],[Qtt 2éme lot]],\"-\")","v":"-"},"-",{"$f":"IF(Tableau1[[#This Row],[2éme lot]]=\"-\",\"-\",IFERROR(IF(Q2228=\"\",\"-\",INDEX(I:I,MATCH(Q2228,C:C,0)+1)),\"-\"))","v":"-"},"-","-"]
[{"$nulls":15},"-",null,{"$f":"SUMIF(Tableau1[Description article],Tableau1[Produits],Tableau1[Emplacement])","v":0},null,{"$f":"Sheet1!$S2229-Sheet1!$R2229","v":0},"-","-","-",{"$f":"IFERROR(Tableau1[[#This Row],[THEO]]-Tableau1[[#This Row],[Qtt 2éme lot]],\"-\")","v":"-"},"-",{"$f":"IF(Tableau1[[#This Row],[2éme lot]]=\"-\",\"-\",IFERROR(IF(Q2229=\"\",\"-\",INDEX(I:I,MATCH(Q2229,C:C,0)+1)),\"-\"))","v":"-"},"-","-"]
[{"$nulls":15},"-",null,{"$f":"SUMIF(Tableau1[Description article],Tableau1[Produits],Tableau1[Emplacement])","v":0},null,{"$f":"Sheet1!$S2230-Sheet1!$R2230","v":0},"-","-","-",{"$f":"IFERROR(Tableau1[[#This Row],[THEO]]-Tableau1[[#This Row],[Qtt 2éme lot]],\"-\")","v":"-"},"-",{"$f":"IF(Tableau1[[#This Row],[2éme lot]]=\"-\",\"-\",IFERROR(IF(Q2230=\"\",\"-\",INDEX(I:I,MATCH(Q2230,C:C,0)+1)),\"-\"))","v":"-"},"-","-"]
[{"$nulls":15},"-",null,{"$f":"SUMIF(Tableau1[Description article],Tableau1[Produits],Tableau1[Emplacement])","v":0},null,{"$f":"Sheet1!$S2231-Sheet1!$R2231","v":0},"-","-","-",{"$f":"IFERROR(Tableau1[[#This Row],[THEO]]-Tableau1[[#This Row],[Qtt 2éme lot]],\"-\")","v":"-"},"-",{"$f":"IF(Tableau1[[#This Row],[2éme lot]]=\"-\",\"-\",IFERROR(IF(Q2231=\"\",\"-\",INDEX(I:I,MATCH(Q2231,C:C,0)+1)),\"-\"))","v":"-"},"-","-"]
[{"$nulls":15},"-",null,{"$f":"SUMIF(Tableau1[Description article],Tableau1[Produits],Tableau1[Emplacement])","v":0},null,{"$f":"Sheet1!$S2232-Sheet1!$R2232","v":0},"-","-","-",{"$f":"IFERROR(Tableau1[[#This Row],[THEO]]-Tableau1[[#This Row],[Qtt 2éme lot]],\"-\")","v":"-"},"-",{"$f":"IF(Tableau1[[#This Row],[2éme lot]]=\"-\",\"-\",IFERROR(IF(Q2232=\"\",\"-\",INDEX(I:I,MATCH(Q2232,C:C,0)+1)),\"-\"))","v":"-"},"-","-"]
[{"$nulls":15},"-",null,{"$f":"SUMIF(Tableau1[Description article],Tableau1[Produits],Tableau1[Emplacement])","v":0},null,{"$f":"Sheet1!$S2233-Sheet1!$R2233","v":0},"-","-","-",{"$f":"IFERROR(Tableau1[[#This Row],[THEO]]-Tableau1[[#This Row],[Qtt 2éme lot]],\"-\")","v":"-"},"-",{"$f":"IF(Tableau1[[#This Row],[2éme lot]]=\"-\",\"-\",IFERROR(IF(Q2233=\"\",\"-\",INDEX(I:I,MATCH(Q2233,C:C,0)+1)),\"-\"))","v":"-"},"-","-"]
[{"$nulls":15},"-",null,{"$f":"SUMIF(Tableau1[Description article],Tableau1[Produits],Tableau1[Emplacement])","v":0},null,{"$f":"Sheet1!$S2234-Sheet1!$R2234","v":0},"-","-","-",{"$f":"IFERROR(Tableau1[[#This Row],[THEO]]-Tableau1[[#This Row],[Qtt 2éme lot]],\"-\")","v":"-"},"-",{"$f":"IF(Tableau1[[#This Row],[2éme lot]]=\"-\",\"-\",IFERROR(IF(Q2234=\"\",\"-\",INDEX(I:I,MATCH(Q2234,C:C,0)+1)),\"-\"))","v":"-"},"-","-"]
[{"$nulls":15},"-",null,{"$f":"SUMIF(Tableau1[Description article],Tableau1[Produits],Tableau1[Emplacement])","v":0},null,{"$f":"Sheet1!$S2235-Sheet1!$R2235","v":0},"-","-","-",{"$f":"IFERROR(Tableau1[[#This Row],[THEO]]-Tableau1[[#This Row],[Qtt 2éme lot]],\"-\")","v":"-"},"-",{"$f":"IF(Tableau1[[#This Row],[2éme lot]]=\"-\",\"-\",IFERROR(IF(Q2235=\"\",\"-\",INDEX(I:I,MATCH(Q2235,C:C,0)+1)),\"-\"))","v":"-"},"-","-"]
[{"$nulls":15},"-",null,{"$f":"SUMIF(Tableau1[Description article],Tableau1[Produits],Tableau1[Emplacement])","v":0},null,{"$f":"Sheet1!$S2236-Sheet1!$R2236","v":0},"-","-","-",{"$f":"IFERROR(Tableau1[[#This Row],[THEO]]-Tableau1[[#This Row],[Qtt 2éme lot]],\"-\")","v":"-"},"-",{"$f":"IF(Tableau1[[#This Row],[2éme lot]]=\"-\",\"-\",IFERROR(IF(Q2236=\"\",\"-\",INDEX(I:I,MATCH(Q2236,C:C,0)+1)),\"-\"))","v":"-"},"-","-"]
[{"$nulls":15},"-",null,{"$f":"SUMIF(Tableau1[Description article],Tableau1[Produits],Tableau1[Emplacement])","v":0},null,{"$f":"Sheet1!$S2237-Sheet1!$R2237","v":0},"-","-","-",{"$f":"IFERROR(Tableau1[[#This Row],[THEO]]-Tableau1[[#This Row],[Qtt 2éme lot]],\"-\")","v":"-"},"-",{"$f":"IF(Tableau1[[#This Row],[2éme lot]]=\"-\",\"-\",IFERROR(IF(Q2237=\"\",\"-\",INDEX(I:I,MATCH(Q2237,C:C,0)+1)),\"-\"))","v":"-"},"-","-"]
[{"$nulls":15},"-",null,{"$f":"SUMIF(Tableau1[Description article],Tableau1[Produits],Tableau1[Emplacement])","v":0},null,{"$f":"Sheet1!$S2238-Sheet1!$R2238","v":0},"-","-","-",{"$f":"IFERROR(Tableau1[[#This Row],[THEO]]-Tableau1[[#This Row],[Qtt 2éme lot]],\"-\")","v":"-"},"-",{"$f":"IF(Tableau1[[#This Row],[2éme lot]]=\"-\",\"-\",IFERROR(IF(Q2238=\"\",\"-\",INDEX(I:I,MATCH(Q2238,C:C,0)+1)),\"-\"))","v":"-"},"-","-"]
[{"$nulls":15},"-",null,{"$f":"SUMIF(Tableau1[Description article],Tableau1[Produits],Tableau1[Emplacement])","v":0},null,{"$f":"Sheet1!$S2239-Sheet1!$R2239","v":0},"-","-","-",{"$f":"IFERROR(Tableau1[[#This Row],[THEO]]-Tableau1[[#This Row],[Qtt 2éme lot]],\"-\")","v":"-"},"-",{"$f":"IF(Tableau1[[#This Row],[2éme lot]]=\"-\",\"-\",IFERROR(IF(Q2239=\"\",\"-\",INDEX(I:I,MATCH(Q2239,C:C,0)+1)),\"-\"))","v":"-"},"-","-"]
[{"$nulls":15},"-",null,{"$f":"SUMIF(Tableau1[Description article],Tableau1[Produits],Tableau1[Emplacement])","v":0},null,{"$f":"Sheet1!$S2240-Sheet1!$R2240","v":0},"-","-","-",{"$f":"IFERROR(Tableau1[[#This Row],[THEO]]-Tableau1[[#This Row],[Qtt 2éme lot]],\"-\")","v":"-"},"-",{"$f":"IF(Tableau1[[#This Row],[2éme lot]]=\"-\",\"-\",IFERROR(IF(Q2240=\"\",\"-\",INDEX(I:I,MATCH(Q2240,C:C,0)+1)),\"-\"))","v":"-"},"-","-"]
[{"$nulls":15},"-",null,{"$f":"SUMIF(Tableau1[Description article],Tableau1[Produits],Tableau1[Emplacement])","v":0},null,{"$f":"Sheet1!$S2241-Sheet1!$R2241","v":0},"-","-","-",{"$f":"IFERROR(Tableau1[[#This Row],[THEO]]-Tableau1[[#This Row],[Qtt 2éme lot]],\"-\")","v":"-"},"-",{"$f":"IF(Tableau1[[#This Row],[2éme lot]]=\"-\",\"-\",IFERROR(IF(Q2241=\"\",\"-\",INDEX(I:I,MATCH(Q2241,C:C,0)+1)),\"-\"))","v":"-"},"-","-"]
[{"$nulls":15},{"$f":"IFERROR(IF(Q2242=\"\",\"-\",INDEX(I:I,MATCH(Q2242,C:C,0))),\"-\")","v":"-"},null,{"$f":"SUMIF(Tableau1[Description article],Tableau1[Produits],Tableau1[Emplacement])","v":0},null,{"$f":"Sheet1!$S2242-Sheet1!$R2242","v":0},{"$f":"IFERROR(IF(Q2242=\"\",\"-\",INDEX(F:F,MATCH(Q2242,C:C,0))),\"-\")","v":"-"},{"$f":"IFERROR(IF(Q2242=\"\",\"-\",INDEX(E:E,MATCH(Q2242,C:C,0))),\"-\")","v":"-"},{"$f":"IFERROR(IF(Q2242=\"\",\"-\",INDEX(N:N,MATCH(Q2242,C:C,0))),\"-\")","v":"-"},{"$f":"IFERROR(Tableau1[[#This Row],[THEO]]-Tableau1[[#This Row],[Qtt 2éme lot]],\"-\")","v":"-"},{"$f":"IF(IF(Q2242=\"\",\"-\",INDEX(E:E,MATCH(Q2242,C:C,0)))=IF(Q2242=\"\",\"-\",INDEX(E:E,MATCH(Q2242,C:C,1))),\"-\",IF(Q2242=\"\",\"-\",INDEX(E:E,MATCH(Q2242,C:C,1))))","v":"-"},{"$f":"IF(Tableau1[[#This Row],[2éme lot]]=\"-\",\"-\",IFERROR(IF(Q2242=\"\",\"-\",INDEX(I:I,MATCH(Q2242,C:C,0)+1)),\"-\"))","v":"-"},{"$f":"IFERROR(IF(Y2242=\"\",\"-\",INDEX(N:N,MATCH(Y2242,E:E,0))),\"-\")","v":"-"},{"$f":"IFERROR(IF(AA2242=\"\",\"-\",INDEX(H:H,MATCH(Y2242,E:E,0))),\"-\")","v":"-"}]
[{"$nulls":15},"-",null,{"$f":"SUMIF(Tableau1[Description article],Tableau1[Produits],Tableau1[Emplacement])","v":0},null,{"$f":"Sheet1!$S2243-Sheet1!$R2243","v":0},"-","-","-",{"$f":"IFERROR(Tableau1[[#This Row],[THEO]]-Tableau1[[#This Row],[Qtt 2éme lot]],\"-\")","v":"-"},"-",{"$f":"IF(Tableau1[[#This Row],[2éme lot]]=\"-\",\"-\",IFERROR(IF(Q2243=\"\",\"-\",INDEX(I:I,MATCH(Q2243,C:C,0)+1)),\"-\"))","v":"-"},"-","-"]
[{"$nulls":15},"-",null,{"$f":"SUMIF(Tableau1[Description article],Tableau1[Produits],Tableau1[Emplacement])","v":0},null,{"$f":"Sheet1!$S2244-Sheet1!$R2244","v":0},"-","-","-",{"$f":"IFERROR(Tableau1[[#This Row],[THEO]]-Tableau1[[#This Row],[Qtt 2éme lot]],\"-\")","v":"-"},"-",{"$f":"IF(Tableau1[[#This Row],[2éme lot]]=\"-\",\"-\",IFERROR(IF(Q2244=\"\",\"-\",INDEX(I:I,MATCH(Q2244,C:C,0)+1)),\"-\"))","v":"-"},"-","-"]
[{"$nulls":15},"-",null,{"$f":"SUMIF(Tableau1[Description article],Tableau1[Produits],Tableau1[Emplacement])","v":0},null,{"$f":"Sheet1!$S2245-Sheet1!$R2245","v":0},"-","-","-",{"$f":"IFERROR(Tableau1[[#This Row],[THEO]]-Tableau1[[#This Row],[Qtt 2éme lot]],\"-\")","v":"-"},"-",{"$f":"IF(Tableau1[[#This Row],[2éme lot]]=\"-\",\"-\",IFERROR(IF(Q2245=\"\",\"-\",INDEX(I:I,MATCH(Q2245,C:C,0)+1)),\"-\"))","v":"-"},"-","-"]
[{"$nulls":15},"-",null,{"$f":"SUMIF(Tableau1[Description article],Tableau1[Produits],Tableau1[Emplacement])","v":0},null,{"$f":"Sheet1!$S2246-Sheet1!$R2246","v":0},"-","-","-",{"$f":"IFERROR(Tableau1[[#This Row],[THEO]]-Tableau1[[#This Row],[Qtt 2éme lot]],\"-\")","v":"-"},"-",{"$f":"IF(Tableau1[[#This Row],[2éme lot]]=\"-\",\"-\",IFERROR(IF(Q2246=\"\",\"-\",INDEX(I:I,MATCH(Q2246,C:C,0)+1)),\"-\"))","v":"-"},"-","-"]
[{"$nulls":15},"-",null,{"$f":"SUMIF(Tableau1[Description article],Tableau1[Produits],Tableau1[Emplacement])","v":0},null,{"$f":"Sheet1!$S2247-Sheet1!$R2247","v":0},"-","-","-",{"$f":"IFERROR(Tableau1[[#This Row],[THEO]]-Tableau1[[#This Row],[Qtt 2éme lot]],\"-\")","v":"-"},"-",{"$f":"IF(Tableau1[[#This Row],[2éme lot]]=\"-\",\"-\",IFERROR(IF(Q2247=\"\",\"-\",INDEX(I:I,MATCH(Q2247,C:C,0)+1)),\"-\"))","v":"-"},"-","-"]
[{"$nulls":15},"-",null,{"$f":"SUMIF(Tableau1[Description article],Tableau1[Produits],Tableau1[Emplacement])","v":0},null,{"$f":"Sheet1!$S2248-Sheet1!$R2248","v":0},"-","-","-",{"$f":"IFERROR(Tableau1[[#This Row],[THEO]]-Tableau1[[#This Row],[Qtt 2éme lot]],\"-\")","v":"-"},"-",{"$f":"IF(Tableau1[[#This Row],[2éme lot]]=\"-\",\"-\",IFERROR(IF(Q2248=\"\",\"-\",INDEX(I:I,MATCH(Q2248,C:C,0)+1)),\"-\"))","v":"-"},"-","-"]
[{"$nulls":15},"-",null,{"$f":"SUMIF(Tableau1[Description article],Tableau1[Produits],Tableau1[Emplacement])","v":0},null,{"$f":"Sheet1!$S2249-Sheet1!$R2249","v":0},"-","-","-",{"$f":"IFERROR(Tableau1[[#This Row],[THEO]]-Tableau1[[#This Row],[Qtt 2éme lot]],\"-\")","v":"-"},"-",{"$f":"IF(Tableau1[[#This Row],[2éme lot]]=\"-\",\"-\",IFERROR(IF(Q2249=\"\",\"-\",INDEX(I:I,MATCH(Q2249,C:C,0)+1)),\"-\"))","v":"-"},"-","-"]
[{"$nulls":15},"-",null,{"$f":"SUMIF(Tableau1[Description article],Tableau1[Produits],Tableau1[Emplacement])","v":0},null,{"$f":"Sheet1!$S2250-Sheet1!$R2250","v":0},"-","-","-",{"$f":"IFERROR(Tableau1[[#This Row],[THEO]]-Tableau1[[#This Row],[Qtt 2éme lot]],\"-\")","v":"-"},"-",{"$f":"IF(Tableau1[[#This Row],[2éme lot]]=\"-\",\"-\",IFERROR(IF(Q2250=\"\",\"-\",INDEX(I:I,MATCH(Q2250,C:C,0)+1)),\"-\"))","v":"-"},"-","-"]
[{"$nulls":15},"-",null,{"$f":"SUMIF(Tableau1[Description article],Tableau1[Produits],Tableau1[Emplacement])","v":0},null,{"$f":"Sheet1!$S2251-Sheet1!$R2251","v":0},"-","-","-",{"$f":"IFERROR(Tableau1[[#This Row],[THEO]]-Tableau1[[#This Row],[Qtt 2éme lot]],\"-\")","v":"-"},"-",{"$f":"IF(Tableau1[[#This Row],[2éme lot]]=\"-\",\"-\",IFERROR(IF(Q2251=\"\",\"-\",INDEX(I:I,MATCH(Q2251,C:C,0)+1)),\"-\"))","v":"-"},"-","-"]
[{"$nulls":15},"-",null,{"$f":"SUMIF(Tableau1[Description article],Tableau1[Produits],Tableau1[Emplacement])","v":0},null,{"$f":"Sheet1!$S2252-Sheet1!$R2252","v":0},"-","-","-",{"$f":"IFERROR(Tableau1[[#This Row],[THEO]]-Tableau1[[#This Row],[Qtt 2éme lot]],\"-\")","v":"-"},"-",{"$f":"IF(Tableau1[[#This Row],[2éme lot]]=\"-\",\"-\",IFERROR(IF(Q2252=\"\",\"-\",INDEX(I:I,MATCH(Q2252,C:C,0)+1)),\"-\"))","v":"-"},"-","-"]
[{"$nulls":15},"-",null,{"$f":"SUMIF(Tableau1[Description article],Tableau1[Produits],Tableau1[Emplacement])","v":0},null,{"$f":"Sheet1!$S2253-Sheet1!$R2253","v":0},"-","-","-",{"$f":"IFERROR(Tableau1[[#This Row],[THEO]]-Tableau1[[#This Row],[Qtt 2éme lot]],\"-\")","v":"-"},"-",{"$f":"IF(Tableau1[[#This Row],[2éme lot]]=\"-\",\"-\",IFERROR(IF(Q2253=\"\",\"-\",INDEX(I:I,MATCH(Q2253,C:C,0)+1)),\"-\"))","v":"-"},"-","-"]
[{"$nulls":15},"-",null,{"$f":"SUMIF(Tableau1[Description article],Tableau1[Produits],Tableau1[Emplacement])","v":0},null,{"$f":"Sheet1!$S2254-Sheet1!$R2254","v":0},"-","-","-",{"$f":"IFERROR(Tableau1[[#This Row],[THEO]]-Tableau1[[#This Row],[Qtt 2éme lot]],\"-\")","v":"-"},"-",{"$f":"IF(Tableau1[[#This Row],[2éme lot]]=\"-\",\"-\",IFERROR(IF(Q2254=\"\",\"-\",INDEX(I:I,MATCH(Q2254,C:C,0)+1)),\"-\"))","v":"-"},"-","-"]
[{"$nulls":15},"-",null,{"$f":"SUMIF(Tableau1[Description article],Tableau1[Produits],Tableau1[Emplacement])","v":0},null,{"$f":"Sheet1!$S2255-Sheet1!$R2255","v":0},"-","-","-",{"$f":"IFERROR(Tableau1[[#This Row],[THEO]]-Tableau1[[#This Row],[Qtt 2éme lot]],\"-\")","v":"-"},"-",{"$f":"IF(Tableau1[[#This Row],[2éme lot]]=\"-\",\"-\",IFERROR(IF(Q2255=\"\",\"-\",INDEX(I:I,MATCH(Q2255,C:C,0)+1)),\"-\"))","v":"-"},"-","-"]
[{"$nulls":15},"-",null,{"$f":"SUMIF(Tableau1[Description article],Tableau1[Produits],Tableau1[Emplacement])","v":0},null,{"$f":"Sheet1!$S2256-Sheet1!$R2256","v":0},"-","-","-",{"$f":"IFERROR(Tableau1[[#This Row],[THEO]]-Tableau1[[#This Row],[Qtt 2éme lot]],\"-\")","v":"-"},"-",{"$f":"IF(Tableau1[[#This Row],[2éme lot]]=\"-\",\"-\",IFERROR(IF(Q2256=\"\",\"-\",INDEX(I:I,MATCH(Q2256,C:C,0)+1)),\"-\"))","v":"-"},"-","-"]
[{"$nulls":15},"-",null,{"$f":"SUMIF(Tableau1[Description article],Tableau1[Produits],Tableau1[Emplacement])","v":0},null,{"$f":"Sheet1!$S2257-Sheet1!$R2257","v":0},"-","-","-",{"$f":"IFERROR(Tableau1[[#This Row],[THEO]]-Tableau1[[#This Row],[Qtt 2éme lot]],\"-\")","v":"-"},"-",{"$f":"IF(Tableau1[[#This Row],[2éme lot]]=\"-\",\"-\",IFERROR(IF(Q2257=\"\",\"-\",INDEX(I:I,MATCH(Q2257,C:C,0)+1)),\"-\"))","v":"-"},"-","-"]
[{"$nulls":15},"-",null,{"$f":"SUMIF(Tableau1[Description article],Tableau1[Produits],Tableau1[Emplacement])","v":0},null,{"$f":"Sheet1!$S2258-Sheet1!$R2258","v":0},"-","-","-",{"$f":"IFERROR(Tableau1[[#This Row],[THEO]]-Tableau1[[#This Row],[Qtt 2éme lot]],\"-\")","v":"-"},"-",{"$f":"IF(Tableau1[[#This Row],[2éme lot]]=\"-\",\"-\",IFERROR(IF(Q2258=\"\",\"-\",INDEX(I:I,MATCH(Q2258,C:C,0)+1)),\"-\"))","v":"-"},"-","-"]
[{"$nulls":15},"-",null,{"$f":"SUMIF(Tableau1[Description article],Tableau1[Produits],Tableau1[Emplacement])","v":0},null,{"$f":"Sheet1!$S2259-Sheet1!$R2259","v":0},"-","-","-",{"$f":"IFERROR(Tableau1[[#This Row],[THEO]]-Tableau1[[#This Row],[Qtt 2éme lot]],\"-\")","v":"-"},"-",{"$f":"IF(Tableau1[[#This Row],[2éme lot]]=\"-\",\"-\",IFERROR(IF(Q2259=\"\",\"-\",INDEX(I:I,MATCH(Q2259,C:C,0)+1)),\"-\"))","v":"-"},"-","-"]
[{"$nulls":15},"-",null,{"$f":"SUMIF(Tableau1[Description article],Tableau1[Produits],Tableau1[Emplacement])","v":0},null,{"$f":"Sheet1!$S2260-Sheet1!$R2260","v":0},"-","-","-",{"$f":"IFERROR(Tableau1[[#This Row],[THEO]]-Tableau1[[#This Row],[Qtt 2éme lot]],\"-\")","v":"-"},"-",{"$f":"IF(Tableau1[[#This Row],[2éme lot]]=\"-\",\"-\",IFERROR(IF(Q2260=\"\",\"-\",INDEX(I:I,MATCH(Q2260,C:C,0)+1)),\"-\"))","v":"-"},"-","-"]
[{"$nulls":15},"-",null,{"$f":"SUMIF(Tableau1[Description article],Tableau1[Produits],Tableau1[Emplacement])","v":0},null,{"$f":"Sheet1!$S2261-Sheet1!$R2261","v":0},"-","-","-",{"$f":"IFERROR(Tableau1[[#This Row],[THEO]]-Tableau1[[#This Row],[Qtt 2éme lot]],\"-\")","v":"-"},"-",{"$f":"IF(Tableau1[[#This Row],[2éme lot]]=\"-\",\"-\",IFERROR(IF(Q2261=\"\",\"-\",INDEX(I:I,MATCH(Q2261,C:C,0)+1)),\"-\"))","v":"-"},"-","-"]
[{"$nulls":15},"-",null,{"$f":"SUMIF(Tableau1[Description article],Tableau1[Produits],Tableau1[Emplacement])","v":0},null,{"$f":"Sheet1!$S2262-Sheet1!$R2262","v":0},"-","-","-",{"$f":"IFERROR(Tableau1[[#This Row],[THEO]]-Tableau1[[#This Row],[Qtt 2éme lot]],\"-\")","v":"-"},"-",{"$f":"IF(Tableau1[[#This Row],[2éme lot]]=\"-\",\"-\",IFERROR(IF(Q2262=\"\",\"-\",INDEX(I:I,MATCH(Q2262,C:C,0)+1)),\"-\"))","v":"-"},"-","-"]
[{"$nulls":15},"-",null,{"$f":"SUMIF(Tableau1[Description article],Tableau1[Produits],Tableau1[Emplacement])","v":0},null,{"$f":"Sheet1!$S2263-Sheet1!$R2263","v":0},"-","-","-",{"$f":"IFERROR(Tableau1[[#This Row],[THEO]]-Tableau1[[#This Row],[Qtt 2éme lot]],\"-\")","v":"-"},"-",{"$f":"IF(Tableau1[[#This Row],[2éme lot]]=\"-\",\"-\",IFERROR(IF(Q2263=\"\",\"-\",INDEX(I:I,MATCH(Q2263,C:C,0)+1)),\"-\"))","v":"-"},"-","-"]
[{"$nulls":15},"-",null,{"$f":"SUMIF(Tableau1[Description article],Tableau1[Produits],Tableau1[Emplacement])","v":0},null,{"$f":"Sheet1!$S2264-Sheet1!$R2264","v":0},"-","-","-",{"$f":"IFERROR(Tableau1[[#This Row],[THEO]]-Tableau1[[#This Row],[Qtt 2éme lot]],\"-\")","v":"-"},"-",{"$f":"IF(Tableau1[[#This Row],[2éme lot]]=\"-\",\"-\",IFERROR(IF(Q2264=\"\",\"-\",INDEX(I:I,MATCH(Q2264,C:C,0)+1)),\"-\"))","v":"-"},"-","-"]
[{"$nulls":15},"-",null,{"$f":"SUMIF(Tableau1[Description article],Tableau1[Produits],Tableau1[Emplacement])","v":0},null,{"$f":"Sheet1!$S2265-Sheet1!$R2265","v":0},"-","-","-",{"$f":"IFERROR(Tableau1[[#This Row],[THEO]]-Tableau1[[#This Row],[Qtt 2éme lot]],\"-\")","v":"-"},"-",{"$f":"IF(Tableau1[[#This Row],[2éme lot]]=\"-\",\"-\",IFERROR(IF(Q2265=\"\",\"-\",INDEX(I:I,MATCH(Q2265,C:C,0)+1)),\"-\"))","v":"-"},"-","-"]
[{"$nulls":15},"-",null,{"$f":"SUMIF(Tableau1[Description article],Tableau1[Produits],Tableau1[Emplacement])","v":0},null,{"$f":"Sheet1!$S2266-Sheet1!$R2266","v":0},"-","-","-",{"$f":"IFERROR(Tableau1[[#This Row],[THEO]]-Tableau1[[#This Row],[Qtt 2éme lot]],\"-\")","v":"-"},"-",{"$f":"IF(Tableau1[[#This Row],[2éme lot]]=\"-\",\"-\",IFERROR(IF(Q2266=\"\",\"-\",INDEX(I:I,MATCH(Q2266,C:C,0)+1)),\"-\"))","v":"-"},"-","-"]
[{"$nulls":15},"-",null,{"$f":"SUMIF(Tableau1[Description article],Tableau1[Produits],Tableau1[Emplacement])","v":0},null,{"$f":"Sheet1!$S2267-Sheet1!$R2267","v":0},"-","-","-",{"$f":"IFERROR(Tableau1[[#This Row],[THEO]]-Tableau1[[#This Row],[Qtt 2éme lot]],\"-\")","v":"-"},"-",{"$f":"IF(Tableau1[[#This Row],[2éme lot]]=\"-\",\"-\",IFERROR(IF(Q2267=\"\",\"-\",INDEX(I:I,MATCH(Q2267,C:C,0)+1)),\"-\"))","v":"-"},"-","-"]
[{"$nulls":15},"-",null,{"$f":"SUMIF(Tableau1[Description article],Tableau1[Produits],Tableau1[Emplacement])","v":0},null,{"$f":"Sheet1!$S2268-Sheet1!$R2268","v":0},"-","-","-",{"$f":"IFERROR(Tableau1[[#This Row],[THEO]]-Tableau1[[#This Row],[Qtt 2éme lot]],\"-\")","v":"-"},"-",{"$f":"IF(Tableau1[[#This Row],[2éme lot]]=\"-\",\"-\",IFERROR(IF(Q2268=\"\",\"-\",INDEX(I:I,MATCH(Q2268,C:C,0)+1)),\"-\"))","v":"-"},"-","-"]
[{"$nulls":15},"-",null,{"$f":"SUMIF(Tableau1[Description article],Tableau1[Produits],Tableau1[Emplacement])","v":0},null,{"$f":"Sheet1!$S2269-Sheet1!$R2269","v":0},"-","-","-",{"$f":"IFERROR(Tableau1[[#This Row],[THEO]]-Tableau1[[#This Row],[Qtt 2éme lot]],\"-\")","v":"-"},"-",{"$f":"IF(Tableau1[[#This Row],[2éme lot]]=\"-\",\"-\",IFERROR(IF(Q2269=\"\",\"-\",INDEX(I:I,MATCH(Q2269,C:C,0)+1)),\"-\"))","v":"-"},"-","-"]
[{"$nulls":15},"-",null,{"$f":"SUMIF(Tableau1[Description article],Tableau1[Produits],Tableau1[Emplacement])","v":0},null,{"$f":"Sheet1!$S2270-Sheet1!$R2270","v":0},"-","-","-",{"$f":"IFERROR(Tableau1[[#This Row],[THEO]]-Tableau1[[#This Row],[Qtt 2éme lot]],\"-\")","v":"-"},"-",{"$f":"IF(Tableau1[[#This Row],[2éme lot]]=\"-\",\"-\",IFERROR(IF(Q2270=\"\",\"-\",INDEX(I:I,MATCH(Q2270,C:C,0)+1)),\"-\"))","v":"-"},"-","-"]
[{"$nulls":15},"-",null,{"$f":"SUMIF(Tableau1[Description article],Tableau1[Produits],Tableau1[Emplacement])","v":0},null,{"$f":"Sheet1!$S2271-Sheet1!$R2271","v":0},"-","-","-",{"$f":"IFERROR(Tableau1[[#This Row],[THEO]]-Tableau1[[#This Row],[Qtt 2éme lot]],\"-\")","v":"-"},"-",{"$f":"IF(Tableau1[[#This Row],[2éme lot]]=\"-\",\"-\",IFERROR(IF(Q2271=\"\",\"-\",INDEX(I:I,MATCH(Q2271,C:C,0)+1)),\"-\"))","v":"-"},"-","-"]
[{"$nulls":15},"-",null,{"$f":"SUMIF(Tableau1[Description article],Tableau1[Produits],Tableau1[Emplacement])","v":0},null,{"$f":"Sheet1!$S2272-Sheet1!$R2272","v":0},"-","-","-",{"$f":"IFERROR(Tableau1[[#This Row],[THEO]]-Tableau1[[#This Row],[Qtt 2éme lot]],\"-\")","v":"-"},"-",{"$f":"IF(Tableau1[[#This Row],[2éme lot]]=\"-\",\"-\",IFERROR(IF(Q2272=\"\",\"-\",INDEX(I:I,MATCH(Q2272,C:C,0)+1)),\"-\"))","v":"-"},"-","-"]
[{"$nulls":15},"-",null,{"$f":"SUMIF(Tableau1[Description article],Tableau1[Produits],Tableau1[Emplacement])","v":0},null,{"$f":"Sheet1!$S2273-Sheet1!$R2273","v":0},"-","-","-",{"$f":"IFERROR(Tableau1[[#This Row],[THEO]]-Tableau1[[#This Row],[Qtt 2éme lot]],\"-\")","v":"-"},"-",{"$f":"IF(Tableau1[[#This Row],[2éme lot]]=\"-\",\"-\",IFERROR(IF(Q2273=\"\",\"-\",INDEX(I:I,MATCH(Q2273,C:C,0)+1)),\"-\"))","v":"-"},"-","-"]
[{"$nulls":15},"-",null,{"$f":"SUMIF(Tableau1[Description article],Tableau1[Produits],Tableau1[Emplacement])","v":0},null,{"$f":"Sheet1!$S2274-Sheet1!$R2274","v":0},"-","-","-",{"$f":"IFERROR(Tableau1[[#This Row],[THEO]]-Tableau1[[#This Row],[Qtt 2éme lot]],\"-\")","v":"-"},"-",{"$f":"IF(Tableau1[[#This Row],[2éme lot]]=\"-\",\"-\",IFERROR(IF(Q2274=\"\",\"-\",INDEX(I:I,MATCH(Q2274,C:C,0)+1)),\"-\"))","v":"-"},"-","-"]
[{"$nulls":15},"-",null,{"$f":"SUMIF(Tableau1[Description article],Tableau1[Produits],Tableau1[Emplacement])","v":0},null,{"$f":"Sheet1!$S2275-Sheet1!$R2275","v":0},"-","-","-",{"$f":"IFERROR(Tableau1[[#This Row],[THEO]]-Tableau1[[#This Row],[Qtt 2éme lot]],\"-\")","v":"-"},"-",{"$f":"IF(Tableau1[[#This Row],[2éme lot]]=\"-\",\"-\",IFERROR(IF(Q2275=\"\",\"-\",INDEX(I:I,MATCH(Q2275,C:C,0)+1)),\"-\"))","v":"-"},"-","-"]
[{"$nulls":15},"-",null,{"$f":"SUMIF(Tableau1[Description article],Tableau1[Produits],Tableau1[Emplacement])","v":0},null,{"$f":"Sheet1!$S2276-Sheet1!$R2276","v":0},"-","-","-",{"$f":"IFERROR(Tableau1[[#This Row],[THEO]]-Tableau1[[#This Row],[Qtt 2éme lot]],\"-\")","v":"-"},"-",{"$f":"IF(Tableau1[[#This Row],[2éme lot]]=\"-\",\"-\",IFERROR(IF(Q2276=\"\",\"-\",INDEX(I:I,MATCH(Q2276,C:C,0)+1)),\"-\"))","v":"-"},"-","-"]
[{"$nulls":15},"-",null,{"$f":"SUMIF(Tableau1[Description article],Tableau1[Produits],Tableau1[Emplacement])","v":0},null,{"$f":"Sheet1!$S2277-Sheet1!$R2277","v":0},"-","-","-",{"$f":"IFERROR(Tableau1[[#This Row],[THEO]]-Tableau1[[#This Row],[Qtt 2éme lot]],\"-\")","v":"-"},"-",{"$f":"IF(Tableau1[[#This Row],[2éme lot]]=\"-\",\"-\",IFERROR(IF(Q2277=\"\",\"-\",INDEX(I:I,MATCH(Q2277,C:C,0)+1)),\"-\"))","v":"-"},"-","-"]
[{"$nulls":15},"-",null,{"$f":"SUMIF(Tableau1[Description article],Tableau1[Produits],Tableau1[Emplacement])","v":0},null,{"$f":"Sheet1!$S2278-Sheet1!$R2278","v":0},"-","-","-",{"$f":"IFERROR(Tableau1[[#This Row],[THEO]]-Tableau1[[#This Row],[Qtt 2éme lot]],\"-\")","v":"-"},"-",{"$f":"IF(Tableau1[[#This Row],[2éme lot]]=\"-\",\"-\",IFERROR(IF(Q2278=\"\",\"-\",INDEX(I:I,MATCH(Q2278,C:C,0)+1)),\"-\"))","v":"-"},"-","-"]
[{"$nulls":15},"-",null,{"$f":"SUMIF(Tableau1[Description article],Tableau1[Produits],Tableau1[Emplacement])","v":0},null,{"$f":"Sheet1!$S2279-Sheet1!$R2279","v":0},"-","-","-",{"$f":"IFERROR(Tableau1[[#This Row],[THEO]]-Tableau1[[#This Row],[Qtt 2éme lot]],\"-\")","v":"-"},"-",{"$f":"IF(Tableau1[[#This Row],[2éme lot]]=\"-\",\"-\",IFERROR(IF(Q2279=\"\",\"-\",INDEX(I:I,MATCH(Q2279,C:C,0)+1)),\"-\"))","v":"-"},"-","-"]
[{"$nulls":15},"-",null,{"$f":"SUMIF(Tableau1[Description article],Tableau1[Produits],Tableau1[Emplacement])","v":0},null,{"$f":"Sheet1!$S2280-Sheet1!$R2280","v":0},"-","-","-",{"$f":"IFERROR(Tableau1[[#This Row],[THEO]]-Tableau1[[#This Row],[Qtt 2éme lot]],\"-\")","v":"-"},"-",{"$f":"IF(Tableau1[[#This Row],[2éme lot]]=\"-\",\"-\",IFERROR(IF(Q2280=\"\",\"-\",INDEX(I:I,MATCH(Q2280,C:C,0)+1)),\"-\"))","v":"-"},"-","-"]
[{"$nulls":15},"-",null,{"$f":"SUMIF(Tableau1[Description article],Tableau1[Produits],Tableau1[Emplacement])","v":0},null,{"$f":"Sheet1!$S2281-Sheet1!$R2281","v":0},"-","-","-",{"$f":"IFERROR(Tableau1[[#This Row],[THEO]]-Tableau1[[#This Row],[Qtt 2éme lot]],\"-\")","v":"-"},"-",{"$f":"IF(Tableau1[[#This Row],[2éme lot]]=\"-\",\"-\",IFERROR(IF(Q2281=\"\",\"-\",INDEX(I:I,MATCH(Q2281,C:C,0)+1)),\"-\"))","v":"-"},"-","-"]
[{"$nulls":15},"-",null,{"$f":"SUMIF(Tableau1[Description article],Tableau1[Produits],Tableau1[Emplacement])","v":0},null,{"$f":"Sheet1!$S2282-Sheet1!$R2282","v":0},"-","-","-",{"$f":"IFERROR(Tableau1[[#This Row],[THEO]]-Tableau1[[#This Row],[Qtt 2éme lot]],\"-\")","v":"-"},"-",{"$f":"IF(Tableau1[[#This Row],[2éme lot]]=\"-\",\"-\",IFERROR(IF(Q2282=\"\",\"-\",INDEX(I:I,MATCH(Q2282,C:C,0)+1)),\"-\"))","v":"-"},"-","-"]
[{"$nulls":15},"-",null,{"$f":"SUMIF(Tableau1[Description article],Tableau1[Produits],Tableau1[Emplacement])","v":0},null,{"$f":"Sheet1!$S2283-Sheet1!$R2283","v":0},"-","-","-",{"$f":"IFERROR(Tableau1[[#This Row],[THEO]]-Tableau1[[#This Row],[Qtt 2éme lot]],\"-\")","v":"-"},"-",{"$f":"IF(Tableau1[[#This Row],[2éme lot]]=\"-\",\"-\",IFERROR(IF(Q2283=\"\",\"-\",INDEX(I:I,MATCH(Q2283,C:C,0)+1)),\"-\"))","v":"-"},"-","-"]
[{"$nulls":15},"-",null,{"$f":"SUMIF(Tableau1[Description article],Tableau1[Produits],Tableau1[Emplacement])","v":0},null,{"$f":"Sheet1!$S2284-Sheet1!$R2284","v":0},"-","-","-",{"$f":"IFERROR(Tableau1[[#This Row],[THEO]]-Tableau1[[#This Row],[Qtt 2éme lot]],\"-\")","v":"-"},"-",{"$f":"IF(Tableau1[[#This Row],[2éme lot]]=\"-\",\"-\",IFERROR(IF(Q2284=\"\",\"-\",INDEX(I:I,MATCH(Q2284,C:C,0)+1)),\"-\"))","v":"-"},"-","-"]
[{"$nulls":15},"-",null,{"$f":"SUMIF(Tableau1[Description article],Tableau1[Produits],Tableau1[Emplacement])","v":0},null,{"$f":"Sheet1!$S2285-Sheet1!$R2285","v":0},"-","-","-",{"$f":"IFERROR(Tableau1[[#This Row],[THEO]]-Tableau1[[#This Row],[Qtt 2éme lot]],\"-\")","v":"-"},"-",{"$f":"IF(Tableau1[[#This Row],[2éme lot]]=\"-\",\"-\",IFERROR(IF(Q2285=\"\",\"-\",INDEX(I:I,MATCH(Q2285,C:C,0)+1)),\"-\"))","v":"-"},"-","-"]
[{"$nulls":15},"-",null,{"$f":"SUMIF(Tableau1[Description article],Tableau1[Produits],Tableau1[Emplacement])","v":0},null,{"$f":"Sheet1!$S2286-Sheet1!$R2286","v":0},"-","-","-",{"$f":"IFERROR(Tableau1[[#This Row],[THEO]]-Tableau1[[#This Row],[Qtt 2éme lot]],\"-\")","v":"-"},"-",{"$f":"IF(Tableau1[[#This Row],[2éme lot]]=\"-\",\"-\",IFERROR(IF(Q2286=\"\",\"-\",INDEX(I:I,MATCH(Q2286,C:C,0)+1)),\"-\"))","v":"-"},"-","-"]
[{"$nulls":15},"-",null,{"$f":"SUMIF(Tableau1[Description article],Tableau1[Produits],Tableau1[Emplacement])","v":0},null,{"$f":"Sheet1!$S2287-Sheet1!$R2287","v":0},"-","-","-",{"$f":"IFERROR(Tableau1[[#This Row],[THEO]]-Tableau1[[#This Row],[Qtt 2éme lot]],\"-\")","v":"-"},"-",{"$f":"IF(Tableau1[[#This Row],[2éme lot]]=\"-\",\"-\",IFERROR(IF(Q2287=\"\",\"-\",INDEX(I:I,MATCH(Q2287,C:C,0)+1)),\"-\"))","v":"-"},"-","-"]
[{"$nulls":15},"-",null,{"$f":"SUMIF(Tableau1[Description article],Tableau1[Produits],Tableau1[Emplacement])","v":0},null,{"$f":"Sheet1!$S2288-Sheet1!$R2288","v":0},"-","-","-",{"$f":"IFERROR(Tableau1[[#This Row],[THEO]]-Tableau1[[#This Row],[Qtt 2éme lot]],\"-\")","v":"-"},"-",{"$f":"IF(Tableau1[[#This Row],[2éme lot]]=\"-\",\"-\",IFERROR(IF(Q2288=\"\",\"-\",INDEX(I:I,MATCH(Q2288,C:C,0)+1)),\"-\"))","v":"-"},"-","-"]
[{"$nulls":15},"-",null,{"$f":"SUMIF(Tableau1[Description article],Tableau1[Produits],Tableau1[Emplacement])","v":0},null,{"$f":"Sheet1!$S2289-Sheet1!$R2289","v":0},"-","-","-",{"$f":"IFERROR(Tableau1[[#This Row],[THEO]]-Tableau1[[#This Row],[Qtt 2éme lot]],\"-\")","v":"-"},"-",{"$f":"IF(Tableau1[[#This Row],[2éme lot]]=\"-\",\"-\",IFERROR(IF(Q2289=\"\",\"-\",INDEX(I:I,MATCH(Q2289,C:C,0)+1)),\"-\"))","v":"-"},"-","-"]
[{"$nulls":15},"-",null,{"$f":"SUMIF(Tableau1[Description article],Tableau1[Produits],Tableau1[Emplacement])","v":0},null,{"$f":"Sheet1!$S2290-Sheet1!$R2290","v":0},"-","-","-",{"$f":"IFERROR(Tableau1[[#This Row],[THEO]]-Tableau1[[#This Row],[Qtt 2éme lot]],\"-\")","v":"-"},"-",{"$f":"IF(Tableau1[[#This Row],[2éme lot]]=\"-\",\"-\",IFERROR(IF(Q2290=\"\",\"-\",INDEX(I:I,MATCH(Q2290,C:C,0)+1)),\"-\"))","v":"-"},"-","-"]
[{"$nulls":15},"-",null,{"$f":"SUMIF(Tableau1[Description article],Tableau1[Produits],Tableau1[Emplacement])","v":0},null,{"$f":"Sheet1!$S2291-Sheet1!$R2291","v":0},"-","-","-",{"$f":"IFERROR(Tableau1[[#This Row],[THEO]]-Tableau1[[#This Row],[Qtt 2éme lot]],\"-\")","v":"-"},"-",{"$f":"IF(Tableau1[[#This Row],[2éme lot]]=\"-\",\"-\",IFERROR(IF(Q2291=\"\",\"-\",INDEX(I:I,MATCH(Q2291,C:C,0)+1)),\"-\"))","v":"-"},"-","-"]
[{"$nulls":15},"-",null,{"$f":"SUMIF(Tableau1[Description article],Tableau1[Produits],Tableau1[Emplacement])","v":0},null,{"$f":"Sheet1!$S2292-Sheet1!$R2292","v":0},"-","-","-",{"$f":"IFERROR(Tableau1[[#This Row],[THEO]]-Tableau1[[#This Row],[Qtt 2éme lot]],\"-\")","v":"-"},"-",{"$f":"IF(Tableau1[[#This Row],[2éme lot]]=\"-\",\"-\",IFERROR(IF(Q2292=\"\",\"-\",INDEX(I:I,MATCH(Q2292,C:C,0)+1)),\"-\"))","v":"-"},"-","-"]
[{"$nulls":15},"-",null,{"$f":"SUMIF(Tableau1[Description article],Tableau1[Produits],Tableau1[Emplacement])","v":0},null,{"$f":"Sheet1!$S2293-Sheet1!$R2293","v":0},"-","-","-",{"$f":"IFERROR(Tableau1[[#This Row],[THEO]]-Tableau1[[#This Row],[Qtt 2éme lot]],\"-\")","v":"-"},"-",{"$f":"IF(Tableau1[[#This Row],[2éme lot]]=\"-\",\"-\",IFERROR(IF(Q2293=\"\",\"-\",INDEX(I:I,MATCH(Q2293,C:C,0)+1)),\"-\"))","v":"-"},"-","-"]
[{"$nulls":15},"-",null,{"$f":"SUMIF(Tableau1[Description article],Tableau1[Produits],Tableau1[Emplacement])","v":0},null,{"$f":"Sheet1!$S2294-Sheet1!$R2294","v":0},"-","-","-",{"$f":"IFERROR(Tableau1[[#This Row],[THEO]]-Tableau1[[#This Row],[Qtt 2éme lot]],\"-\")","v":"-"},"-",{"$f":"IF(Tableau1[[#This Row],[2éme lot]]=\"-\",\"-\",IFERROR(IF(Q2294=\"\",\"-\",INDEX(I:I,MATCH(Q2294,C:C,0)+1)),\"-\"))","v":"-"},"-","-"]
[{"$nulls":15},"-",null,{"$f":"SUMIF(Tableau1[Description article],Tableau1[Produits],Tableau1[Emplacement])","v":0},null,{"$f":"Sheet1!$S2295-Sheet1!$R2295","v":0},"-","-","-",{"$f":"IFERROR(Tableau1[[#This Row],[THEO]]-Tableau1[[#This Row],[Qtt 2éme lot]],\"-\")","v":"-"},"-",{"$f":"IF(Tableau1[[#This Row],[2éme lot]]=\"-\",\"-\",IFERROR(IF(Q2295=\"\",\"-\",INDEX(I:I,MATCH(Q2295,C:C,0)+1)),\"-\"))","v":"-"},"-","-"]
[{"$nulls":15},"-",null,{"$f":"SUMIF(Tableau1[Description article],Tableau1[Produits],Tableau1[Emplacement])","v":0},null,{"$f":"Sheet1!$S2296-Sheet1!$R2296","v":0},"-","-","-",{"$f":"IFERROR(Tableau1[[#This Row],[THEO]]-Tableau1[[#This Row],[Qtt 2éme lot]],\"-\")","v":"-"},"-",{"$f":"IF(Tableau1[[#This Row],[2éme lot]]=\"-\",\"-\",IFERROR(IF(Q2296=\"\",\"-\",INDEX(I:I,MATCH(Q2296,C:C,0)+1)),\"-\"))","v":"-"},"-","-"]
[{"$nulls":15},"-",null,{"$f":"SUMIF(Tableau1[Description article],Tableau1[Produits],Tableau1[Emplacement])","v":0},null,{"$f":"Sheet1!$S2297-Sheet1!$R2297","v":0},"-","-","-",{"$f":"IFERROR(Tableau1[[#This Row],[THEO]]-Tableau1[[#This Row],[Qtt 2éme lot]],\"-\")","v":"-"},"-",{"$f":"IF(Tableau1[[#This Row],[2éme lot]]=\"-\",\"-\",IFERROR(IF(Q2297=\"\",\"-\",INDEX(I:I,MATCH(Q2297,C:C,0)+1)),\"-\"))","v":"-"},"-","-"]
[{"$nulls":15},"-",null,{"$f":"SUMIF(Tableau1[Description article],Tableau1[Produits],Tableau1[Emplacement])","v":0},null,{"$f":"Sheet1!$S2298-Sheet1!$R2298","v":0},"-","-","-",{"$f":"IFERROR(Tableau1[[#This Row],[THEO]]-Tableau1[[#This Row],[Qtt 2éme lot]],\"-\")","v":"-"},"-",{"$f":"IF(Tableau1[[#This Row],[2éme lot]]=\"-\",\"-\",IFERROR(IF(Q2298=\"\",\"-\",INDEX(I:I,MATCH(Q2298,C:C,0)+1)),\"-\"))","v":"-"},"-","-"]
[{"$nulls":15},"-",null,{"$f":"SUMIF(Tableau1[Description article],Tableau1[Produits],Tableau1[Emplacement])","v":0},null,{"$f":"Sheet1!$S2299-Sheet1!$R2299","v":0},"-","-","-",{"$f":"IFERROR(Tableau1[[#This Row],[THEO]]-Tableau1[[#This Row],[Qtt 2éme lot]],\"-\")","v":"-"},"-",{"$f":"IF(Tableau1[[#This Row],[2éme lot]]=\"-\",\"-\",IFERROR(IF(Q2299=\"\",\"-\",INDEX(I:I,MATCH(Q2299,C:C,0)+1)),\"-\"))","v":"-"},"-","-"]
[{"$nulls":15},"-",null,{"$f":"SUMIF(Tableau1[Description article],Tableau1[Produits],Tableau1[Emplacement])","v":0},null,{"$f":"Sheet1!$S2300-Sheet1!$R2300","v":0},"-","-","-",{"$f":"IFERROR(Tableau1[[#This Row],[THEO]]-Tableau1[[#This Row],[Qtt 2éme lot]],\"-\")","v":"-"},"-",{"$f":"IF(Tableau1[[#This Row],[2éme lot]]=\"-\",\"-\",IFERROR(IF(Q2300=\"\",\"-\",INDEX(I:I,MATCH(Q2300,C:C,0)+1)),\"-\"))","v":"-"},"-","-"]
[{"$nulls":15},"-",null,{"$f":"SUMIF(Tableau1[Description article],Tableau1[Produits],Tableau1[Emplacement])","v":0},null,{"$f":"Sheet1!$S2301-Sheet1!$R2301","v":0},"-","-","-",{"$f":"IFERROR(Tableau1[[#This Row],[THEO]]-Tableau1[[#This Row],[Qtt 2éme lot]],\"-\")","v":"-"},"-",{"$f":"IF(Tableau1[[#This Row],[2éme lot]]=\"-\",\"-\",IFERROR(IF(Q2301=\"\",\"-\",INDEX(I:I,MATCH(Q2301,C:C,0)+1)),\"-\"))","v":"-"},"-","-"]
[{"$nulls":15},"-",null,{"$f":"SUMIF(Tableau1[Description article],Tableau1[Produits],Tableau1[Emplacement])","v":0},null,{"$f":"Sheet1!$S2302-Sheet1!$R2302","v":0},"-","-","-",{"$f":"IFERROR(Tableau1[[#This Row],[THEO]]-Tableau1[[#This Row],[Qtt 2éme lot]],\"-\")","v":"-"},"-",{"$f":"IF(Tableau1[[#This Row],[2éme lot]]=\"-\",\"-\",IFERROR(IF(Q2302=\"\",\"-\",INDEX(I:I,MATCH(Q2302,C:C,0)+1)),\"-\"))","v":"-"},"-","-"]
[{"$nulls":15},"-",null,{"$f":"SUMIF(Tableau1[Description article],Tableau1[Produits],Tableau1[Emplacement])","v":0},null,{"$f":"Sheet1!$S2303-Sheet1!$R2303","v":0},"-","-","-",{"$f":"IFERROR(Tableau1[[#This Row],[THEO]]-Tableau1[[#This Row],[Qtt 2éme lot]],\"-\")","v":"-"},"-",{"$f":"IF(Tableau1[[#This Row],[2éme lot]]=\"-\",\"-\",IFERROR(IF(Q2303=\"\",\"-\",INDEX(I:I,MATCH(Q2303,C:C,0)+1)),\"-\"))","v":"-"},"-","-"]
[{"$nulls":15},"-",null,{"$f":"SUMIF(Tableau1[Description article],Tableau1[Produits],Tableau1[Emplacement])","v":0},null,{"$f":"Sheet1!$S2304-Sheet1!$R2304","v":0},"-","-","-",{"$f":"IFERROR(Tableau1[[#This Row],[THEO]]-Tableau1[[#This Row],[Qtt 2éme lot]],\"-\")","v":"-"},"-",{"$f":"IF(Tableau1[[#This Row],[2éme lot]]=\"-\",\"-\",IFERROR(IF(Q2304=\"\",\"-\",INDEX(I:I,MATCH(Q2304,C:C,0)+1)),\"-\"))","v":"-"},"-","-"]
[{"$nulls":15},"-",null,{"$f":"SUMIF(Tableau1[Description article],Tableau1[Produits],Tableau1[Emplacement])","v":0},null,{"$f":"Sheet1!$S2305-Sheet1!$R2305","v":0},"-","-","-",{"$f":"IFERROR(Tableau1[[#This Row],[THEO]]-Tableau1[[#This Row],[Qtt 2éme lot]],\"-\")","v":"-"},"-",{"$f":"IF(Tableau1[[#This Row],[2éme lot]]=\"-\",\"-\",IFERROR(IF(Q2305=\"\",\"-\",INDEX(I:I,MATCH(Q2305,C:C,0)+1)),\"-\"))","v":"-"},"-","-"]
[{"$nulls":15},{"$f":"IFERROR(IF(Q2306=\"\",\"-\",INDEX(I:I,MATCH(Q2306,C:C,0))),\"-\")","v":"-"},null,{"$f":"SUMIF(Tableau1[Description article],Tableau1[Produits],Tableau1[Emplacement])","v":0},null,{"$f":"Sheet1!$S2306-Sheet1!$R2306","v":0},{"$f":"IFERROR(IF(Q2306=\"\",\"-\",INDEX(F:F,MATCH(Q2306,C:C,0))),\"-\")","v":"-"},{"$f":"IFERROR(IF(Q2306=\"\",\"-\",INDEX(E:E,MATCH(Q2306,C:C,0))),\"-\")","v":"-"},{"$f":"IFERROR(IF(Q2306=\"\",\"-\",INDEX(N:N,MATCH(Q2306,C:C,0))),\"-\")","v":"-"},{"$f":"IFERROR(Tableau1[[#This Row],[THEO]]-Tableau1[[#This Row],[Qtt 2éme lot]],\"-\")","v":"-"},{"$f":"IF(IF(Q2306=\"\",\"-\",INDEX(E:E,MATCH(Q2306,C:C,0)))=IF(Q2306=\"\",\"-\",INDEX(E:E,MATCH(Q2306,C:C,1))),\"-\",IF(Q2306=\"\",\"-\",INDEX(E:E,MATCH(Q2306,C:C,1))))","v":"-"},{"$f":"IF(Tableau1[[#This Row],[2éme lot]]=\"-\",\"-\",IFERROR(IF(Q2306=\"\",\"-\",INDEX(I:I,MATCH(Q2306,C:C,0)+1)),\"-\"))","v":"-"},{"$f":"IFERROR(IF(Y2306=\"\",\"-\",INDEX(N:N,MATCH(Y2306,E:E,0))),\"-\")","v":"-"},{"$f":"IFERROR(IF(AA2306=\"\",\"-\",INDEX(H:H,MATCH(Y2306,E:E,0))),\"-\")","v":"-"}]
[{"$nulls":15},"-",null,{"$f":"SUMIF(Tableau1[Description article],Tableau1[Produits],Tableau1[Emplacement])","v":0},null,{"$f":"Sheet1!$S2307-Sheet1!$R2307","v":0},"-","-","-",{"$f":"IFERROR(Tableau1[[#This Row],[THEO]]-Tableau1[[#This Row],[Qtt 2éme lot]],\"-\")","v":"-"},"-",{"$f":"IF(Tableau1[[#This Row],[2éme lot]]=\"-\",\"-\",IFERROR(IF(Q2307=\"\",\"-\",INDEX(I:I,MATCH(Q2307,C:C,0)+1)),\"-\"))","v":"-"},"-","-"]
[{"$nulls":15},"-",null,{"$f":"SUMIF(Tableau1[Description article],Tableau1[Produits],Tableau1[Emplacement])","v":0},null,{"$f":"Sheet1!$S2308-Sheet1!$R2308","v":0},"-","-","-",{"$f":"IFERROR(Tableau1[[#This Row],[THEO]]-Tableau1[[#This Row],[Qtt 2éme lot]],\"-\")","v":"-"},"-",{"$f":"IF(Tableau1[[#This Row],[2éme lot]]=\"-\",\"-\",IFERROR(IF(Q2308=\"\",\"-\",INDEX(I:I,MATCH(Q2308,C:C,0)+1)),\"-\"))","v":"-"},"-","-"]
[{"$nulls":15},"-",null,{"$f":"SUMIF(Tableau1[Description article],Tableau1[Produits],Tableau1[Emplacement])","v":0},null,{"$f":"Sheet1!$S2309-Sheet1!$R2309","v":0},"-","-","-",{"$f":"IFERROR(Tableau1[[#This Row],[THEO]]-Tableau1[[#This Row],[Qtt 2éme lot]],\"-\")","v":"-"},"-",{"$f":"IF(Tableau1[[#This Row],[2éme lot]]=\"-\",\"-\",IFERROR(IF(Q2309=\"\",\"-\",INDEX(I:I,MATCH(Q2309,C:C,0)+1)),\"-\"))","v":"-"},"-","-"]
[{"$nulls":15},"-",null,{"$f":"SUMIF(Tableau1[Description article],Tableau1[Produits],Tableau1[Emplacement])","v":0},null,{"$f":"Sheet1!$S2310-Sheet1!$R2310","v":0},"-","-","-",{"$f":"IFERROR(Tableau1[[#This Row],[THEO]]-Tableau1[[#This Row],[Qtt 2éme lot]],\"-\")","v":"-"},"-",{"$f":"IF(Tableau1[[#This Row],[2éme lot]]=\"-\",\"-\",IFERROR(IF(Q2310=\"\",\"-\",INDEX(I:I,MATCH(Q2310,C:C,0)+1)),\"-\"))","v":"-"},"-","-"]
[{"$nulls":15},"-",null,{"$f":"SUMIF(Tableau1[Description article],Tableau1[Produits],Tableau1[Emplacement])","v":0},null,{"$f":"Sheet1!$S2311-Sheet1!$R2311","v":0},"-","-","-",{"$f":"IFERROR(Tableau1[[#This Row],[THEO]]-Tableau1[[#This Row],[Qtt 2éme lot]],\"-\")","v":"-"},"-",{"$f":"IF(Tableau1[[#This Row],[2éme lot]]=\"-\",\"-\",IFERROR(IF(Q2311=\"\",\"-\",INDEX(I:I,MATCH(Q2311,C:C,0)+1)),\"-\"))","v":"-"},"-","-"]
[{"$nulls":15},"-",null,{"$f":"SUMIF(Tableau1[Description article],Tableau1[Produits],Tableau1[Emplacement])","v":0},null,{"$f":"Sheet1!$S2312-Sheet1!$R2312","v":0},"-","-","-",{"$f":"IFERROR(Tableau1[[#This Row],[THEO]]-Tableau1[[#This Row],[Qtt 2éme lot]],\"-\")","v":"-"},"-",{"$f":"IF(Tableau1[[#This Row],[2éme lot]]=\"-\",\"-\",IFERROR(IF(Q2312=\"\",\"-\",INDEX(I:I,MATCH(Q2312,C:C,0)+1)),\"-\"))","v":"-"},"-","-"]
[{"$nulls":15},"-",null,{"$f":"SUMIF(Tableau1[Description article],Tableau1[Produits],Tableau1[Emplacement])","v":0},null,{"$f":"Sheet1!$S2313-Sheet1!$R2313","v":0},"-","-","-",{"$f":"IFERROR(Tableau1[[#This Row],[THEO]]-Tableau1[[#This Row],[Qtt 2éme lot]],\"-\")","v":"-"},"-",{"$f":"IF(Tableau1[[#This Row],[2éme lot]]=\"-\",\"-\",IFERROR(IF(Q2313=\"\",\"-\",INDEX(I:I,MATCH(Q2313,C:C,0)+1)),\"-\"))","v":"-"},"-","-"]
[{"$nulls":15},"-",null,{"$f":"SUMIF(Tableau1[Description article],Tableau1[Produits],Tableau1[Emplacement])","v":0},null,{"$f":"Sheet1!$S2314-Sheet1!$R2314","v":0},"-","-","-",{"$f":"IFERROR(Tableau1[[#This Row],[THEO]]-Tableau1[[#This Row],[Qtt 2éme lot]],\"-\")","v":"-"},"-",{"$f":"IF(Tableau1[[#This Row],[2éme lot]]=\"-\",\"-\",IFERROR(IF(Q2314=\"\",\"-\",INDEX(I:I,MATCH(Q2314,C:C,0)+1)),\"-\"))","v":"-"},"-","-"]
[{"$nulls":15},"-",null,{"$f":"SUMIF(Tableau1[Description article],Tableau1[Produits],Tableau1[Emplacement])","v":0},null,{"$f":"Sheet1!$S2315-Sheet1!$R2315","v":0},"-","-","-",{"$f":"IFERROR(Tableau1[[#This Row],[THEO]]-Tableau1[[#This Row],[Qtt 2éme lot]],\"-\")","v":"-"},"-",{"$f":"IF(Tableau1[[#This Row],[2éme lot]]=\"-\",\"-\",IFERROR(IF(Q2315=\"\",\"-\",INDEX(I:I,MATCH(Q2315,C:C,0)+1)),\"-\"))","v":"-"},"-","-"]
[{"$nulls":15},"-",null,{"$f":"SUMIF(Tableau1[Description article],Tableau1[Produits],Tableau1[Emplacement])","v":0},null,{"$f":"Sheet1!$S2316-Sheet1!$R2316","v":0},"-","-","-",{"$f":"IFERROR(Tableau1[[#This Row],[THEO]]-Tableau1[[#This Row],[Qtt 2éme lot]],\"-\")","v":"-"},"-",{"$f":"IF(Tableau1[[#This Row],[2éme lot]]=\"-\",\"-\",IFERROR(IF(Q2316=\"\",\"-\",INDEX(I:I,MATCH(Q2316,C:C,0)+1)),\"-\"))","v":"-"},"-","-"]
[{"$nulls":15},"-",null,{"$f":"SUMIF(Tableau1[Description article],Tableau1[Produits],Tableau1[Emplacement])","v":0},null,{"$f":"Sheet1!$S2317-Sheet1!$R2317","v":0},"-","-","-",{"$f":"IFERROR(Tableau1[[#This Row],[THEO]]-Tableau1[[#This Row],[Qtt 2éme lot]],\"-\")","v":"-"},"-",{"$f":"IF(Tableau1[[#This Row],[2éme lot]]=\"-\",\"-\",IFERROR(IF(Q2317=\"\",\"-\",INDEX(I:I,MATCH(Q2317,C:C,0)+1)),\"-\"))","v":"-"},"-","-"]
[{"$nulls":15},"-",null,{"$f":"SUMIF(Tableau1[Description article],Tableau1[Produits],Tableau1[Emplacement])","v":0},null,{"$f":"Sheet1!$S2318-Sheet1!$R2318","v":0},"-","-","-",{"$f":"IFERROR(Tableau1[[#This Row],[THEO]]-Tableau1[[#This Row],[Qtt 2éme lot]],\"-\")","v":"-"},"-",{"$f":"IF(Tableau1[[#This Row],[2éme lot]]=\"-\",\"-\",IFERROR(IF(Q2318=\"\",\"-\",INDEX(I:I,MATCH(Q2318,C:C,0)+1)),\"-\"))","v":"-"},"-","-"]
[{"$nulls":15},"-",null,{"$f":"SUMIF(Tableau1[Description article],Tableau1[Produits],Tableau1[Emplacement])","v":0},null,{"$f":"Sheet1!$S2319-Sheet1!$R2319","v":0},"-","-","-",{"$f":"IFERROR(Tableau1[[#This Row],[THEO]]-Tableau1[[#This Row],[Qtt 2éme lot]],\"-\")","v":"-"},"-",{"$f":"IF(Tableau1[[#This Row],[2éme lot]]=\"-\",\"-\",IFERROR(IF(Q2319=\"\",\"-\",INDEX(I:I,MATCH(Q2319,C:C,0)+1)),\"-\"))","v":"-"},"-","-"]
[{"$nulls":15},"-",null,{"$f":"SUMIF(Tableau1[Description article],Tableau1[Produits],Tableau1[Emplacement])","v":0},null,{"$f":"Sheet1!$S2320-Sheet1!$R2320","v":0},"-","-","-",{"$f":"IFERROR(Tableau1[[#This Row],[THEO]]-Tableau1[[#This Row],[Qtt 2éme lot]],\"-\")","v":"-"},"-",{"$f":"IF(Tableau1[[#This Row],[2éme lot]]=\"-\",\"-\",IFERROR(IF(Q2320=\"\",\"-\",INDEX(I:I,MATCH(Q2320,C:C,0)+1)),\"-\"))","v":"-"},"-","-"]
[{"$nulls":15},"-",null,{"$f":"SUMIF(Tableau1[Description article],Tableau1[Produits],Tableau1[Emplacement])","v":0},null,{"$f":"Sheet1!$S2321-Sheet1!$R2321","v":0},"-","-","-",{"$f":"IFERROR(Tableau1[[#This Row],[THEO]]-Tableau1[[#This Row],[Qtt 2éme lot]],\"-\")","v":"-"},"-",{"$f":"IF(Tableau1[[#This Row],[2éme lot]]=\"-\",\"-\",IFERROR(IF(Q2321=\"\",\"-\",INDEX(I:I,MATCH(Q2321,C:C,0)+1)),\"-\"))","v":"-"},"-","-"]
[{"$nulls":15},"-",null,{"$f":"SUMIF(Tableau1[Description article],Tableau1[Produits],Tableau1[Emplacement])","v":0},null,{"$f":"Sheet1!$S2322-Sheet1!$R2322","v":0},"-","-","-",{"$f":"IFERROR(Tableau1[[#This Row],[THEO]]-Tableau1[[#This Row],[Qtt 2éme lot]],\"-\")","v":"-"},"-",{"$f":"IF(Tableau1[[#This Row],[2éme lot]]=\"-\",\"-\",IFERROR(IF(Q2322=\"\",\"-\",INDEX(I:I,MATCH(Q2322,C:C,0)+1)),\"-\"))","v":"-"},"-","-"]
[{"$nulls":15},"-",null,{"$f":"SUMIF(Tableau1[Description article],Tableau1[Produits],Tableau1[Emplacement])","v":0},null,{"$f":"Sheet1!$S2323-Sheet1!$R2323","v":0},"-","-","-",{"$f":"IFERROR(Tableau1[[#This Row],[THEO]]-Tableau1[[#This Row],[Qtt 2éme lot]],\"-\")","v":"-"},"-",{"$f":"IF(Tableau1[[#This Row],[2éme lot]]=\"-\",\"-\",IFERROR(IF(Q2323=\"\",\"-\",INDEX(I:I,MATCH(Q2323,C:C,0)+1)),\"-\"))","v":"-"},"-","-"]
[{"$nulls":15},"-",null,{"$f":"SUMIF(Tableau1[Description article],Tableau1[Produits],Tableau1[Emplacement])","v":0},null,{"$f":"Sheet1!$S2324-Sheet1!$R2324","v":0},"-","-","-",{"$f":"IFERROR(Tableau1[[#This Row],[THEO]]-Tableau1[[#This Row],[Qtt 2éme lot]],\"-\")","v":"-"},"-",{"$f":"IF(Tableau1[[#This Row],[2éme lot]]=\"-\",\"-\",IFERROR(IF(Q2324=\"\",\"-\",INDEX(I:I,MATCH(Q2324,C:C,0)+1)),\"-\"))","v":"-"},"-","-"]
[{"$nulls":15},"-",null,{"$f":"SUMIF(Tableau1[Description article],Tableau1[Produits],Tableau1[Emplacement])","v":0},null,{"$f":"Sheet1!$S2325-Sheet1!$R2325","v":0},"-","-","-",{"$f":"IFERROR(Tableau1[[#This Row],[THEO]]-Tableau1[[#This Row],[Qtt 2éme lot]],\"-\")","v":"-"},"-",{"$f":"IF(Tableau1[[#This Row],[2éme lot]]=\"-\",\"-\",IFERROR(IF(Q2325=\"\",\"-\",INDEX(I:I,MATCH(Q2325,C:C,0)+1)),\"-\"))","v":"-"},"-","-"]
[{"$nulls":15},"-",null,{"$f":"SUMIF(Tableau1[Description article],Tableau1[Produits],Tableau1[Emplacement])","v":0},null,{"$f":"Sheet1!$S2326-Sheet1!$R2326","v":0},"-","-","-",{"$f":"IFERROR(Tableau1[[#This Row],[THEO]]-Tableau1[[#This Row],[Qtt 2éme lot]],\"-\")","v":"-"},"-",{"$f":"IF(Tableau1[[#This Row],[2éme lot]]=\"-\",\"-\",IFERROR(IF(Q2326=\"\",\"-\",INDEX(I:I,MATCH(Q2326,C:C,0)+1)),\"-\"))","v":"-"},"-","-"]
[{"$nulls":15},"-",null,{"$f":"SUMIF(Tableau1[Description article],Tableau1[Produits],Tableau1[Emplacement])","v":0},null,{"$f":"Sheet1!$S2327-Sheet1!$R2327","v":0},"-","-","-",{"$f":"IFERROR(Tableau1[[#This Row],[THEO]]-Tableau1[[#This Row],[Qtt 2éme lot]],\"-\")","v":"-"},"-",{"$f":"IF(Tableau1[[#This Row],[2éme lot]]=\"-\",\"-\",IFERROR(IF(Q2327=\"\",\"-\",INDEX(I:I,MATCH(Q2327,C:C,0)+1)),\"-\"))","v":"-"},"-","-"]
[{"$nulls":15},"-",null,{"$f":"SUMIF(Tableau1[Description article],Tableau1[Produits],Tableau1[Emplacement])","v":0},null,{"$f":"Sheet1!$S2328-Sheet1!$R2328","v":0},"-","-","-",{"$f":"IFERROR(Tableau1[[#This Row],[THEO]]-Tableau1[[#This Row],[Qtt 2éme lot]],\"-\")","v":"-"},"-",{"$f":"IF(Tableau1[[#This Row],[2éme lot]]=\"-\",\"-\",IFERROR(IF(Q2328=\"\",\"-\",INDEX(I:I,MATCH(Q2328,C:C,0)+1)),\"-\"))","v":"-"},"-","-"]
[{"$nulls":15},"-",null,{"$f":"SUMIF(Tableau1[Description article],Tableau1[Produits],Tableau1[Emplacement])","v":0},null,{"$f":"Sheet1!$S2329-Sheet1!$R2329","v":0},"-","-","-",{"$f":"IFERROR(Tableau1[[#This Row],[THEO]]-Tableau1[[#This Row],[Qtt 2éme lot]],\"-\")","v":"-"},"-",{"$f":"IF(Tableau1[[#This Row],[2éme lot]]=\"-\",\"-\",IFERROR(IF(Q2329=\"\",\"-\",INDEX(I:I,MATCH(Q2329,C:C,0)+1)),\"-\"))","v":"-"},"-","-"]
[{"$nulls":15},"-",null,{"$f":"SUMIF(Tableau1[Description article],Tableau1[Produits],Tableau1[Emplacement])","v":0},null,{"$f":"Sheet1!$S2330-Sheet1!$R2330","v":0},"-","-","-",{"$f":"IFERROR(Tableau1[[#This Row],[THEO]]-Tableau1[[#This Row],[Qtt 2éme lot]],\"-\")","v":"-"},"-",{"$f":"IF(Tableau1[[#This Row],[2éme lot]]=\"-\",\"-\",IFERROR(IF(Q2330=\"\",\"-\",INDEX(I:I,MATCH(Q2330,C:C,0)+1)),\"-\"))","v":"-"},"-","-"]
[{"$nulls":15},"-",null,{"$f":"SUMIF(Tableau1[Description article],Tableau1[Produits],Tableau1[Emplacement])","v":0},null,{"$f":"Sheet1!$S2331-Sheet1!$R2331","v":0},"-","-","-",{"$f":"IFERROR(Tableau1[[#This Row],[THEO]]-Tableau1[[#This Row],[Qtt 2éme lot]],\"-\")","v":"-"},"-",{"$f":"IF(Tableau1[[#This Row],[2éme lot]]=\"-\",\"-\",IFERROR(IF(Q2331=\"\",\"-\",INDEX(I:I,MATCH(Q2331,C:C,0)+1)),\"-\"))","v":"-"},"-","-"]
[{"$nulls":15},"-",null,{"$f":"SUMIF(Tableau1[Description article],Tableau1[Produits],Tableau1[Emplacement])","v":0},null,{"$f":"Sheet1!$S2332-Sheet1!$R2332","v":0},"-","-","-",{"$f":"IFERROR(Tableau1[[#This Row],[THEO]]-Tableau1[[#This Row],[Qtt 2éme lot]],\"-\")","v":"-"},"-",{"$f":"IF(Tableau1[[#This Row],[2éme lot]]=\"-\",\"-\",IFERROR(IF(Q2332=\"\",\"-\",INDEX(I:I,MATCH(Q2332,C:C,0)+1)),\"-\"))","v":"-"},"-","-"]
[{"$nulls":15},"-",null,{"$f":"SUMIF(Tableau1[Description article],Tableau1[Produits],Tableau1[Emplacement])","v":0},null,{"$f":"Sheet1!$S2333-Sheet1!$R2333","v":0},"-","-","-",{"$f":"IFERROR(Tableau1[[#This Row],[THEO]]-Tableau1[[#This Row],[Qtt 2éme lot]],\"-\")","v":"-"},"-",{"$f":"IF(Tableau1[[#This Row],[2éme lot]]=\"-\",\"-\",IFERROR(IF(Q2333=\"\",\"-\",INDEX(I:I,MATCH(Q2333,C:C,0)+1)),\"-\"))","v":"-"},"-","-"]
[{"$nulls":15},"-",null,{"$f":"SUMIF(Tableau1[Description article],Tableau1[Produits],Tableau1[Emplacement])","v":0},null,{"$f":"Sheet1!$S2334-Sheet1!$R2334","v":0},"-","-","-",{"$f":"IFERROR(Tableau1[[#This Row],[THEO]]-Tableau1[[#This Row],[Qtt 2éme lot]],\"-\")","v":"-"},"-",{"$f":"IF(Tableau1[[#This Row],[2éme lot]]=\"-\",\"-\",IFERROR(IF(Q2334=\"\",\"-\",INDEX(I:I,MATCH(Q2334,C:C,0)+1)),\"-\"))","v":"-"},"-","-"]
[{"$nulls":15},"-",null,{"$f":"SUMIF(Tableau1[Description article],Tableau1[Produits],Tableau1[Emplacement])","v":0},null,{"$f":"Sheet1!$S2335-Sheet1!$R2335","v":0},"-","-","-",{"$f":"IFERROR(Tableau1[[#This Row],[THEO]]-Tableau1[[#This Row],[Qtt 2éme lot]],\"-\")","v":"-"},"-",{"$f":"IF(Tableau1[[#This Row],[2éme lot]]=\"-\",\"-\",IFERROR(IF(Q2335=\"\",\"-\",INDEX(I:I,MATCH(Q2335,C:C,0)+1)),\"-\"))","v":"-"},"-","-"]
[{"$nulls":15},"-",null,{"$f":"SUMIF(Tableau1[Description article],Tableau1[Produits],Tableau1[Emplacement])","v":0},null,{"$f":"Sheet1!$S2336-Sheet1!$R2336","v":0},"-","-","-",{"$f":"IFERROR(Tableau1[[#This Row],[THEO]]-Tableau1[[#This Row],[Qtt 2éme lot]],\"-\")","v":"-"},"-",{"$f":"IF(Tableau1[[#This Row],[2éme lot]]=\"-\",\"-\",IFERROR(IF(Q2336=\"\",\"-\",INDEX(I:I,MATCH(Q2336,C:C,0)+1)),\"-\"))","v":"-"},"-","-"]
[{"$nulls":15},"-",null,{"$f":"SUMIF(Tableau1[Description article],Tableau1[Produits],Tableau1[Emplacement])","v":0},null,{"$f":"Sheet1!$S2337-Sheet1!$R2337","v":0},"-","-","-",{"$f":"IFERROR(Tableau1[[#This Row],[THEO]]-Tableau1[[#This Row],[Qtt 2éme lot]],\"-\")","v":"-"},"-",{"$f":"IF(Tableau1[[#This Row],[2éme lot]]=\"-\",\"-\",IFERROR(IF(Q2337=\"\",\"-\",INDEX(I:I,MATCH(Q2337,C:C,0)+1)),\"-\"))","v":"-"},"-","-"]
[{"$nulls":15},"-",null,{"$f":"SUMIF(Tableau1[Description article],Tableau1[Produits],Tableau1[Emplacement])","v":0},null,{"$f":"Sheet1!$S2338-Sheet1!$R2338","v":0},"-","-","-",{"$f":"IFERROR(Tableau1[[#This Row],[THEO]]-Tableau1[[#This Row],[Qtt 2éme lot]],\"-\")","v":"-"},"-",{"$f":"IF(Tableau1[[#This Row],[2éme lot]]=\"-\",\"-\",IFERROR(IF(Q2338=\"\",\"-\",INDEX(I:I,MATCH(Q2338,C:C,0)+1)),\"-\"))","v":"-"},"-","-"]
[{"$nulls":15},"-",null,{"$f":"SUMIF(Tableau1[Description article],Tableau1[Produits],Tableau1[Emplacement])","v":0},null,{"$f":"Sheet1!$S2339-Sheet1!$R2339","v":0},"-","-","-",{"$f":"IFERROR(Tableau1[[#This Row],[THEO]]-Tableau1[[#This Row],[Qtt 2éme lot]],\"-\")","v":"-"},"-",{"$f":"IF(Tableau1[[#This Row],[2éme lot]]=\"-\",\"-\",IFERROR(IF(Q2339=\"\",\"-\",INDEX(I:I,MATCH(Q2339,C:C,0)+1)),\"-\"))","v":"-"},"-","-"]
[{"$nulls":15},"-",null,{"$f":"SUMIF(Tableau1[Description article],Tableau1[Produits],Tableau1[Emplacement])","v":0},null,{"$f":"Sheet1!$S2340-Sheet1!$R2340","v":0},"-","-","-",{"$f":"IFERROR(Tableau1[[#This Row],[THEO]]-Tableau1[[#This Row],[Qtt 2éme lot]],\"-\")","v":"-"},"-",{"$f":"IF(Tableau1[[#This Row],[2éme lot]]=\"-\",\"-\",IFERROR(IF(Q2340=\"\",\"-\",INDEX(I:I,MATCH(Q2340,C:C,0)+1)),\"-\"))","v":"-"},"-","-"]
[{"$nulls":15},"-",null,{"$f":"SUMIF(Tableau1[Description article],Tableau1[Produits],Tableau1[Emplacement])","v":0},null,{"$f":"Sheet1!$S2341-Sheet1!$R2341","v":0},"-","-","-",{"$f":"IFERROR(Tableau1[[#This Row],[THEO]]-Tableau1[[#This Row],[Qtt 2éme lot]],\"-\")","v":"-"},"-",{"$f":"IF(Tableau1[[#This Row],[2éme lot]]=\"-\",\"-\",IFERROR(IF(Q2341=\"\",\"-\",INDEX(I:I,MATCH(Q2341,C:C,0)+1)),\"-\"))","v":"-"},"-","-"]
[{"$nulls":15},"-",null,{"$f":"SUMIF(Tableau1[Description article],Tableau1[Produits],Tableau1[Emplacement])","v":0},null,{"$f":"Sheet1!$S2342-Sheet1!$R2342","v":0},"-","-","-",{"$f":"IFERROR(Tableau1[[#This Row],[THEO]]-Tableau1[[#This Row],[Qtt 2éme lot]],\"-\")","v":"-"},"-",{"$f":"IF(Tableau1[[#This Row],[2éme lot]]=\"-\",\"-\",IFERROR(IF(Q2342=\"\",\"-\",INDEX(I:I,MATCH(Q2342,C:C,0)+1)),\"-\"))","v":"-"},"-","-"]
[{"$nulls":15},"-",null,{"$f":"SUMIF(Tableau1[Description article],Tableau1[Produits],Tableau1[Emplacement])","v":0},null,{"$f":"Sheet1!$S2343-Sheet1!$R2343","v":0},"-","-","-",{"$f":"IFERROR(Tableau1[[#This Row],[THEO]]-Tableau1[[#This Row],[Qtt 2éme lot]],\"-\")","v":"-"},"-",{"$f":"IF(Tableau1[[#This Row],[2éme lot]]=\"-\",\"-\",IFERROR(IF(Q2343=\"\",\"-\",INDEX(I:I,MATCH(Q2343,C:C,0)+1)),\"-\"))","v":"-"},"-","-"]
[{"$nulls":15},"-",null,{"$f":"SUMIF(Tableau1[Description article],Tableau1[Produits],Tableau1[Emplacement])","v":0},null,{"$f":"Sheet1!$S2344-Sheet1!$R2344","v":0},"-","-","-",{"$f":"IFERROR(Tableau1[[#This Row],[THEO]]-Tableau1[[#This Row],[Qtt 2éme lot]],\"-\")","v":"-"},"-",{"$f":"IF(Tableau1[[#This Row],[2éme lot]]=\"-\",\"-\",IFERROR(IF(Q2344=\"\",\"-\",INDEX(I:I,MATCH(Q2344,C:C,0)+1)),\"-\"))","v":"-"},"-","-"]
[{"$nulls":15},"-",null,{"$f":"SUMIF(Tableau1[Description article],Tableau1[Produits],Tableau1[Emplacement])","v":0},null,{"$f":"Sheet1!$S2345-Sheet1!$R2345","v":0},"-","-","-",{"$f":"IFERROR(Tableau1[[#This Row],[THEO]]-Tableau1[[#This Row],[Qtt 2éme lot]],\"-\")","v":"-"},"-",{"$f":"IF(Tableau1[[#This Row],[2éme lot]]=\"-\",\"-\",IFERROR(IF(Q2345=\"\",\"-\",INDEX(I:I,MATCH(Q2345,C:C,0)+1)),\"-\"))","v":"-"},"-","-"]
[{"$nulls":15},"-",null,{"$f":"SUMIF(Tableau1[Description article],Tableau1[Produits],Tableau1[Emplacement])","v":0},null,{"$f":"Sheet1!$S2346-Sheet1!$R2346","v":0},"-","-","-",{"$f":"IFERROR(Tableau1[[#This Row],[THEO]]-Tableau1[[#This Row],[Qtt 2éme lot]],\"-\")","v":"-"},"-",{"$f":"IF(Tableau1[[#This Row],[2éme lot]]=\"-\",\"-\",IFERROR(IF(Q2346=\"\",\"-\",INDEX(I:I,MATCH(Q2346,C:C,0)+1)),\"-\"))","v":"-"},"-","-"]
[{"$nulls":15},"-",null,{"$f":"SUMIF(Tableau1[Description article],Tableau1[Produits],Tableau1[Emplacement])","v":0},null,{"$f":"Sheet1!$S2347-Sheet1!$R2347","v":0},"-","-","-",{"$f":"IFERROR(Tableau1[[#This Row],[THEO]]-Tableau1[[#This Row],[Qtt 2éme lot]],\"-\")","v":"-"},"-",{"$f":"IF(Tableau1[[#This Row],[2éme lot]]=\"-\",\"-\",IFERROR(IF(Q2347=\"\",\"-\",INDEX(I:I,MATCH(Q2347,C:C,0)+1)),\"-\"))","v":"-"},"-","-"]
[{"$nulls":15},"-",null,{"$f":"SUMIF(Tableau1[Description article],Tableau1[Produits],Tableau1[Emplacement])","v":0},null,{"$f":"Sheet1!$S2348-Sheet1!$R2348","v":0},"-","-","-",{"$f":"IFERROR(Tableau1[[#This Row],[THEO]]-Tableau1[[#This Row],[Qtt 2éme lot]],\"-\")","v":"-"},"-",{"$f":"IF(Tableau1[[#This Row],[2éme lot]]=\"-\",\"-\",IFERROR(IF(Q2348=\"\",\"-\",INDEX(I:I,MATCH(Q2348,C:C,0)+1)),\"-\"))","v":"-"},"-","-"]
[{"$nulls":15},"-",null,{"$f":"SUMIF(Tableau1[Description article],Tableau1[Produits],Tableau1[Emplacement])","v":0},null,{"$f":"Sheet1!$S2349-Sheet1!$R2349","v":0},"-","-","-",{"$f":"IFERROR(Tableau1[[#This Row],[THEO]]-Tableau1[[#This Row],[Qtt 2éme lot]],\"-\")","v":"-"},"-",{"$f":"IF(Tableau1[[#This Row],[2éme lot]]=\"-\",\"-\",IFERROR(IF(Q2349=\"\",\"-\",INDEX(I:I,MATCH(Q2349,C:C,0)+1)),\"-\"))","v":"-"},"-","-"]
[{"$nulls":15},"-",null,{"$f":"SUMIF(Tableau1[Description article],Tableau1[Produits],Tableau1[Emplacement])","v":0},null,{"$f":"Sheet1!$S2350-Sheet1!$R2350","v":0},"-","-","-",{"$f":"IFERROR(Tableau1[[#This Row],[THEO]]-Tableau1[[#This Row],[Qtt 2éme lot]],\"-\")","v":"-"},"-",{"$f":"IF(Tableau1[[#This Row],[2éme lot]]=\"-\",\"-\",IFERROR(IF(Q2350=\"\",\"-\",INDEX(I:I,MATCH(Q2350,C:C,0)+1)),\"-\"))","v":"-"},"-","-"]
[{"$nulls":15},"-",null,{"$f":"SUMIF(Tableau1[Description article],Tableau1[Produits],Tableau1[Emplacement])","v":0},null,{"$f":"Sheet1!$S2351-Sheet1!$R2351","v":0},"-","-","-",{"$f":"IFERROR(Tableau1[[#This Row],[THEO]]-Tableau1[[#This Row],[Qtt 2éme lot]],\"-\")","v":"-"},"-",{"$f":"IF(Tableau1[[#This Row],[2éme lot]]=\"-\",\"-\",IFERROR(IF(Q2351=\"\",\"-\",INDEX(I:I,MATCH(Q2351,C:C,0)+1)),\"-\"))","v":"-"},"-","-"]
[{"$nulls":15},"-",null,{"$f":"SUMIF(Tableau1[Description article],Tableau1[Produits],Tableau1[Emplacement])","v":0},null,{"$f":"Sheet1!$S2352-Sheet1!$R2352","v":0},"-","-","-",{"$f":"IFERROR(Tableau1[[#This Row],[THEO]]-Tableau1[[#This Row],[Qtt 2éme lot]],\"-\")","v":"-"},"-",{"$f":"IF(Tableau1[[#This Row],[2éme lot]]=\"-\",\"-\",IFERROR(IF(Q2352=\"\",\"-\",INDEX(I:I,MATCH(Q2352,C:C,0)+1)),\"-\"))","v":"-"},"-","-"]
[{"$nulls":15},"-",null,{"$f":"SUMIF(Tableau1[Description article],Tableau1[Produits],Tableau1[Emplacement])","v":0},null,{"$f":"Sheet1!$S2353-Sheet1!$R2353","v":0},"-","-","-",{"$f":"IFERROR(Tableau1[[#This Row],[THEO]]-Tableau1[[#This Row],[Qtt 2éme lot]],\"-\")","v":"-"},"-",{"$f":"IF(Tableau1[[#This Row],[2éme lot]]=\"-\",\"-\",IFERROR(IF(Q2353=\"\",\"-\",INDEX(I:I,MATCH(Q2353,C:C,0)+1)),\"-\"))","v":"-"},"-","-"]
[{"$nulls":15},"-",null,{"$f":"SUMIF(Tableau1[Description article],Tableau1[Produits],Tableau1[Emplacement])","v":0},null,{"$f":"Sheet1!$S2354-Sheet1!$R2354","v":0},"-","-","-",{"$f":"IFERROR(Tableau1[[#This Row],[THEO]]-Tableau1[[#This Row],[Qtt 2éme lot]],\"-\")","v":"-"},"-",{"$f":"IF(Tableau1[[#This Row],[2éme lot]]=\"-\",\"-\",IFERROR(IF(Q2354=\"\",\"-\",INDEX(I:I,MATCH(Q2354,C:C,0)+1)),\"-\"))","v":"-"},"-","-"]
[{"$nulls":15},"-",null,{"$f":"SUMIF(Tableau1[Description article],Tableau1[Produits],Tableau1[Emplacement])","v":0},null,{"$f":"Sheet1!$S2355-Sheet1!$R2355","v":0},"-","-","-",{"$f":"IFERROR(Tableau1[[#This Row],[THEO]]-Tableau1[[#This Row],[Qtt 2éme lot]],\"-\")","v":"-"},"-",{"$f":"IF(Tableau1[[#This Row],[2éme lot]]=\"-\",\"-\",IFERROR(IF(Q2355=\"\",\"-\",INDEX(I:I,MATCH(Q2355,C:C,0)+1)),\"-\"))","v":"-"},"-","-"]
[{"$nulls":15},"-",null,{"$f":"SUMIF(Tableau1[Description article],Tableau1[Produits],Tableau1[Emplacement])","v":0},null,{"$f":"Sheet1!$S2356-Sheet1!$R2356","v":0},"-","-","-",{"$f":"IFERROR(Tableau1[[#This Row],[THEO]]-Tableau1[[#This Row],[Qtt 2éme lot]],\"-\")","v":"-"},"-",{"$f":"IF(Tableau1[[#This Row],[2éme lot]]=\"-\",\"-\",IFERROR(IF(Q2356=\"\",\"-\",INDEX(I:I,MATCH(Q2356,C:C,0)+1)),\"-\"))","v":"-"},"-","-"]
[{"$nulls":15},"-",null,{"$f":"SUMIF(Tableau1[Description article],Tableau1[Produits],Tableau1[Emplacement])","v":0},null,{"$f":"Sheet1!$S2357-Sheet1!$R2357","v":0},"-","-","-",{"$f":"IFERROR(Tableau1[[#This Row],[THEO]]-Tableau1[[#This Row],[Qtt 2éme lot]],\"-\")","v":"-"},"-",{"$f":"IF(Tableau1[[#This Row],[2éme lot]]=\"-\",\"-\",IFERROR(IF(Q2357=\"\",\"-\",INDEX(I:I,MATCH(Q2357,C:C,0)+1)),\"-\"))","v":"-"},"-","-"]
[{"$nulls":15},"-",null,{"$f":"SUMIF(Tableau1[Description article],Tableau1[Produits],Tableau1[Emplacement])","v":0},null,{"$f":"Sheet1!$S2358-Sheet1!$R2358","v":0},"-","-","-",{"$f":"IFERROR(Tableau1[[#This Row],[THEO]]-Tableau1[[#This Row],[Qtt 2éme lot]],\"-\")","v":"-"},"-",{"$f":"IF(Tableau1[[#This Row],[2éme lot]]=\"-\",\"-\",IFERROR(IF(Q2358=\"\",\"-\",INDEX(I:I,MATCH(Q2358,C:C,0)+1)),\"-\"))","v":"-"},"-","-"]
[{"$nulls":15},"-",null,{"$f":"SUMIF(Tableau1[Description article],Tableau1[Produits],Tableau1[Emplacement])","v":0},null,{"$f":"Sheet1!$S2359-Sheet1!$R2359","v":0},"-","-","-",{"$f":"IFERROR(Tableau1[[#This Row],[THEO]]-Tableau1[[#This Row],[Qtt 2éme lot]],\"-\")","v":"-"},"-",{"$f":"IF(Tableau1[[#This Row],[2éme lot]]=\"-\",\"-\",IFERROR(IF(Q2359=\"\",\"-\",INDEX(I:I,MATCH(Q2359,C:C,0)+1)),\"-\"))","v":"-"},"-","-"]
[{"$nulls":15},"-",null,{"$f":"SUMIF(Tableau1[Description article],Tableau1[Produits],Tableau1[Emplacement])","v":0},null,{"$f":"Sheet1!$S2360-Sheet1!$R2360","v":0},"-","-","-",{"$f":"IFERROR(Tableau1[[#This Row],[THEO]]-Tableau1[[#This Row],[Qtt 2éme lot]],\"-\")","v":"-"},"-",{"$f":"IF(Tableau1[[#This Row],[2éme lot]]=\"-\",\"-\",IFERROR(IF(Q2360=\"\",\"-\",INDEX(I:I,MATCH(Q2360,C:C,0)+1)),\"-\"))","v":"-"},"-","-"]
[{"$nulls":15},"-",null,{"$f":"SUMIF(Tableau1[Description article],Tableau1[Produits],Tableau1[Emplacement])","v":0},null,{"$f":"Sheet1!$S2361-Sheet1!$R2361","v":0},"-","-","-",{"$f":"IFERROR(Tableau1[[#This Row],[THEO]]-Tableau1[[#This Row],[Qtt 2éme lot]],\"-\")","v":"-"},"-",{"$f":"IF(Tableau1[[#This Row],[2éme lot]]=\"-\",\"-\",IFERROR(IF(Q2361=\"\",\"-\",INDEX(I:I,MATCH(Q2361,C:C,0)+1)),\"-\"))","v":"-"},"-","-"]
[{"$nulls":15},"-",null,{"$f":"SUMIF(Tableau1[Description article],Tableau1[Produits],Tableau1[Emplacement])","v":0},null,{"$f":"Sheet1!$S2362-Sheet1!$R2362","v":0},"-","-","-",{"$f":"IFERROR(Tableau1[[#This Row],[THEO]]-Tableau1[[#This Row],[Qtt 2éme lot]],\"-\")","v":"-"},"-",{"$f":"IF(Tableau1[[#This Row],[2éme lot]]=\"-\",\"-\",IFERROR(IF(Q2362=\"\",\"-\",INDEX(I:I,MATCH(Q2362,C:C,0)+1)),\"-\"))","v":"-"},"-","-"]
[{"$nulls":15},"-",null,{"$f":"SUMIF(Tableau1[Description article],Tableau1[Produits],Tableau1[Emplacement])","v":0},null,{"$f":"Sheet1!$S2363-Sheet1!$R2363","v":0},"-","-","-",{"$f":"IFERROR(Tableau1[[#This Row],[THEO]]-Tableau1[[#This Row],[Qtt 2éme lot]],\"-\")","v":"-"},"-",{"$f":"IF(Tableau1[[#This Row],[2éme lot]]=\"-\",\"-\",IFERROR(IF(Q2363=\"\",\"-\",INDEX(I:I,MATCH(Q2363,C:C,0)+1)),\"-\"))","v":"-"},"-","-"]
[{"$nulls":15},"-",null,{"$f":"SUMIF(Tableau1[Description article],Tableau1[Produits],Tableau1[Emplacement])","v":0},null,{"$f":"Sheet1!$S2364-Sheet1!$R2364","v":0},"-","-","-",{"$f":"IFERROR(Tableau1[[#This Row],[THEO]]-Tableau1[[#This Row],[Qtt 2éme lot]],\"-\")","v":"-"},"-",{"$f":"IF(Tableau1[[#This Row],[2éme lot]]=\"-\",\"-\",IFERROR(IF(Q2364=\"\",\"-\",INDEX(I:I,MATCH(Q2364,C:C,0)+1)),\"-\"))","v":"-"},"-","-"]
[{"$nulls":15},"-",null,{"$f":"SUMIF(Tableau1[Description article],Tableau1[Produits],Tableau1[Emplacement])","v":0},null,{"$f":"Sheet1!$S2365-Sheet1!$R2365","v":0},"-","-","-",{"$f":"IFERROR(Tableau1[[#This Row],[THEO]]-Tableau1[[#This Row],[Qtt 2éme lot]],\"-\")","v":"-"},"-",{"$f":"IF(Tableau1[[#This Row],[2éme lot]]=\"-\",\"-\",IFERROR(IF(Q2365=\"\",\"-\",INDEX(I:I,MATCH(Q2365,C:C,0)+1)),\"-\"))","v":"-"},"-","-"]
[{"$nulls":15},"-",null,{"$f":"SUMIF(Tableau1[Description article],Tableau1[Produits],Tableau1[Emplacement])","v":0},null,{"$f":"Sheet1!$S2366-Sheet1!$R2366","v":0},"-","-","-",{"$f":"IFERROR(Tableau1[[#This Row],[THEO]]-Tableau1[[#This Row],[Qtt 2éme lot]],\"-\")","v":"-"},"-",{"$f":"IF(Tableau1[[#This Row],[2éme lot]]=\"-\",\"-\",IFERROR(IF(Q2366=\"\",\"-\",INDEX(I:I,MATCH(Q2366,C:C,0)+1)),\"-\"))","v":"-"},"-","-"]
[{"$nulls":15},"-",null,{"$f":"SUMIF(Tableau1[Description article],Tableau1[Produits],Tableau1[Emplacement])","v":0},null,{"$f":"Sheet1!$S2367-Sheet1!$R2367","v":0},"-","-","-",{"$f":"IFERROR(Tableau1[[#This Row],[THEO]]-Tableau1[[#This Row],[Qtt 2éme lot]],\"-\")","v":"-"},"-",{"$f":"IF(Tableau1[[#This Row],[2éme lot]]=\"-\",\"-\",IFERROR(IF(Q2367=\"\",\"-\",INDEX(I:I,MATCH(Q2367,C:C,0)+1)),\"-\"))","v":"-"},"-","-"]
[{"$nulls":15},"-",null,{"$f":"SUMIF(Tableau1[Description article],Tableau1[Produits],Tableau1[Emplacement])","v":0},null,{"$f":"Sheet1!$S2368-Sheet1!$R2368","v":0},"-","-","-",{"$f":"IFERROR(Tableau1[[#This Row],[THEO]]-Tableau1[[#This Row],[Qtt 2éme lot]],\"-\")","v":"-"},"-",{"$f":"IF(Tableau1[[#This Row],[2éme lot]]=\"-\",\"-\",IFERROR(IF(Q2368=\"\",\"-\",INDEX(I:I,MATCH(Q2368,C:C,0)+1)),\"-\"))","v":"-"},"-","-"]
[{"$nulls":15},"-",null,{"$f":"SUMIF(Tableau1[Description article],Tableau1[Produits],Tableau1[Emplacement])","v":0},null,{"$f":"Sheet1!$S2369-Sheet1!$R2369","v":0},"-","-","-",{"$f":"IFERROR(Tableau1[[#This Row],[THEO]]-Tableau1[[#This Row],[Qtt 2éme lot]],\"-\")","v":"-"},"-",{"$f":"IF(Tableau1[[#This Row],[2éme lot]]=\"-\",\"-\",IFERROR(IF(Q2369=\"\",\"-\",INDEX(I:I,MATCH(Q2369,C:C,0)+1)),\"-\"))","v":"-"},"-","-"]
[{"$nulls":15},{"$f":"IFERROR(IF(Q2370=\"\",\"-\",INDEX(I:I,MATCH(Q2370,C:C,0))),\"-\")","v":"-"},null,{"$f":"SUMIF(Tableau1[Description article],Tableau1[Produits],Tableau1[Emplacement])","v":0},null,{"$f":"Sheet1!$S2370-Sheet1!$R2370","v":0},{"$f":"IFERROR(IF(Q2370=\"\",\"-\",INDEX(F:F,MATCH(Q2370,C:C,0))),\"-\")","v":"-"},{"$f":"IFERROR(IF(Q2370=\"\",\"-\",INDEX(E:E,MATCH(Q2370,C:C,0))),\"-\")","v":"-"},{"$f":"IFERROR(IF(Q2370=\"\",\"-\",INDEX(N:N,MATCH(Q2370,C:C,0))),\"-\")","v":"-"},{"$f":"IFERROR(Tableau1[[#This Row],[THEO]]-Tableau1[[#This Row],[Qtt 2éme lot]],\"-\")","v":"-"},{"$f":"IF(IF(Q2370=\"\",\"-\",INDEX(E:E,MATCH(Q2370,C:C,0)))=IF(Q2370=\"\",\"-\",INDEX(E:E,MATCH(Q2370,C:C,1))),\"-\",IF(Q2370=\"\",\"-\",INDEX(E:E,MATCH(Q2370,C:C,1))))","v":"-"},{"$f":"IF(Tableau1[[#This Row],[2éme lot]]=\"-\",\"-\",IFERROR(IF(Q2370=\"\",\"-\",INDEX(I:I,MATCH(Q2370,C:C,0)+1)),\"-\"))","v":"-"},{"$f":"IFERROR(IF(Y2370=\"\",\"-\",INDEX(N:N,MATCH(Y2370,E:E,0))),\"-\")","v":"-"},{"$f":"IFERROR(IF(AA2370=\"\",\"-\",INDEX(H:H,MATCH(Y2370,E:E,0))),\"-\")","v":"-"}]
[{"$nulls":15},"-",null,{"$f":"SUMIF(Tableau1[Description article],Tableau1[Produits],Tableau1[Emplacement])","v":0},null,{"$f":"Sheet1!$S2371-Sheet1!$R2371","v":0},"-","-","-",{"$f":"IFERROR(Tableau1[[#This Row],[THEO]]-Tableau1[[#This Row],[Qtt 2éme lot]],\"-\")","v":"-"},"-",{"$f":"IF(Tableau1[[#This Row],[2éme lot]]=\"-\",\"-\",IFERROR(IF(Q2371=\"\",\"-\",INDEX(I:I,MATCH(Q2371,C:C,0)+1)),\"-\"))","v":"-"},"-","-"]
[{"$nulls":15},"-",null,{"$f":"SUMIF(Tableau1[Description article],Tableau1[Produits],Tableau1[Emplacement])","v":0},null,{"$f":"Sheet1!$S2372-Sheet1!$R2372","v":0},"-","-","-",{"$f":"IFERROR(Tableau1[[#This Row],[THEO]]-Tableau1[[#This Row],[Qtt 2éme lot]],\"-\")","v":"-"},"-",{"$f":"IF(Tableau1[[#This Row],[2éme lot]]=\"-\",\"-\",IFERROR(IF(Q2372=\"\",\"-\",INDEX(I:I,MATCH(Q2372,C:C,0)+1)),\"-\"))","v":"-"},"-","-"]
[{"$nulls":15},"-",null,{"$f":"SUMIF(Tableau1[Description article],Tableau1[Produits],Tableau1[Emplacement])","v":0},null,{"$f":"Sheet1!$S2373-Sheet1!$R2373","v":0},"-","-","-",{"$f":"IFERROR(Tableau1[[#This Row],[THEO]]-Tableau1[[#This Row],[Qtt 2éme lot]],\"-\")","v":"-"},"-",{"$f":"IF(Tableau1[[#This Row],[2éme lot]]=\"-\",\"-\",IFERROR(IF(Q2373=\"\",\"-\",INDEX(I:I,MATCH(Q2373,C:C,0)+1)),\"-\"))","v":"-"},"-","-"]
[{"$nulls":15},"-",null,{"$f":"SUMIF(Tableau1[Description article],Tableau1[Produits],Tableau1[Emplacement])","v":0},null,{"$f":"Sheet1!$S2374-Sheet1!$R2374","v":0},"-","-","-",{"$f":"IFERROR(Tableau1[[#This Row],[THEO]]-Tableau1[[#This Row],[Qtt 2éme lot]],\"-\")","v":"-"},"-",{"$f":"IF(Tableau1[[#This Row],[2éme lot]]=\"-\",\"-\",IFERROR(IF(Q2374=\"\",\"-\",INDEX(I:I,MATCH(Q2374,C:C,0)+1)),\"-\"))","v":"-"},"-","-"]
[{"$nulls":15},"-",null,{"$f":"SUMIF(Tableau1[Description article],Tableau1[Produits],Tableau1[Emplacement])","v":0},null,{"$f":"Sheet1!$S2375-Sheet1!$R2375","v":0},"-","-","-",{"$f":"IFERROR(Tableau1[[#This Row],[THEO]]-Tableau1[[#This Row],[Qtt 2éme lot]],\"-\")","v":"-"},"-",{"$f":"IF(Tableau1[[#This Row],[2éme lot]]=\"-\",\"-\",IFERROR(IF(Q2375=\"\",\"-\",INDEX(I:I,MATCH(Q2375,C:C,0)+1)),\"-\"))","v":"-"},"-","-"]
[{"$nulls":15},"-",null,{"$f":"SUMIF(Tableau1[Description article],Tableau1[Produits],Tableau1[Emplacement])","v":0},null,{"$f":"Sheet1!$S2376-Sheet1!$R2376","v":0},"-","-","-",{"$f":"IFERROR(Tableau1[[#This Row],[THEO]]-Tableau1[[#This Row],[Qtt 2éme lot]],\"-\")","v":"-"},"-",{"$f":"IF(Tableau1[[#This Row],[2éme lot]]=\"-\",\"-\",IFERROR(IF(Q2376=\"\",\"-\",INDEX(I:I,MATCH(Q2376,C:C,0)+1)),\"-\"))","v":"-"},"-","-"]
[{"$nulls":15},"-",null,{"$f":"SUMIF(Tableau1[Description article],Tableau1[Produits],Tableau1[Emplacement])","v":0},null,{"$f":"Sheet1!$S2377-Sheet1!$R2377","v":0},"-","-","-",{"$f":"IFERROR(Tableau1[[#This Row],[THEO]]-Tableau1[[#This Row],[Qtt 2éme lot]],\"-\")","v":"-"},"-",{"$f":"IF(Tableau1[[#This Row],[2éme lot]]=\"-\",\"-\",IFERROR(IF(Q2377=\"\",\"-\",INDEX(I:I,MATCH(Q2377,C:C,0)+1)),\"-\"))","v":"-"},"-","-"]
[{"$nulls":15},"-",null,{"$f":"SUMIF(Tableau1[Description article],Tableau1[Produits],Tableau1[Emplacement])","v":0},null,{"$f":"Sheet1!$S2378-Sheet1!$R2378","v":0},"-","-","-",{"$f":"IFERROR(Tableau1[[#This Row],[THEO]]-Tableau1[[#This Row],[Qtt 2éme lot]],\"-\")","v":"-"},"-",{"$f":"IF(Tableau1[[#This Row],[2éme lot]]=\"-\",\"-\",IFERROR(IF(Q2378=\"\",\"-\",INDEX(I:I,MATCH(Q2378,C:C,0)+1)),\"-\"))","v":"-"},"-","-"]
[{"$nulls":15},"-",null,{"$f":"SUMIF(Tableau1[Description article],Tableau1[Produits],Tableau1[Emplacement])","v":0},null,{"$f":"Sheet1!$S2379-Sheet1!$R2379","v":0},"-","-","-",{"$f":"IFERROR(Tableau1[[#This Row],[THEO]]-Tableau1[[#This Row],[Qtt 2éme lot]],\"-\")","v":"-"},"-",{"$f":"IF(Tableau1[[#This Row],[2éme lot]]=\"-\",\"-\",IFERROR(IF(Q2379=\"\",\"-\",INDEX(I:I,MATCH(Q2379,C:C,0)+1)),\"-\"))","v":"-"},"-","-"]
[{"$nulls":15},"-",null,{"$f":"SUMIF(Tableau1[Description article],Tableau1[Produits],Tableau1[Emplacement])","v":0},null,{"$f":"Sheet1!$S2380-Sheet1!$R2380","v":0},"-","-","-",{"$f":"IFERROR(Tableau1[[#This Row],[THEO]]-Tableau1[[#This Row],[Qtt 2éme lot]],\"-\")","v":"-"},"-",{"$f":"IF(Tableau1[[#This Row],[2éme lot]]=\"-\",\"-\",IFERROR(IF(Q2380=\"\",\"-\",INDEX(I:I,MATCH(Q2380,C:C,0)+1)),\"-\"))","v":"-"},"-","-"]
[{"$nulls":15},"-",null,{"$f":"SUMIF(Tableau1[Description article],Tableau1[Produits],Tableau1[Emplacement])","v":0},null,{"$f":"Sheet1!$S2381-Sheet1!$R2381","v":0},"-","-","-",{"$f":"IFERROR(Tableau1[[#This Row],[THEO]]-Tableau1[[#This Row],[Qtt 2éme lot]],\"-\")","v":"-"},"-",{"$f":"IF(Tableau1[[#This Row],[2éme lot]]=\"-\",\"-\",IFERROR(IF(Q2381=\"\",\"-\",INDEX(I:I,MATCH(Q2381,C:C,0)+1)),\"-\"))","v":"-"},"-","-"]
[{"$nulls":15},"-",null,{"$f":"SUMIF(Tableau1[Description article],Tableau1[Produits],Tableau1[Emplacement])","v":0},null,{"$f":"Sheet1!$S2382-Sheet1!$R2382","v":0},"-","-","-",{"$f":"IFERROR(Tableau1[[#This Row],[THEO]]-Tableau1[[#This Row],[Qtt 2éme lot]],\"-\")","v":"-"},"-",{"$f":"IF(Tableau1[[#This Row],[2éme lot]]=\"-\",\"-\",IFERROR(IF(Q2382=\"\",\"-\",INDEX(I:I,MATCH(Q2382,C:C,0)+1)),\"-\"))","v":"-"},"-","-"]
[{"$nulls":15},"-",null,{"$f":"SUMIF(Tableau1[Description article],Tableau1[Produits],Tableau1[Emplacement])","v":0},null,{"$f":"Sheet1!$S2383-Sheet1!$R2383","v":0},"-","-","-",{"$f":"IFERROR(Tableau1[[#This Row],[THEO]]-Tableau1[[#This Row],[Qtt 2éme lot]],\"-\")","v":"-"},"-",{"$f":"IF(Tableau1[[#This Row],[2éme lot]]=\"-\",\"-\",IFERROR(IF(Q2383=\"\",\"-\",INDEX(I:I,MATCH(Q2383,C:C,0)+1)),\"-\"))","v":"-"},"-","-"]
[{"$nulls":15},"-",null,{"$f":"SUMIF(Tableau1[Description article],Tableau1[Produits],Tableau1[Emplacement])","v":0},null,{"$f":"Sheet1!$S2384-Sheet1!$R2384","v":0},"-","-","-",{"$f":"IFERROR(Tableau1[[#This Row],[THEO]]-Tableau1[[#This Row],[Qtt 2éme lot]],\"-\")","v":"-"},"-",{"$f":"IF(Tableau1[[#This Row],[2éme lot]]=\"-\",\"-\",IFERROR(IF(Q2384=\"\",\"-\",INDEX(I:I,MATCH(Q2384,C:C,0)+1)),\"-\"))","v":"-"},"-","-"]
[{"$nulls":15},"-",null,{"$f":"SUMIF(Tableau1[Description article],Tableau1[Produits],Tableau1[Emplacement])","v":0},null,{"$f":"Sheet1!$S2385-Sheet1!$R2385","v":0},"-","-","-",{"$f":"IFERROR(Tableau1[[#This Row],[THEO]]-Tableau1[[#This Row],[Qtt 2éme lot]],\"-\")","v":"-"},"-",{"$f":"IF(Tableau1[[#This Row],[2éme lot]]=\"-\",\"-\",IFERROR(IF(Q2385=\"\",\"-\",INDEX(I:I,MATCH(Q2385,C:C,0)+1)),\"-\"))","v":"-"},"-","-"]
[{"$nulls":15},"-",null,{"$f":"SUMIF(Tableau1[Description article],Tableau1[Produits],Tableau1[Emplacement])","v":0},null,{"$f":"Sheet1!$S2386-Sheet1!$R2386","v":0},"-","-","-",{"$f":"IFERROR(Tableau1[[#This Row],[THEO]]-Tableau1[[#This Row],[Qtt 2éme lot]],\"-\")","v":"-"},"-",{"$f":"IF(Tableau1[[#This Row],[2éme lot]]=\"-\",\"-\",IFERROR(IF(Q2386=\"\",\"-\",INDEX(I:I,MATCH(Q2386,C:C,0)+1)),\"-\"))","v":"-"},"-","-"]
[{"$nulls":15},"-",null,{"$f":"SUMIF(Tableau1[Description article],Tableau1[Produits],Tableau1[Emplacement])","v":0},null,{"$f":"Sheet1!$S2387-Sheet1!$R2387","v":0},"-","-","-",{"$f":"IFERROR(Tableau1[[#This Row],[THEO]]-Tableau1[[#This Row],[Qtt 2éme lot]],\"-\")","v":"-"},"-",{"$f":"IF(Tableau1[[#This Row],[2éme lot]]=\"-\",\"-\",IFERROR(IF(Q2387=\"\",\"-\",INDEX(I:I,MATCH(Q2387,C:C,0)+1)),\"-\"))","v":"-"},"-","-"]
[{"$nulls":15},"-",null,{"$f":"SUMIF(Tableau1[Description article],Tableau1[Produits],Tableau1[Emplacement])","v":0},null,{"$f":"Sheet1!$S2388-Sheet1!$R2388","v":0},"-","-","-",{"$f":"IFERROR(Tableau1[[#This Row],[THEO]]-Tableau1[[#This Row],[Qtt 2éme lot]],\"-\")","v":"-"},"-",{"$f":"IF(Tableau1[[#This Row],[2éme lot]]=\"-\",\"-\",IFERROR(IF(Q2388=\"\",\"-\",INDEX(I:I,MATCH(Q2388,C:C,0)+1)),\"-\"))","v":"-"},"-","-"]
[{"$nulls":15},"-",null,{"$f":"SUMIF(Tableau1[Description article],Tableau1[Produits],Tableau1[Emplacement])","v":0},null,{"$f":"Sheet1!$S2389-Sheet1!$R2389","v":0},"-","-","-",{"$f":"IFERROR(Tableau1[[#This Row],[THEO]]-Tableau1[[#This Row],[Qtt 2éme lot]],\"-\")","v":"-"},"-",{"$f":"IF(Tableau1[[#This Row],[2éme lot]]=\"-\",\"-\",IFERROR(IF(Q2389=\"\",\"-\",INDEX(I:I,MATCH(Q2389,C:C,0)+1)),\"-\"))","v":"-"},"-","-"]
[{"$nulls":15},"-",null,{"$f":"SUMIF(Tableau1[Description article],Tableau1[Produits],Tableau1[Emplacement])","v":0},null,{"$f":"Sheet1!$S2390-Sheet1!$R2390","v":0},"-","-","-",{"$f":"IFERROR(Tableau1[[#This Row],[THEO]]-Tableau1[[#This Row],[Qtt 2éme lot]],\"-\")","v":"-"},"-",{"$f":"IF(Tableau1[[#This Row],[2éme lot]]=\"-\",\"-\",IFERROR(IF(Q2390=\"\",\"-\",INDEX(I:I,MATCH(Q2390,C:C,0)+1)),\"-\"))","v":"-"},"-","-"]
[{"$nulls":15},"-",null,{"$f":"SUMIF(Tableau1[Description article],Tableau1[Produits],Tableau1[Emplacement])","v":0},null,{"$f":"Sheet1!$S2391-Sheet1!$R2391","v":0},"-","-","-",{"$f":"IFERROR(Tableau1[[#This Row],[THEO]]-Tableau1[[#This Row],[Qtt 2éme lot]],\"-\")","v":"-"},"-",{"$f":"IF(Tableau1[[#This Row],[2éme lot]]=\"-\",\"-\",IFERROR(IF(Q2391=\"\",\"-\",INDEX(I:I,MATCH(Q2391,C:C,0)+1)),\"-\"))","v":"-"},"-","-"]
[{"$nulls":15},"-",null,{"$f":"SUMIF(Tableau1[Description article],Tableau1[Produits],Tableau1[Emplacement])","v":0},null,{"$f":"Sheet1!$S2392-Sheet1!$R2392","v":0},"-","-","-",{"$f":"IFERROR(Tableau1[[#This Row],[THEO]]-Tableau1[[#This Row],[Qtt 2éme lot]],\"-\")","v":"-"},"-",{"$f":"IF(Tableau1[[#This Row],[2éme lot]]=\"-\",\"-\",IFERROR(IF(Q2392=\"\",\"-\",INDEX(I:I,MATCH(Q2392,C:C,0)+1)),\"-\"))","v":"-"},"-","-"]
[{"$nulls":15},"-",null,{"$f":"SUMIF(Tableau1[Description article],Tableau1[Produits],Tableau1[Emplacement])","v":0},null,{"$f":"Sheet1!$S2393-Sheet1!$R2393","v":0},"-","-","-",{"$f":"IFERROR(Tableau1[[#This Row],[THEO]]-Tableau1[[#This Row],[Qtt 2éme lot]],\"-\")","v":"-"},"-",{"$f":"IF(Tableau1[[#This Row],[2éme lot]]=\"-\",\"-\",IFERROR(IF(Q2393=\"\",\"-\",INDEX(I:I,MATCH(Q2393,C:C,0)+1)),\"-\"))","v":"-"},"-","-"]
[{"$nulls":15},"-",null,{"$f":"SUMIF(Tableau1[Description article],Tableau1[Produits],Tableau1[Emplacement])","v":0},null,{"$f":"Sheet1!$S2394-Sheet1!$R2394","v":0},"-","-","-",{"$f":"IFERROR(Tableau1[[#This Row],[THEO]]-Tableau1[[#This Row],[Qtt 2éme lot]],\"-\")","v":"-"},"-",{"$f":"IF(Tableau1[[#This Row],[2éme lot]]=\"-\",\"-\",IFERROR(IF(Q2394=\"\",\"-\",INDEX(I:I,MATCH(Q2394,C:C,0)+1)),\"-\"))","v":"-"},"-","-"]
[{"$nulls":15},"-",null,{"$f":"SUMIF(Tableau1[Description article],Tableau1[Produits],Tableau1[Emplacement])","v":0},null,{"$f":"Sheet1!$S2395-Sheet1!$R2395","v":0},"-","-","-",{"$f":"IFERROR(Tableau1[[#This Row],[THEO]]-Tableau1[[#This Row],[Qtt 2éme lot]],\"-\")","v":"-"},"-",{"$f":"IF(Tableau1[[#This Row],[2éme lot]]=\"-\",\"-\",IFERROR(IF(Q2395=\"\",\"-\",INDEX(I:I,MATCH(Q2395,C:C,0)+1)),\"-\"))","v":"-"},"-","-"]
[{"$nulls":15},"-",null,{"$f":"SUMIF(Tableau1[Description article],Tableau1[Produits],Tableau1[Emplacement])","v":0},null,{"$f":"Sheet1!$S2396-Sheet1!$R2396","v":0},"-","-","-",{"$f":"IFERROR(Tableau1[[#This Row],[THEO]]-Tableau1[[#This Row],[Qtt 2éme lot]],\"-\")","v":"-"},"-",{"$f":"IF(Tableau1[[#This Row],[2éme lot]]=\"-\",\"-\",IFERROR(IF(Q2396=\"\",\"-\",INDEX(I:I,MATCH(Q2396,C:C,0)+1)),\"-\"))","v":"-"},"-","-"]
[{"$nulls":15},"-",null,{"$f":"SUMIF(Tableau1[Description article],Tableau1[Produits],Tableau1[Emplacement])","v":0},null,{"$f":"Sheet1!$S2397-Sheet1!$R2397","v":0},"-","-","-",{"$f":"IFERROR(Tableau1[[#This Row],[THEO]]-Tableau1[[#This Row],[Qtt 2éme lot]],\"-\")","v":"-"},"-",{"$f":"IF(Tableau1[[#This Row],[2éme lot]]=\"-\",\"-\",IFERROR(IF(Q2397=\"\",\"-\",INDEX(I:I,MATCH(Q2397,C:C,0)+1)),\"-\"))","v":"-"},"-","-"]
[{"$nulls":15},"-",null,{"$f":"SUMIF(Tableau1[Description article],Tableau1[Produits],Tableau1[Emplacement])","v":0},null,{"$f":"Sheet1!$S2398-Sheet1!$R2398","v":0},"-","-","-",{"$f":"IFERROR(Tableau1[[#This Row],[THEO]]-Tableau1[[#This Row],[Qtt 2éme lot]],\"-\")","v":"-"},"-",{"$f":"IF(Tableau1[[#This Row],[2éme lot]]=\"-\",\"-\",IFERROR(IF(Q2398=\"\",\"-\",INDEX(I:I,MATCH(Q2398,C:C,0)+1)),\"-\"))","v":"-"},"-","-"]
[{"$nulls":15},"-",null,{"$f":"SUMIF(Tableau1[Description article],Tableau1[Produits],Tableau1[Emplacement])","v":0},null,{"$f":"Sheet1!$S2399-Sheet1!$R2399","v":0},"-","-","-",{"$f":"IFERROR(Tableau1[[#This Row],[THEO]]-Tableau1[[#This Row],[Qtt 2éme lot]],\"-\")","v":"-"},"-",{"$f":"IF(Tableau1[[#This Row],[2éme lot]]=\"-\",\"-\",IFERROR(IF(Q2399=\"\",\"-\",INDEX(I:I,MATCH(Q2399,C:C,0)+1)),\"-\"))","v":"-"},"-","-"]
[{"$nulls":15},"-",null,{"$f":"SUMIF(Tableau1[Description article],Tableau1[Produits],Tableau1[Emplacement])","v":0},null,{"$f":"Sheet1!$S2400-Sheet1!$R2400","v":0},"-","-","-",{"$f":"IFERROR(Tableau1[[#This Row],[THEO]]-Tableau1[[#This Row],[Qtt 2éme lot]],\"-\")","v":"-"},"-",{"$f":"IF(Tableau1[[#This Row],[2éme lot]]=\"-\",\"-\",IFERROR(IF(Q2400=\"\",\"-\",INDEX(I:I,MATCH(Q2400,C:C,0)+1)),\"-\"))","v":"-"},"-","-"]
[{"$nulls":15},"-",null,{"$f":"SUMIF(Tableau1[Description article],Tableau1[Produits],Tableau1[Emplacement])","v":0},null,{"$f":"Sheet1!$S2401-Sheet1!$R2401","v":0},"-","-","-",{"$f":"IFERROR(Tableau1[[#This Row],[THEO]]-Tableau1[[#This Row],[Qtt 2éme lot]],\"-\")","v":"-"},"-",{"$f":"IF(Tableau1[[#This Row],[2éme lot]]=\"-\",\"-\",IFERROR(IF(Q2401=\"\",\"-\",INDEX(I:I,MATCH(Q2401,C:C,0)+1)),\"-\"))","v":"-"},"-","-"]
[{"$nulls":15},"-",null,{"$f":"SUMIF(Tableau1[Description article],Tableau1[Produits],Tableau1[Emplacement])","v":0},null,{"$f":"Sheet1!$S2402-Sheet1!$R2402","v":0},"-","-","-",{"$f":"IFERROR(Tableau1[[#This Row],[THEO]]-Tableau1[[#This Row],[Qtt 2éme lot]],\"-\")","v":"-"},"-",{"$f":"IF(Tableau1[[#This Row],[2éme lot]]=\"-\",\"-\",IFERROR(IF(Q2402=\"\",\"-\",INDEX(I:I,MATCH(Q2402,C:C,0)+1)),\"-\"))","v":"-"},"-","-"]
[{"$nulls":15},"-",null,{"$f":"SUMIF(Tableau1[Description article],Tableau1[Produits],Tableau1[Emplacement])","v":0},null,{"$f":"Sheet1!$S2403-Sheet1!$R2403","v":0},"-","-","-",{"$f":"IFERROR(Tableau1[[#This Row],[THEO]]-Tableau1[[#This Row],[Qtt 2éme lot]],\"-\")","v":"-"},"-",{"$f":"IF(Tableau1[[#This Row],[2éme lot]]=\"-\",\"-\",IFERROR(IF(Q2403=\"\",\"-\",INDEX(I:I,MATCH(Q2403,C:C,0)+1)),\"-\"))","v":"-"},"-","-"]
[{"$nulls":15},"-",null,{"$f":"SUMIF(Tableau1[Description article],Tableau1[Produits],Tableau1[Emplacement])","v":0},null,{"$f":"Sheet1!$S2404-Sheet1!$R2404","v":0},"-","-","-",{"$f":"IFERROR(Tableau1[[#This Row],[THEO]]-Tableau1[[#This Row],[Qtt 2éme lot]],\"-\")","v":"-"},"-",{"$f":"IF(Tableau1[[#This Row],[2éme lot]]=\"-\",\"-\",IFERROR(IF(Q2404=\"\",\"-\",INDEX(I:I,MATCH(Q2404,C:C,0)+1)),\"-\"))","v":"-"},"-","-"]
[{"$nulls":15},"-",null,{"$f":"SUMIF(Tableau1[Description article],Tableau1[Produits],Tableau1[Emplacement])","v":0},null,{"$f":"Sheet1!$S2405-Sheet1!$R2405","v":0},"-","-","-",{"$f":"IFERROR(Tableau1[[#This Row],[THEO]]-Tableau1[[#This Row],[Qtt 2éme lot]],\"-\")","v":"-"},"-",{"$f":"IF(Tableau1[[#This Row],[2éme lot]]=\"-\",\"-\",IFERROR(IF(Q2405=\"\",\"-\",INDEX(I:I,MATCH(Q2405,C:C,0)+1)),\"-\"))","v":"-"},"-","-"]
[{"$nulls":15},"-",null,{"$f":"SUMIF(Tableau1[Description article],Tableau1[Produits],Tableau1[Emplacement])","v":0},null,{"$f":"Sheet1!$S2406-Sheet1!$R2406","v":0},"-","-","-",{"$f":"IFERROR(Tableau1[[#This Row],[THEO]]-Tableau1[[#This Row],[Qtt 2éme lot]],\"-\")","v":"-"},"-",{"$f":"IF(Tableau1[[#This Row],[2éme lot]]=\"-\",\"-\",IFERROR(IF(Q2406=\"\",\"-\",INDEX(I:I,MATCH(Q2406,C:C,0)+1)),\"-\"))","v":"-"},"-","-"]
[{"$nulls":15},"-",null,{"$f":"SUMIF(Tableau1[Description article],Tableau1[Produits],Tableau1[Emplacement])","v":0},null,{"$f":"Sheet1!$S2407-Sheet1!$R2407","v":0},"-","-","-",{"$f":"IFERROR(Tableau1[[#This Row],[THEO]]-Tableau1[[#This Row],[Qtt 2éme lot]],\"-\")","v":"-"},"-",{"$f":"IF(Tableau1[[#This Row],[2éme lot]]=\"-\",\"-\",IFERROR(IF(Q2407=\"\",\"-\",INDEX(I:I,MATCH(Q2407,C:C,0)+1)),\"-\"))","v":"-"},"-","-"]
[{"$nulls":15},"-",null,{"$f":"SUMIF(Tableau1[Description article],Tableau1[Produits],Tableau1[Emplacement])","v":0},null,{"$f":"Sheet1!$S2408-Sheet1!$R2408","v":0},"-","-","-",{"$f":"IFERROR(Tableau1[[#This Row],[THEO]]-Tableau1[[#This Row],[Qtt 2éme lot]],\"-\")","v":"-"},"-",{"$f":"IF(Tableau1[[#This Row],[2éme lot]]=\"-\",\"-\",IFERROR(IF(Q2408=\"\",\"-\",INDEX(I:I,MATCH(Q2408,C:C,0)+1)),\"-\"))","v":"-"},"-","-"]
[{"$nulls":15},"-",null,{"$f":"SUMIF(Tableau1[Description article],Tableau1[Produits],Tableau1[Emplacement])","v":0},null,{"$f":"Sheet1!$S2409-Sheet1!$R2409","v":0},"-","-","-",{"$f":"IFERROR(Tableau1[[#This Row],[THEO]]-Tableau1[[#This Row],[Qtt 2éme lot]],\"-\")","v":"-"},"-",{"$f":"IF(Tableau1[[#This Row],[2éme lot]]=\"-\",\"-\",IFERROR(IF(Q2409=\"\",\"-\",INDEX(I:I,MATCH(Q2409,C:C,0)+1)),\"-\"))","v":"-"},"-","-"]
[{"$nulls":15},"-",null,{"$f":"SUMIF(Tableau1[Description article],Tableau1[Produits],Tableau1[Emplacement])","v":0},null,{"$f":"Sheet1!$S2410-Sheet1!$R2410","v":0},"-","-","-",{"$f":"IFERROR(Tableau1[[#This Row],[THEO]]-Tableau1[[#This Row],[Qtt 2éme lot]],\"-\")","v":"-"},"-",{"$f":"IF(Tableau1[[#This Row],[2éme lot]]=\"-\",\"-\",IFERROR(IF(Q2410=\"\",\"-\",INDEX(I:I,MATCH(Q2410,C:C,0)+1)),\"-\"))","v":"-"},"-","-"]
[{"$nulls":15},"-",null,{"$f":"SUMIF(Tableau1[Description article],Tableau1[Produits],Tableau1[Emplacement])","v":0},null,{"$f":"Sheet1!$S2411-Sheet1!$R2411","v":0},"-","-","-",{"$f":"IFERROR(Tableau1[[#This Row],[THEO]]-Tableau1[[#This Row],[Qtt 2éme lot]],\"-\")","v":"-"},"-",{"$f":"IF(Tableau1[[#This Row],[2éme lot]]=\"-\",\"-\",IFERROR(IF(Q2411=\"\",\"-\",INDEX(I:I,MATCH(Q2411,C:C,0)+1)),\"-\"))","v":"-"},"-","-"]
[{"$nulls":15},"-",null,{"$f":"SUMIF(Tableau1[Description article],Tableau1[Produits],Tableau1[Emplacement])","v":0},null,{"$f":"Sheet1!$S2412-Sheet1!$R2412","v":0},"-","-","-",{"$f":"IFERROR(Tableau1[[#This Row],[THEO]]-Tableau1[[#This Row],[Qtt 2éme lot]],\"-\")","v":"-"},"-",{"$f":"IF(Tableau1[[#This Row],[2éme lot]]=\"-\",\"-\",IFERROR(IF(Q2412=\"\",\"-\",INDEX(I:I,MATCH(Q2412,C:C,0)+1)),\"-\"))","v":"-"},"-","-"]
[{"$nulls":15},"-",null,{"$f":"SUMIF(Tableau1[Description article],Tableau1[Produits],Tableau1[Emplacement])","v":0},null,{"$f":"Sheet1!$S2413-Sheet1!$R2413","v":0},"-","-","-",{"$f":"IFERROR(Tableau1[[#This Row],[THEO]]-Tableau1[[#This Row],[Qtt 2éme lot]],\"-\")","v":"-"},"-",{"$f":"IF(Tableau1[[#This Row],[2éme lot]]=\"-\",\"-\",IFERROR(IF(Q2413=\"\",\"-\",INDEX(I:I,MATCH(Q2413,C:C,0)+1)),\"-\"))","v":"-"},"-","-"]
[{"$nulls":15},"-",null,{"$f":"SUMIF(Tableau1[Description article],Tableau1[Produits],Tableau1[Emplacement])","v":0},null,{"$f":"Sheet1!$S2414-Sheet1!$R2414","v":0},"-","-","-",{"$f":"IFERROR(Tableau1[[#This Row],[THEO]]-Tableau1[[#This Row],[Qtt 2éme lot]],\"-\")","v":"-"},"-",{"$f":"IF(Tableau1[[#This Row],[2éme lot]]=\"-\",\"-\",IFERROR(IF(Q2414=\"\",\"-\",INDEX(I:I,MATCH(Q2414,C:C,0)+1)),\"-\"))","v":"-"},"-","-"]
[{"$nulls":15},"-",null,{"$f":"SUMIF(Tableau1[Description article],Tableau1[Produits],Tableau1[Emplacement])","v":0},null,{"$f":"Sheet1!$S2415-Sheet1!$R2415","v":0},"-","-","-",{"$f":"IFERROR(Tableau1[[#This Row],[THEO]]-Tableau1[[#This Row],[Qtt 2éme lot]],\"-\")","v":"-"},"-",{"$f":"IF(Tableau1[[#This Row],[2éme lot]]=\"-\",\"-\",IFERROR(IF(Q2415=\"\",\"-\",INDEX(I:I,MATCH(Q2415,C:C,0)+1)),\"-\"))","v":"-"},"-","-"]
[{"$nulls":15},"-",null,{"$f":"SUMIF(Tableau1[Description article],Tableau1[Produits],Tableau1[Emplacement])","v":0},null,{"$f":"Sheet1!$S2416-Sheet1!$R2416","v":0},"-","-","-",{"$f":"IFERROR(Tableau1[[#This Row],[THEO]]-Tableau1[[#This Row],[Qtt 2éme lot]],\"-\")","v":"-"},"-",{"$f":"IF(Tableau1[[#This Row],[2éme lot]]=\"-\",\"-\",IFERROR(IF(Q2416=\"\",\"-\",INDEX(I:I,MATCH(Q2416,C:C,0)+1)),\"-\"))","v":"-"},"-","-"]
[{"$nulls":15},"-",null,{"$f":"SUMIF(Tableau1[Description article],Tableau1[Produits],Tableau1[Emplacement])","v":0},null,{"$f":"Sheet1!$S2417-Sheet1!$R2417","v":0},"-","-","-",{"$f":"IFERROR(Tableau1[[#This Row],[THEO]]-Tableau1[[#This Row],[Qtt 2éme lot]],\"-\")","v":"-"},"-",{"$f":"IF(Tableau1[[#This Row],[2éme lot]]=\"-\",\"-\",IFERROR(IF(Q2417=\"\",\"-\",INDEX(I:I,MATCH(Q2417,C:C,0)+1)),\"-\"))","v":"-"},"-","-"]
[{"$nulls":15},"-",null,{"$f":"SUMIF(Tableau1[Description article],Tableau1[Produits],Tableau1[Emplacement])","v":0},null,{"$f":"Sheet1!$S2418-Sheet1!$R2418","v":0},"-","-","-",{"$f":"IFERROR(Tableau1[[#This Row],[THEO]]-Tableau1[[#This Row],[Qtt 2éme lot]],\"-\")","v":"-"},"-",{"$f":"IF(Tableau1[[#This Row],[2éme lot]]=\"-\",\"-\",IFERROR(IF(Q2418=\"\",\"-\",INDEX(I:I,MATCH(Q2418,C:C,0)+1)),\"-\"))","v":"-"},"-","-"]
[{"$nulls":15},"-",null,{"$f":"SUMIF(Tableau1[Description article],Tableau1[Produits],Tableau1[Emplacement])","v":0},null,{"$f":"Sheet1!$S2419-Sheet1!$R2419","v":0},"-","-","-",{"$f":"IFERROR(Tableau1[[#This Row],[THEO]]-Tableau1[[#This Row],[Qtt 2éme lot]],\"-\")","v":"-"},"-",{"$f":"IF(Tableau1[[#This Row],[2éme lot]]=\"-\",\"-\",IFERROR(IF(Q2419=\"\",\"-\",INDEX(I:I,MATCH(Q2419,C:C,0)+1)),\"-\"))","v":"-"},"-","-"]
[{"$nulls":15},"-",null,{"$f":"SUMIF(Tableau1[Description article],Tableau1[Produits],Tableau1[Emplacement])","v":0},null,{"$f":"Sheet1!$S2420-Sheet1!$R2420","v":0},"-","-","-",{"$f":"IFERROR(Tableau1[[#This Row],[THEO]]-Tableau1[[#This Row],[Qtt 2éme lot]],\"-\")","v":"-"},"-",{"$f":"IF(Tableau1[[#This Row],[2éme lot]]=\"-\",\"-\",IFERROR(IF(Q2420=\"\",\"-\",INDEX(I:I,MATCH(Q2420,C:C,0)+1)),\"-\"))","v":"-"},"-","-"]
[{"$nulls":15},"-",null,{"$f":"SUMIF(Tableau1[Description article],Tableau1[Produits],Tableau1[Emplacement])","v":0},null,{"$f":"Sheet1!$S2421-Sheet1!$R2421","v":0},"-","-","-",{"$f":"IFERROR(Tableau1[[#This Row],[THEO]]-Tableau1[[#This Row],[Qtt 2éme lot]],\"-\")","v":"-"},"-",{"$f":"IF(Tableau1[[#This Row],[2éme lot]]=\"-\",\"-\",IFERROR(IF(Q2421=\"\",\"-\",INDEX(I:I,MATCH(Q2421,C:C,0)+1)),\"-\"))","v":"-"},"-","-"]
[{"$nulls":15},"-",null,{"$f":"SUMIF(Tableau1[Description article],Tableau1[Produits],Tableau1[Emplacement])","v":0},null,{"$f":"Sheet1!$S2422-Sheet1!$R2422","v":0},"-","-","-",{"$f":"IFERROR(Tableau1[[#This Row],[THEO]]-Tableau1[[#This Row],[Qtt 2éme lot]],\"-\")","v":"-"},"-",{"$f":"IF(Tableau1[[#This Row],[2éme lot]]=\"-\",\"-\",IFERROR(IF(Q2422=\"\",\"-\",INDEX(I:I,MATCH(Q2422,C:C,0)+1)),\"-\"))","v":"-"},"-","-"]
[{"$nulls":15},"-",null,{"$f":"SUMIF(Tableau1[Description article],Tableau1[Produits],Tableau1[Emplacement])","v":0},null,{"$f":"Sheet1!$S2423-Sheet1!$R2423","v":0},"-","-","-",{"$f":"IFERROR(Tableau1[[#This Row],[THEO]]-Tableau1[[#This Row],[Qtt 2éme lot]],\"-\")","v":"-"},"-",{"$f":"IF(Tableau1[[#This Row],[2éme lot]]=\"-\",\"-\",IFERROR(IF(Q2423=\"\",\"-\",INDEX(I:I,MATCH(Q2423,C:C,0)+1)),\"-\"))","v":"-"},"-","-"]
[{"$nulls":15},"-",null,{"$f":"SUMIF(Tableau1[Description article],Tableau1[Produits],Tableau1[Emplacement])","v":0},null,{"$f":"Sheet1!$S2424-Sheet1!$R2424","v":0},"-","-","-",{"$f":"IFERROR(Tableau1[[#This Row],[THEO]]-Tableau1[[#This Row],[Qtt 2éme lot]],\"-\")","v":"-"},"-",{"$f":"IF(Tableau1[[#This Row],[2éme lot]]=\"-\",\"-\",IFERROR(IF(Q2424=\"\",\"-\",INDEX(I:I,MATCH(Q2424,C:C,0)+1)),\"-\"))","v":"-"},"-","-"]
[{"$nulls":15},"-",null,{"$f":"SUMIF(Tableau1[Description article],Tableau1[Produits],Tableau1[Emplacement])","v":0},null,{"$f":"Sheet1!$S2425-Sheet1!$R2425","v":0},"-","-","-",{"$f":"IFERROR(Tableau1[[#This Row],[THEO]]-Tableau1[[#This Row],[Qtt 2éme lot]],\"-\")","v":"-"},"-",{"$f":"IF(Tableau1[[#This Row],[2éme lot]]=\"-\",\"-\",IFERROR(IF(Q2425=\"\",\"-\",INDEX(I:I,MATCH(Q2425,C:C,0)+1)),\"-\"))","v":"-"},"-","-"]
[{"$nulls":15},"-",null,{"$f":"SUMIF(Tableau1[Description article],Tableau1[Produits],Tableau1[Emplacement])","v":0},null,{"$f":"Sheet1!$S2426-Sheet1!$R2426","v":0},"-","-","-",{"$f":"IFERROR(Tableau1[[#This Row],[THEO]]-Tableau1[[#This Row],[Qtt 2éme lot]],\"-\")","v":"-"},"-",{"$f":"IF(Tableau1[[#This Row],[2éme lot]]=\"-\",\"-\",IFERROR(IF(Q2426=\"\",\"-\",INDEX(I:I,MATCH(Q2426,C:C,0)+1)),\"-\"))","v":"-"},"-","-"]
[{"$nulls":15},"-",null,{"$f":"SUMIF(Tableau1[Description article],Tableau1[Produits],Tableau1[Emplacement])","v":0},null,{"$f":"Sheet1!$S2427-Sheet1!$R2427","v":0},"-","-","-",{"$f":"IFERROR(Tableau1[[#This Row],[THEO]]-Tableau1[[#This Row],[Qtt 2éme lot]],\"-\")","v":"-"},"-",{"$f":"IF(Tableau1[[#This Row],[2éme lot]]=\"-\",\"-\",IFERROR(IF(Q2427=\"\",\"-\",INDEX(I:I,MATCH(Q2427,C:C,0)+1)),\"-\"))","v":"-"},"-","-"]
[{"$nulls":15},"-",null,{"$f":"SUMIF(Tableau1[Description article],Tableau1[Produits],Tableau1[Emplacement])","v":0},null,{"$f":"Sheet1!$S2428-Sheet1!$R2428","v":0},"-","-","-",{"$f":"IFERROR(Tableau1[[#This Row],[THEO]]-Tableau1[[#This Row],[Qtt 2éme lot]],\"-\")","v":"-"},"-",{"$f":"IF(Tableau1[[#This Row],[2éme lot]]=\"-\",\"-\",IFERROR(IF(Q2428=\"\",\"-\",INDEX(I:I,MATCH(Q2428,C:C,0)+1)),\"-\"))","v":"-"},"-","-"]
[{"$nulls":15},"-",null,{"$f":"SUMIF(Tableau1[Description article],Tableau1[Produits],Tableau1[Emplacement])","v":0},null,{"$f":"Sheet1!$S2429-Sheet1!$R2429","v":0},"-","-","-",{"$f":"IFERROR(Tableau1[[#This Row],[THEO]]-Tableau1[[#This Row],[Qtt 2éme lot]],\"-\")","v":"-"},"-",{"$f":"IF(Tableau1[[#This Row],[2éme lot]]=\"-\",\"-\",IFERROR(IF(Q2429=\"\",\"-\",INDEX(I:I,MATCH(Q2429,C:C,0)+1)),\"-\"))","v":"-"},"-","-"]
[{"$nulls":15},"-",null,{"$f":"SUMIF(Tableau1[Description article],Tableau1[Produits],Tableau1[Emplacement])","v":0},null,{"$f":"Sheet1!$S2430-Sheet1!$R2430","v":0},"-","-","-",{"$f":"IFERROR(Tableau1[[#This Row],[THEO]]-Tableau1[[#This Row],[Qtt 2éme lot]],\"-\")","v":"-"},"-",{"$f":"IF(Tableau1[[#This Row],[2éme lot]]=\"-\",\"-\",IFERROR(IF(Q2430=\"\",\"-\",INDEX(I:I,MATCH(Q2430,C:C,0)+1)),\"-\"))","v":"-"},"-","-"]
[{"$nulls":15},"-",null,{"$f":"SUMIF(Tableau1[Description article],Tableau1[Produits],Tableau1[Emplacement])","v":0},null,{"$f":"Sheet1!$S2431-Sheet1!$R2431","v":0},"-","-","-",{"$f":"IFERROR(Tableau1[[#This Row],[THEO]]-Tableau1[[#This Row],[Qtt 2éme lot]],\"-\")","v":"-"},"-",{"$f":"IF(Tableau1[[#This Row],[2éme lot]]=\"-\",\"-\",IFERROR(IF(Q2431=\"\",\"-\",INDEX(I:I,MATCH(Q2431,C:C,0)+1)),\"-\"))","v":"-"},"-","-"]
[{"$nulls":15},"-",null,{"$f":"SUMIF(Tableau1[Description article],Tableau1[Produits],Tableau1[Emplacement])","v":0},null,{"$f":"Sheet1!$S2432-Sheet1!$R2432","v":0},"-","-","-",{"$f":"IFERROR(Tableau1[[#This Row],[THEO]]-Tableau1[[#This Row],[Qtt 2éme lot]],\"-\")","v":"-"},"-",{"$f":"IF(Tableau1[[#This Row],[2éme lot]]=\"-\",\"-\",IFERROR(IF(Q2432=\"\",\"-\",INDEX(I:I,MATCH(Q2432,C:C,0)+1)),\"-\"))","v":"-"},"-","-"]
[{"$nulls":15},"-",null,{"$f":"SUMIF(Tableau1[Description article],Tableau1[Produits],Tableau1[Emplacement])","v":0},null,{"$f":"Sheet1!$S2433-Sheet1!$R2433","v":0},"-","-","-",{"$f":"IFERROR(Tableau1[[#This Row],[THEO]]-Tableau1[[#This Row],[Qtt 2éme lot]],\"-\")","v":"-"},"-",{"$f":"IF(Tableau1[[#This Row],[2éme lot]]=\"-\",\"-\",IFERROR(IF(Q2433=\"\",\"-\",INDEX(I:I,MATCH(Q2433,C:C,0)+1)),\"-\"))","v":"-"},"-","-"]
[{"$nulls":15},{"$f":"IFERROR(IF(Q2434=\"\",\"-\",INDEX(I:I,MATCH(Q2434,C:C,0))),\"-\")","v":"-"},null,{"$f":"SUMIF(Tableau1[Description article],Tableau1[Produits],Tableau1[Emplacement])","v":0},null,{"$f":"Sheet1!$S2434-Sheet1!$R2434","v":0},{"$f":"IFERROR(IF(Q2434=\"\",\"-\",INDEX(F:F,MATCH(Q2434,C:C,0))),\"-\")","v":"-"},{"$f":"IFERROR(IF(Q2434=\"\",\"-\",INDEX(E:E,MATCH(Q2434,C:C,0))),\"-\")","v":"-"},{"$f":"IFERROR(IF(Q2434=\"\",\"-\",INDEX(N:N,MATCH(Q2434,C:C,0))),\"-\")","v":"-"},{"$f":"IFERROR(Tableau1[[#This Row],[THEO]]-Tableau1[[#This Row],[Qtt 2éme lot]],\"-\")","v":"-"},{"$f":"IF(IF(Q2434=\"\",\"-\",INDEX(E:E,MATCH(Q2434,C:C,0)))=IF(Q2434=\"\",\"-\",INDEX(E:E,MATCH(Q2434,C:C,1))),\"-\",IF(Q2434=\"\",\"-\",INDEX(E:E,MATCH(Q2434,C:C,1))))","v":"-"},{"$f":"IF(Tableau1[[#This Row],[2éme lot]]=\"-\",\"-\",IFERROR(IF(Q2434=\"\",\"-\",INDEX(I:I,MATCH(Q2434,C:C,0)+1)),\"-\"))","v":"-"},{"$f":"IFERROR(IF(Y2434=\"\",\"-\",INDEX(N:N,MATCH(Y2434,E:E,0))),\"-\")","v":"-"},{"$f":"IFERROR(IF(AA2434=\"\",\"-\",INDEX(H:H,MATCH(Y2434,E:E,0))),\"-\")","v":"-"}]
[{"$nulls":15},"-",null,{"$f":"SUMIF(Tableau1[Description article],Tableau1[Produits],Tableau1[Emplacement])","v":0},null,{"$f":"Sheet1!$S2435-Sheet1!$R2435","v":0},"-","-","-",{"$f":"IFERROR(Tableau1[[#This Row],[THEO]]-Tableau1[[#This Row],[Qtt 2éme lot]],\"-\")","v":"-"},"-",{"$f":"IF(Tableau1[[#This Row],[2éme lot]]=\"-\",\"-\",IFERROR(IF(Q2435=\"\",\"-\",INDEX(I:I,MATCH(Q2435,C:C,0)+1)),\"-\"))","v":"-"},"-","-"]
[{"$nulls":15},"-",null,{"$f":"SUMIF(Tableau1[Description article],Tableau1[Produits],Tableau1[Emplacement])","v":0},null,{"$f":"Sheet1!$S2436-Sheet1!$R2436","v":0},"-","-","-",{"$f":"IFERROR(Tableau1[[#This Row],[THEO]]-Tableau1[[#This Row],[Qtt 2éme lot]],\"-\")","v":"-"},"-",{"$f":"IF(Tableau1[[#This Row],[2éme lot]]=\"-\",\"-\",IFERROR(IF(Q2436=\"\",\"-\",INDEX(I:I,MATCH(Q2436,C:C,0)+1)),\"-\"))","v":"-"},"-","-"]
[{"$nulls":15},"-",null,{"$f":"SUMIF(Tableau1[Description article],Tableau1[Produits],Tableau1[Emplacement])","v":0},null,{"$f":"Sheet1!$S2437-Sheet1!$R2437","v":0},"-","-","-",{"$f":"IFERROR(Tableau1[[#This Row],[THEO]]-Tableau1[[#This Row],[Qtt 2éme lot]],\"-\")","v":"-"},"-",{"$f":"IF(Tableau1[[#This Row],[2éme lot]]=\"-\",\"-\",IFERROR(IF(Q2437=\"\",\"-\",INDEX(I:I,MATCH(Q2437,C:C,0)+1)),\"-\"))","v":"-"},"-","-"]
[{"$nulls":15},"-",null,{"$f":"SUMIF(Tableau1[Description article],Tableau1[Produits],Tableau1[Emplacement])","v":0},null,{"$f":"Sheet1!$S2438-Sheet1!$R2438","v":0},"-","-","-",{"$f":"IFERROR(Tableau1[[#This Row],[THEO]]-Tableau1[[#This Row],[Qtt 2éme lot]],\"-\")","v":"-"},"-",{"$f":"IF(Tableau1[[#This Row],[2éme lot]]=\"-\",\"-\",IFERROR(IF(Q2438=\"\",\"-\",INDEX(I:I,MATCH(Q2438,C:C,0)+1)),\"-\"))","v":"-"},"-","-"]
[{"$nulls":15},"-",null,{"$f":"SUMIF(Tableau1[Description article],Tableau1[Produits],Tableau1[Emplacement])","v":0},null,{"$f":"Sheet1!$S2439-Sheet1!$R2439","v":0},"-","-","-",{"$f":"IFERROR(Tableau1[[#This Row],[THEO]]-Tableau1[[#This Row],[Qtt 2éme lot]],\"-\")","v":"-"},"-",{"$f":"IF(Tableau1[[#This Row],[2éme lot]]=\"-\",\"-\",IFERROR(IF(Q2439=\"\",\"-\",INDEX(I:I,MATCH(Q2439,C:C,0)+1)),\"-\"))","v":"-"},"-","-"]
[{"$nulls":15},"-",null,{"$f":"SUMIF(Tableau1[Description article],Tableau1[Produits],Tableau1[Emplacement])","v":0},null,{"$f":"Sheet1!$S2440-Sheet1!$R2440","v":0},"-","-","-",{"$f":"IFERROR(Tableau1[[#This Row],[THEO]]-Tableau1[[#This Row],[Qtt 2éme lot]],\"-\")","v":"-"},"-",{"$f":"IF(Tableau1[[#This Row],[2éme lot]]=\"-\",\"-\",IFERROR(IF(Q2440=\"\",\"-\",INDEX(I:I,MATCH(Q2440,C:C,0)+1)),\"-\"))","v":"-"},"-","-"]
[{"$nulls":15},"-",null,{"$f":"SUMIF(Tableau1[Description article],Tableau1[Produits],Tableau1[Emplacement])","v":0},null,{"$f":"Sheet1!$S2441-Sheet1!$R2441","v":0},"-","-","-",{"$f":"IFERROR(Tableau1[[#This Row],[THEO]]-Tableau1[[#This Row],[Qtt 2éme lot]],\"-\")","v":"-"},"-",{"$f":"IF(Tableau1[[#This Row],[2éme lot]]=\"-\",\"-\",IFERROR(IF(Q2441=\"\",\"-\",INDEX(I:I,MATCH(Q2441,C:C,0)+1)),\"-\"))","v":"-"},"-","-"]
[{"$nulls":15},"-",null,{"$f":"SUMIF(Tableau1[Description article],Tableau1[Produits],Tableau1[Emplacement])","v":0},null,{"$f":"Sheet1!$S2442-Sheet1!$R2442","v":0},"-","-","-",{"$f":"IFERROR(Tableau1[[#This Row],[THEO]]-Tableau1[[#This Row],[Qtt 2éme lot]],\"-\")","v":"-"},"-",{"$f":"IF(Tableau1[[#This Row],[2éme lot]]=\"-\",\"-\",IFERROR(IF(Q2442=\"\",\"-\",INDEX(I:I,MATCH(Q2442,C:C,0)+1)),\"-\"))","v":"-"},"-","-"]
[{"$nulls":15},"-",null,{"$f":"SUMIF(Tableau1[Description article],Tableau1[Produits],Tableau1[Emplacement])","v":0},null,{"$f":"Sheet1!$S2443-Sheet1!$R2443","v":0},"-","-","-",{"$f":"IFERROR(Tableau1[[#This Row],[THEO]]-Tableau1[[#This Row],[Qtt 2éme lot]],\"-\")","v":"-"},"-",{"$f":"IF(Tableau1[[#This Row],[2éme lot]]=\"-\",\"-\",IFERROR(IF(Q2443=\"\",\"-\",INDEX(I:I,MATCH(Q2443,C:C,0)+1)),\"-\"))","v":"-"},"-","-"]
[{"$nulls":15},"-",null,{"$f":"SUMIF(Tableau1[Description article],Tableau1[Produits],Tableau1[Emplacement])","v":0},null,{"$f":"Sheet1!$S2444-Sheet1!$R2444","v":0},"-","-","-",{"$f":"IFERROR(Tableau1[[#This Row],[THEO]]-Tableau1[[#This Row],[Qtt 2éme lot]],\"-\")","v":"-"},"-",{"$f":"IF(Tableau1[[#This Row],[2éme lot]]=\"-\",\"-\",IFERROR(IF(Q2444=\"\",\"-\",INDEX(I:I,MATCH(Q2444,C:C,0)+1)),\"-\"))","v":"-"},"-","-"]
[{"$nulls":15},"-",null,{"$f":"SUMIF(Tableau1[Description article],Tableau1[Produits],Tableau1[Emplacement])","v":0},null,{"$f":"Sheet1!$S2445-Sheet1!$R2445","v":0},"-","-","-",{"$f":"IFERROR(Tableau1[[#This Row],[THEO]]-Tableau1[[#This Row],[Qtt 2éme lot]],\"-\")","v":"-"},"-",{"$f":"IF(Tableau1[[#This Row],[2éme lot]]=\"-\",\"-\",IFERROR(IF(Q2445=\"\",\"-\",INDEX(I:I,MATCH(Q2445,C:C,0)+1)),\"-\"))","v":"-"},"-","-"]
[{"$nulls":15},"-",null,{"$f":"SUMIF(Tableau1[Description article],Tableau1[Produits],Tableau1[Emplacement])","v":0},null,{"$f":"Sheet1!$S2446-Sheet1!$R2446","v":0},"-","-","-",{"$f":"IFERROR(Tableau1[[#This Row],[THEO]]-Tableau1[[#This Row],[Qtt 2éme lot]],\"-\")","v":"-"},"-",{"$f":"IF(Tableau1[[#This Row],[2éme lot]]=\"-\",\"-\",IFERROR(IF(Q2446=\"\",\"-\",INDEX(I:I,MATCH(Q2446,C:C,0)+1)),\"-\"))","v":"-"},"-","-"]
[{"$nulls":15},"-",null,{"$f":"SUMIF(Tableau1[Description article],Tableau1[Produits],Tableau1[Emplacement])","v":0},null,{"$f":"Sheet1!$S2447-Sheet1!$R2447","v":0},"-","-","-",{"$f":"IFERROR(Tableau1[[#This Row],[THEO]]-Tableau1[[#This Row],[Qtt 2éme lot]],\"-\")","v":"-"},"-",{"$f":"IF(Tableau1[[#This Row],[2éme lot]]=\"-\",\"-\",IFERROR(IF(Q2447=\"\",\"-\",INDEX(I:I,MATCH(Q2447,C:C,0)+1)),\"-\"))","v":"-"},"-","-"]
[{"$nulls":15},"-",null,{"$f":"SUMIF(Tableau1[Description article],Tableau1[Produits],Tableau1[Emplacement])","v":0},null,{"$f":"Sheet1!$S2448-Sheet1!$R2448","v":0},"-","-","-",{"$f":"IFERROR(Tableau1[[#This Row],[THEO]]-Tableau1[[#This Row],[Qtt 2éme lot]],\"-\")","v":"-"},"-",{"$f":"IF(Tableau1[[#This Row],[2éme lot]]=\"-\",\"-\",IFERROR(IF(Q2448=\"\",\"-\",INDEX(I:I,MATCH(Q2448,C:C,0)+1)),\"-\"))","v":"-"},"-","-"]
[{"$nulls":15},"-",null,{"$f":"SUMIF(Tableau1[Description article],Tableau1[Produits],Tableau1[Emplacement])","v":0},null,{"$f":"Sheet1!$S2449-Sheet1!$R2449","v":0},"-","-","-",{"$f":"IFERROR(Tableau1[[#This Row],[THEO]]-Tableau1[[#This Row],[Qtt 2éme lot]],\"-\")","v":"-"},"-",{"$f":"IF(Tableau1[[#This Row],[2éme lot]]=\"-\",\"-\",IFERROR(IF(Q2449=\"\",\"-\",INDEX(I:I,MATCH(Q2449,C:C,0)+1)),\"-\"))","v":"-"},"-","-"]
[{"$nulls":15},"-",null,{"$f":"SUMIF(Tableau1[Description article],Tableau1[Produits],Tableau1[Emplacement])","v":0},null,{"$f":"Sheet1!$S2450-Sheet1!$R2450","v":0},"-","-","-",{"$f":"IFERROR(Tableau1[[#This Row],[THEO]]-Tableau1[[#This Row],[Qtt 2éme lot]],\"-\")","v":"-"},"-",{"$f":"IF(Tableau1[[#This Row],[2éme lot]]=\"-\",\"-\",IFERROR(IF(Q2450=\"\",\"-\",INDEX(I:I,MATCH(Q2450,C:C,0)+1)),\"-\"))","v":"-"},"-","-"]
[{"$nulls":15},"-",null,{"$f":"SUMIF(Tableau1[Description article],Tableau1[Produits],Tableau1[Emplacement])","v":0},null,{"$f":"Sheet1!$S2451-Sheet1!$R2451","v":0},"-","-","-",{"$f":"IFERROR(Tableau1[[#This Row],[THEO]]-Tableau1[[#This Row],[Qtt 2éme lot]],\"-\")","v":"-"},"-",{"$f":"IF(Tableau1[[#This Row],[2éme lot]]=\"-\",\"-\",IFERROR(IF(Q2451=\"\",\"-\",INDEX(I:I,MATCH(Q2451,C:C,0)+1)),\"-\"))","v":"-"},"-","-"]
[{"$nulls":15},"-",null,{"$f":"SUMIF(Tableau1[Description article],Tableau1[Produits],Tableau1[Emplacement])","v":0},null,{"$f":"Sheet1!$S2452-Sheet1!$R2452","v":0},"-","-","-",{"$f":"IFERROR(Tableau1[[#This Row],[THEO]]-Tableau1[[#This Row],[Qtt 2éme lot]],\"-\")","v":"-"},"-",{"$f":"IF(Tableau1[[#This Row],[2éme lot]]=\"-\",\"-\",IFERROR(IF(Q2452=\"\",\"-\",INDEX(I:I,MATCH(Q2452,C:C,0)+1)),\"-\"))","v":"-"},"-","-"]
[{"$nulls":15},"-",null,{"$f":"SUMIF(Tableau1[Description article],Tableau1[Produits],Tableau1[Emplacement])","v":0},null,{"$f":"Sheet1!$S2453-Sheet1!$R2453","v":0},"-","-","-",{"$f":"IFERROR(Tableau1[[#This Row],[THEO]]-Tableau1[[#This Row],[Qtt 2éme lot]],\"-\")","v":"-"},"-",{"$f":"IF(Tableau1[[#This Row],[2éme lot]]=\"-\",\"-\",IFERROR(IF(Q2453=\"\",\"-\",INDEX(I:I,MATCH(Q2453,C:C,0)+1)),\"-\"))","v":"-"},"-","-"]
[{"$nulls":15},"-",null,{"$f":"SUMIF(Tableau1[Description article],Tableau1[Produits],Tableau1[Emplacement])","v":0},null,{"$f":"Sheet1!$S2454-Sheet1!$R2454","v":0},"-","-","-",{"$f":"IFERROR(Tableau1[[#This Row],[THEO]]-Tableau1[[#This Row],[Qtt 2éme lot]],\"-\")","v":"-"},"-",{"$f":"IF(Tableau1[[#This Row],[2éme lot]]=\"-\",\"-\",IFERROR(IF(Q2454=\"\",\"-\",INDEX(I:I,MATCH(Q2454,C:C,0)+1)),\"-\"))","v":"-"},"-","-"]
[{"$nulls":15},"-",null,{"$f":"SUMIF(Tableau1[Description article],Tableau1[Produits],Tableau1[Emplacement])","v":0},null,{"$f":"Sheet1!$S2455-Sheet1!$R2455","v":0},"-","-","-",{"$f":"IFERROR(Tableau1[[#This Row],[THEO]]-Tableau1[[#This Row],[Qtt 2éme lot]],\"-\")","v":"-"},"-",{"$f":"IF(Tableau1[[#This Row],[2éme lot]]=\"-\",\"-\",IFERROR(IF(Q2455=\"\",\"-\",INDEX(I:I,MATCH(Q2455,C:C,0)+1)),\"-\"))","v":"-"},"-","-"]
[{"$nulls":15},"-",null,{"$f":"SUMIF(Tableau1[Description article],Tableau1[Produits],Tableau1[Emplacement])","v":0},null,{"$f":"Sheet1!$S2456-Sheet1!$R2456","v":0},"-","-","-",{"$f":"IFERROR(Tableau1[[#This Row],[THEO]]-Tableau1[[#This Row],[Qtt 2éme lot]],\"-\")","v":"-"},"-",{"$f":"IF(Tableau1[[#This Row],[2éme lot]]=\"-\",\"-\",IFERROR(IF(Q2456=\"\",\"-\",INDEX(I:I,MATCH(Q2456,C:C,0)+1)),\"-\"))","v":"-"},"-","-"]
[{"$nulls":15},"-",null,{"$f":"SUMIF(Tableau1[Description article],Tableau1[Produits],Tableau1[Emplacement])","v":0},null,{"$f":"Sheet1!$S2457-Sheet1!$R2457","v":0},"-","-","-",{"$f":"IFERROR(Tableau1[[#This Row],[THEO]]-Tableau1[[#This Row],[Qtt 2éme lot]],\"-\")","v":"-"},"-",{"$f":"IF(Tableau1[[#This Row],[2éme lot]]=\"-\",\"-\",IFERROR(IF(Q2457=\"\",\"-\",INDEX(I:I,MATCH(Q2457,C:C,0)+1)),\"-\"))","v":"-"},"-","-"]
[{"$nulls":15},"-",null,{"$f":"SUMIF(Tableau1[Description article],Tableau1[Produits],Tableau1[Emplacement])","v":0},null,{"$f":"Sheet1!$S2458-Sheet1!$R2458","v":0},"-","-","-",{"$f":"IFERROR(Tableau1[[#This Row],[THEO]]-Tableau1[[#This Row],[Qtt 2éme lot]],\"-\")","v":"-"},"-",{"$f":"IF(Tableau1[[#This Row],[2éme lot]]=\"-\",\"-\",IFERROR(IF(Q2458=\"\",\"-\",INDEX(I:I,MATCH(Q2458,C:C,0)+1)),\"-\"))","v":"-"},"-","-"]
[{"$nulls":15},"-",null,{"$f":"SUMIF(Tableau1[Description article],Tableau1[Produits],Tableau1[Emplacement])","v":0},null,{"$f":"Sheet1!$S2459-Sheet1!$R2459","v":0},"-","-","-",{"$f":"IFERROR(Tableau1[[#This Row],[THEO]]-Tableau1[[#This Row],[Qtt 2éme lot]],\"-\")","v":"-"},"-",{"$f":"IF(Tableau1[[#This Row],[2éme lot]]=\"-\",\"-\",IFERROR(IF(Q2459=\"\",\"-\",INDEX(I:I,MATCH(Q2459,C:C,0)+1)),\"-\"))","v":"-"},"-","-"]
[{"$nulls":15},"-",null,{"$f":"SUMIF(Tableau1[Description article],Tableau1[Produits],Tableau1[Emplacement])","v":0},null,{"$f":"Sheet1!$S2460-Sheet1!$R2460","v":0},"-","-","-",{"$f":"IFERROR(Tableau1[[#This Row],[THEO]]-Tableau1[[#This Row],[Qtt 2éme lot]],\"-\")","v":"-"},"-",{"$f":"IF(Tableau1[[#This Row],[2éme lot]]=\"-\",\"-\",IFERROR(IF(Q2460=\"\",\"-\",INDEX(I:I,MATCH(Q2460,C:C,0)+1)),\"-\"))","v":"-"},"-","-"]
[{"$nulls":15},"-",null,{"$f":"SUMIF(Tableau1[Description article],Tableau1[Produits],Tableau1[Emplacement])","v":0},null,{"$f":"Sheet1!$S2461-Sheet1!$R2461","v":0},"-","-","-",{"$f":"IFERROR(Tableau1[[#This Row],[THEO]]-Tableau1[[#This Row],[Qtt 2éme lot]],\"-\")","v":"-"},"-",{"$f":"IF(Tableau1[[#This Row],[2éme lot]]=\"-\",\"-\",IFERROR(IF(Q2461=\"\",\"-\",INDEX(I:I,MATCH(Q2461,C:C,0)+1)),\"-\"))","v":"-"},"-","-"]
[{"$nulls":15},"-",null,{"$f":"SUMIF(Tableau1[Description article],Tableau1[Produits],Tableau1[Emplacement])","v":0},null,{"$f":"Sheet1!$S2462-Sheet1!$R2462","v":0},"-","-","-",{"$f":"IFERROR(Tableau1[[#This Row],[THEO]]-Tableau1[[#This Row],[Qtt 2éme lot]],\"-\")","v":"-"},"-",{"$f":"IF(Tableau1[[#This Row],[2éme lot]]=\"-\",\"-\",IFERROR(IF(Q2462=\"\",\"-\",INDEX(I:I,MATCH(Q2462,C:C,0)+1)),\"-\"))","v":"-"},"-","-"]
[{"$nulls":15},"-",null,{"$f":"SUMIF(Tableau1[Description article],Tableau1[Produits],Tableau1[Emplacement])","v":0},null,{"$f":"Sheet1!$S2463-Sheet1!$R2463","v":0},"-","-","-",{"$f":"IFERROR(Tableau1[[#This Row],[THEO]]-Tableau1[[#This Row],[Qtt 2éme lot]],\"-\")","v":"-"},"-",{"$f":"IF(Tableau1[[#This Row],[2éme lot]]=\"-\",\"-\",IFERROR(IF(Q2463=\"\",\"-\",INDEX(I:I,MATCH(Q2463,C:C,0)+1)),\"-\"))","v":"-"},"-","-"]
[{"$nulls":15},"-",null,{"$f":"SUMIF(Tableau1[Description article],Tableau1[Produits],Tableau1[Emplacement])","v":0},null,{"$f":"Sheet1!$S2464-Sheet1!$R2464","v":0},"-","-","-",{"$f":"IFERROR(Tableau1[[#This Row],[THEO]]-Tableau1[[#This Row],[Qtt 2éme lot]],\"-\")","v":"-"},"-",{"$f":"IF(Tableau1[[#This Row],[2éme lot]]=\"-\",\"-\",IFERROR(IF(Q2464=\"\",\"-\",INDEX(I:I,MATCH(Q2464,C:C,0)+1)),\"-\"))","v":"-"},"-","-"]
[{"$nulls":15},"-",null,{"$f":"SUMIF(Tableau1[Description article],Tableau1[Produits],Tableau1[Emplacement])","v":0},null,{"$f":"Sheet1!$S2465-Sheet1!$R2465","v":0},"-","-","-",{"$f":"IFERROR(Tableau1[[#This Row],[THEO]]-Tableau1[[#This Row],[Qtt 2éme lot]],\"-\")","v":"-"},"-",{"$f":"IF(Tableau1[[#This Row],[2éme lot]]=\"-\",\"-\",IFERROR(IF(Q2465=\"\",\"-\",INDEX(I:I,MATCH(Q2465,C:C,0)+1)),\"-\"))","v":"-"},"-","-"]
[{"$nulls":15},"-",null,{"$f":"SUMIF(Tableau1[Description article],Tableau1[Produits],Tableau1[Emplacement])","v":0},null,{"$f":"Sheet1!$S2466-Sheet1!$R2466","v":0},"-","-","-",{"$f":"IFERROR(Tableau1[[#This Row],[THEO]]-Tableau1[[#This Row],[Qtt 2éme lot]],\"-\")","v":"-"},"-",{"$f":"IF(Tableau1[[#This Row],[2éme lot]]=\"-\",\"-\",IFERROR(IF(Q2466=\"\",\"-\",INDEX(I:I,MATCH(Q2466,C:C,0)+1)),\"-\"))","v":"-"},"-","-"]
[{"$nulls":15},"-",null,{"$f":"SUMIF(Tableau1[Description article],Tableau1[Produits],Tableau1[Emplacement])","v":0},null,{"$f":"Sheet1!$S2467-Sheet1!$R2467","v":0},"-","-","-",{"$f":"IFERROR(Tableau1[[#This Row],[THEO]]-Tableau1[[#This Row],[Qtt 2éme lot]],\"-\")","v":"-"},"-",{"$f":"IF(Tableau1[[#This Row],[2éme lot]]=\"-\",\"-\",IFERROR(IF(Q2467=\"\",\"-\",INDEX(I:I,MATCH(Q2467,C:C,0)+1)),\"-\"))","v":"-"},"-","-"]
[{"$nulls":15},"-",null,{"$f":"SUMIF(Tableau1[Description article],Tableau1[Produits],Tableau1[Emplacement])","v":0},null,{"$f":"Sheet1!$S2468-Sheet1!$R2468","v":0},"-","-","-",{"$f":"IFERROR(Tableau1[[#This Row],[THEO]]-Tableau1[[#This Row],[Qtt 2éme lot]],\"-\")","v":"-"},"-",{"$f":"IF(Tableau1[[#This Row],[2éme lot]]=\"-\",\"-\",IFERROR(IF(Q2468=\"\",\"-\",INDEX(I:I,MATCH(Q2468,C:C,0)+1)),\"-\"))","v":"-"},"-","-"]
[{"$nulls":15},"-",null,{"$f":"SUMIF(Tableau1[Description article],Tableau1[Produits],Tableau1[Emplacement])","v":0},null,{"$f":"Sheet1!$S2469-Sheet1!$R2469","v":0},"-","-","-",{"$f":"IFERROR(Tableau1[[#This Row],[THEO]]-Tableau1[[#This Row],[Qtt 2éme lot]],\"-\")","v":"-"},"-",{"$f":"IF(Tableau1[[#This Row],[2éme lot]]=\"-\",\"-\",IFERROR(IF(Q2469=\"\",\"-\",INDEX(I:I,MATCH(Q2469,C:C,0)+1)),\"-\"))","v":"-"},"-","-"]
[{"$nulls":15},"-",null,{"$f":"SUMIF(Tableau1[Description article],Tableau1[Produits],Tableau1[Emplacement])","v":0},null,{"$f":"Sheet1!$S2470-Sheet1!$R2470","v":0},"-","-","-",{"$f":"IFERROR(Tableau1[[#This Row],[THEO]]-Tableau1[[#This Row],[Qtt 2éme lot]],\"-\")","v":"-"},"-",{"$f":"IF(Tableau1[[#This Row],[2éme lot]]=\"-\",\"-\",IFERROR(IF(Q2470=\"\",\"-\",INDEX(I:I,MATCH(Q2470,C:C,0)+1)),\"-\"))","v":"-"},"-","-"]
[{"$nulls":15},"-",null,{"$f":"SUMIF(Tableau1[Description article],Tableau1[Produits],Tableau1[Emplacement])","v":0},null,{"$f":"Sheet1!$S2471-Sheet1!$R2471","v":0},"-","-","-",{"$f":"IFERROR(Tableau1[[#This Row],[THEO]]-Tableau1[[#This Row],[Qtt 2éme lot]],\"-\")","v":"-"},"-",{"$f":"IF(Tableau1[[#This Row],[2éme lot]]=\"-\",\"-\",IFERROR(IF(Q2471=\"\",\"-\",INDEX(I:I,MATCH(Q2471,C:C,0)+1)),\"-\"))","v":"-"},"-","-"]
[{"$nulls":15},"-",null,{"$f":"SUMIF(Tableau1[Description article],Tableau1[Produits],Tableau1[Emplacement])","v":0},null,{"$f":"Sheet1!$S2472-Sheet1!$R2472","v":0},"-","-","-",{"$f":"IFERROR(Tableau1[[#This Row],[THEO]]-Tableau1[[#This Row],[Qtt 2éme lot]],\"-\")","v":"-"},"-",{"$f":"IF(Tableau1[[#This Row],[2éme lot]]=\"-\",\"-\",IFERROR(IF(Q2472=\"\",\"-\",INDEX(I:I,MATCH(Q2472,C:C,0)+1)),\"-\"))","v":"-"},"-","-"]
[{"$nulls":15},"-",null,{"$f":"SUMIF(Tableau1[Description article],Tableau1[Produits],Tableau1[Emplacement])","v":0},null,{"$f":"Sheet1!$S2473-Sheet1!$R2473","v":0},"-","-","-",{"$f":"IFERROR(Tableau1[[#This Row],[THEO]]-Tableau1[[#This Row],[Qtt 2éme lot]],\"-\")","v":"-"},"-",{"$f":"IF(Tableau1[[#This Row],[2éme lot]]=\"-\",\"-\",IFERROR(IF(Q2473=\"\",\"-\",INDEX(I:I,MATCH(Q2473,C:C,0)+1)),\"-\"))","v":"-"},"-","-"]
[{"$nulls":15},"-",null,{"$f":"SUMIF(Tableau1[Description article],Tableau1[Produits],Tableau1[Emplacement])","v":0},null,{"$f":"Sheet1!$S2474-Sheet1!$R2474","v":0},"-","-","-",{"$f":"IFERROR(Tableau1[[#This Row],[THEO]]-Tableau1[[#This Row],[Qtt 2éme lot]],\"-\")","v":"-"},"-",{"$f":"IF(Tableau1[[#This Row],[2éme lot]]=\"-\",\"-\",IFERROR(IF(Q2474=\"\",\"-\",INDEX(I:I,MATCH(Q2474,C:C,0)+1)),\"-\"))","v":"-"},"-","-"]
[{"$nulls":15},"-",null,{"$f":"SUMIF(Tableau1[Description article],Tableau1[Produits],Tableau1[Emplacement])","v":0},null,{"$f":"Sheet1!$S2475-Sheet1!$R2475","v":0},"-","-","-",{"$f":"IFERROR(Tableau1[[#This Row],[THEO]]-Tableau1[[#This Row],[Qtt 2éme lot]],\"-\")","v":"-"},"-",{"$f":"IF(Tableau1[[#This Row],[2éme lot]]=\"-\",\"-\",IFERROR(IF(Q2475=\"\",\"-\",INDEX(I:I,MATCH(Q2475,C:C,0)+1)),\"-\"))","v":"-"},"-","-"]
[{"$nulls":15},"-",null,{"$f":"SUMIF(Tableau1[Description article],Tableau1[Produits],Tableau1[Emplacement])","v":0},null,{"$f":"Sheet1!$S2476-Sheet1!$R2476","v":0},"-","-","-",{"$f":"IFERROR(Tableau1[[#This Row],[THEO]]-Tableau1[[#This Row],[Qtt 2éme lot]],\"-\")","v":"-"},"-",{"$f":"IF(Tableau1[[#This Row],[2éme lot]]=\"-\",\"-\",IFERROR(IF(Q2476=\"\",\"-\",INDEX(I:I,MATCH(Q2476,C:C,0)+1)),\"-\"))","v":"-"},"-","-"]
[{"$nulls":15},"-",null,{"$f":"SUMIF(Tableau1[Description article],Tableau1[Produits],Tableau1[Emplacement])","v":0},null,{"$f":"Sheet1!$S2477-Sheet1!$R2477","v":0},"-","-","-",{"$f":"IFERROR(Tableau1[[#This Row],[THEO]]-Tableau1[[#This Row],[Qtt 2éme lot]],\"-\")","v":"-"},"-",{"$f":"IF(Tableau1[[#This Row],[2éme lot]]=\"-\",\"-\",IFERROR(IF(Q2477=\"\",\"-\",INDEX(I:I,MATCH(Q2477,C:C,0)+1)),\"-\"))","v":"-"},"-","-"]
[{"$nulls":15},"-",null,{"$f":"SUMIF(Tableau1[Description article],Tableau1[Produits],Tableau1[Emplacement])","v":0},null,{"$f":"Sheet1!$S2478-Sheet1!$R2478","v":0},"-","-","-",{"$f":"IFERROR(Tableau1[[#This Row],[THEO]]-Tableau1[[#This Row],[Qtt 2éme lot]],\"-\")","v":"-"},"-",{"$f":"IF(Tableau1[[#This Row],[2éme lot]]=\"-\",\"-\",IFERROR(IF(Q2478=\"\",\"-\",INDEX(I:I,MATCH(Q2478,C:C,0)+1)),\"-\"))","v":"-"},"-","-"]
[{"$nulls":15},"-",null,{"$f":"SUMIF(Tableau1[Description article],Tableau1[Produits],Tableau1[Emplacement])","v":0},null,{"$f":"Sheet1!$S2479-Sheet1!$R2479","v":0},"-","-","-",{"$f":"IFERROR(Tableau1[[#This Row],[THEO]]-Tableau1[[#This Row],[Qtt 2éme lot]],\"-\")","v":"-"},"-",{"$f":"IF(Tableau1[[#This Row],[2éme lot]]=\"-\",\"-\",IFERROR(IF(Q2479=\"\",\"-\",INDEX(I:I,MATCH(Q2479,C:C,0)+1)),\"-\"))","v":"-"},"-","-"]
[{"$nulls":15},"-",null,{"$f":"SUMIF(Tableau1[Description article],Tableau1[Produits],Tableau1[Emplacement])","v":0},null,{"$f":"Sheet1!$S2480-Sheet1!$R2480","v":0},"-","-","-",{"$f":"IFERROR(Tableau1[[#This Row],[THEO]]-Tableau1[[#This Row],[Qtt 2éme lot]],\"-\")","v":"-"},"-",{"$f":"IF(Tableau1[[#This Row],[2éme lot]]=\"-\",\"-\",IFERROR(IF(Q2480=\"\",\"-\",INDEX(I:I,MATCH(Q2480,C:C,0)+1)),\"-\"))","v":"-"},"-","-"]
[{"$nulls":15},"-",null,{"$f":"SUMIF(Tableau1[Description article],Tableau1[Produits],Tableau1[Emplacement])","v":0},null,{"$f":"Sheet1!$S2481-Sheet1!$R2481","v":0},"-","-","-",{"$f":"IFERROR(Tableau1[[#This Row],[THEO]]-Tableau1[[#This Row],[Qtt 2éme lot]],\"-\")","v":"-"},"-",{"$f":"IF(Tableau1[[#This Row],[2éme lot]]=\"-\",\"-\",IFERROR(IF(Q2481=\"\",\"-\",INDEX(I:I,MATCH(Q2481,C:C,0)+1)),\"-\"))","v":"-"},"-","-"]
[{"$nulls":15},"-",null,{"$f":"SUMIF(Tableau1[Description article],Tableau1[Produits],Tableau1[Emplacement])","v":0},null,{"$f":"Sheet1!$S2482-Sheet1!$R2482","v":0},"-","-","-",{"$f":"IFERROR(Tableau1[[#This Row],[THEO]]-Tableau1[[#This Row],[Qtt 2éme lot]],\"-\")","v":"-"},"-",{"$f":"IF(Tableau1[[#This Row],[2éme lot]]=\"-\",\"-\",IFERROR(IF(Q2482=\"\",\"-\",INDEX(I:I,MATCH(Q2482,C:C,0)+1)),\"-\"))","v":"-"},"-","-"]
[{"$nulls":15},"-",null,{"$f":"SUMIF(Tableau1[Description article],Tableau1[Produits],Tableau1[Emplacement])","v":0},null,{"$f":"Sheet1!$S2483-Sheet1!$R2483","v":0},"-","-","-",{"$f":"IFERROR(Tableau1[[#This Row],[THEO]]-Tableau1[[#This Row],[Qtt 2éme lot]],\"-\")","v":"-"},"-",{"$f":"IF(Tableau1[[#This Row],[2éme lot]]=\"-\",\"-\",IFERROR(IF(Q2483=\"\",\"-\",INDEX(I:I,MATCH(Q2483,C:C,0)+1)),\"-\"))","v":"-"},"-","-"]
[{"$nulls":15},"-",null,{"$f":"SUMIF(Tableau1[Description article],Tableau1[Produits],Tableau1[Emplacement])","v":0},null,{"$f":"Sheet1!$S2484-Sheet1!$R2484","v":0},"-","-","-",{"$f":"IFERROR(Tableau1[[#This Row],[THEO]]-Tableau1[[#This Row],[Qtt 2éme lot]],\"-\")","v":"-"},"-",{"$f":"IF(Tableau1[[#This Row],[2éme lot]]=\"-\",\"-\",IFERROR(IF(Q2484=\"\",\"-\",INDEX(I:I,MATCH(Q2484,C:C,0)+1)),\"-\"))","v":"-"},"-","-"]
[{"$nulls":15},"-",null,{"$f":"SUMIF(Tableau1[Description article],Tableau1[Produits],Tableau1[Emplacement])","v":0},null,{"$f":"Sheet1!$S2485-Sheet1!$R2485","v":0},"-","-","-",{"$f":"IFERROR(Tableau1[[#This Row],[THEO]]-Tableau1[[#This Row],[Qtt 2éme lot]],\"-\")","v":"-"},"-",{"$f":"IF(Tableau1[[#This Row],[2éme lot]]=\"-\",\"-\",IFERROR(IF(Q2485=\"\",\"-\",INDEX(I:I,MATCH(Q2485,C:C,0)+1)),\"-\"))","v":"-"},"-","-"]
[{"$nulls":15},"-",null,{"$f":"SUMIF(Tableau1[Description article],Tableau1[Produits],Tableau1[Emplacement])","v":0},null,{"$f":"Sheet1!$S2486-Sheet1!$R2486","v":0},"-","-","-",{"$f":"IFERROR(Tableau1[[#This Row],[THEO]]-Tableau1[[#This Row],[Qtt 2éme lot]],\"-\")","v":"-"},"-",{"$f":"IF(Tableau1[[#This Row],[2éme lot]]=\"-\",\"-\",IFERROR(IF(Q2486=\"\",\"-\",INDEX(I:I,MATCH(Q2486,C:C,0)+1)),\"-\"))","v":"-"},"-","-"]
[{"$nulls":15},"-",null,{"$f":"SUMIF(Tableau1[Description article],Tableau1[Produits],Tableau1[Emplacement])","v":0},null,{"$f":"Sheet1!$S2487-Sheet1!$R2487","v":0},"-","-","-",{"$f":"IFERROR(Tableau1[[#This Row],[THEO]]-Tableau1[[#This Row],[Qtt 2éme lot]],\"-\")","v":"-"},"-",{"$f":"IF(Tableau1[[#This Row],[2éme lot]]=\"-\",\"-\",IFERROR(IF(Q2487=\"\",\"-\",INDEX(I:I,MATCH(Q2487,C:C,0)+1)),\"-\"))","v":"-"},"-","-"]
[{"$nulls":15},"-",null,{"$f":"SUMIF(Tableau1[Description article],Tableau1[Produits],Tableau1[Emplacement])","v":0},null,{"$f":"Sheet1!$S2488-Sheet1!$R2488","v":0},"-","-","-",{"$f":"IFERROR(Tableau1[[#This Row],[THEO]]-Tableau1[[#This Row],[Qtt 2éme lot]],\"-\")","v":"-"},"-",{"$f":"IF(Tableau1[[#This Row],[2éme lot]]=\"-\",\"-\",IFERROR(IF(Q2488=\"\",\"-\",INDEX(I:I,MATCH(Q2488,C:C,0)+1)),\"-\"))","v":"-"},"-","-"]
[{"$nulls":15},"-",null,{"$f":"SUMIF(Tableau1[Description article],Tableau1[Produits],Tableau1[Emplacement])","v":0},null,{"$f":"Sheet1!$S2489-Sheet1!$R2489","v":0},"-","-","-",{"$f":"IFERROR(Tableau1[[#This Row],[THEO]]-Tableau1[[#This Row],[Qtt 2éme lot]],\"-\")","v":"-"},"-",{"$f":"IF(Tableau1[[#This Row],[2éme lot]]=\"-\",\"-\",IFERROR(IF(Q2489=\"\",\"-\",INDEX(I:I,MATCH(Q2489,C:C,0)+1)),\"-\"))","v":"-"},"-","-"]
[{"$nulls":15},"-",null,{"$f":"SUMIF(Tableau1[Description article],Tableau1[Produits],Tableau1[Emplacement])","v":0},null,{"$f":"Sheet1!$S2490-Sheet1!$R2490","v":0},"-","-","-",{"$f":"IFERROR(Tableau1[[#This Row],[THEO]]-Tableau1[[#This Row],[Qtt 2éme lot]],\"-\")","v":"-"},"-",{"$f":"IF(Tableau1[[#This Row],[2éme lot]]=\"-\",\"-\",IFERROR(IF(Q2490=\"\",\"-\",INDEX(I:I,MATCH(Q2490,C:C,0)+1)),\"-\"))","v":"-"},"-","-"]
[{"$nulls":15},"-",null,{"$f":"SUMIF(Tableau1[Description article],Tableau1[Produits],Tableau1[Emplacement])","v":0},null,{"$f":"Sheet1!$S2491-Sheet1!$R2491","v":0},"-","-","-",{"$f":"IFERROR(Tableau1[[#This Row],[THEO]]-Tableau1[[#This Row],[Qtt 2éme lot]],\"-\")","v":"-"},"-",{"$f":"IF(Tableau1[[#This Row],[2éme lot]]=\"-\",\"-\",IFERROR(IF(Q2491=\"\",\"-\",INDEX(I:I,MATCH(Q2491,C:C,0)+1)),\"-\"))","v":"-"},"-","-"]
[{"$nulls":15},"-",null,{"$f":"SUMIF(Tableau1[Description article],Tableau1[Produits],Tableau1[Emplacement])","v":0},null,{"$f":"Sheet1!$S2492-Sheet1!$R2492","v":0},"-","-","-",{"$f":"IFERROR(Tableau1[[#This Row],[THEO]]-Tableau1[[#This Row],[Qtt 2éme lot]],\"-\")","v":"-"},"-",{"$f":"IF(Tableau1[[#This Row],[2éme lot]]=\"-\",\"-\",IFERROR(IF(Q2492=\"\",\"-\",INDEX(I:I,MATCH(Q2492,C:C,0)+1)),\"-\"))","v":"-"},"-","-"]
[{"$nulls":15},"-",null,{"$f":"SUMIF(Tableau1[Description article],Tableau1[Produits],Tableau1[Emplacement])","v":0},null,{"$f":"Sheet1!$S2493-Sheet1!$R2493","v":0},"-","-","-",{"$f":"IFERROR(Tableau1[[#This Row],[THEO]]-Tableau1[[#This Row],[Qtt 2éme lot]],\"-\")","v":"-"},"-",{"$f":"IF(Tableau1[[#This Row],[2éme lot]]=\"-\",\"-\",IFERROR(IF(Q2493=\"\",\"-\",INDEX(I:I,MATCH(Q2493,C:C,0)+1)),\"-\"))","v":"-"},"-","-"]
[{"$nulls":15},"-",null,{"$f":"SUMIF(Tableau1[Description article],Tableau1[Produits],Tableau1[Emplacement])","v":0},null,{"$f":"Sheet1!$S2494-Sheet1!$R2494","v":0},"-","-","-",{"$f":"IFERROR(Tableau1[[#This Row],[THEO]]-Tableau1[[#This Row],[Qtt 2éme lot]],\"-\")","v":"-"},"-",{"$f":"IF(Tableau1[[#This Row],[2éme lot]]=\"-\",\"-\",IFERROR(IF(Q2494=\"\",\"-\",INDEX(I:I,MATCH(Q2494,C:C,0)+1)),\"-\"))","v":"-"},"-","-"]
[{"$nulls":15},"-",null,{"$f":"SUMIF(Tableau1[Description article],Tableau1[Produits],Tableau1[Emplacement])","v":0},null,{"$f":"Sheet1!$S2495-Sheet1!$R2495","v":0},"-","-","-",{"$f":"IFERROR(Tableau1[[#This Row],[THEO]]-Tableau1[[#This Row],[Qtt 2éme lot]],\"-\")","v":"-"},"-",{"$f":"IF(Tableau1[[#This Row],[2éme lot]]=\"-\",\"-\",IFERROR(IF(Q2495=\"\",\"-\",INDEX(I:I,MATCH(Q2495,C:C,0)+1)),\"-\"))","v":"-"},"-","-"]
[{"$nulls":15},"-",null,{"$f":"SUMIF(Tableau1[Description article],Tableau1[Produits],Tableau1[Emplacement])","v":0},null,{"$f":"Sheet1!$S2496-Sheet1!$R2496","v":0},"-","-","-",{"$f":"IFERROR(Tableau1[[#This Row],[THEO]]-Tableau1[[#This Row],[Qtt 2éme lot]],\"-\")","v":"-"},"-",{"$f":"IF(Tableau1[[#This Row],[2éme lot]]=\"-\",\"-\",IFERROR(IF(Q2496=\"\",\"-\",INDEX(I:I,MATCH(Q2496,C:C,0)+1)),\"-\"))","v":"-"},"-","-"]
[{"$nulls":15},"-",null,{"$f":"SUMIF(Tableau1[Description article],Tableau1[Produits],Tableau1[Emplacement])","v":0},null,{"$f":"Sheet1!$S2497-Sheet1!$R2497","v":0},"-","-","-",{"$f":"IFERROR(Tableau1[[#This Row],[THEO]]-Tableau1[[#This Row],[Qtt 2éme lot]],\"-\")","v":"-"},"-",{"$f":"IF(Tableau1[[#This Row],[2éme lot]]=\"-\",\"-\",IFERROR(IF(Q2497=\"\",\"-\",INDEX(I:I,MATCH(Q2497,C:C,0)+1)),\"-\"))","v":"-"},"-","-"]
[{"$nulls":15},{"$f":"IFERROR(IF(Q2498=\"\",\"-\",INDEX(I:I,MATCH(Q2498,C:C,0))),\"-\")","v":"-"},null,{"$f":"SUMIF(Tableau1[Description article],Tableau1[Produits],Tableau1[Emplacement])","v":0},null,{"$f":"Sheet1!$S2498-Sheet1!$R2498","v":0},{"$f":"IFERROR(IF(Q2498=\"\",\"-\",INDEX(F:F,MATCH(Q2498,C:C,0))),\"-\")","v":"-"},{"$f":"IFERROR(IF(Q2498=\"\",\"-\",INDEX(E:E,MATCH(Q2498,C:C,0))),\"-\")","v":"-"},{"$f":"IFERROR(IF(Q2498=\"\",\"-\",INDEX(N:N,MATCH(Q2498,C:C,0))),\"-\")","v":"-"},{"$f":"IFERROR(Tableau1[[#This Row],[THEO]]-Tableau1[[#This Row],[Qtt 2éme lot]],\"-\")","v":"-"},{"$f":"IF(IF(Q2498=\"\",\"-\",INDEX(E:E,MATCH(Q2498,C:C,0)))=IF(Q2498=\"\",\"-\",INDEX(E:E,MATCH(Q2498,C:C,1))),\"-\",IF(Q2498=\"\",\"-\",INDEX(E:E,MATCH(Q2498,C:C,1))))","v":"-"},{"$f":"IF(Tableau1[[#This Row],[2éme lot]]=\"-\",\"-\",IFERROR(IF(Q2498=\"\",\"-\",INDEX(I:I,MATCH(Q2498,C:C,0)+1)),\"-\"))","v":"-"},{"$f":"IFERROR(IF(Y2498=\"\",\"-\",INDEX(N:N,MATCH(Y2498,E:E,0))),\"-\")","v":"-"},{"$f":"IFERROR(IF(AA2498=\"\",\"-\",INDEX(H:H,MATCH(Y2498,E:E,0))),\"-\")","v":"-"}]
[{"$nulls":15},"-",null,{"$f":"SUMIF(Tableau1[Description article],Tableau1[Produits],Tableau1[Emplacement])","v":0},null,{"$f":"Sheet1!$S2499-Sheet1!$R2499","v":0},"-","-","-",{"$f":"IFERROR(Tableau1[[#This Row],[THEO]]-Tableau1[[#This Row],[Qtt 2éme lot]],\"-\")","v":"-"},"-",{"$f":"IF(Tableau1[[#This Row],[2éme lot]]=\"-\",\"-\",IFERROR(IF(Q2499=\"\",\"-\",INDEX(I:I,MATCH(Q2499,C:C,0)+1)),\"-\"))","v":"-"},"-","-"]
[{"$nulls":15},"-",null,{"$f":"SUMIF(Tableau1[Description article],Tableau1[Produits],Tableau1[Emplacement])","v":0},null,{"$f":"Sheet1!$S2500-Sheet1!$R2500","v":0},"-","-","-",{"$f":"IFERROR(Tableau1[[#This Row],[THEO]]-Tableau1[[#This Row],[Qtt 2éme lot]],\"-\")","v":"-"},"-",{"$f":"IF(Tableau1[[#This Row],[2éme lot]]=\"-\",\"-\",IFERROR(IF(Q2500=\"\",\"-\",INDEX(I:I,MATCH(Q2500,C:C,0)+1)),\"-\"))","v":"-"},"-","-"]
[{"$nulls":15},"-",null,{"$f":"SUMIF(Tableau1[Description article],Tableau1[Produits],Tableau1[Emplacement])","v":0},null,{"$f":"Sheet1!$S2501-Sheet1!$R2501","v":0},"-","-","-",{"$f":"IFERROR(Tableau1[[#This Row],[THEO]]-Tableau1[[#This Row],[Qtt 2éme lot]],\"-\")","v":"-"},"-",{"$f":"IF(Tableau1[[#This Row],[2éme lot]]=\"-\",\"-\",IFERROR(IF(Q2501=\"\",\"-\",INDEX(I:I,MATCH(Q2501,C:C,0)+1)),\"-\"))","v":"-"},"-","-"]
[{"$nulls":15},"-",null,{"$f":"SUMIF(Tableau1[Description article],Tableau1[Produits],Tableau1[Emplacement])","v":0},null,{"$f":"Sheet1!$S2502-Sheet1!$R2502","v":0},"-","-","-",{"$f":"IFERROR(Tableau1[[#This Row],[THEO]]-Tableau1[[#This Row],[Qtt 2éme lot]],\"-\")","v":"-"},"-",{"$f":"IF(Tableau1[[#This Row],[2éme lot]]=\"-\",\"-\",IFERROR(IF(Q2502=\"\",\"-\",INDEX(I:I,MATCH(Q2502,C:C,0)+1)),\"-\"))","v":"-"},"-","-"]
[{"$nulls":15},"-",null,{"$f":"SUMIF(Tableau1[Description article],Tableau1[Produits],Tableau1[Emplacement])","v":0},null,{"$f":"Sheet1!$S2503-Sheet1!$R2503","v":0},"-","-","-",{"$f":"IFERROR(Tableau1[[#This Row],[THEO]]-Tableau1[[#This Row],[Qtt 2éme lot]],\"-\")","v":"-"},"-",{"$f":"IF(Tableau1[[#This Row],[2éme lot]]=\"-\",\"-\",IFERROR(IF(Q2503=\"\",\"-\",INDEX(I:I,MATCH(Q2503,C:C,0)+1)),\"-\"))","v":"-"},"-","-"]
[{"$nulls":15},"-",null,{"$f":"SUMIF(Tableau1[Description article],Tableau1[Produits],Tableau1[Emplacement])","v":0},null,{"$f":"Sheet1!$S2504-Sheet1!$R2504","v":0},"-","-","-",{"$f":"IFERROR(Tableau1[[#This Row],[THEO]]-Tableau1[[#This Row],[Qtt 2éme lot]],\"-\")","v":"-"},"-",{"$f":"IF(Tableau1[[#This Row],[2éme lot]]=\"-\",\"-\",IFERROR(IF(Q2504=\"\",\"-\",INDEX(I:I,MATCH(Q2504,C:C,0)+1)),\"-\"))","v":"-"},"-","-"]
[{"$nulls":15},"-",null,{"$f":"SUMIF(Tableau1[Description article],Tableau1[Produits],Tableau1[Emplacement])","v":0},null,{"$f":"Sheet1!$S2505-Sheet1!$R2505","v":0},"-","-","-",{"$f":"IFERROR(Tableau1[[#This Row],[THEO]]-Tableau1[[#This Row],[Qtt 2éme lot]],\"-\")","v":"-"},"-",{"$f":"IF(Tableau1[[#This Row],[2éme lot]]=\"-\",\"-\",IFERROR(IF(Q2505=\"\",\"-\",INDEX(I:I,MATCH(Q2505,C:C,0)+1)),\"-\"))","v":"-"},"-","-"]
[{"$nulls":15},"-",null,{"$f":"SUMIF(Tableau1[Description article],Tableau1[Produits],Tableau1[Emplacement])","v":0},null,{"$f":"Sheet1!$S2506-Sheet1!$R2506","v":0},"-","-","-",{"$f":"IFERROR(Tableau1[[#This Row],[THEO]]-Tableau1[[#This Row],[Qtt 2éme lot]],\"-\")","v":"-"},"-",{"$f":"IF(Tableau1[[#This Row],[2éme lot]]=\"-\",\"-\",IFERROR(IF(Q2506=\"\",\"-\",INDEX(I:I,MATCH(Q2506,C:C,0)+1)),\"-\"))","v":"-"},"-","-"]
[{"$nulls":15},"-",null,{"$f":"SUMIF(Tableau1[Description article],Tableau1[Produits],Tableau1[Emplacement])","v":0},null,{"$f":"Sheet1!$S2507-Sheet1!$R2507","v":0},"-","-","-",{"$f":"IFERROR(Tableau1[[#This Row],[THEO]]-Tableau1[[#This Row],[Qtt 2éme lot]],\"-\")","v":"-"},"-",{"$f":"IF(Tableau1[[#This Row],[2éme lot]]=\"-\",\"-\",IFERROR(IF(Q2507=\"\",\"-\",INDEX(I:I,MATCH(Q2507,C:C,0)+1)),\"-\"))","v":"-"},"-","-"]
[{"$nulls":15},"-",null,{"$f":"SUMIF(Tableau1[Description article],Tableau1[Produits],Tableau1[Emplacement])","v":0},null,{"$f":"Sheet1!$S2508-Sheet1!$R2508","v":0},"-","-","-",{"$f":"IFERROR(Tableau1[[#This Row],[THEO]]-Tableau1[[#This Row],[Qtt 2éme lot]],\"-\")","v":"-"},"-",{"$f":"IF(Tableau1[[#This Row],[2éme lot]]=\"-\",\"-\",IFERROR(IF(Q2508=\"\",\"-\",INDEX(I:I,MATCH(Q2508,C:C,0)+1)),\"-\"))","v":"-"},"-","-"]
[{"$nulls":15},"-",null,{"$f":"SUMIF(Tableau1[Description article],Tableau1[Produits],Tableau1[Emplacement])","v":0},null,{"$f":"Sheet1!$S2509-Sheet1!$R2509","v":0},"-","-","-",{"$f":"IFERROR(Tableau1[[#This Row],[THEO]]-Tableau1[[#This Row],[Qtt 2éme lot]],\"-\")","v":"-"},"-",{"$f":"IF(Tableau1[[#This Row],[2éme lot]]=\"-\",\"-\",IFERROR(IF(Q2509=\"\",\"-\",INDEX(I:I,MATCH(Q2509,C:C,0)+1)),\"-\"))","v":"-"},"-","-"]
[{"$nulls":15},"-",null,{"$f":"SUMIF(Tableau1[Description article],Tableau1[Produits],Tableau1[Emplacement])","v":0},null,{"$f":"Sheet1!$S2510-Sheet1!$R2510","v":0},"-","-","-",{"$f":"IFERROR(Tableau1[[#This Row],[THEO]]-Tableau1[[#This Row],[Qtt 2éme lot]],\"-\")","v":"-"},"-",{"$f":"IF(Tableau1[[#This Row],[2éme lot]]=\"-\",\"-\",IFERROR(IF(Q2510=\"\",\"-\",INDEX(I:I,MATCH(Q2510,C:C,0)+1)),\"-\"))","v":"-"},"-","-"]
[{"$nulls":15},"-",null,{"$f":"SUMIF(Tableau1[Description article],Tableau1[Produits],Tableau1[Emplacement])","v":0},null,{"$f":"Sheet1!$S2511-Sheet1!$R2511","v":0},"-","-","-",{"$f":"IFERROR(Tableau1[[#This Row],[THEO]]-Tableau1[[#This Row],[Qtt 2éme lot]],\"-\")","v":"-"},"-",{"$f":"IF(Tableau1[[#This Row],[2éme lot]]=\"-\",\"-\",IFERROR(IF(Q2511=\"\",\"-\",INDEX(I:I,MATCH(Q2511,C:C,0)+1)),\"-\"))","v":"-"},"-","-"]
[{"$nulls":15},"-",null,{"$f":"SUMIF(Tableau1[Description article],Tableau1[Produits],Tableau1[Emplacement])","v":0},null,{"$f":"Sheet1!$S2512-Sheet1!$R2512","v":0},"-","-","-",{"$f":"IFERROR(Tableau1[[#This Row],[THEO]]-Tableau1[[#This Row],[Qtt 2éme lot]],\"-\")","v":"-"},"-",{"$f":"IF(Tableau1[[#This Row],[2éme lot]]=\"-\",\"-\",IFERROR(IF(Q2512=\"\",\"-\",INDEX(I:I,MATCH(Q2512,C:C,0)+1)),\"-\"))","v":"-"},"-","-"]
[{"$nulls":15},"-",null,{"$f":"SUMIF(Tableau1[Description article],Tableau1[Produits],Tableau1[Emplacement])","v":0},null,{"$f":"Sheet1!$S2513-Sheet1!$R2513","v":0},"-","-","-",{"$f":"IFERROR(Tableau1[[#This Row],[THEO]]-Tableau1[[#This Row],[Qtt 2éme lot]],\"-\")","v":"-"},"-",{"$f":"IF(Tableau1[[#This Row],[2éme lot]]=\"-\",\"-\",IFERROR(IF(Q2513=\"\",\"-\",INDEX(I:I,MATCH(Q2513,C:C,0)+1)),\"-\"))","v":"-"},"-","-"]
[{"$nulls":15},"-",null,{"$f":"SUMIF(Tableau1[Description article],Tableau1[Produits],Tableau1[Emplacement])","v":0},null,{"$f":"Sheet1!$S2514-Sheet1!$R2514","v":0},"-","-","-",{"$f":"IFERROR(Tableau1[[#This Row],[THEO]]-Tableau1[[#This Row],[Qtt 2éme lot]],\"-\")","v":"-"},"-",{"$f":"IF(Tableau1[[#This Row],[2éme lot]]=\"-\",\"-\",IFERROR(IF(Q2514=\"\",\"-\",INDEX(I:I,MATCH(Q2514,C:C,0)+1)),\"-\"))","v":"-"},"-","-"]
[{"$nulls":15},"-",null,{"$f":"SUMIF(Tableau1[Description article],Tableau1[Produits],Tableau1[Emplacement])","v":0},null,{"$f":"Sheet1!$S2515-Sheet1!$R2515","v":0},"-","-","-",{"$f":"IFERROR(Tableau1[[#This Row],[THEO]]-Tableau1[[#This Row],[Qtt 2éme lot]],\"-\")","v":"-"},"-",{"$f":"IF(Tableau1[[#This Row],[2éme lot]]=\"-\",\"-\",IFERROR(IF(Q2515=\"\",\"-\",INDEX(I:I,MATCH(Q2515,C:C,0)+1)),\"-\"))","v":"-"},"-","-"]
[{"$nulls":15},"-",null,{"$f":"SUMIF(Tableau1[Description article],Tableau1[Produits],Tableau1[Emplacement])","v":0},null,{"$f":"Sheet1!$S2516-Sheet1!$R2516","v":0},"-","-","-",{"$f":"IFERROR(Tableau1[[#This Row],[THEO]]-Tableau1[[#This Row],[Qtt 2éme lot]],\"-\")","v":"-"},"-",{"$f":"IF(Tableau1[[#This Row],[2éme lot]]=\"-\",\"-\",IFERROR(IF(Q2516=\"\",\"-\",INDEX(I:I,MATCH(Q2516,C:C,0)+1)),\"-\"))","v":"-"},"-","-"]
[{"$nulls":15},"-",null,{"$f":"SUMIF(Tableau1[Description article],Tableau1[Produits],Tableau1[Emplacement])","v":0},null,{"$f":"Sheet1!$S2517-Sheet1!$R2517","v":0},"-","-","-",{"$f":"IFERROR(Tableau1[[#This Row],[THEO]]-Tableau1[[#This Row],[Qtt 2éme lot]],\"-\")","v":"-"},"-",{"$f":"IF(Tableau1[[#This Row],[2éme lot]]=\"-\",\"-\",IFERROR(IF(Q2517=\"\",\"-\",INDEX(I:I,MATCH(Q2517,C:C,0)+1)),\"-\"))","v":"-"},"-","-"]
[{"$nulls":15},"-",null,{"$f":"SUMIF(Tableau1[Description article],Tableau1[Produits],Tableau1[Emplacement])","v":0},null,{"$f":"Sheet1!$S2518-Sheet1!$R2518","v":0},"-","-","-",{"$f":"IFERROR(Tableau1[[#This Row],[THEO]]-Tableau1[[#This Row],[Qtt 2éme lot]],\"-\")","v":"-"},"-",{"$f":"IF(Tableau1[[#This Row],[2éme lot]]=\"-\",\"-\",IFERROR(IF(Q2518=\"\",\"-\",INDEX(I:I,MATCH(Q2518,C:C,0)+1)),\"-\"))","v":"-"},"-","-"]
[{"$nulls":15},"-",null,{"$f":"SUMIF(Tableau1[Description article],Tableau1[Produits],Tableau1[Emplacement])","v":0},null,{"$f":"Sheet1!$S2519-Sheet1!$R2519","v":0},"-","-","-",{"$f":"IFERROR(Tableau1[[#This Row],[THEO]]-Tableau1[[#This Row],[Qtt 2éme lot]],\"-\")","v":"-"},"-",{"$f":"IF(Tableau1[[#This Row],[2éme lot]]=\"-\",\"-\",IFERROR(IF(Q2519=\"\",\"-\",INDEX(I:I,MATCH(Q2519,C:C,0)+1)),\"-\"))","v":"-"},"-","-"]
[{"$nulls":15},"-",null,{"$f":"SUMIF(Tableau1[Description article],Tableau1[Produits],Tableau1[Emplacement])","v":0},null,{"$f":"Sheet1!$S2520-Sheet1!$R2520","v":0},"-","-","-",{"$f":"IFERROR(Tableau1[[#This Row],[THEO]]-Tableau1[[#This Row],[Qtt 2éme lot]],\"-\")","v":"-"},"-",{"$f":"IF(Tableau1[[#This Row],[2éme lot]]=\"-\",\"-\",IFERROR(IF(Q2520=\"\",\"-\",INDEX(I:I,MATCH(Q2520,C:C,0)+1)),\"-\"))","v":"-"},"-","-"]
[{"$nulls":15},"-",null,{"$f":"SUMIF(Tableau1[Description article],Tableau1[Produits],Tableau1[Emplacement])","v":0},null,{"$f":"Sheet1!$S2521-Sheet1!$R2521","v":0},"-","-","-",{"$f":"IFERROR(Tableau1[[#This Row],[THEO]]-Tableau1[[#This Row],[Qtt 2éme lot]],\"-\")","v":"-"},"-",{"$f":"IF(Tableau1[[#This Row],[2éme lot]]=\"-\",\"-\",IFERROR(IF(Q2521=\"\",\"-\",INDEX(I:I,MATCH(Q2521,C:C,0)+1)),\"-\"))","v":"-"},"-","-"]
[{"$nulls":15},"-",null,{"$f":"SUMIF(Tableau1[Description article],Tableau1[Produits],Tableau1[Emplacement])","v":0},null,{"$f":"Sheet1!$S2522-Sheet1!$R2522","v":0},"-","-","-",{"$f":"IFERROR(Tableau1[[#This Row],[THEO]]-Tableau1[[#This Row],[Qtt 2éme lot]],\"-\")","v":"-"},"-",{"$f":"IF(Tableau1[[#This Row],[2éme lot]]=\"-\",\"-\",IFERROR(IF(Q2522=\"\",\"-\",INDEX(I:I,MATCH(Q2522,C:C,0)+1)),\"-\"))","v":"-"},"-","-"]
[{"$nulls":15},"-",null,{"$f":"SUMIF(Tableau1[Description article],Tableau1[Produits],Tableau1[Emplacement])","v":0},null,{"$f":"Sheet1!$S2523-Sheet1!$R2523","v":0},"-","-","-",{"$f":"IFERROR(Tableau1[[#This Row],[THEO]]-Tableau1[[#This Row],[Qtt 2éme lot]],\"-\")","v":"-"},"-",{"$f":"IF(Tableau1[[#This Row],[2éme lot]]=\"-\",\"-\",IFERROR(IF(Q2523=\"\",\"-\",INDEX(I:I,MATCH(Q2523,C:C,0)+1)),\"-\"))","v":"-"},"-","-"]
[{"$nulls":15},"-",null,{"$f":"SUMIF(Tableau1[Description article],Tableau1[Produits],Tableau1[Emplacement])","v":0},null,{"$f":"Sheet1!$S2524-Sheet1!$R2524","v":0},"-","-","-",{"$f":"IFERROR(Tableau1[[#This Row],[THEO]]-Tableau1[[#This Row],[Qtt 2éme lot]],\"-\")","v":"-"},"-",{"$f":"IF(Tableau1[[#This Row],[2éme lot]]=\"-\",\"-\",IFERROR(IF(Q2524=\"\",\"-\",INDEX(I:I,MATCH(Q2524,C:C,0)+1)),\"-\"))","v":"-"},"-","-"]
[{"$nulls":15},"-",null,{"$f":"SUMIF(Tableau1[Description article],Tableau1[Produits],Tableau1[Emplacement])","v":0},null,{"$f":"Sheet1!$S2525-Sheet1!$R2525","v":0},"-","-","-",{"$f":"IFERROR(Tableau1[[#This Row],[THEO]]-Tableau1[[#This Row],[Qtt 2éme lot]],\"-\")","v":"-"},"-",{"$f":"IF(Tableau1[[#This Row],[2éme lot]]=\"-\",\"-\",IFERROR(IF(Q2525=\"\",\"-\",INDEX(I:I,MATCH(Q2525,C:C,0)+1)),\"-\"))","v":"-"},"-","-"]
[{"$nulls":15},"-",null,{"$f":"SUMIF(Tableau1[Description article],Tableau1[Produits],Tableau1[Emplacement])","v":0},null,{"$f":"Sheet1!$S2526-Sheet1!$R2526","v":0},"-","-","-",{"$f":"IFERROR(Tableau1[[#This Row],[THEO]]-Tableau1[[#This Row],[Qtt 2éme lot]],\"-\")","v":"-"},"-",{"$f":"IF(Tableau1[[#This Row],[2éme lot]]=\"-\",\"-\",IFERROR(IF(Q2526=\"\",\"-\",INDEX(I:I,MATCH(Q2526,C:C,0)+1)),\"-\"))","v":"-"},"-","-"]
[{"$nulls":15},"-",null,{"$f":"SUMIF(Tableau1[Description article],Tableau1[Produits],Tableau1[Emplacement])","v":0},null,{"$f":"Sheet1!$S2527-Sheet1!$R2527","v":0},"-","-","-",{"$f":"IFERROR(Tableau1[[#This Row],[THEO]]-Tableau1[[#This Row],[Qtt 2éme lot]],\"-\")","v":"-"},"-",{"$f":"IF(Tableau1[[#This Row],[2éme lot]]=\"-\",\"-\",IFERROR(IF(Q2527=\"\",\"-\",INDEX(I:I,MATCH(Q2527,C:C,0)+1)),\"-\"))","v":"-"},"-","-"]
[{"$nulls":15},"-",null,{"$f":"SUMIF(Tableau1[Description article],Tableau1[Produits],Tableau1[Emplacement])","v":0},null,{"$f":"Sheet1!$S2528-Sheet1!$R2528","v":0},"-","-","-",{"$f":"IFERROR(Tableau1[[#This Row],[THEO]]-Tableau1[[#This Row],[Qtt 2éme lot]],\"-\")","v":"-"},"-",{"$f":"IF(Tableau1[[#This Row],[2éme lot]]=\"-\",\"-\",IFERROR(IF(Q2528=\"\",\"-\",INDEX(I:I,MATCH(Q2528,C:C,0)+1)),\"-\"))","v":"-"},"-","-"]
[{"$nulls":15},"-",null,{"$f":"SUMIF(Tableau1[Description article],Tableau1[Produits],Tableau1[Emplacement])","v":0},null,{"$f":"Sheet1!$S2529-Sheet1!$R2529","v":0},"-","-","-",{"$f":"IFERROR(Tableau1[[#This Row],[THEO]]-Tableau1[[#This Row],[Qtt 2éme lot]],\"-\")","v":"-"},"-",{"$f":"IF(Tableau1[[#This Row],[2éme lot]]=\"-\",\"-\",IFERROR(IF(Q2529=\"\",\"-\",INDEX(I:I,MATCH(Q2529,C:C,0)+1)),\"-\"))","v":"-"},"-","-"]
[{"$nulls":15},"-",null,{"$f":"SUMIF(Tableau1[Description article],Tableau1[Produits],Tableau1[Emplacement])","v":0},null,{"$f":"Sheet1!$S2530-Sheet1!$R2530","v":0},"-","-","-",{"$f":"IFERROR(Tableau1[[#This Row],[THEO]]-Tableau1[[#This Row],[Qtt 2éme lot]],\"-\")","v":"-"},"-",{"$f":"IF(Tableau1[[#This Row],[2éme lot]]=\"-\",\"-\",IFERROR(IF(Q2530=\"\",\"-\",INDEX(I:I,MATCH(Q2530,C:C,0)+1)),\"-\"))","v":"-"},"-","-"]
[{"$nulls":15},"-",null,{"$f":"SUMIF(Tableau1[Description article],Tableau1[Produits],Tableau1[Emplacement])","v":0},null,{"$f":"Sheet1!$S2531-Sheet1!$R2531","v":0},"-","-","-",{"$f":"IFERROR(Tableau1[[#This Row],[THEO]]-Tableau1[[#This Row],[Qtt 2éme lot]],\"-\")","v":"-"},"-",{"$f":"IF(Tableau1[[#This Row],[2éme lot]]=\"-\",\"-\",IFERROR(IF(Q2531=\"\",\"-\",INDEX(I:I,MATCH(Q2531,C:C,0)+1)),\"-\"))","v":"-"},"-","-"]
[{"$nulls":15},"-",null,{"$f":"SUMIF(Tableau1[Description article],Tableau1[Produits],Tableau1[Emplacement])","v":0},null,{"$f":"Sheet1!$S2532-Sheet1!$R2532","v":0},"-","-","-",{"$f":"IFERROR(Tableau1[[#This Row],[THEO]]-Tableau1[[#This Row],[Qtt 2éme lot]],\"-\")","v":"-"},"-",{"$f":"IF(Tableau1[[#This Row],[2éme lot]]=\"-\",\"-\",IFERROR(IF(Q2532=\"\",\"-\",INDEX(I:I,MATCH(Q2532,C:C,0)+1)),\"-\"))","v":"-"},"-","-"]
[{"$nulls":15},"-",null,{"$f":"SUMIF(Tableau1[Description article],Tableau1[Produits],Tableau1[Emplacement])","v":0},null,{"$f":"Sheet1!$S2533-Sheet1!$R2533","v":0},"-","-","-",{"$f":"IFERROR(Tableau1[[#This Row],[THEO]]-Tableau1[[#This Row],[Qtt 2éme lot]],\"-\")","v":"-"},"-",{"$f":"IF(Tableau1[[#This Row],[2éme lot]]=\"-\",\"-\",IFERROR(IF(Q2533=\"\",\"-\",INDEX(I:I,MATCH(Q2533,C:C,0)+1)),\"-\"))","v":"-"},"-","-"]
[{"$nulls":15},"-",null,{"$f":"SUMIF(Tableau1[Description article],Tableau1[Produits],Tableau1[Emplacement])","v":0},null,{"$f":"Sheet1!$S2534-Sheet1!$R2534","v":0},"-","-","-",{"$f":"IFERROR(Tableau1[[#This Row],[THEO]]-Tableau1[[#This Row],[Qtt 2éme lot]],\"-\")","v":"-"},"-",{"$f":"IF(Tableau1[[#This Row],[2éme lot]]=\"-\",\"-\",IFERROR(IF(Q2534=\"\",\"-\",INDEX(I:I,MATCH(Q2534,C:C,0)+1)),\"-\"))","v":"-"},"-","-"]
[{"$nulls":15},"-",null,{"$f":"SUMIF(Tableau1[Description article],Tableau1[Produits],Tableau1[Emplacement])","v":0},null,{"$f":"Sheet1!$S2535-Sheet1!$R2535","v":0},"-","-","-",{"$f":"IFERROR(Tableau1[[#This Row],[THEO]]-Tableau1[[#This Row],[Qtt 2éme lot]],\"-\")","v":"-"},"-",{"$f":"IF(Tableau1[[#This Row],[2éme lot]]=\"-\",\"-\",IFERROR(IF(Q2535=\"\",\"-\",INDEX(I:I,MATCH(Q2535,C:C,0)+1)),\"-\"))","v":"-"},"-","-"]
[{"$nulls":15},"-",null,{"$f":"SUMIF(Tableau1[Description article],Tableau1[Produits],Tableau1[Emplacement])","v":0},null,{"$f":"Sheet1!$S2536-Sheet1!$R2536","v":0},"-","-","-",{"$f":"IFERROR(Tableau1[[#This Row],[THEO]]-Tableau1[[#This Row],[Qtt 2éme lot]],\"-\")","v":"-"},"-",{"$f":"IF(Tableau1[[#This Row],[2éme lot]]=\"-\",\"-\",IFERROR(IF(Q2536=\"\",\"-\",INDEX(I:I,MATCH(Q2536,C:C,0)+1)),\"-\"))","v":"-"},"-","-"]
[{"$nulls":15},"-",null,{"$f":"SUMIF(Tableau1[Description article],Tableau1[Produits],Tableau1[Emplacement])","v":0},null,{"$f":"Sheet1!$S2537-Sheet1!$R2537","v":0},"-","-","-",{"$f":"IFERROR(Tableau1[[#This Row],[THEO]]-Tableau1[[#This Row],[Qtt 2éme lot]],\"-\")","v":"-"},"-",{"$f":"IF(Tableau1[[#This Row],[2éme lot]]=\"-\",\"-\",IFERROR(IF(Q2537=\"\",\"-\",INDEX(I:I,MATCH(Q2537,C:C,0)+1)),\"-\"))","v":"-"},"-","-"]
[{"$nulls":15},"-",null,{"$f":"SUMIF(Tableau1[Description article],Tableau1[Produits],Tableau1[Emplacement])","v":0},null,{"$f":"Sheet1!$S2538-Sheet1!$R2538","v":0},"-","-","-",{"$f":"IFERROR(Tableau1[[#This Row],[THEO]]-Tableau1[[#This Row],[Qtt 2éme lot]],\"-\")","v":"-"},"-",{"$f":"IF(Tableau1[[#This Row],[2éme lot]]=\"-\",\"-\",IFERROR(IF(Q2538=\"\",\"-\",INDEX(I:I,MATCH(Q2538,C:C,0)+1)),\"-\"))","v":"-"},"-","-"]
[{"$nulls":15},"-",null,{"$f":"SUMIF(Tableau1[Description article],Tableau1[Produits],Tableau1[Emplacement])","v":0},null,{"$f":"Sheet1!$S2539-Sheet1!$R2539","v":0},"-","-","-",{"$f":"IFERROR(Tableau1[[#This Row],[THEO]]-Tableau1[[#This Row],[Qtt 2éme lot]],\"-\")","v":"-"},"-",{"$f":"IF(Tableau1[[#This Row],[2éme lot]]=\"-\",\"-\",IFERROR(IF(Q2539=\"\",\"-\",INDEX(I:I,MATCH(Q2539,C:C,0)+1)),\"-\"))","v":"-"},"-","-"]
[{"$nulls":15},"-",null,{"$f":"SUMIF(Tableau1[Description article],Tableau1[Produits],Tableau1[Emplacement])","v":0},null,{"$f":"Sheet1!$S2540-Sheet1!$R2540","v":0},"-","-","-",{"$f":"IFERROR(Tableau1[[#This Row],[THEO]]-Tableau1[[#This Row],[Qtt 2éme lot]],\"-\")","v":"-"},"-",{"$f":"IF(Tableau1[[#This Row],[2éme lot]]=\"-\",\"-\",IFERROR(IF(Q2540=\"\",\"-\",INDEX(I:I,MATCH(Q2540,C:C,0)+1)),\"-\"))","v":"-"},"-","-"]
[{"$nulls":15},"-",null,{"$f":"SUMIF(Tableau1[Description article],Tableau1[Produits],Tableau1[Emplacement])","v":0},null,{"$f":"Sheet1!$S2541-Sheet1!$R2541","v":0},"-","-","-",{"$f":"IFERROR(Tableau1[[#This Row],[THEO]]-Tableau1[[#This Row],[Qtt 2éme lot]],\"-\")","v":"-"},"-",{"$f":"IF(Tableau1[[#This Row],[2éme lot]]=\"-\",\"-\",IFERROR(IF(Q2541=\"\",\"-\",INDEX(I:I,MATCH(Q2541,C:C,0)+1)),\"-\"))","v":"-"},"-","-"]
[{"$nulls":15},"-",null,{"$f":"SUMIF(Tableau1[Description article],Tableau1[Produits],Tableau1[Emplacement])","v":0},null,{"$f":"Sheet1!$S2542-Sheet1!$R2542","v":0},"-","-","-",{"$f":"IFERROR(Tableau1[[#This Row],[THEO]]-Tableau1[[#This Row],[Qtt 2éme lot]],\"-\")","v":"-"},"-",{"$f":"IF(Tableau1[[#This Row],[2éme lot]]=\"-\",\"-\",IFERROR(IF(Q2542=\"\",\"-\",INDEX(I:I,MATCH(Q2542,C:C,0)+1)),\"-\"))","v":"-"},"-","-"]
[{"$nulls":15},"-",null,{"$f":"SUMIF(Tableau1[Description article],Tableau1[Produits],Tableau1[Emplacement])","v":0},null,{"$f":"Sheet1!$S2543-Sheet1!$R2543","v":0},"-","-","-",{"$f":"IFERROR(Tableau1[[#This Row],[THEO]]-Tableau1[[#This Row],[Qtt 2éme lot]],\"-\")","v":"-"},"-",{"$f":"IF(Tableau1[[#This Row],[2éme lot]]=\"-\",\"-\",IFERROR(IF(Q2543=\"\",\"-\",INDEX(I:I,MATCH(Q2543,C:C,0)+1)),\"-\"))","v":"-"},"-","-"]
[{"$nulls":15},"-",null,{"$f":"SUMIF(Tableau1[Description article],Tableau1[Produits],Tableau1[Emplacement])","v":0},null,{"$f":"Sheet1!$S2544-Sheet1!$R2544","v":0},"-","-","-",{"$f":"IFERROR(Tableau1[[#This Row],[THEO]]-Tableau1[[#This Row],[Qtt 2éme lot]],\"-\")","v":"-"},"-",{"$f":"IF(Tableau1[[#This Row],[2éme lot]]=\"-\",\"-\",IFERROR(IF(Q2544=\"\",\"-\",INDEX(I:I,MATCH(Q2544,C:C,0)+1)),\"-\"))","v":"-"},"-","-"]
[{"$nulls":15},"-",null,{"$f":"SUMIF(Tableau1[Description article],Tableau1[Produits],Tableau1[Emplacement])","v":0},null,{"$f":"Sheet1!$S2545-Sheet1!$R2545","v":0},"-","-","-",{"$f":"IFERROR(Tableau1[[#This Row],[THEO]]-Tableau1[[#This Row],[Qtt 2éme lot]],\"-\")","v":"-"},"-",{"$f":"IF(Tableau1[[#This Row],[2éme lot]]=\"-\",\"-\",IFERROR(IF(Q2545=\"\",\"-\",INDEX(I:I,MATCH(Q2545,C:C,0)+1)),\"-\"))","v":"-"},"-","-"]
[{"$nulls":15},"-",null,{"$f":"SUMIF(Tableau1[Description article],Tableau1[Produits],Tableau1[Emplacement])","v":0},null,{"$f":"Sheet1!$S2546-Sheet1!$R2546","v":0},"-","-","-",{"$f":"IFERROR(Tableau1[[#This Row],[THEO]]-Tableau1[[#This Row],[Qtt 2éme lot]],\"-\")","v":"-"},"-",{"$f":"IF(Tableau1[[#This Row],[2éme lot]]=\"-\",\"-\",IFERROR(IF(Q2546=\"\",\"-\",INDEX(I:I,MATCH(Q2546,C:C,0)+1)),\"-\"))","v":"-"},"-","-"]
[{"$nulls":15},"-",null,{"$f":"SUMIF(Tableau1[Description article],Tableau1[Produits],Tableau1[Emplacement])","v":0},null,{"$f":"Sheet1!$S2547-Sheet1!$R2547","v":0},"-","-","-",{"$f":"IFERROR(Tableau1[[#This Row],[THEO]]-Tableau1[[#This Row],[Qtt 2éme lot]],\"-\")","v":"-"},"-",{"$f":"IF(Tableau1[[#This Row],[2éme lot]]=\"-\",\"-\",IFERROR(IF(Q2547=\"\",\"-\",INDEX(I:I,MATCH(Q2547,C:C,0)+1)),\"-\"))","v":"-"},"-","-"]
[{"$nulls":15},"-",null,{"$f":"SUMIF(Tableau1[Description article],Tableau1[Produits],Tableau1[Emplacement])","v":0},null,{"$f":"Sheet1!$S2548-Sheet1!$R2548","v":0},"-","-","-",{"$f":"IFERROR(Tableau1[[#This Row],[THEO]]-Tableau1[[#This Row],[Qtt 2éme lot]],\"-\")","v":"-"},"-",{"$f":"IF(Tableau1[[#This Row],[2éme lot]]=\"-\",\"-\",IFERROR(IF(Q2548=\"\",\"-\",INDEX(I:I,MATCH(Q2548,C:C,0)+1)),\"-\"))","v":"-"},"-","-"]
[{"$nulls":15},"-",null,{"$f":"SUMIF(Tableau1[Description article],Tableau1[Produits],Tableau1[Emplacement])","v":0},null,{"$f":"Sheet1!$S2549-Sheet1!$R2549","v":0},"-","-","-",{"$f":"IFERROR(Tableau1[[#This Row],[THEO]]-Tableau1[[#This Row],[Qtt 2éme lot]],\"-\")","v":"-"},"-",{"$f":"IF(Tableau1[[#This Row],[2éme lot]]=\"-\",\"-\",IFERROR(IF(Q2549=\"\",\"-\",INDEX(I:I,MATCH(Q2549,C:C,0)+1)),\"-\"))","v":"-"},"-","-"]
[{"$nulls":15},"-",null,{"$f":"SUMIF(Tableau1[Description article],Tableau1[Produits],Tableau1[Emplacement])","v":0},null,{"$f":"Sheet1!$S2550-Sheet1!$R2550","v":0},"-","-","-",{"$f":"IFERROR(Tableau1[[#This Row],[THEO]]-Tableau1[[#This Row],[Qtt 2éme lot]],\"-\")","v":"-"},"-",{"$f":"IF(Tableau1[[#This Row],[2éme lot]]=\"-\",\"-\",IFERROR(IF(Q2550=\"\",\"-\",INDEX(I:I,MATCH(Q2550,C:C,0)+1)),\"-\"))","v":"-"},"-","-"]
[{"$nulls":15},"-",null,{"$f":"SUMIF(Tableau1[Description article],Tableau1[Produits],Tableau1[Emplacement])","v":0},null,{"$f":"Sheet1!$S2551-Sheet1!$R2551","v":0},"-","-","-",{"$f":"IFERROR(Tableau1[[#This Row],[THEO]]-Tableau1[[#This Row],[Qtt 2éme lot]],\"-\")","v":"-"},"-",{"$f":"IF(Tableau1[[#This Row],[2éme lot]]=\"-\",\"-\",IFERROR(IF(Q2551=\"\",\"-\",INDEX(I:I,MATCH(Q2551,C:C,0)+1)),\"-\"))","v":"-"},"-","-"]
[{"$nulls":15},"-",null,{"$f":"SUMIF(Tableau1[Description article],Tableau1[Produits],Tableau1[Emplacement])","v":0},null,{"$f":"Sheet1!$S2552-Sheet1!$R2552","v":0},"-","-","-",{"$f":"IFERROR(Tableau1[[#This Row],[THEO]]-Tableau1[[#This Row],[Qtt 2éme lot]],\"-\")","v":"-"},"-",{"$f":"IF(Tableau1[[#This Row],[2éme lot]]=\"-\",\"-\",IFERROR(IF(Q2552=\"\",\"-\",INDEX(I:I,MATCH(Q2552,C:C,0)+1)),\"-\"))","v":"-"},"-","-"]
[{"$nulls":15},"-",null,{"$f":"SUMIF(Tableau1[Description article],Tableau1[Produits],Tableau1[Emplacement])","v":0},null,{"$f":"Sheet1!$S2553-Sheet1!$R2553","v":0},"-","-","-",{"$f":"IFERROR(Tableau1[[#This Row],[THEO]]-Tableau1[[#This Row],[Qtt 2éme lot]],\"-\")","v":"-"},"-",{"$f":"IF(Tableau1[[#This Row],[2éme lot]]=\"-\",\"-\",IFERROR(IF(Q2553=\"\",\"-\",INDEX(I:I,MATCH(Q2553,C:C,0)+1)),\"-\"))","v":"-"},"-","-"]
[{"$nulls":15},"-",null,{"$f":"SUMIF(Tableau1[Description article],Tableau1[Produits],Tableau1[Emplacement])","v":0},null,{"$f":"Sheet1!$S2554-Sheet1!$R2554","v":0},"-","-","-",{"$f":"IFERROR(Tableau1[[#This Row],[THEO]]-Tableau1[[#This Row],[Qtt 2éme lot]],\"-\")","v":"-"},"-",{"$f":"IF(Tableau1[[#This Row],[2éme lot]]=\"-\",\"-\",IFERROR(IF(Q2554=\"\",\"-\",INDEX(I:I,MATCH(Q2554,C:C,0)+1)),\"-\"))","v":"-"},"-","-"]
[{"$nulls":15},"-",null,{"$f":"SUMIF(Tableau1[Description article],Tableau1[Produits],Tableau1[Emplacement])","v":0},null,{"$f":"Sheet1!$S2555-Sheet1!$R2555","v":0},"-","-","-",{"$f":"IFERROR(Tableau1[[#This Row],[THEO]]-Tableau1[[#This Row],[Qtt 2éme lot]],\"-\")","v":"-"},"-",{"$f":"IF(Tableau1[[#This Row],[2éme lot]]=\"-\",\"-\",IFERROR(IF(Q2555=\"\",\"-\",INDEX(I:I,MATCH(Q2555,C:C,0)+1)),\"-\"))","v":"-"},"-","-"]
[{"$nulls":15},"-",null,{"$f":"SUMIF(Tableau1[Description article],Tableau1[Produits],Tableau1[Emplacement])","v":0},null,{"$f":"Sheet1!$S2556-Sheet1!$R2556","v":0},"-","-","-",{"$f":"IFERROR(Tableau1[[#This Row],[THEO]]-Tableau1[[#This Row],[Qtt 2éme lot]],\"-\")","v":"-"},"-",{"$f":"IF(Tableau1[[#This Row],[2éme lot]]=\"-\",\"-\",IFERROR(IF(Q2556=\"\",\"-\",INDEX(I:I,MATCH(Q2556,C:C,0)+1)),\"-\"))","v":"-"},"-","-"]
[{"$nulls":15},"-",null,{"$f":"SUMIF(Tableau1[Description article],Tableau1[Produits],Tableau1[Emplacement])","v":0},null,{"$f":"Sheet1!$S2557-Sheet1!$R2557","v":0},"-","-","-",{"$f":"IFERROR(Tableau1[[#This Row],[THEO]]-Tableau1[[#This Row],[Qtt 2éme lot]],\"-\")","v":"-"},"-",{"$f":"IF(Tableau1[[#This Row],[2éme lot]]=\"-\",\"-\",IFERROR(IF(Q2557=\"\",\"-\",INDEX(I:I,MATCH(Q2557,C:C,0)+1)),\"-\"))","v":"-"},"-","-"]
[{"$nulls":15},"-",null,{"$f":"SUMIF(Tableau1[Description article],Tableau1[Produits],Tableau1[Emplacement])","v":0},null,{"$f":"Sheet1!$S2558-Sheet1!$R2558","v":0},"-","-","-",{"$f":"IFERROR(Tableau1[[#This Row],[THEO]]-Tableau1[[#This Row],[Qtt 2éme lot]],\"-\")","v":"-"},"-",{"$f":"IF(Tableau1[[#This Row],[2éme lot]]=\"-\",\"-\",IFERROR(IF(Q2558=\"\",\"-\",INDEX(I:I,MATCH(Q2558,C:C,0)+1)),\"-\"))","v":"-"},"-","-"]
[{"$nulls":15},"-",null,{"$f":"SUMIF(Tableau1[Description article],Tableau1[Produits],Tableau1[Emplacement])","v":0},null,{"$f":"Sheet1!$S2559-Sheet1!$R2559","v":0},"-","-","-",{"$f":"IFERROR(Tableau1[[#This Row],[THEO]]-Tableau1[[#This Row],[Qtt 2éme lot]],\"-\")","v":"-"},"-",{"$f":"IF(Tableau1[[#This Row],[2éme lot]]=\"-\",\"-\",IFERROR(IF(Q2559=\"\",\"-\",INDEX(I:I,MATCH(Q2559,C:C,0)+1)),\"-\"))","v":"-"},"-","-"]
[{"$nulls":15},"-",null,{"$f":"SUMIF(Tableau1[Description article],Tableau1[Produits],Tableau1[Emplacement])","v":0},null,{"$f":"Sheet1!$S2560-Sheet1!$R2560","v":0},"-","-","-",{"$f":"IFERROR(Tableau1[[#This Row],[THEO]]-Tableau1[[#This Row],[Qtt 2éme lot]],\"-\")","v":"-"},"-",{"$f":"IF(Tableau1[[#This Row],[2éme lot]]=\"-\",\"-\",IFERROR(IF(Q2560=\"\",\"-\",INDEX(I:I,MATCH(Q2560,C:C,0)+1)),\"-\"))","v":"-"},"-","-"]
[{"$nulls":15},"-",null,{"$f":"SUMIF(Tableau1[Description article],Tableau1[Produits],Tableau1[Emplacement])","v":0},null,{"$f":"Sheet1!$S2561-Sheet1!$R2561","v":0},"-","-","-",{"$f":"IFERROR(Tableau1[[#This Row],[THEO]]-Tableau1[[#This Row],[Qtt 2éme lot]],\"-\")","v":"-"},"-",{"$f":"IF(Tableau1[[#This Row],[2éme lot]]=\"-\",\"-\",IFERROR(IF(Q2561=\"\",\"-\",INDEX(I:I,MATCH(Q2561,C:C,0)+1)),\"-\"))","v":"-"},"-","-"]
[{"$nulls":15},{"$f":"IFERROR(IF(Q2562=\"\",\"-\",INDEX(I:I,MATCH(Q2562,C:C,0))),\"-\")","v":"-"},null,{"$f":"SUMIF(Tableau1[Description article],Tableau1[Produits],Tableau1[Emplacement])","v":0},null,{"$f":"Sheet1!$S2562-Sheet1!$R2562","v":0},{"$f":"IFERROR(IF(Q2562=\"\",\"-\",INDEX(F:F,MATCH(Q2562,C:C,0))),\"-\")","v":"-"},{"$f":"IFERROR(IF(Q2562=\"\",\"-\",INDEX(E:E,MATCH(Q2562,C:C,0))),\"-\")","v":"-"},{"$f":"IFERROR(IF(Q2562=\"\",\"-\",INDEX(N:N,MATCH(Q2562,C:C,0))),\"-\")","v":"-"},{"$f":"IFERROR(Tableau1[[#This Row],[THEO]]-Tableau1[[#This Row],[Qtt 2éme lot]],\"-\")","v":"-"},{"$f":"IF(IF(Q2562=\"\",\"-\",INDEX(E:E,MATCH(Q2562,C:C,0)))=IF(Q2562=\"\",\"-\",INDEX(E:E,MATCH(Q2562,C:C,1))),\"-\",IF(Q2562=\"\",\"-\",INDEX(E:E,MATCH(Q2562,C:C,1))))","v":"-"},{"$f":"IF(Tableau1[[#This Row],[2éme lot]]=\"-\",\"-\",IFERROR(IF(Q2562=\"\",\"-\",INDEX(I:I,MATCH(Q2562,C:C,0)+1)),\"-\"))","v":"-"},{"$f":"IFERROR(IF(Y2562=\"\",\"-\",INDEX(N:N,MATCH(Y2562,E:E,0))),\"-\")","v":"-"},{"$f":"IFERROR(IF(AA2562=\"\",\"-\",INDEX(H:H,MATCH(Y2562,E:E,0))),\"-\")","v":"-"}]
[{"$nulls":15},"-",null,{"$f":"SUMIF(Tableau1[Description article],Tableau1[Produits],Tableau1[Emplacement])","v":0},null,{"$f":"Sheet1!$S2563-Sheet1!$R2563","v":0},"-","-","-",{"$f":"IFERROR(Tableau1[[#This Row],[THEO]]-Tableau1[[#This Row],[Qtt 2éme lot]],\"-\")","v":"-"},"-",{"$f":"IF(Tableau1[[#This Row],[2éme lot]]=\"-\",\"-\",IFERROR(IF(Q2563=\"\",\"-\",INDEX(I:I,MATCH(Q2563,C:C,0)+1)),\"-\"))","v":"-"},"-","-"]
[{"$nulls":15},"-",null,{"$f":"SUMIF(Tableau1[Description article],Tableau1[Produits],Tableau1[Emplacement])","v":0},null,{"$f":"Sheet1!$S2564-Sheet1!$R2564","v":0},"-","-","-",{"$f":"IFERROR(Tableau1[[#This Row],[THEO]]-Tableau1[[#This Row],[Qtt 2éme lot]],\"-\")","v":"-"},"-",{"$f":"IF(Tableau1[[#This Row],[2éme lot]]=\"-\",\"-\",IFERROR(IF(Q2564=\"\",\"-\",INDEX(I:I,MATCH(Q2564,C:C,0)+1)),\"-\"))","v":"-"},"-","-"]
[{"$nulls":15},"-",null,{"$f":"SUMIF(Tableau1[Description article],Tableau1[Produits],Tableau1[Emplacement])","v":0},null,{"$f":"Sheet1!$S2565-Sheet1!$R2565","v":0},"-","-","-",{"$f":"IFERROR(Tableau1[[#This Row],[THEO]]-Tableau1[[#This Row],[Qtt 2éme lot]],\"-\")","v":"-"},"-",{"$f":"IF(Tableau1[[#This Row],[2éme lot]]=\"-\",\"-\",IFERROR(IF(Q2565=\"\",\"-\",INDEX(I:I,MATCH(Q2565,C:C,0)+1)),\"-\"))","v":"-"},"-","-"]
[{"$nulls":15},"-",null,{"$f":"SUMIF(Tableau1[Description article],Tableau1[Produits],Tableau1[Emplacement])","v":0},null,{"$f":"Sheet1!$S2566-Sheet1!$R2566","v":0},"-","-","-",{"$f":"IFERROR(Tableau1[[#This Row],[THEO]]-Tableau1[[#This Row],[Qtt 2éme lot]],\"-\")","v":"-"},"-",{"$f":"IF(Tableau1[[#This Row],[2éme lot]]=\"-\",\"-\",IFERROR(IF(Q2566=\"\",\"-\",INDEX(I:I,MATCH(Q2566,C:C,0)+1)),\"-\"))","v":"-"},"-","-"]
[{"$nulls":15},"-",null,{"$f":"SUMIF(Tableau1[Description article],Tableau1[Produits],Tableau1[Emplacement])","v":0},null,{"$f":"Sheet1!$S2567-Sheet1!$R2567","v":0},"-","-","-",{"$f":"IFERROR(Tableau1[[#This Row],[THEO]]-Tableau1[[#This Row],[Qtt 2éme lot]],\"-\")","v":"-"},"-",{"$f":"IF(Tableau1[[#This Row],[2éme lot]]=\"-\",\"-\",IFERROR(IF(Q2567=\"\",\"-\",INDEX(I:I,MATCH(Q2567,C:C,0)+1)),\"-\"))","v":"-"},"-","-"]
[{"$nulls":15},"-",null,{"$f":"SUMIF(Tableau1[Description article],Tableau1[Produits],Tableau1[Emplacement])","v":0},null,{"$f":"Sheet1!$S2568-Sheet1!$R2568","v":0},"-","-","-",{"$f":"IFERROR(Tableau1[[#This Row],[THEO]]-Tableau1[[#This Row],[Qtt 2éme lot]],\"-\")","v":"-"},"-",{"$f":"IF(Tableau1[[#This Row],[2éme lot]]=\"-\",\"-\",IFERROR(IF(Q2568=\"\",\"-\",INDEX(I:I,MATCH(Q2568,C:C,0)+1)),\"-\"))","v":"-"},"-","-"]
[{"$nulls":15},"-",null,{"$f":"SUMIF(Tableau1[Description article],Tableau1[Produits],Tableau1[Emplacement])","v":0},null,{"$f":"Sheet1!$S2569-Sheet1!$R2569","v":0},"-","-","-",{"$f":"IFERROR(Tableau1[[#This Row],[THEO]]-Tableau1[[#This Row],[Qtt 2éme lot]],\"-\")","v":"-"},"-",{"$f":"IF(Tableau1[[#This Row],[2éme lot]]=\"-\",\"-\",IFERROR(IF(Q2569=\"\",\"-\",INDEX(I:I,MATCH(Q2569,C:C,0)+1)),\"-\"))","v":"-"},"-","-"]
[{"$nulls":15},"-",null,{"$f":"SUMIF(Tableau1[Description article],Tableau1[Produits],Tableau1[Emplacement])","v":0},null,{"$f":"Sheet1!$S2570-Sheet1!$R2570","v":0},"-","-","-",{"$f":"IFERROR(Tableau1[[#This Row],[THEO]]-Tableau1[[#This Row],[Qtt 2éme lot]],\"-\")","v":"-"},"-",{"$f":"IF(Tableau1[[#This Row],[2éme lot]]=\"-\",\"-\",IFERROR(IF(Q2570=\"\",\"-\",INDEX(I:I,MATCH(Q2570,C:C,0)+1)),\"-\"))","v":"-"},"-","-"]
[{"$nulls":15},"-",null,{"$f":"SUMIF(Tableau1[Description article],Tableau1[Produits],Tableau1[Emplacement])","v":0},null,{"$f":"Sheet1!$S2571-Sheet1!$R2571","v":0},"-","-","-",{"$f":"IFERROR(Tableau1[[#This Row],[THEO]]-Tableau1[[#This Row],[Qtt 2éme lot]],\"-\")","v":"-"},"-",{"$f":"IF(Tableau1[[#This Row],[2éme lot]]=\"-\",\"-\",IFERROR(IF(Q2571=\"\",\"-\",INDEX(I:I,MATCH(Q2571,C:C,0)+1)),\"-\"))","v":"-"},"-","-"]
[{"$nulls":15},"-",null,{"$f":"SUMIF(Tableau1[Description article],Tableau1[Produits],Tableau1[Emplacement])","v":0},null,{"$f":"Sheet1!$S2572-Sheet1!$R2572","v":0},"-","-","-",{"$f":"IFERROR(Tableau1[[#This Row],[THEO]]-Tableau1[[#This Row],[Qtt 2éme lot]],\"-\")","v":"-"},"-",{"$f":"IF(Tableau1[[#This Row],[2éme lot]]=\"-\",\"-\",IFERROR(IF(Q2572=\"\",\"-\",INDEX(I:I,MATCH(Q2572,C:C,0)+1)),\"-\"))","v":"-"},"-","-"]
[{"$nulls":15},"-",null,{"$f":"SUMIF(Tableau1[Description article],Tableau1[Produits],Tableau1[Emplacement])","v":0},null,{"$f":"Sheet1!$S2573-Sheet1!$R2573","v":0},"-","-","-",{"$f":"IFERROR(Tableau1[[#This Row],[THEO]]-Tableau1[[#This Row],[Qtt 2éme lot]],\"-\")","v":"-"},"-",{"$f":"IF(Tableau1[[#This Row],[2éme lot]]=\"-\",\"-\",IFERROR(IF(Q2573=\"\",\"-\",INDEX(I:I,MATCH(Q2573,C:C,0)+1)),\"-\"))","v":"-"},"-","-"]
[{"$nulls":15},"-",null,{"$f":"SUMIF(Tableau1[Description article],Tableau1[Produits],Tableau1[Emplacement])","v":0},null,{"$f":"Sheet1!$S2574-Sheet1!$R2574","v":0},"-","-","-",{"$f":"IFERROR(Tableau1[[#This Row],[THEO]]-Tableau1[[#This Row],[Qtt 2éme lot]],\"-\")","v":"-"},"-",{"$f":"IF(Tableau1[[#This Row],[2éme lot]]=\"-\",\"-\",IFERROR(IF(Q2574=\"\",\"-\",INDEX(I:I,MATCH(Q2574,C:C,0)+1)),\"-\"))","v":"-"},"-","-"]
[{"$nulls":15},"-",null,{"$f":"SUMIF(Tableau1[Description article],Tableau1[Produits],Tableau1[Emplacement])","v":0},null,{"$f":"Sheet1!$S2575-Sheet1!$R2575","v":0},"-","-","-",{"$f":"IFERROR(Tableau1[[#This Row],[THEO]]-Tableau1[[#This Row],[Qtt 2éme lot]],\"-\")","v":"-"},"-",{"$f":"IF(Tableau1[[#This Row],[2éme lot]]=\"-\",\"-\",IFERROR(IF(Q2575=\"\",\"-\",INDEX(I:I,MATCH(Q2575,C:C,0)+1)),\"-\"))","v":"-"},"-","-"]
[{"$nulls":15},"-",null,{"$f":"SUMIF(Tableau1[Description article],Tableau1[Produits],Tableau1[Emplacement])","v":0},null,{"$f":"Sheet1!$S2576-Sheet1!$R2576","v":0},"-","-","-",{"$f":"IFERROR(Tableau1[[#This Row],[THEO]]-Tableau1[[#This Row],[Qtt 2éme lot]],\"-\")","v":"-"},"-",{"$f":"IF(Tableau1[[#This Row],[2éme lot]]=\"-\",\"-\",IFERROR(IF(Q2576=\"\",\"-\",INDEX(I:I,MATCH(Q2576,C:C,0)+1)),\"-\"))","v":"-"},"-","-"]
[{"$nulls":15},"-",null,{"$f":"SUMIF(Tableau1[Description article],Tableau1[Produits],Tableau1[Emplacement])","v":0},null,{"$f":"Sheet1!$S2577-Sheet1!$R2577","v":0},"-","-","-",{"$f":"IFERROR(Tableau1[[#This Row],[THEO]]-Tableau1[[#This Row],[Qtt 2éme lot]],\"-\")","v":"-"},"-",{"$f":"IF(Tableau1[[#This Row],[2éme lot]]=\"-\",\"-\",IFERROR(IF(Q2577=\"\",\"-\",INDEX(I:I,MATCH(Q2577,C:C,0)+1)),\"-\"))","v":"-"},"-","-"]
[{"$nulls":15},"-",null,{"$f":"SUMIF(Tableau1[Description article],Tableau1[Produits],Tableau1[Emplacement])","v":0},null,{"$f":"Sheet1!$S2578-Sheet1!$R2578","v":0},"-","-","-",{"$f":"IFERROR(Tableau1[[#This Row],[THEO]]-Tableau1[[#This Row],[Qtt 2éme lot]],\"-\")","v":"-"},"-",{"$f":"IF(Tableau1[[#This Row],[2éme lot]]=\"-\",\"-\",IFERROR(IF(Q2578=\"\",\"-\",INDEX(I:I,MATCH(Q2578,C:C,0)+1)),\"-\"))","v":"-"},"-","-"]
[{"$nulls":15},"-",null,{"$f":"SUMIF(Tableau1[Description article],Tableau1[Produits],Tableau1[Emplacement])","v":0},null,{"$f":"Sheet1!$S2579-Sheet1!$R2579","v":0},"-","-","-",{"$f":"IFERROR(Tableau1[[#This Row],[THEO]]-Tableau1[[#This Row],[Qtt 2éme lot]],\"-\")","v":"-"},"-",{"$f":"IF(Tableau1[[#This Row],[2éme lot]]=\"-\",\"-\",IFERROR(IF(Q2579=\"\",\"-\",INDEX(I:I,MATCH(Q2579,C:C,0)+1)),\"-\"))","v":"-"},"-","-"]
[{"$nulls":15},"-",null,{"$f":"SUMIF(Tableau1[Description article],Tableau1[Produits],Tableau1[Emplacement])","v":0},null,{"$f":"Sheet1!$S2580-Sheet1!$R2580","v":0},"-","-","-",{"$f":"IFERROR(Tableau1[[#This Row],[THEO]]-Tableau1[[#This Row],[Qtt 2éme lot]],\"-\")","v":"-"},"-",{"$f":"IF(Tableau1[[#This Row],[2éme lot]]=\"-\",\"-\",IFERROR(IF(Q2580=\"\",\"-\",INDEX(I:I,MATCH(Q2580,C:C,0)+1)),\"-\"))","v":"-"},"-","-"]
[{"$nulls":15},"-",null,{"$f":"SUMIF(Tableau1[Description article],Tableau1[Produits],Tableau1[Emplacement])","v":0},null,{"$f":"Sheet1!$S2581-Sheet1!$R2581","v":0},"-","-","-",{"$f":"IFERROR(Tableau1[[#This Row],[THEO]]-Tableau1[[#This Row],[Qtt 2éme lot]],\"-\")","v":"-"},"-",{"$f":"IF(Tableau1[[#This Row],[2éme lot]]=\"-\",\"-\",IFERROR(IF(Q2581=\"\",\"-\",INDEX(I:I,MATCH(Q2581,C:C,0)+1)),\"-\"))","v":"-"},"-","-"]
[{"$nulls":15},"-",null,{"$f":"SUMIF(Tableau1[Description article],Tableau1[Produits],Tableau1[Emplacement])","v":0},null,{"$f":"Sheet1!$S2582-Sheet1!$R2582","v":0},"-","-","-",{"$f":"IFERROR(Tableau1[[#This Row],[THEO]]-Tableau1[[#This Row],[Qtt 2éme lot]],\"-\")","v":"-"},"-",{"$f":"IF(Tableau1[[#This Row],[2éme lot]]=\"-\",\"-\",IFERROR(IF(Q2582=\"\",\"-\",INDEX(I:I,MATCH(Q2582,C:C,0)+1)),\"-\"))","v":"-"},"-","-"]
[{"$nulls":15},"-",null,{"$f":"SUMIF(Tableau1[Description article],Tableau1[Produits],Tableau1[Emplacement])","v":0},null,{"$f":"Sheet1!$S2583-Sheet1!$R2583","v":0},"-","-","-",{"$f":"IFERROR(Tableau1[[#This Row],[THEO]]-Tableau1[[#This Row],[Qtt 2éme lot]],\"-\")","v":"-"},"-",{"$f":"IF(Tableau1[[#This Row],[2éme lot]]=\"-\",\"-\",IFERROR(IF(Q2583=\"\",\"-\",INDEX(I:I,MATCH(Q2583,C:C,0)+1)),\"-\"))","v":"-"},"-","-"]
[{"$nulls":15},"-",null,{"$f":"SUMIF(Tableau1[Description article],Tableau1[Produits],Tableau1[Emplacement])","v":0},null,{"$f":"Sheet1!$S2584-Sheet1!$R2584","v":0},"-","-","-",{"$f":"IFERROR(Tableau1[[#This Row],[THEO]]-Tableau1[[#This Row],[Qtt 2éme lot]],\"-\")","v":"-"},"-",{"$f":"IF(Tableau1[[#This Row],[2éme lot]]=\"-\",\"-\",IFERROR(IF(Q2584=\"\",\"-\",INDEX(I:I,MATCH(Q2584,C:C,0)+1)),\"-\"))","v":"-"},"-","-"]
[{"$nulls":15},"-",null,{"$f":"SUMIF(Tableau1[Description article],Tableau1[Produits],Tableau1[Emplacement])","v":0},null,{"$f":"Sheet1!$S2585-Sheet1!$R2585","v":0},"-","-","-",{"$f":"IFERROR(Tableau1[[#This Row],[THEO]]-Tableau1[[#This Row],[Qtt 2éme lot]],\"-\")","v":"-"},"-",{"$f":"IF(Tableau1[[#This Row],[2éme lot]]=\"-\",\"-\",IFERROR(IF(Q2585=\"\",\"-\",INDEX(I:I,MATCH(Q2585,C:C,0)+1)),\"-\"))","v":"-"},"-","-"]
[{"$nulls":15},"-",null,{"$f":"SUMIF(Tableau1[Description article],Tableau1[Produits],Tableau1[Emplacement])","v":0},null,{"$f":"Sheet1!$S2586-Sheet1!$R2586","v":0},"-","-","-",{"$f":"IFERROR(Tableau1[[#This Row],[THEO]]-Tableau1[[#This Row],[Qtt 2éme lot]],\"-\")","v":"-"},"-",{"$f":"IF(Tableau1[[#This Row],[2éme lot]]=\"-\",\"-\",IFERROR(IF(Q2586=\"\",\"-\",INDEX(I:I,MATCH(Q2586,C:C,0)+1)),\"-\"))","v":"-"},"-","-"]
[{"$nulls":15},"-",null,{"$f":"SUMIF(Tableau1[Description article],Tableau1[Produits],Tableau1[Emplacement])","v":0},null,{"$f":"Sheet1!$S2587-Sheet1!$R2587","v":0},"-","-","-",{"$f":"IFERROR(Tableau1[[#This Row],[THEO]]-Tableau1[[#This Row],[Qtt 2éme lot]],\"-\")","v":"-"},"-",{"$f":"IF(Tableau1[[#This Row],[2éme lot]]=\"-\",\"-\",IFERROR(IF(Q2587=\"\",\"-\",INDEX(I:I,MATCH(Q2587,C:C,0)+1)),\"-\"))","v":"-"},"-","-"]
[{"$nulls":15},"-",null,{"$f":"SUMIF(Tableau1[Description article],Tableau1[Produits],Tableau1[Emplacement])","v":0},null,{"$f":"Sheet1!$S2588-Sheet1!$R2588","v":0},"-","-","-",{"$f":"IFERROR(Tableau1[[#This Row],[THEO]]-Tableau1[[#This Row],[Qtt 2éme lot]],\"-\")","v":"-"},"-",{"$f":"IF(Tableau1[[#This Row],[2éme lot]]=\"-\",\"-\",IFERROR(IF(Q2588=\"\",\"-\",INDEX(I:I,MATCH(Q2588,C:C,0)+1)),\"-\"))","v":"-"},"-","-"]
[{"$nulls":15},"-",null,{"$f":"SUMIF(Tableau1[Description article],Tableau1[Produits],Tableau1[Emplacement])","v":0},null,{"$f":"Sheet1!$S2589-Sheet1!$R2589","v":0},"-","-","-",{"$f":"IFERROR(Tableau1[[#This Row],[THEO]]-Tableau1[[#This Row],[Qtt 2éme lot]],\"-\")","v":"-"},"-",{"$f":"IF(Tableau1[[#This Row],[2éme lot]]=\"-\",\"-\",IFERROR(IF(Q2589=\"\",\"-\",INDEX(I:I,MATCH(Q2589,C:C,0)+1)),\"-\"))","v":"-"},"-","-"]
[{"$nulls":15},"-",null,{"$f":"SUMIF(Tableau1[Description article],Tableau1[Produits],Tableau1[Emplacement])","v":0},null,{"$f":"Sheet1!$S2590-Sheet1!$R2590","v":0},"-","-","-",{"$f":"IFERROR(Tableau1[[#This Row],[THEO]]-Tableau1[[#This Row],[Qtt 2éme lot]],\"-\")","v":"-"},"-",{"$f":"IF(Tableau1[[#This Row],[2éme lot]]=\"-\",\"-\",IFERROR(IF(Q2590=\"\",\"-\",INDEX(I:I,MATCH(Q2590,C:C,0)+1)),\"-\"))","v":"-"},"-","-"]
[{"$nulls":15},"-",null,{"$f":"SUMIF(Tableau1[Description article],Tableau1[Produits],Tableau1[Emplacement])","v":0},null,{"$f":"Sheet1!$S2591-Sheet1!$R2591","v":0},"-","-","-",{"$f":"IFERROR(Tableau1[[#This Row],[THEO]]-Tableau1[[#This Row],[Qtt 2éme lot]],\"-\")","v":"-"},"-",{"$f":"IF(Tableau1[[#This Row],[2éme lot]]=\"-\",\"-\",IFERROR(IF(Q2591=\"\",\"-\",INDEX(I:I,MATCH(Q2591,C:C,0)+1)),\"-\"))","v":"-"},"-","-"]
[{"$nulls":15},"-",null,{"$f":"SUMIF(Tableau1[Description article],Tableau1[Produits],Tableau1[Emplacement])","v":0},null,{"$f":"Sheet1!$S2592-Sheet1!$R2592","v":0},"-","-","-",{"$f":"IFERROR(Tableau1[[#This Row],[THEO]]-Tableau1[[#This Row],[Qtt 2éme lot]],\"-\")","v":"-"},"-",{"$f":"IF(Tableau1[[#This Row],[2éme lot]]=\"-\",\"-\",IFERROR(IF(Q2592=\"\",\"-\",INDEX(I:I,MATCH(Q2592,C:C,0)+1)),\"-\"))","v":"-"},"-","-"]
[{"$nulls":15},"-",null,{"$f":"SUMIF(Tableau1[Description article],Tableau1[Produits],Tableau1[Emplacement])","v":0},null,{"$f":"Sheet1!$S2593-Sheet1!$R2593","v":0},"-","-","-",{"$f":"IFERROR(Tableau1[[#This Row],[THEO]]-Tableau1[[#This Row],[Qtt 2éme lot]],\"-\")","v":"-"},"-",{"$f":"IF(Tableau1[[#This Row],[2éme lot]]=\"-\",\"-\",IFERROR(IF(Q2593=\"\",\"-\",INDEX(I:I,MATCH(Q2593,C:C,0)+1)),\"-\"))","v":"-"},"-","-"]
[{"$nulls":15},"-",null,{"$f":"SUMIF(Tableau1[Description article],Tableau1[Produits],Tableau1[Emplacement])","v":0},null,{"$f":"Sheet1!$S2594-Sheet1!$R2594","v":0},"-","-","-",{"$f":"IFERROR(Tableau1[[#This Row],[THEO]]-Tableau1[[#This Row],[Qtt 2éme lot]],\"-\")","v":"-"},"-",{"$f":"IF(Tableau1[[#This Row],[2éme lot]]=\"-\",\"-\",IFERROR(IF(Q2594=\"\",\"-\",INDEX(I:I,MATCH(Q2594,C:C,0)+1)),\"-\"))","v":"-"},"-","-"]
[{"$nulls":15},"-",null,{"$f":"SUMIF(Tableau1[Description article],Tableau1[Produits],Tableau1[Emplacement])","v":0},null,{"$f":"Sheet1!$S2595-Sheet1!$R2595","v":0},"-","-","-",{"$f":"IFERROR(Tableau1[[#This Row],[THEO]]-Tableau1[[#This Row],[Qtt 2éme lot]],\"-\")","v":"-"},"-",{"$f":"IF(Tableau1[[#This Row],[2éme lot]]=\"-\",\"-\",IFERROR(IF(Q2595=\"\",\"-\",INDEX(I:I,MATCH(Q2595,C:C,0)+1)),\"-\"))","v":"-"},"-","-"]
[{"$nulls":15},"-",null,{"$f":"SUMIF(Tableau1[Description article],Tableau1[Produits],Tableau1[Emplacement])","v":0},null,{"$f":"Sheet1!$S2596-Sheet1!$R2596","v":0},"-","-","-",{"$f":"IFERROR(Tableau1[[#This Row],[THEO]]-Tableau1[[#This Row],[Qtt 2éme lot]],\"-\")","v":"-"},"-",{"$f":"IF(Tableau1[[#This Row],[2éme lot]]=\"-\",\"-\",IFERROR(IF(Q2596=\"\",\"-\",INDEX(I:I,MATCH(Q2596,C:C,0)+1)),\"-\"))","v":"-"},"-","-"]
[{"$nulls":15},"-",null,{"$f":"SUMIF(Tableau1[Description article],Tableau1[Produits],Tableau1[Emplacement])","v":0},null,{"$f":"Sheet1!$S2597-Sheet1!$R2597","v":0},"-","-","-",{"$f":"IFERROR(Tableau1[[#This Row],[THEO]]-Tableau1[[#This Row],[Qtt 2éme lot]],\"-\")","v":"-"},"-",{"$f":"IF(Tableau1[[#This Row],[2éme lot]]=\"-\",\"-\",IFERROR(IF(Q2597=\"\",\"-\",INDEX(I:I,MATCH(Q2597,C:C,0)+1)),\"-\"))","v":"-"},"-","-"]
[{"$nulls":15},"-",null,{"$f":"SUMIF(Tableau1[Description article],Tableau1[Produits],Tableau1[Emplacement])","v":0},null,{"$f":"Sheet1!$S2598-Sheet1!$R2598","v":0},"-","-","-",{"$f":"IFERROR(Tableau1[[#This Row],[THEO]]-Tableau1[[#This Row],[Qtt 2éme lot]],\"-\")","v":"-"},"-",{"$f":"IF(Tableau1[[#This Row],[2éme lot]]=\"-\",\"-\",IFERROR(IF(Q2598=\"\",\"-\",INDEX(I:I,MATCH(Q2598,C:C,0)+1)),\"-\"))","v":"-"},"-","-"]
[{"$nulls":15},"-",null,{"$f":"SUMIF(Tableau1[Description article],Tableau1[Produits],Tableau1[Emplacement])","v":0},null,{"$f":"Sheet1!$S2599-Sheet1!$R2599","v":0},"-","-","-",{"$f":"IFERROR(Tableau1[[#This Row],[THEO]]-Tableau1[[#This Row],[Qtt 2éme lot]],\"-\")","v":"-"},"-",{"$f":"IF(Tableau1[[#This Row],[2éme lot]]=\"-\",\"-\",IFERROR(IF(Q2599=\"\",\"-\",INDEX(I:I,MATCH(Q2599,C:C,0)+1)),\"-\"))","v":"-"},"-","-"]
[{"$nulls":15},"-",null,{"$f":"SUMIF(Tableau1[Description article],Tableau1[Produits],Tableau1[Emplacement])","v":0},null,{"$f":"Sheet1!$S2600-Sheet1!$R2600","v":0},"-","-","-",{"$f":"IFERROR(Tableau1[[#This Row],[THEO]]-Tableau1[[#This Row],[Qtt 2éme lot]],\"-\")","v":"-"},"-",{"$f":"IF(Tableau1[[#This Row],[2éme lot]]=\"-\",\"-\",IFERROR(IF(Q2600=\"\",\"-\",INDEX(I:I,MATCH(Q2600,C:C,0)+1)),\"-\"))","v":"-"},"-","-"]
[{"$nulls":15},"-",null,{"$f":"SUMIF(Tableau1[Description article],Tableau1[Produits],Tableau1[Emplacement])","v":0},null,{"$f":"Sheet1!$S2601-Sheet1!$R2601","v":0},"-","-","-",{"$f":"IFERROR(Tableau1[[#This Row],[THEO]]-Tableau1[[#This Row],[Qtt 2éme lot]],\"-\")","v":"-"},"-",{"$f":"IF(Tableau1[[#This Row],[2éme lot]]=\"-\",\"-\",IFERROR(IF(Q2601=\"\",\"-\",INDEX(I:I,MATCH(Q2601,C:C,0)+1)),\"-\"))","v":"-"},"-","-"]
[{"$nulls":15},"-",null,{"$f":"SUMIF(Tableau1[Description article],Tableau1[Produits],Tableau1[Emplacement])","v":0},null,{"$f":"Sheet1!$S2602-Sheet1!$R2602","v":0},"-","-","-",{"$f":"IFERROR(Tableau1[[#This Row],[THEO]]-Tableau1[[#This Row],[Qtt 2éme lot]],\"-\")","v":"-"},"-",{"$f":"IF(Tableau1[[#This Row],[2éme lot]]=\"-\",\"-\",IFERROR(IF(Q2602=\"\",\"-\",INDEX(I:I,MATCH(Q2602,C:C,0)+1)),\"-\"))","v":"-"},"-","-"]
[{"$nulls":15},"-",null,{"$f":"SUMIF(Tableau1[Description article],Tableau1[Produits],Tableau1[Emplacement])","v":0},null,{"$f":"Sheet1!$S2603-Sheet1!$R2603","v":0},"-","-","-",{"$f":"IFERROR(Tableau1[[#This Row],[THEO]]-Tableau1[[#This Row],[Qtt 2éme lot]],\"-\")","v":"-"},"-",{"$f":"IF(Tableau1[[#This Row],[2éme lot]]=\"-\",\"-\",IFERROR(IF(Q2603=\"\",\"-\",INDEX(I:I,MATCH(Q2603,C:C,0)+1)),\"-\"))","v":"-"},"-","-"]
[{"$nulls":15},"-",null,{"$f":"SUMIF(Tableau1[Description article],Tableau1[Produits],Tableau1[Emplacement])","v":0},null,{"$f":"Sheet1!$S2604-Sheet1!$R2604","v":0},"-","-","-",{"$f":"IFERROR(Tableau1[[#This Row],[THEO]]-Tableau1[[#This Row],[Qtt 2éme lot]],\"-\")","v":"-"},"-",{"$f":"IF(Tableau1[[#This Row],[2éme lot]]=\"-\",\"-\",IFERROR(IF(Q2604=\"\",\"-\",INDEX(I:I,MATCH(Q2604,C:C,0)+1)),\"-\"))","v":"-"},"-","-"]
[{"$nulls":15},"-",null,{"$f":"SUMIF(Tableau1[Description article],Tableau1[Produits],Tableau1[Emplacement])","v":0},null,{"$f":"Sheet1!$S2605-Sheet1!$R2605","v":0},"-","-","-",{"$f":"IFERROR(Tableau1[[#This Row],[THEO]]-Tableau1[[#This Row],[Qtt 2éme lot]],\"-\")","v":"-"},"-",{"$f":"IF(Tableau1[[#This Row],[2éme lot]]=\"-\",\"-\",IFERROR(IF(Q2605=\"\",\"-\",INDEX(I:I,MATCH(Q2605,C:C,0)+1)),\"-\"))","v":"-"},"-","-"]
[{"$nulls":15},"-",null,{"$f":"SUMIF(Tableau1[Description article],Tableau1[Produits],Tableau1[Emplacement])","v":0},null,{"$f":"Sheet1!$S2606-Sheet1!$R2606","v":0},"-","-","-",{"$f":"IFERROR(Tableau1[[#This Row],[THEO]]-Tableau1[[#This Row],[Qtt 2éme lot]],\"-\")","v":"-"},"-",{"$f":"IF(Tableau1[[#This Row],[2éme lot]]=\"-\",\"-\",IFERROR(IF(Q2606=\"\",\"-\",INDEX(I:I,MATCH(Q2606,C:C,0)+1)),\"-\"))","v":"-"},"-","-"]
[{"$nulls":15},"-",null,{"$f":"SUMIF(Tableau1[Description article],Tableau1[Produits],Tableau1[Emplacement])","v":0},null,{"$f":"Sheet1!$S2607-Sheet1!$R2607","v":0},"-","-","-",{"$f":"IFERROR(Tableau1[[#This Row],[THEO]]-Tableau1[[#This Row],[Qtt 2éme lot]],\"-\")","v":"-"},"-",{"$f":"IF(Tableau1[[#This Row],[2éme lot]]=\"-\",\"-\",IFERROR(IF(Q2607=\"\",\"-\",INDEX(I:I,MATCH(Q2607,C:C,0)+1)),\"-\"))","v":"-"},"-","-"]
[{"$nulls":15},"-",null,{"$f":"SUMIF(Tableau1[Description article],Tableau1[Produits],Tableau1[Emplacement])","v":0},null,{"$f":"Sheet1!$S2608-Sheet1!$R2608","v":0},"-","-","-",{"$f":"IFERROR(Tableau1[[#This Row],[THEO]]-Tableau1[[#This Row],[Qtt 2éme lot]],\"-\")","v":"-"},"-",{"$f":"IF(Tableau1[[#This Row],[2éme lot]]=\"-\",\"-\",IFERROR(IF(Q2608=\"\",\"-\",INDEX(I:I,MATCH(Q2608,C:C,0)+1)),\"-\"))","v":"-"},"-","-"]
[{"$nulls":15},"-",null,{"$f":"SUMIF(Tableau1[Description article],Tableau1[Produits],Tableau1[Emplacement])","v":0},null,{"$f":"Sheet1!$S2609-Sheet1!$R2609","v":0},"-","-","-",{"$f":"IFERROR(Tableau1[[#This Row],[THEO]]-Tableau1[[#This Row],[Qtt 2éme lot]],\"-\")","v":"-"},"-",{"$f":"IF(Tableau1[[#This Row],[2éme lot]]=\"-\",\"-\",IFERROR(IF(Q2609=\"\",\"-\",INDEX(I:I,MATCH(Q2609,C:C,0)+1)),\"-\"))","v":"-"},"-","-"]
[{"$nulls":15},"-",null,{"$f":"SUMIF(Tableau1[Description article],Tableau1[Produits],Tableau1[Emplacement])","v":0},null,{"$f":"Sheet1!$S2610-Sheet1!$R2610","v":0},"-","-","-",{"$f":"IFERROR(Tableau1[[#This Row],[THEO]]-Tableau1[[#This Row],[Qtt 2éme lot]],\"-\")","v":"-"},"-",{"$f":"IF(Tableau1[[#This Row],[2éme lot]]=\"-\",\"-\",IFERROR(IF(Q2610=\"\",\"-\",INDEX(I:I,MATCH(Q2610,C:C,0)+1)),\"-\"))","v":"-"},"-","-"]
[{"$nulls":15},"-",null,{"$f":"SUMIF(Tableau1[Description article],Tableau1[Produits],Tableau1[Emplacement])","v":0},null,{"$f":"Sheet1!$S2611-Sheet1!$R2611","v":0},"-","-","-",{"$f":"IFERROR(Tableau1[[#This Row],[THEO]]-Tableau1[[#This Row],[Qtt 2éme lot]],\"-\")","v":"-"},"-",{"$f":"IF(Tableau1[[#This Row],[2éme lot]]=\"-\",\"-\",IFERROR(IF(Q2611=\"\",\"-\",INDEX(I:I,MATCH(Q2611,C:C,0)+1)),\"-\"))","v":"-"},"-","-"]
[{"$nulls":15},"-",null,{"$f":"SUMIF(Tableau1[Description article],Tableau1[Produits],Tableau1[Emplacement])","v":0},null,{"$f":"Sheet1!$S2612-Sheet1!$R2612","v":0},"-","-","-",{"$f":"IFERROR(Tableau1[[#This Row],[THEO]]-Tableau1[[#This Row],[Qtt 2éme lot]],\"-\")","v":"-"},"-",{"$f":"IF(Tableau1[[#This Row],[2éme lot]]=\"-\",\"-\",IFERROR(IF(Q2612=\"\",\"-\",INDEX(I:I,MATCH(Q2612,C:C,0)+1)),\"-\"))","v":"-"},"-","-"]
[{"$nulls":15},"-",null,{"$f":"SUMIF(Tableau1[Description article],Tableau1[Produits],Tableau1[Emplacement])","v":0},null,{"$f":"Sheet1!$S2613-Sheet1!$R2613","v":0},"-","-","-",{"$f":"IFERROR(Tableau1[[#This Row],[THEO]]-Tableau1[[#This Row],[Qtt 2éme lot]],\"-\")","v":"-"},"-",{"$f":"IF(Tableau1[[#This Row],[2éme lot]]=\"-\",\"-\",IFERROR(IF(Q2613=\"\",\"-\",INDEX(I:I,MATCH(Q2613,C:C,0)+1)),\"-\"))","v":"-"},"-","-"]
[{"$nulls":15},"-",null,{"$f":"SUMIF(Tableau1[Description article],Tableau1[Produits],Tableau1[Emplacement])","v":0},null,{"$f":"Sheet1!$S2614-Sheet1!$R2614","v":0},"-","-","-",{"$f":"IFERROR(Tableau1[[#This Row],[THEO]]-Tableau1[[#This Row],[Qtt 2éme lot]],\"-\")","v":"-"},"-",{"$f":"IF(Tableau1[[#This Row],[2éme lot]]=\"-\",\"-\",IFERROR(IF(Q2614=\"\",\"-\",INDEX(I:I,MATCH(Q2614,C:C,0)+1)),\"-\"))","v":"-"},"-","-"]
[{"$nulls":15},"-",null,{"$f":"SUMIF(Tableau1[Description article],Tableau1[Produits],Tableau1[Emplacement])","v":0},null,{"$f":"Sheet1!$S2615-Sheet1!$R2615","v":0},"-","-","-",{"$f":"IFERROR(Tableau1[[#This Row],[THEO]]-Tableau1[[#This Row],[Qtt 2éme lot]],\"-\")","v":"-"},"-",{"$f":"IF(Tableau1[[#This Row],[2éme lot]]=\"-\",\"-\",IFERROR(IF(Q2615=\"\",\"-\",INDEX(I:I,MATCH(Q2615,C:C,0)+1)),\"-\"))","v":"-"},"-","-"]
[{"$nulls":15},"-",null,{"$f":"SUMIF(Tableau1[Description article],Tableau1[Produits],Tableau1[Emplacement])","v":0},null,{"$f":"Sheet1!$S2616-Sheet1!$R2616","v":0},"-","-","-",{"$f":"IFERROR(Tableau1[[#This Row],[THEO]]-Tableau1[[#This Row],[Qtt 2éme lot]],\"-\")","v":"-"},"-",{"$f":"IF(Tableau1[[#This Row],[2éme lot]]=\"-\",\"-\",IFERROR(IF(Q2616=\"\",\"-\",INDEX(I:I,MATCH(Q2616,C:C,0)+1)),\"-\"))","v":"-"},"-","-"]
[{"$nulls":15},"-",null,{"$f":"SUMIF(Tableau1[Description article],Tableau1[Produits],Tableau1[Emplacement])","v":0},null,{"$f":"Sheet1!$S2617-Sheet1!$R2617","v":0},"-","-","-",{"$f":"IFERROR(Tableau1[[#This Row],[THEO]]-Tableau1[[#This Row],[Qtt 2éme lot]],\"-\")","v":"-"},"-",{"$f":"IF(Tableau1[[#This Row],[2éme lot]]=\"-\",\"-\",IFERROR(IF(Q2617=\"\",\"-\",INDEX(I:I,MATCH(Q2617,C:C,0)+1)),\"-\"))","v":"-"},"-","-"]
[{"$nulls":15},"-",null,{"$f":"SUMIF(Tableau1[Description article],Tableau1[Produits],Tableau1[Emplacement])","v":0},null,{"$f":"Sheet1!$S2618-Sheet1!$R2618","v":0},"-","-","-",{"$f":"IFERROR(Tableau1[[#This Row],[THEO]]-Tableau1[[#This Row],[Qtt 2éme lot]],\"-\")","v":"-"},"-",{"$f":"IF(Tableau1[[#This Row],[2éme lot]]=\"-\",\"-\",IFERROR(IF(Q2618=\"\",\"-\",INDEX(I:I,MATCH(Q2618,C:C,0)+1)),\"-\"))","v":"-"},"-","-"]
[{"$nulls":15},"-",null,{"$f":"SUMIF(Tableau1[Description article],Tableau1[Produits],Tableau1[Emplacement])","v":0},null,{"$f":"Sheet1!$S2619-Sheet1!$R2619","v":0},"-","-","-",{"$f":"IFERROR(Tableau1[[#This Row],[THEO]]-Tableau1[[#This Row],[Qtt 2éme lot]],\"-\")","v":"-"},"-",{"$f":"IF(Tableau1[[#This Row],[2éme lot]]=\"-\",\"-\",IFERROR(IF(Q2619=\"\",\"-\",INDEX(I:I,MATCH(Q2619,C:C,0)+1)),\"-\"))","v":"-"},"-","-"]
[{"$nulls":15},"-",null,{"$f":"SUMIF(Tableau1[Description article],Tableau1[Produits],Tableau1[Emplacement])","v":0},null,{"$f":"Sheet1!$S2620-Sheet1!$R2620","v":0},"-","-","-",{"$f":"IFERROR(Tableau1[[#This Row],[THEO]]-Tableau1[[#This Row],[Qtt 2éme lot]],\"-\")","v":"-"},"-",{"$f":"IF(Tableau1[[#This Row],[2éme lot]]=\"-\",\"-\",IFERROR(IF(Q2620=\"\",\"-\",INDEX(I:I,MATCH(Q2620,C:C,0)+1)),\"-\"))","v":"-"},"-","-"]
[{"$nulls":15},"-",null,{"$f":"SUMIF(Tableau1[Description article],Tableau1[Produits],Tableau1[Emplacement])","v":0},null,{"$f":"Sheet1!$S2621-Sheet1!$R2621","v":0},"-","-","-",{"$f":"IFERROR(Tableau1[[#This Row],[THEO]]-Tableau1[[#This Row],[Qtt 2éme lot]],\"-\")","v":"-"},"-",{"$f":"IF(Tableau1[[#This Row],[2éme lot]]=\"-\",\"-\",IFERROR(IF(Q2621=\"\",\"-\",INDEX(I:I,MATCH(Q2621,C:C,0)+1)),\"-\"))","v":"-"},"-","-"]
[{"$nulls":15},"-",null,{"$f":"SUMIF(Tableau1[Description article],Tableau1[Produits],Tableau1[Emplacement])","v":0},null,{"$f":"Sheet1!$S2622-Sheet1!$R2622","v":0},"-","-","-",{"$f":"IFERROR(Tableau1[[#This Row],[THEO]]-Tableau1[[#This Row],[Qtt 2éme lot]],\"-\")","v":"-"},"-",{"$f":"IF(Tableau1[[#This Row],[2éme lot]]=\"-\",\"-\",IFERROR(IF(Q2622=\"\",\"-\",INDEX(I:I,MATCH(Q2622,C:C,0)+1)),\"-\"))","v":"-"},"-","-"]
[{"$nulls":15},"-",null,{"$f":"SUMIF(Tableau1[Description article],Tableau1[Produits],Tableau1[Emplacement])","v":0},null,{"$f":"Sheet1!$S2623-Sheet1!$R2623","v":0},"-","-","-",{"$f":"IFERROR(Tableau1[[#This Row],[THEO]]-Tableau1[[#This Row],[Qtt 2éme lot]],\"-\")","v":"-"},"-",{"$f":"IF(Tableau1[[#This Row],[2éme lot]]=\"-\",\"-\",IFERROR(IF(Q2623=\"\",\"-\",INDEX(I:I,MATCH(Q2623,C:C,0)+1)),\"-\"))","v":"-"},"-","-"]
[{"$nulls":15},"-",null,{"$f":"SUMIF(Tableau1[Description article],Tableau1[Produits],Tableau1[Emplacement])","v":0},null,{"$f":"Sheet1!$S2624-Sheet1!$R2624","v":0},"-","-","-",{"$f":"IFERROR(Tableau1[[#This Row],[THEO]]-Tableau1[[#This Row],[Qtt 2éme lot]],\"-\")","v":"-"},"-",{"$f":"IF(Tableau1[[#This Row],[2éme lot]]=\"-\",\"-\",IFERROR(IF(Q2624=\"\",\"-\",INDEX(I:I,MATCH(Q2624,C:C,0)+1)),\"-\"))","v":"-"},"-","-"]
[{"$nulls":15},"-",null,{"$f":"SUMIF(Tableau1[Description article],Tableau1[Produits],Tableau1[Emplacement])","v":0},null,{"$f":"Sheet1!$S2625-Sheet1!$R2625","v":0},"-","-","-",{"$f":"IFERROR(Tableau1[[#This Row],[THEO]]-Tableau1[[#This Row],[Qtt 2éme lot]],\"-\")","v":"-"},"-",{"$f":"IF(Tableau1[[#This Row],[2éme lot]]=\"-\",\"-\",IFERROR(IF(Q2625=\"\",\"-\",INDEX(I:I,MATCH(Q2625,C:C,0)+1)),\"-\"))","v":"-"},"-","-"]
[{"$nulls":15},{"$f":"IFERROR(IF(Q2626=\"\",\"-\",INDEX(I:I,MATCH(Q2626,C:C,0))),\"-\")","v":"-"},null,{"$f":"SUMIF(Tableau1[Description article],Tableau1[Produits],Tableau1[Emplacement])","v":0},null,{"$f":"Sheet1!$S2626-Sheet1!$R2626","v":0},{"$f":"IFERROR(IF(Q2626=\"\",\"-\",INDEX(F:F,MATCH(Q2626,C:C,0))),\"-\")","v":"-"},{"$f":"IFERROR(IF(Q2626=\"\",\"-\",INDEX(E:E,MATCH(Q2626,C:C,0))),\"-\")","v":"-"},{"$f":"IFERROR(IF(Q2626=\"\",\"-\",INDEX(N:N,MATCH(Q2626,C:C,0))),\"-\")","v":"-"},{"$f":"IFERROR(Tableau1[[#This Row],[THEO]]-Tableau1[[#This Row],[Qtt 2éme lot]],\"-\")","v":"-"},{"$f":"IF(IF(Q2626=\"\",\"-\",INDEX(E:E,MATCH(Q2626,C:C,0)))=IF(Q2626=\"\",\"-\",INDEX(E:E,MATCH(Q2626,C:C,1))),\"-\",IF(Q2626=\"\",\"-\",INDEX(E:E,MATCH(Q2626,C:C,1))))","v":"-"},{"$f":"IF(Tableau1[[#This Row],[2éme lot]]=\"-\",\"-\",IFERROR(IF(Q2626=\"\",\"-\",INDEX(I:I,MATCH(Q2626,C:C,0)+1)),\"-\"))","v":"-"},{"$f":"IFERROR(IF(Y2626=\"\",\"-\",INDEX(N:N,MATCH(Y2626,E:E,0))),\"-\")","v":"-"},{"$f":"IFERROR(IF(AA2626=\"\",\"-\",INDEX(H:H,MATCH(Y2626,E:E,0))),\"-\")","v":"-"}]
[{"$nulls":15},"-",null,{"$f":"SUMIF(Tableau1[Description article],Tableau1[Produits],Tableau1[Emplacement])","v":0},null,{"$f":"Sheet1!$S2627-Sheet1!$R2627","v":0},"-","-","-",{"$f":"IFERROR(Tableau1[[#This Row],[THEO]]-Tableau1[[#This Row],[Qtt 2éme lot]],\"-\")","v":"-"},"-",{"$f":"IF(Tableau1[[#This Row],[2éme lot]]=\"-\",\"-\",IFERROR(IF(Q2627=\"\",\"-\",INDEX(I:I,MATCH(Q2627,C:C,0)+1)),\"-\"))","v":"-"},"-","-"]
[{"$nulls":15},"-",null,{"$f":"SUMIF(Tableau1[Description article],Tableau1[Produits],Tableau1[Emplacement])","v":0},null,{"$f":"Sheet1!$S2628-Sheet1!$R2628","v":0},"-","-","-",{"$f":"IFERROR(Tableau1[[#This Row],[THEO]]-Tableau1[[#This Row],[Qtt 2éme lot]],\"-\")","v":"-"},"-",{"$f":"IF(Tableau1[[#This Row],[2éme lot]]=\"-\",\"-\",IFERROR(IF(Q2628=\"\",\"-\",INDEX(I:I,MATCH(Q2628,C:C,0)+1)),\"-\"))","v":"-"},"-","-"]
[{"$nulls":15},"-",null,{"$f":"SUMIF(Tableau1[Description article],Tableau1[Produits],Tableau1[Emplacement])","v":0},null,{"$f":"Sheet1!$S2629-Sheet1!$R2629","v":0},"-","-","-",{"$f":"IFERROR(Tableau1[[#This Row],[THEO]]-Tableau1[[#This Row],[Qtt 2éme lot]],\"-\")","v":"-"},"-",{"$f":"IF(Tableau1[[#This Row],[2éme lot]]=\"-\",\"-\",IFERROR(IF(Q2629=\"\",\"-\",INDEX(I:I,MATCH(Q2629,C:C,0)+1)),\"-\"))","v":"-"},"-","-"]
[{"$nulls":15},"-",null,{"$f":"SUMIF(Tableau1[Description article],Tableau1[Produits],Tableau1[Emplacement])","v":0},null,{"$f":"Sheet1!$S2630-Sheet1!$R2630","v":0},"-","-","-",{"$f":"IFERROR(Tableau1[[#This Row],[THEO]]-Tableau1[[#This Row],[Qtt 2éme lot]],\"-\")","v":"-"},"-",{"$f":"IF(Tableau1[[#This Row],[2éme lot]]=\"-\",\"-\",IFERROR(IF(Q2630=\"\",\"-\",INDEX(I:I,MATCH(Q2630,C:C,0)+1)),\"-\"))","v":"-"},"-","-"]
[{"$nulls":15},"-",null,{"$f":"SUMIF(Tableau1[Description article],Tableau1[Produits],Tableau1[Emplacement])","v":0},null,{"$f":"Sheet1!$S2631-Sheet1!$R2631","v":0},"-","-","-",{"$f":"IFERROR(Tableau1[[#This Row],[THEO]]-Tableau1[[#This Row],[Qtt 2éme lot]],\"-\")","v":"-"},"-",{"$f":"IF(Tableau1[[#This Row],[2éme lot]]=\"-\",\"-\",IFERROR(IF(Q2631=\"\",\"-\",INDEX(I:I,MATCH(Q2631,C:C,0)+1)),\"-\"))","v":"-"},"-","-"]
[{"$nulls":15},"-",null,{"$f":"SUMIF(Tableau1[Description article],Tableau1[Produits],Tableau1[Emplacement])","v":0},null,{"$f":"Sheet1!$S2632-Sheet1!$R2632","v":0},"-","-","-",{"$f":"IFERROR(Tableau1[[#This Row],[THEO]]-Tableau1[[#This Row],[Qtt 2éme lot]],\"-\")","v":"-"},"-",{"$f":"IF(Tableau1[[#This Row],[2éme lot]]=\"-\",\"-\",IFERROR(IF(Q2632=\"\",\"-\",INDEX(I:I,MATCH(Q2632,C:C,0)+1)),\"-\"))","v":"-"},"-","-"]
[{"$nulls":15},"-",null,{"$f":"SUMIF(Tableau1[Description article],Tableau1[Produits],Tableau1[Emplacement])","v":0},null,{"$f":"Sheet1!$S2633-Sheet1!$R2633","v":0},"-","-","-",{"$f":"IFERROR(Tableau1[[#This Row],[THEO]]-Tableau1[[#This Row],[Qtt 2éme lot]],\"-\")","v":"-"},"-",{"$f":"IF(Tableau1[[#This Row],[2éme lot]]=\"-\",\"-\",IFERROR(IF(Q2633=\"\",\"-\",INDEX(I:I,MATCH(Q2633,C:C,0)+1)),\"-\"))","v":"-"},"-","-"]
[{"$nulls":15},"-",null,{"$f":"SUMIF(Tableau1[Description article],Tableau1[Produits],Tableau1[Emplacement])","v":0},null,{"$f":"Sheet1!$S2634-Sheet1!$R2634","v":0},"-","-","-",{"$f":"IFERROR(Tableau1[[#This Row],[THEO]]-Tableau1[[#This Row],[Qtt 2éme lot]],\"-\")","v":"-"},"-",{"$f":"IF(Tableau1[[#This Row],[2éme lot]]=\"-\",\"-\",IFERROR(IF(Q2634=\"\",\"-\",INDEX(I:I,MATCH(Q2634,C:C,0)+1)),\"-\"))","v":"-"},"-","-"]
[{"$nulls":15},"-",null,{"$f":"SUMIF(Tableau1[Description article],Tableau1[Produits],Tableau1[Emplacement])","v":0},null,{"$f":"Sheet1!$S2635-Sheet1!$R2635","v":0},"-","-","-",{"$f":"IFERROR(Tableau1[[#This Row],[THEO]]-Tableau1[[#This Row],[Qtt 2éme lot]],\"-\")","v":"-"},"-",{"$f":"IF(Tableau1[[#This Row],[2éme lot]]=\"-\",\"-\",IFERROR(IF(Q2635=\"\",\"-\",INDEX(I:I,MATCH(Q2635,C:C,0)+1)),\"-\"))","v":"-"},"-","-"]
[{"$nulls":15},"-",null,{"$f":"SUMIF(Tableau1[Description article],Tableau1[Produits],Tableau1[Emplacement])","v":0},null,{"$f":"Sheet1!$S2636-Sheet1!$R2636","v":0},"-","-","-",{"$f":"IFERROR(Tableau1[[#This Row],[THEO]]-Tableau1[[#This Row],[Qtt 2éme lot]],\"-\")","v":"-"},"-",{"$f":"IF(Tableau1[[#This Row],[2éme lot]]=\"-\",\"-\",IFERROR(IF(Q2636=\"\",\"-\",INDEX(I:I,MATCH(Q2636,C:C,0)+1)),\"-\"))","v":"-"},"-","-"]
[{"$nulls":15},"-",null,{"$f":"SUMIF(Tableau1[Description article],Tableau1[Produits],Tableau1[Emplacement])","v":0},null,{"$f":"Sheet1!$S2637-Sheet1!$R2637","v":0},"-","-","-",{"$f":"IFERROR(Tableau1[[#This Row],[THEO]]-Tableau1[[#This Row],[Qtt 2éme lot]],\"-\")","v":"-"},"-",{"$f":"IF(Tableau1[[#This Row],[2éme lot]]=\"-\",\"-\",IFERROR(IF(Q2637=\"\",\"-\",INDEX(I:I,MATCH(Q2637,C:C,0)+1)),\"-\"))","v":"-"},"-","-"]
[{"$nulls":15},"-",null,{"$f":"SUMIF(Tableau1[Description article],Tableau1[Produits],Tableau1[Emplacement])","v":0},null,{"$f":"Sheet1!$S2638-Sheet1!$R2638","v":0},"-","-","-",{"$f":"IFERROR(Tableau1[[#This Row],[THEO]]-Tableau1[[#This Row],[Qtt 2éme lot]],\"-\")","v":"-"},"-",{"$f":"IF(Tableau1[[#This Row],[2éme lot]]=\"-\",\"-\",IFERROR(IF(Q2638=\"\",\"-\",INDEX(I:I,MATCH(Q2638,C:C,0)+1)),\"-\"))","v":"-"},"-","-"]
[{"$nulls":15},"-",null,{"$f":"SUMIF(Tableau1[Description article],Tableau1[Produits],Tableau1[Emplacement])","v":0},null,{"$f":"Sheet1!$S2639-Sheet1!$R2639","v":0},"-","-","-",{"$f":"IFERROR(Tableau1[[#This Row],[THEO]]-Tableau1[[#This Row],[Qtt 2éme lot]],\"-\")","v":"-"},"-",{"$f":"IF(Tableau1[[#This Row],[2éme lot]]=\"-\",\"-\",IFERROR(IF(Q2639=\"\",\"-\",INDEX(I:I,MATCH(Q2639,C:C,0)+1)),\"-\"))","v":"-"},"-","-"]
[{"$nulls":15},"-",null,{"$f":"SUMIF(Tableau1[Description article],Tableau1[Produits],Tableau1[Emplacement])","v":0},null,{"$f":"Sheet1!$S2640-Sheet1!$R2640","v":0},"-","-","-",{"$f":"IFERROR(Tableau1[[#This Row],[THEO]]-Tableau1[[#This Row],[Qtt 2éme lot]],\"-\")","v":"-"},"-",{"$f":"IF(Tableau1[[#This Row],[2éme lot]]=\"-\",\"-\",IFERROR(IF(Q2640=\"\",\"-\",INDEX(I:I,MATCH(Q2640,C:C,0)+1)),\"-\"))","v":"-"},"-","-"]
[{"$nulls":15},"-",null,{"$f":"SUMIF(Tableau1[Description article],Tableau1[Produits],Tableau1[Emplacement])","v":0},null,{"$f":"Sheet1!$S2641-Sheet1!$R2641","v":0},"-","-","-",{"$f":"IFERROR(Tableau1[[#This Row],[THEO]]-Tableau1[[#This Row],[Qtt 2éme lot]],\"-\")","v":"-"},"-",{"$f":"IF(Tableau1[[#This Row],[2éme lot]]=\"-\",\"-\",IFERROR(IF(Q2641=\"\",\"-\",INDEX(I:I,MATCH(Q2641,C:C,0)+1)),\"-\"))","v":"-"},"-","-"]
[{"$nulls":15},"-",null,{"$f":"SUMIF(Tableau1[Description article],Tableau1[Produits],Tableau1[Emplacement])","v":0},null,{"$f":"Sheet1!$S2642-Sheet1!$R2642","v":0},"-","-","-",{"$f":"IFERROR(Tableau1[[#This Row],[THEO]]-Tableau1[[#This Row],[Qtt 2éme lot]],\"-\")","v":"-"},"-",{"$f":"IF(Tableau1[[#This Row],[2éme lot]]=\"-\",\"-\",IFERROR(IF(Q2642=\"\",\"-\",INDEX(I:I,MATCH(Q2642,C:C,0)+1)),\"-\"))","v":"-"},"-","-"]
[{"$nulls":15},"-",null,{"$f":"SUMIF(Tableau1[Description article],Tableau1[Produits],Tableau1[Emplacement])","v":0},null,{"$f":"Sheet1!$S2643-Sheet1!$R2643","v":0},"-","-","-",{"$f":"IFERROR(Tableau1[[#This Row],[THEO]]-Tableau1[[#This Row],[Qtt 2éme lot]],\"-\")","v":"-"},"-",{"$f":"IF(Tableau1[[#This Row],[2éme lot]]=\"-\",\"-\",IFERROR(IF(Q2643=\"\",\"-\",INDEX(I:I,MATCH(Q2643,C:C,0)+1)),\"-\"))","v":"-"},"-","-"]
[{"$nulls":15},"-",null,{"$f":"SUMIF(Tableau1[Description article],Tableau1[Produits],Tableau1[Emplacement])","v":0},null,{"$f":"Sheet1!$S2644-Sheet1!$R2644","v":0},"-","-","-",{"$f":"IFERROR(Tableau1[[#This Row],[THEO]]-Tableau1[[#This Row],[Qtt 2éme lot]],\"-\")","v":"-"},"-",{"$f":"IF(Tableau1[[#This Row],[2éme lot]]=\"-\",\"-\",IFERROR(IF(Q2644=\"\",\"-\",INDEX(I:I,MATCH(Q2644,C:C,0)+1)),\"-\"))","v":"-"},"-","-"]
[{"$nulls":15},"-",null,{"$f":"SUMIF(Tableau1[Description article],Tableau1[Produits],Tableau1[Emplacement])","v":0},null,{"$f":"Sheet1!$S2645-Sheet1!$R2645","v":0},"-","-","-",{"$f":"IFERROR(Tableau1[[#This Row],[THEO]]-Tableau1[[#This Row],[Qtt 2éme lot]],\"-\")","v":"-"},"-",{"$f":"IF(Tableau1[[#This Row],[2éme lot]]=\"-\",\"-\",IFERROR(IF(Q2645=\"\",\"-\",INDEX(I:I,MATCH(Q2645,C:C,0)+1)),\"-\"))","v":"-"},"-","-"]
[{"$nulls":15},"-",null,{"$f":"SUMIF(Tableau1[Description article],Tableau1[Produits],Tableau1[Emplacement])","v":0},null,{"$f":"Sheet1!$S2646-Sheet1!$R2646","v":0},"-","-","-",{"$f":"IFERROR(Tableau1[[#This Row],[THEO]]-Tableau1[[#This Row],[Qtt 2éme lot]],\"-\")","v":"-"},"-",{"$f":"IF(Tableau1[[#This Row],[2éme lot]]=\"-\",\"-\",IFERROR(IF(Q2646=\"\",\"-\",INDEX(I:I,MATCH(Q2646,C:C,0)+1)),\"-\"))","v":"-"},"-","-"]
[{"$nulls":15},"-",null,{"$f":"SUMIF(Tableau1[Description article],Tableau1[Produits],Tableau1[Emplacement])","v":0},null,{"$f":"Sheet1!$S2647-Sheet1!$R2647","v":0},"-","-","-",{"$f":"IFERROR(Tableau1[[#This Row],[THEO]]-Tableau1[[#This Row],[Qtt 2éme lot]],\"-\")","v":"-"},"-",{"$f":"IF(Tableau1[[#This Row],[2éme lot]]=\"-\",\"-\",IFERROR(IF(Q2647=\"\",\"-\",INDEX(I:I,MATCH(Q2647,C:C,0)+1)),\"-\"))","v":"-"},"-","-"]
[{"$nulls":15},"-",null,{"$f":"SUMIF(Tableau1[Description article],Tableau1[Produits],Tableau1[Emplacement])","v":0},null,{"$f":"Sheet1!$S2648-Sheet1!$R2648","v":0},"-","-","-",{"$f":"IFERROR(Tableau1[[#This Row],[THEO]]-Tableau1[[#This Row],[Qtt 2éme lot]],\"-\")","v":"-"},"-",{"$f":"IF(Tableau1[[#This Row],[2éme lot]]=\"-\",\"-\",IFERROR(IF(Q2648=\"\",\"-\",INDEX(I:I,MATCH(Q2648,C:C,0)+1)),\"-\"))","v":"-"},"-","-"]
[{"$nulls":15},"-",null,{"$f":"SUMIF(Tableau1[Description article],Tableau1[Produits],Tableau1[Emplacement])","v":0},null,{"$f":"Sheet1!$S2649-Sheet1!$R2649","v":0},"-","-","-",{"$f":"IFERROR(Tableau1[[#This Row],[THEO]]-Tableau1[[#This Row],[Qtt 2éme lot]],\"-\")","v":"-"},"-",{"$f":"IF(Tableau1[[#This Row],[2éme lot]]=\"-\",\"-\",IFERROR(IF(Q2649=\"\",\"-\",INDEX(I:I,MATCH(Q2649,C:C,0)+1)),\"-\"))","v":"-"},"-","-"]
[{"$nulls":15},"-",null,{"$f":"SUMIF(Tableau1[Description article],Tableau1[Produits],Tableau1[Emplacement])","v":0},null,{"$f":"Sheet1!$S2650-Sheet1!$R2650","v":0},"-","-","-",{"$f":"IFERROR(Tableau1[[#This Row],[THEO]]-Tableau1[[#This Row],[Qtt 2éme lot]],\"-\")","v":"-"},"-",{"$f":"IF(Tableau1[[#This Row],[2éme lot]]=\"-\",\"-\",IFERROR(IF(Q2650=\"\",\"-\",INDEX(I:I,MATCH(Q2650,C:C,0)+1)),\"-\"))","v":"-"},"-","-"]
[{"$nulls":15},"-",null,{"$f":"SUMIF(Tableau1[Description article],Tableau1[Produits],Tableau1[Emplacement])","v":0},null,{"$f":"Sheet1!$S2651-Sheet1!$R2651","v":0},"-","-","-",{"$f":"IFERROR(Tableau1[[#This Row],[THEO]]-Tableau1[[#This Row],[Qtt 2éme lot]],\"-\")","v":"-"},"-",{"$f":"IF(Tableau1[[#This Row],[2éme lot]]=\"-\",\"-\",IFERROR(IF(Q2651=\"\",\"-\",INDEX(I:I,MATCH(Q2651,C:C,0)+1)),\"-\"))","v":"-"},"-","-"]
[{"$nulls":15},"-",null,{"$f":"SUMIF(Tableau1[Description article],Tableau1[Produits],Tableau1[Emplacement])","v":0},null,{"$f":"Sheet1!$S2652-Sheet1!$R2652","v":0},"-","-","-",{"$f":"IFERROR(Tableau1[[#This Row],[THEO]]-Tableau1[[#This Row],[Qtt 2éme lot]],\"-\")","v":"-"},"-",{"$f":"IF(Tableau1[[#This Row],[2éme lot]]=\"-\",\"-\",IFERROR(IF(Q2652=\"\",\"-\",INDEX(I:I,MATCH(Q2652,C:C,0)+1)),\"-\"))","v":"-"},"-","-"]
[{"$nulls":15},"-",null,{"$f":"SUMIF(Tableau1[Description article],Tableau1[Produits],Tableau1[Emplacement])","v":0},null,{"$f":"Sheet1!$S2653-Sheet1!$R2653","v":0},"-","-","-",{"$f":"IFERROR(Tableau1[[#This Row],[THEO]]-Tableau1[[#This Row],[Qtt 2éme lot]],\"-\")","v":"-"},"-",{"$f":"IF(Tableau1[[#This Row],[2éme lot]]=\"-\",\"-\",IFERROR(IF(Q2653=\"\",\"-\",INDEX(I:I,MATCH(Q2653,C:C,0)+1)),\"-\"))","v":"-"},"-","-"]
[{"$nulls":15},"-",null,{"$f":"SUMIF(Tableau1[Description article],Tableau1[Produits],Tableau1[Emplacement])","v":0},null,{"$f":"Sheet1!$S2654-Sheet1!$R2654","v":0},"-","-","-",{"$f":"IFERROR(Tableau1[[#This Row],[THEO]]-Tableau1[[#This Row],[Qtt 2éme lot]],\"-\")","v":"-"},"-",{"$f":"IF(Tableau1[[#This Row],[2éme lot]]=\"-\",\"-\",IFERROR(IF(Q2654=\"\",\"-\",INDEX(I:I,MATCH(Q2654,C:C,0)+1)),\"-\"))","v":"-"},"-","-"]
[{"$nulls":15},"-",null,{"$f":"SUMIF(Tableau1[Description article],Tableau1[Produits],Tableau1[Emplacement])","v":0},null,{"$f":"Sheet1!$S2655-Sheet1!$R2655","v":0},"-","-","-",{"$f":"IFERROR(Tableau1[[#This Row],[THEO]]-Tableau1[[#This Row],[Qtt 2éme lot]],\"-\")","v":"-"},"-",{"$f":"IF(Tableau1[[#This Row],[2éme lot]]=\"-\",\"-\",IFERROR(IF(Q2655=\"\",\"-\",INDEX(I:I,MATCH(Q2655,C:C,0)+1)),\"-\"))","v":"-"},"-","-"]
[{"$nulls":15},"-",null,{"$f":"SUMIF(Tableau1[Description article],Tableau1[Produits],Tableau1[Emplacement])","v":0},null,{"$f":"Sheet1!$S2656-Sheet1!$R2656","v":0},"-","-","-",{"$f":"IFERROR(Tableau1[[#This Row],[THEO]]-Tableau1[[#This Row],[Qtt 2éme lot]],\"-\")","v":"-"},"-",{"$f":"IF(Tableau1[[#This Row],[2éme lot]]=\"-\",\"-\",IFERROR(IF(Q2656=\"\",\"-\",INDEX(I:I,MATCH(Q2656,C:C,0)+1)),\"-\"))","v":"-"},"-","-"]
[{"$nulls":15},"-",null,{"$f":"SUMIF(Tableau1[Description article],Tableau1[Produits],Tableau1[Emplacement])","v":0},null,{"$f":"Sheet1!$S2657-Sheet1!$R2657","v":0},"-","-","-",{"$f":"IFERROR(Tableau1[[#This Row],[THEO]]-Tableau1[[#This Row],[Qtt 2éme lot]],\"-\")","v":"-"},"-",{"$f":"IF(Tableau1[[#This Row],[2éme lot]]=\"-\",\"-\",IFERROR(IF(Q2657=\"\",\"-\",INDEX(I:I,MATCH(Q2657,C:C,0)+1)),\"-\"))","v":"-"},"-","-"]
[{"$nulls":15},"-",null,{"$f":"SUMIF(Tableau1[Description article],Tableau1[Produits],Tableau1[Emplacement])","v":0},null,{"$f":"Sheet1!$S2658-Sheet1!$R2658","v":0},"-","-","-",{"$f":"IFERROR(Tableau1[[#This Row],[THEO]]-Tableau1[[#This Row],[Qtt 2éme lot]],\"-\")","v":"-"},"-",{"$f":"IF(Tableau1[[#This Row],[2éme lot]]=\"-\",\"-\",IFERROR(IF(Q2658=\"\",\"-\",INDEX(I:I,MATCH(Q2658,C:C,0)+1)),\"-\"))","v":"-"},"-","-"]
[{"$nulls":15},"-",null,{"$f":"SUMIF(Tableau1[Description article],Tableau1[Produits],Tableau1[Emplacement])","v":0},null,{"$f":"Sheet1!$S2659-Sheet1!$R2659","v":0},"-","-","-",{"$f":"IFERROR(Tableau1[[#This Row],[THEO]]-Tableau1[[#This Row],[Qtt 2éme lot]],\"-\")","v":"-"},"-",{"$f":"IF(Tableau1[[#This Row],[2éme lot]]=\"-\",\"-\",IFERROR(IF(Q2659=\"\",\"-\",INDEX(I:I,MATCH(Q2659,C:C,0)+1)),\"-\"))","v":"-"},"-","-"]
[{"$nulls":15},"-",null,{"$f":"SUMIF(Tableau1[Description article],Tableau1[Produits],Tableau1[Emplacement])","v":0},null,{"$f":"Sheet1!$S2660-Sheet1!$R2660","v":0},"-","-","-",{"$f":"IFERROR(Tableau1[[#This Row],[THEO]]-Tableau1[[#This Row],[Qtt 2éme lot]],\"-\")","v":"-"},"-",{"$f":"IF(Tableau1[[#This Row],[2éme lot]]=\"-\",\"-\",IFERROR(IF(Q2660=\"\",\"-\",INDEX(I:I,MATCH(Q2660,C:C,0)+1)),\"-\"))","v":"-"},"-","-"]
[{"$nulls":15},"-",null,{"$f":"SUMIF(Tableau1[Description article],Tableau1[Produits],Tableau1[Emplacement])","v":0},null,{"$f":"Sheet1!$S2661-Sheet1!$R2661","v":0},"-","-","-",{"$f":"IFERROR(Tableau1[[#This Row],[THEO]]-Tableau1[[#This Row],[Qtt 2éme lot]],\"-\")","v":"-"},"-",{"$f":"IF(Tableau1[[#This Row],[2éme lot]]=\"-\",\"-\",IFERROR(IF(Q2661=\"\",\"-\",INDEX(I:I,MATCH(Q2661,C:C,0)+1)),\"-\"))","v":"-"},"-","-"]
[{"$nulls":15},"-",null,{"$f":"SUMIF(Tableau1[Description article],Tableau1[Produits],Tableau1[Emplacement])","v":0},null,{"$f":"Sheet1!$S2662-Sheet1!$R2662","v":0},"-","-","-",{"$f":"IFERROR(Tableau1[[#This Row],[THEO]]-Tableau1[[#This Row],[Qtt 2éme lot]],\"-\")","v":"-"},"-",{"$f":"IF(Tableau1[[#This Row],[2éme lot]]=\"-\",\"-\",IFERROR(IF(Q2662=\"\",\"-\",INDEX(I:I,MATCH(Q2662,C:C,0)+1)),\"-\"))","v":"-"},"-","-"]
[{"$nulls":15},"-",null,{"$f":"SUMIF(Tableau1[Description article],Tableau1[Produits],Tableau1[Emplacement])","v":0},null,{"$f":"Sheet1!$S2663-Sheet1!$R2663","v":0},"-","-","-",{"$f":"IFERROR(Tableau1[[#This Row],[THEO]]-Tableau1[[#This Row],[Qtt 2éme lot]],\"-\")","v":"-"},"-",{"$f":"IF(Tableau1[[#This Row],[2éme lot]]=\"-\",\"-\",IFERROR(IF(Q2663=\"\",\"-\",INDEX(I:I,MATCH(Q2663,C:C,0)+1)),\"-\"))","v":"-"},"-","-"]
[{"$nulls":15},"-",null,{"$f":"SUMIF(Tableau1[Description article],Tableau1[Produits],Tableau1[Emplacement])","v":0},null,{"$f":"Sheet1!$S2664-Sheet1!$R2664","v":0},"-","-","-",{"$f":"IFERROR(Tableau1[[#This Row],[THEO]]-Tableau1[[#This Row],[Qtt 2éme lot]],\"-\")","v":"-"},"-",{"$f":"IF(Tableau1[[#This Row],[2éme lot]]=\"-\",\"-\",IFERROR(IF(Q2664=\"\",\"-\",INDEX(I:I,MATCH(Q2664,C:C,0)+1)),\"-\"))","v":"-"},"-","-"]
[{"$nulls":15},"-",null,{"$f":"SUMIF(Tableau1[Description article],Tableau1[Produits],Tableau1[Emplacement])","v":0},null,{"$f":"Sheet1!$S2665-Sheet1!$R2665","v":0},"-","-","-",{"$f":"IFERROR(Tableau1[[#This Row],[THEO]]-Tableau1[[#This Row],[Qtt 2éme lot]],\"-\")","v":"-"},"-",{"$f":"IF(Tableau1[[#This Row],[2éme lot]]=\"-\",\"-\",IFERROR(IF(Q2665=\"\",\"-\",INDEX(I:I,MATCH(Q2665,C:C,0)+1)),\"-\"))","v":"-"},"-","-"]
[{"$nulls":15},"-",null,{"$f":"SUMIF(Tableau1[Description article],Tableau1[Produits],Tableau1[Emplacement])","v":0},null,{"$f":"Sheet1!$S2666-Sheet1!$R2666","v":0},"-","-","-",{"$f":"IFERROR(Tableau1[[#This Row],[THEO]]-Tableau1[[#This Row],[Qtt 2éme lot]],\"-\")","v":"-"},"-",{"$f":"IF(Tableau1[[#This Row],[2éme lot]]=\"-\",\"-\",IFERROR(IF(Q2666=\"\",\"-\",INDEX(I:I,MATCH(Q2666,C:C,0)+1)),\"-\"))","v":"-"},"-","-"]
[{"$nulls":15},"-",null,{"$f":"SUMIF(Tableau1[Description article],Tableau1[Produits],Tableau1[Emplacement])","v":0},null,{"$f":"Sheet1!$S2667-Sheet1!$R2667","v":0},"-","-","-",{"$f":"IFERROR(Tableau1[[#This Row],[THEO]]-Tableau1[[#This Row],[Qtt 2éme lot]],\"-\")","v":"-"},"-",{"$f":"IF(Tableau1[[#This Row],[2éme lot]]=\"-\",\"-\",IFERROR(IF(Q2667=\"\",\"-\",INDEX(I:I,MATCH(Q2667,C:C,0)+1)),\"-\"))","v":"-"},"-","-"]
[{"$nulls":15},"-",null,{"$f":"SUMIF(Tableau1[Description article],Tableau1[Produits],Tableau1[Emplacement])","v":0},null,{"$f":"Sheet1!$S2668-Sheet1!$R2668","v":0},"-","-","-",{"$f":"IFERROR(Tableau1[[#This Row],[THEO]]-Tableau1[[#This Row],[Qtt 2éme lot]],\"-\")","v":"-"},"-",{"$f":"IF(Tableau1[[#This Row],[2éme lot]]=\"-\",\"-\",IFERROR(IF(Q2668=\"\",\"-\",INDEX(I:I,MATCH(Q2668,C:C,0)+1)),\"-\"))","v":"-"},"-","-"]
[{"$nulls":15},"-",null,{"$f":"SUMIF(Tableau1[Description article],Tableau1[Produits],Tableau1[Emplacement])","v":0},null,{"$f":"Sheet1!$S2669-Sheet1!$R2669","v":0},"-","-","-",{"$f":"IFERROR(Tableau1[[#This Row],[THEO]]-Tableau1[[#This Row],[Qtt 2éme lot]],\"-\")","v":"-"},"-",{"$f":"IF(Tableau1[[#This Row],[2éme lot]]=\"-\",\"-\",IFERROR(IF(Q2669=\"\",\"-\",INDEX(I:I,MATCH(Q2669,C:C,0)+1)),\"-\"))","v":"-"},"-","-"]
[{"$nulls":15},"-",null,{"$f":"SUMIF(Tableau1[Description article],Tableau1[Produits],Tableau1[Emplacement])","v":0},null,{"$f":"Sheet1!$S2670-Sheet1!$R2670","v":0},"-","-","-",{"$f":"IFERROR(Tableau1[[#This Row],[THEO]]-Tableau1[[#This Row],[Qtt 2éme lot]],\"-\")","v":"-"},"-",{"$f":"IF(Tableau1[[#This Row],[2éme lot]]=\"-\",\"-\",IFERROR(IF(Q2670=\"\",\"-\",INDEX(I:I,MATCH(Q2670,C:C,0)+1)),\"-\"))","v":"-"},"-","-"]
[{"$nulls":15},"-",null,{"$f":"SUMIF(Tableau1[Description article],Tableau1[Produits],Tableau1[Emplacement])","v":0},null,{"$f":"Sheet1!$S2671-Sheet1!$R2671","v":0},"-","-","-",{"$f":"IFERROR(Tableau1[[#This Row],[THEO]]-Tableau1[[#This Row],[Qtt 2éme lot]],\"-\")","v":"-"},"-",{"$f":"IF(Tableau1[[#This Row],[2éme lot]]=\"-\",\"-\",IFERROR(IF(Q2671=\"\",\"-\",INDEX(I:I,MATCH(Q2671,C:C,0)+1)),\"-\"))","v":"-"},"-","-"]
[{"$nulls":15},"-",null,{"$f":"SUMIF(Tableau1[Description article],Tableau1[Produits],Tableau1[Emplacement])","v":0},null,{"$f":"Sheet1!$S2672-Sheet1!$R2672","v":0},"-","-","-",{"$f":"IFERROR(Tableau1[[#This Row],[THEO]]-Tableau1[[#This Row],[Qtt 2éme lot]],\"-\")","v":"-"},"-",{"$f":"IF(Tableau1[[#This Row],[2éme lot]]=\"-\",\"-\",IFERROR(IF(Q2672=\"\",\"-\",INDEX(I:I,MATCH(Q2672,C:C,0)+1)),\"-\"))","v":"-"},"-","-"]
[{"$nulls":15},"-",null,{"$f":"SUMIF(Tableau1[Description article],Tableau1[Produits],Tableau1[Emplacement])","v":0},null,{"$f":"Sheet1!$S2673-Sheet1!$R2673","v":0},"-","-","-",{"$f":"IFERROR(Tableau1[[#This Row],[THEO]]-Tableau1[[#This Row],[Qtt 2éme lot]],\"-\")","v":"-"},"-",{"$f":"IF(Tableau1[[#This Row],[2éme lot]]=\"-\",\"-\",IFERROR(IF(Q2673=\"\",\"-\",INDEX(I:I,MATCH(Q2673,C:C,0)+1)),\"-\"))","v":"-"},"-","-"]
[{"$nulls":15},"-",null,{"$f":"SUMIF(Tableau1[Description article],Tableau1[Produits],Tableau1[Emplacement])","v":0},null,{"$f":"Sheet1!$S2674-Sheet1!$R2674","v":0},"-","-","-",{"$f":"IFERROR(Tableau1[[#This Row],[THEO]]-Tableau1[[#This Row],[Qtt 2éme lot]],\"-\")","v":"-"},"-",{"$f":"IF(Tableau1[[#This Row],[2éme lot]]=\"-\",\"-\",IFERROR(IF(Q2674=\"\",\"-\",INDEX(I:I,MATCH(Q2674,C:C,0)+1)),\"-\"))","v":"-"},"-","-"]
[{"$nulls":15},"-",null,{"$f":"SUMIF(Tableau1[Description article],Tableau1[Produits],Tableau1[Emplacement])","v":0},null,{"$f":"Sheet1!$S2675-Sheet1!$R2675","v":0},"-","-","-",{"$f":"IFERROR(Tableau1[[#This Row],[THEO]]-Tableau1[[#This Row],[Qtt 2éme lot]],\"-\")","v":"-"},"-",{"$f":"IF(Tableau1[[#This Row],[2éme lot]]=\"-\",\"-\",IFERROR(IF(Q2675=\"\",\"-\",INDEX(I:I,MATCH(Q2675,C:C,0)+1)),\"-\"))","v":"-"},"-","-"]
[{"$nulls":15},"-",null,{"$f":"SUMIF(Tableau1[Description article],Tableau1[Produits],Tableau1[Emplacement])","v":0},null,{"$f":"Sheet1!$S2676-Sheet1!$R2676","v":0},"-","-","-",{"$f":"IFERROR(Tableau1[[#This Row],[THEO]]-Tableau1[[#This Row],[Qtt 2éme lot]],\"-\")","v":"-"},"-",{"$f":"IF(Tableau1[[#This Row],[2éme lot]]=\"-\",\"-\",IFERROR(IF(Q2676=\"\",\"-\",INDEX(I:I,MATCH(Q2676,C:C,0)+1)),\"-\"))","v":"-"},"-","-"]
[{"$nulls":15},"-",null,{"$f":"SUMIF(Tableau1[Description article],Tableau1[Produits],Tableau1[Emplacement])","v":0},null,{"$f":"Sheet1!$S2677-Sheet1!$R2677","v":0},"-","-","-",{"$f":"IFERROR(Tableau1[[#This Row],[THEO]]-Tableau1[[#This Row],[Qtt 2éme lot]],\"-\")","v":"-"},"-",{"$f":"IF(Tableau1[[#This Row],[2éme lot]]=\"-\",\"-\",IFERROR(IF(Q2677=\"\",\"-\",INDEX(I:I,MATCH(Q2677,C:C,0)+1)),\"-\"))","v":"-"},"-","-"]
[{"$nulls":15},"-",null,{"$f":"SUMIF(Tableau1[Description article],Tableau1[Produits],Tableau1[Emplacement])","v":0},null,{"$f":"Sheet1!$S2678-Sheet1!$R2678","v":0},"-","-","-",{"$f":"IFERROR(Tableau1[[#This Row],[THEO]]-Tableau1[[#This Row],[Qtt 2éme lot]],\"-\")","v":"-"},"-",{"$f":"IF(Tableau1[[#This Row],[2éme lot]]=\"-\",\"-\",IFERROR(IF(Q2678=\"\",\"-\",INDEX(I:I,MATCH(Q2678,C:C,0)+1)),\"-\"))","v":"-"},"-","-"]
[{"$nulls":15},"-",null,{"$f":"SUMIF(Tableau1[Description article],Tableau1[Produits],Tableau1[Emplacement])","v":0},null,{"$f":"Sheet1!$S2679-Sheet1!$R2679","v":0},"-","-","-",{"$f":"IFERROR(Tableau1[[#This Row],[THEO]]-Tableau1[[#This Row],[Qtt 2éme lot]],\"-\")","v":"-"},"-",{"$f":"IF(Tableau1[[#This Row],[2éme lot]]=\"-\",\"-\",IFERROR(IF(Q2679=\"\",\"-\",INDEX(I:I,MATCH(Q2679,C:C,0)+1)),\"-\"))","v":"-"},"-","-"]
[{"$nulls":15},"-",null,{"$f":"SUMIF(Tableau1[Description article],Tableau1[Produits],Tableau1[Emplacement])","v":0},null,{"$f":"Sheet1!$S2680-Sheet1!$R2680","v":0},"-","-","-",{"$f":"IFERROR(Tableau1[[#This Row],[THEO]]-Tableau1[[#This Row],[Qtt 2éme lot]],\"-\")","v":"-"},"-",{"$f":"IF(Tableau1[[#This Row],[2éme lot]]=\"-\",\"-\",IFERROR(IF(Q2680=\"\",\"-\",INDEX(I:I,MATCH(Q2680,C:C,0)+1)),\"-\"))","v":"-"},"-","-"]
[{"$nulls":15},"-",null,{"$f":"SUMIF(Tableau1[Description article],Tableau1[Produits],Tableau1[Emplacement])","v":0},null,{"$f":"Sheet1!$S2681-Sheet1!$R2681","v":0},"-","-","-",{"$f":"IFERROR(Tableau1[[#This Row],[THEO]]-Tableau1[[#This Row],[Qtt 2éme lot]],\"-\")","v":"-"},"-",{"$f":"IF(Tableau1[[#This Row],[2éme lot]]=\"-\",\"-\",IFERROR(IF(Q2681=\"\",\"-\",INDEX(I:I,MATCH(Q2681,C:C,0)+1)),\"-\"))","v":"-"},"-","-"]
[{"$nulls":15},"-",null,{"$f":"SUMIF(Tableau1[Description article],Tableau1[Produits],Tableau1[Emplacement])","v":0},null,{"$f":"Sheet1!$S2682-Sheet1!$R2682","v":0},"-","-","-",{"$f":"IFERROR(Tableau1[[#This Row],[THEO]]-Tableau1[[#This Row],[Qtt 2éme lot]],\"-\")","v":"-"},"-",{"$f":"IF(Tableau1[[#This Row],[2éme lot]]=\"-\",\"-\",IFERROR(IF(Q2682=\"\",\"-\",INDEX(I:I,MATCH(Q2682,C:C,0)+1)),\"-\"))","v":"-"},"-","-"]
[{"$nulls":15},"-",null,{"$f":"SUMIF(Tableau1[Description article],Tableau1[Produits],Tableau1[Emplacement])","v":0},null,{"$f":"Sheet1!$S2683-Sheet1!$R2683","v":0},"-","-","-",{"$f":"IFERROR(Tableau1[[#This Row],[THEO]]-Tableau1[[#This Row],[Qtt 2éme lot]],\"-\")","v":"-"},"-",{"$f":"IF(Tableau1[[#This Row],[2éme lot]]=\"-\",\"-\",IFERROR(IF(Q2683=\"\",\"-\",INDEX(I:I,MATCH(Q2683,C:C,0)+1)),\"-\"))","v":"-"},"-","-"]
[{"$nulls":15},"-",null,{"$f":"SUMIF(Tableau1[Description article],Tableau1[Produits],Tableau1[Emplacement])","v":0},null,{"$f":"Sheet1!$S2684-Sheet1!$R2684","v":0},"-","-","-",{"$f":"IFERROR(Tableau1[[#This Row],[THEO]]-Tableau1[[#This Row],[Qtt 2éme lot]],\"-\")","v":"-"},"-",{"$f":"IF(Tableau1[[#This Row],[2éme lot]]=\"-\",\"-\",IFERROR(IF(Q2684=\"\",\"-\",INDEX(I:I,MATCH(Q2684,C:C,0)+1)),\"-\"))","v":"-"},"-","-"]
[{"$nulls":15},"-",null,{"$f":"SUMIF(Tableau1[Description article],Tableau1[Produits],Tableau1[Emplacement])","v":0},null,{"$f":"Sheet1!$S2685-Sheet1!$R2685","v":0},"-","-","-",{"$f":"IFERROR(Tableau1[[#This Row],[THEO]]-Tableau1[[#This Row],[Qtt 2éme lot]],\"-\")","v":"-"},"-",{"$f":"IF(Tableau1[[#This Row],[2éme lot]]=\"-\",\"-\",IFERROR(IF(Q2685=\"\",\"-\",INDEX(I:I,MATCH(Q2685,C:C,0)+1)),\"-\"))","v":"-"},"-","-"]
[{"$nulls":15},"-",null,{"$f":"SUMIF(Tableau1[Description article],Tableau1[Produits],Tableau1[Emplacement])","v":0},null,{"$f":"Sheet1!$S2686-Sheet1!$R2686","v":0},"-","-","-",{"$f":"IFERROR(Tableau1[[#This Row],[THEO]]-Tableau1[[#This Row],[Qtt 2éme lot]],\"-\")","v":"-"},"-",{"$f":"IF(Tableau1[[#This Row],[2éme lot]]=\"-\",\"-\",IFERROR(IF(Q2686=\"\",\"-\",INDEX(I:I,MATCH(Q2686,C:C,0)+1)),\"-\"))","v":"-"},"-","-"]
[{"$nulls":15},"-",null,{"$f":"SUMIF(Tableau1[Description article],Tableau1[Produits],Tableau1[Emplacement])","v":0},null,{"$f":"Sheet1!$S2687-Sheet1!$R2687","v":0},"-","-","-",{"$f":"IFERROR(Tableau1[[#This Row],[THEO]]-Tableau1[[#This Row],[Qtt 2éme lot]],\"-\")","v":"-"},"-",{"$f":"IF(Tableau1[[#This Row],[2éme lot]]=\"-\",\"-\",IFERROR(IF(Q2687=\"\",\"-\",INDEX(I:I,MATCH(Q2687,C:C,0)+1)),\"-\"))","v":"-"},"-","-"]
[{"$nulls":15},"-",null,{"$f":"SUMIF(Tableau1[Description article],Tableau1[Produits],Tableau1[Emplacement])","v":0},null,{"$f":"Sheet1!$S2688-Sheet1!$R2688","v":0},"-","-","-",{"$f":"IFERROR(Tableau1[[#This Row],[THEO]]-Tableau1[[#This Row],[Qtt 2éme lot]],\"-\")","v":"-"},"-",{"$f":"IF(Tableau1[[#This Row],[2éme lot]]=\"-\",\"-\",IFERROR(IF(Q2688=\"\",\"-\",INDEX(I:I,MATCH(Q2688,C:C,0)+1)),\"-\"))","v":"-"},"-","-"]
[{"$nulls":15},"-",null,{"$f":"SUMIF(Tableau1[Description article],Tableau1[Produits],Tableau1[Emplacement])","v":0},null,{"$f":"Sheet1!$S2689-Sheet1!$R2689","v":0},"-","-","-",{"$f":"IFERROR(Tableau1[[#This Row],[THEO]]-Tableau1[[#This Row],[Qtt 2éme lot]],\"-\")","v":"-"},"-",{"$f":"IF(Tableau1[[#This Row],[2éme lot]]=\"-\",\"-\",IFERROR(IF(Q2689=\"\",\"-\",INDEX(I:I,MATCH(Q2689,C:C,0)+1)),\"-\"))","v":"-"},"-","-"]
[{"$nulls":15},{"$f":"IFERROR(IF(Q2690=\"\",\"-\",INDEX(I:I,MATCH(Q2690,C:C,0))),\"-\")","v":"-"},null,{"$f":"SUMIF(Tableau1[Description article],Tableau1[Produits],Tableau1[Emplacement])","v":0},null,{"$f":"Sheet1!$S2690-Sheet1!$R2690","v":0},{"$f":"IFERROR(IF(Q2690=\"\",\"-\",INDEX(F:F,MATCH(Q2690,C:C,0))),\"-\")","v":"-"},{"$f":"IFERROR(IF(Q2690=\"\",\"-\",INDEX(E:E,MATCH(Q2690,C:C,0))),\"-\")","v":"-"},{"$f":"IFERROR(IF(Q2690=\"\",\"-\",INDEX(N:N,MATCH(Q2690,C:C,0))),\"-\")","v":"-"},{"$f":"IFERROR(Tableau1[[#This Row],[THEO]]-Tableau1[[#This Row],[Qtt 2éme lot]],\"-\")","v":"-"},{"$f":"IF(IF(Q2690=\"\",\"-\",INDEX(E:E,MATCH(Q2690,C:C,0)))=IF(Q2690=\"\",\"-\",INDEX(E:E,MATCH(Q2690,C:C,1))),\"-\",IF(Q2690=\"\",\"-\",INDEX(E:E,MATCH(Q2690,C:C,1))))","v":"-"},{"$f":"IF(Tableau1[[#This Row],[2éme lot]]=\"-\",\"-\",IFERROR(IF(Q2690=\"\",\"-\",INDEX(I:I,MATCH(Q2690,C:C,0)+1)),\"-\"))","v":"-"},{"$f":"IFERROR(IF(Y2690=\"\",\"-\",INDEX(N:N,MATCH(Y2690,E:E,0))),\"-\")","v":"-"},{"$f":"IFERROR(IF(AA2690=\"\",\"-\",INDEX(H:H,MATCH(Y2690,E:E,0))),\"-\")","v":"-"}]
[{"$nulls":15},"-",null,{"$f":"SUMIF(Tableau1[Description article],Tableau1[Produits],Tableau1[Emplacement])","v":0},null,{"$f":"Sheet1!$S2691-Sheet1!$R2691","v":0},"-","-","-",{"$f":"IFERROR(Tableau1[[#This Row],[THEO]]-Tableau1[[#This Row],[Qtt 2éme lot]],\"-\")","v":"-"},"-",{"$f":"IF(Tableau1[[#This Row],[2éme lot]]=\"-\",\"-\",IFERROR(IF(Q2691=\"\",\"-\",INDEX(I:I,MATCH(Q2691,C:C,0)+1)),\"-\"))","v":"-"},"-","-"]
[{"$nulls":15},"-",null,{"$f":"SUMIF(Tableau1[Description article],Tableau1[Produits],Tableau1[Emplacement])","v":0},null,{"$f":"Sheet1!$S2692-Sheet1!$R2692","v":0},"-","-","-",{"$f":"IFERROR(Tableau1[[#This Row],[THEO]]-Tableau1[[#This Row],[Qtt 2éme lot]],\"-\")","v":"-"},"-",{"$f":"IF(Tableau1[[#This Row],[2éme lot]]=\"-\",\"-\",IFERROR(IF(Q2692=\"\",\"-\",INDEX(I:I,MATCH(Q2692,C:C,0)+1)),\"-\"))","v":"-"},"-","-"]
[{"$nulls":15},"-",null,{"$f":"SUMIF(Tableau1[Description article],Tableau1[Produits],Tableau1[Emplacement])","v":0},null,{"$f":"Sheet1!$S2693-Sheet1!$R2693","v":0},"-","-","-",{"$f":"IFERROR(Tableau1[[#This Row],[THEO]]-Tableau1[[#This Row],[Qtt 2éme lot]],\"-\")","v":"-"},"-",{"$f":"IF(Tableau1[[#This Row],[2éme lot]]=\"-\",\"-\",IFERROR(IF(Q2693=\"\",\"-\",INDEX(I:I,MATCH(Q2693,C:C,0)+1)),\"-\"))","v":"-"},"-","-"]
[{"$nulls":15},"-",null,{"$f":"SUMIF(Tableau1[Description article],Tableau1[Produits],Tableau1[Emplacement])","v":0},null,{"$f":"Sheet1!$S2694-Sheet1!$R2694","v":0},"-","-","-",{"$f":"IFERROR(Tableau1[[#This Row],[THEO]]-Tableau1[[#This Row],[Qtt 2éme lot]],\"-\")","v":"-"},"-",{"$f":"IF(Tableau1[[#This Row],[2éme lot]]=\"-\",\"-\",IFERROR(IF(Q2694=\"\",\"-\",INDEX(I:I,MATCH(Q2694,C:C,0)+1)),\"-\"))","v":"-"},"-","-"]
[{"$nulls":15},"-",null,{"$f":"SUMIF(Tableau1[Description article],Tableau1[Produits],Tableau1[Emplacement])","v":0},null,{"$f":"Sheet1!$S2695-Sheet1!$R2695","v":0},"-","-","-",{"$f":"IFERROR(Tableau1[[#This Row],[THEO]]-Tableau1[[#This Row],[Qtt 2éme lot]],\"-\")","v":"-"},"-",{"$f":"IF(Tableau1[[#This Row],[2éme lot]]=\"-\",\"-\",IFERROR(IF(Q2695=\"\",\"-\",INDEX(I:I,MATCH(Q2695,C:C,0)+1)),\"-\"))","v":"-"},"-","-"]
[{"$nulls":15},"-",null,{"$f":"SUMIF(Tableau1[Description article],Tableau1[Produits],Tableau1[Emplacement])","v":0},null,{"$f":"Sheet1!$S2696-Sheet1!$R2696","v":0},"-","-","-",{"$f":"IFERROR(Tableau1[[#This Row],[THEO]]-Tableau1[[#This Row],[Qtt 2éme lot]],\"-\")","v":"-"},"-",{"$f":"IF(Tableau1[[#This Row],[2éme lot]]=\"-\",\"-\",IFERROR(IF(Q2696=\"\",\"-\",INDEX(I:I,MATCH(Q2696,C:C,0)+1)),\"-\"))","v":"-"},"-","-"]
[{"$nulls":15},"-",null,{"$f":"SUMIF(Tableau1[Description article],Tableau1[Produits],Tableau1[Emplacement])","v":0},null,{"$f":"Sheet1!$S2697-Sheet1!$R2697","v":0},"-","-","-",{"$f":"IFERROR(Tableau1[[#This Row],[THEO]]-Tableau1[[#This Row],[Qtt 2éme lot]],\"-\")","v":"-"},"-",{"$f":"IF(Tableau1[[#This Row],[2éme lot]]=\"-\",\"-\",IFERROR(IF(Q2697=\"\",\"-\",INDEX(I:I,MATCH(Q2697,C:C,0)+1)),\"-\"))","v":"-"},"-","-"]
[{"$nulls":15},"-",null,{"$f":"SUMIF(Tableau1[Description article],Tableau1[Produits],Tableau1[Emplacement])","v":0},null,{"$f":"Sheet1!$S2698-Sheet1!$R2698","v":0},"-","-","-",{"$f":"IFERROR(Tableau1[[#This Row],[THEO]]-Tableau1[[#This Row],[Qtt 2éme lot]],\"-\")","v":"-"},"-",{"$f":"IF(Tableau1[[#This Row],[2éme lot]]=\"-\",\"-\",IFERROR(IF(Q2698=\"\",\"-\",INDEX(I:I,MATCH(Q2698,C:C,0)+1)),\"-\"))","v":"-"},"-","-"]
[{"$nulls":15},"-",null,{"$f":"SUMIF(Tableau1[Description article],Tableau1[Produits],Tableau1[Emplacement])","v":0},null,{"$f":"Sheet1!$S2699-Sheet1!$R2699","v":0},"-","-","-",{"$f":"IFERROR(Tableau1[[#This Row],[THEO]]-Tableau1[[#This Row],[Qtt 2éme lot]],\"-\")","v":"-"},"-",{"$f":"IF(Tableau1[[#This Row],[2éme lot]]=\"-\",\"-\",IFERROR(IF(Q2699=\"\",\"-\",INDEX(I:I,MATCH(Q2699,C:C,0)+1)),\"-\"))","v":"-"},"-","-"]
[{"$nulls":15},"-",null,{"$f":"SUMIF(Tableau1[Description article],Tableau1[Produits],Tableau1[Emplacement])","v":0},null,{"$f":"Sheet1!$S2700-Sheet1!$R2700","v":0},"-","-","-",{"$f":"IFERROR(Tableau1[[#This Row],[THEO]]-Tableau1[[#This Row],[Qtt 2éme lot]],\"-\")","v":"-"},"-",{"$f":"IF(Tableau1[[#This Row],[2éme lot]]=\"-\",\"-\",IFERROR(IF(Q2700=\"\",\"-\",INDEX(I:I,MATCH(Q2700,C:C,0)+1)),\"-\"))","v":"-"},"-","-"]
[{"$nulls":15},"-",null,{"$f":"SUMIF(Tableau1[Description article],Tableau1[Produits],Tableau1[Emplacement])","v":0},null,{"$f":"Sheet1!$S2701-Sheet1!$R2701","v":0},"-","-","-",{"$f":"IFERROR(Tableau1[[#This Row],[THEO]]-Tableau1[[#This Row],[Qtt 2éme lot]],\"-\")","v":"-"},"-",{"$f":"IF(Tableau1[[#This Row],[2éme lot]]=\"-\",\"-\",IFERROR(IF(Q2701=\"\",\"-\",INDEX(I:I,MATCH(Q2701,C:C,0)+1)),\"-\"))","v":"-"},"-","-"]
[{"$nulls":15},"-",null,{"$f":"SUMIF(Tableau1[Description article],Tableau1[Produits],Tableau1[Emplacement])","v":0},null,{"$f":"Sheet1!$S2702-Sheet1!$R2702","v":0},"-","-","-",{"$f":"IFERROR(Tableau1[[#This Row],[THEO]]-Tableau1[[#This Row],[Qtt 2éme lot]],\"-\")","v":"-"},"-",{"$f":"IF(Tableau1[[#This Row],[2éme lot]]=\"-\",\"-\",IFERROR(IF(Q2702=\"\",\"-\",INDEX(I:I,MATCH(Q2702,C:C,0)+1)),\"-\"))","v":"-"},"-","-"]
[{"$nulls":15},"-",null,{"$f":"SUMIF(Tableau1[Description article],Tableau1[Produits],Tableau1[Emplacement])","v":0},null,{"$f":"Sheet1!$S2703-Sheet1!$R2703","v":0},"-","-","-",{"$f":"IFERROR(Tableau1[[#This Row],[THEO]]-Tableau1[[#This Row],[Qtt 2éme lot]],\"-\")","v":"-"},"-",{"$f":"IF(Tableau1[[#This Row],[2éme lot]]=\"-\",\"-\",IFERROR(IF(Q2703=\"\",\"-\",INDEX(I:I,MATCH(Q2703,C:C,0)+1)),\"-\"))","v":"-"},"-","-"]
[{"$nulls":15},"-",null,{"$f":"SUMIF(Tableau1[Description article],Tableau1[Produits],Tableau1[Emplacement])","v":0},null,{"$f":"Sheet1!$S2704-Sheet1!$R2704","v":0},"-","-","-",{"$f":"IFERROR(Tableau1[[#This Row],[THEO]]-Tableau1[[#This Row],[Qtt 2éme lot]],\"-\")","v":"-"},"-",{"$f":"IF(Tableau1[[#This Row],[2éme lot]]=\"-\",\"-\",IFERROR(IF(Q2704=\"\",\"-\",INDEX(I:I,MATCH(Q2704,C:C,0)+1)),\"-\"))","v":"-"},"-","-"]
[{"$nulls":15},"-",null,{"$f":"SUMIF(Tableau1[Description article],Tableau1[Produits],Tableau1[Emplacement])","v":0},null,{"$f":"Sheet1!$S2705-Sheet1!$R2705","v":0},"-","-","-",{"$f":"IFERROR(Tableau1[[#This Row],[THEO]]-Tableau1[[#This Row],[Qtt 2éme lot]],\"-\")","v":"-"},"-",{"$f":"IF(Tableau1[[#This Row],[2éme lot]]=\"-\",\"-\",IFERROR(IF(Q2705=\"\",\"-\",INDEX(I:I,MATCH(Q2705,C:C,0)+1)),\"-\"))","v":"-"},"-","-"]
[{"$nulls":15},"-",null,{"$f":"SUMIF(Tableau1[Description article],Tableau1[Produits],Tableau1[Emplacement])","v":0},null,{"$f":"Sheet1!$S2706-Sheet1!$R2706","v":0},"-","-","-",{"$f":"IFERROR(Tableau1[[#This Row],[THEO]]-Tableau1[[#This Row],[Qtt 2éme lot]],\"-\")","v":"-"},"-",{"$f":"IF(Tableau1[[#This Row],[2éme lot]]=\"-\",\"-\",IFERROR(IF(Q2706=\"\",\"-\",INDEX(I:I,MATCH(Q2706,C:C,0)+1)),\"-\"))","v":"-"},"-","-"]
[{"$nulls":15},"-",null,{"$f":"SUMIF(Tableau1[Description article],Tableau1[Produits],Tableau1[Emplacement])","v":0},null,{"$f":"Sheet1!$S2707-Sheet1!$R2707","v":0},"-","-","-",{"$f":"IFERROR(Tableau1[[#This Row],[THEO]]-Tableau1[[#This Row],[Qtt 2éme lot]],\"-\")","v":"-"},"-",{"$f":"IF(Tableau1[[#This Row],[2éme lot]]=\"-\",\"-\",IFERROR(IF(Q2707=\"\",\"-\",INDEX(I:I,MATCH(Q2707,C:C,0)+1)),\"-\"))","v":"-"},"-","-"]
[{"$nulls":15},"-",null,{"$f":"SUMIF(Tableau1[Description article],Tableau1[Produits],Tableau1[Emplacement])","v":0},null,{"$f":"Sheet1!$S2708-Sheet1!$R2708","v":0},"-","-","-",{"$f":"IFERROR(Tableau1[[#This Row],[THEO]]-Tableau1[[#This Row],[Qtt 2éme lot]],\"-\")","v":"-"},"-",{"$f":"IF(Tableau1[[#This Row],[2éme lot]]=\"-\",\"-\",IFERROR(IF(Q2708=\"\",\"-\",INDEX(I:I,MATCH(Q2708,C:C,0)+1)),\"-\"))","v":"-"},"-","-"]
[{"$nulls":15},"-",null,{"$f":"SUMIF(Tableau1[Description article],Tableau1[Produits],Tableau1[Emplacement])","v":0},null,{"$f":"Sheet1!$S2709-Sheet1!$R2709","v":0},"-","-","-",{"$f":"IFERROR(Tableau1[[#This Row],[THEO]]-Tableau1[[#This Row],[Qtt 2éme lot]],\"-\")","v":"-"},"-",{"$f":"IF(Tableau1[[#This Row],[2éme lot]]=\"-\",\"-\",IFERROR(IF(Q2709=\"\",\"-\",INDEX(I:I,MATCH(Q2709,C:C,0)+1)),\"-\"))","v":"-"},"-","-"]
[{"$nulls":15},"-",null,{"$f":"SUMIF(Tableau1[Description article],Tableau1[Produits],Tableau1[Emplacement])","v":0},null,{"$f":"Sheet1!$S2710-Sheet1!$R2710","v":0},"-","-","-",{"$f":"IFERROR(Tableau1[[#This Row],[THEO]]-Tableau1[[#This Row],[Qtt 2éme lot]],\"-\")","v":"-"},"-",{"$f":"IF(Tableau1[[#This Row],[2éme lot]]=\"-\",\"-\",IFERROR(IF(Q2710=\"\",\"-\",INDEX(I:I,MATCH(Q2710,C:C,0)+1)),\"-\"))","v":"-"},"-","-"]
[{"$nulls":15},"-",null,{"$f":"SUMIF(Tableau1[Description article],Tableau1[Produits],Tableau1[Emplacement])","v":0},null,{"$f":"Sheet1!$S2711-Sheet1!$R2711","v":0},"-","-","-",{"$f":"IFERROR(Tableau1[[#This Row],[THEO]]-Tableau1[[#This Row],[Qtt 2éme lot]],\"-\")","v":"-"},"-",{"$f":"IF(Tableau1[[#This Row],[2éme lot]]=\"-\",\"-\",IFERROR(IF(Q2711=\"\",\"-\",INDEX(I:I,MATCH(Q2711,C:C,0)+1)),\"-\"))","v":"-"},"-","-"]
[{"$nulls":15},"-",null,{"$f":"SUMIF(Tableau1[Description article],Tableau1[Produits],Tableau1[Emplacement])","v":0},null,{"$f":"Sheet1!$S2712-Sheet1!$R2712","v":0},"-","-","-",{"$f":"IFERROR(Tableau1[[#This Row],[THEO]]-Tableau1[[#This Row],[Qtt 2éme lot]],\"-\")","v":"-"},"-",{"$f":"IF(Tableau1[[#This Row],[2éme lot]]=\"-\",\"-\",IFERROR(IF(Q2712=\"\",\"-\",INDEX(I:I,MATCH(Q2712,C:C,0)+1)),\"-\"))","v":"-"},"-","-"]
[{"$nulls":15},"-",null,{"$f":"SUMIF(Tableau1[Description article],Tableau1[Produits],Tableau1[Emplacement])","v":0},null,{"$f":"Sheet1!$S2713-Sheet1!$R2713","v":0},"-","-","-",{"$f":"IFERROR(Tableau1[[#This Row],[THEO]]-Tableau1[[#This Row],[Qtt 2éme lot]],\"-\")","v":"-"},"-",{"$f":"IF(Tableau1[[#This Row],[2éme lot]]=\"-\",\"-\",IFERROR(IF(Q2713=\"\",\"-\",INDEX(I:I,MATCH(Q2713,C:C,0)+1)),\"-\"))","v":"-"},"-","-"]
[{"$nulls":15},"-",null,{"$f":"SUMIF(Tableau1[Description article],Tableau1[Produits],Tableau1[Emplacement])","v":0},null,{"$f":"Sheet1!$S2714-Sheet1!$R2714","v":0},"-","-","-",{"$f":"IFERROR(Tableau1[[#This Row],[THEO]]-Tableau1[[#This Row],[Qtt 2éme lot]],\"-\")","v":"-"},"-",{"$f":"IF(Tableau1[[#This Row],[2éme lot]]=\"-\",\"-\",IFERROR(IF(Q2714=\"\",\"-\",INDEX(I:I,MATCH(Q2714,C:C,0)+1)),\"-\"))","v":"-"},"-","-"]
[{"$nulls":15},"-",null,{"$f":"SUMIF(Tableau1[Description article],Tableau1[Produits],Tableau1[Emplacement])","v":0},null,{"$f":"Sheet1!$S2715-Sheet1!$R2715","v":0},"-","-","-",{"$f":"IFERROR(Tableau1[[#This Row],[THEO]]-Tableau1[[#This Row],[Qtt 2éme lot]],\"-\")","v":"-"},"-",{"$f":"IF(Tableau1[[#This Row],[2éme lot]]=\"-\",\"-\",IFERROR(IF(Q2715=\"\",\"-\",INDEX(I:I,MATCH(Q2715,C:C,0)+1)),\"-\"))","v":"-"},"-","-"]
[{"$nulls":15},"-",null,{"$f":"SUMIF(Tableau1[Description article],Tableau1[Produits],Tableau1[Emplacement])","v":0},null,{"$f":"Sheet1!$S2716-Sheet1!$R2716","v":0},"-","-","-",{"$f":"IFERROR(Tableau1[[#This Row],[THEO]]-Tableau1[[#This Row],[Qtt 2éme lot]],\"-\")","v":"-"},"-",{"$f":"IF(Tableau1[[#This Row],[2éme lot]]=\"-\",\"-\",IFERROR(IF(Q2716=\"\",\"-\",INDEX(I:I,MATCH(Q2716,C:C,0)+1)),\"-\"))","v":"-"},"-","-"]
[{"$nulls":15},"-",null,{"$f":"SUMIF(Tableau1[Description article],Tableau1[Produits],Tableau1[Emplacement])","v":0},null,{"$f":"Sheet1!$S2717-Sheet1!$R2717","v":0},"-","-","-",{"$f":"IFERROR(Tableau1[[#This Row],[THEO]]-Tableau1[[#This Row],[Qtt 2éme lot]],\"-\")","v":"-"},"-",{"$f":"IF(Tableau1[[#This Row],[2éme lot]]=\"-\",\"-\",IFERROR(IF(Q2717=\"\",\"-\",INDEX(I:I,MATCH(Q2717,C:C,0)+1)),\"-\"))","v":"-"},"-","-"]
[{"$nulls":15},"-",null,{"$f":"SUMIF(Tableau1[Description article],Tableau1[Produits],Tableau1[Emplacement])","v":0},null,{"$f":"Sheet1!$S2718-Sheet1!$R2718","v":0},"-","-","-",{"$f":"IFERROR(Tableau1[[#This Row],[THEO]]-Tableau1[[#This Row],[Qtt 2éme lot]],\"-\")","v":"-"},"-",{"$f":"IF(Tableau1[[#This Row],[2éme lot]]=\"-\",\"-\",IFERROR(IF(Q2718=\"\",\"-\",INDEX(I:I,MATCH(Q2718,C:C,0)+1)),\"-\"))","v":"-"},"-","-"]
[{"$nulls":15},"-",null,{"$f":"SUMIF(Tableau1[Description article],Tableau1[Produits],Tableau1[Emplacement])","v":0},null,{"$f":"Sheet1!$S2719-Sheet1!$R2719","v":0},"-","-","-",{"$f":"IFERROR(Tableau1[[#This Row],[THEO]]-Tableau1[[#This Row],[Qtt 2éme lot]],\"-\")","v":"-"},"-",{"$f":"IF(Tableau1[[#This Row],[2éme lot]]=\"-\",\"-\",IFERROR(IF(Q2719=\"\",\"-\",INDEX(I:I,MATCH(Q2719,C:C,0)+1)),\"-\"))","v":"-"},"-","-"]
[{"$nulls":15},"-",null,{"$f":"SUMIF(Tableau1[Description article],Tableau1[Produits],Tableau1[Emplacement])","v":0},null,{"$f":"Sheet1!$S2720-Sheet1!$R2720","v":0},"-","-","-",{"$f":"IFERROR(Tableau1[[#This Row],[THEO]]-Tableau1[[#This Row],[Qtt 2éme lot]],\"-\")","v":"-"},"-",{"$f":"IF(Tableau1[[#This Row],[2éme lot]]=\"-\",\"-\",IFERROR(IF(Q2720=\"\",\"-\",INDEX(I:I,MATCH(Q2720,C:C,0)+1)),\"-\"))","v":"-"},"-","-"]
[{"$nulls":15},"-",null,{"$f":"SUMIF(Tableau1[Description article],Tableau1[Produits],Tableau1[Emplacement])","v":0},null,{"$f":"Sheet1!$S2721-Sheet1!$R2721","v":0},"-","-","-",{"$f":"IFERROR(Tableau1[[#This Row],[THEO]]-Tableau1[[#This Row],[Qtt 2éme lot]],\"-\")","v":"-"},"-",{"$f":"IF(Tableau1[[#This Row],[2éme lot]]=\"-\",\"-\",IFERROR(IF(Q2721=\"\",\"-\",INDEX(I:I,MATCH(Q2721,C:C,0)+1)),\"-\"))","v":"-"},"-","-"]
[{"$nulls":15},"-",null,{"$f":"SUMIF(Tableau1[Description article],Tableau1[Produits],Tableau1[Emplacement])","v":0},null,{"$f":"Sheet1!$S2722-Sheet1!$R2722","v":0},"-","-","-",{"$f":"IFERROR(Tableau1[[#This Row],[THEO]]-Tableau1[[#This Row],[Qtt 2éme lot]],\"-\")","v":"-"},"-",{"$f":"IF(Tableau1[[#This Row],[2éme lot]]=\"-\",\"-\",IFERROR(IF(Q2722=\"\",\"-\",INDEX(I:I,MATCH(Q2722,C:C,0)+1)),\"-\"))","v":"-"},"-","-"]
[{"$nulls":15},"-",null,{"$f":"SUMIF(Tableau1[Description article],Tableau1[Produits],Tableau1[Emplacement])","v":0},null,{"$f":"Sheet1!$S2723-Sheet1!$R2723","v":0},"-","-","-",{"$f":"IFERROR(Tableau1[[#This Row],[THEO]]-Tableau1[[#This Row],[Qtt 2éme lot]],\"-\")","v":"-"},"-",{"$f":"IF(Tableau1[[#This Row],[2éme lot]]=\"-\",\"-\",IFERROR(IF(Q2723=\"\",\"-\",INDEX(I:I,MATCH(Q2723,C:C,0)+1)),\"-\"))","v":"-"},"-","-"]
[{"$nulls":15},"-",null,{"$f":"SUMIF(Tableau1[Description article],Tableau1[Produits],Tableau1[Emplacement])","v":0},null,{"$f":"Sheet1!$S2724-Sheet1!$R2724","v":0},"-","-","-",{"$f":"IFERROR(Tableau1[[#This Row],[THEO]]-Tableau1[[#This Row],[Qtt 2éme lot]],\"-\")","v":"-"},"-",{"$f":"IF(Tableau1[[#This Row],[2éme lot]]=\"-\",\"-\",IFERROR(IF(Q2724=\"\",\"-\",INDEX(I:I,MATCH(Q2724,C:C,0)+1)),\"-\"))","v":"-"},"-","-"]
[{"$nulls":15},"-",null,{"$f":"SUMIF(Tableau1[Description article],Tableau1[Produits],Tableau1[Emplacement])","v":0},null,{"$f":"Sheet1!$S2725-Sheet1!$R2725","v":0},"-","-","-",{"$f":"IFERROR(Tableau1[[#This Row],[THEO]]-Tableau1[[#This Row],[Qtt 2éme lot]],\"-\")","v":"-"},"-",{"$f":"IF(Tableau1[[#This Row],[2éme lot]]=\"-\",\"-\",IFERROR(IF(Q2725=\"\",\"-\",INDEX(I:I,MATCH(Q2725,C:C,0)+1)),\"-\"))","v":"-"},"-","-"]
[{"$nulls":15},"-",null,{"$f":"SUMIF(Tableau1[Description article],Tableau1[Produits],Tableau1[Emplacement])","v":0},null,{"$f":"Sheet1!$S2726-Sheet1!$R2726","v":0},"-","-","-",{"$f":"IFERROR(Tableau1[[#This Row],[THEO]]-Tableau1[[#This Row],[Qtt 2éme lot]],\"-\")","v":"-"},"-",{"$f":"IF(Tableau1[[#This Row],[2éme lot]]=\"-\",\"-\",IFERROR(IF(Q2726=\"\",\"-\",INDEX(I:I,MATCH(Q2726,C:C,0)+1)),\"-\"))","v":"-"},"-","-"]
[{"$nulls":15},"-",null,{"$f":"SUMIF(Tableau1[Description article],Tableau1[Produits],Tableau1[Emplacement])","v":0},null,{"$f":"Sheet1!$S2727-Sheet1!$R2727","v":0},"-","-","-",{"$f":"IFERROR(Tableau1[[#This Row],[THEO]]-Tableau1[[#This Row],[Qtt 2éme lot]],\"-\")","v":"-"},"-",{"$f":"IF(Tableau1[[#This Row],[2éme lot]]=\"-\",\"-\",IFERROR(IF(Q2727=\"\",\"-\",INDEX(I:I,MATCH(Q2727,C:C,0)+1)),\"-\"))","v":"-"},"-","-"]
[{"$nulls":15},"-",null,{"$f":"SUMIF(Tableau1[Description article],Tableau1[Produits],Tableau1[Emplacement])","v":0},null,{"$f":"Sheet1!$S2728-Sheet1!$R2728","v":0},"-","-","-",{"$f":"IFERROR(Tableau1[[#This Row],[THEO]]-Tableau1[[#This Row],[Qtt 2éme lot]],\"-\")","v":"-"},"-",{"$f":"IF(Tableau1[[#This Row],[2éme lot]]=\"-\",\"-\",IFERROR(IF(Q2728=\"\",\"-\",INDEX(I:I,MATCH(Q2728,C:C,0)+1)),\"-\"))","v":"-"},"-","-"]
[{"$nulls":15},"-",null,{"$f":"SUMIF(Tableau1[Description article],Tableau1[Produits],Tableau1[Emplacement])","v":0},null,{"$f":"Sheet1!$S2729-Sheet1!$R2729","v":0},"-","-","-",{"$f":"IFERROR(Tableau1[[#This Row],[THEO]]-Tableau1[[#This Row],[Qtt 2éme lot]],\"-\")","v":"-"},"-",{"$f":"IF(Tableau1[[#This Row],[2éme lot]]=\"-\",\"-\",IFERROR(IF(Q2729=\"\",\"-\",INDEX(I:I,MATCH(Q2729,C:C,0)+1)),\"-\"))","v":"-"},"-","-"]
[{"$nulls":15},"-",null,{"$f":"SUMIF(Tableau1[Description article],Tableau1[Produits],Tableau1[Emplacement])","v":0},null,{"$f":"Sheet1!$S2730-Sheet1!$R2730","v":0},"-","-","-",{"$f":"IFERROR(Tableau1[[#This Row],[THEO]]-Tableau1[[#This Row],[Qtt 2éme lot]],\"-\")","v":"-"},"-",{"$f":"IF(Tableau1[[#This Row],[2éme lot]]=\"-\",\"-\",IFERROR(IF(Q2730=\"\",\"-\",INDEX(I:I,MATCH(Q2730,C:C,0)+1)),\"-\"))","v":"-"},"-","-"]
[{"$nulls":15},"-",null,{"$f":"SUMIF(Tableau1[Description article],Tableau1[Produits],Tableau1[Emplacement])","v":0},null,{"$f":"Sheet1!$S2731-Sheet1!$R2731","v":0},"-","-","-",{"$f":"IFERROR(Tableau1[[#This Row],[THEO]]-Tableau1[[#This Row],[Qtt 2éme lot]],\"-\")","v":"-"},"-",{"$f":"IF(Tableau1[[#This Row],[2éme lot]]=\"-\",\"-\",IFERROR(IF(Q2731=\"\",\"-\",INDEX(I:I,MATCH(Q2731,C:C,0)+1)),\"-\"))","v":"-"},"-","-"]
[{"$nulls":15},"-",null,{"$f":"SUMIF(Tableau1[Description article],Tableau1[Produits],Tableau1[Emplacement])","v":0},null,{"$f":"Sheet1!$S2732-Sheet1!$R2732","v":0},"-","-","-",{"$f":"IFERROR(Tableau1[[#This Row],[THEO]]-Tableau1[[#This Row],[Qtt 2éme lot]],\"-\")","v":"-"},"-",{"$f":"IF(Tableau1[[#This Row],[2éme lot]]=\"-\",\"-\",IFERROR(IF(Q2732=\"\",\"-\",INDEX(I:I,MATCH(Q2732,C:C,0)+1)),\"-\"))","v":"-"},"-","-"]
[{"$nulls":15},"-",null,{"$f":"SUMIF(Tableau1[Description article],Tableau1[Produits],Tableau1[Emplacement])","v":0},null,{"$f":"Sheet1!$S2733-Sheet1!$R2733","v":0},"-","-","-",{"$f":"IFERROR(Tableau1[[#This Row],[THEO]]-Tableau1[[#This Row],[Qtt 2éme lot]],\"-\")","v":"-"},"-",{"$f":"IF(Tableau1[[#This Row],[2éme lot]]=\"-\",\"-\",IFERROR(IF(Q2733=\"\",\"-\",INDEX(I:I,MATCH(Q2733,C:C,0)+1)),\"-\"))","v":"-"},"-","-"]
[{"$nulls":15},"-",null,{"$f":"SUMIF(Tableau1[Description article],Tableau1[Produits],Tableau1[Emplacement])","v":0},null,{"$f":"Sheet1!$S2734-Sheet1!$R2734","v":0},"-","-","-",{"$f":"IFERROR(Tableau1[[#This Row],[THEO]]-Tableau1[[#This Row],[Qtt 2éme lot]],\"-\")","v":"-"},"-",{"$f":"IF(Tableau1[[#This Row],[2éme lot]]=\"-\",\"-\",IFERROR(IF(Q2734=\"\",\"-\",INDEX(I:I,MATCH(Q2734,C:C,0)+1)),\"-\"))","v":"-"},"-","-"]
[{"$nulls":15},"-",null,{"$f":"SUMIF(Tableau1[Description article],Tableau1[Produits],Tableau1[Emplacement])","v":0},null,{"$f":"Sheet1!$S2735-Sheet1!$R2735","v":0},"-","-","-",{"$f":"IFERROR(Tableau1[[#This Row],[THEO]]-Tableau1[[#This Row],[Qtt 2éme lot]],\"-\")","v":"-"},"-",{"$f":"IF(Tableau1[[#This Row],[2éme lot]]=\"-\",\"-\",IFERROR(IF(Q2735=\"\",\"-\",INDEX(I:I,MATCH(Q2735,C:C,0)+1)),\"-\"))","v":"-"},"-","-"]
[{"$nulls":15},"-",null,{"$f":"SUMIF(Tableau1[Description article],Tableau1[Produits],Tableau1[Emplacement])","v":0},null,{"$f":"Sheet1!$S2736-Sheet1!$R2736","v":0},"-","-","-",{"$f":"IFERROR(Tableau1[[#This Row],[THEO]]-Tableau1[[#This Row],[Qtt 2éme lot]],\"-\")","v":"-"},"-",{"$f":"IF(Tableau1[[#This Row],[2éme lot]]=\"-\",\"-\",IFERROR(IF(Q2736=\"\",\"-\",INDEX(I:I,MATCH(Q2736,C:C,0)+1)),\"-\"))","v":"-"},"-","-"]
[{"$nulls":15},"-",null,{"$f":"SUMIF(Tableau1[Description article],Tableau1[Produits],Tableau1[Emplacement])","v":0},null,{"$f":"Sheet1!$S2737-Sheet1!$R2737","v":0},"-","-","-",{"$f":"IFERROR(Tableau1[[#This Row],[THEO]]-Tableau1[[#This Row],[Qtt 2éme lot]],\"-\")","v":"-"},"-",{"$f":"IF(Tableau1[[#This Row],[2éme lot]]=\"-\",\"-\",IFERROR(IF(Q2737=\"\",\"-\",INDEX(I:I,MATCH(Q2737,C:C,0)+1)),\"-\"))","v":"-"},"-","-"]
[{"$nulls":15},"-",null,{"$f":"SUMIF(Tableau1[Description article],Tableau1[Produits],Tableau1[Emplacement])","v":0},null,{"$f":"Sheet1!$S2738-Sheet1!$R2738","v":0},"-","-","-",{"$f":"IFERROR(Tableau1[[#This Row],[THEO]]-Tableau1[[#This Row],[Qtt 2éme lot]],\"-\")","v":"-"},"-",{"$f":"IF(Tableau1[[#This Row],[2éme lot]]=\"-\",\"-\",IFERROR(IF(Q2738=\"\",\"-\",INDEX(I:I,MATCH(Q2738,C:C,0)+1)),\"-\"))","v":"-"},"-","-"]
[{"$nulls":15},"-",null,{"$f":"SUMIF(Tableau1[Description article],Tableau1[Produits],Tableau1[Emplacement])","v":0},null,{"$f":"Sheet1!$S2739-Sheet1!$R2739","v":0},"-","-","-",{"$f":"IFERROR(Tableau1[[#This Row],[THEO]]-Tableau1[[#This Row],[Qtt 2éme lot]],\"-\")","v":"-"},"-",{"$f":"IF(Tableau1[[#This Row],[2éme lot]]=\"-\",\"-\",IFERROR(IF(Q2739=\"\",\"-\",INDEX(I:I,MATCH(Q2739,C:C,0)+1)),\"-\"))","v":"-"},"-","-"]
[{"$nulls":15},"-",null,{"$f":"SUMIF(Tableau1[Description article],Tableau1[Produits],Tableau1[Emplacement])","v":0},null,{"$f":"Sheet1!$S2740-Sheet1!$R2740","v":0},"-","-","-",{"$f":"IFERROR(Tableau1[[#This Row],[THEO]]-Tableau1[[#This Row],[Qtt 2éme lot]],\"-\")","v":"-"},"-",{"$f":"IF(Tableau1[[#This Row],[2éme lot]]=\"-\",\"-\",IFERROR(IF(Q2740=\"\",\"-\",INDEX(I:I,MATCH(Q2740,C:C,0)+1)),\"-\"))","v":"-"},"-","-"]
[{"$nulls":15},"-",null,{"$f":"SUMIF(Tableau1[Description article],Tableau1[Produits],Tableau1[Emplacement])","v":0},null,{"$f":"Sheet1!$S2741-Sheet1!$R2741","v":0},"-","-","-",{"$f":"IFERROR(Tableau1[[#This Row],[THEO]]-Tableau1[[#This Row],[Qtt 2éme lot]],\"-\")","v":"-"},"-",{"$f":"IF(Tableau1[[#This Row],[2éme lot]]=\"-\",\"-\",IFERROR(IF(Q2741=\"\",\"-\",INDEX(I:I,MATCH(Q2741,C:C,0)+1)),\"-\"))","v":"-"},"-","-"]
[{"$nulls":15},"-",null,{"$f":"SUMIF(Tableau1[Description article],Tableau1[Produits],Tableau1[Emplacement])","v":0},null,{"$f":"Sheet1!$S2742-Sheet1!$R2742","v":0},"-","-","-",{"$f":"IFERROR(Tableau1[[#This Row],[THEO]]-Tableau1[[#This Row],[Qtt 2éme lot]],\"-\")","v":"-"},"-",{"$f":"IF(Tableau1[[#This Row],[2éme lot]]=\"-\",\"-\",IFERROR(IF(Q2742=\"\",\"-\",INDEX(I:I,MATCH(Q2742,C:C,0)+1)),\"-\"))","v":"-"},"-","-"]
[{"$nulls":15},"-",null,{"$f":"SUMIF(Tableau1[Description article],Tableau1[Produits],Tableau1[Emplacement])","v":0},null,{"$f":"Sheet1!$S2743-Sheet1!$R2743","v":0},"-","-","-",{"$f":"IFERROR(Tableau1[[#This Row],[THEO]]-Tableau1[[#This Row],[Qtt 2éme lot]],\"-\")","v":"-"},"-",{"$f":"IF(Tableau1[[#This Row],[2éme lot]]=\"-\",\"-\",IFERROR(IF(Q2743=\"\",\"-\",INDEX(I:I,MATCH(Q2743,C:C,0)+1)),\"-\"))","v":"-"},"-","-"]
[{"$nulls":15},"-",null,{"$f":"SUMIF(Tableau1[Description article],Tableau1[Produits],Tableau1[Emplacement])","v":0},null,{"$f":"Sheet1!$S2744-Sheet1!$R2744","v":0},"-","-","-",{"$f":"IFERROR(Tableau1[[#This Row],[THEO]]-Tableau1[[#This Row],[Qtt 2éme lot]],\"-\")","v":"-"},"-",{"$f":"IF(Tableau1[[#This Row],[2éme lot]]=\"-\",\"-\",IFERROR(IF(Q2744=\"\",\"-\",INDEX(I:I,MATCH(Q2744,C:C,0)+1)),\"-\"))","v":"-"},"-","-"]
[{"$nulls":15},"-",null,{"$f":"SUMIF(Tableau1[Description article],Tableau1[Produits],Tableau1[Emplacement])","v":0},null,{"$f":"Sheet1!$S2745-Sheet1!$R2745","v":0},"-","-","-",{"$f":"IFERROR(Tableau1[[#This Row],[THEO]]-Tableau1[[#This Row],[Qtt 2éme lot]],\"-\")","v":"-"},"-",{"$f":"IF(Tableau1[[#This Row],[2éme lot]]=\"-\",\"-\",IFERROR(IF(Q2745=\"\",\"-\",INDEX(I:I,MATCH(Q2745,C:C,0)+1)),\"-\"))","v":"-"},"-","-"]
[{"$nulls":15},"-",null,{"$f":"SUMIF(Tableau1[Description article],Tableau1[Produits],Tableau1[Emplacement])","v":0},null,{"$f":"Sheet1!$S2746-Sheet1!$R2746","v":0},"-","-","-",{"$f":"IFERROR(Tableau1[[#This Row],[THEO]]-Tableau1[[#This Row],[Qtt 2éme lot]],\"-\")","v":"-"},"-",{"$f":"IF(Tableau1[[#This Row],[2éme lot]]=\"-\",\"-\",IFERROR(IF(Q2746=\"\",\"-\",INDEX(I:I,MATCH(Q2746,C:C,0)+1)),\"-\"))","v":"-"},"-","-"]
[{"$nulls":15},"-",null,{"$f":"SUMIF(Tableau1[Description article],Tableau1[Produits],Tableau1[Emplacement])","v":0},null,{"$f":"Sheet1!$S2747-Sheet1!$R2747","v":0},"-","-","-",{"$f":"IFERROR(Tableau1[[#This Row],[THEO]]-Tableau1[[#This Row],[Qtt 2éme lot]],\"-\")","v":"-"},"-",{"$f":"IF(Tableau1[[#This Row],[2éme lot]]=\"-\",\"-\",IFERROR(IF(Q2747=\"\",\"-\",INDEX(I:I,MATCH(Q2747,C:C,0)+1)),\"-\"))","v":"-"},"-","-"]
[{"$nulls":15},"-",null,{"$f":"SUMIF(Tableau1[Description article],Tableau1[Produits],Tableau1[Emplacement])","v":0},null,{"$f":"Sheet1!$S2748-Sheet1!$R2748","v":0},"-","-","-",{"$f":"IFERROR(Tableau1[[#This Row],[THEO]]-Tableau1[[#This Row],[Qtt 2éme lot]],\"-\")","v":"-"},"-",{"$f":"IF(Tableau1[[#This Row],[2éme lot]]=\"-\",\"-\",IFERROR(IF(Q2748=\"\",\"-\",INDEX(I:I,MATCH(Q2748,C:C,0)+1)),\"-\"))","v":"-"},"-","-"]
[{"$nulls":15},"-",null,{"$f":"SUMIF(Tableau1[Description article],Tableau1[Produits],Tableau1[Emplacement])","v":0},null,{"$f":"Sheet1!$S2749-Sheet1!$R2749","v":0},"-","-","-",{"$f":"IFERROR(Tableau1[[#This Row],[THEO]]-Tableau1[[#This Row],[Qtt 2éme lot]],\"-\")","v":"-"},"-",{"$f":"IF(Tableau1[[#This Row],[2éme lot]]=\"-\",\"-\",IFERROR(IF(Q2749=\"\",\"-\",INDEX(I:I,MATCH(Q2749,C:C,0)+1)),\"-\"))","v":"-"},"-","-"]
[{"$nulls":15},"-",null,{"$f":"SUMIF(Tableau1[Description article],Tableau1[Produits],Tableau1[Emplacement])","v":0},null,{"$f":"Sheet1!$S2750-Sheet1!$R2750","v":0},"-","-","-",{"$f":"IFERROR(Tableau1[[#This Row],[THEO]]-Tableau1[[#This Row],[Qtt 2éme lot]],\"-\")","v":"-"},"-",{"$f":"IF(Tableau1[[#This Row],[2éme lot]]=\"-\",\"-\",IFERROR(IF(Q2750=\"\",\"-\",INDEX(I:I,MATCH(Q2750,C:C,0)+1)),\"-\"))","v":"-"},"-","-"]
[{"$nulls":15},"-",null,{"$f":"SUMIF(Tableau1[Description article],Tableau1[Produits],Tableau1[Emplacement])","v":0},null,{"$f":"Sheet1!$S2751-Sheet1!$R2751","v":0},"-","-","-",{"$f":"IFERROR(Tableau1[[#This Row],[THEO]]-Tableau1[[#This Row],[Qtt 2éme lot]],\"-\")","v":"-"},"-",{"$f":"IF(Tableau1[[#This Row],[2éme lot]]=\"-\",\"-\",IFERROR(IF(Q2751=\"\",\"-\",INDEX(I:I,MATCH(Q2751,C:C,0)+1)),\"-\"))","v":"-"},"-","-"]
[{"$nulls":15},"-",null,{"$f":"SUMIF(Tableau1[Description article],Tableau1[Produits],Tableau1[Emplacement])","v":0},null,{"$f":"Sheet1!$S2752-Sheet1!$R2752","v":0},"-","-","-",{"$f":"IFERROR(Tableau1[[#This Row],[THEO]]-Tableau1[[#This Row],[Qtt 2éme lot]],\"-\")","v":"-"},"-",{"$f":"IF(Tableau1[[#This Row],[2éme lot]]=\"-\",\"-\",IFERROR(IF(Q2752=\"\",\"-\",INDEX(I:I,MATCH(Q2752,C:C,0)+1)),\"-\"))","v":"-"},"-","-"]
[{"$nulls":15},"-",null,{"$f":"SUMIF(Tableau1[Description article],Tableau1[Produits],Tableau1[Emplacement])","v":0},null,{"$f":"Sheet1!$S2753-Sheet1!$R2753","v":0},"-","-","-",{"$f":"IFERROR(Tableau1[[#This Row],[THEO]]-Tableau1[[#This Row],[Qtt 2éme lot]],\"-\")","v":"-"},"-",{"$f":"IF(Tableau1[[#This Row],[2éme lot]]=\"-\",\"-\",IFERROR(IF(Q2753=\"\",\"-\",INDEX(I:I,MATCH(Q2753,C:C,0)+1)),\"-\"))","v":"-"},"-","-"]
[{"$nulls":15},{"$f":"IFERROR(IF(Q2754=\"\",\"-\",INDEX(I:I,MATCH(Q2754,C:C,0))),\"-\")","v":"-"},null,{"$f":"SUMIF(Tableau1[Description article],Tableau1[Produits],Tableau1[Emplacement])","v":0},null,{"$f":"Sheet1!$S2754-Sheet1!$R2754","v":0},{"$f":"IFERROR(IF(Q2754=\"\",\"-\",INDEX(F:F,MATCH(Q2754,C:C,0))),\"-\")","v":"-"},{"$f":"IFERROR(IF(Q2754=\"\",\"-\",INDEX(E:E,MATCH(Q2754,C:C,0))),\"-\")","v":"-"},{"$f":"IFERROR(IF(Q2754=\"\",\"-\",INDEX(N:N,MATCH(Q2754,C:C,0))),\"-\")","v":"-"},{"$f":"IFERROR(Tableau1[[#This Row],[THEO]]-Tableau1[[#This Row],[Qtt 2éme lot]],\"-\")","v":"-"},{"$f":"IF(IF(Q2754=\"\",\"-\",INDEX(E:E,MATCH(Q2754,C:C,0)))=IF(Q2754=\"\",\"-\",INDEX(E:E,MATCH(Q2754,C:C,1))),\"-\",IF(Q2754=\"\",\"-\",INDEX(E:E,MATCH(Q2754,C:C,1))))","v":"-"},{"$f":"IF(Tableau1[[#This Row],[2éme lot]]=\"-\",\"-\",IFERROR(IF(Q2754=\"\",\"-\",INDEX(I:I,MATCH(Q2754,C:C,0)+1)),\"-\"))","v":"-"},{"$f":"IFERROR(IF(Y2754=\"\",\"-\",INDEX(N:N,MATCH(Y2754,E:E,0))),\"-\")","v":"-"},{"$f":"IFERROR(IF(AA2754=\"\",\"-\",INDEX(H:H,MATCH(Y2754,E:E,0))),\"-\")","v":"-"}]
[{"$nulls":15},"-",null,{"$f":"SUMIF(Tableau1[Description article],Tableau1[Produits],Tableau1[Emplacement])","v":0},null,{"$f":"Sheet1!$S2755-Sheet1!$R2755","v":0},"-","-","-",{"$f":"IFERROR(Tableau1[[#This Row],[THEO]]-Tableau1[[#This Row],[Qtt 2éme lot]],\"-\")","v":"-"},"-",{"$f":"IF(Tableau1[[#This Row],[2éme lot]]=\"-\",\"-\",IFERROR(IF(Q2755=\"\",\"-\",INDEX(I:I,MATCH(Q2755,C:C,0)+1)),\"-\"))","v":"-"},"-","-"]
[{"$nulls":15},"-",null,{"$f":"SUMIF(Tableau1[Description article],Tableau1[Produits],Tableau1[Emplacement])","v":0},null,{"$f":"Sheet1!$S2756-Sheet1!$R2756","v":0},"-","-","-",{"$f":"IFERROR(Tableau1[[#This Row],[THEO]]-Tableau1[[#This Row],[Qtt 2éme lot]],\"-\")","v":"-"},"-",{"$f":"IF(Tableau1[[#This Row],[2éme lot]]=\"-\",\"-\",IFERROR(IF(Q2756=\"\",\"-\",INDEX(I:I,MATCH(Q2756,C:C,0)+1)),\"-\"))","v":"-"},"-","-"]
[{"$nulls":15},"-",null,{"$f":"SUMIF(Tableau1[Description article],Tableau1[Produits],Tableau1[Emplacement])","v":0},null,{"$f":"Sheet1!$S2757-Sheet1!$R2757","v":0},"-","-","-",{"$f":"IFERROR(Tableau1[[#This Row],[THEO]]-Tableau1[[#This Row],[Qtt 2éme lot]],\"-\")","v":"-"},"-",{"$f":"IF(Tableau1[[#This Row],[2éme lot]]=\"-\",\"-\",IFERROR(IF(Q2757=\"\",\"-\",INDEX(I:I,MATCH(Q2757,C:C,0)+1)),\"-\"))","v":"-"},"-","-"]
[{"$nulls":15},"-",null,{"$f":"SUMIF(Tableau1[Description article],Tableau1[Produits],Tableau1[Emplacement])","v":0},null,{"$f":"Sheet1!$S2758-Sheet1!$R2758","v":0},"-","-","-",{"$f":"IFERROR(Tableau1[[#This Row],[THEO]]-Tableau1[[#This Row],[Qtt 2éme lot]],\"-\")","v":"-"},"-",{"$f":"IF(Tableau1[[#This Row],[2éme lot]]=\"-\",\"-\",IFERROR(IF(Q2758=\"\",\"-\",INDEX(I:I,MATCH(Q2758,C:C,0)+1)),\"-\"))","v":"-"},"-","-"]
[{"$nulls":15},"-",null,{"$f":"SUMIF(Tableau1[Description article],Tableau1[Produits],Tableau1[Emplacement])","v":0},null,{"$f":"Sheet1!$S2759-Sheet1!$R2759","v":0},"-","-","-",{"$f":"IFERROR(Tableau1[[#This Row],[THEO]]-Tableau1[[#This Row],[Qtt 2éme lot]],\"-\")","v":"-"},"-",{"$f":"IF(Tableau1[[#This Row],[2éme lot]]=\"-\",\"-\",IFERROR(IF(Q2759=\"\",\"-\",INDEX(I:I,MATCH(Q2759,C:C,0)+1)),\"-\"))","v":"-"},"-","-"]
[{"$nulls":15},"-",null,{"$f":"SUMIF(Tableau1[Description article],Tableau1[Produits],Tableau1[Emplacement])","v":0},null,{"$f":"Sheet1!$S2760-Sheet1!$R2760","v":0},"-","-","-",{"$f":"IFERROR(Tableau1[[#This Row],[THEO]]-Tableau1[[#This Row],[Qtt 2éme lot]],\"-\")","v":"-"},"-",{"$f":"IF(Tableau1[[#This Row],[2éme lot]]=\"-\",\"-\",IFERROR(IF(Q2760=\"\",\"-\",INDEX(I:I,MATCH(Q2760,C:C,0)+1)),\"-\"))","v":"-"},"-","-"]
[{"$nulls":15},"-",null,{"$f":"SUMIF(Tableau1[Description article],Tableau1[Produits],Tableau1[Emplacement])","v":0},null,{"$f":"Sheet1!$S2761-Sheet1!$R2761","v":0},"-","-","-",{"$f":"IFERROR(Tableau1[[#This Row],[THEO]]-Tableau1[[#This Row],[Qtt 2éme lot]],\"-\")","v":"-"},"-",{"$f":"IF(Tableau1[[#This Row],[2éme lot]]=\"-\",\"-\",IFERROR(IF(Q2761=\"\",\"-\",INDEX(I:I,MATCH(Q2761,C:C,0)+1)),\"-\"))","v":"-"},"-","-"]
[{"$nulls":15},"-",null,{"$f":"SUMIF(Tableau1[Description article],Tableau1[Produits],Tableau1[Emplacement])","v":0},null,{"$f":"Sheet1!$S2762-Sheet1!$R2762","v":0},"-","-","-",{"$f":"IFERROR(Tableau1[[#This Row],[THEO]]-Tableau1[[#This Row],[Qtt 2éme lot]],\"-\")","v":"-"},"-",{"$f":"IF(Tableau1[[#This Row],[2éme lot]]=\"-\",\"-\",IFERROR(IF(Q2762=\"\",\"-\",INDEX(I:I,MATCH(Q2762,C:C,0)+1)),\"-\"))","v":"-"},"-","-"]
[{"$nulls":15},"-",null,{"$f":"SUMIF(Tableau1[Description article],Tableau1[Produits],Tableau1[Emplacement])","v":0},null,{"$f":"Sheet1!$S2763-Sheet1!$R2763","v":0},"-","-","-",{"$f":"IFERROR(Tableau1[[#This Row],[THEO]]-Tableau1[[#This Row],[Qtt 2éme lot]],\"-\")","v":"-"},"-",{"$f":"IF(Tableau1[[#This Row],[2éme lot]]=\"-\",\"-\",IFERROR(IF(Q2763=\"\",\"-\",INDEX(I:I,MATCH(Q2763,C:C,0)+1)),\"-\"))","v":"-"},"-","-"]
[{"$nulls":15},"-",null,{"$f":"SUMIF(Tableau1[Description article],Tableau1[Produits],Tableau1[Emplacement])","v":0},null,{"$f":"Sheet1!$S2764-Sheet1!$R2764","v":0},"-","-","-",{"$f":"IFERROR(Tableau1[[#This Row],[THEO]]-Tableau1[[#This Row],[Qtt 2éme lot]],\"-\")","v":"-"},"-",{"$f":"IF(Tableau1[[#This Row],[2éme lot]]=\"-\",\"-\",IFERROR(IF(Q2764=\"\",\"-\",INDEX(I:I,MATCH(Q2764,C:C,0)+1)),\"-\"))","v":"-"},"-","-"]
[{"$nulls":15},"-",null,{"$f":"SUMIF(Tableau1[Description article],Tableau1[Produits],Tableau1[Emplacement])","v":0},null,{"$f":"Sheet1!$S2765-Sheet1!$R2765","v":0},"-","-","-",{"$f":"IFERROR(Tableau1[[#This Row],[THEO]]-Tableau1[[#This Row],[Qtt 2éme lot]],\"-\")","v":"-"},"-",{"$f":"IF(Tableau1[[#This Row],[2éme lot]]=\"-\",\"-\",IFERROR(IF(Q2765=\"\",\"-\",INDEX(I:I,MATCH(Q2765,C:C,0)+1)),\"-\"))","v":"-"},"-","-"]
[{"$nulls":15},"-",null,{"$f":"SUMIF(Tableau1[Description article],Tableau1[Produits],Tableau1[Emplacement])","v":0},null,{"$f":"Sheet1!$S2766-Sheet1!$R2766","v":0},"-","-","-",{"$f":"IFERROR(Tableau1[[#This Row],[THEO]]-Tableau1[[#This Row],[Qtt 2éme lot]],\"-\")","v":"-"},"-",{"$f":"IF(Tableau1[[#This Row],[2éme lot]]=\"-\",\"-\",IFERROR(IF(Q2766=\"\",\"-\",INDEX(I:I,MATCH(Q2766,C:C,0)+1)),\"-\"))","v":"-"},"-","-"]
[{"$nulls":15},"-",null,{"$f":"SUMIF(Tableau1[Description article],Tableau1[Produits],Tableau1[Emplacement])","v":0},null,{"$f":"Sheet1!$S2767-Sheet1!$R2767","v":0},"-","-","-",{"$f":"IFERROR(Tableau1[[#This Row],[THEO]]-Tableau1[[#This Row],[Qtt 2éme lot]],\"-\")","v":"-"},"-",{"$f":"IF(Tableau1[[#This Row],[2éme lot]]=\"-\",\"-\",IFERROR(IF(Q2767=\"\",\"-\",INDEX(I:I,MATCH(Q2767,C:C,0)+1)),\"-\"))","v":"-"},"-","-"]
[{"$nulls":15},"-",null,{"$f":"SUMIF(Tableau1[Description article],Tableau1[Produits],Tableau1[Emplacement])","v":0},null,{"$f":"Sheet1!$S2768-Sheet1!$R2768","v":0},"-","-","-",{"$f":"IFERROR(Tableau1[[#This Row],[THEO]]-Tableau1[[#This Row],[Qtt 2éme lot]],\"-\")","v":"-"},"-",{"$f":"IF(Tableau1[[#This Row],[2éme lot]]=\"-\",\"-\",IFERROR(IF(Q2768=\"\",\"-\",INDEX(I:I,MATCH(Q2768,C:C,0)+1)),\"-\"))","v":"-"},"-","-"]
[{"$nulls":15},"-",null,{"$f":"SUMIF(Tableau1[Description article],Tableau1[Produits],Tableau1[Emplacement])","v":0},null,{"$f":"Sheet1!$S2769-Sheet1!$R2769","v":0},"-","-","-",{"$f":"IFERROR(Tableau1[[#This Row],[THEO]]-Tableau1[[#This Row],[Qtt 2éme lot]],\"-\")","v":"-"},"-",{"$f":"IF(Tableau1[[#This Row],[2éme lot]]=\"-\",\"-\",IFERROR(IF(Q2769=\"\",\"-\",INDEX(I:I,MATCH(Q2769,C:C,0)+1)),\"-\"))","v":"-"},"-","-"]
[{"$nulls":15},"-",null,{"$f":"SUMIF(Tableau1[Description article],Tableau1[Produits],Tableau1[Emplacement])","v":0},null,{"$f":"Sheet1!$S2770-Sheet1!$R2770","v":0},"-","-","-",{"$f":"IFERROR(Tableau1[[#This Row],[THEO]]-Tableau1[[#This Row],[Qtt 2éme lot]],\"-\")","v":"-"},"-",{"$f":"IF(Tableau1[[#This Row],[2éme lot]]=\"-\",\"-\",IFERROR(IF(Q2770=\"\",\"-\",INDEX(I:I,MATCH(Q2770,C:C,0)+1)),\"-\"))","v":"-"},"-","-"]
[{"$nulls":15},"-",null,{"$f":"SUMIF(Tableau1[Description article],Tableau1[Produits],Tableau1[Emplacement])","v":0},null,{"$f":"Sheet1!$S2771-Sheet1!$R2771","v":0},"-","-","-",{"$f":"IFERROR(Tableau1[[#This Row],[THEO]]-Tableau1[[#This Row],[Qtt 2éme lot]],\"-\")","v":"-"},"-",{"$f":"IF(Tableau1[[#This Row],[2éme lot]]=\"-\",\"-\",IFERROR(IF(Q2771=\"\",\"-\",INDEX(I:I,MATCH(Q2771,C:C,0)+1)),\"-\"))","v":"-"},"-","-"]
[{"$nulls":15},"-",null,{"$f":"SUMIF(Tableau1[Description article],Tableau1[Produits],Tableau1[Emplacement])","v":0},null,{"$f":"Sheet1!$S2772-Sheet1!$R2772","v":0},"-","-","-",{"$f":"IFERROR(Tableau1[[#This Row],[THEO]]-Tableau1[[#This Row],[Qtt 2éme lot]],\"-\")","v":"-"},"-",{"$f":"IF(Tableau1[[#This Row],[2éme lot]]=\"-\",\"-\",IFERROR(IF(Q2772=\"\",\"-\",INDEX(I:I,MATCH(Q2772,C:C,0)+1)),\"-\"))","v":"-"},"-","-"]
[{"$nulls":15},"-",null,{"$f":"SUMIF(Tableau1[Description article],Tableau1[Produits],Tableau1[Emplacement])","v":0},null,{"$f":"Sheet1!$S2773-Sheet1!$R2773","v":0},"-","-","-",{"$f":"IFERROR(Tableau1[[#This Row],[THEO]]-Tableau1[[#This Row],[Qtt 2éme lot]],\"-\")","v":"-"},"-",{"$f":"IF(Tableau1[[#This Row],[2éme lot]]=\"-\",\"-\",IFERROR(IF(Q2773=\"\",\"-\",INDEX(I:I,MATCH(Q2773,C:C,0)+1)),\"-\"))","v":"-"},"-","-"]
[{"$nulls":15},"-",null,{"$f":"SUMIF(Tableau1[Description article],Tableau1[Produits],Tableau1[Emplacement])","v":0},null,{"$f":"Sheet1!$S2774-Sheet1!$R2774","v":0},"-","-","-",{"$f":"IFERROR(Tableau1[[#This Row],[THEO]]-Tableau1[[#This Row],[Qtt 2éme lot]],\"-\")","v":"-"},"-",{"$f":"IF(Tableau1[[#This Row],[2éme lot]]=\"-\",\"-\",IFERROR(IF(Q2774=\"\",\"-\",INDEX(I:I,MATCH(Q2774,C:C,0)+1)),\"-\"))","v":"-"},"-","-"]
[{"$nulls":15},"-",null,{"$f":"SUMIF(Tableau1[Description article],Tableau1[Produits],Tableau1[Emplacement])","v":0},null,{"$f":"Sheet1!$S2775-Sheet1!$R2775","v":0},"-","-","-",{"$f":"IFERROR(Tableau1[[#This Row],[THEO]]-Tableau1[[#This Row],[Qtt 2éme lot]],\"-\")","v":"-"},"-",{"$f":"IF(Tableau1[[#This Row],[2éme lot]]=\"-\",\"-\",IFERROR(IF(Q2775=\"\",\"-\",INDEX(I:I,MATCH(Q2775,C:C,0)+1)),\"-\"))","v":"-"},"-","-"]
[{"$nulls":15},"-",null,{"$f":"SUMIF(Tableau1[Description article],Tableau1[Produits],Tableau1[Emplacement])","v":0},null,{"$f":"Sheet1!$S2776-Sheet1!$R2776","v":0},"-","-","-",{"$f":"IFERROR(Tableau1[[#This Row],[THEO]]-Tableau1[[#This Row],[Qtt 2éme lot]],\"-\")","v":"-"},"-",{"$f":"IF(Tableau1[[#This Row],[2éme lot]]=\"-\",\"-\",IFERROR(IF(Q2776=\"\",\"-\",INDEX(I:I,MATCH(Q2776,C:C,0)+1)),\"-\"))","v":"-"},"-","-"]
[{"$nulls":15},"-",null,{"$f":"SUMIF(Tableau1[Description article],Tableau1[Produits],Tableau1[Emplacement])","v":0},null,{"$f":"Sheet1!$S2777-Sheet1!$R2777","v":0},"-","-","-",{"$f":"IFERROR(Tableau1[[#This Row],[THEO]]-Tableau1[[#This Row],[Qtt 2éme lot]],\"-\")","v":"-"},"-",{"$f":"IF(Tableau1[[#This Row],[2éme lot]]=\"-\",\"-\",IFERROR(IF(Q2777=\"\",\"-\",INDEX(I:I,MATCH(Q2777,C:C,0)+1)),\"-\"))","v":"-"},"-","-"]
[{"$nulls":15},"-",null,{"$f":"SUMIF(Tableau1[Description article],Tableau1[Produits],Tableau1[Emplacement])","v":0},null,{"$f":"Sheet1!$S2778-Sheet1!$R2778","v":0},"-","-","-",{"$f":"IFERROR(Tableau1[[#This Row],[THEO]]-Tableau1[[#This Row],[Qtt 2éme lot]],\"-\")","v":"-"},"-",{"$f":"IF(Tableau1[[#This Row],[2éme lot]]=\"-\",\"-\",IFERROR(IF(Q2778=\"\",\"-\",INDEX(I:I,MATCH(Q2778,C:C,0)+1)),\"-\"))","v":"-"},"-","-"]
[{"$nulls":15},"-",null,{"$f":"SUMIF(Tableau1[Description article],Tableau1[Produits],Tableau1[Emplacement])","v":0},null,{"$f":"Sheet1!$S2779-Sheet1!$R2779","v":0},"-","-","-",{"$f":"IFERROR(Tableau1[[#This Row],[THEO]]-Tableau1[[#This Row],[Qtt 2éme lot]],\"-\")","v":"-"},"-",{"$f":"IF(Tableau1[[#This Row],[2éme lot]]=\"-\",\"-\",IFERROR(IF(Q2779=\"\",\"-\",INDEX(I:I,MATCH(Q2779,C:C,0)+1)),\"-\"))","v":"-"},"-","-"]
[{"$nulls":15},"-",null,{"$f":"SUMIF(Tableau1[Description article],Tableau1[Produits],Tableau1[Emplacement])","v":0},null,{"$f":"Sheet1!$S2780-Sheet1!$R2780","v":0},"-","-","-",{"$f":"IFERROR(Tableau1[[#This Row],[THEO]]-Tableau1[[#This Row],[Qtt 2éme lot]],\"-\")","v":"-"},"-",{"$f":"IF(Tableau1[[#This Row],[2éme lot]]=\"-\",\"-\",IFERROR(IF(Q2780=\"\",\"-\",INDEX(I:I,MATCH(Q2780,C:C,0)+1)),\"-\"))","v":"-"},"-","-"]
[{"$nulls":15},"-",null,{"$f":"SUMIF(Tableau1[Description article],Tableau1[Produits],Tableau1[Emplacement])","v":0},null,{"$f":"Sheet1!$S2781-Sheet1!$R2781","v":0},"-","-","-",{"$f":"IFERROR(Tableau1[[#This Row],[THEO]]-Tableau1[[#This Row],[Qtt 2éme lot]],\"-\")","v":"-"},"-",{"$f":"IF(Tableau1[[#This Row],[2éme lot]]=\"-\",\"-\",IFERROR(IF(Q2781=\"\",\"-\",INDEX(I:I,MATCH(Q2781,C:C,0)+1)),\"-\"))","v":"-"},"-","-"]
[{"$nulls":15},"-",null,{"$f":"SUMIF(Tableau1[Description article],Tableau1[Produits],Tableau1[Emplacement])","v":0},null,{"$f":"Sheet1!$S2782-Sheet1!$R2782","v":0},"-","-","-",{"$f":"IFERROR(Tableau1[[#This Row],[THEO]]-Tableau1[[#This Row],[Qtt 2éme lot]],\"-\")","v":"-"},"-",{"$f":"IF(Tableau1[[#This Row],[2éme lot]]=\"-\",\"-\",IFERROR(IF(Q2782=\"\",\"-\",INDEX(I:I,MATCH(Q2782,C:C,0)+1)),\"-\"))","v":"-"},"-","-"]
[{"$nulls":15},"-",null,{"$f":"SUMIF(Tableau1[Description article],Tableau1[Produits],Tableau1[Emplacement])","v":0},null,{"$f":"Sheet1!$S2783-Sheet1!$R2783","v":0},"-","-","-",{"$f":"IFERROR(Tableau1[[#This Row],[THEO]]-Tableau1[[#This Row],[Qtt 2éme lot]],\"-\")","v":"-"},"-",{"$f":"IF(Tableau1[[#This Row],[2éme lot]]=\"-\",\"-\",IFERROR(IF(Q2783=\"\",\"-\",INDEX(I:I,MATCH(Q2783,C:C,0)+1)),\"-\"))","v":"-"},"-","-"]
[{"$nulls":15},"-",null,{"$f":"SUMIF(Tableau1[Description article],Tableau1[Produits],Tableau1[Emplacement])","v":0},null,{"$f":"Sheet1!$S2784-Sheet1!$R2784","v":0},"-","-","-",{"$f":"IFERROR(Tableau1[[#This Row],[THEO]]-Tableau1[[#This Row],[Qtt 2éme lot]],\"-\")","v":"-"},"-",{"$f":"IF(Tableau1[[#This Row],[2éme lot]]=\"-\",\"-\",IFERROR(IF(Q2784=\"\",\"-\",INDEX(I:I,MATCH(Q2784,C:C,0)+1)),\"-\"))","v":"-"},"-","-"]
[{"$nulls":15},"-",null,{"$f":"SUMIF(Tableau1[Description article],Tableau1[Produits],Tableau1[Emplacement])","v":0},null,{"$f":"Sheet1!$S2785-Sheet1!$R2785","v":0},"-","-","-",{"$f":"IFERROR(Tableau1[[#This Row],[THEO]]-Tableau1[[#This Row],[Qtt 2éme lot]],\"-\")","v":"-"},"-",{"$f":"IF(Tableau1[[#This Row],[2éme lot]]=\"-\",\"-\",IFERROR(IF(Q2785=\"\",\"-\",INDEX(I:I,MATCH(Q2785,C:C,0)+1)),\"-\"))","v":"-"},"-","-"]
[{"$nulls":15},"-",null,{"$f":"SUMIF(Tableau1[Description article],Tableau1[Produits],Tableau1[Emplacement])","v":0},null,{"$f":"Sheet1!$S2786-Sheet1!$R2786","v":0},"-","-","-",{"$f":"IFERROR(Tableau1[[#This Row],[THEO]]-Tableau1[[#This Row],[Qtt 2éme lot]],\"-\")","v":"-"},"-",{"$f":"IF(Tableau1[[#This Row],[2éme lot]]=\"-\",\"-\",IFERROR(IF(Q2786=\"\",\"-\",INDEX(I:I,MATCH(Q2786,C:C,0)+1)),\"-\"))","v":"-"},"-","-"]
[{"$nulls":15},"-",null,{"$f":"SUMIF(Tableau1[Description article],Tableau1[Produits],Tableau1[Emplacement])","v":0},null,{"$f":"Sheet1!$S2787-Sheet1!$R2787","v":0},"-","-","-",{"$f":"IFERROR(Tableau1[[#This Row],[THEO]]-Tableau1[[#This Row],[Qtt 2éme lot]],\"-\")","v":"-"},"-",{"$f":"IF(Tableau1[[#This Row],[2éme lot]]=\"-\",\"-\",IFERROR(IF(Q2787=\"\",\"-\",INDEX(I:I,MATCH(Q2787,C:C,0)+1)),\"-\"))","v":"-"},"-","-"]
[{"$nulls":15},"-",null,{"$f":"SUMIF(Tableau1[Description article],Tableau1[Produits],Tableau1[Emplacement])","v":0},null,{"$f":"Sheet1!$S2788-Sheet1!$R2788","v":0},"-","-","-",{"$f":"IFERROR(Tableau1[[#This Row],[THEO]]-Tableau1[[#This Row],[Qtt 2éme lot]],\"-\")","v":"-"},"-",{"$f":"IF(Tableau1[[#This Row],[2éme lot]]=\"-\",\"-\",IFERROR(IF(Q2788=\"\",\"-\",INDEX(I:I,MATCH(Q2788,C:C,0)+1)),\"-\"))","v":"-"},"-","-"]
[{"$nulls":15},"-",null,{"$f":"SUMIF(Tableau1[Description article],Tableau1[Produits],Tableau1[Emplacement])","v":0},null,{"$f":"Sheet1!$S2789-Sheet1!$R2789","v":0},"-","-","-",{"$f":"IFERROR(Tableau1[[#This Row],[THEO]]-Tableau1[[#This Row],[Qtt 2éme lot]],\"-\")","v":"-"},"-",{"$f":"IF(Tableau1[[#This Row],[2éme lot]]=\"-\",\"-\",IFERROR(IF(Q2789=\"\",\"-\",INDEX(I:I,MATCH(Q2789,C:C,0)+1)),\"-\"))","v":"-"},"-","-"]
[{"$nulls":15},"-",null,{"$f":"SUMIF(Tableau1[Description article],Tableau1[Produits],Tableau1[Emplacement])","v":0},null,{"$f":"Sheet1!$S2790-Sheet1!$R2790","v":0},"-","-","-",{"$f":"IFERROR(Tableau1[[#This Row],[THEO]]-Tableau1[[#This Row],[Qtt 2éme lot]],\"-\")","v":"-"},"-",{"$f":"IF(Tableau1[[#This Row],[2éme lot]]=\"-\",\"-\",IFERROR(IF(Q2790=\"\",\"-\",INDEX(I:I,MATCH(Q2790,C:C,0)+1)),\"-\"))","v":"-"},"-","-"]
[{"$nulls":15},"-",null,{"$f":"SUMIF(Tableau1[Description article],Tableau1[Produits],Tableau1[Emplacement])","v":0},null,{"$f":"Sheet1!$S2791-Sheet1!$R2791","v":0},"-","-","-",{"$f":"IFERROR(Tableau1[[#This Row],[THEO]]-Tableau1[[#This Row],[Qtt 2éme lot]],\"-\")","v":"-"},"-",{"$f":"IF(Tableau1[[#This Row],[2éme lot]]=\"-\",\"-\",IFERROR(IF(Q2791=\"\",\"-\",INDEX(I:I,MATCH(Q2791,C:C,0)+1)),\"-\"))","v":"-"},"-","-"]
[{"$nulls":15},"-",null,{"$f":"SUMIF(Tableau1[Description article],Tableau1[Produits],Tableau1[Emplacement])","v":0},null,{"$f":"Sheet1!$S2792-Sheet1!$R2792","v":0},"-","-","-",{"$f":"IFERROR(Tableau1[[#This Row],[THEO]]-Tableau1[[#This Row],[Qtt 2éme lot]],\"-\")","v":"-"},"-",{"$f":"IF(Tableau1[[#This Row],[2éme lot]]=\"-\",\"-\",IFERROR(IF(Q2792=\"\",\"-\",INDEX(I:I,MATCH(Q2792,C:C,0)+1)),\"-\"))","v":"-"},"-","-"]
[{"$nulls":15},"-",null,{"$f":"SUMIF(Tableau1[Description article],Tableau1[Produits],Tableau1[Emplacement])","v":0},null,{"$f":"Sheet1!$S2793-Sheet1!$R2793","v":0},"-","-","-",{"$f":"IFERROR(Tableau1[[#This Row],[THEO]]-Tableau1[[#This Row],[Qtt 2éme lot]],\"-\")","v":"-"},"-",{"$f":"IF(Tableau1[[#This Row],[2éme lot]]=\"-\",\"-\",IFERROR(IF(Q2793=\"\",\"-\",INDEX(I:I,MATCH(Q2793,C:C,0)+1)),\"-\"))","v":"-"},"-","-"]
[{"$nulls":15},"-",null,{"$f":"SUMIF(Tableau1[Description article],Tableau1[Produits],Tableau1[Emplacement])","v":0},null,{"$f":"Sheet1!$S2794-Sheet1!$R2794","v":0},"-","-","-",{"$f":"IFERROR(Tableau1[[#This Row],[THEO]]-Tableau1[[#This Row],[Qtt 2éme lot]],\"-\")","v":"-"},"-",{"$f":"IF(Tableau1[[#This Row],[2éme lot]]=\"-\",\"-\",IFERROR(IF(Q2794=\"\",\"-\",INDEX(I:I,MATCH(Q2794,C:C,0)+1)),\"-\"))","v":"-"},"-","-"]
[{"$nulls":15},"-",null,{"$f":"SUMIF(Tableau1[Description article],Tableau1[Produits],Tableau1[Emplacement])","v":0},null,{"$f":"Sheet1!$S2795-Sheet1!$R2795","v":0},"-","-","-",{"$f":"IFERROR(Tableau1[[#This Row],[THEO]]-Tableau1[[#This Row],[Qtt 2éme lot]],\"-\")","v":"-"},"-",{"$f":"IF(Tableau1[[#This Row],[2éme lot]]=\"-\",\"-\",IFERROR(IF(Q2795=\"\",\"-\",INDEX(I:I,MATCH(Q2795,C:C,0)+1)),\"-\"))","v":"-"},"-","-"]
[{"$nulls":15},"-",null,{"$f":"SUMIF(Tableau1[Description article],Tableau1[Produits],Tableau1[Emplacement])","v":0},null,{"$f":"Sheet1!$S2796-Sheet1!$R2796","v":0},"-","-","-",{"$f":"IFERROR(Tableau1[[#This Row],[THEO]]-Tableau1[[#This Row],[Qtt 2éme lot]],\"-\")","v":"-"},"-",{"$f":"IF(Tableau1[[#This Row],[2éme lot]]=\"-\",\"-\",IFERROR(IF(Q2796=\"\",\"-\",INDEX(I:I,MATCH(Q2796,C:C,0)+1)),\"-\"))","v":"-"},"-","-"]
[{"$nulls":15},"-",null,{"$f":"SUMIF(Tableau1[Description article],Tableau1[Produits],Tableau1[Emplacement])","v":0},null,{"$f":"Sheet1!$S2797-Sheet1!$R2797","v":0},"-","-","-",{"$f":"IFERROR(Tableau1[[#This Row],[THEO]]-Tableau1[[#This Row],[Qtt 2éme lot]],\"-\")","v":"-"},"-",{"$f":"IF(Tableau1[[#This Row],[2éme lot]]=\"-\",\"-\",IFERROR(IF(Q2797=\"\",\"-\",INDEX(I:I,MATCH(Q2797,C:C,0)+1)),\"-\"))","v":"-"},"-","-"]
[{"$nulls":15},"-",null,{"$f":"SUMIF(Tableau1[Description article],Tableau1[Produits],Tableau1[Emplacement])","v":0},null,{"$f":"Sheet1!$S2798-Sheet1!$R2798","v":0},"-","-","-",{"$f":"IFERROR(Tableau1[[#This Row],[THEO]]-Tableau1[[#This Row],[Qtt 2éme lot]],\"-\")","v":"-"},"-",{"$f":"IF(Tableau1[[#This Row],[2éme lot]]=\"-\",\"-\",IFERROR(IF(Q2798=\"\",\"-\",INDEX(I:I,MATCH(Q2798,C:C,0)+1)),\"-\"))","v":"-"},"-","-"]
[{"$nulls":15},"-",null,{"$f":"SUMIF(Tableau1[Description article],Tableau1[Produits],Tableau1[Emplacement])","v":0},null,{"$f":"Sheet1!$S2799-Sheet1!$R2799","v":0},"-","-","-",{"$f":"IFERROR(Tableau1[[#This Row],[THEO]]-Tableau1[[#This Row],[Qtt 2éme lot]],\"-\")","v":"-"},"-",{"$f":"IF(Tableau1[[#This Row],[2éme lot]]=\"-\",\"-\",IFERROR(IF(Q2799=\"\",\"-\",INDEX(I:I,MATCH(Q2799,C:C,0)+1)),\"-\"))","v":"-"},"-","-"]
[{"$nulls":15},"-",null,{"$f":"SUMIF(Tableau1[Description article],Tableau1[Produits],Tableau1[Emplacement])","v":0},null,{"$f":"Sheet1!$S2800-Sheet1!$R2800","v":0},"-","-","-",{"$f":"IFERROR(Tableau1[[#This Row],[THEO]]-Tableau1[[#This Row],[Qtt 2éme lot]],\"-\")","v":"-"},"-",{"$f":"IF(Tableau1[[#This Row],[2éme lot]]=\"-\",\"-\",IFERROR(IF(Q2800=\"\",\"-\",INDEX(I:I,MATCH(Q2800,C:C,0)+1)),\"-\"))","v":"-"},"-","-"]
[{"$nulls":15},"-",null,{"$f":"SUMIF(Tableau1[Description article],Tableau1[Produits],Tableau1[Emplacement])","v":0},null,{"$f":"Sheet1!$S2801-Sheet1!$R2801","v":0},"-","-","-",{"$f":"IFERROR(Tableau1[[#This Row],[THEO]]-Tableau1[[#This Row],[Qtt 2éme lot]],\"-\")","v":"-"},"-",{"$f":"IF(Tableau1[[#This Row],[2éme lot]]=\"-\",\"-\",IFERROR(IF(Q2801=\"\",\"-\",INDEX(I:I,MATCH(Q2801,C:C,0)+1)),\"-\"))","v":"-"},"-","-"]
[{"$nulls":15},"-",null,{"$f":"SUMIF(Tableau1[Description article],Tableau1[Produits],Tableau1[Emplacement])","v":0},null,{"$f":"Sheet1!$S2802-Sheet1!$R2802","v":0},"-","-","-",{"$f":"IFERROR(Tableau1[[#This Row],[THEO]]-Tableau1[[#This Row],[Qtt 2éme lot]],\"-\")","v":"-"},"-",{"$f":"IF(Tableau1[[#This Row],[2éme lot]]=\"-\",\"-\",IFERROR(IF(Q2802=\"\",\"-\",INDEX(I:I,MATCH(Q2802,C:C,0)+1)),\"-\"))","v":"-"},"-","-"]
[{"$nulls":15},"-",null,{"$f":"SUMIF(Tableau1[Description article],Tableau1[Produits],Tableau1[Emplacement])","v":0},null,{"$f":"Sheet1!$S2803-Sheet1!$R2803","v":0},"-","-","-",{"$f":"IFERROR(Tableau1[[#This Row],[THEO]]-Tableau1[[#This Row],[Qtt 2éme lot]],\"-\")","v":"-"},"-",{"$f":"IF(Tableau1[[#This Row],[2éme lot]]=\"-\",\"-\",IFERROR(IF(Q2803=\"\",\"-\",INDEX(I:I,MATCH(Q2803,C:C,0)+1)),\"-\"))","v":"-"},"-","-"]
[{"$nulls":15},"-",null,{"$f":"SUMIF(Tableau1[Description article],Tableau1[Produits],Tableau1[Emplacement])","v":0},null,{"$f":"Sheet1!$S2804-Sheet1!$R2804","v":0},"-","-","-",{"$f":"IFERROR(Tableau1[[#This Row],[THEO]]-Tableau1[[#This Row],[Qtt 2éme lot]],\"-\")","v":"-"},"-",{"$f":"IF(Tableau1[[#This Row],[2éme lot]]=\"-\",\"-\",IFERROR(IF(Q2804=\"\",\"-\",INDEX(I:I,MATCH(Q2804,C:C,0)+1)),\"-\"))","v":"-"},"-","-"]
[{"$nulls":15},"-",null,{"$f":"SUMIF(Tableau1[Description article],Tableau1[Produits],Tableau1[Emplacement])","v":0},null,{"$f":"Sheet1!$S2805-Sheet1!$R2805","v":0},"-","-","-",{"$f":"IFERROR(Tableau1[[#This Row],[THEO]]-Tableau1[[#This Row],[Qtt 2éme lot]],\"-\")","v":"-"},"-",{"$f":"IF(Tableau1[[#This Row],[2éme lot]]=\"-\",\"-\",IFERROR(IF(Q2805=\"\",\"-\",INDEX(I:I,MATCH(Q2805,C:C,0)+1)),\"-\"))","v":"-"},"-","-"]
[{"$nulls":15},"-",null,{"$f":"SUMIF(Tableau1[Description article],Tableau1[Produits],Tableau1[Emplacement])","v":0},null,{"$f":"Sheet1!$S2806-Sheet1!$R2806","v":0},"-","-","-",{"$f":"IFERROR(Tableau1[[#This Row],[THEO]]-Tableau1[[#This Row],[Qtt 2éme lot]],\"-\")","v":"-"},"-",{"$f":"IF(Tableau1[[#This Row],[2éme lot]]=\"-\",\"-\",IFERROR(IF(Q2806=\"\",\"-\",INDEX(I:I,MATCH(Q2806,C:C,0)+1)),\"-\"))","v":"-"},"-","-"]
[{"$nulls":15},"-",null,{"$f":"SUMIF(Tableau1[Description article],Tableau1[Produits],Tableau1[Emplacement])","v":0},null,{"$f":"Sheet1!$S2807-Sheet1!$R2807","v":0},"-","-","-",{"$f":"IFERROR(Tableau1[[#This Row],[THEO]]-Tableau1[[#This Row],[Qtt 2éme lot]],\"-\")","v":"-"},"-",{"$f":"IF(Tableau1[[#This Row],[2éme lot]]=\"-\",\"-\",IFERROR(IF(Q2807=\"\",\"-\",INDEX(I:I,MATCH(Q2807,C:C,0)+1)),\"-\"))","v":"-"},"-","-"]
[{"$nulls":15},"-",null,{"$f":"SUMIF(Tableau1[Description article],Tableau1[Produits],Tableau1[Emplacement])","v":0},null,{"$f":"Sheet1!$S2808-Sheet1!$R2808","v":0},"-","-","-",{"$f":"IFERROR(Tableau1[[#This Row],[THEO]]-Tableau1[[#This Row],[Qtt 2éme lot]],\"-\")","v":"-"},"-",{"$f":"IF(Tableau1[[#This Row],[2éme lot]]=\"-\",\"-\",IFERROR(IF(Q2808=\"\",\"-\",INDEX(I:I,MATCH(Q2808,C:C,0)+1)),\"-\"))","v":"-"},"-","-"]
[{"$nulls":15},"-",null,{"$f":"SUMIF(Tableau1[Description article],Tableau1[Produits],Tableau1[Emplacement])","v":0},null,{"$f":"Sheet1!$S2809-Sheet1!$R2809","v":0},"-","-","-",{"$f":"IFERROR(Tableau1[[#This Row],[THEO]]-Tableau1[[#This Row],[Qtt 2éme lot]],\"-\")","v":"-"},"-",{"$f":"IF(Tableau1[[#This Row],[2éme lot]]=\"-\",\"-\",IFERROR(IF(Q2809=\"\",\"-\",INDEX(I:I,MATCH(Q2809,C:C,0)+1)),\"-\"))","v":"-"},"-","-"]
[{"$nulls":15},"-",null,{"$f":"SUMIF(Tableau1[Description article],Tableau1[Produits],Tableau1[Emplacement])","v":0},null,{"$f":"Sheet1!$S2810-Sheet1!$R2810","v":0},"-","-","-",{"$f":"IFERROR(Tableau1[[#This Row],[THEO]]-Tableau1[[#This Row],[Qtt 2éme lot]],\"-\")","v":"-"},"-",{"$f":"IF(Tableau1[[#This Row],[2éme lot]]=\"-\",\"-\",IFERROR(IF(Q2810=\"\",\"-\",INDEX(I:I,MATCH(Q2810,C:C,0)+1)),\"-\"))","v":"-"},"-","-"]
[{"$nulls":15},"-",null,{"$f":"SUMIF(Tableau1[Description article],Tableau1[Produits],Tableau1[Emplacement])","v":0},null,{"$f":"Sheet1!$S2811-Sheet1!$R2811","v":0},"-","-","-",{"$f":"IFERROR(Tableau1[[#This Row],[THEO]]-Tableau1[[#This Row],[Qtt 2éme lot]],\"-\")","v":"-"},"-",{"$f":"IF(Tableau1[[#This Row],[2éme lot]]=\"-\",\"-\",IFERROR(IF(Q2811=\"\",\"-\",INDEX(I:I,MATCH(Q2811,C:C,0)+1)),\"-\"))","v":"-"},"-","-"]
[{"$nulls":15},"-",null,{"$f":"SUMIF(Tableau1[Description article],Tableau1[Produits],Tableau1[Emplacement])","v":0},null,{"$f":"Sheet1!$S2812-Sheet1!$R2812","v":0},"-","-","-",{"$f":"IFERROR(Tableau1[[#This Row],[THEO]]-Tableau1[[#This Row],[Qtt 2éme lot]],\"-\")","v":"-"},"-",{"$f":"IF(Tableau1[[#This Row],[2éme lot]]=\"-\",\"-\",IFERROR(IF(Q2812=\"\",\"-\",INDEX(I:I,MATCH(Q2812,C:C,0)+1)),\"-\"))","v":"-"},"-","-"]
[{"$nulls":15},"-",null,{"$f":"SUMIF(Tableau1[Description article],Tableau1[Produits],Tableau1[Emplacement])","v":0},null,{"$f":"Sheet1!$S2813-Sheet1!$R2813","v":0},"-","-","-",{"$f":"IFERROR(Tableau1[[#This Row],[THEO]]-Tableau1[[#This Row],[Qtt 2éme lot]],\"-\")","v":"-"},"-",{"$f":"IF(Tableau1[[#This Row],[2éme lot]]=\"-\",\"-\",IFERROR(IF(Q2813=\"\",\"-\",INDEX(I:I,MATCH(Q2813,C:C,0)+1)),\"-\"))","v":"-"},"-","-"]
[{"$nulls":15},"-",null,{"$f":"SUMIF(Tableau1[Description article],Tableau1[Produits],Tableau1[Emplacement])","v":0},null,{"$f":"Sheet1!$S2814-Sheet1!$R2814","v":0},"-","-","-",{"$f":"IFERROR(Tableau1[[#This Row],[THEO]]-Tableau1[[#This Row],[Qtt 2éme lot]],\"-\")","v":"-"},"-",{"$f":"IF(Tableau1[[#This Row],[2éme lot]]=\"-\",\"-\",IFERROR(IF(Q2814=\"\",\"-\",INDEX(I:I,MATCH(Q2814,C:C,0)+1)),\"-\"))","v":"-"},"-","-"]
[{"$nulls":15},"-",null,{"$f":"SUMIF(Tableau1[Description article],Tableau1[Produits],Tableau1[Emplacement])","v":0},null,{"$f":"Sheet1!$S2815-Sheet1!$R2815","v":0},"-","-","-",{"$f":"IFERROR(Tableau1[[#This Row],[THEO]]-Tableau1[[#This Row],[Qtt 2éme lot]],\"-\")","v":"-"},"-",{"$f":"IF(Tableau1[[#This Row],[2éme lot]]=\"-\",\"-\",IFERROR(IF(Q2815=\"\",\"-\",INDEX(I:I,MATCH(Q2815,C:C,0)+1)),\"-\"))","v":"-"},"-","-"]
[{"$nulls":15},"-",null,{"$f":"SUMIF(Tableau1[Description article],Tableau1[Produits],Tableau1[Emplacement])","v":0},null,{"$f":"Sheet1!$S2816-Sheet1!$R2816","v":0},"-","-","-",{"$f":"IFERROR(Tableau1[[#This Row],[THEO]]-Tableau1[[#This Row],[Qtt 2éme lot]],\"-\")","v":"-"},"-",{"$f":"IF(Tableau1[[#This Row],[2éme lot]]=\"-\",\"-\",IFERROR(IF(Q2816=\"\",\"-\",INDEX(I:I,MATCH(Q2816,C:C,0)+1)),\"-\"))","v":"-"},"-","-"]
[{"$nulls":15},"-",null,{"$f":"SUMIF(Tableau1[Description article],Tableau1[Produits],Tableau1[Emplacement])","v":0},null,{"$f":"Sheet1!$S2817-Sheet1!$R2817","v":0},"-","-","-",{"$f":"IFERROR(Tableau1[[#This Row],[THEO]]-Tableau1[[#This Row],[Qtt 2éme lot]],\"-\")","v":"-"},"-",{"$f":"IF(Tableau1[[#This Row],[2éme lot]]=\"-\",\"-\",IFERROR(IF(Q2817=\"\",\"-\",INDEX(I:I,MATCH(Q2817,C:C,0)+1)),\"-\"))","v":"-"},"-","-"]
[{"$nulls":15},{"$f":"IFERROR(IF(Q2818=\"\",\"-\",INDEX(I:I,MATCH(Q2818,C:C,0))),\"-\")","v":"-"},null,{"$f":"SUMIF(Tableau1[Description article],Tableau1[Produits],Tableau1[Emplacement])","v":0},null,{"$f":"Sheet1!$S2818-Sheet1!$R2818","v":0},{"$f":"IFERROR(IF(Q2818=\"\",\"-\",INDEX(F:F,MATCH(Q2818,C:C,0))),\"-\")","v":"-"},{"$f":"IFERROR(IF(Q2818=\"\",\"-\",INDEX(E:E,MATCH(Q2818,C:C,0))),\"-\")","v":"-"},{"$f":"IFERROR(IF(Q2818=\"\",\"-\",INDEX(N:N,MATCH(Q2818,C:C,0))),\"-\")","v":"-"},{"$f":"IFERROR(Tableau1[[#This Row],[THEO]]-Tableau1[[#This Row],[Qtt 2éme lot]],\"-\")","v":"-"},{"$f":"IF(IF(Q2818=\"\",\"-\",INDEX(E:E,MATCH(Q2818,C:C,0)))=IF(Q2818=\"\",\"-\",INDEX(E:E,MATCH(Q2818,C:C,1))),\"-\",IF(Q2818=\"\",\"-\",INDEX(E:E,MATCH(Q2818,C:C,1))))","v":"-"},{"$f":"IF(Tableau1[[#This Row],[2éme lot]]=\"-\",\"-\",IFERROR(IF(Q2818=\"\",\"-\",INDEX(I:I,MATCH(Q2818,C:C,0)+1)),\"-\"))","v":"-"},{"$f":"IFERROR(IF(Y2818=\"\",\"-\",INDEX(N:N,MATCH(Y2818,E:E,0))),\"-\")","v":"-"},{"$f":"IFERROR(IF(AA2818=\"\",\"-\",INDEX(H:H,MATCH(Y2818,E:E,0))),\"-\")","v":"-"}]
[{"$nulls":15},"-",null,{"$f":"SUMIF(Tableau1[Description article],Tableau1[Produits],Tableau1[Emplacement])","v":0},null,{"$f":"Sheet1!$S2819-Sheet1!$R2819","v":0},"-","-","-",{"$f":"IFERROR(Tableau1[[#This Row],[THEO]]-Tableau1[[#This Row],[Qtt 2éme lot]],\"-\")","v":"-"},"-",{"$f":"IF(Tableau1[[#This Row],[2éme lot]]=\"-\",\"-\",IFERROR(IF(Q2819=\"\",\"-\",INDEX(I:I,MATCH(Q2819,C:C,0)+1)),\"-\"))","v":"-"},"-","-"]
[{"$nulls":15},"-",null,{"$f":"SUMIF(Tableau1[Description article],Tableau1[Produits],Tableau1[Emplacement])","v":0},null,{"$f":"Sheet1!$S2820-Sheet1!$R2820","v":0},"-","-","-",{"$f":"IFERROR(Tableau1[[#This Row],[THEO]]-Tableau1[[#This Row],[Qtt 2éme lot]],\"-\")","v":"-"},"-",{"$f":"IF(Tableau1[[#This Row],[2éme lot]]=\"-\",\"-\",IFERROR(IF(Q2820=\"\",\"-\",INDEX(I:I,MATCH(Q2820,C:C,0)+1)),\"-\"))","v":"-"},"-","-"]
[{"$nulls":15},"-",null,{"$f":"SUMIF(Tableau1[Description article],Tableau1[Produits],Tableau1[Emplacement])","v":0},null,{"$f":"Sheet1!$S2821-Sheet1!$R2821","v":0},"-","-","-",{"$f":"IFERROR(Tableau1[[#This Row],[THEO]]-Tableau1[[#This Row],[Qtt 2éme lot]],\"-\")","v":"-"},"-",{"$f":"IF(Tableau1[[#This Row],[2éme lot]]=\"-\",\"-\",IFERROR(IF(Q2821=\"\",\"-\",INDEX(I:I,MATCH(Q2821,C:C,0)+1)),\"-\"))","v":"-"},"-","-"]
[{"$nulls":15},"-",null,{"$f":"SUMIF(Tableau1[Description article],Tableau1[Produits],Tableau1[Emplacement])","v":0},null,{"$f":"Sheet1!$S2822-Sheet1!$R2822","v":0},"-","-","-",{"$f":"IFERROR(Tableau1[[#This Row],[THEO]]-Tableau1[[#This Row],[Qtt 2éme lot]],\"-\")","v":"-"},"-",{"$f":"IF(Tableau1[[#This Row],[2éme lot]]=\"-\",\"-\",IFERROR(IF(Q2822=\"\",\"-\",INDEX(I:I,MATCH(Q2822,C:C,0)+1)),\"-\"))","v":"-"},"-","-"]
[{"$nulls":15},"-",null,{"$f":"SUMIF(Tableau1[Description article],Tableau1[Produits],Tableau1[Emplacement])","v":0},null,{"$f":"Sheet1!$S2823-Sheet1!$R2823","v":0},"-","-","-",{"$f":"IFERROR(Tableau1[[#This Row],[THEO]]-Tableau1[[#This Row],[Qtt 2éme lot]],\"-\")","v":"-"},"-",{"$f":"IF(Tableau1[[#This Row],[2éme lot]]=\"-\",\"-\",IFERROR(IF(Q2823=\"\",\"-\",INDEX(I:I,MATCH(Q2823,C:C,0)+1)),\"-\"))","v":"-"},"-","-"]
[{"$nulls":15},"-",null,{"$f":"SUMIF(Tableau1[Description article],Tableau1[Produits],Tableau1[Emplacement])","v":0},null,{"$f":"Sheet1!$S2824-Sheet1!$R2824","v":0},"-","-","-",{"$f":"IFERROR(Tableau1[[#This Row],[THEO]]-Tableau1[[#This Row],[Qtt 2éme lot]],\"-\")","v":"-"},"-",{"$f":"IF(Tableau1[[#This Row],[2éme lot]]=\"-\",\"-\",IFERROR(IF(Q2824=\"\",\"-\",INDEX(I:I,MATCH(Q2824,C:C,0)+1)),\"-\"))","v":"-"},"-","-"]
[{"$nulls":15},"-",null,{"$f":"SUMIF(Tableau1[Description article],Tableau1[Produits],Tableau1[Emplacement])","v":0},null,{"$f":"Sheet1!$S2825-Sheet1!$R2825","v":0},"-","-","-",{"$f":"IFERROR(Tableau1[[#This Row],[THEO]]-Tableau1[[#This Row],[Qtt 2éme lot]],\"-\")","v":"-"},"-",{"$f":"IF(Tableau1[[#This Row],[2éme lot]]=\"-\",\"-\",IFERROR(IF(Q2825=\"\",\"-\",INDEX(I:I,MATCH(Q2825,C:C,0)+1)),\"-\"))","v":"-"},"-","-"]
[{"$nulls":15},"-",null,{"$f":"SUMIF(Tableau1[Description article],Tableau1[Produits],Tableau1[Emplacement])","v":0},null,{"$f":"Sheet1!$S2826-Sheet1!$R2826","v":0},"-","-","-",{"$f":"IFERROR(Tableau1[[#This Row],[THEO]]-Tableau1[[#This Row],[Qtt 2éme lot]],\"-\")","v":"-"},"-",{"$f":"IF(Tableau1[[#This Row],[2éme lot]]=\"-\",\"-\",IFERROR(IF(Q2826=\"\",\"-\",INDEX(I:I,MATCH(Q2826,C:C,0)+1)),\"-\"))","v":"-"},"-","-"]
[{"$nulls":15},"-",null,{"$f":"SUMIF(Tableau1[Description article],Tableau1[Produits],Tableau1[Emplacement])","v":0},null,{"$f":"Sheet1!$S2827-Sheet1!$R2827","v":0},"-","-","-",{"$f":"IFERROR(Tableau1[[#This Row],[THEO]]-Tableau1[[#This Row],[Qtt 2éme lot]],\"-\")","v":"-"},"-",{"$f":"IF(Tableau1[[#This Row],[2éme lot]]=\"-\",\"-\",IFERROR(IF(Q2827=\"\",\"-\",INDEX(I:I,MATCH(Q2827,C:C,0)+1)),\"-\"))","v":"-"},"-","-"]
[{"$nulls":15},"-",null,{"$f":"SUMIF(Tableau1[Description article],Tableau1[Produits],Tableau1[Emplacement])","v":0},null,{"$f":"Sheet1!$S2828-Sheet1!$R2828","v":0},"-","-","-",{"$f":"IFERROR(Tableau1[[#This Row],[THEO]]-Tableau1[[#This Row],[Qtt 2éme lot]],\"-\")","v":"-"},"-",{"$f":"IF(Tableau1[[#This Row],[2éme lot]]=\"-\",\"-\",IFERROR(IF(Q2828=\"\",\"-\",INDEX(I:I,MATCH(Q2828,C:C,0)+1)),\"-\"))","v":"-"},"-","-"]
[{"$nulls":15},"-",null,{"$f":"SUMIF(Tableau1[Description article],Tableau1[Produits],Tableau1[Emplacement])","v":0},null,{"$f":"Sheet1!$S2829-Sheet1!$R2829","v":0},"-","-","-",{"$f":"IFERROR(Tableau1[[#This Row],[THEO]]-Tableau1[[#This Row],[Qtt 2éme lot]],\"-\")","v":"-"},"-",{"$f":"IF(Tableau1[[#This Row],[2éme lot]]=\"-\",\"-\",IFERROR(IF(Q2829=\"\",\"-\",INDEX(I:I,MATCH(Q2829,C:C,0)+1)),\"-\"))","v":"-"},"-","-"]
[{"$nulls":15},"-",null,{"$f":"SUMIF(Tableau1[Description article],Tableau1[Produits],Tableau1[Emplacement])","v":0},null,{"$f":"Sheet1!$S2830-Sheet1!$R2830","v":0},"-","-","-",{"$f":"IFERROR(Tableau1[[#This Row],[THEO]]-Tableau1[[#This Row],[Qtt 2éme lot]],\"-\")","v":"-"},"-",{"$f":"IF(Tableau1[[#This Row],[2éme lot]]=\"-\",\"-\",IFERROR(IF(Q2830=\"\",\"-\",INDEX(I:I,MATCH(Q2830,C:C,0)+1)),\"-\"))","v":"-"},"-","-"]
[{"$nulls":15},"-",null,{"$f":"SUMIF(Tableau1[Description article],Tableau1[Produits],Tableau1[Emplacement])","v":0},null,{"$f":"Sheet1!$S2831-Sheet1!$R2831","v":0},"-","-","-",{"$f":"IFERROR(Tableau1[[#This Row],[THEO]]-Tableau1[[#This Row],[Qtt 2éme lot]],\"-\")","v":"-"},"-",{"$f":"IF(Tableau1[[#This Row],[2éme lot]]=\"-\",\"-\",IFERROR(IF(Q2831=\"\",\"-\",INDEX(I:I,MATCH(Q2831,C:C,0)+1)),\"-\"))","v":"-"},"-","-"]
[{"$nulls":15},"-",null,{"$f":"SUMIF(Tableau1[Description article],Tableau1[Produits],Tableau1[Emplacement])","v":0},null,{"$f":"Sheet1!$S2832-Sheet1!$R2832","v":0},"-","-","-",{"$f":"IFERROR(Tableau1[[#This Row],[THEO]]-Tableau1[[#This Row],[Qtt 2éme lot]],\"-\")","v":"-"},"-",{"$f":"IF(Tableau1[[#This Row],[2éme lot]]=\"-\",\"-\",IFERROR(IF(Q2832=\"\",\"-\",INDEX(I:I,MATCH(Q2832,C:C,0)+1)),\"-\"))","v":"-"},"-","-"]
[{"$nulls":15},"-",null,{"$f":"SUMIF(Tableau1[Description article],Tableau1[Produits],Tableau1[Emplacement])","v":0},null,{"$f":"Sheet1!$S2833-Sheet1!$R2833","v":0},"-","-","-",{"$f":"IFERROR(Tableau1[[#This Row],[THEO]]-Tableau1[[#This Row],[Qtt 2éme lot]],\"-\")","v":"-"},"-",{"$f":"IF(Tableau1[[#This Row],[2éme lot]]=\"-\",\"-\",IFERROR(IF(Q2833=\"\",\"-\",INDEX(I:I,MATCH(Q2833,C:C,0)+1)),\"-\"))","v":"-"},"-","-"]
[{"$nulls":15},"-",null,{"$f":"SUMIF(Tableau1[Description article],Tableau1[Produits],Tableau1[Emplacement])","v":0},null,{"$f":"Sheet1!$S2834-Sheet1!$R2834","v":0},"-","-","-",{"$f":"IFERROR(Tableau1[[#This Row],[THEO]]-Tableau1[[#This Row],[Qtt 2éme lot]],\"-\")","v":"-"},"-",{"$f":"IF(Tableau1[[#This Row],[2éme lot]]=\"-\",\"-\",IFERROR(IF(Q2834=\"\",\"-\",INDEX(I:I,MATCH(Q2834,C:C,0)+1)),\"-\"))","v":"-"},"-","-"]
[{"$nulls":15},"-",null,{"$f":"SUMIF(Tableau1[Description article],Tableau1[Produits],Tableau1[Emplacement])","v":0},null,{"$f":"Sheet1!$S2835-Sheet1!$R2835","v":0},"-","-","-",{"$f":"IFERROR(Tableau1[[#This Row],[THEO]]-Tableau1[[#This Row],[Qtt 2éme lot]],\"-\")","v":"-"},"-",{"$f":"IF(Tableau1[[#This Row],[2éme lot]]=\"-\",\"-\",IFERROR(IF(Q2835=\"\",\"-\",INDEX(I:I,MATCH(Q2835,C:C,0)+1)),\"-\"))","v":"-"},"-","-"]
[{"$nulls":15},"-",null,{"$f":"SUMIF(Tableau1[Description article],Tableau1[Produits],Tableau1[Emplacement])","v":0},null,{"$f":"Sheet1!$S2836-Sheet1!$R2836","v":0},"-","-","-",{"$f":"IFERROR(Tableau1[[#This Row],[THEO]]-Tableau1[[#This Row],[Qtt 2éme lot]],\"-\")","v":"-"},"-",{"$f":"IF(Tableau1[[#This Row],[2éme lot]]=\"-\",\"-\",IFERROR(IF(Q2836=\"\",\"-\",INDEX(I:I,MATCH(Q2836,C:C,0)+1)),\"-\"))","v":"-"},"-","-"]
[{"$nulls":15},"-",null,{"$f":"SUMIF(Tableau1[Description article],Tableau1[Produits],Tableau1[Emplacement])","v":0},null,{"$f":"Sheet1!$S2837-Sheet1!$R2837","v":0},"-","-","-",{"$f":"IFERROR(Tableau1[[#This Row],[THEO]]-Tableau1[[#This Row],[Qtt 2éme lot]],\"-\")","v":"-"},"-",{"$f":"IF(Tableau1[[#This Row],[2éme lot]]=\"-\",\"-\",IFERROR(IF(Q2837=\"\",\"-\",INDEX(I:I,MATCH(Q2837,C:C,0)+1)),\"-\"))","v":"-"},"-","-"]
[{"$nulls":15},"-",null,{"$f":"SUMIF(Tableau1[Description article],Tableau1[Produits],Tableau1[Emplacement])","v":0},null,{"$f":"Sheet1!$S2838-Sheet1!$R2838","v":0},"-","-","-",{"$f":"IFERROR(Tableau1[[#This Row],[THEO]]-Tableau1[[#This Row],[Qtt 2éme lot]],\"-\")","v":"-"},"-",{"$f":"IF(Tableau1[[#This Row],[2éme lot]]=\"-\",\"-\",IFERROR(IF(Q2838=\"\",\"-\",INDEX(I:I,MATCH(Q2838,C:C,0)+1)),\"-\"))","v":"-"},"-","-"]
[{"$nulls":15},"-",null,{"$f":"SUMIF(Tableau1[Description article],Tableau1[Produits],Tableau1[Emplacement])","v":0},null,{"$f":"Sheet1!$S2839-Sheet1!$R2839","v":0},"-","-","-",{"$f":"IFERROR(Tableau1[[#This Row],[THEO]]-Tableau1[[#This Row],[Qtt 2éme lot]],\"-\")","v":"-"},"-",{"$f":"IF(Tableau1[[#This Row],[2éme lot]]=\"-\",\"-\",IFERROR(IF(Q2839=\"\",\"-\",INDEX(I:I,MATCH(Q2839,C:C,0)+1)),\"-\"))","v":"-"},"-","-"]
[{"$nulls":15},"-",null,{"$f":"SUMIF(Tableau1[Description article],Tableau1[Produits],Tableau1[Emplacement])","v":0},null,{"$f":"Sheet1!$S2840-Sheet1!$R2840","v":0},"-","-","-",{"$f":"IFERROR(Tableau1[[#This Row],[THEO]]-Tableau1[[#This Row],[Qtt 2éme lot]],\"-\")","v":"-"},"-",{"$f":"IF(Tableau1[[#This Row],[2éme lot]]=\"-\",\"-\",IFERROR(IF(Q2840=\"\",\"-\",INDEX(I:I,MATCH(Q2840,C:C,0)+1)),\"-\"))","v":"-"},"-","-"]
[{"$nulls":15},"-",null,{"$f":"SUMIF(Tableau1[Description article],Tableau1[Produits],Tableau1[Emplacement])","v":0},null,{"$f":"Sheet1!$S2841-Sheet1!$R2841","v":0},"-","-","-",{"$f":"IFERROR(Tableau1[[#This Row],[THEO]]-Tableau1[[#This Row],[Qtt 2éme lot]],\"-\")","v":"-"},"-",{"$f":"IF(Tableau1[[#This Row],[2éme lot]]=\"-\",\"-\",IFERROR(IF(Q2841=\"\",\"-\",INDEX(I:I,MATCH(Q2841,C:C,0)+1)),\"-\"))","v":"-"},"-","-"]
[{"$nulls":15},"-",null,{"$f":"SUMIF(Tableau1[Description article],Tableau1[Produits],Tableau1[Emplacement])","v":0},null,{"$f":"Sheet1!$S2842-Sheet1!$R2842","v":0},"-","-","-",{"$f":"IFERROR(Tableau1[[#This Row],[THEO]]-Tableau1[[#This Row],[Qtt 2éme lot]],\"-\")","v":"-"},"-",{"$f":"IF(Tableau1[[#This Row],[2éme lot]]=\"-\",\"-\",IFERROR(IF(Q2842=\"\",\"-\",INDEX(I:I,MATCH(Q2842,C:C,0)+1)),\"-\"))","v":"-"},"-","-"]
[{"$nulls":15},"-",null,{"$f":"SUMIF(Tableau1[Description article],Tableau1[Produits],Tableau1[Emplacement])","v":0},null,{"$f":"Sheet1!$S2843-Sheet1!$R2843","v":0},"-","-","-",{"$f":"IFERROR(Tableau1[[#This Row],[THEO]]-Tableau1[[#This Row],[Qtt 2éme lot]],\"-\")","v":"-"},"-",{"$f":"IF(Tableau1[[#This Row],[2éme lot]]=\"-\",\"-\",IFERROR(IF(Q2843=\"\",\"-\",INDEX(I:I,MATCH(Q2843,C:C,0)+1)),\"-\"))","v":"-"},"-","-"]
[{"$nulls":15},"-",null,{"$f":"SUMIF(Tableau1[Description article],Tableau1[Produits],Tableau1[Emplacement])","v":0},null,{"$f":"Sheet1!$S2844-Sheet1!$R2844","v":0},"-","-","-",{"$f":"IFERROR(Tableau1[[#This Row],[THEO]]-Tableau1[[#This Row],[Qtt 2éme lot]],\"-\")","v":"-"},"-",{"$f":"IF(Tableau1[[#This Row],[2éme lot]]=\"-\",\"-\",IFERROR(IF(Q2844=\"\",\"-\",INDEX(I:I,MATCH(Q2844,C:C,0)+1)),\"-\"))","v":"-"},"-","-"]
[{"$nulls":15},"-",null,{"$f":"SUMIF(Tableau1[Description article],Tableau1[Produits],Tableau1[Emplacement])","v":0},null,{"$f":"Sheet1!$S2845-Sheet1!$R2845","v":0},"-","-","-",{"$f":"IFERROR(Tableau1[[#This Row],[THEO]]-Tableau1[[#This Row],[Qtt 2éme lot]],\"-\")","v":"-"},"-",{"$f":"IF(Tableau1[[#This Row],[2éme lot]]=\"-\",\"-\",IFERROR(IF(Q2845=\"\",\"-\",INDEX(I:I,MATCH(Q2845,C:C,0)+1)),\"-\"))","v":"-"},"-","-"]
[{"$nulls":15},"-",null,{"$f":"SUMIF(Tableau1[Description article],Tableau1[Produits],Tableau1[Emplacement])","v":0},null,{"$f":"Sheet1!$S2846-Sheet1!$R2846","v":0},"-","-","-",{"$f":"IFERROR(Tableau1[[#This Row],[THEO]]-Tableau1[[#This Row],[Qtt 2éme lot]],\"-\")","v":"-"},"-",{"$f":"IF(Tableau1[[#This Row],[2éme lot]]=\"-\",\"-\",IFERROR(IF(Q2846=\"\",\"-\",INDEX(I:I,MATCH(Q2846,C:C,0)+1)),\"-\"))","v":"-"},"-","-"]
[{"$nulls":15},"-",null,{"$f":"SUMIF(Tableau1[Description article],Tableau1[Produits],Tableau1[Emplacement])","v":0},null,{"$f":"Sheet1!$S2847-Sheet1!$R2847","v":0},"-","-","-",{"$f":"IFERROR(Tableau1[[#This Row],[THEO]]-Tableau1[[#This Row],[Qtt 2éme lot]],\"-\")","v":"-"},"-",{"$f":"IF(Tableau1[[#This Row],[2éme lot]]=\"-\",\"-\",IFERROR(IF(Q2847=\"\",\"-\",INDEX(I:I,MATCH(Q2847,C:C,0)+1)),\"-\"))","v":"-"},"-","-"]
[{"$nulls":15},"-",null,{"$f":"SUMIF(Tableau1[Description article],Tableau1[Produits],Tableau1[Emplacement])","v":0},null,{"$f":"Sheet1!$S2848-Sheet1!$R2848","v":0},"-","-","-",{"$f":"IFERROR(Tableau1[[#This Row],[THEO]]-Tableau1[[#This Row],[Qtt 2éme lot]],\"-\")","v":"-"},"-",{"$f":"IF(Tableau1[[#This Row],[2éme lot]]=\"-\",\"-\",IFERROR(IF(Q2848=\"\",\"-\",INDEX(I:I,MATCH(Q2848,C:C,0)+1)),\"-\"))","v":"-"},"-","-"]
[{"$nulls":15},"-",null,{"$f":"SUMIF(Tableau1[Description article],Tableau1[Produits],Tableau1[Emplacement])","v":0},null,{"$f":"Sheet1!$S2849-Sheet1!$R2849","v":0},"-","-","-",{"$f":"IFERROR(Tableau1[[#This Row],[THEO]]-Tableau1[[#This Row],[Qtt 2éme lot]],\"-\")","v":"-"},"-",{"$f":"IF(Tableau1[[#This Row],[2éme lot]]=\"-\",\"-\",IFERROR(IF(Q2849=\"\",\"-\",INDEX(I:I,MATCH(Q2849,C:C,0)+1)),\"-\"))","v":"-"},"-","-"]
[{"$nulls":15},"-",null,{"$f":"SUMIF(Tableau1[Description article],Tableau1[Produits],Tableau1[Emplacement])","v":0},null,{"$f":"Sheet1!$S2850-Sheet1!$R2850","v":0},"-","-","-",{"$f":"IFERROR(Tableau1[[#This Row],[THEO]]-Tableau1[[#This Row],[Qtt 2éme lot]],\"-\")","v":"-"},"-",{"$f":"IF(Tableau1[[#This Row],[2éme lot]]=\"-\",\"-\",IFERROR(IF(Q2850=\"\",\"-\",INDEX(I:I,MATCH(Q2850,C:C,0)+1)),\"-\"))","v":"-"},"-","-"]
[{"$nulls":15},"-",null,{"$f":"SUMIF(Tableau1[Description article],Tableau1[Produits],Tableau1[Emplacement])","v":0},null,{"$f":"Sheet1!$S2851-Sheet1!$R2851","v":0},"-","-","-",{"$f":"IFERROR(Tableau1[[#This Row],[THEO]]-Tableau1[[#This Row],[Qtt 2éme lot]],\"-\")","v":"-"},"-",{"$f":"IF(Tableau1[[#This Row],[2éme lot]]=\"-\",\"-\",IFERROR(IF(Q2851=\"\",\"-\",INDEX(I:I,MATCH(Q2851,C:C,0)+1)),\"-\"))","v":"-"},"-","-"]
[{"$nulls":15},"-",null,{"$f":"SUMIF(Tableau1[Description article],Tableau1[Produits],Tableau1[Emplacement])","v":0},null,{"$f":"Sheet1!$S2852-Sheet1!$R2852","v":0},"-","-","-",{"$f":"IFERROR(Tableau1[[#This Row],[THEO]]-Tableau1[[#This Row],[Qtt 2éme lot]],\"-\")","v":"-"},"-",{"$f":"IF(Tableau1[[#This Row],[2éme lot]]=\"-\",\"-\",IFERROR(IF(Q2852=\"\",\"-\",INDEX(I:I,MATCH(Q2852,C:C,0)+1)),\"-\"))","v":"-"},"-","-"]
[{"$nulls":15},"-",null,{"$f":"SUMIF(Tableau1[Description article],Tableau1[Produits],Tableau1[Emplacement])","v":0},null,{"$f":"Sheet1!$S2853-Sheet1!$R2853","v":0},"-","-","-",{"$f":"IFERROR(Tableau1[[#This Row],[THEO]]-Tableau1[[#This Row],[Qtt 2éme lot]],\"-\")","v":"-"},"-",{"$f":"IF(Tableau1[[#This Row],[2éme lot]]=\"-\",\"-\",IFERROR(IF(Q2853=\"\",\"-\",INDEX(I:I,MATCH(Q2853,C:C,0)+1)),\"-\"))","v":"-"},"-","-"]
[{"$nulls":15},"-",null,{"$f":"SUMIF(Tableau1[Description article],Tableau1[Produits],Tableau1[Emplacement])","v":0},null,{"$f":"Sheet1!$S2854-Sheet1!$R2854","v":0},"-","-","-",{"$f":"IFERROR(Tableau1[[#This Row],[THEO]]-Tableau1[[#This Row],[Qtt 2éme lot]],\"-\")","v":"-"},"-",{"$f":"IF(Tableau1[[#This Row],[2éme lot]]=\"-\",\"-\",IFERROR(IF(Q2854=\"\",\"-\",INDEX(I:I,MATCH(Q2854,C:C,0)+1)),\"-\"))","v":"-"},"-","-"]
[{"$nulls":15},"-",null,{"$f":"SUMIF(Tableau1[Description article],Tableau1[Produits],Tableau1[Emplacement])","v":0},null,{"$f":"Sheet1!$S2855-Sheet1!$R2855","v":0},"-","-","-",{"$f":"IFERROR(Tableau1[[#This Row],[THEO]]-Tableau1[[#This Row],[Qtt 2éme lot]],\"-\")","v":"-"},"-",{"$f":"IF(Tableau1[[#This Row],[2éme lot]]=\"-\",\"-\",IFERROR(IF(Q2855=\"\",\"-\",INDEX(I:I,MATCH(Q2855,C:C,0)+1)),\"-\"))","v":"-"},"-","-"]
[{"$nulls":15},"-",null,{"$f":"SUMIF(Tableau1[Description article],Tableau1[Produits],Tableau1[Emplacement])","v":0},null,{"$f":"Sheet1!$S2856-Sheet1!$R2856","v":0},"-","-","-",{"$f":"IFERROR(Tableau1[[#This Row],[THEO]]-Tableau1[[#This Row],[Qtt 2éme lot]],\"-\")","v":"-"},"-",{"$f":"IF(Tableau1[[#This Row],[2éme lot]]=\"-\",\"-\",IFERROR(IF(Q2856=\"\",\"-\",INDEX(I:I,MATCH(Q2856,C:C,0)+1)),\"-\"))","v":"-"},"-","-"]
[{"$nulls":15},"-",null,{"$f":"SUMIF(Tableau1[Description article],Tableau1[Produits],Tableau1[Emplacement])","v":0},null,{"$f":"Sheet1!$S2857-Sheet1!$R2857","v":0},"-","-","-",{"$f":"IFERROR(Tableau1[[#This Row],[THEO]]-Tableau1[[#This Row],[Qtt 2éme lot]],\"-\")","v":"-"},"-",{"$f":"IF(Tableau1[[#This Row],[2éme lot]]=\"-\",\"-\",IFERROR(IF(Q2857=\"\",\"-\",INDEX(I:I,MATCH(Q2857,C:C,0)+1)),\"-\"))","v":"-"},"-","-"]
[{"$nulls":15},"-",null,{"$f":"SUMIF(Tableau1[Description article],Tableau1[Produits],Tableau1[Emplacement])","v":0},null,{"$f":"Sheet1!$S2858-Sheet1!$R2858","v":0},"-","-","-",{"$f":"IFERROR(Tableau1[[#This Row],[THEO]]-Tableau1[[#This Row],[Qtt 2éme lot]],\"-\")","v":"-"},"-",{"$f":"IF(Tableau1[[#This Row],[2éme lot]]=\"-\",\"-\",IFERROR(IF(Q2858=\"\",\"-\",INDEX(I:I,MATCH(Q2858,C:C,0)+1)),\"-\"))","v":"-"},"-","-"]
[{"$nulls":15},"-",null,{"$f":"SUMIF(Tableau1[Description article],Tableau1[Produits],Tableau1[Emplacement])","v":0},null,{"$f":"Sheet1!$S2859-Sheet1!$R2859","v":0},"-","-","-",{"$f":"IFERROR(Tableau1[[#This Row],[THEO]]-Tableau1[[#This Row],[Qtt 2éme lot]],\"-\")","v":"-"},"-",{"$f":"IF(Tableau1[[#This Row],[2éme lot]]=\"-\",\"-\",IFERROR(IF(Q2859=\"\",\"-\",INDEX(I:I,MATCH(Q2859,C:C,0)+1)),\"-\"))","v":"-"},"-","-"]
[{"$nulls":15},"-",null,{"$f":"SUMIF(Tableau1[Description article],Tableau1[Produits],Tableau1[Emplacement])","v":0},null,{"$f":"Sheet1!$S2860-Sheet1!$R2860","v":0},"-","-","-",{"$f":"IFERROR(Tableau1[[#This Row],[THEO]]-Tableau1[[#This Row],[Qtt 2éme lot]],\"-\")","v":"-"},"-",{"$f":"IF(Tableau1[[#This Row],[2éme lot]]=\"-\",\"-\",IFERROR(IF(Q2860=\"\",\"-\",INDEX(I:I,MATCH(Q2860,C:C,0)+1)),\"-\"))","v":"-"},"-","-"]
[{"$nulls":15},"-",null,{"$f":"SUMIF(Tableau1[Description article],Tableau1[Produits],Tableau1[Emplacement])","v":0},null,{"$f":"Sheet1!$S2861-Sheet1!$R2861","v":0},"-","-","-",{"$f":"IFERROR(Tableau1[[#This Row],[THEO]]-Tableau1[[#This Row],[Qtt 2éme lot]],\"-\")","v":"-"},"-",{"$f":"IF(Tableau1[[#This Row],[2éme lot]]=\"-\",\"-\",IFERROR(IF(Q2861=\"\",\"-\",INDEX(I:I,MATCH(Q2861,C:C,0)+1)),\"-\"))","v":"-"},"-","-"]
[{"$nulls":15},"-",null,{"$f":"SUMIF(Tableau1[Description article],Tableau1[Produits],Tableau1[Emplacement])","v":0},null,{"$f":"Sheet1!$S2862-Sheet1!$R2862","v":0},"-","-","-",{"$f":"IFERROR(Tableau1[[#This Row],[THEO]]-Tableau1[[#This Row],[Qtt 2éme lot]],\"-\")","v":"-"},"-",{"$f":"IF(Tableau1[[#This Row],[2éme lot]]=\"-\",\"-\",IFERROR(IF(Q2862=\"\",\"-\",INDEX(I:I,MATCH(Q2862,C:C,0)+1)),\"-\"))","v":"-"},"-","-"]
[{"$nulls":15},"-",null,{"$f":"SUMIF(Tableau1[Description article],Tableau1[Produits],Tableau1[Emplacement])","v":0},null,{"$f":"Sheet1!$S2863-Sheet1!$R2863","v":0},"-","-","-",{"$f":"IFERROR(Tableau1[[#This Row],[THEO]]-Tableau1[[#This Row],[Qtt 2éme lot]],\"-\")","v":"-"},"-",{"$f":"IF(Tableau1[[#This Row],[2éme lot]]=\"-\",\"-\",IFERROR(IF(Q2863=\"\",\"-\",INDEX(I:I,MATCH(Q2863,C:C,0)+1)),\"-\"))","v":"-"},"-","-"]
[{"$nulls":15},"-",null,{"$f":"SUMIF(Tableau1[Description article],Tableau1[Produits],Tableau1[Emplacement])","v":0},null,{"$f":"Sheet1!$S2864-Sheet1!$R2864","v":0},"-","-","-",{"$f":"IFERROR(Tableau1[[#This Row],[THEO]]-Tableau1[[#This Row],[Qtt 2éme lot]],\"-\")","v":"-"},"-",{"$f":"IF(Tableau1[[#This Row],[2éme lot]]=\"-\",\"-\",IFERROR(IF(Q2864=\"\",\"-\",INDEX(I:I,MATCH(Q2864,C:C,0)+1)),\"-\"))","v":"-"},"-","-"]
[{"$nulls":15},"-",null,{"$f":"SUMIF(Tableau1[Description article],Tableau1[Produits],Tableau1[Emplacement])","v":0},null,{"$f":"Sheet1!$S2865-Sheet1!$R2865","v":0},"-","-","-",{"$f":"IFERROR(Tableau1[[#This Row],[THEO]]-Tableau1[[#This Row],[Qtt 2éme lot]],\"-\")","v":"-"},"-",{"$f":"IF(Tableau1[[#This Row],[2éme lot]]=\"-\",\"-\",IFERROR(IF(Q2865=\"\",\"-\",INDEX(I:I,MATCH(Q2865,C:C,0)+1)),\"-\"))","v":"-"},"-","-"]
[{"$nulls":15},"-",null,{"$f":"SUMIF(Tableau1[Description article],Tableau1[Produits],Tableau1[Emplacement])","v":0},null,{"$f":"Sheet1!$S2866-Sheet1!$R2866","v":0},"-","-","-",{"$f":"IFERROR(Tableau1[[#This Row],[THEO]]-Tableau1[[#This Row],[Qtt 2éme lot]],\"-\")","v":"-"},"-",{"$f":"IF(Tableau1[[#This Row],[2éme lot]]=\"-\",\"-\",IFERROR(IF(Q2866=\"\",\"-\",INDEX(I:I,MATCH(Q2866,C:C,0)+1)),\"-\"))","v":"-"},"-","-"]
[{"$nulls":15},"-",null,{"$f":"SUMIF(Tableau1[Description article],Tableau1[Produits],Tableau1[Emplacement])","v":0},null,{"$f":"Sheet1!$S2867-Sheet1!$R2867","v":0},"-","-","-",{"$f":"IFERROR(Tableau1[[#This Row],[THEO]]-Tableau1[[#This Row],[Qtt 2éme lot]],\"-\")","v":"-"},"-",{"$f":"IF(Tableau1[[#This Row],[2éme lot]]=\"-\",\"-\",IFERROR(IF(Q2867=\"\",\"-\",INDEX(I:I,MATCH(Q2867,C:C,0)+1)),\"-\"))","v":"-"},"-","-"]
[{"$nulls":15},"-",null,{"$f":"SUMIF(Tableau1[Description article],Tableau1[Produits],Tableau1[Emplacement])","v":0},null,{"$f":"Sheet1!$S2868-Sheet1!$R2868","v":0},"-","-","-",{"$f":"IFERROR(Tableau1[[#This Row],[THEO]]-Tableau1[[#This Row],[Qtt 2éme lot]],\"-\")","v":"-"},"-",{"$f":"IF(Tableau1[[#This Row],[2éme lot]]=\"-\",\"-\",IFERROR(IF(Q2868=\"\",\"-\",INDEX(I:I,MATCH(Q2868,C:C,0)+1)),\"-\"))","v":"-"},"-","-"]
[{"$nulls":15},"-",null,{"$f":"SUMIF(Tableau1[Description article],Tableau1[Produits],Tableau1[Emplacement])","v":0},null,{"$f":"Sheet1!$S2869-Sheet1!$R2869","v":0},"-","-","-",{"$f":"IFERROR(Tableau1[[#This Row],[THEO]]-Tableau1[[#This Row],[Qtt 2éme lot]],\"-\")","v":"-"},"-",{"$f":"IF(Tableau1[[#This Row],[2éme lot]]=\"-\",\"-\",IFERROR(IF(Q2869=\"\",\"-\",INDEX(I:I,MATCH(Q2869,C:C,0)+1)),\"-\"))","v":"-"},"-","-"]
[{"$nulls":15},"-",null,{"$f":"SUMIF(Tableau1[Description article],Tableau1[Produits],Tableau1[Emplacement])","v":0},null,{"$f":"Sheet1!$S2870-Sheet1!$R2870","v":0},"-","-","-",{"$f":"IFERROR(Tableau1[[#This Row],[THEO]]-Tableau1[[#This Row],[Qtt 2éme lot]],\"-\")","v":"-"},"-",{"$f":"IF(Tableau1[[#This Row],[2éme lot]]=\"-\",\"-\",IFERROR(IF(Q2870=\"\",\"-\",INDEX(I:I,MATCH(Q2870,C:C,0)+1)),\"-\"))","v":"-"},"-","-"]
[{"$nulls":15},"-",null,{"$f":"SUMIF(Tableau1[Description article],Tableau1[Produits],Tableau1[Emplacement])","v":0},null,{"$f":"Sheet1!$S2871-Sheet1!$R2871","v":0},"-","-","-",{"$f":"IFERROR(Tableau1[[#This Row],[THEO]]-Tableau1[[#This Row],[Qtt 2éme lot]],\"-\")","v":"-"},"-",{"$f":"IF(Tableau1[[#This Row],[2éme lot]]=\"-\",\"-\",IFERROR(IF(Q2871=\"\",\"-\",INDEX(I:I,MATCH(Q2871,C:C,0)+1)),\"-\"))","v":"-"},"-","-"]
[{"$nulls":15},"-",null,{"$f":"SUMIF(Tableau1[Description article],Tableau1[Produits],Tableau1[Emplacement])","v":0},null,{"$f":"Sheet1!$S2872-Sheet1!$R2872","v":0},"-","-","-",{"$f":"IFERROR(Tableau1[[#This Row],[THEO]]-Tableau1[[#This Row],[Qtt 2éme lot]],\"-\")","v":"-"},"-",{"$f":"IF(Tableau1[[#This Row],[2éme lot]]=\"-\",\"-\",IFERROR(IF(Q2872=\"\",\"-\",INDEX(I:I,MATCH(Q2872,C:C,0)+1)),\"-\"))","v":"-"},"-","-"]
[{"$nulls":15},"-",null,{"$f":"SUMIF(Tableau1[Description article],Tableau1[Produits],Tableau1[Emplacement])","v":0},null,{"$f":"Sheet1!$S2873-Sheet1!$R2873","v":0},"-","-","-",{"$f":"IFERROR(Tableau1[[#This Row],[THEO]]-Tableau1[[#This Row],[Qtt 2éme lot]],\"-\")","v":"-"},"-",{"$f":"IF(Tableau1[[#This Row],[2éme lot]]=\"-\",\"-\",IFERROR(IF(Q2873=\"\",\"-\",INDEX(I:I,MATCH(Q2873,C:C,0)+1)),\"-\"))","v":"-"},"-","-"]
[{"$nulls":15},"-",null,{"$f":"SUMIF(Tableau1[Description article],Tableau1[Produits],Tableau1[Emplacement])","v":0},null,{"$f":"Sheet1!$S2874-Sheet1!$R2874","v":0},"-","-","-",{"$f":"IFERROR(Tableau1[[#This Row],[THEO]]-Tableau1[[#This Row],[Qtt 2éme lot]],\"-\")","v":"-"},"-",{"$f":"IF(Tableau1[[#This Row],[2éme lot]]=\"-\",\"-\",IFERROR(IF(Q2874=\"\",\"-\",INDEX(I:I,MATCH(Q2874,C:C,0)+1)),\"-\"))","v":"-"},"-","-"]
[{"$nulls":15},"-",null,{"$f":"SUMIF(Tableau1[Description article],Tableau1[Produits],Tableau1[Emplacement])","v":0},null,{"$f":"Sheet1!$S2875-Sheet1!$R2875","v":0},"-","-","-",{"$f":"IFERROR(Tableau1[[#This Row],[THEO]]-Tableau1[[#This Row],[Qtt 2éme lot]],\"-\")","v":"-"},"-",{"$f":"IF(Tableau1[[#This Row],[2éme lot]]=\"-\",\"-\",IFERROR(IF(Q2875=\"\",\"-\",INDEX(I:I,MATCH(Q2875,C:C,0)+1)),\"-\"))","v":"-"},"-","-"]
[{"$nulls":15},"-",null,{"$f":"SUMIF(Tableau1[Description article],Tableau1[Produits],Tableau1[Emplacement])","v":0},null,{"$f":"Sheet1!$S2876-Sheet1!$R2876","v":0},"-","-","-",{"$f":"IFERROR(Tableau1[[#This Row],[THEO]]-Tableau1[[#This Row],[Qtt 2éme lot]],\"-\")","v":"-"},"-",{"$f":"IF(Tableau1[[#This Row],[2éme lot]]=\"-\",\"-\",IFERROR(IF(Q2876=\"\",\"-\",INDEX(I:I,MATCH(Q2876,C:C,0)+1)),\"-\"))","v":"-"},"-","-"]
[{"$nulls":15},"-",null,{"$f":"SUMIF(Tableau1[Description article],Tableau1[Produits],Tableau1[Emplacement])","v":0},null,{"$f":"Sheet1!$S2877-Sheet1!$R2877","v":0},"-","-","-",{"$f":"IFERROR(Tableau1[[#This Row],[THEO]]-Tableau1[[#This Row],[Qtt 2éme lot]],\"-\")","v":"-"},"-",{"$f":"IF(Tableau1[[#This Row],[2éme lot]]=\"-\",\"-\",IFERROR(IF(Q2877=\"\",\"-\",INDEX(I:I,MATCH(Q2877,C:C,0)+1)),\"-\"))","v":"-"},"-","-"]
[{"$nulls":15},"-",null,{"$f":"SUMIF(Tableau1[Description article],Tableau1[Produits],Tableau1[Emplacement])","v":0},null,{"$f":"Sheet1!$S2878-Sheet1!$R2878","v":0},"-","-","-",{"$f":"IFERROR(Tableau1[[#This Row],[THEO]]-Tableau1[[#This Row],[Qtt 2éme lot]],\"-\")","v":"-"},"-",{"$f":"IF(Tableau1[[#This Row],[2éme lot]]=\"-\",\"-\",IFERROR(IF(Q2878=\"\",\"-\",INDEX(I:I,MATCH(Q2878,C:C,0)+1)),\"-\"))","v":"-"},"-","-"]
[{"$nulls":15},"-",null,{"$f":"SUMIF(Tableau1[Description article],Tableau1[Produits],Tableau1[Emplacement])","v":0},null,{"$f":"Sheet1!$S2879-Sheet1!$R2879","v":0},"-","-","-",{"$f":"IFERROR(Tableau1[[#This Row],[THEO]]-Tableau1[[#This Row],[Qtt 2éme lot]],\"-\")","v":"-"},"-",{"$f":"IF(Tableau1[[#This Row],[2éme lot]]=\"-\",\"-\",IFERROR(IF(Q2879=\"\",\"-\",INDEX(I:I,MATCH(Q2879,C:C,0)+1)),\"-\"))","v":"-"},"-","-"]
[{"$nulls":15},"-",null,{"$f":"SUMIF(Tableau1[Description article],Tableau1[Produits],Tableau1[Emplacement])","v":0},null,{"$f":"Sheet1!$S2880-Sheet1!$R2880","v":0},"-","-","-",{"$f":"IFERROR(Tableau1[[#This Row],[THEO]]-Tableau1[[#This Row],[Qtt 2éme lot]],\"-\")","v":"-"},"-",{"$f":"IF(Tableau1[[#This Row],[2éme lot]]=\"-\",\"-\",IFERROR(IF(Q2880=\"\",\"-\",INDEX(I:I,MATCH(Q2880,C:C,0)+1)),\"-\"))","v":"-"},"-","-"]
[{"$nulls":15},"-",null,{"$f":"SUMIF(Tableau1[Description article],Tableau1[Produits],Tableau1[Emplacement])","v":0},null,{"$f":"Sheet1!$S2881-Sheet1!$R2881","v":0},"-","-","-",{"$f":"IFERROR(Tableau1[[#This Row],[THEO]]-Tableau1[[#This Row],[Qtt 2éme lot]],\"-\")","v":"-"},"-",{"$f":"IF(Tableau1[[#This Row],[2éme lot]]=\"-\",\"-\",IFERROR(IF(Q2881=\"\",\"-\",INDEX(I:I,MATCH(Q2881,C:C,0)+1)),\"-\"))","v":"-"},"-","-"]
[{"$nulls":15},{"$f":"IFERROR(IF(Q2882=\"\",\"-\",INDEX(I:I,MATCH(Q2882,C:C,0))),\"-\")","v":"-"},null,{"$f":"SUMIF(Tableau1[Description article],Tableau1[Produits],Tableau1[Emplacement])","v":0},null,{"$f":"Sheet1!$S2882-Sheet1!$R2882","v":0},{"$f":"IFERROR(IF(Q2882=\"\",\"-\",INDEX(F:F,MATCH(Q2882,C:C,0))),\"-\")","v":"-"},{"$f":"IFERROR(IF(Q2882=\"\",\"-\",INDEX(E:E,MATCH(Q2882,C:C,0))),\"-\")","v":"-"},{"$f":"IFERROR(IF(Q2882=\"\",\"-\",INDEX(N:N,MATCH(Q2882,C:C,0))),\"-\")","v":"-"},{"$f":"IFERROR(Tableau1[[#This Row],[THEO]]-Tableau1[[#This Row],[Qtt 2éme lot]],\"-\")","v":"-"},{"$f":"IF(IF(Q2882=\"\",\"-\",INDEX(E:E,MATCH(Q2882,C:C,0)))=IF(Q2882=\"\",\"-\",INDEX(E:E,MATCH(Q2882,C:C,1))),\"-\",IF(Q2882=\"\",\"-\",INDEX(E:E,MATCH(Q2882,C:C,1))))","v":"-"},{"$f":"IF(Tableau1[[#This Row],[2éme lot]]=\"-\",\"-\",IFERROR(IF(Q2882=\"\",\"-\",INDEX(I:I,MATCH(Q2882,C:C,0)+1)),\"-\"))","v":"-"},{"$f":"IFERROR(IF(Y2882=\"\",\"-\",INDEX(N:N,MATCH(Y2882,E:E,0))),\"-\")","v":"-"},{"$f":"IFERROR(IF(AA2882=\"\",\"-\",INDEX(H:H,MATCH(Y2882,E:E,0))),\"-\")","v":"-"}]
[{"$nulls":15},"-",null,{"$f":"SUMIF(Tableau1[Description article],Tableau1[Produits],Tableau1[Emplacement])","v":0},null,{"$f":"Sheet1!$S2883-Sheet1!$R2883","v":0},"-","-","-",{"$f":"IFERROR(Tableau1[[#This Row],[THEO]]-Tableau1[[#This Row],[Qtt 2éme lot]],\"-\")","v":"-"},"-",{"$f":"IF(Tableau1[[#This Row],[2éme lot]]=\"-\",\"-\",IFERROR(IF(Q2883=\"\",\"-\",INDEX(I:I,MATCH(Q2883,C:C,0)+1)),\"-\"))","v":"-"},"-","-"]
[{"$nulls":15},"-",null,{"$f":"SUMIF(Tableau1[Description article],Tableau1[Produits],Tableau1[Emplacement])","v":0},null,{"$f":"Sheet1!$S2884-Sheet1!$R2884","v":0},"-","-","-",{"$f":"IFERROR(Tableau1[[#This Row],[THEO]]-Tableau1[[#This Row],[Qtt 2éme lot]],\"-\")","v":"-"},"-",{"$f":"IF(Tableau1[[#This Row],[2éme lot]]=\"-\",\"-\",IFERROR(IF(Q2884=\"\",\"-\",INDEX(I:I,MATCH(Q2884,C:C,0)+1)),\"-\"))","v":"-"},"-","-"]
[{"$nulls":15},"-",null,{"$f":"SUMIF(Tableau1[Description article],Tableau1[Produits],Tableau1[Emplacement])","v":0},null,{"$f":"Sheet1!$S2885-Sheet1!$R2885","v":0},"-","-","-",{"$f":"IFERROR(Tableau1[[#This Row],[THEO]]-Tableau1[[#This Row],[Qtt 2éme lot]],\"-\")","v":"-"},"-",{"$f":"IF(Tableau1[[#This Row],[2éme lot]]=\"-\",\"-\",IFERROR(IF(Q2885=\"\",\"-\",INDEX(I:I,MATCH(Q2885,C:C,0)+1)),\"-\"))","v":"-"},"-","-"]
[{"$nulls":15},"-",null,{"$f":"SUMIF(Tableau1[Description article],Tableau1[Produits],Tableau1[Emplacement])","v":0},null,{"$f":"Sheet1!$S2886-Sheet1!$R2886","v":0},"-","-","-",{"$f":"IFERROR(Tableau1[[#This Row],[THEO]]-Tableau1[[#This Row],[Qtt 2éme lot]],\"-\")","v":"-"},"-",{"$f":"IF(Tableau1[[#This Row],[2éme lot]]=\"-\",\"-\",IFERROR(IF(Q2886=\"\",\"-\",INDEX(I:I,MATCH(Q2886,C:C,0)+1)),\"-\"))","v":"-"},"-","-"]
[{"$nulls":15},"-",null,{"$f":"SUMIF(Tableau1[Description article],Tableau1[Produits],Tableau1[Emplacement])","v":0},null,{"$f":"Sheet1!$S2887-Sheet1!$R2887","v":0},"-","-","-",{"$f":"IFERROR(Tableau1[[#This Row],[THEO]]-Tableau1[[#This Row],[Qtt 2éme lot]],\"-\")","v":"-"},"-",{"$f":"IF(Tableau1[[#This Row],[2éme lot]]=\"-\",\"-\",IFERROR(IF(Q2887=\"\",\"-\",INDEX(I:I,MATCH(Q2887,C:C,0)+1)),\"-\"))","v":"-"},"-","-"]
[{"$nulls":15},"-",null,{"$f":"SUMIF(Tableau1[Description article],Tableau1[Produits],Tableau1[Emplacement])","v":0},null,{"$f":"Sheet1!$S2888-Sheet1!$R2888","v":0},"-","-","-",{"$f":"IFERROR(Tableau1[[#This Row],[THEO]]-Tableau1[[#This Row],[Qtt 2éme lot]],\"-\")","v":"-"},"-",{"$f":"IF(Tableau1[[#This Row],[2éme lot]]=\"-\",\"-\",IFERROR(IF(Q2888=\"\",\"-\",INDEX(I:I,MATCH(Q2888,C:C,0)+1)),\"-\"))","v":"-"},"-","-"]
[{"$nulls":15},"-",null,{"$f":"SUMIF(Tableau1[Description article],Tableau1[Produits],Tableau1[Emplacement])","v":0},null,{"$f":"Sheet1!$S2889-Sheet1!$R2889","v":0},"-","-","-",{"$f":"IFERROR(Tableau1[[#This Row],[THEO]]-Tableau1[[#This Row],[Qtt 2éme lot]],\"-\")","v":"-"},"-",{"$f":"IF(Tableau1[[#This Row],[2éme lot]]=\"-\",\"-\",IFERROR(IF(Q2889=\"\",\"-\",INDEX(I:I,MATCH(Q2889,C:C,0)+1)),\"-\"))","v":"-"},"-","-"]
[{"$nulls":15},"-",null,{"$f":"SUMIF(Tableau1[Description article],Tableau1[Produits],Tableau1[Emplacement])","v":0},null,{"$f":"Sheet1!$S2890-Sheet1!$R2890","v":0},"-","-","-",{"$f":"IFERROR(Tableau1[[#This Row],[THEO]]-Tableau1[[#This Row],[Qtt 2éme lot]],\"-\")","v":"-"},"-",{"$f":"IF(Tableau1[[#This Row],[2éme lot]]=\"-\",\"-\",IFERROR(IF(Q2890=\"\",\"-\",INDEX(I:I,MATCH(Q2890,C:C,0)+1)),\"-\"))","v":"-"},"-","-"]
[{"$nulls":15},"-",null,{"$f":"SUMIF(Tableau1[Description article],Tableau1[Produits],Tableau1[Emplacement])","v":0},null,{"$f":"Sheet1!$S2891-Sheet1!$R2891","v":0},"-","-","-",{"$f":"IFERROR(Tableau1[[#This Row],[THEO]]-Tableau1[[#This Row],[Qtt 2éme lot]],\"-\")","v":"-"},"-",{"$f":"IF(Tableau1[[#This Row],[2éme lot]]=\"-\",\"-\",IFERROR(IF(Q2891=\"\",\"-\",INDEX(I:I,MATCH(Q2891,C:C,0)+1)),\"-\"))","v":"-"},"-","-"]
[{"$nulls":15},"-",null,{"$f":"SUMIF(Tableau1[Description article],Tableau1[Produits],Tableau1[Emplacement])","v":0},null,{"$f":"Sheet1!$S2892-Sheet1!$R2892","v":0},"-","-","-",{"$f":"IFERROR(Tableau1[[#This Row],[THEO]]-Tableau1[[#This Row],[Qtt 2éme lot]],\"-\")","v":"-"},"-",{"$f":"IF(Tableau1[[#This Row],[2éme lot]]=\"-\",\"-\",IFERROR(IF(Q2892=\"\",\"-\",INDEX(I:I,MATCH(Q2892,C:C,0)+1)),\"-\"))","v":"-"},"-","-"]
[{"$nulls":15},"-",null,{"$f":"SUMIF(Tableau1[Description article],Tableau1[Produits],Tableau1[Emplacement])","v":0},null,{"$f":"Sheet1!$S2893-Sheet1!$R2893","v":0},"-","-","-",{"$f":"IFERROR(Tableau1[[#This Row],[THEO]]-Tableau1[[#This Row],[Qtt 2éme lot]],\"-\")","v":"-"},"-",{"$f":"IF(Tableau1[[#This Row],[2éme lot]]=\"-\",\"-\",IFERROR(IF(Q2893=\"\",\"-\",INDEX(I:I,MATCH(Q2893,C:C,0)+1)),\"-\"))","v":"-"},"-","-"]
[{"$nulls":15},"-",null,{"$f":"SUMIF(Tableau1[Description article],Tableau1[Produits],Tableau1[Emplacement])","v":0},null,{"$f":"Sheet1!$S2894-Sheet1!$R2894","v":0},"-","-","-",{"$f":"IFERROR(Tableau1[[#This Row],[THEO]]-Tableau1[[#This Row],[Qtt 2éme lot]],\"-\")","v":"-"},"-",{"$f":"IF(Tableau1[[#This Row],[2éme lot]]=\"-\",\"-\",IFERROR(IF(Q2894=\"\",\"-\",INDEX(I:I,MATCH(Q2894,C:C,0)+1)),\"-\"))","v":"-"},"-","-"]
[{"$nulls":15},"-",null,{"$f":"SUMIF(Tableau1[Description article],Tableau1[Produits],Tableau1[Emplacement])","v":0},null,{"$f":"Sheet1!$S2895-Sheet1!$R2895","v":0},"-","-","-",{"$f":"IFERROR(Tableau1[[#This Row],[THEO]]-Tableau1[[#This Row],[Qtt 2éme lot]],\"-\")","v":"-"},"-",{"$f":"IF(Tableau1[[#This Row],[2éme lot]]=\"-\",\"-\",IFERROR(IF(Q2895=\"\",\"-\",INDEX(I:I,MATCH(Q2895,C:C,0)+1)),\"-\"))","v":"-"},"-","-"]
[{"$nulls":15},"-",null,{"$f":"SUMIF(Tableau1[Description article],Tableau1[Produits],Tableau1[Emplacement])","v":0},null,{"$f":"Sheet1!$S2896-Sheet1!$R2896","v":0},"-","-","-",{"$f":"IFERROR(Tableau1[[#This Row],[THEO]]-Tableau1[[#This Row],[Qtt 2éme lot]],\"-\")","v":"-"},"-",{"$f":"IF(Tableau1[[#This Row],[2éme lot]]=\"-\",\"-\",IFERROR(IF(Q2896=\"\",\"-\",INDEX(I:I,MATCH(Q2896,C:C,0)+1)),\"-\"))","v":"-"},"-","-"]
[{"$nulls":15},"-",null,{"$f":"SUMIF(Tableau1[Description article],Tableau1[Produits],Tableau1[Emplacement])","v":0},null,{"$f":"Sheet1!$S2897-Sheet1!$R2897","v":0},"-","-","-",{"$f":"IFERROR(Tableau1[[#This Row],[THEO]]-Tableau1[[#This Row],[Qtt 2éme lot]],\"-\")","v":"-"},"-",{"$f":"IF(Tableau1[[#This Row],[2éme lot]]=\"-\",\"-\",IFERROR(IF(Q2897=\"\",\"-\",INDEX(I:I,MATCH(Q2897,C:C,0)+1)),\"-\"))","v":"-"},"-","-"]
[{"$nulls":15},"-",null,{"$f":"SUMIF(Tableau1[Description article],Tableau1[Produits],Tableau1[Emplacement])","v":0},null,{"$f":"Sheet1!$S2898-Sheet1!$R2898","v":0},"-","-","-",{"$f":"IFERROR(Tableau1[[#This Row],[THEO]]-Tableau1[[#This Row],[Qtt 2éme lot]],\"-\")","v":"-"},"-",{"$f":"IF(Tableau1[[#This Row],[2éme lot]]=\"-\",\"-\",IFERROR(IF(Q2898=\"\",\"-\",INDEX(I:I,MATCH(Q2898,C:C,0)+1)),\"-\"))","v":"-"},"-","-"]
[{"$nulls":15},"-",null,{"$f":"SUMIF(Tableau1[Description article],Tableau1[Produits],Tableau1[Emplacement])","v":0},null,{"$f":"Sheet1!$S2899-Sheet1!$R2899","v":0},"-","-","-",{"$f":"IFERROR(Tableau1[[#This Row],[THEO]]-Tableau1[[#This Row],[Qtt 2éme lot]],\"-\")","v":"-"},"-",{"$f":"IF(Tableau1[[#This Row],[2éme lot]]=\"-\",\"-\",IFERROR(IF(Q2899=\"\",\"-\",INDEX(I:I,MATCH(Q2899,C:C,0)+1)),\"-\"))","v":"-"},"-","-"]
[{"$nulls":15},"-",null,{"$f":"SUMIF(Tableau1[Description article],Tableau1[Produits],Tableau1[Emplacement])","v":0},null,{"$f":"Sheet1!$S2900-Sheet1!$R2900","v":0},"-","-","-",{"$f":"IFERROR(Tableau1[[#This Row],[THEO]]-Tableau1[[#This Row],[Qtt 2éme lot]],\"-\")","v":"-"},"-",{"$f":"IF(Tableau1[[#This Row],[2éme lot]]=\"-\",\"-\",IFERROR(IF(Q2900=\"\",\"-\",INDEX(I:I,MATCH(Q2900,C:C,0)+1)),\"-\"))","v":"-"},"-","-"]
[{"$nulls":15},"-",null,{"$f":"SUMIF(Tableau1[Description article],Tableau1[Produits],Tableau1[Emplacement])","v":0},null,{"$f":"Sheet1!$S2901-Sheet1!$R2901","v":0},"-","-","-",{"$f":"IFERROR(Tableau1[[#This Row],[THEO]]-Tableau1[[#This Row],[Qtt 2éme lot]],\"-\")","v":"-"},"-",{"$f":"IF(Tableau1[[#This Row],[2éme lot]]=\"-\",\"-\",IFERROR(IF(Q2901=\"\",\"-\",INDEX(I:I,MATCH(Q2901,C:C,0)+1)),\"-\"))","v":"-"},"-","-"]
[{"$nulls":15},"-",null,{"$f":"SUMIF(Tableau1[Description article],Tableau1[Produits],Tableau1[Emplacement])","v":0},null,{"$f":"Sheet1!$S2902-Sheet1!$R2902","v":0},"-","-","-",{"$f":"IFERROR(Tableau1[[#This Row],[THEO]]-Tableau1[[#This Row],[Qtt 2éme lot]],\"-\")","v":"-"},"-",{"$f":"IF(Tableau1[[#This Row],[2éme lot]]=\"-\",\"-\",IFERROR(IF(Q2902=\"\",\"-\",INDEX(I:I,MATCH(Q2902,C:C,0)+1)),\"-\"))","v":"-"},"-","-"]
[{"$nulls":15},"-",null,{"$f":"SUMIF(Tableau1[Description article],Tableau1[Produits],Tableau1[Emplacement])","v":0},null,{"$f":"Sheet1!$S2903-Sheet1!$R2903","v":0},"-","-","-",{"$f":"IFERROR(Tableau1[[#This Row],[THEO]]-Tableau1[[#This Row],[Qtt 2éme lot]],\"-\")","v":"-"},"-",{"$f":"IF(Tableau1[[#This Row],[2éme lot]]=\"-\",\"-\",IFERROR(IF(Q2903=\"\",\"-\",INDEX(I:I,MATCH(Q2903,C:C,0)+1)),\"-\"))","v":"-"},"-","-"]
[{"$nulls":15},"-",null,{"$f":"SUMIF(Tableau1[Description article],Tableau1[Produits],Tableau1[Emplacement])","v":0},null,{"$f":"Sheet1!$S2904-Sheet1!$R2904","v":0},"-","-","-",{"$f":"IFERROR(Tableau1[[#This Row],[THEO]]-Tableau1[[#This Row],[Qtt 2éme lot]],\"-\")","v":"-"},"-",{"$f":"IF(Tableau1[[#This Row],[2éme lot]]=\"-\",\"-\",IFERROR(IF(Q2904=\"\",\"-\",INDEX(I:I,MATCH(Q2904,C:C,0)+1)),\"-\"))","v":"-"},"-","-"]
[{"$nulls":15},"-",null,{"$f":"SUMIF(Tableau1[Description article],Tableau1[Produits],Tableau1[Emplacement])","v":0},null,{"$f":"Sheet1!$S2905-Sheet1!$R2905","v":0},"-","-","-",{"$f":"IFERROR(Tableau1[[#This Row],[THEO]]-Tableau1[[#This Row],[Qtt 2éme lot]],\"-\")","v":"-"},"-",{"$f":"IF(Tableau1[[#This Row],[2éme lot]]=\"-\",\"-\",IFERROR(IF(Q2905=\"\",\"-\",INDEX(I:I,MATCH(Q2905,C:C,0)+1)),\"-\"))","v":"-"},"-","-"]
[{"$nulls":15},"-",null,{"$f":"SUMIF(Tableau1[Description article],Tableau1[Produits],Tableau1[Emplacement])","v":0},null,{"$f":"Sheet1!$S2906-Sheet1!$R2906","v":0},"-","-","-",{"$f":"IFERROR(Tableau1[[#This Row],[THEO]]-Tableau1[[#This Row],[Qtt 2éme lot]],\"-\")","v":"-"},"-",{"$f":"IF(Tableau1[[#This Row],[2éme lot]]=\"-\",\"-\",IFERROR(IF(Q2906=\"\",\"-\",INDEX(I:I,MATCH(Q2906,C:C,0)+1)),\"-\"))","v":"-"},"-","-"]
[{"$nulls":15},"-",null,{"$f":"SUMIF(Tableau1[Description article],Tableau1[Produits],Tableau1[Emplacement])","v":0},null,{"$f":"Sheet1!$S2907-Sheet1!$R2907","v":0},"-","-","-",{"$f":"IFERROR(Tableau1[[#This Row],[THEO]]-Tableau1[[#This Row],[Qtt 2éme lot]],\"-\")","v":"-"},"-",{"$f":"IF(Tableau1[[#This Row],[2éme lot]]=\"-\",\"-\",IFERROR(IF(Q2907=\"\",\"-\",INDEX(I:I,MATCH(Q2907,C:C,0)+1)),\"-\"))","v":"-"},"-","-"]
[{"$nulls":15},"-",null,{"$f":"SUMIF(Tableau1[Description article],Tableau1[Produits],Tableau1[Emplacement])","v":0},null,{"$f":"Sheet1!$S2908-Sheet1!$R2908","v":0},"-","-","-",{"$f":"IFERROR(Tableau1[[#This Row],[THEO]]-Tableau1[[#This Row],[Qtt 2éme lot]],\"-\")","v":"-"},"-",{"$f":"IF(Tableau1[[#This Row],[2éme lot]]=\"-\",\"-\",IFERROR(IF(Q2908=\"\",\"-\",INDEX(I:I,MATCH(Q2908,C:C,0)+1)),\"-\"))","v":"-"},"-","-"]
[{"$nulls":15},"-",null,{"$f":"SUMIF(Tableau1[Description article],Tableau1[Produits],Tableau1[Emplacement])","v":0},null,{"$f":"Sheet1!$S2909-Sheet1!$R2909","v":0},"-","-","-",{"$f":"IFERROR(Tableau1[[#This Row],[THEO]]-Tableau1[[#This Row],[Qtt 2éme lot]],\"-\")","v":"-"},"-",{"$f":"IF(Tableau1[[#This Row],[2éme lot]]=\"-\",\"-\",IFERROR(IF(Q2909=\"\",\"-\",INDEX(I:I,MATCH(Q2909,C:C,0)+1)),\"-\"))","v":"-"},"-","-"]
[{"$nulls":15},"-",null,{"$f":"SUMIF(Tableau1[Description article],Tableau1[Produits],Tableau1[Emplacement])","v":0},null,{"$f":"Sheet1!$S2910-Sheet1!$R2910","v":0},"-","-","-",{"$f":"IFERROR(Tableau1[[#This Row],[THEO]]-Tableau1[[#This Row],[Qtt 2éme lot]],\"-\")","v":"-"},"-",{"$f":"IF(Tableau1[[#This Row],[2éme lot]]=\"-\",\"-\",IFERROR(IF(Q2910=\"\",\"-\",INDEX(I:I,MATCH(Q2910,C:C,0)+1)),\"-\"))","v":"-"},"-","-"]
[{"$nulls":15},"-",null,{"$f":"SUMIF(Tableau1[Description article],Tableau1[Produits],Tableau1[Emplacement])","v":0},null,{"$f":"Sheet1!$S2911-Sheet1!$R2911","v":0},"-","-","-",{"$f":"IFERROR(Tableau1[[#This Row],[THEO]]-Tableau1[[#This Row],[Qtt 2éme lot]],\"-\")","v":"-"},"-",{"$f":"IF(Tableau1[[#This Row],[2éme lot]]=\"-\",\"-\",IFERROR(IF(Q2911=\"\",\"-\",INDEX(I:I,MATCH(Q2911,C:C,0)+1)),\"-\"))","v":"-"},"-","-"]
[{"$nulls":15},"-",null,{"$f":"SUMIF(Tableau1[Description article],Tableau1[Produits],Tableau1[Emplacement])","v":0},null,{"$f":"Sheet1!$S2912-Sheet1!$R2912","v":0},"-","-","-",{"$f":"IFERROR(Tableau1[[#This Row],[THEO]]-Tableau1[[#This Row],[Qtt 2éme lot]],\"-\")","v":"-"},"-",{"$f":"IF(Tableau1[[#This Row],[2éme lot]]=\"-\",\"-\",IFERROR(IF(Q2912=\"\",\"-\",INDEX(I:I,MATCH(Q2912,C:C,0)+1)),\"-\"))","v":"-"},"-","-"]
[{"$nulls":15},"-",null,{"$f":"SUMIF(Tableau1[Description article],Tableau1[Produits],Tableau1[Emplacement])","v":0},null,{"$f":"Sheet1!$S2913-Sheet1!$R2913","v":0},"-","-","-",{"$f":"IFERROR(Tableau1[[#This Row],[THEO]]-Tableau1[[#This Row],[Qtt 2éme lot]],\"-\")","v":"-"},"-",{"$f":"IF(Tableau1[[#This Row],[2éme lot]]=\"-\",\"-\",IFERROR(IF(Q2913=\"\",\"-\",INDEX(I:I,MATCH(Q2913,C:C,0)+1)),\"-\"))","v":"-"},"-","-"]
[{"$nulls":15},"-",null,{"$f":"SUMIF(Tableau1[Description article],Tableau1[Produits],Tableau1[Emplacement])","v":0},null,{"$f":"Sheet1!$S2914-Sheet1!$R2914","v":0},"-","-","-",{"$f":"IFERROR(Tableau1[[#This Row],[THEO]]-Tableau1[[#This Row],[Qtt 2éme lot]],\"-\")","v":"-"},"-",{"$f":"IF(Tableau1[[#This Row],[2éme lot]]=\"-\",\"-\",IFERROR(IF(Q2914=\"\",\"-\",INDEX(I:I,MATCH(Q2914,C:C,0)+1)),\"-\"))","v":"-"},"-","-"]
[{"$nulls":15},"-",null,{"$f":"SUMIF(Tableau1[Description article],Tableau1[Produits],Tableau1[Emplacement])","v":0},null,{"$f":"Sheet1!$S2915-Sheet1!$R2915","v":0},"-","-","-",{"$f":"IFERROR(Tableau1[[#This Row],[THEO]]-Tableau1[[#This Row],[Qtt 2éme lot]],\"-\")","v":"-"},"-",{"$f":"IF(Tableau1[[#This Row],[2éme lot]]=\"-\",\"-\",IFERROR(IF(Q2915=\"\",\"-\",INDEX(I:I,MATCH(Q2915,C:C,0)+1)),\"-\"))","v":"-"},"-","-"]
[{"$nulls":15},"-",null,{"$f":"SUMIF(Tableau1[Description article],Tableau1[Produits],Tableau1[Emplacement])","v":0},null,{"$f":"Sheet1!$S2916-Sheet1!$R2916","v":0},"-","-","-",{"$f":"IFERROR(Tableau1[[#This Row],[THEO]]-Tableau1[[#This Row],[Qtt 2éme lot]],\"-\")","v":"-"},"-",{"$f":"IF(Tableau1[[#This Row],[2éme lot]]=\"-\",\"-\",IFERROR(IF(Q2916=\"\",\"-\",INDEX(I:I,MATCH(Q2916,C:C,0)+1)),\"-\"))","v":"-"},"-","-"]
[{"$nulls":15},"-",null,{"$f":"SUMIF(Tableau1[Description article],Tableau1[Produits],Tableau1[Emplacement])","v":0},null,{"$f":"Sheet1!$S2917-Sheet1!$R2917","v":0},"-","-","-",{"$f":"IFERROR(Tableau1[[#This Row],[THEO]]-Tableau1[[#This Row],[Qtt 2éme lot]],\"-\")","v":"-"},"-",{"$f":"IF(Tableau1[[#This Row],[2éme lot]]=\"-\",\"-\",IFERROR(IF(Q2917=\"\",\"-\",INDEX(I:I,MATCH(Q2917,C:C,0)+1)),\"-\"))","v":"-"},"-","-"]
[{"$nulls":15},"-",null,{"$f":"SUMIF(Tableau1[Description article],Tableau1[Produits],Tableau1[Emplacement])","v":0},null,{"$f":"Sheet1!$S2918-Sheet1!$R2918","v":0},"-","-","-",{"$f":"IFERROR(Tableau1[[#This Row],[THEO]]-Tableau1[[#This Row],[Qtt 2éme lot]],\"-\")","v":"-"},"-",{"$f":"IF(Tableau1[[#This Row],[2éme lot]]=\"-\",\"-\",IFERROR(IF(Q2918=\"\",\"-\",INDEX(I:I,MATCH(Q2918,C:C,0)+1)),\"-\"))","v":"-"},"-","-"]
[{"$nulls":15},"-",null,{"$f":"SUMIF(Tableau1[Description article],Tableau1[Produits],Tableau1[Emplacement])","v":0},null,{"$f":"Sheet1!$S2919-Sheet1!$R2919","v":0},"-","-","-",{"$f":"IFERROR(Tableau1[[#This Row],[THEO]]-Tableau1[[#This Row],[Qtt 2éme lot]],\"-\")","v":"-"},"-",{"$f":"IF(Tableau1[[#This Row],[2éme lot]]=\"-\",\"-\",IFERROR(IF(Q2919=\"\",\"-\",INDEX(I:I,MATCH(Q2919,C:C,0)+1)),\"-\"))","v":"-"},"-","-"]
[{"$nulls":15},"-",null,{"$f":"SUMIF(Tableau1[Description article],Tableau1[Produits],Tableau1[Emplacement])","v":0},null,{"$f":"Sheet1!$S2920-Sheet1!$R2920","v":0},"-","-","-",{"$f":"IFERROR(Tableau1[[#This Row],[THEO]]-Tableau1[[#This Row],[Qtt 2éme lot]],\"-\")","v":"-"},"-",{"$f":"IF(Tableau1[[#This Row],[2éme lot]]=\"-\",\"-\",IFERROR(IF(Q2920=\"\",\"-\",INDEX(I:I,MATCH(Q2920,C:C,0)+1)),\"-\"))","v":"-"},"-","-"]
[{"$nulls":15},"-",null,{"$f":"SUMIF(Tableau1[Description article],Tableau1[Produits],Tableau1[Emplacement])","v":0},null,{"$f":"Sheet1!$S2921-Sheet1!$R2921","v":0},"-","-","-",{"$f":"IFERROR(Tableau1[[#This Row],[THEO]]-Tableau1[[#This Row],[Qtt 2éme lot]],\"-\")","v":"-"},"-",{"$f":"IF(Tableau1[[#This Row],[2éme lot]]=\"-\",\"-\",IFERROR(IF(Q2921=\"\",\"-\",INDEX(I:I,MATCH(Q2921,C:C,0)+1)),\"-\"))","v":"-"},"-","-"]
[{"$nulls":15},"-",null,{"$f":"SUMIF(Tableau1[Description article],Tableau1[Produits],Tableau1[Emplacement])","v":0},null,{"$f":"Sheet1!$S2922-Sheet1!$R2922","v":0},"-","-","-",{"$f":"IFERROR(Tableau1[[#This Row],[THEO]]-Tableau1[[#This Row],[Qtt 2éme lot]],\"-\")","v":"-"},"-",{"$f":"IF(Tableau1[[#This Row],[2éme lot]]=\"-\",\"-\",IFERROR(IF(Q2922=\"\",\"-\",INDEX(I:I,MATCH(Q2922,C:C,0)+1)),\"-\"))","v":"-"},"-","-"]
[{"$nulls":15},"-",null,{"$f":"SUMIF(Tableau1[Description article],Tableau1[Produits],Tableau1[Emplacement])","v":0},null,{"$f":"Sheet1!$S2923-Sheet1!$R2923","v":0},"-","-","-",{"$f":"IFERROR(Tableau1[[#This Row],[THEO]]-Tableau1[[#This Row],[Qtt 2éme lot]],\"-\")","v":"-"},"-",{"$f":"IF(Tableau1[[#This Row],[2éme lot]]=\"-\",\"-\",IFERROR(IF(Q2923=\"\",\"-\",INDEX(I:I,MATCH(Q2923,C:C,0)+1)),\"-\"))","v":"-"},"-","-"]
[{"$nulls":15},"-",null,{"$f":"SUMIF(Tableau1[Description article],Tableau1[Produits],Tableau1[Emplacement])","v":0},null,{"$f":"Sheet1!$S2924-Sheet1!$R2924","v":0},"-","-","-",{"$f":"IFERROR(Tableau1[[#This Row],[THEO]]-Tableau1[[#This Row],[Qtt 2éme lot]],\"-\")","v":"-"},"-",{"$f":"IF(Tableau1[[#This Row],[2éme lot]]=\"-\",\"-\",IFERROR(IF(Q2924=\"\",\"-\",INDEX(I:I,MATCH(Q2924,C:C,0)+1)),\"-\"))","v":"-"},"-","-"]
[{"$nulls":15},"-",null,{"$f":"SUMIF(Tableau1[Description article],Tableau1[Produits],Tableau1[Emplacement])","v":0},null,{"$f":"Sheet1!$S2925-Sheet1!$R2925","v":0},"-","-","-",{"$f":"IFERROR(Tableau1[[#This Row],[THEO]]-Tableau1[[#This Row],[Qtt 2éme lot]],\"-\")","v":"-"},"-",{"$f":"IF(Tableau1[[#This Row],[2éme lot]]=\"-\",\"-\",IFERROR(IF(Q2925=\"\",\"-\",INDEX(I:I,MATCH(Q2925,C:C,0)+1)),\"-\"))","v":"-"},"-","-"]
[{"$nulls":15},"-",null,{"$f":"SUMIF(Tableau1[Description article],Tableau1[Produits],Tableau1[Emplacement])","v":0},null,{"$f":"Sheet1!$S2926-Sheet1!$R2926","v":0},"-","-","-",{"$f":"IFERROR(Tableau1[[#This Row],[THEO]]-Tableau1[[#This Row],[Qtt 2éme lot]],\"-\")","v":"-"},"-",{"$f":"IF(Tableau1[[#This Row],[2éme lot]]=\"-\",\"-\",IFERROR(IF(Q2926=\"\",\"-\",INDEX(I:I,MATCH(Q2926,C:C,0)+1)),\"-\"))","v":"-"},"-","-"]
[{"$nulls":15},"-",null,{"$f":"SUMIF(Tableau1[Description article],Tableau1[Produits],Tableau1[Emplacement])","v":0},null,{"$f":"Sheet1!$S2927-Sheet1!$R2927","v":0},"-","-","-",{"$f":"IFERROR(Tableau1[[#This Row],[THEO]]-Tableau1[[#This Row],[Qtt 2éme lot]],\"-\")","v":"-"},"-",{"$f":"IF(Tableau1[[#This Row],[2éme lot]]=\"-\",\"-\",IFERROR(IF(Q2927=\"\",\"-\",INDEX(I:I,MATCH(Q2927,C:C,0)+1)),\"-\"))","v":"-"},"-","-"]
[{"$nulls":15},"-",null,{"$f":"SUMIF(Tableau1[Description article],Tableau1[Produits],Tableau1[Emplacement])","v":0},null,{"$f":"Sheet1!$S2928-Sheet1!$R2928","v":0},"-","-","-",{"$f":"IFERROR(Tableau1[[#This Row],[THEO]]-Tableau1[[#This Row],[Qtt 2éme lot]],\"-\")","v":"-"},"-",{"$f":"IF(Tableau1[[#This Row],[2éme lot]]=\"-\",\"-\",IFERROR(IF(Q2928=\"\",\"-\",INDEX(I:I,MATCH(Q2928,C:C,0)+1)),\"-\"))","v":"-"},"-","-"]
[{"$nulls":15},"-",null,{"$f":"SUMIF(Tableau1[Description article],Tableau1[Produits],Tableau1[Emplacement])","v":0},null,{"$f":"Sheet1!$S2929-Sheet1!$R2929","v":0},"-","-","-",{"$f":"IFERROR(Tableau1[[#This Row],[THEO]]-Tableau1[[#This Row],[Qtt 2éme lot]],\"-\")","v":"-"},"-",{"$f":"IF(Tableau1[[#This Row],[2éme lot]]=\"-\",\"-\",IFERROR(IF(Q2929=\"\",\"-\",INDEX(I:I,MATCH(Q2929,C:C,0)+1)),\"-\"))","v":"-"},"-","-"]
[{"$nulls":15},"-",null,{"$f":"SUMIF(Tableau1[Description article],Tableau1[Produits],Tableau1[Emplacement])","v":0},null,{"$f":"Sheet1!$S2930-Sheet1!$R2930","v":0},"-","-","-",{"$f":"IFERROR(Tableau1[[#This Row],[THEO]]-Tableau1[[#This Row],[Qtt 2éme lot]],\"-\")","v":"-"},"-",{"$f":"IF(Tableau1[[#This Row],[2éme lot]]=\"-\",\"-\",IFERROR(IF(Q2930=\"\",\"-\",INDEX(I:I,MATCH(Q2930,C:C,0)+1)),\"-\"))","v":"-"},"-","-"]
[{"$nulls":15},"-",null,{"$f":"SUMIF(Tableau1[Description article],Tableau1[Produits],Tableau1[Emplacement])","v":0},null,{"$f":"Sheet1!$S2931-Sheet1!$R2931","v":0},"-","-","-",{"$f":"IFERROR(Tableau1[[#This Row],[THEO]]-Tableau1[[#This Row],[Qtt 2éme lot]],\"-\")","v":"-"},"-",{"$f":"IF(Tableau1[[#This Row],[2éme lot]]=\"-\",\"-\",IFERROR(IF(Q2931=\"\",\"-\",INDEX(I:I,MATCH(Q2931,C:C,0)+1)),\"-\"))","v":"-"},"-","-"]
[{"$nulls":15},"-",null,{"$f":"SUMIF(Tableau1[Description article],Tableau1[Produits],Tableau1[Emplacement])","v":0},null,{"$f":"Sheet1!$S2932-Sheet1!$R2932","v":0},"-","-","-",{"$f":"IFERROR(Tableau1[[#This Row],[THEO]]-Tableau1[[#This Row],[Qtt 2éme lot]],\"-\")","v":"-"},"-",{"$f":"IF(Tableau1[[#This Row],[2éme lot]]=\"-\",\"-\",IFERROR(IF(Q2932=\"\",\"-\",INDEX(I:I,MATCH(Q2932,C:C,0)+1)),\"-\"))","v":"-"},"-","-"]
[{"$nulls":15},"-",null,{"$f":"SUMIF(Tableau1[Description article],Tableau1[Produits],Tableau1[Emplacement])","v":0},null,{"$f":"Sheet1!$S2933-Sheet1!$R2933","v":0},"-","-","-",{"$f":"IFERROR(Tableau1[[#This Row],[THEO]]-Tableau1[[#This Row],[Qtt 2éme lot]],\"-\")","v":"-"},"-",{"$f":"IF(Tableau1[[#This Row],[2éme lot]]=\"-\",\"-\",IFERROR(IF(Q2933=\"\",\"-\",INDEX(I:I,MATCH(Q2933,C:C,0)+1)),\"-\"))","v":"-"},"-","-"]
[{"$nulls":15},"-",null,{"$f":"SUMIF(Tableau1[Description article],Tableau1[Produits],Tableau1[Emplacement])","v":0},null,{"$f":"Sheet1!$S2934-Sheet1!$R2934","v":0},"-","-","-",{"$f":"IFERROR(Tableau1[[#This Row],[THEO]]-Tableau1[[#This Row],[Qtt 2éme lot]],\"-\")","v":"-"},"-",{"$f":"IF(Tableau1[[#This Row],[2éme lot]]=\"-\",\"-\",IFERROR(IF(Q2934=\"\",\"-\",INDEX(I:I,MATCH(Q2934,C:C,0)+1)),\"-\"))","v":"-"},"-","-"]
[{"$nulls":15},"-",null,{"$f":"SUMIF(Tableau1[Description article],Tableau1[Produits],Tableau1[Emplacement])","v":0},null,{"$f":"Sheet1!$S2935-Sheet1!$R2935","v":0},"-","-","-",{"$f":"IFERROR(Tableau1[[#This Row],[THEO]]-Tableau1[[#This Row],[Qtt 2éme lot]],\"-\")","v":"-"},"-",{"$f":"IF(Tableau1[[#This Row],[2éme lot]]=\"-\",\"-\",IFERROR(IF(Q2935=\"\",\"-\",INDEX(I:I,MATCH(Q2935,C:C,0)+1)),\"-\"))","v":"-"},"-","-"]
[{"$nulls":15},"-",null,{"$f":"SUMIF(Tableau1[Description article],Tableau1[Produits],Tableau1[Emplacement])","v":0},null,{"$f":"Sheet1!$S2936-Sheet1!$R2936","v":0},"-","-","-",{"$f":"IFERROR(Tableau1[[#This Row],[THEO]]-Tableau1[[#This Row],[Qtt 2éme lot]],\"-\")","v":"-"},"-",{"$f":"IF(Tableau1[[#This Row],[2éme lot]]=\"-\",\"-\",IFERROR(IF(Q2936=\"\",\"-\",INDEX(I:I,MATCH(Q2936,C:C,0)+1)),\"-\"))","v":"-"},"-","-"]
[{"$nulls":15},"-",null,{"$f":"SUMIF(Tableau1[Description article],Tableau1[Produits],Tableau1[Emplacement])","v":0},null,{"$f":"Sheet1!$S2937-Sheet1!$R2937","v":0},"-","-","-",{"$f":"IFERROR(Tableau1[[#This Row],[THEO]]-Tableau1[[#This Row],[Qtt 2éme lot]],\"-\")","v":"-"},"-",{"$f":"IF(Tableau1[[#This Row],[2éme lot]]=\"-\",\"-\",IFERROR(IF(Q2937=\"\",\"-\",INDEX(I:I,MATCH(Q2937,C:C,0)+1)),\"-\"))","v":"-"},"-","-"]
[{"$nulls":15},"-",null,{"$f":"SUMIF(Tableau1[Description article],Tableau1[Produits],Tableau1[Emplacement])","v":0},null,{"$f":"Sheet1!$S2938-Sheet1!$R2938","v":0},"-","-","-",{"$f":"IFERROR(Tableau1[[#This Row],[THEO]]-Tableau1[[#This Row],[Qtt 2éme lot]],\"-\")","v":"-"},"-",{"$f":"IF(Tableau1[[#This Row],[2éme lot]]=\"-\",\"-\",IFERROR(IF(Q2938=\"\",\"-\",INDEX(I:I,MATCH(Q2938,C:C,0)+1)),\"-\"))","v":"-"},"-","-"]
[{"$nulls":15},"-",null,{"$f":"SUMIF(Tableau1[Description article],Tableau1[Produits],Tableau1[Emplacement])","v":0},null,{"$f":"Sheet1!$S2939-Sheet1!$R2939","v":0},"-","-","-",{"$f":"IFERROR(Tableau1[[#This Row],[THEO]]-Tableau1[[#This Row],[Qtt 2éme lot]],\"-\")","v":"-"},"-",{"$f":"IF(Tableau1[[#This Row],[2éme lot]]=\"-\",\"-\",IFERROR(IF(Q2939=\"\",\"-\",INDEX(I:I,MATCH(Q2939,C:C,0)+1)),\"-\"))","v":"-"},"-","-"]
[{"$nulls":15},"-",null,{"$f":"SUMIF(Tableau1[Description article],Tableau1[Produits],Tableau1[Emplacement])","v":0},null,{"$f":"Sheet1!$S2940-Sheet1!$R2940","v":0},"-","-","-",{"$f":"IFERROR(Tableau1[[#This Row],[THEO]]-Tableau1[[#This Row],[Qtt 2éme lot]],\"-\")","v":"-"},"-",{"$f":"IF(Tableau1[[#This Row],[2éme lot]]=\"-\",\"-\",IFERROR(IF(Q2940=\"\",\"-\",INDEX(I:I,MATCH(Q2940,C:C,0)+1)),\"-\"))","v":"-"},"-","-"]
[{"$nulls":15},"-",null,{"$f":"SUMIF(Tableau1[Description article],Tableau1[Produits],Tableau1[Emplacement])","v":0},null,{"$f":"Sheet1!$S2941-Sheet1!$R2941","v":0},"-","-","-",{"$f":"IFERROR(Tableau1[[#This Row],[THEO]]-Tableau1[[#This Row],[Qtt 2éme lot]],\"-\")","v":"-"},"-",{"$f":"IF(Tableau1[[#This Row],[2éme lot]]=\"-\",\"-\",IFERROR(IF(Q2941=\"\",\"-\",INDEX(I:I,MATCH(Q2941,C:C,0)+1)),\"-\"))","v":"-"},"-","-"]
[{"$nulls":15},"-",null,{"$f":"SUMIF(Tableau1[Description article],Tableau1[Produits],Tableau1[Emplacement])","v":0},null,{"$f":"Sheet1!$S2942-Sheet1!$R2942","v":0},"-","-","-",{"$f":"IFERROR(Tableau1[[#This Row],[THEO]]-Tableau1[[#This Row],[Qtt 2éme lot]],\"-\")","v":"-"},"-",{"$f":"IF(Tableau1[[#This Row],[2éme lot]]=\"-\",\"-\",IFERROR(IF(Q2942=\"\",\"-\",INDEX(I:I,MATCH(Q2942,C:C,0)+1)),\"-\"))","v":"-"},"-","-"]
[{"$nulls":15},"-",null,{"$f":"SUMIF(Tableau1[Description article],Tableau1[Produits],Tableau1[Emplacement])","v":0},null,{"$f":"Sheet1!$S2943-Sheet1!$R2943","v":0},"-","-","-",{"$f":"IFERROR(Tableau1[[#This Row],[THEO]]-Tableau1[[#This Row],[Qtt 2éme lot]],\"-\")","v":"-"},"-",{"$f":"IF(Tableau1[[#This Row],[2éme lot]]=\"-\",\"-\",IFERROR(IF(Q2943=\"\",\"-\",INDEX(I:I,MATCH(Q2943,C:C,0)+1)),\"-\"))","v":"-"},"-","-"]
[{"$nulls":15},"-",null,{"$f":"SUMIF(Tableau1[Description article],Tableau1[Produits],Tableau1[Emplacement])","v":0},null,{"$f":"Sheet1!$S2944-Sheet1!$R2944","v":0},"-","-","-",{"$f":"IFERROR(Tableau1[[#This Row],[THEO]]-Tableau1[[#This Row],[Qtt 2éme lot]],\"-\")","v":"-"},"-",{"$f":"IF(Tableau1[[#This Row],[2éme lot]]=\"-\",\"-\",IFERROR(IF(Q2944=\"\",\"-\",INDEX(I:I,MATCH(Q2944,C:C,0)+1)),\"-\"))","v":"-"},"-","-"]
[{"$nulls":15},"-",null,{"$f":"SUMIF(Tableau1[Description article],Tableau1[Produits],Tableau1[Emplacement])","v":0},null,{"$f":"Sheet1!$S2945-Sheet1!$R2945","v":0},"-","-","-",{"$f":"IFERROR(Tableau1[[#This Row],[THEO]]-Tableau1[[#This Row],[Qtt 2éme lot]],\"-\")","v":"-"},"-",{"$f":"IF(Tableau1[[#This Row],[2éme lot]]=\"-\",\"-\",IFERROR(IF(Q2945=\"\",\"-\",INDEX(I:I,MATCH(Q2945,C:C,0)+1)),\"-\"))","v":"-"},"-","-"]
[{"$nulls":15},{"$f":"IFERROR(IF(Q2946=\"\",\"-\",INDEX(I:I,MATCH(Q2946,C:C,0))),\"-\")","v":"-"},null,{"$f":"SUMIF(Tableau1[Description article],Tableau1[Produits],Tableau1[Emplacement])","v":0},null,{"$f":"Sheet1!$S2946-Sheet1!$R2946","v":0},{"$f":"IFERROR(IF(Q2946=\"\",\"-\",INDEX(F:F,MATCH(Q2946,C:C,0))),\"-\")","v":"-"},{"$f":"IFERROR(IF(Q2946=\"\",\"-\",INDEX(E:E,MATCH(Q2946,C:C,0))),\"-\")","v":"-"},{"$f":"IFERROR(IF(Q2946=\"\",\"-\",INDEX(N:N,MATCH(Q2946,C:C,0))),\"-\")","v":"-"},{"$f":"IFERROR(Tableau1[[#This Row],[THEO]]-Tableau1[[#This Row],[Qtt 2éme lot]],\"-\")","v":"-"},{"$f":"IF(IF(Q2946=\"\",\"-\",INDEX(E:E,MATCH(Q2946,C:C,0)))=IF(Q2946=\"\",\"-\",INDEX(E:E,MATCH(Q2946,C:C,1))),\"-\",IF(Q2946=\"\",\"-\",INDEX(E:E,MATCH(Q2946,C:C,1))))","v":"-"},{"$f":"IF(Tableau1[[#This Row],[2éme lot]]=\"-\",\"-\",IFERROR(IF(Q2946=\"\",\"-\",INDEX(I:I,MATCH(Q2946,C:C,0)+1)),\"-\"))","v":"-"},{"$f":"IFERROR(IF(Y2946=\"\",\"-\",INDEX(N:N,MATCH(Y2946,E:E,0))),\"-\")","v":"-"},{"$f":"IFERROR(IF(AA2946=\"\",\"-\",INDEX(H:H,MATCH(Y2946,E:E,0))),\"-\")","v":"-"}]
[{"$nulls":15},"-",null,{"$f":"SUMIF(Tableau1[Description article],Tableau1[Produits],Tableau1[Emplacement])","v":0},null,{"$f":"Sheet1!$S2947-Sheet1!$R2947","v":0},"-","-","-",{"$f":"IFERROR(Tableau1[[#This Row],[THEO]]-Tableau1[[#This Row],[Qtt 2éme lot]],\"-\")","v":"-"},"-",{"$f":"IF(Tableau1[[#This Row],[2éme lot]]=\"-\",\"-\",IFERROR(IF(Q2947=\"\",\"-\",INDEX(I:I,MATCH(Q2947,C:C,0)+1)),\"-\"))","v":"-"},"-","-"]
[{"$nulls":15},"-",null,{"$f":"SUMIF(Tableau1[Description article],Tableau1[Produits],Tableau1[Emplacement])","v":0},null,{"$f":"Sheet1!$S2948-Sheet1!$R2948","v":0},"-","-","-",{"$f":"IFERROR(Tableau1[[#This Row],[THEO]]-Tableau1[[#This Row],[Qtt 2éme lot]],\"-\")","v":"-"},"-",{"$f":"IF(Tableau1[[#This Row],[2éme lot]]=\"-\",\"-\",IFERROR(IF(Q2948=\"\",\"-\",INDEX(I:I,MATCH(Q2948,C:C,0)+1)),\"-\"))","v":"-"},"-","-"]
[{"$nulls":15},"-",null,{"$f":"SUMIF(Tableau1[Description article],Tableau1[Produits],Tableau1[Emplacement])","v":0},null,{"$f":"Sheet1!$S2949-Sheet1!$R2949","v":0},"-","-","-",{"$f":"IFERROR(Tableau1[[#This Row],[THEO]]-Tableau1[[#This Row],[Qtt 2éme lot]],\"-\")","v":"-"},"-",{"$f":"IF(Tableau1[[#This Row],[2éme lot]]=\"-\",\"-\",IFERROR(IF(Q2949=\"\",\"-\",INDEX(I:I,MATCH(Q2949,C:C,0)+1)),\"-\"))","v":"-"},"-","-"]
[{"$nulls":15},"-",null,{"$f":"SUMIF(Tableau1[Description article],Tableau1[Produits],Tableau1[Emplacement])","v":0},null,{"$f":"Sheet1!$S2950-Sheet1!$R2950","v":0},"-","-","-",{"$f":"IFERROR(Tableau1[[#This Row],[THEO]]-Tableau1[[#This Row],[Qtt 2éme lot]],\"-\")","v":"-"},"-",{"$f":"IF(Tableau1[[#This Row],[2éme lot]]=\"-\",\"-\",IFERROR(IF(Q2950=\"\",\"-\",INDEX(I:I,MATCH(Q2950,C:C,0)+1)),\"-\"))","v":"-"},"-","-"]
[{"$nulls":15},"-",null,{"$f":"SUMIF(Tableau1[Description article],Tableau1[Produits],Tableau1[Emplacement])","v":0},null,{"$f":"Sheet1!$S2951-Sheet1!$R2951","v":0},"-","-","-",{"$f":"IFERROR(Tableau1[[#This Row],[THEO]]-Tableau1[[#This Row],[Qtt 2éme lot]],\"-\")","v":"-"},"-",{"$f":"IF(Tableau1[[#This Row],[2éme lot]]=\"-\",\"-\",IFERROR(IF(Q2951=\"\",\"-\",INDEX(I:I,MATCH(Q2951,C:C,0)+1)),\"-\"))","v":"-"},"-","-"]
[{"$nulls":15},"-",null,{"$f":"SUMIF(Tableau1[Description article],Tableau1[Produits],Tableau1[Emplacement])","v":0},null,{"$f":"Sheet1!$S2952-Sheet1!$R2952","v":0},"-","-","-",{"$f":"IFERROR(Tableau1[[#This Row],[THEO]]-Tableau1[[#This Row],[Qtt 2éme lot]],\"-\")","v":"-"},"-",{"$f":"IF(Tableau1[[#This Row],[2éme lot]]=\"-\",\"-\",IFERROR(IF(Q2952=\"\",\"-\",INDEX(I:I,MATCH(Q2952,C:C,0)+1)),\"-\"))","v":"-"},"-","-"]
[{"$nulls":15},"-",null,{"$f":"SUMIF(Tableau1[Description article],Tableau1[Produits],Tableau1[Emplacement])","v":0},null,{"$f":"Sheet1!$S2953-Sheet1!$R2953","v":0},"-","-","-",{"$f":"IFERROR(Tableau1[[#This Row],[THEO]]-Tableau1[[#This Row],[Qtt 2éme lot]],\"-\")","v":"-"},"-",{"$f":"IF(Tableau1[[#This Row],[2éme lot]]=\"-\",\"-\",IFERROR(IF(Q2953=\"\",\"-\",INDEX(I:I,MATCH(Q2953,C:C,0)+1)),\"-\"))","v":"-"},"-","-"]
[{"$nulls":15},"-",null,{"$f":"SUMIF(Tableau1[Description article],Tableau1[Produits],Tableau1[Emplacement])","v":0},null,{"$f":"Sheet1!$S2954-Sheet1!$R2954","v":0},"-","-","-",{"$f":"IFERROR(Tableau1[[#This Row],[THEO]]-Tableau1[[#This Row],[Qtt 2éme lot]],\"-\")","v":"-"},"-",{"$f":"IF(Tableau1[[#This Row],[2éme lot]]=\"-\",\"-\",IFERROR(IF(Q2954=\"\",\"-\",INDEX(I:I,MATCH(Q2954,C:C,0)+1)),\"-\"))","v":"-"},"-","-"]
[{"$nulls":15},"-",null,{"$f":"SUMIF(Tableau1[Description article],Tableau1[Produits],Tableau1[Emplacement])","v":0},null,{"$f":"Sheet1!$S2955-Sheet1!$R2955","v":0},"-","-","-",{"$f":"IFERROR(Tableau1[[#This Row],[THEO]]-Tableau1[[#This Row],[Qtt 2éme lot]],\"-\")","v":"-"},"-",{"$f":"IF(Tableau1[[#This Row],[2éme lot]]=\"-\",\"-\",IFERROR(IF(Q2955=\"\",\"-\",INDEX(I:I,MATCH(Q2955,C:C,0)+1)),\"-\"))","v":"-"},"-","-"]
[{"$nulls":15},"-",null,{"$f":"SUMIF(Tableau1[Description article],Tableau1[Produits],Tableau1[Emplacement])","v":0},null,{"$f":"Sheet1!$S2956-Sheet1!$R2956","v":0},"-","-","-",{"$f":"IFERROR(Tableau1[[#This Row],[THEO]]-Tableau1[[#This Row],[Qtt 2éme lot]],\"-\")","v":"-"},"-",{"$f":"IF(Tableau1[[#This Row],[2éme lot]]=\"-\",\"-\",IFERROR(IF(Q2956=\"\",\"-\",INDEX(I:I,MATCH(Q2956,C:C,0)+1)),\"-\"))","v":"-"},"-","-"]
[{"$nulls":15},"-",null,{"$f":"SUMIF(Tableau1[Description article],Tableau1[Produits],Tableau1[Emplacement])","v":0},null,{"$f":"Sheet1!$S2957-Sheet1!$R2957","v":0},"-","-","-",{"$f":"IFERROR(Tableau1[[#This Row],[THEO]]-Tableau1[[#This Row],[Qtt 2éme lot]],\"-\")","v":"-"},"-",{"$f":"IF(Tableau1[[#This Row],[2éme lot]]=\"-\",\"-\",IFERROR(IF(Q2957=\"\",\"-\",INDEX(I:I,MATCH(Q2957,C:C,0)+1)),\"-\"))","v":"-"},"-","-"]
[{"$nulls":15},"-",null,{"$f":"SUMIF(Tableau1[Description article],Tableau1[Produits],Tableau1[Emplacement])","v":0},null,{"$f":"Sheet1!$S2958-Sheet1!$R2958","v":0},"-","-","-",{"$f":"IFERROR(Tableau1[[#This Row],[THEO]]-Tableau1[[#This Row],[Qtt 2éme lot]],\"-\")","v":"-"},"-",{"$f":"IF(Tableau1[[#This Row],[2éme lot]]=\"-\",\"-\",IFERROR(IF(Q2958=\"\",\"-\",INDEX(I:I,MATCH(Q2958,C:C,0)+1)),\"-\"))","v":"-"},"-","-"]
[{"$nulls":15},"-",null,{"$f":"SUMIF(Tableau1[Description article],Tableau1[Produits],Tableau1[Emplacement])","v":0},null,{"$f":"Sheet1!$S2959-Sheet1!$R2959","v":0},"-","-","-",{"$f":"IFERROR(Tableau1[[#This Row],[THEO]]-Tableau1[[#This Row],[Qtt 2éme lot]],\"-\")","v":"-"},"-",{"$f":"IF(Tableau1[[#This Row],[2éme lot]]=\"-\",\"-\",IFERROR(IF(Q2959=\"\",\"-\",INDEX(I:I,MATCH(Q2959,C:C,0)+1)),\"-\"))","v":"-"},"-","-"]
[{"$nulls":15},"-",null,{"$f":"SUMIF(Tableau1[Description article],Tableau1[Produits],Tableau1[Emplacement])","v":0},null,{"$f":"Sheet1!$S2960-Sheet1!$R2960","v":0},"-","-","-",{"$f":"IFERROR(Tableau1[[#This Row],[THEO]]-Tableau1[[#This Row],[Qtt 2éme lot]],\"-\")","v":"-"},"-",{"$f":"IF(Tableau1[[#This Row],[2éme lot]]=\"-\",\"-\",IFERROR(IF(Q2960=\"\",\"-\",INDEX(I:I,MATCH(Q2960,C:C,0)+1)),\"-\"))","v":"-"},"-","-"]
[{"$nulls":15},"-",null,{"$f":"SUMIF(Tableau1[Description article],Tableau1[Produits],Tableau1[Emplacement])","v":0},null,{"$f":"Sheet1!$S2961-Sheet1!$R2961","v":0},"-","-","-",{"$f":"IFERROR(Tableau1[[#This Row],[THEO]]-Tableau1[[#This Row],[Qtt 2éme lot]],\"-\")","v":"-"},"-",{"$f":"IF(Tableau1[[#This Row],[2éme lot]]=\"-\",\"-\",IFERROR(IF(Q2961=\"\",\"-\",INDEX(I:I,MATCH(Q2961,C:C,0)+1)),\"-\"))","v":"-"},"-","-"]
[{"$nulls":15},"-",null,{"$f":"SUMIF(Tableau1[Description article],Tableau1[Produits],Tableau1[Emplacement])","v":0},null,{"$f":"Sheet1!$S2962-Sheet1!$R2962","v":0},"-","-","-",{"$f":"IFERROR(Tableau1[[#This Row],[THEO]]-Tableau1[[#This Row],[Qtt 2éme lot]],\"-\")","v":"-"},"-",{"$f":"IF(Tableau1[[#This Row],[2éme lot]]=\"-\",\"-\",IFERROR(IF(Q2962=\"\",\"-\",INDEX(I:I,MATCH(Q2962,C:C,0)+1)),\"-\"))","v":"-"},"-","-"]
[{"$nulls":15},"-",null,{"$f":"SUMIF(Tableau1[Description article],Tableau1[Produits],Tableau1[Emplacement])","v":0},null,{"$f":"Sheet1!$S2963-Sheet1!$R2963","v":0},"-","-","-",{"$f":"IFERROR(Tableau1[[#This Row],[THEO]]-Tableau1[[#This Row],[Qtt 2éme lot]],\"-\")","v":"-"},"-",{"$f":"IF(Tableau1[[#This Row],[2éme lot]]=\"-\",\"-\",IFERROR(IF(Q2963=\"\",\"-\",INDEX(I:I,MATCH(Q2963,C:C,0)+1)),\"-\"))","v":"-"},"-","-"]
[{"$nulls":15},"-",null,{"$f":"SUMIF(Tableau1[Description article],Tableau1[Produits],Tableau1[Emplacement])","v":0},null,{"$f":"Sheet1!$S2964-Sheet1!$R2964","v":0},"-","-","-",{"$f":"IFERROR(Tableau1[[#This Row],[THEO]]-Tableau1[[#This Row],[Qtt 2éme lot]],\"-\")","v":"-"},"-",{"$f":"IF(Tableau1[[#This Row],[2éme lot]]=\"-\",\"-\",IFERROR(IF(Q2964=\"\",\"-\",INDEX(I:I,MATCH(Q2964,C:C,0)+1)),\"-\"))","v":"-"},"-","-"]
[{"$nulls":15},"-",null,{"$f":"SUMIF(Tableau1[Description article],Tableau1[Produits],Tableau1[Emplacement])","v":0},null,{"$f":"Sheet1!$S2965-Sheet1!$R2965","v":0},"-","-","-",{"$f":"IFERROR(Tableau1[[#This Row],[THEO]]-Tableau1[[#This Row],[Qtt 2éme lot]],\"-\")","v":"-"},"-",{"$f":"IF(Tableau1[[#This Row],[2éme lot]]=\"-\",\"-\",IFERROR(IF(Q2965=\"\",\"-\",INDEX(I:I,MATCH(Q2965,C:C,0)+1)),\"-\"))","v":"-"},"-","-"]
[{"$nulls":15},"-",null,{"$f":"SUMIF(Tableau1[Description article],Tableau1[Produits],Tableau1[Emplacement])","v":0},null,{"$f":"Sheet1!$S2966-Sheet1!$R2966","v":0},"-","-","-",{"$f":"IFERROR(Tableau1[[#This Row],[THEO]]-Tableau1[[#This Row],[Qtt 2éme lot]],\"-\")","v":"-"},"-",{"$f":"IF(Tableau1[[#This Row],[2éme lot]]=\"-\",\"-\",IFERROR(IF(Q2966=\"\",\"-\",INDEX(I:I,MATCH(Q2966,C:C,0)+1)),\"-\"))","v":"-"},"-","-"]
[{"$nulls":15},"-",null,{"$f":"SUMIF(Tableau1[Description article],Tableau1[Produits],Tableau1[Emplacement])","v":0},null,{"$f":"Sheet1!$S2967-Sheet1!$R2967","v":0},"-","-","-",{"$f":"IFERROR(Tableau1[[#This Row],[THEO]]-Tableau1[[#This Row],[Qtt 2éme lot]],\"-\")","v":"-"},"-",{"$f":"IF(Tableau1[[#This Row],[2éme lot]]=\"-\",\"-\",IFERROR(IF(Q2967=\"\",\"-\",INDEX(I:I,MATCH(Q2967,C:C,0)+1)),\"-\"))","v":"-"},"-","-"]
[{"$nulls":15},"-",null,{"$f":"SUMIF(Tableau1[Description article],Tableau1[Produits],Tableau1[Emplacement])","v":0},null,{"$f":"Sheet1!$S2968-Sheet1!$R2968","v":0},"-","-","-",{"$f":"IFERROR(Tableau1[[#This Row],[THEO]]-Tableau1[[#This Row],[Qtt 2éme lot]],\"-\")","v":"-"},"-",{"$f":"IF(Tableau1[[#This Row],[2éme lot]]=\"-\",\"-\",IFERROR(IF(Q2968=\"\",\"-\",INDEX(I:I,MATCH(Q2968,C:C,0)+1)),\"-\"))","v":"-"},"-","-"]
[{"$nulls":15},"-",null,{"$f":"SUMIF(Tableau1[Description article],Tableau1[Produits],Tableau1[Emplacement])","v":0},null,{"$f":"Sheet1!$S2969-Sheet1!$R2969","v":0},"-","-","-",{"$f":"IFERROR(Tableau1[[#This Row],[THEO]]-Tableau1[[#This Row],[Qtt 2éme lot]],\"-\")","v":"-"},"-",{"$f":"IF(Tableau1[[#This Row],[2éme lot]]=\"-\",\"-\",IFERROR(IF(Q2969=\"\",\"-\",INDEX(I:I,MATCH(Q2969,C:C,0)+1)),\"-\"))","v":"-"},"-","-"]
[{"$nulls":15},"-",null,{"$f":"SUMIF(Tableau1[Description article],Tableau1[Produits],Tableau1[Emplacement])","v":0},null,{"$f":"Sheet1!$S2970-Sheet1!$R2970","v":0},"-","-","-",{"$f":"IFERROR(Tableau1[[#This Row],[THEO]]-Tableau1[[#This Row],[Qtt 2éme lot]],\"-\")","v":"-"},"-",{"$f":"IF(Tableau1[[#This Row],[2éme lot]]=\"-\",\"-\",IFERROR(IF(Q2970=\"\",\"-\",INDEX(I:I,MATCH(Q2970,C:C,0)+1)),\"-\"))","v":"-"},"-","-"]
[{"$nulls":15},"-",null,{"$f":"SUMIF(Tableau1[Description article],Tableau1[Produits],Tableau1[Emplacement])","v":0},null,{"$f":"Sheet1!$S2971-Sheet1!$R2971","v":0},"-","-","-",{"$f":"IFERROR(Tableau1[[#This Row],[THEO]]-Tableau1[[#This Row],[Qtt 2éme lot]],\"-\")","v":"-"},"-",{"$f":"IF(Tableau1[[#This Row],[2éme lot]]=\"-\",\"-\",IFERROR(IF(Q2971=\"\",\"-\",INDEX(I:I,MATCH(Q2971,C:C,0)+1)),\"-\"))","v":"-"},"-","-"]
[{"$nulls":15},"-",null,{"$f":"SUMIF(Tableau1[Description article],Tableau1[Produits],Tableau1[Emplacement])","v":0},null,{"$f":"Sheet1!$S2972-Sheet1!$R2972","v":0},"-","-","-",{"$f":"IFERROR(Tableau1[[#This Row],[THEO]]-Tableau1[[#This Row],[Qtt 2éme lot]],\"-\")","v":"-"},"-",{"$f":"IF(Tableau1[[#This Row],[2éme lot]]=\"-\",\"-\",IFERROR(IF(Q2972=\"\",\"-\",INDEX(I:I,MATCH(Q2972,C:C,0)+1)),\"-\"))","v":"-"},"-","-"]
[{"$nulls":15},"-",null,{"$f":"SUMIF(Tableau1[Description article],Tableau1[Produits],Tableau1[Emplacement])","v":0},null,{"$f":"Sheet1!$S2973-Sheet1!$R2973","v":0},"-","-","-",{"$f":"IFERROR(Tableau1[[#This Row],[THEO]]-Tableau1[[#This Row],[Qtt 2éme lot]],\"-\")","v":"-"},"-",{"$f":"IF(Tableau1[[#This Row],[2éme lot]]=\"-\",\"-\",IFERROR(IF(Q2973=\"\",\"-\",INDEX(I:I,MATCH(Q2973,C:C,0)+1)),\"-\"))","v":"-"},"-","-"]
[{"$nulls":15},"-",null,{"$f":"SUMIF(Tableau1[Description article],Tableau1[Produits],Tableau1[Emplacement])","v":0},null,{"$f":"Sheet1!$S2974-Sheet1!$R2974","v":0},"-","-","-",{"$f":"IFERROR(Tableau1[[#This Row],[THEO]]-Tableau1[[#This Row],[Qtt 2éme lot]],\"-\")","v":"-"},"-",{"$f":"IF(Tableau1[[#This Row],[2éme lot]]=\"-\",\"-\",IFERROR(IF(Q2974=\"\",\"-\",INDEX(I:I,MATCH(Q2974,C:C,0)+1)),\"-\"))","v":"-"},"-","-"]
[{"$nulls":15},"-",null,{"$f":"SUMIF(Tableau1[Description article],Tableau1[Produits],Tableau1[Emplacement])","v":0},null,{"$f":"Sheet1!$S2975-Sheet1!$R2975","v":0},"-","-","-",{"$f":"IFERROR(Tableau1[[#This Row],[THEO]]-Tableau1[[#This Row],[Qtt 2éme lot]],\"-\")","v":"-"},"-",{"$f":"IF(Tableau1[[#This Row],[2éme lot]]=\"-\",\"-\",IFERROR(IF(Q2975=\"\",\"-\",INDEX(I:I,MATCH(Q2975,C:C,0)+1)),\"-\"))","v":"-"},"-","-"]
[{"$nulls":15},"-",null,{"$f":"SUMIF(Tableau1[Description article],Tableau1[Produits],Tableau1[Emplacement])","v":0},null,{"$f":"Sheet1!$S2976-Sheet1!$R2976","v":0},"-","-","-",{"$f":"IFERROR(Tableau1[[#This Row],[THEO]]-Tableau1[[#This Row],[Qtt 2éme lot]],\"-\")","v":"-"},"-",{"$f":"IF(Tableau1[[#This Row],[2éme lot]]=\"-\",\"-\",IFERROR(IF(Q2976=\"\",\"-\",INDEX(I:I,MATCH(Q2976,C:C,0)+1)),\"-\"))","v":"-"},"-","-"]
[{"$nulls":15},"-",null,{"$f":"SUMIF(Tableau1[Description article],Tableau1[Produits],Tableau1[Emplacement])","v":0},null,{"$f":"Sheet1!$S2977-Sheet1!$R2977","v":0},"-","-","-",{"$f":"IFERROR(Tableau1[[#This Row],[THEO]]-Tableau1[[#This Row],[Qtt 2éme lot]],\"-\")","v":"-"},"-",{"$f":"IF(Tableau1[[#This Row],[2éme lot]]=\"-\",\"-\",IFERROR(IF(Q2977=\"\",\"-\",INDEX(I:I,MATCH(Q2977,C:C,0)+1)),\"-\"))","v":"-"},"-","-"]
[{"$nulls":15},"-",null,{"$f":"SUMIF(Tableau1[Description article],Tableau1[Produits],Tableau1[Emplacement])","v":0},null,{"$f":"Sheet1!$S2978-Sheet1!$R2978","v":0},"-","-","-",{"$f":"IFERROR(Tableau1[[#This Row],[THEO]]-Tableau1[[#This Row],[Qtt 2éme lot]],\"-\")","v":"-"},"-",{"$f":"IF(Tableau1[[#This Row],[2éme lot]]=\"-\",\"-\",IFERROR(IF(Q2978=\"\",\"-\",INDEX(I:I,MATCH(Q2978,C:C,0)+1)),\"-\"))","v":"-"},"-","-"]
[{"$nulls":15},"-",null,{"$f":"SUMIF(Tableau1[Description article],Tableau1[Produits],Tableau1[Emplacement])","v":0},null,{"$f":"Sheet1!$S2979-Sheet1!$R2979","v":0},"-","-","-",{"$f":"IFERROR(Tableau1[[#This Row],[THEO]]-Tableau1[[#This Row],[Qtt 2éme lot]],\"-\")","v":"-"},"-",{"$f":"IF(Tableau1[[#This Row],[2éme lot]]=\"-\",\"-\",IFERROR(IF(Q2979=\"\",\"-\",INDEX(I:I,MATCH(Q2979,C:C,0)+1)),\"-\"))","v":"-"},"-","-"]
[{"$nulls":15},"-",null,{"$f":"SUMIF(Tableau1[Description article],Tableau1[Produits],Tableau1[Emplacement])","v":0},null,{"$f":"Sheet1!$S2980-Sheet1!$R2980","v":0},"-","-","-",{"$f":"IFERROR(Tableau1[[#This Row],[THEO]]-Tableau1[[#This Row],[Qtt 2éme lot]],\"-\")","v":"-"},"-",{"$f":"IF(Tableau1[[#This Row],[2éme lot]]=\"-\",\"-\",IFERROR(IF(Q2980=\"\",\"-\",INDEX(I:I,MATCH(Q2980,C:C,0)+1)),\"-\"))","v":"-"},"-","-"]
[{"$nulls":15},"-",null,{"$f":"SUMIF(Tableau1[Description article],Tableau1[Produits],Tableau1[Emplacement])","v":0},null,{"$f":"Sheet1!$S2981-Sheet1!$R2981","v":0},"-","-","-",{"$f":"IFERROR(Tableau1[[#This Row],[THEO]]-Tableau1[[#This Row],[Qtt 2éme lot]],\"-\")","v":"-"},"-",{"$f":"IF(Tableau1[[#This Row],[2éme lot]]=\"-\",\"-\",IFERROR(IF(Q2981=\"\",\"-\",INDEX(I:I,MATCH(Q2981,C:C,0)+1)),\"-\"))","v":"-"},"-","-"]
[{"$nulls":15},"-",null,{"$f":"SUMIF(Tableau1[Description article],Tableau1[Produits],Tableau1[Emplacement])","v":0},null,{"$f":"Sheet1!$S2982-Sheet1!$R2982","v":0},"-","-","-",{"$f":"IFERROR(Tableau1[[#This Row],[THEO]]-Tableau1[[#This Row],[Qtt 2éme lot]],\"-\")","v":"-"},"-",{"$f":"IF(Tableau1[[#This Row],[2éme lot]]=\"-\",\"-\",IFERROR(IF(Q2982=\"\",\"-\",INDEX(I:I,MATCH(Q2982,C:C,0)+1)),\"-\"))","v":"-"},"-","-"]
[{"$nulls":15},"-",null,{"$f":"SUMIF(Tableau1[Description article],Tableau1[Produits],Tableau1[Emplacement])","v":0},null,{"$f":"Sheet1!$S2983-Sheet1!$R2983","v":0},"-","-","-",{"$f":"IFERROR(Tableau1[[#This Row],[THEO]]-Tableau1[[#This Row],[Qtt 2éme lot]],\"-\")","v":"-"},"-",{"$f":"IF(Tableau1[[#This Row],[2éme lot]]=\"-\",\"-\",IFERROR(IF(Q2983=\"\",\"-\",INDEX(I:I,MATCH(Q2983,C:C,0)+1)),\"-\"))","v":"-"},"-","-"]
[{"$nulls":15},"-",null,{"$f":"SUMIF(Tableau1[Description article],Tableau1[Produits],Tableau1[Emplacement])","v":0},null,{"$f":"Sheet1!$S2984-Sheet1!$R2984","v":0},"-","-","-",{"$f":"IFERROR(Tableau1[[#This Row],[THEO]]-Tableau1[[#This Row],[Qtt 2éme lot]],\"-\")","v":"-"},"-",{"$f":"IF(Tableau1[[#This Row],[2éme lot]]=\"-\",\"-\",IFERROR(IF(Q2984=\"\",\"-\",INDEX(I:I,MATCH(Q2984,C:C,0)+1)),\"-\"))","v":"-"},"-","-"]
[{"$nulls":15},"-",null,{"$f":"SUMIF(Tableau1[Description article],Tableau1[Produits],Tableau1[Emplacement])","v":0},null,{"$f":"Sheet1!$S2985-Sheet1!$R2985","v":0},"-","-","-",{"$f":"IFERROR(Tableau1[[#This Row],[THEO]]-Tableau1[[#This Row],[Qtt 2éme lot]],\"-\")","v":"-"},"-",{"$f":"IF(Tableau1[[#This Row],[2éme lot]]=\"-\",\"-\",IFERROR(IF(Q2985=\"\",\"-\",INDEX(I:I,MATCH(Q2985,C:C,0)+1)),\"-\"))","v":"-"},"-","-"]
[{"$nulls":15},"-",null,{"$f":"SUMIF(Tableau1[Description article],Tableau1[Produits],Tableau1[Emplacement])","v":0},null,{"$f":"Sheet1!$S2986-Sheet1!$R2986","v":0},"-","-","-",{"$f":"IFERROR(Tableau1[[#This Row],[THEO]]-Tableau1[[#This Row],[Qtt 2éme lot]],\"-\")","v":"-"},"-",{"$f":"IF(Tableau1[[#This Row],[2éme lot]]=\"-\",\"-\",IFERROR(IF(Q2986=\"\",\"-\",INDEX(I:I,MATCH(Q2986,C:C,0)+1)),\"-\"))","v":"-"},"-","-"]
[{"$nulls":15},"-",null,{"$f":"SUMIF(Tableau1[Description article],Tableau1[Produits],Tableau1[Emplacement])","v":0},null,{"$f":"Sheet1!$S2987-Sheet1!$R2987","v":0},"-","-","-",{"$f":"IFERROR(Tableau1[[#This Row],[THEO]]-Tableau1[[#This Row],[Qtt 2éme lot]],\"-\")","v":"-"},"-",{"$f":"IF(Tableau1[[#This Row],[2éme lot]]=\"-\",\"-\",IFERROR(IF(Q2987=\"\",\"-\",INDEX(I:I,MATCH(Q2987,C:C,0)+1)),\"-\"))","v":"-"},"-","-"]
[{"$nulls":15},"-",null,{"$f":"SUMIF(Tableau1[Description article],Tableau1[Produits],Tableau1[Emplacement])","v":0},null,{"$f":"Sheet1!$S2988-Sheet1!$R2988","v":0},"-","-","-",{"$f":"IFERROR(Tableau1[[#This Row],[THEO]]-Tableau1[[#This Row],[Qtt 2éme lot]],\"-\")","v":"-"},"-",{"$f":"IF(Tableau1[[#This Row],[2éme lot]]=\"-\",\"-\",IFERROR(IF(Q2988=\"\",\"-\",INDEX(I:I,MATCH(Q2988,C:C,0)+1)),\"-\"))","v":"-"},"-","-"]
[{"$nulls":15},"-",null,{"$f":"SUMIF(Tableau1[Description article],Tableau1[Produits],Tableau1[Emplacement])","v":0},null,{"$f":"Sheet1!$S2989-Sheet1!$R2989","v":0},"-","-","-",{"$f":"IFERROR(Tableau1[[#This Row],[THEO]]-Tableau1[[#This Row],[Qtt 2éme lot]],\"-\")","v":"-"},"-",{"$f":"IF(Tableau1[[#This Row],[2éme lot]]=\"-\",\"-\",IFERROR(IF(Q2989=\"\",\"-\",INDEX(I:I,MATCH(Q2989,C:C,0)+1)),\"-\"))","v":"-"},"-","-"]
[{"$nulls":15},"-",null,{"$f":"SUMIF(Tableau1[Description article],Tableau1[Produits],Tableau1[Emplacement])","v":0},null,{"$f":"Sheet1!$S2990-Sheet1!$R2990","v":0},"-","-","-",{"$f":"IFERROR(Tableau1[[#This Row],[THEO]]-Tableau1[[#This Row],[Qtt 2éme lot]],\"-\")","v":"-"},"-",{"$f":"IF(Tableau1[[#This Row],[2éme lot]]=\"-\",\"-\",IFERROR(IF(Q2990=\"\",\"-\",INDEX(I:I,MATCH(Q2990,C:C,0)+1)),\"-\"))","v":"-"},"-","-"]
[{"$nulls":15},"-",null,{"$f":"SUMIF(Tableau1[Description article],Tableau1[Produits],Tableau1[Emplacement])","v":0},null,{"$f":"Sheet1!$S2991-Sheet1!$R2991","v":0},"-","-","-",{"$f":"IFERROR(Tableau1[[#This Row],[THEO]]-Tableau1[[#This Row],[Qtt 2éme lot]],\"-\")","v":"-"},"-",{"$f":"IF(Tableau1[[#This Row],[2éme lot]]=\"-\",\"-\",IFERROR(IF(Q2991=\"\",\"-\",INDEX(I:I,MATCH(Q2991,C:C,0)+1)),\"-\"))","v":"-"},"-","-"]
[{"$nulls":15},"-",null,{"$f":"SUMIF(Tableau1[Description article],Tableau1[Produits],Tableau1[Emplacement])","v":0},null,{"$f":"Sheet1!$S2992-Sheet1!$R2992","v":0},"-","-","-",{"$f":"IFERROR(Tableau1[[#This Row],[THEO]]-Tableau1[[#This Row],[Qtt 2éme lot]],\"-\")","v":"-"},"-",{"$f":"IF(Tableau1[[#This Row],[2éme lot]]=\"-\",\"-\",IFERROR(IF(Q2992=\"\",\"-\",INDEX(I:I,MATCH(Q2992,C:C,0)+1)),\"-\"))","v":"-"},"-","-"]
[{"$nulls":15},"-",null,{"$f":"SUMIF(Tableau1[Description article],Tableau1[Produits],Tableau1[Emplacement])","v":0},null,{"$f":"Sheet1!$S2993-Sheet1!$R2993","v":0},"-","-","-",{"$f":"IFERROR(Tableau1[[#This Row],[THEO]]-Tableau1[[#This Row],[Qtt 2éme lot]],\"-\")","v":"-"},"-",{"$f":"IF(Tableau1[[#This Row],[2éme lot]]=\"-\",\"-\",IFERROR(IF(Q2993=\"\",\"-\",INDEX(I:I,MATCH(Q2993,C:C,0)+1)),\"-\"))","v":"-"},"-","-"]
[{"$nulls":15},"-",null,{"$f":"SUMIF(Tableau1[Description article],Tableau1[Produits],Tableau1[Emplacement])","v":0},null,{"$f":"Sheet1!$S2994-Sheet1!$R2994","v":0},"-","-","-",{"$f":"IFERROR(Tableau1[[#This Row],[THEO]]-Tableau1[[#This Row],[Qtt 2éme lot]],\"-\")","v":"-"},"-",{"$f":"IF(Tableau1[[#This Row],[2éme lot]]=\"-\",\"-\",IFERROR(IF(Q2994=\"\",\"-\",INDEX(I:I,MATCH(Q2994,C:C,0)+1)),\"-\"))","v":"-"},"-","-"]
[{"$nulls":15},"-",null,{"$f":"SUMIF(Tableau1[Description article],Tableau1[Produits],Tableau1[Emplacement])","v":0},null,{"$f":"Sheet1!$S2995-Sheet1!$R2995","v":0},"-","-","-",{"$f":"IFERROR(Tableau1[[#This Row],[THEO]]-Tableau1[[#This Row],[Qtt 2éme lot]],\"-\")","v":"-"},"-",{"$f":"IF(Tableau1[[#This Row],[2éme lot]]=\"-\",\"-\",IFERROR(IF(Q2995=\"\",\"-\",INDEX(I:I,MATCH(Q2995,C:C,0)+1)),\"-\"))","v":"-"},"-","-"]
[{"$nulls":15},"-",null,{"$f":"SUMIF(Tableau1[Description article],Tableau1[Produits],Tableau1[Emplacement])","v":0},null,{"$f":"Sheet1!$S2996-Sheet1!$R2996","v":0},"-","-","-",{"$f":"IFERROR(Tableau1[[#This Row],[THEO]]-Tableau1[[#This Row],[Qtt 2éme lot]],\"-\")","v":"-"},"-",{"$f":"IF(Tableau1[[#This Row],[2éme lot]]=\"-\",\"-\",IFERROR(IF(Q2996=\"\",\"-\",INDEX(I:I,MATCH(Q2996,C:C,0)+1)),\"-\"))","v":"-"},"-","-"]
[{"$nulls":15},"-",null,{"$f":"SUMIF(Tableau1[Description article],Tableau1[Produits],Tableau1[Emplacement])","v":0},null,{"$f":"Sheet1!$S2997-Sheet1!$R2997","v":0},"-","-","-",{"$f":"IFERROR(Tableau1[[#This Row],[THEO]]-Tableau1[[#This Row],[Qtt 2éme lot]],\"-\")","v":"-"},"-",{"$f":"IF(Tableau1[[#This Row],[2éme lot]]=\"-\",\"-\",IFERROR(IF(Q2997=\"\",\"-\",INDEX(I:I,MATCH(Q2997,C:C,0)+1)),\"-\"))","v":"-"},"-","-"]
[{"$nulls":15},"-",null,{"$f":"SUMIF(Tableau1[Description article],Tableau1[Produits],Tableau1[Emplacement])","v":0},null,{"$f":"Sheet1!$S2998-Sheet1!$R2998","v":0},"-","-","-",{"$f":"IFERROR(Tableau1[[#This Row],[THEO]]-Tableau1[[#This Row],[Qtt 2éme lot]],\"-\")","v":"-"},"-",{"$f":"IF(Tableau1[[#This Row],[2éme lot]]=\"-\",\"-\",IFERROR(IF(Q2998=\"\",\"-\",INDEX(I:I,MATCH(Q2998,C:C,0)+1)),\"-\"))","v":"-"},"-","-"]
[{"$nulls":15},"-",null,{"$f":"SUMIF(Tableau1[Description article],Tableau1[Produits],Tableau1[Emplacement])","v":0},null,{"$f":"Sheet1!$S2999-Sheet1!$R2999","v":0},"-","-","-",{"$f":"IFERROR(Tableau1[[#This Row],[THEO]]-Tableau1[[#This Row],[Qtt 2éme lot]],\"-\")","v":"-"},"-",{"$f":"IF(Tableau1[[#This Row],[2éme lot]]=\"-\",\"-\",IFERROR(IF(Q2999=\"\",\"-\",INDEX(I:I,MATCH(Q2999,C:C,0)+1)),\"-\"))","v":"-"},"-","-"]
[{"$nulls":15},"-",null,{"$f":"SUMIF(Tableau1[Description article],Tableau1[Produits],Tableau1[Emplacement])","v":0},null,{"$f":"Sheet1!$S3000-Sheet1!$R3000","v":0},"-","-","-",{"$f":"IFERROR(Tableau1[[#This Row],[THEO]]-Tableau1[[#This Row],[Qtt 2éme lot]],\"-\")","v":"-"},"-",{"$f":"IF(Tableau1[[#This Row],[2éme lot]]=\"-\",\"-\",IFERROR(IF(Q3000=\"\",\"-\",INDEX(I:I,MATCH(Q3000,C:C,0)+1)),\"-\"))","v":"-"},"-","-"]
[{"$nulls":15},"-",null,{"$f":"SUMIF(Tableau1[Description article],Tableau1[Produits],Tableau1[Emplacement])","v":0},null,{"$f":"Sheet1!$S3001-Sheet1!$R3001","v":0},"-","-","-",{"$f":"IFERROR(Tableau1[[#This Row],[THEO]]-Tableau1[[#This Row],[Qtt 2éme lot]],\"-\")","v":"-"},"-",{"$f":"IF(Tableau1[[#This Row],[2éme lot]]=\"-\",\"-\",IFERROR(IF(Q3001=\"\",\"-\",INDEX(I:I,MATCH(Q3001,C:C,0)+1)),\"-\"))","v":"-"},"-","-"]
[{"$nulls":15},"-",null,{"$f":"SUMIF(Tableau1[Description article],Tableau1[Produits],Tableau1[Emplacement])","v":0},null,{"$f":"Sheet1!$S3002-Sheet1!$R3002","v":0},"-","-","-",{"$f":"IFERROR(Tableau1[[#This Row],[THEO]]-Tableau1[[#This Row],[Qtt 2éme lot]],\"-\")","v":"-"},"-",{"$f":"IF(Tableau1[[#This Row],[2éme lot]]=\"-\",\"-\",IFERROR(IF(Q3002=\"\",\"-\",INDEX(I:I,MATCH(Q3002,C:C,0)+1)),\"-\"))","v":"-"},"-","-"]
[{"$nulls":15},"-",null,{"$f":"SUMIF(Tableau1[Description article],Tableau1[Produits],Tableau1[Emplacement])","v":0},null,{"$f":"Sheet1!$S3003-Sheet1!$R3003","v":0},"-","-","-",{"$f":"IFERROR(Tableau1[[#This Row],[THEO]]-Tableau1[[#This Row],[Qtt 2éme lot]],\"-\")","v":"-"},"-",{"$f":"IF(Tableau1[[#This Row],[2éme lot]]=\"-\",\"-\",IFERROR(IF(Q3003=\"\",\"-\",INDEX(I:I,MATCH(Q3003,C:C,0)+1)),\"-\"))","v":"-"},"-","-"]
[{"$nulls":15},"-",null,{"$f":"SUMIF(Tableau1[Description article],Tableau1[Produits],Tableau1[Emplacement])","v":0},null,{"$f":"Sheet1!$S3004-Sheet1!$R3004","v":0},"-","-","-",{"$f":"IFERROR(Tableau1[[#This Row],[THEO]]-Tableau1[[#This Row],[Qtt 2éme lot]],\"-\")","v":"-"},"-",{"$f":"IF(Tableau1[[#This Row],[2éme lot]]=\"-\",\"-\",IFERROR(IF(Q3004=\"\",\"-\",INDEX(I:I,MATCH(Q3004,C:C,0)+1)),\"-\"))","v":"-"},"-","-"]
[{"$nulls":15},"-",null,{"$f":"SUMIF(Tableau1[Description article],Tableau1[Produits],Tableau1[Emplacement])","v":0},null,{"$f":"Sheet1!$S3005-Sheet1!$R3005","v":0},"-","-","-",{"$f":"IFERROR(Tableau1[[#This Row],[THEO]]-Tableau1[[#This Row],[Qtt 2éme lot]],\"-\")","v":"-"},"-",{"$f":"IF(Tableau1[[#This Row],[2éme lot]]=\"-\",\"-\",IFERROR(IF(Q3005=\"\",\"-\",INDEX(I:I,MATCH(Q3005,C:C,0)+1)),\"-\"))","v":"-"},"-","-"]
[{"$nulls":15},"-",null,{"$f":"SUMIF(Tableau1[Description article],Tableau1[Produits],Tableau1[Emplacement])","v":0},null,{"$f":"Sheet1!$S3006-Sheet1!$R3006","v":0},"-","-","-",{"$f":"IFERROR(Tableau1[[#This Row],[THEO]]-Tableau1[[#This Row],[Qtt 2éme lot]],\"-\")","v":"-"},"-",{"$f":"IF(Tableau1[[#This Row],[2éme lot]]=\"-\",\"-\",IFERROR(IF(Q3006=\"\",\"-\",INDEX(I:I,MATCH(Q3006,C:C,0)+1)),\"-\"))","v":"-"},"-","-"]
[{"$nulls":15},"-",null,{"$f":"SUMIF(Tableau1[Description article],Tableau1[Produits],Tableau1[Emplacement])","v":0},null,{"$f":"Sheet1!$S3007-Sheet1!$R3007","v":0},"-","-","-",{"$f":"IFERROR(Tableau1[[#This Row],[THEO]]-Tableau1[[#This Row],[Qtt 2éme lot]],\"-\")","v":"-"},"-",{"$f":"IF(Tableau1[[#This Row],[2éme lot]]=\"-\",\"-\",IFERROR(IF(Q3007=\"\",\"-\",INDEX(I:I,MATCH(Q3007,C:C,0)+1)),\"-\"))","v":"-"},"-","-"]
[{"$nulls":15},"-",null,{"$f":"SUMIF(Tableau1[Description article],Tableau1[Produits],Tableau1[Emplacement])","v":0},null,{"$f":"Sheet1!$S3008-Sheet1!$R3008","v":0},"-","-","-",{"$f":"IFERROR(Tableau1[[#This Row],[THEO]]-Tableau1[[#This Row],[Qtt 2éme lot]],\"-\")","v":"-"},"-",{"$f":"IF(Tableau1[[#This Row],[2éme lot]]=\"-\",\"-\",IFERROR(IF(Q3008=\"\",\"-\",INDEX(I:I,MATCH(Q3008,C:C,0)+1)),\"-\"))","v":"-"},"-","-"]

{"sheet":"Feuil1","index":2,"n_rows":0,"n_cols":0,"rows_kept":0,"hidden":true}

{"sheet":"Matin","index":3,"n_rows":379,"n_cols":9,"rows_kept":379,"hidden":true}
[]
[null,"Colonne1","Colonne2",null,null,"Colonne1","Colonne2","Colonne3","Colonne4"]
[null,"LYRICA 150MG GLES. B/60",{"$f":"IFERROR(VLOOKUP(B3,Sheet1!C1:H1679,6,0),\"0\")","v":"0"},null,null,"DOLYC 1G COMP. B/10",400,{"$f":"SUMIF(Tableau1[Description article],Tableau1[Produits],Tableau1[Emplacement])","v":73},{"$f":"IF(G3>H3,\"X\",\"-\")","v":"X"}]
[null,"LYRICA 300MG GLES. B/56",{"$f":"IFERROR(VLOOKUP(B4,Sheet1!C2:H1680,6,0),\"0\")","v":"0"},null,null,"DOLYC 500MG COMP. B/20",400,{"$f":"SUMIF(Tableau1[Description article],Tableau1[Produits],Tableau1[Emplacement])","v":121},"X"]
[null,"LYRICA 50MG GLES. B/56",{"$f":"IFERROR(VLOOKUP(B5,Sheet1!C3:H1681,6,0),\"0\")","v":"0"},null,null,"PARALGAN 500MG COMP.SEC. B/20",400,{"$f":"SUMIF(Tableau1[Description article],Tableau1[Produits],Tableau1[Emplacement])","v":31},"X"]
[null,"ORZEPAM 2,5MG COMP.SEC. B/30",{"$f":"IFERROR(VLOOKUP(B6,Sheet1!C4:H1682,6,0),\"0\")","v":286},null,null,"DOLIPRANE 1G COMP. B/08",400,{"$f":"SUMIF(Tableau1[Description article],Tableau1[Produits],Tableau1[Emplacement])","v":35},"X"]
[null,"NOZINAN 25MG COMP.PELLI.SEC. B/20",{"$f":"IFERROR(VLOOKUP(B7,Sheet1!C5:H1683,6,0),\"0\")","v":"0"},null,null,"DOLIPRANE 500MG COMP. B/16",400,null,"X"]
[null,"NOZINAN 0,04 SOL.BUV.GTTES. FL/30ML",{"$f":"IFERROR(VLOOKUP(B8,Sheet1!C6:H1684,6,0),\"0\")","v":166},null,null,"ALGIFEN 20MG/ML SUSP.BUV. B/01 FL/200ML + PIPT.GRAD/KG",100,null,"X"]
[null,"NOVAZIN 100MG COMP.ENRO. B/20",{"$f":"IFERROR(VLOOKUP(B9,Sheet1!C7:H1685,6,0),\"0\")","v":"0"},null,null,"MAXILASE 20 000 U CEIP/100ML SRP.ENF.&AD. FL/125ML",100,null,"X"]
[null,"NOVAZIN 25MG COMP.ENRO. B/20",{"$f":"IFERROR(VLOOKUP(B10,Sheet1!C8:H1686,6,0),\"0\")","v":190},null,null,"TOPLEXIL 0,33MG/ML SRP. FL/150ML",75,{"$f":"SUMIF(Tableau1[Description article],Tableau1[Produits],Tableau1[Emplacement])","v":0},"X"]
[null,"KIETYL 6MG COMP.SEC. B/30",{"$f":"IFERROR(VLOOKUP(B11,Sheet1!C9:H1687,6,0),\"0\")","v":913},null,null,"MAALOX MAUX D'ESTOMAC 3,5G/4G/100ML SUSP.BUV. B/01 FL/250ML",70,{"$f":"SUMIF(Tableau1[Description article],Tableau1[Produits],Tableau1[Emplacement])","v":0},"X"]
[null,"PARKINANE LP 2MG CP.LP. B/50",{"$f":"IFERROR(VLOOKUP(B12,Sheet1!C10:H1688,6,0),\"0\")","v":55},null,null,"EZILAX 66,66% SRP. B/01 FL/300ML + BCHN.DOSEUR",70,{"$f":"SUMIF(Tableau1[Description article],Tableau1[Produits],Tableau1[Emplacement])","v":0},"X"]
[null,"PARKINANE LP 5MG CP.LP. B/20",{"$f":"IFERROR(VLOOKUP(B13,Sheet1!C11:H1689,6,0),\"0\")","v":348},null,null,"TRIMEBUTINE B 0,787G/100G GRAN.P.SUSP.BUV. FL/250ML/152,5G + GBL.DOSEUR",70,{"$f":"SUMIF(Tableau1[Description article],Tableau1[Produits],Tableau1[Emplacement])","v":0},"X"]
[null,"PARKIDYL 2MG COMP.SEC. B/20",{"$f":"IFERROR(VLOOKUP(B14,Sheet1!C12:H1690,6,0),\"0\")","v":"0"},null,null,"SINECOD 0,15% 1,5MG/ML SRP. FL/200 ML",60,null,"X"]
[null,"PARKIDYL 5MG COMP.SEC. B/20",{"$f":"IFERROR(VLOOKUP(B15,Sheet1!C13:H1691,6,0),\"0\")","v":"0"},null,null,"LANTUS SOLOSTAR 100UI/ML SOL.INJ. B/05 STY.PREREMPL/3ML",10,{"$f":"SUMIF(Tableau1[Description article],Tableau1[Produits],Tableau1[Emplacement])","v":0},"X"]
[null,"LYSANXIA 10MG COMP. B/40",{"$f":"IFERROR(VLOOKUP(B16,Sheet1!C14:H1692,6,0),\"0\")","v":128},null,null,"APIDRA 100UI/ML SOL.INJ.SC. B/05 CRTCH/3ML",10,{"$f":"SUMIF(Tableau1[Description article],Tableau1[Produits],Tableau1[Emplacement])","v":0},"X"]
[null,"PREZIVA 10MG COMP. B/40",{"$f":"IFERROR(VLOOKUP(B17,Sheet1!C15:H1693,6,0),\"0\")","v":288},null,null,"NOVOMIX 30 FLEXPEN 100UI/ML SUSP.INJ. B/05 STY.PREREMPL/3ML",10,{"$f":"SUMIF(Tableau1[Description article],Tableau1[Produits],Tableau1[Emplacement])","v":0},"X"]
[null,"CLONA 2.5MG/ML SOL.BUV.GTTES. FL/20ML COMPT.GTTES.",{"$f":"IFERROR(VLOOKUP(B18,Sheet1!C16:H1694,6,0),\"0\")","v":"0"},null,null,"AUGMENTIN ADULTE 1G/125MG/SACH. PDRE.SUSP.BUV. B/12 SACH.",200,{"$f":"SUMIF(Tableau1[Description article],Tableau1[Produits],Tableau1[Emplacement])","v":0},"X"]
[null,"BUPRINAL 0,3MG/ML SOL.INJ.IM.\\IV.\\SC.\\V.MEDUL. B/05 AMP/2ML",{"$f":"IFERROR(VLOOKUP(B19,Sheet1!C17:H1695,6,0),\"0\")","v":"0"},null,null,"AUGMENTIN ENFANT 100MG/12,5MG/ML PDRE.SUSP.BUV. B/01 FL/60ML + SERING.P.ADMINISTRA.ORA.",100,{"$f":"SUMIF(Tableau1[Description article],Tableau1[Produits],Tableau1[Emplacement])","v":0},"X"]
[null,"LYRIZIN 150MG GLES. B/60",{"$f":"IFERROR(VLOOKUP(B20,Sheet1!C18:H1696,6,0),\"0\")","v":"0"},null,null,"AUGMENTIN NOURRISSON 100MG/12,5MG/ML PDRE.SUSP.BUV. B/01 FL/30ML + SERING.P.ADMINISTRA.ORA.",100,{"$f":"SUMIF(Tableau1[Description article],Tableau1[Produits],Tableau1[Emplacement])","v":0},"X"]
[null,"LYRIZIN 300MG GLES. B/60",{"$f":"IFERROR(VLOOKUP(B21,Sheet1!C19:H1697,6,0),\"0\")","v":"0"},null,null,"AMOCLAN 8:1 100MG/12,5MG/ML PDRE.P.SUSP.BUV.NRS/ENF B/01 FL/30ML NRS. + PIPT. GRAD.",100,{"$f":"SUMIF(Tableau1[Description article],Tableau1[Produits],Tableau1[Emplacement])","v":0},"X"]
[null,"LYRIZIN 50MG GLES. B/60",{"$f":"IFERROR(VLOOKUP(B22,Sheet1!C20:H1698,6,0),\"0\")","v":"0"},null,null,"AMOCLAN BID 875MG/125MG COMP.PELLI. PILUL/10",100,{"$f":"SUMIF(Tableau1[Description article],Tableau1[Produits],Tableau1[Emplacement])","v":0},"X"]
[null,"LYRIZIN 75MG GLES. B/60",{"$f":"IFERROR(VLOOKUP(B23,Sheet1!C21:H1699,6,0),\"0\")","v":"0"},null,null,"AMOCLAN 8:1 1G/125MG/SACH. PDRE.SUSP.BUV. B/14 SACH.",100,{"$f":"SUMIF(Tableau1[Description article],Tableau1[Produits],Tableau1[Emplacement])","v":0},"X"]
[null,"PREGABA 300MG PHAMALLIANCE  B/30",{"$f":"IFERROR(VLOOKUP(B24,Sheet1!C22:H1700,6,0),\"0\")","v":"0"},null,null,"DYSENTYL 200MG GLES. B/30",100,{"$f":"SUMIF(Tableau1[Description article],Tableau1[Produits],Tableau1[Emplacement])","v":0},"X"]
[null,"PREGABA 50MG GELLES B/30",{"$f":"IFERROR(VLOOKUP(B25,Sheet1!C23:H1701,6,0),\"0\")","v":"0"},null,null,"SULPIRIDE MERINAL 50MG GLES. B/30",100,{"$f":"SUMIF(Tableau1[Description article],Tableau1[Produits],Tableau1[Emplacement])","v":0},"X"]
[null,"REGAB 150MG GELLES B/56 -HIKMA-",{"$f":"IFERROR(VLOOKUP(B26,Sheet1!C24:H1702,6,0),\"0\")","v":"0"},null,null,"ISOSPALGINE 10MG/5ML SRP. FL/150ML",72,null,"X"]
[null,"REGAB 300MG GELLES B/56 -HIKMA-",{"$f":"IFERROR(VLOOKUP(B27,Sheet1!C25:H1703,6,0),\"0\")","v":"0"},null,null,"ASPEGIC NOURRISSON 100MG PDRE.P.SOL.BUV. B/20 SACH.",230,{"$f":"SUMIF(Tableau1[Description article],Tableau1[Produits],Tableau1[Emplacement])","v":0},"X"]
[null,"REGAB 50MG GELLES B/56 -HIKMA-",{"$f":"IFERROR(VLOOKUP(B28,Sheet1!C26:H1704,6,0),\"0\")","v":"0"},null,null,"NOVOFORMINE 850MG COMP.PELLI. B/30",300,{"$f":"SUMIF(Tableau1[Description article],Tableau1[Produits],Tableau1[Emplacement])","v":0},"X"]
[null,"REGAB 75 MG GELLES B/56",{"$f":"IFERROR(VLOOKUP(B29,Sheet1!C27:H1705,6,0),\"0\")","v":"0"},null,null,"GLUCOPHAGE 850 MG CP PEL B/30",300,null,"X"]
[null,"RICABALINE 150MG GELLES B/60",{"$f":"IFERROR(VLOOKUP(B30,Sheet1!C28:H1706,6,0),\"0\")","v":"0"},null,null,"EFFERALGAN PEDIATRIQUE 0,03 SOL.BUV. FL/90ML",120,{"$f":"SUMIF(Tableau1[Description article],Tableau1[Produits],Tableau1[Emplacement])","v":0},"X"]
[null,"RICABALINE 300MG GELLULES B/60",{"$f":"IFERROR(VLOOKUP(B31,Sheet1!C29:H1707,6,0),\"0\")","v":"0"},null,null,"CALCIDOSE VITAMINE D 400UI/500MG/SACH. PDRE.ORA. B/30 SACH.",70,{"$f":"SUMIF(Tableau1[Description article],Tableau1[Produits],Tableau1[Emplacement])","v":0},"X"]
[null,"RICABALINE 50MG GELLES B/60",{"$f":"IFERROR(VLOOKUP(B32,Sheet1!C30:H1708,6,0),\"0\")","v":"0"},null,null,"CALCIDOSE 500MG/SACH.DSE. PDRE.SUSP.BUV. B/30",70,{"$f":"SUMIF(Tableau1[Description article],Tableau1[Produits],Tableau1[Emplacement])","v":0},"X"]
[null,"PREGABALINE BEKER 300MG GELLES B/60",{"$f":"IFERROR(VLOOKUP(B33,Sheet1!C31:H1709,6,0),\"0\")","v":"0"},null,null,"CLOFENAL 100MG SUPP. B/10",200,null,"X"]
[null,"PREGABALINE BEKER 150MG GELLES B/60",{"$f":"IFERROR(VLOOKUP(B34,Sheet1!C32:H1710,6,0),\"0\")","v":"0"},null,null,"SMECTA ORANGE-VANILLE 3G/SACH. PDRE.SUSP.BUV. B/30 SACH.",50,{"$f":"SUMIF(Tableau1[Description article],Tableau1[Produits],Tableau1[Emplacement])","v":0},"X"]
[null,"PREGABALINE BEKER 75MG GLES. B/60",{"$f":"IFERROR(VLOOKUP(B35,Sheet1!C33:H1711,6,0),\"0\")","v":"0"},null,null,"HEPTAGYL SIROP",60,{"$f":"SUMIF(Tableau1[Description article],Tableau1[Produits],Tableau1[Emplacement])","v":0},"X"]
[null,"PREGABALINE BEKER 50MG GELLES B/60",{"$f":"IFERROR(VLOOKUP(B36,Sheet1!C34:H1712,6,0),\"0\")","v":"0"},null,null,"HEPTAL SIROP",60,{"$f":"SUMIF(Tableau1[Description article],Tableau1[Produits],Tableau1[Emplacement])","v":0},"X"]
[null,"NEURICA 150 MG GLLES B/60",{"$f":"IFERROR(VLOOKUP(B37,Sheet1!C35:H1713,6,0),\"0\")","v":"0"},null,null,"VITAMINE C UPSA EFFERVESCENTE 1G COMP.EFF. B/20",90,{"$f":"SUMIF(Tableau1[Description article],Tableau1[Produits],Tableau1[Emplacement])","v":0},"X"]
[null,"NEURICA 75 MG GLLES B/60",{"$f":"IFERROR(VLOOKUP(B38,Sheet1!C36:H1714,6,0),\"0\")","v":"0"},null,null,"CLAMOXYL 1G COMP.DISPER. B/014",100,{"$f":"SUMIF(Tableau1[Description article],Tableau1[Produits],Tableau1[Emplacement])","v":0},"X"]
[null,"NEURICA 50 MG GLES B/60",{"$f":"IFERROR(VLOOKUP(B39,Sheet1!C37:H1715,6,0),\"0\")","v":"0"},null,null,"LOMAC 20MG GLES. A MICROGRAN.GASTRORESIST PILUL/15",120,{"$f":"SUMIF(Tableau1[Description article],Tableau1[Produits],Tableau1[Emplacement])","v":0},"X"]
[null,"LEPTICA 50MG GELULES B/60",{"$f":"IFERROR(VLOOKUP(B40,Sheet1!C38:H1716,6,0),\"0\")","v":"0"},null,null,"XYDOL 400 400MG COMP.PELLI. B/20",100,{"$f":"SUMIF(Tableau1[Description article],Tableau1[Produits],Tableau1[Emplacement])","v":0},"X"]
[null,"LEPTICA 150MG GELULES B/60",{"$f":"IFERROR(VLOOKUP(B41,Sheet1!C39:H1717,6,0),\"0\")","v":"0"},null,null,"XYDOL 200 200MG COMP.PELLI. B/20",100,null,"X"]
[null,"PREGABALINE LDM 300MG GELULE B/60",{"$f":"IFERROR(VLOOKUP(B42,Sheet1!C40:H1718,6,0),\"0\")","v":"0"},null,null,"VOLTARENE EMULGEL 0,01 GEL DERM. T/50G",40,{"$f":"SUMIF(Tableau1[Description article],Tableau1[Produits],Tableau1[Emplacement])","v":0},"X"]
[null,"PREGABALINE LDM 50 MG GLL B/60",{"$f":"IFERROR(VLOOKUP(B43,Sheet1!C41:H1719,6,0),\"0\")","v":"0"},null,null,"VOTREX 50MG COMP.GASTRORESIST B/20",70,{"$f":"SUMIF(Tableau1[Description article],Tableau1[Produits],Tableau1[Emplacement])","v":0},"X"]
[null,"PREGABALINE LDM 150 MG GLL B/60",{"$f":"IFERROR(VLOOKUP(B44,Sheet1!C42:H1720,6,0),\"0\")","v":"0"},null,null,"NAXOLIN 100MG COMP. B/50",70,null,"X"]
[null,"ISOPTYL 4% (40MG/ML) SOL.BUV.GTTES. FL/20ML",{"$f":"IFERROR(VLOOKUP(B45,Sheet1!C43:H1721,6,0),\"0\")","v":346},null,null,"CERAZETTE 0,075MG COMP. B/28",50,{"$f":"SUMIF(Tableau1[Description article],Tableau1[Produits],Tableau1[Emplacement])","v":0},"X"]
[null,"ISOPERIDOL HALOPERIDOL 2% Gtte - F/20ML",{"$f":"IFERROR(VLOOKUP(B46,Sheet1!C44:H1722,6,0),\"0\")","v":125},null,null,"MICROGYNON 0,15MG/0,03MG COMP.ENRO. B/63",50,{"$f":"SUMIF(Tableau1[Description article],Tableau1[Produits],Tableau1[Emplacement])","v":0},"X"]
[null,"MYDOCALM 150MG COMP.PELLI. B/30",{"$f":"IFERROR(VLOOKUP(B47,Sheet1!C45:H1723,6,0),\"0\")","v":110},null,null,"MERCILON 0,02MG/0,15MG COMP. B/21",50,null,"X"]
[null,"",{"$f":"IFERROR(VLOOKUP(B48,Sheet1!C46:H1724,6,0),\"0\")","v":"0"},null,null,"MARVELON 0,03MG/0,15MG COMP. B/3X21",50,{"$f":"SUMIF(Tableau1[Description article],Tableau1[Produits],Tableau1[Emplacement])","v":0},"X"]
[{"$nulls":5},"ADEPAL 0,15MG/0,03MG(BLCS.) & 0,20MG/0,04MG(RSE.ORGE.) COMP. B/3X21 (7BLCS. + 14RSE.ORGE.)",50,null,"X"]
[{"$nulls":5},"MINIDRIL 0,15MG/0,03MG COMP. B/63",50,{"$f":"SUMIF(Tableau1[Description article],Tableau1[Produits],Tableau1[Emplacement])","v":0},"X"]
[{"$nulls":5},"MYCOCIDE 1,5MUI/15MG/37,5MG/15G PDE.DERM. T/15G",120,{"$f":"SUMIF(Tableau1[Description article],Tableau1[Produits],Tableau1[Emplacement])","v":0},"X"]
[{"$nulls":5},"MYCOCINE 10MUI/0,1G/0,25G/100G PDE.DERM. T/15G",120,{"$f":"SUMIF(Tableau1[Description article],Tableau1[Produits],Tableau1[Emplacement])","v":0},"X"]
[{"$nulls":5},"ANTALFEN 20MG/ML SUSP.BUV. FL/200ML + PIP.GRAD.",50,{"$f":"SUMIF(Tableau1[Description article],Tableau1[Produits],Tableau1[Emplacement])","v":0},"X"]
[{"$nulls":5},"KEFENTECH 30MG PATCH SACH/07PTCH.",500,null,"X"]
[{"$nulls":5},"GENTAXYN80MG/2ML SOL.INJ.IM.\\IV. B/03 AMP/3ML",200,{"$f":"SUMIF(Tableau1[Description article],Tableau1[Produits],Tableau1[Emplacement])","v":0},"X"]
[{"$nulls":5},"LEVOTHYROX 25PG COMP.SEC. B/30",150,{"$f":"SUMIF(Tableau1[Description article],Tableau1[Produits],Tableau1[Emplacement])","v":0},"X"]
[{"$nulls":5},"PANADOL EXTRA 500MG/65MG COMP.PELLI. B/16",150,{"$f":"SUMIF(Tableau1[Description article],Tableau1[Produits],Tableau1[Emplacement])","v":0},"X"]
[{"$nulls":5},"CHARBONEL PLUS  CAPS .B/30",100,{"$f":"SUMIF(Tableau1[Description article],Tableau1[Produits],Tableau1[Emplacement])","v":0},"X"]
[{"$nulls":5},"TARDYFERON B9 50MG/0,35MG COMP.PELLI. B/30",150,{"$f":"SUMIF(Tableau1[Description article],Tableau1[Produits],Tableau1[Emplacement])","v":0},"X"]
[{"$nulls":5},"VITAL CHECK BANDELETTES B/50",100,{"$f":"SUMIF(Tableau1[Description article],Tableau1[Produits],Tableau1[Emplacement])","v":0},"X"]
[{"$nulls":5},"NOBAC ADULTE 50MG/26,7MG/ML SUSP.BUV. B/01 FL/250ML AD.",90,{"$f":"SUMIF(Tableau1[Description article],Tableau1[Produits],Tableau1[Emplacement])","v":0},"X"]
[{"$nulls":5},"PRIMALAN 1,25MG/2,5ML SRP. FL/60ML",60,{"$f":"SUMIF(Tableau1[Description article],Tableau1[Produits],Tableau1[Emplacement])","v":0},"X"]
[{"$nulls":5},"CLOMYCINE 0,01 PDE.OPHT. T/5G",150,{"$f":"SUMIF(Tableau1[Description article],Tableau1[Produits],Tableau1[Emplacement])","v":0},"X"]
[{"$nulls":5},"NOZINAN 0,04 SOL.BUV.GTTES. FL/30ML",50,{"$f":"SUMIF(Tableau1[Description article],Tableau1[Produits],Tableau1[Emplacement])","v":0},"X"]
[{"$nulls":5},"LEVOTHYROX 75PG COMP.SEC. B/30",150,{"$f":"SUMIF(Tableau1[Description article],Tableau1[Produits],Tableau1[Emplacement])","v":0},"X"]
[{"$nulls":5},"LEVOTHYROX 50PG COMP.SEC. B/30",150,{"$f":"SUMIF(Tableau1[Description article],Tableau1[Produits],Tableau1[Emplacement])","v":0},"X"]
[{"$nulls":5},"DAFLON 500MG (450MG DIOSMINE &50MG FLAVONOIDES EXPRIMES EN HESPERIDINE) COMP.ENRO. B/30",100,null,{"$f":"IF(G67>H67,\"X\",\"-\")","v":"X"}]
[{"$nulls":5},"MAXIDROL 100MG/350 000 UI/60 0000 UI COLLY. FL/1ML",100,null,"X"]
[{"$nulls":5},"METOCLAM 0,1% SOL.BUV. F/200ML",60,{"$f":"SUMIF(Tableau1[Description article],Tableau1[Produits],Tableau1[Emplacement])","v":0},"X"]
[{"$nulls":5},"SICCAFLUID 2,5MG/G GEL OPHT. FL.COMPT.GTTES/10G",100,{"$f":"SUMIF(Tableau1[Description article],Tableau1[Produits],Tableau1[Emplacement])","v":0},"X"]
[{"$nulls":5},"AMOXYPEN 1G PDRE.P.SOL.INJ.IM.(SOLV.LIDOCA.) & IM.\\IV. (SS.SOLV.) B/01 FL.PDRE. + 01 AMP.SOLV/5ML",150,{"$f":"SUMIF(Tableau1[Description article],Tableau1[Produits],Tableau1[Emplacement])","v":0},"X"]
[{"$nulls":5},"BETASONE 0,1% PDE.DERM. T/15G",150,{"$f":"SUMIF(Tableau1[Description article],Tableau1[Produits],Tableau1[Emplacement])","v":0},"X"]
[{"$nulls":5},"DOLIPRANE 150MG SUPP. B/10",100,{"$f":"SUMIF(Tableau1[Description article],Tableau1[Produits],Tableau1[Emplacement])","v":0},"X"]
[{"$nulls":5},"METEOXANE 125MG/80MG GLES. B/60",100,{"$f":"SUMIF(Tableau1[Description article],Tableau1[Produits],Tableau1[Emplacement])","v":0},"X"]
[{"$nulls":5},"ORICALM 4G/1G SOL.AURIC. F/15ML",60,{"$f":"SUMIF(Tableau1[Description article],Tableau1[Produits],Tableau1[Emplacement])","v":0},"X"]
[{"$nulls":5},"ISUCARE CHECK 3 B/ 50 BANDELETTES",100,{"$f":"SUMIF(Tableau1[Description article],Tableau1[Produits],Tableau1[Emplacement])","v":0},"X"]
[{"$nulls":5},"HEXASPRAY COLLUTOIRE",150,{"$f":"SUMIF(Tableau1[Description article],Tableau1[Produits],Tableau1[Emplacement])","v":0},"X"]
[{"$nulls":5},"ESOPROTON 30MG GLES. A MICROGRAN.GASTRORESIST PILUL/14",150,null,"X"]
[{"$nulls":5},"RHUMAFED 2,5MG/50MG/300MG COMP. B/20",150,null,"X"]
[{"$nulls":5},"BUDECORT- 200 200PG/DSE AERO.BUCC. FL/200 DSE.",100,{"$f":"SUMIF(Tableau1[Description article],Tableau1[Produits],Tableau1[Emplacement])","v":0},"X"]
[{"$nulls":5},"CLAMOXYL 250MG/5ML PDRE.SUSP.BUV. B/01 FL/60ML + C.M.",100,null,"X"]
[{"$nulls":5},"LEXIN 1G COMP. B/12",100,{"$f":"SUMIF(Tableau1[Description article],Tableau1[Produits],Tableau1[Emplacement])","v":0},"X"]
[{"$nulls":5},"NEUROVIT 250MG/250MG COMP. B/20",150,null,"X"]
[{"$nulls":5},"MEPRENAL 40MG PDRE.SOL.INJ. B/01",150,{"$f":"SUMIF(Tableau1[Description article],Tableau1[Produits],Tableau1[Emplacement])","v":0},"X"]
[{"$nulls":5},"EURAXYL 0,1 CR. T/40G",100,{"$f":"SUMIF(Tableau1[Description article],Tableau1[Produits],Tableau1[Emplacement])","v":0},"X"]
[{"$nulls":5},"DOLIPRANE 300MG SUPP. B/10",100,null,"X"]
[{"$nulls":5},"LEVOTHYROX 100PG COMP.SEC. B/30",150,{"$f":"SUMIF(Tableau1[Description article],Tableau1[Produits],Tableau1[Emplacement])","v":0},"X"]
[{"$nulls":5},"DUPHASTON 10MG COMP.PELLI. B/10",150,null,"X"]
[{"$nulls":5},"FLUIDABAK 1,5% COLLY.SOL. FL/10ML",100,{"$f":"SUMIF(Tableau1[Description article],Tableau1[Produits],Tableau1[Emplacement])","v":0},"X"]
[{"$nulls":5},"ZECUF SIROP.FLC/120ML (AVEC SUCRE)",60,{"$f":"SUMIF(Tableau1[Description article],Tableau1[Produits],Tableau1[Emplacement])","v":0},"X"]
[{"$nulls":5},"NOVO FER PLUS 100MG/0,35MG COMP.A SUCER B/30",60,{"$f":"SUMIF(Tableau1[Description article],Tableau1[Produits],Tableau1[Emplacement])","v":0},"X"]
[{"$nulls":5},"PANADOL 1G 1G COMP.PELLI.SEC. B/08",150,{"$f":"SUMIF(Tableau1[Description article],Tableau1[Produits],Tableau1[Emplacement])","v":0},"X"]
[{"$nulls":5},"ASPEGIC 500 500MG PDRE.P.SOL.BUV. B/20 SACH.",100,{"$f":"SUMIF(Tableau1[Description article],Tableau1[Produits],Tableau1[Emplacement])","v":0},"X"]
[{"$nulls":5},"MAXIDROL 0,1G/350000UI/60000 0UI/100G PDE.OPHT. T/3,5G",100,{"$f":"SUMIF(Tableau1[Description article],Tableau1[Produits],Tableau1[Emplacement])","v":0},"X"]
[{"$nulls":5},"ORGAMETRIL 5MG COMP. B/30",100,{"$f":"SUMIF(Tableau1[Description article],Tableau1[Produits],Tableau1[Emplacement])","v":0},"X"]
[{"$nulls":5},"DOLIPRANE 100MG SUPP.SEC. B/10",100,{"$f":"SUMIF(Tableau1[Description article],Tableau1[Produits],Tableau1[Emplacement])","v":0},"X"]
[{"$nulls":5},"FUROZAL 40MG COMP.SEC. B/20",150,{"$f":"SUMIF(Tableau1[Description article],Tableau1[Produits],Tableau1[Emplacement])","v":0},"X"]
[{"$nulls":5},"CHIBRO-CADRON 100MG/350000UI/100 ML COLLY. FL/5ML",100,{"$f":"SUMIF(Tableau1[Description article],Tableau1[Produits],Tableau1[Emplacement])","v":0},"X"]
[{"$nulls":5},"KETODERM 0,02 GEL MOUSS.V.CUT. B/08 SACH.DSE/6G",150,{"$f":"SUMIF(Tableau1[Description article],Tableau1[Produits],Tableau1[Emplacement])","v":0},"X"]
[{"$nulls":5},"CLAMOXYL 500MG/5ML PDRE.SUSP.BUV. FL/60ML",100,{"$f":"SUMIF(Tableau1[Description article],Tableau1[Produits],Tableau1[Emplacement])","v":0},"X"]
[{"$nulls":5},"RETARCILINE 1 200 000 UI PDRE.SOL.INJ. B/01 FL.PDRE. + 01 AMP.SOLV/5ML",150,{"$f":"SUMIF(Tableau1[Description article],Tableau1[Produits],Tableau1[Emplacement])","v":0},"X"]
[{"$nulls":5},"SAPRAMOL 300MG PDRE.P.SOL.BUV. B/12 SACH.",100,{"$f":"SUMIF(Tableau1[Description article],Tableau1[Produits],Tableau1[Emplacement])","v":0},"X"]
[{"$nulls":5},"RANITIDINE MABO 150MG COMP.PELLI. B/30",150,{"$f":"SUMIF(Tableau1[Description article],Tableau1[Produits],Tableau1[Emplacement])","v":0},"X"]
[{"$nulls":5},"CHIBROXINE 0,3% (OU 3MG/ML) COLLY. FL/5ML",100,{"$f":"SUMIF(Tableau1[Description article],Tableau1[Produits],Tableau1[Emplacement])","v":0},"X"]
[{"$nulls":5},"AMLOR 5MG GLES. B/28",150,null,"X"]
[{"$nulls":5},"TIORFAN NOURRISSON 10MG/SACH. PDRE.ORA. B/16 SACH.",150,{"$f":"SUMIF(Tableau1[Description article],Tableau1[Produits],Tableau1[Emplacement])","v":0},"X"]
[{"$nulls":5},"ISOPERIDOL HALOPERIDOL 2% Gtte - F/20ML",100,null,"X"]
[{"$nulls":5},"EFFERALGAN VITAMINE C 500MG/200MG COMP.EFF. B/16",150,{"$f":"SUMIF(Tableau1[Description article],Tableau1[Produits],Tableau1[Emplacement])","v":0},"X"]
[{"$nulls":5},"TITANOREINE A LA LIDOCAINE 2% 2,5G/2G/2G/2G/100G CR. T/20G",150,null,"X"]
[{"$nulls":5},"TABIFLEX COOL 0,01 GEL EMULS.DERM. T/50G",150,{"$f":"SUMIF(Tableau1[Description article],Tableau1[Produits],Tableau1[Emplacement])","v":0},"X"]
[{"$nulls":5},"DOLIPRANE 200MG SUPP. B/10",100,{"$f":"SUMIF(Tableau1[Description article],Tableau1[Produits],Tableau1[Emplacement])","v":0},"X"]
[{"$nulls":5},"FORCE MEN 50MG COMP.PELLI. B/01",150,{"$f":"SUMIF(Tableau1[Description article],Tableau1[Produits],Tableau1[Emplacement])","v":0},"X"]
[{"$nulls":5},"DOLIPRANE 2,4% 120MG/5ML SUSP.BUV.SANS SUCRE AROME FRAISE B/01 FL/125ML + C.M.",100,null,"X"]
[{"$nulls":5},"EFFERALGAN PEDIATRIQUE 0,03 SOL.BUV. FL/150",70,{"$f":"SUMIF(Tableau1[Description article],Tableau1[Produits],Tableau1[Emplacement])","v":0},"X"]
[{"$nulls":5},"HYDROXIL 25MG COMP.SEC. B/20",70,{"$f":"SUMIF(Tableau1[Description article],Tableau1[Produits],Tableau1[Emplacement])","v":0},"X"]
[{"$nulls":5},"HELMINTOX SP 125MG",60,{"$f":"SUMIF(Tableau1[Description article],Tableau1[Produits],Tableau1[Emplacement])","v":0},"X"]
[{"$nulls":5},"FLUMOX 100MG/5ML SUSP.BUV. FL/30ML",60,{"$f":"SUMIF(Tableau1[Description article],Tableau1[Produits],Tableau1[Emplacement])","v":0},"X"]
[{"$nulls":5},"RIPERAL 1MG/ML SOL.BUV.GTTES FL/30ML",60,{"$f":"SUMIF(Tableau1[Description article],Tableau1[Produits],Tableau1[Emplacement])","v":0},"X"]
[{"$nulls":5},"RIABAL 30MG COMP.PELLI. B/20",100,null,"X"]
[{"$nulls":5},"VITAFORM SOL.BUV.GTTES. FL/50ML",100,{"$f":"SUMIF(Tableau1[Description article],Tableau1[Produits],Tableau1[Emplacement])","v":0},"X"]
[{"$nulls":5},"CYCLO 3 FORT 150MG/150MG/100MG GLES. B/30",100,{"$f":"SUMIF(Tableau1[Description article],Tableau1[Produits],Tableau1[Emplacement])","v":0},"X"]
[{"$nulls":5},"PREDNOL - L 40MG PDRE.SOL.INJ. B/01+ 01",100,{"$f":"SUMIF(Tableau1[Description article],Tableau1[Produits],Tableau1[Emplacement])","v":0},"X"]
[{"$nulls":5},"VENTOLINE 100PG/DSE AERO. FL/200 DSE.",100,null,"X"]
[{"$nulls":5},"NOVOFORMINE 1000MG COMP.PELLI. B/30",100,{"$f":"SUMIF(Tableau1[Description article],Tableau1[Produits],Tableau1[Emplacement])","v":0},"X"]
[{"$nulls":5},"PHANAZOL 0,01 CR.DERM. T/30G",150,null,"X"]
[{"$nulls":5},"FERRO SANOL GYN 454,13MG EQUI.FER2+ GLES.A GRAN.GASTRORESIST B/50",70,{"$f":"SUMIF(Tableau1[Description article],Tableau1[Produits],Tableau1[Emplacement])","v":0},"X"]
[{"$nulls":5},"ZECUF SANS SUCRE SIROP.FL/120ML",70,null,"X"]
[{"$nulls":5},"GESTARELLE CAPS B/30",50,{"$f":"SUMIF(Tableau1[Description article],Tableau1[Produits],Tableau1[Emplacement])","v":0},"X"]
[{"$nulls":5},"PRIMAL 0,05MG/ML  FL/60ML",60,{"$f":"SUMIF(Tableau1[Description article],Tableau1[Produits],Tableau1[Emplacement])","v":0},"X"]
[{"$nulls":5},"POLYGYNAX 35 000 UI/35 000 UI/100 000 UI CAPS.VAG. MOLLES B/12",70,{"$f":"SUMIF(Tableau1[Description article],Tableau1[Produits],Tableau1[Emplacement])","v":0},"X"]
[{"$nulls":5},"DEBRIDAT 100MG COMP.PELLI. B/20",100,{"$f":"SUMIF(Tableau1[Description article],Tableau1[Produits],Tableau1[Emplacement])","v":0},{"$f":"IF(G131>H131,\"X\",\"-\")","v":"X"}]
[{"$nulls":5},"GECTAPEN 1 000 000 UI/FL.PDRE. PDRE.& SOLV.P.SOL.INJ.IM.\\IV. B/01 FL.PDRE. + 01 AMP.SOLV/5ML",150,{"$f":"SUMIF(Tableau1[Description article],Tableau1[Produits],Tableau1[Emplacement])","v":0},"X"]
[{"$nulls":5},"GYNODERMOFIX 300MG OVULE B/01",150,null,"X"]
[{"$nulls":5},"FLAZOL 500MG COMP.ENRO. B/20",150,null,"X"]
[{"$nulls":5},"LEXINAL 1G COMP.PELLI. B/12",150,{"$f":"SUMIF(Tableau1[Description article],Tableau1[Produits],Tableau1[Emplacement])","v":0},"X"]
[{"$nulls":5},"NOPAIN DS 550MG COMP. B/10",100,{"$f":"SUMIF(Tableau1[Description article],Tableau1[Produits],Tableau1[Emplacement])","v":0},"X"]
[{"$nulls":5},"VERTEN 400MG COMP. B/01",70,null,"X"]
[{"$nulls":5},"HUMEX RHUME CP ET GLLES. B/12+4",100,{"$f":"SUMIF(Tableau1[Description article],Tableau1[Produits],Tableau1[Emplacement])","v":0},"X"]
[{"$nulls":5},"DOMPERONE 10MG COMP.PELLI. B/40",60,{"$f":"SUMIF(Tableau1[Description article],Tableau1[Produits],Tableau1[Emplacement])","v":0},"X"]
[{"$nulls":5},"UTROGESTAN 200MG CAPS.MOLLE ORA.&VAG. B/15",100,{"$f":"SUMIF(Tableau1[Description article],Tableau1[Produits],Tableau1[Emplacement])","v":0},"X"]
[{"$nulls":5},"FLAMAZOLE 0,01 CR.DERM. T/40G",100,{"$f":"SUMIF(Tableau1[Description article],Tableau1[Produits],Tableau1[Emplacement])","v":0},"X"]
[{"$nulls":5},"CELETASONE 2MG COMP.DISPER. B/20",100,{"$f":"SUMIF(Tableau1[Description article],Tableau1[Produits],Tableau1[Emplacement])","v":0},"X"]
[{"$nulls":5},"BECONASE 50PG/DSE SUSP.NAS. FL/100 DSE.",100,{"$f":"SUMIF(Tableau1[Description article],Tableau1[Produits],Tableau1[Emplacement])","v":0},"X"]
[{"$nulls":5},"SARGENOR VITAMINE C 1,5G/0,5G/5ML SOL.BUV. B/20 AMP/5ML",60,null,"X"]
[{"$nulls":5},"ISOMEDINE 0,1% SOL.DERM. FL/50ML",100,{"$f":"SUMIF(Tableau1[Description article],Tableau1[Produits],Tableau1[Emplacement])","v":0},"X"]
[{"$nulls":5},"ANTAG 20MG GLES. A MICROGRAN.GASTRORESIST B/14",150,{"$f":"SUMIF(Tableau1[Description article],Tableau1[Produits],Tableau1[Emplacement])","v":0},"X"]
[{"$nulls":5},"VERSEC 24 MG CP B/60",100,null,"X"]
[{"$nulls":5},"ISOPTYL 4% (40MG/ML) SOL.BUV.GTTES. FL/20ML",100,{"$f":"SUMIF(Tableau1[Description article],Tableau1[Produits],Tableau1[Emplacement])","v":0},"X"]
[{"$nulls":5},"ORAPEN 1 000 000 UI COMP. B/12",150,{"$f":"SUMIF(Tableau1[Description article],Tableau1[Produits],Tableau1[Emplacement])","v":0},"X"]
[{"$nulls":5},"RESPINHAL 0,5MG/ML (0,05%) SOL.P.PULV.NAS. FL/15ML",100,{"$f":"SUMIF(Tableau1[Description article],Tableau1[Produits],Tableau1[Emplacement])","v":0},"X"]
[{"$nulls":5},"PROTON 20MG GLES. A MICROGRAN.GASTRORESIST B/14",100,null,"X"]
[{"$nulls":5},"THEALOSE 3% SOL.OPHT.FL/10ML",100,{"$f":"SUMIF(Tableau1[Description article],Tableau1[Produits],Tableau1[Emplacement])","v":0},"X"]
[{"$nulls":5},"SAPRAMOL 500MG PDRE.P.SOL.BUV. B/12 SACH.",100,{"$f":"SUMIF(Tableau1[Description article],Tableau1[Produits],Tableau1[Emplacement])","v":0},"X"]
[{"$nulls":5},"GLUCOPHAGE 850MG COMP.PELLI. B/90",150,null,"X"]
[{"$nulls":5},"KETOFEN 2,5% GEL DERM. T/40G",150,null,"X"]
[{"$nulls":5},"SMECTA FRAISE 3G/SACH. PDRE.SUSP.BUV. B/18 SACH.",90,null,"X"]
[{"$nulls":5},"GLUCOPHAGE 1000 1000MG COMP.PELLI.SEC. B/30",120,{"$f":"SUMIF(Tableau1[Description article],Tableau1[Produits],Tableau1[Emplacement])","v":0},"X"]
[{"$nulls":5},"OKAGE 5G/SACH.DSE PDRE.P.SOL.BUV.\\GASTRO-ENTERALE B/10 SACH.",60,null,"X"]
[{"$nulls":5},"PHENOXAL 100MG COMP.SEC. B/20",100,null,"X"]
[{"$nulls":5},"APTAMIL PEPTI JUNIOR LAIT EN PDRE. B/400G",40,{"$f":"SUMIF(Tableau1[Description article],Tableau1[Produits],Tableau1[Emplacement])","v":0},"X"]
[{"$nulls":5},"SPASMOL 150MG SUPP. B/10",100,{"$f":"SUMIF(Tableau1[Description article],Tableau1[Produits],Tableau1[Emplacement])","v":0},"X"]
[{"$nulls":5},"JASMINE 3MG/30PG COMP.PELLI. B/21",100,{"$f":"SUMIF(Tableau1[Description article],Tableau1[Produits],Tableau1[Emplacement])","v":0},"X"]
[{"$nulls":5},"RATIDEX 50MG/ML SOL.INJ.IM.\\IV. B/05 AMP/2ML",100,{"$f":"SUMIF(Tableau1[Description article],Tableau1[Produits],Tableau1[Emplacement])","v":0},"X"]
[{"$nulls":5},"BIOFENAC 0,01 GEL DERM. T/50G",150,{"$f":"SUMIF(Tableau1[Description article],Tableau1[Produits],Tableau1[Emplacement])","v":0},"X"]
[{"$nulls":5},"CLARIDAR 125 125MG/5ML PDRE.SUSP.BUV. B/01 FL/60ML + C.M.",60,{"$f":"SUMIF(Tableau1[Description article],Tableau1[Produits],Tableau1[Emplacement])","v":0},"X"]
[{"$nulls":5},"SAFORELLE SOIN LAVANTE F/ 125ml",40,null,"X"]
[{"$nulls":5},"SPIRONOLONE 75MG COMP.PELLI.SEC. B/30",100,{"$f":"SUMIF(Tableau1[Description article],Tableau1[Produits],Tableau1[Emplacement])","v":0},"X"]
[{"$nulls":5},"VIACTAL 50MG COMP. B/02",60,{"$f":"SUMIF(Tableau1[Description article],Tableau1[Produits],Tableau1[Emplacement])","v":0},"X"]
[{"$nulls":5},"PROSPAN SIROP  .F/100ML - ANTITUSSIF-",70,{"$f":"SUMIF(Tableau1[Description article],Tableau1[Produits],Tableau1[Emplacement])","v":0},"X"]
[{"$nulls":5},"POLYDEXA 650000UI/1000000UI/0,100G/100ML SOL.AURIC.GTTES. FL/10,5ML",100,null,"X"]
[{"$nulls":5},"SUNADIL 0,5G/100ML SUSP.BUV. FL /200ML",50,{"$f":"SUMIF(Tableau1[Description article],Tableau1[Produits],Tableau1[Emplacement])","v":0},"X"]
[{"$nulls":5},"PARAMOL 1G COMP.SEC. B/25",150,null,"X"]
[{"$nulls":5},"DEPAKINE CHRONO 500MG COMP.PELLI.SEC.LP. B/30",100,null,"X"]
[{"$nulls":5},"XAMADOL 325MG/37,5MG COMP.PELLI. B/20",100,{"$f":"SUMIF(Tableau1[Description article],Tableau1[Produits],Tableau1[Emplacement])","v":0},"X"]
[{"$nulls":5},"AMOXYPEN 500MG/FL.PDRE. PDRE.P.SOL.INJ.IM.(SOLV.LIDOCA.) & IM.\\IV. (SS.SOLV.) B/01 FL.PDRE.+SOLV/5ML",150,{"$f":"SUMIF(Tableau1[Description article],Tableau1[Produits],Tableau1[Emplacement])","v":0},"X"]
[{"$nulls":5},"ASPIRINE UPSA VITAMINE C TAMPONNEE EFFERVESCENTE 330MG/200MG COMP.EFF. B/20",150,null,"X"]
[{"$nulls":5},"FUCIDINE 250MG COMP.PELLI. B/10",100,{"$f":"SUMIF(Tableau1[Description article],Tableau1[Produits],Tableau1[Emplacement])","v":0},"X"]
[{"$nulls":5},"EXPANDOL 1G COMP. B/10",150,{"$f":"SUMIF(Tableau1[Description article],Tableau1[Produits],Tableau1[Emplacement])","v":0},"X"]
[{"$nulls":5},"LISAMETHYLE 40MG/FL.PDRE. PDRE.& SOLV.P.SOL.INJ.IM.\\IV. B/01 FL.LYOPH. + 01 AMP.SOLV/2ML",150,null,"X"]
[{"$nulls":5},"CARBIMOL LP 400MG COMP.PELLI.SEC.LP. B/30",100,null,"X"]
[{"$nulls":5},"BI-OROGYL 1,5MUI/250MG COMP.PELLI. B/10",100,{"$f":"SUMIF(Tableau1[Description article],Tableau1[Produits],Tableau1[Emplacement])","v":0},"X"]
[{"$nulls":5},"XALACOM 50?G/5MG/ML (0,005%/0,5%) COLLY. FL/2,5ML",100,{"$f":"SUMIF(Tableau1[Description article],Tableau1[Produits],Tableau1[Emplacement])","v":0},"X"]
[{"$nulls":5},"DEBRIDAT 200MG COMP.PELLI. B/30",150,{"$f":"SUMIF(Tableau1[Description article],Tableau1[Produits],Tableau1[Emplacement])","v":0},"X"]
[{"$nulls":5},"AMOCLAN 8:1 500MG/62,5MG PDRE.SUSP.BUV. B/14 SACH.",100,null,"X"]
[{"$nulls":5},"CLOFENAL LP 75MG GLES. GASTRORESIST LP. B/30",150,{"$f":"SUMIF(Tableau1[Description article],Tableau1[Produits],Tableau1[Emplacement])","v":0},"X"]
[{"$nulls":5},"DIAGNO-CHECK BANDELETTES DE GLYCEMIE .B/50",100,null,"X"]
[{"$nulls":5},"DERMASONE 0,05% LOT.DERM. FL/15G",150,null,"X"]
[{"$nulls":5},"MOLSIDOMINE BEKER 2MG COMP.SEC. B/30",100,null,"X"]
[{"$nulls":5},"GRIPEX (GELLULE) B/10",150,{"$f":"SUMIF(Tableau1[Description article],Tableau1[Produits],Tableau1[Emplacement])","v":0},"X"]
[{"$nulls":5},"FLUDEX LP 1,5MG COMP.PELLI.LP. B/30",100,null,"X"]
[{"$nulls":5},"GLATIX 30MG COMP.LM. B/30",150,null,"X"]
[{"$nulls":5},"VOGALON 5MG SUPP. B/10",70,null,"X"]
[{"$nulls":5},"VIBRAMYCINE 100MG COMP.SEC. B/05",150,{"$f":"SUMIF(Tableau1[Description article],Tableau1[Produits],Tableau1[Emplacement])","v":0},"X"]
[{"$nulls":5},"LAPETI 4MG COMP. B/20",100,{"$f":"SUMIF(Tableau1[Description article],Tableau1[Produits],Tableau1[Emplacement])","v":0},"X"]
[{"$nulls":5},"CODOLYC CP .B/20",100,{"$f":"SUMIF(Tableau1[Description article],Tableau1[Produits],Tableau1[Emplacement])","v":0},{"$f":"IF(G195>H195,\"X\",\"-\")","v":"X"}]
[{"$nulls":5},"PRECORTYL 5MG COMP. B/30",150,{"$f":"SUMIF(Tableau1[Description article],Tableau1[Produits],Tableau1[Emplacement])","v":0},"X"]
[{"$nulls":5},"CLOTASOL 0,05% CR.DERM. T/45G",100,{"$f":"SUMIF(Tableau1[Description article],Tableau1[Produits],Tableau1[Emplacement])","v":0},"X"]
[{"$nulls":5},"FLIXONASE 50PG/DSE. SPRAY NAS. FL/120 DSE.",100,null,"X"]
[{"$nulls":5},"NOVAZIN 25MG COMP.ENRO. B/20",100,{"$f":"SUMIF(Tableau1[Description article],Tableau1[Produits],Tableau1[Emplacement])","v":0},"X"]
[{"$nulls":5},"FORCE MEN 50MG COMP.PELLI. B/04",100,{"$f":"SUMIF(Tableau1[Description article],Tableau1[Produits],Tableau1[Emplacement])","v":0},"X"]
[{"$nulls":5},"ALLERTINE 10MG COMP. B/20",100,{"$f":"SUMIF(Tableau1[Description article],Tableau1[Produits],Tableau1[Emplacement])","v":0},"X"]
[{"$nulls":5},"ZETA 0,02 PDE. T/15G",100,{"$f":"SUMIF(Tableau1[Description article],Tableau1[Produits],Tableau1[Emplacement])","v":0},"X"]
[{"$nulls":5},"VAVO 0,02 CR.DERM. T/15G",100,{"$f":"SUMIF(Tableau1[Description article],Tableau1[Produits],Tableau1[Emplacement])","v":0},"X"]
[{"$nulls":5},"DESLOR 0,5MG/ML SRP. B/01 FL/150ML+ SERING.M.GRAD.",100,{"$f":"SUMIF(Tableau1[Description article],Tableau1[Produits],Tableau1[Emplacement])","v":0},"X"]
[{"$nulls":5},"PERIACTINE 4MG COMP. B/30",100,{"$f":"SUMIF(Tableau1[Description article],Tableau1[Produits],Tableau1[Emplacement])","v":0},"X"]
[{"$nulls":5},"AMOXICILLINE EG 1G COMP.DISPER. B/14",100,{"$f":"SUMIF(Tableau1[Description article],Tableau1[Produits],Tableau1[Emplacement])","v":0},"X"]
[{"$nulls":5},"ZOMAX 40MG/ML (200MG/5ML) PDRE.SUSP.BUV. B/01 FL/15ML + 01 AMP.D'EAU PURIFIEE + C.M.",100,{"$f":"SUMIF(Tableau1[Description article],Tableau1[Produits],Tableau1[Emplacement])","v":0},"X"]
[{"$nulls":5},"FLIXOTIDE 50PG/DSE SUSP.INHAL.BUCC. FL/120 DSE.",100,{"$f":"SUMIF(Tableau1[Description article],Tableau1[Produits],Tableau1[Emplacement])","v":0},"X"]
[{"$nulls":5},"RAPIDUS 50 50MG COMP.ENRO. B/20",100,{"$f":"SUMIF(Tableau1[Description article],Tableau1[Produits],Tableau1[Emplacement])","v":0},"X"]
[{"$nulls":5},"RYNZA SACH.5G PDRE.P.SOL.BUV. B/05 SACH/5G",100,null,"X"]
[{"$nulls":5},"AMOCLAN 8:1 100MG/12,5MG/ML PDRE.P.SUSP.BUV.NRS/ENF B/01 FL/60ML ENF. + PIPT. GRAD.",100,{"$f":"SUMIF(Tableau1[Description article],Tableau1[Produits],Tableau1[Emplacement])","v":0},"X"]
[{"$nulls":5},"ORAPEN 1 500 000 UI COMP.SEC. B/12",100,{"$f":"SUMIF(Tableau1[Description article],Tableau1[Produits],Tableau1[Emplacement])","v":0},"X"]
[{"$nulls":5},"COAPROVEL 150MG/12,5MG COMP.PELLI. B/28",100,null,"X"]
[{"$nulls":5},"LEXINAL 250MG/5ML SUSP.BUV. FL/100 ML+ GBL.DOSEUR",100,null,"X"]
[{"$nulls":5},"NOVORAPID FLEXPEN 100UI/ML SOL.INJ. B/05 STY.PREREMPL/3ML",100,null,"X"]
[{"$nulls":5},"ZANITRA 5MG COMP. B/60",100,null,"X"]
[{"$nulls":5},"DOMPERONE 1MG/ML SUSP.BUV. FL/200 ML",100,null,"X"]
[{"$nulls":5},"SUPRADYNE MAGNESIA CP EFFER SANS SUCRE . B/15",100,{"$f":"SUMIF(Tableau1[Description article],Tableau1[Produits],Tableau1[Emplacement])","v":0},"X"]
[{"$nulls":5},"XYDOL 600 600MG COMP.PELLI. B/30",100,{"$f":"SUMIF(Tableau1[Description article],Tableau1[Produits],Tableau1[Emplacement])","v":0},"X"]
[{"$nulls":5},"APROVEL 150MG COMP.PELLI. B/28",100,{"$f":"SUMIF(Tableau1[Description article],Tableau1[Produits],Tableau1[Emplacement])","v":0},"X"]
[{"$nulls":5},"ATACAND 8MG COMP.SEC. B/30",100,{"$f":"SUMIF(Tableau1[Description article],Tableau1[Produits],Tableau1[Emplacement])","v":0},"X"]
[{"$nulls":5},"BIPROTENS 5MG COMP.ENRO. B/30",100,null,"X"]
[{"$nulls":5},"NOLVADEX 20MG COMP. B/30",100,{"$f":"SUMIF(Tableau1[Description article],Tableau1[Produits],Tableau1[Emplacement])","v":0},"X"]
[{"$nulls":5},"KIETYL 6MG COMP.SEC. B/30",100,null,"X"]
[{"$nulls":5},"PAROL 300MG SUPP. B/10",100,null,"X"]
[{"$nulls":5},"BIOVEX 500MG/200MG/25MG SOL.BUV. B/08 SACH.",100,{"$f":"SUMIF(Tableau1[Description article],Tableau1[Produits],Tableau1[Emplacement])","v":0},"X"]
[{"$nulls":5},"DEPAKINE 200MG/ML SOL.BUV. B/01 FL/40ML + SERING.GRAD.ADMINIST.ORA/MG",100,null,"X"]
[{"$nulls":5},"VOMITEB SP FL 200ML",100,null,"X"]
[{"$nulls":5},"COAPROVEL 300MG/12,5MG COMP.PELLI. B/28",100,null,"X"]
[{"$nulls":5},"SPASCOL LP 200MG GLES. A MICROGRAN.LP. B/30",100,{"$f":"SUMIF(Tableau1[Description article],Tableau1[Produits],Tableau1[Emplacement])","v":0},"X"]
[{"$nulls":5},"LEXIN 500MG GLES. B/20",100,{"$f":"SUMIF(Tableau1[Description article],Tableau1[Produits],Tableau1[Emplacement])","v":0},"X"]
[{"$nulls":5},"FLAZOL 125MG/5ML SUSP.BUV. FL/120ML + BCHN.DOSEUR",100,{"$f":"SUMIF(Tableau1[Description article],Tableau1[Produits],Tableau1[Emplacement])","v":0},"X"]
[{"$nulls":5},"CERULYSE 5G/100G SOL.AURIC. FL/10ML",100,null,"X"]
[{"$nulls":5},"CANTAPONE 200MG COMP.PELLI. PILUL/30",100,null,"X"]
[{"$nulls":5},"COAPROVEL 300MG/25MG COMP.PELLI. B/28",100,{"$f":"SUMIF(Tableau1[Description article],Tableau1[Produits],Tableau1[Emplacement])","v":0},"X"]
[{"$nulls":5},"ISUCARE CHECK 3 KIT",100,null,"X"]
[{"$nulls":5},"GELTIM LP 1MG/G GEL OPHT. B/30 RCP..UNOSE.SACH/10G",100,null,"X"]
[{"$nulls":5},"RHINATHIOL ADULTE 0,05 SRP. FL/125ML",100,null,"X"]
[{"$nulls":5},"FUCIDINE 0,02 PDE.DERM. T/15G",100,{"$f":"SUMIF(Tableau1[Description article],Tableau1[Produits],Tableau1[Emplacement])","v":0},"X"]
[{"$nulls":5},"NATAZINE 5MG COMP B/14",100,{"$f":"SUMIF(Tableau1[Description article],Tableau1[Produits],Tableau1[Emplacement])","v":0},"X"]
[{"$nulls":5},"TRIATEC 2,5MG COMP.SEC. B/28",100,null,"X"]
[{"$nulls":5},"CLOGEL 0,01 GEL DERM. T/30G",100,null,"X"]
[{"$nulls":5},"HUMEX MAL DE GORGE 0,030G/0,300G/100ML COLLU. B/01 FL/35ML",100,null,"X"]
[{"$nulls":5},"MYDOCALM 150MG COMP.PELLI. B/30",100,{"$f":"SUMIF(Tableau1[Description article],Tableau1[Produits],Tableau1[Emplacement])","v":0},"X"]
[{"$nulls":5},"SUPERSTAT 10MG COMP.PELLI. B/30",100,null,"X"]
[{"$nulls":5},"CALCIUM D3 IVAL 400UI/500MG COMP.CROQ. B/60",100,{"$f":"SUMIF(Tableau1[Description article],Tableau1[Produits],Tableau1[Emplacement])","v":0},"X"]
[{"$nulls":5},"MAXILODRE 100MG/350 000 UI/60 0000 UI COLLY. FL/3ML",100,null,"X"]
[{"$nulls":5},"ZOLAMIDE + 20MG/5MG/ML COLLY.SOL. FL/5ML",100,null,"X"]
[{"$nulls":5},"NIFUROXAZIDE 0,04 SUSP.BUV. FL/90ML",100,{"$f":"SUMIF(Tableau1[Description article],Tableau1[Produits],Tableau1[Emplacement])","v":0},"X"]
[{"$nulls":5},"ORAPEN 250 000UI/5ML PDRE.SUSP.ORA. FL/60 ML",100,{"$f":"SUMIF(Tableau1[Description article],Tableau1[Produits],Tableau1[Emplacement])","v":0},"X"]
[{"$nulls":5},"TELFAST 180MG COMP.PELLI. B/15",100,null,"X"]
[{"$nulls":5},"ENCOFLUIDE ADULTE 0,25G/0,01G/2G/0,2G/1G/0,048G/100ML SOL.BUV. FL/180ML",100,null,"X"]
[{"$nulls":5},"HISTAGAN 2MG COMP.SEC. B/30",100,null,"X"]
[{"$nulls":5},"ATENOR 100MG COMP.SEC. B/30",100,{"$f":"SUMIF(Tableau1[Description article],Tableau1[Produits],Tableau1[Emplacement])","v":0},"X"]
[{"$nulls":5},"TENSOPREL 50MG COMP.SEC. B/30",100,{"$f":"SUMIF(Tableau1[Description article],Tableau1[Produits],Tableau1[Emplacement])","v":0},"X"]
[{"$nulls":5},"TERBINAN 0,01 CR. T/15G",100,{"$f":"SUMIF(Tableau1[Description article],Tableau1[Produits],Tableau1[Emplacement])","v":0},"X"]
[{"$nulls":5},"INDOCOLLYRE (COLLYRE)",100,{"$f":"SUMIF(Tableau1[Description article],Tableau1[Produits],Tableau1[Emplacement])","v":0},"X"]
[{"$nulls":5},"BIOFENAC LP 75MG COMP.PELLI.LP. B/30",100,{"$f":"SUMIF(Tableau1[Description article],Tableau1[Produits],Tableau1[Emplacement])","v":0},"X"]
[{"$nulls":5},"AMAREL 4MG COMP. B/30",100,null,{"$f":"IF(G259>H259,\"X\",\"-\")","v":"X"}]
[{"$nulls":5},"TAHOR 10MG COMP.PELLI. B/28",100,{"$f":"SUMIF(Tableau1[Description article],Tableau1[Produits],Tableau1[Emplacement])","v":0},"X"]
[{"$nulls":5},"RHINOCORT 64PG/DSE SUSP.P.PULV.NAS. FL/120 DSE.",100,null,"X"]
[{"$nulls":5},"SOMAZINA 100MG/ML SOL.BUV.GTTES. B/01 FL/30ML + SERING. DOSEUSE",100,{"$f":"SUMIF(Tableau1[Description article],Tableau1[Produits],Tableau1[Emplacement])","v":0},"X"]
[{"$nulls":5},"ZOPRA 30MG GLES. B/30",100,{"$f":"SUMIF(Tableau1[Description article],Tableau1[Produits],Tableau1[Emplacement])","v":0},"X"]
[{"$nulls":5},"AMPILINE 1G/FL.PDRE. PDRE.SOL.INJ. B/01 FL.PDRE. + 01 AMP.SOLV/5ML",100,{"$f":"SUMIF(Tableau1[Description article],Tableau1[Produits],Tableau1[Emplacement])","v":0},"X"]
[{"$nulls":5},"OROPRED 20MG COMP.ORODIS. B/20",100,null,"X"]
[{"$nulls":5},"PIMAG 1,5G/10ML SOL.BUV. B/10",100,{"$f":"SUMIF(Tableau1[Description article],Tableau1[Produits],Tableau1[Emplacement])","v":0},"X"]
[{"$nulls":5},"IRYS 2MG COMP.PELLI.SEC. B/30",100,{"$f":"SUMIF(Tableau1[Description article],Tableau1[Produits],Tableau1[Emplacement])","v":0},"X"]
[{"$nulls":5},"TRIFER FOL 100MG/0,35MG COMP.PELLI. B/30",100,null,"X"]
[{"$nulls":5},"NOPAIN 275MG COMP. B/20",100,null,"X"]
[{"$nulls":5},"TOUX KID .SIROP .F/100ML",100,{"$f":"SUMIF(Tableau1[Description article],Tableau1[Produits],Tableau1[Emplacement])","v":0},"X"]
[{"$nulls":5},"DOTUR 100MG COMP.SEC. B/10",100,{"$f":"SUMIF(Tableau1[Description article],Tableau1[Produits],Tableau1[Emplacement])","v":0},"X"]
[{"$nulls":5},"AMAREL 2MG COMP. B/30",100,{"$f":"SUMIF(Tableau1[Description article],Tableau1[Produits],Tableau1[Emplacement])","v":0},"X"]
[{"$nulls":5},"AMOXYPEN 500MG GLES. B/12",100,null,"X"]
[{"$nulls":5},"LAPETI 2MG/5ML SRP. FL/100ML",100,{"$f":"SUMIF(Tableau1[Description article],Tableau1[Produits],Tableau1[Emplacement])","v":0},"X"]
[{"$nulls":5},"SPASMODYL 80MG COMP.ORODIS. B/10",100,{"$f":"SUMIF(Tableau1[Description article],Tableau1[Produits],Tableau1[Emplacement])","v":0},"X"]
[{"$nulls":5},"HYTACAND 16MG/12.5MG .B/30",100,{"$f":"SUMIF(Tableau1[Description article],Tableau1[Produits],Tableau1[Emplacement])","v":0},"X"]
[{"$nulls":5},"OTOFA 2,6G/100ML SOL.AURIC.GTTES. FL/10ML",100,null,"X"]
[{"$nulls":5},"SINTROM 4MG COMP.SEC. B/30",100,null,"X"]
[{"$nulls":5},"TRIATEC 5MG COMP.SEC. B/28",100,{"$f":"SUMIF(Tableau1[Description article],Tableau1[Produits],Tableau1[Emplacement])","v":0},"X"]
[{"$nulls":5},"DIAGLINIDE 1MG COMP. B/30",100,{"$f":"SUMIF(Tableau1[Description article],Tableau1[Produits],Tableau1[Emplacement])","v":0},"X"]
[{"$nulls":5},"TELFAST 120MG COMP.PELLI. B/15",100,{"$f":"SUMIF(Tableau1[Description article],Tableau1[Produits],Tableau1[Emplacement])","v":0},"X"]
[{"$nulls":5},"RHINATHIOL ENFANT 0,02 SRP. FL/125ML",100,{"$f":"SUMIF(Tableau1[Description article],Tableau1[Produits],Tableau1[Emplacement])","v":0},"X"]
[{"$nulls":5},"TABETA 0,5MG/ML SOL.BUV.GTTES. F/30ML + PIPT.GRAD.",100,null,"X"]
[{"$nulls":5},"ULTRA-LEVURE 100MG PDRE.SOL.ORA. B/14 SACH.",100,{"$f":"SUMIF(Tableau1[Description article],Tableau1[Produits],Tableau1[Emplacement])","v":0},"X"]
[{"$nulls":5},"FUCITHALMIC 0,01 GEL OPHT. T/3G",100,null,"X"]
[{"$nulls":5},"VIACTAL 50MG COMP. B/08",100,{"$f":"SUMIF(Tableau1[Description article],Tableau1[Produits],Tableau1[Emplacement])","v":0},"X"]
[{"$nulls":5},"ASPEGIC ADULTE 1G PDRE.P.SOL.BUV. B/20 SACH.",100,null,"X"]
[{"$nulls":5},"APROVEL 300MG COMP.PELLI. B/28",100,{"$f":"SUMIF(Tableau1[Description article],Tableau1[Produits],Tableau1[Emplacement])","v":0},"X"]
[{"$nulls":5},"PARALGAN 1G COMP.SEC. B/10",100,null,"X"]
[{"$nulls":5},"CIPTADINE 4MG COMP.SEC. B/20",100,null,"X"]
[{"$nulls":5},"ORBENINE 500MG GLES. B/16",100,{"$f":"SUMIF(Tableau1[Description article],Tableau1[Produits],Tableau1[Emplacement])","v":0},"X"]
[{"$nulls":5},"COPARALGAN 400MG/20MG COMP.SEC. B/20",100,null,"X"]
[{"$nulls":5},"SMEDYL 3G/SACH. PDRE.SUSP.BUV. B/30 SACH.",100,{"$f":"SUMIF(Tableau1[Description article],Tableau1[Produits],Tableau1[Emplacement])","v":0},"X"]
[{"$nulls":5},"ZANIDIP 10MG COMP.PELLI.SEC. B/30",100,null,"X"]
[{"$nulls":5},"FLAGYL 250MG COMP.PELLI. B/20",100,null,"X"]
[{"$nulls":5},"ASTHALIN 5MG/ML SOL.INHAL.P. NEBULISEUR FL/15ML",100,{"$f":"SUMIF(Tableau1[Description article],Tableau1[Produits],Tableau1[Emplacement])","v":0},"X"]
[{"$nulls":5},"CLOTASOL 0,05% PDE.DERM. T/45G",100,{"$f":"SUMIF(Tableau1[Description article],Tableau1[Produits],Tableau1[Emplacement])","v":0},"X"]
[{"$nulls":5},"MEGAMYLASE 3000 U CEIP COMP.ENRO. B/24",100,{"$f":"SUMIF(Tableau1[Description article],Tableau1[Produits],Tableau1[Emplacement])","v":0},"X"]
[{"$nulls":5},"SPIRIVA 18PG PDRE.EN GLES.P.INHAL. B/30+INHALATEUR",100,{"$f":"SUMIF(Tableau1[Description article],Tableau1[Produits],Tableau1[Emplacement])","v":0},"X"]
[{"$nulls":5},"PANADOL RHUME + GRIPPE 500MG/25MG/5MG COMP.PELLI. B/16",100,null,"X"]
[{"$nulls":5},"DORMAZINE 100MG DRG. B/30",100,null,"X"]
[{"$nulls":5},"OROFER 10MG/ML SRP. FL/100ML + GBL.DOSEUR",100,{"$f":"SUMIF(Tableau1[Description article],Tableau1[Produits],Tableau1[Emplacement])","v":0},"X"]
[{"$nulls":5},"LEVOPHTA 0,05% COLLY. FL/5ML",100,{"$f":"SUMIF(Tableau1[Description article],Tableau1[Produits],Tableau1[Emplacement])","v":0},"X"]
[{"$nulls":5},"RUMAVA 20MG COMP.PELLI. B/30",100,{"$f":"SUMIF(Tableau1[Description article],Tableau1[Produits],Tableau1[Emplacement])","v":0},"X"]
[{"$nulls":5},"XYDOLGYN 100MG COMP.PELLI. B/20",100,null,"X"]
[{"$nulls":5},"ATHYROZOL 5MG COMP.SEC. B/50",100,{"$f":"SUMIF(Tableau1[Description article],Tableau1[Produits],Tableau1[Emplacement])","v":0},"X"]
[{"$nulls":5},"CARTEOL LP 0,02 COLLY.SOL.LP. FL/3ML",100,null,"X"]
[{"$nulls":5},"CORECT 50MG COMP. B/30",100,null,"X"]
[{"$nulls":5},"DIAGLINIDE 0,5MG COMP. B/30",100,{"$f":"SUMIF(Tableau1[Description article],Tableau1[Produits],Tableau1[Emplacement])","v":0},"X"]
[{"$nulls":5},"PLAVIX 75MG COMP.PELLI. B/28",100,{"$f":"SUMIF(Tableau1[Description article],Tableau1[Produits],Tableau1[Emplacement])","v":0},"X"]
[{"$nulls":5},"AMPILINE 500MG GLES. B/12",100,{"$f":"SUMIF(Tableau1[Description article],Tableau1[Produits],Tableau1[Emplacement])","v":0},"X"]
[{"$nulls":5},"DOUCE + 27G/20G PDE. T/40G",100,{"$f":"SUMIF(Tableau1[Description article],Tableau1[Produits],Tableau1[Emplacement])","v":0},"X"]
[{"$nulls":5},"VIAGRA 50MG COMP.PELLI. B/02",100,null,"X"]
[{"$nulls":5},"ISOCTINE 2MG/5ML SOL.BUV. FL/100ML",100,null,"X"]
[{"$nulls":5},"ARTIZ 10MG COMP.PELLI. B/10",100,{"$f":"SUMIF(Tableau1[Description article],Tableau1[Produits],Tableau1[Emplacement])","v":0},"X"]
[{"$nulls":5},"ROVAMYCINE 3 000 000 UI COMP.PELLI. B/16",100,null,"X"]
[{"$nulls":5},"VITA-C 500MG COMP. B/20",100,{"$f":"SUMIF(Tableau1[Description article],Tableau1[Produits],Tableau1[Emplacement])","v":0},"X"]
[{"$nulls":5},"VITAMAG AMPL B/30 AM/5ML",100,{"$f":"SUMIF(Tableau1[Description article],Tableau1[Produits],Tableau1[Emplacement])","v":0},"X"]
[{"$nulls":5},"CELEBREX 200MG GLES. B/30",100,{"$f":"SUMIF(Tableau1[Description article],Tableau1[Produits],Tableau1[Emplacement])","v":0},"X"]
[{"$nulls":5},"INPHALAC SIROP F/200ML",100,null,"X"]
[{"$nulls":5},"ALDOMET 250MG COMP.PELLI. B/30",100,{"$f":"SUMIF(Tableau1[Description article],Tableau1[Produits],Tableau1[Emplacement])","v":0},"X"]
[{"$nulls":5},"MODESTAMINE 4MG COMP. B/20",100,{"$f":"SUMIF(Tableau1[Description article],Tableau1[Produits],Tableau1[Emplacement])","v":0},"X"]
[{"$nulls":5},"HYTACAND 8MG/12.5MG .B/30",100,{"$f":"SUMIF(Tableau1[Description article],Tableau1[Produits],Tableau1[Emplacement])","v":0},{"$f":"IF(G323>H323,\"X\",\"-\")","v":"X"}]
[{"$nulls":5},"NASABEC 50PG/DSE SUSP.P.PULV.NAS. B/01 FL.PULV/100 DSE.",100,null,"X"]
[{"$nulls":5},"TRAVATAN 40PG/ML COLLY.SOL. FL/2,5ML",100,{"$f":"SUMIF(Tableau1[Description article],Tableau1[Produits],Tableau1[Emplacement])","v":0},"X"]
[{"$nulls":5},"ASPIRINE CARDIO 100MG COMP. PILUL/90",100,{"$f":"SUMIF(Tableau1[Description article],Tableau1[Produits],Tableau1[Emplacement])","v":0},"X"]
[{"$nulls":5},"DEPRISOLE 20MG COMP OROD B/20",100,null,"X"]
[{"$nulls":5},"FELDENE 20MG COMP.DISPER.SEC. B/10",100,{"$f":"SUMIF(Tableau1[Description article],Tableau1[Produits],Tableau1[Emplacement])","v":0},"X"]
[{"$nulls":5},"TRIAMCINOLONE CIDERMEX -NEOMYCINE- PDE",100,{"$f":"SUMIF(Tableau1[Description article],Tableau1[Produits],Tableau1[Emplacement])","v":0},"X"]
[{"$nulls":5},"BETACROVIS 0,5MG/ML SOL.BUV.GTTES. FL/40ML",100,{"$f":"SUMIF(Tableau1[Description article],Tableau1[Produits],Tableau1[Emplacement])","v":0},"X"]
[{"$nulls":5},"SELOFER FOL 100MG/0,35MG COMP.A SUCER B/30",100,null,"X"]
[{"$nulls":5},"ZOMAX 40MG/ML (300MG/7,5ML) PDRE.SUSP.BUV. B/01 FL/22,5ML + 01 AMP.D'EAU PURIFIEE + C.M.",100,{"$f":"SUMIF(Tableau1[Description article],Tableau1[Produits],Tableau1[Emplacement])","v":0},"X"]
[{"$nulls":5},"FENOXAM 0,5% GEL DERM. T/50G",100,null,"X"]
[{"$nulls":5},"SAPRAMOL 200MG PDRE.P.SOL.BUV. B/12 SACH.",100,{"$f":"SUMIF(Tableau1[Description article],Tableau1[Produits],Tableau1[Emplacement])","v":0},"X"]
[{"$nulls":5},"AMOXYPEN 125MG/5ML PDRE.SUSP.BUV. FL/60ML",100,{"$f":"SUMIF(Tableau1[Description article],Tableau1[Produits],Tableau1[Emplacement])","v":0},"X"]
[{"$nulls":5},"ZETA 0,02 CR.DERM. T/15G",100,null,"X"]
[{"$nulls":5},"AMOXYPEN 250MG/5ML PDRE.SUSP.BUV. FL/60ML",100,{"$f":"SUMIF(Tableau1[Description article],Tableau1[Produits],Tableau1[Emplacement])","v":0},"X"]
[{"$nulls":5},"CIPROLON 500MG COMP. B/10",100,null,"X"]
[{"$nulls":5},"ORZEPAM 2,5MG COMP.SEC. B/30",100,null,"X"]
[{"$nulls":5},"PREZIVA 10MG COMP. B/40",100,{"$f":"SUMIF(Tableau1[Description article],Tableau1[Produits],Tableau1[Emplacement])","v":0},"X"]
[{"$nulls":5},"PROFENID 100MG SUPP. B/12",100,{"$f":"SUMIF(Tableau1[Description article],Tableau1[Produits],Tableau1[Emplacement])","v":0},"X"]
[{"$nulls":5},"EFFERALGAN 1G COMP.EFF. B/08",100,null,"X"]
[{"$nulls":5},"NIFLUMENE 400MG SUPP. B/08",100,null,"X"]
[{"$nulls":5},"TIFEN 1MG/5ML SRP. FL/100ML",100,null,"X"]
[{"$nulls":5},"FLUCONAZOLE LDM 150MG GLES. B/01",100,null,"X"]
[{"$nulls":5},"IDEOS 400UI/500MG COMP.CROQ. B/2 T/15 COMP.",100,{"$f":"SUMIF(Tableau1[Description article],Tableau1[Produits],Tableau1[Emplacement])","v":0},"X"]
[{"$nulls":5},"TRIATEC 10MG COMP.SEC. B/28",100,{"$f":"SUMIF(Tableau1[Description article],Tableau1[Produits],Tableau1[Emplacement])","v":0},"X"]
[{"$nulls":5},"TROIS B 125MG/125MG/0,55MG COMP.ENRO. B/30",100,{"$f":"SUMIF(Tableau1[Description article],Tableau1[Produits],Tableau1[Emplacement])","v":0},"X"]
[{"$nulls":5},"LARGACTIL 0,04 SOL.BUV.GTTES. FL/30ML",100,null,"X"]
[{"$nulls":5},"DI-DOLEX 325MG/37,5MG COMP.PELLI. B/20",100,{"$f":"SUMIF(Tableau1[Description article],Tableau1[Produits],Tableau1[Emplacement])","v":0},"X"]
[{"$nulls":5},"KEPAM 500MG COMP.PELLI. B/60",100,{"$f":"SUMIF(Tableau1[Description article],Tableau1[Produits],Tableau1[Emplacement])","v":0},"X"]
[{"$nulls":5},"PAROL 150MG SUPP. B/10",100,{"$f":"SUMIF(Tableau1[Description article],Tableau1[Produits],Tableau1[Emplacement])","v":0},"X"]
[{"$nulls":5},"ZOLOFT 50MG GLES. B/14",100,null,"X"]
[{"$nulls":5},"SOLYNE MAGNESIUM 300MG COMP.EFF. B/10",100,null,"X"]
[{"$nulls":5},"COTRIM 200MG/40MG/5ML SUSP.BUV. FL/100ML",100,{"$f":"SUMIF(Tableau1[Description article],Tableau1[Produits],Tableau1[Emplacement])","v":0},"X"]
[{"$nulls":5},"OMNICEF 300MG CAPS. B/10",100,{"$f":"SUMIF(Tableau1[Description article],Tableau1[Produits],Tableau1[Emplacement])","v":0},"X"]
[{"$nulls":5},"FLUOXETINE MERINAL 20MG GLES. B/30",100,{"$f":"SUMIF(Tableau1[Description article],Tableau1[Produits],Tableau1[Emplacement])","v":0},"X"]
[{"$nulls":5},"ZIMOR 20MG GLES. A MICROGRAN.GASTRORESIST B/14",100,null,"X"]
[{"$nulls":5},"KEPNIROL 0,25MG COMP.ENRO. B/20",100,{"$f":"SUMIF(Tableau1[Description article],Tableau1[Produits],Tableau1[Emplacement])","v":0},"X"]
[{"$nulls":5},"NASACORT 55PG/DSE. SUSP.P.PULV.NAS. B/01 FL/120 PULV. + POMPE DOSEUSE + EMBOUT NASAL",100,{"$f":"SUMIF(Tableau1[Description article],Tableau1[Produits],Tableau1[Emplacement])","v":0},"X"]
[{"$nulls":5},"ASPEGIC ENFANT 250MG PDRE.P.SOL.BUV. B/20 SACH.",100,{"$f":"SUMIF(Tableau1[Description article],Tableau1[Produits],Tableau1[Emplacement])","v":0},"X"]
[{"$nulls":5},"PERIDIUM 1MG/ML SOL.BUV. FL/200 ML",100,{"$f":"SUMIF(Tableau1[Description article],Tableau1[Produits],Tableau1[Emplacement])","v":0},"X"]
[{"$nulls":5},"PROF 20MG/ML SUSP.BUV. FL/100ML+ BCHN.DOSEUR",100,{"$f":"SUMIF(Tableau1[Description article],Tableau1[Produits],Tableau1[Emplacement])","v":0},"X"]
[{"$nulls":5},"PROFENID 100MG COMP.PELLI. B/30",100,{"$f":"SUMIF(Tableau1[Description article],Tableau1[Produits],Tableau1[Emplacement])","v":0},"X"]
[{"$nulls":5},"SULPRIM 400MG/80MG COMP. B/20",100,{"$f":"SUMIF(Tableau1[Description article],Tableau1[Produits],Tableau1[Emplacement])","v":0},"X"]
[{"$nulls":5},"TILDIEM 60MG COMP. B/30",100,{"$f":"SUMIF(Tableau1[Description article],Tableau1[Produits],Tableau1[Emplacement])","v":0},"X"]
[{"$nulls":5},"CELEBREX 100MG GLES. B/20",100,null,"X"]
[{"$nulls":5},"TIRLOR 10MG COMP. B/20",100,{"$f":"SUMIF(Tableau1[Description article],Tableau1[Produits],Tableau1[Emplacement])","v":0},"X"]
[{"$nulls":5},"DIFFERINE 0,1% CR.P.APPLI.CUT. T/30G",100,{"$f":"SUMIF(Tableau1[Description article],Tableau1[Produits],Tableau1[Emplacement])","v":0},"X"]
[{"$nulls":5},"DUSPATALIN 200MG GLES. B/30",100,null,"X"]
[{"$nulls":5},"TAHOR 20MG COMP.PELLI. B/28",100,{"$f":"SUMIF(Tableau1[Description article],Tableau1[Produits],Tableau1[Emplacement])","v":0},"X"]
[{"$nulls":5},"CO-TENSOPREL 50MG/25MG COMP. B/30",100,{"$f":"SUMIF(Tableau1[Description article],Tableau1[Produits],Tableau1[Emplacement])","v":0},"X"]
[{"$nulls":5},"RANITIDINE MABO 150MG COMP.PELLI. B/60",100,{"$f":"SUMIF(Tableau1[Description article],Tableau1[Produits],Tableau1[Emplacement])","v":0},"X"]
[{"$nulls":5},"ROXID 150MG COMP. B/10",100,{"$f":"SUMIF(Tableau1[Description article],Tableau1[Produits],Tableau1[Emplacement])","v":0},"X"]
[{"$nulls":5},"LAMOGINE 50MG COMP.SEC. B/30",100,{"$f":"SUMIF(Tableau1[Description article],Tableau1[Produits],Tableau1[Emplacement])","v":0},"X"]
[{"$nulls":5},"OSSE D3 400 UI/500MG COMP.A SUCER B/01 FL/60",100,null,"X"]
[{"$nulls":5},"SALBUTAMOL SAIDAL 2MG/5ML SRP. FL/150ML",100,{"$f":"SUMIF(Tableau1[Description article],Tableau1[Produits],Tableau1[Emplacement])","v":0},"X"]
[{"$nulls":5},"SEBUTOL 200MG COMP.PELLI. B/30",100,{"$f":"SUMIF(Tableau1[Description article],Tableau1[Produits],Tableau1[Emplacement])","v":0},"X"]
[{"$nulls":5},"XYDOL RHUME 200MG/30MG COMP.PELLI. B/20",100,null,"X"]