{"text_format":"3","workbook":"xlsx","n_sheets":5,"sheets":["Données","Fiche de travail","Rapport","Inspection","Récap"],"not_rendered":{"images":5,"macros":1,"external_links":1,"defined_names":19},"read":"whole","date_system":"1900"}

{"sheet":"Données","index":0,"n_rows":49,"n_cols":18,"rows_kept":49,"hidden":true}
[]
[]
[null,"LD1","LD2","LD3","LD4","LD5","LD6","LD7","LD8","LD9"]
["NF EN ISO 9227",{"$f":"IF(LEN(VLOOKUP(A4,[1]NORMES!$A$2:$Q$2500,6,FALSE))>0,A4&\" -\"&VLOOKUP(A4,[1]NORMES!$A$2:$M$2500,6,FALSE),A4&\" -\"&MID(YEAR(VLOOKUP(A4,[1]NORMES!$A$2:$M$2500,11,FALSE)),1,4))","v":"NF EN ISO 9227 -2017"},60,"Plate rectangulaire ","Nettoyage à l'eau ","Protection des bords au ruban adhésif","Posées sur supports entaillés","Eau déminéralisée\n","Air pulsé","Acier UNS G10080 selon SAE 1008",{"$nulls":5},"Colonne1","Colonne2","Colonne3"]
["ASTM B117",{"$f":"IF(LEN(VLOOKUP(A5,[1]NORMES!$A$2:$Q$2500,6,FALSE))>0,A5&\" -\"&VLOOKUP(A5,[1]NORMES!$A$2:$M$2500,6,FALSE),A5&\" -\"&MID(YEAR(VLOOKUP(A5,[1]NORMES!$A$2:$M$2500,11,FALSE)),1,4))","v":"ASTM B117 -18"},61,"Plate carrée ","Nettoyage à l'éthanol ","Protection des bords à la cire ","Suspendues ",null,"Etuve","Acier CR4 selon l'ISO 3574 ",{"$nulls":5},"Quotidien",24,"Daily"]
[null,null,66,"Plate circulaire","Aucun nettoyage ","Aucune protection des bords",{"$nulls":9},"Hebdomadaire",168]
[null,null,67,{"$nulls":12},"Bi-hebdomadaire",336]
[{"$nulls":15},"Mensuelle",730]
[{"$nulls":15},"Aucune",0]
[{"$nulls":15},"Toutes les 250h",250]
[{"$nulls":15},"Tous les 2jours ",48]
[]
[]
[]
[]
[{"$nulls":3},"Flat & rectangular","Water cleaning","Edges protection with tape",null,"Demineralized water","Pulsed air","UNS G10080 steel acc. to SAE 1008"]
[{"$nulls":3},"Flat & Square","Ethanol cleaning","Edges protection with wax",null,null,"Oven","CR4 steel acc to. ISO 3574"]
[{"$nulls":3},"Flat & round","No cleaning","No edges protection"]
{"$rows_empty":11}
[{"$nulls":11},"Colonne1","Colonne2"]
[{"$nulls":11},"AD","Adrien DULUC"]
[{"$nulls":11},"AE","Aurélien ENCINAS"]
[{"$nulls":11},"CDC","Charlotte DE CAUDRON"]
[{"$nulls":11},"CH","Caroline HOREAU"]
[{"$nulls":11},"GL","Gilles LAINEZ"]
[{"$nulls":11},"GT","Grégory TORRES"]
[{"$nulls":11},"HBE","Henri BIYOGO EDO"]
[{"$nulls":11},"JPS","Jean Pierre SERRES"]
[{"$nulls":11},"JT","Jérôme TRIGAULT"]
[{"$nulls":11},"LP","Laure PEREZ"]
[{"$nulls":11},"MC","Magalie COSTES"]
[{"$nulls":11},"NI","Nathan IGLISIAS"]
[{"$nulls":11},"PB","Pierre BARBAZA"]
[{"$nulls":11},"RSM","Rémy SAINT MAXENT"]
[{"$nulls":11},"SP","Sully PAYET"]
[{"$nulls":11},"TG","Tony GUIDO"]
[{"$nulls":11},"VB","Vincent BERARD"]
[{"$nulls":11},"WD","William DEPENNE"]
[{"$nulls":11},"YD","Yves EDMOND"]

{"sheet":"Fiche de travail","index":1,"n_rows":41,"n_cols":45,"rows_kept":41,"merged":[[0,0,4,5],[0,6,0,26],[0,27,2,30],[0,44,46,44],[1,6,4,21],[1,22,1,26],[2,22,4,26],[3,27,4,30],[5,0,5,29],[6,0,7,2],[6,3,7,10],[6,11,7,18],[6,19,7,25],[6,26,7,31],[8,0,8,30],[9,0,10,4],[9,5,9,11],[9,12,10,19],[9,20,10,21],[9,22,10,26],[9,27,10,31],[10,5,10,11],[11,0,11,1],[11,2,11,4],[11,5,11,11],[11,12,11,20],[11,21,11,27],[11,28,11,31],[12,0,13,9],[12,10,12,18],[12,19,12,25],[12,26,12,31],[13,10,13,18],[13,19,13,25],[13,26,13,30],[14,0,14,10],[14,11,14,17],[14,18,14,27],[14,28,14,31],[15,0,15,5],[15,6,15,11],[15,12,15,18],[15,19,15,31],[16,0,17,5],[16,6,17,11],[16,12,17,18],[16,19,16,31],[17,19,17,30],[18,0,19,4],[18,5,18,11],[18,12,19,14],[18,15,18,20],[18,21,19,23],[18,24,19,31],[19,5,19,11],[19,15,19,19],[20,0,20,30],[21,0,26,1],[21,2,21,17],[21,18,24,21],[21,22,21,31],[22,2,24,5],[22,6,24,9],[22,10,24,13],[22,14,24,17],[22,22,24,24],[22,25,24,27],[22,28,24,31],[25,2,26,5],[25,6,26,9],[25,10,26,13],[25,14,26,17],[25,18,26,21],[25,22,26,24],[25,25,26,27],[25,28,26,31],[27,0,28,5],[27,6,28,9],[27,10,28,15],[27,16,27,23],[27,24,28,27],[27,28,28,31],[28,16,28,23],[29,0,29,31],[30,0,30,1],[30,2,30,6],[30,7,30,30],[31,0,31,1],[31,2,31,6],[31,7,31,30],[32,0,32,1],[32,2,32,6],[32,7,32,30],[33,0,33,30],[40,0,40,31],[41,0,44,30]]}
[{"$nulls":6},"FICHE DE TRAVAIL",{"$nulls":37},{"$f":"(#REF!=\"þ\")*1+(#REF!=\"þ\")*2+(#REF!=\"þ\")*4","v":{"$error":"#REF!"}}]
[{"$nulls":6},"ESSAI DE CORROSION AU BROUILLARD SALIN NEUTRE ",{"$nulls":15},"FICHE N°"]
[]
[{"$nulls":27},"Page 1/1"]
[]
[]
["Norme d'essai :\nTesting standard",{"$nulls":18},"N° de machine :\nTesting machine No"]
[]
[]
["Type d'éprouvettes : \nType of specimens ",{"$nulls":11},"Nombres d'éprouvettes :\nSpecimens number ",{"$nulls":9},"Dimensions (mm) :\nspecimens dimensions"]
[{"$nulls":5},{"$f":"IF(F10=Données!D4,Données!D16,IF('Fiche de travail'!F10=Données!D5,Données!D17,IF('Fiche de travail'!F10=Données!D6,Données!D18,\"\")))","v":""}]
["Substrat :\nSubstrate",{"$nulls":4},"Traitement de surface :\nSurface treatment ",{"$nulls":15},"Aire de surface essayée :\nSurface of the tested area"]
["Préparation des éprouvettes avant essai \nSpecimens preparation before test "]
[{"$nulls":10},{"$f":"IF(K13=Données!E4,Données!E16,IF(K13=Données!E5,Données!E17,IF('Fiche de travail'!K13=Données!E6,Données!E18,\"\")))","v":""},{"$nulls":8},{"$f":"IF(T13=Données!F4,Données!F16,IF('Fiche de travail'!T13=Données!F5,Données!F17,IF('Fiche de travail'!T13=Données!F6,Données!F18,\"\")))","v":""}]
["Disposition des éprouvettes dans  l'enceinte \nSpecimens layout in the cabinet ",{"$nulls":17},"Inclinaison (par rapport à la verticale) :\nTilting angle (from the vertical)"]
["Durée totale de l'essai (h) \nTotal test duration ",{"$nulls":5},"Date de début d'essai \nBeginning of test",{"$nulls":5},"Date de fin d'essai \nEnd of test",{"$nulls":6},"Fréquence d'inspections intermédiaires\nFrequency of intermediate inspections"]
[]
[{"$nulls":19},{"$f":"IFERROR(VLOOKUP(T17,Données!P5:R11,3,FALSE),\"\")","v":""}]
["Nettoyage après essai :\nCleaning after test",{"$nulls":11},"Séchage :\nDrying",{"$nulls":8},"Opérateur :\nOperator"]
[{"$nulls":5},{"$f":"IF('Fiche de travail'!F19=Données!H4,Données!H16,\"\")","v":""},{"$nulls":9},{"$f":"IF(P19=Données!I4,Données!I16,IF('Fiche de travail'!P19=Données!I5,Données!I17,\"\"))","v":""}]
[]
["Conditions d'essais \nConditiond in the chamber",null,"Solution saline\nSalt solution",{"$nulls":15},"Température \nTest temperature \n(°C)",{"$nulls":3},"Solution recueillie \nSalt solution collected"]
[null,null,"Type d'eau\nType of water",{"$nulls":3},"Conductivité eau \nWaters conductivity \n(µS/cm)",{"$nulls":3},"Type de sel / N° de lot \nType of salt/ Batch",{"$nulls":3},"pH de la solution \npH of the salt solution",{"$nulls":7},"Volume recueilli\nCollected volume \n(ml/h)",null,null,"Salinité\nSalt concentration \n(g/l)",null,null,"pH"]
[]
[]
[]
[]
["Contrôle de la corrosivité \nControl of corrosive conditions",{"$nulls":9},"Type d'éprouvettes :\nType of Test panel",{"$nulls":13},"Perte de masse:\nMass loss (g/m²)"]
[{"$nulls":16},{"$f":"IF(Q28=Données!J4,Données!J16,IF('Fiche de travail'!Q28=Données!J5,Données!J17,\"\"))","v":""}]
["Anomalies et interruptions survenues durant l'essais :  Anomalies and interruptions occured during the test "]
["Date \n Date",null,"Durée \n Duration",{"$nulls":4},"Description \n Description"]
[]
[{"$nulls":41}," "]
{"$rows_empty":7}
["Commentaires / Comments :"]

{"sheet":"Rapport","index":2,"n_rows":56,"n_cols":30,"rows_kept":56,"merged":[[0,0,4,5],[0,6,1,20],[0,21,1,23],[0,24,1,25],[0,26,1,26],[0,27,1,30],[2,6,4,24],[2,25,4,30],[6,0,7,2],[6,3,7,10],[6,11,7,18],[6,19,7,25],[6,26,7,30],[9,0,10,4],[9,5,9,11],[9,12,10,19],[9,20,10,21],[9,22,10,27],[9,28,10,30],[10,5,10,11],[11,0,11,1],[11,2,11,4],[11,5,11,11],[11,12,11,20],[11,21,11,27],[11,28,11,30],[12,0,13,9],[12,10,12,18],[12,19,12,25],[12,26,12,30],[13,10,13,18],[13,19,13,25],[13,26,13,30],[14,0,14,10],[14,11,14,17],[14,18,14,27],[14,28,14,30],[15,0,15,5],[15,6,15,11],[15,12,15,18],[15,19,15,30],[16,0,17,5],[16,6,17,11],[16,12,17,18],[16,19,16,30],[17,19,17,30],[18,0,19,4],[18,5,18,11],[18,12,19,14],[18,15,18,20],[18,21,19,23],[18,24,19,30],[19,5,19,11],[19,15,19,20],[21,0,25,1],[21,2,21,17],[21,18,24,21],[21,22,21,30],[22,2,24,5],[22,6,24,9],[22,10,24,13],[22,14,24,17],[22,22,24,24],[22,25,24,27],[22,28,24,30],[25,2,25,5],[25,6,25,9],[25,10,25,13],[25,14,25,17],[25,18,25,21],[25,22,25,24],[25,25,25,27],[25,28,25,30],[26,0,27,5],[26,6,27,9],[26,10,27,15],[26,16,26,23],[26,24,27,28],[26,29,27,30],[27,16,27,23],[28,0,28,30],[29,0,29,1],[29,2,29,4],[29,5,29,30],[30,0,30,1],[30,2,30,4],[30,5,30,30],[31,0,31,1],[31,2,31,4],[31,5,31,30],[45,0,46,3],[45,4,45,20],[45,21,46,24],[45,25,46,30],[46,4,46,12],[46,13,46,20],[47,0,47,3],[47,4,47,12],[47,13,47,20],[47,21,47,24],[47,25,47,30],[48,0,48,3],[48,4,48,12],[48,13,48,20],[48,21,48,24],[48,25,48,30],[49,0,49,3],[49,4,49,12],[49,13,49,20],[49,21,49,24],[49,25,49,30],[50,0,50,3],[50,4,50,12],[50,13,50,20],[50,21,50,24],[50,25,50,30],[51,0,51,3],[51,4,51,12],[51,13,51,20],[51,21,51,24],[51,25,51,30],[52,0,52,3],[52,4,52,12],[52,13,52,20],[52,21,52,24],[52,25,52,30],[54,0,54,30],[55,0,57,30]]}
[{"$nulls":6},"RAPPORT D'ESSAIS N° \nTESTING REPORT ",{"$nulls":14},{"$f":"'Fiche de travail'!W3","v":0},null,null,"Rév\nIssu",null,"θ","Page 1/1"]
[]
[{"$nulls":6},"ESSAI DE CORROSION AU BROUILLARD SALIN NEUTRE \nNEUTRAL SALT SPRAY CORROSION TEST "]
[]
[]
[]
["Norme d'essai :\nTesting standard",null,null,{"$f":"'Fiche de travail'!D7","v":0},{"$nulls":7},{"$f":"'Fiche de travail'!L7","v":0},{"$nulls":7},"N° de machine :\nTesting machine No",{"$nulls":6},{"$f":"'Fiche de travail'!AA7","v":0}]
[]
[]
["Type d'éprouvettes : \nType of speciemens ",{"$nulls":4},{"$f":"'Fiche de travail'!F10","v":0},{"$nulls":6},"Nombres d'éprouvettes :\nSpecimens number ",{"$nulls":7},{"$f":"'Fiche de travail'!U10","v":0},null,"Dimensions (mm) :\nspecimens dimensions",{"$nulls":5},{"$f":"'Fiche de travail'!AC10","v":0}]
[{"$nulls":5},{"$f":"'Fiche de travail'!F11","v":""}]
["Substrat :\nSubstrate",null,{"$f":"'Fiche de travail'!C12","v":0},null,null,"Traitement de surface :\nSurface treatment ",{"$nulls":6},{"$f":"'Fiche de travail'!M12","v":0},{"$nulls":8},"Aire de surface essayée :\nSurface of the tested area",{"$nulls":6},{"$f":"'Fiche de travail'!AC12","v":0}]
["Préparation des éprouvettes avant essai :\nSpecimens preparation before test ",{"$nulls":9},{"$f":"'Fiche de travail'!K13","v":0},{"$nulls":8},{"$f":"'Fiche de travail'!T13","v":0},{"$nulls":6},{"$f":"'Fiche de travail'!AA13","v":0}]
[{"$nulls":10},{"$f":"'Fiche de travail'!K14","v":""},{"$nulls":8},{"$f":"'Fiche de travail'!T14","v":""}]
["Disposition des éprouvettes dans  l'enceinte :\nSpecimens layout in the cabinet ",{"$nulls":10},{"$f":"'Fiche de travail'!L15","v":0},{"$nulls":6},"Inclinaison (par rapport à la verticale) :\nTilting angle (from the vertical)",{"$nulls":9},{"$f":"'Fiche de travail'!AC15","v":0}]
["Durée totale de l'essai (h) :\nTotal test duration ",{"$nulls":5},"Date de début d'essai \nBeginning of test",{"$nulls":5},"Date de fin d'essai \nEnd of test",{"$nulls":6},"Fréquence d'inspections intermédiaires\nFrequency of intermediate inspections"]
[{"$f":"'Fiche de travail'!A17","v":0},{"$nulls":5},{"$f":"'Fiche de travail'!G17","v":"00:00:00"},{"$nulls":5},{"$f":"'Fiche de travail'!M17","v":"00:00:00"},{"$nulls":6},{"$f":"'Fiche de travail'!T17","v":0}]
[{"$nulls":19},{"$f":"'Fiche de travail'!T18","v":""}]
["Nettoyage après essai :\nCleaning after test",{"$nulls":4},{"$f":"'Fiche de travail'!F19","v":0},{"$nulls":6},"Séchage :\nDrying",null,null,{"$f":"'Fiche de travail'!P19","v":0},{"$nulls":5},"Opérateur :\nOperator",null,null,{"$f":"'Fiche de travail'!Y19","v":0}]
[{"$nulls":5},{"$f":"'Fiche de travail'!F20","v":""},{"$nulls":9},{"$f":"'Fiche de travail'!P20","v":""}]
[]
["Conditions d'essais \nConditiond in the chamber",null,"Solution saline    \nSalt solution",{"$nulls":15},"Température \nTest temperature \n(°C)",{"$nulls":3},"Solution recueillie \nSalt solution collected"]
[null,null,"Type d'eau\nType of water",{"$nulls":3},"Conductivité eau \nWaters conductivity \n(µS/cm)",{"$nulls":3},"Type de sel / N° de lot \nType of salt/ Batch",{"$nulls":3},"pH de la solution \npH of the salt solution",{"$nulls":7},"Volume recueilli\nCollected volume \n(ml/h)",null,null,"Salinité\nSalt concentration \n(g/l)",null,null,"pH"]
[]
[]
[null,null,{"$f":"'Fiche de travail'!C26","v":0},{"$nulls":3},{"$f":"'Fiche de travail'!G26","v":0},{"$nulls":3},{"$f":"'Fiche de travail'!K26","v":0},{"$nulls":3},{"$f":"'Fiche de travail'!O26","v":0},{"$nulls":3},{"$f":"'Fiche de travail'!S26","v":0},{"$nulls":3},{"$f":"'Fiche de travail'!W26","v":0},null,null,{"$f":"'Fiche de travail'!Z26","v":0},null,null,{"$f":"'Fiche de travail'!AC26","v":0}]
["Contrôle de la corrosivité :\nControl of corrosive conditions",{"$nulls":5},{"$f":"'Fiche de travail'!G28","v":0},{"$nulls":3},"Type d'éprouvettes :\nType of Test panel",{"$nulls":5},{"$f":"'Fiche de travail'!Q28","v":0},{"$nulls":7},"Perte de masse:\nMass loss (g/m²)",{"$nulls":4},{"$f":"'Fiche de travail'!AC28","v":0}]
[{"$nulls":16},{"$f":"'Fiche de travail'!Q29","v":""}]
["Anomalies et interruptions survenues durant l'essais :  Anomalies and interruptions occured during the test "]
["Date \nDate",null,"Durée\nDuration",null,null,"Description\nDescription"]
[{"$f":"'Fiche de travail'!A32","v":"00:00:00"},null,{"$f":"'Fiche de travail'!C32","v":0},null,null,{"$f":"'Fiche de travail'!F32","v":0}]
[{"$f":"'Fiche de travail'!A33","v":"00:00:00"},null,{"$f":"'Fiche de travail'!C33","v":0},null,null,{"$f":"'Fiche de travail'!F33","v":0}]
{"$rows_empty":13}
["Repère éprouvette\nSpecimens reference",{"$nulls":3},"Résultat des inspections - Results of inspections",{"$nulls":16},"Critère\nCriteria",{"$nulls":3},"Sanction \nCompliancy"]
[{"$nulls":4},"Intermédiaires  Intermediate",{"$nulls":8},"Finale  Final"]
{"$rows_empty":7}
["Commentaires / Comments :"]
[{"$f":"'Fiche de travail'!A42","v":0}]

{"sheet":"Inspection","index":3,"n_rows":1047,"n_cols":10,"rows_kept":1047,"merged":[[0,0,4,1],[0,2,0,5],[0,6,2,7],[1,2,4,4],[2,5,4,5],[3,6,4,7],[5,0,5,1]]}
[null,null,"FICHE DE TRAVAIL",{"$nulls":3},"FOM 042\nIndice 0\n(num)",null,null,{"$f":"VLOOKUP('Fiche de travail'!T17,Tableau4[],2,FALSE)","v":{"$error":"#N/A"}}]
[null,null,"Essai de corrosion au brouillard salin neutre",null,null,"FICHE N°",{"$nulls":3},{"$f":"J1+$J$1","v":{"$error":"#N/A"}}]
[{"$nulls":5},{"$f":"'Fiche de travail'!W3","v":0},{"$nulls":3},{"$f":"J2+$J$1","v":{"$error":"#N/A"}}]
[{"$nulls":6},"Page 1/1",null,null,{"$error":"#N/A"}]
[{"$nulls":9},{"$error":"#N/A"}]
["Opérateur : ",null,null,{"$f":"'Fiche de travail'!Y19","v":0},"Visa : ",{"$nulls":4},{"$f":"J5+$J$1","v":{"$error":"#N/A"}}]
[{"$nulls":9},{"$f":"J6+$J$1","v":{"$error":"#N/A"}}]
["N°","Repère éprouvette","Contrôle","Intermédiaires  ","Finale ","Critère","Sanction ","Rapport",null,{"$error":"#N/A"}]
[1,null,{"$f":"IFERROR(IF(J1<='Fiche de travail'!$A$17,J1,IF(OR(C8=\"\",C8='Fiche de travail'!$A$17),\"\",'Fiche de travail'!$A$17)),\"\")","v":""},{"$nulls":6},{"$error":"#N/A"}]
[2,null,{"$f":"IFERROR(IF(J2<='Fiche de travail'!$A$17,J2,IF(OR(C9=\"\",C9='Fiche de travail'!$A$17),\"\",'Fiche de travail'!$A$17)),\"\")","v":""},{"$nulls":6},{"$error":"#N/A"}]
[3,null,{"$f":"IFERROR(IF(J3<='Fiche de travail'!$A$17,J3,IF(OR(C10=\"\",C10='Fiche de travail'!$A$17),\"\",'Fiche de travail'!$A$17)),\"\")","v":""},{"$nulls":6},{"$error":"#N/A"}]
[4,null,{"$f":"IFERROR(IF(J4<='Fiche de travail'!$A$17,J4,IF(OR(C11=\"\",C11='Fiche de travail'!$A$17),\"\",'Fiche de travail'!$A$17)),\"\")","v":""},{"$nulls":6},{"$error":"#N/A"}]
[5,null,{"$f":"IFERROR(IF(J5<='Fiche de travail'!$A$17,J5,IF(OR(C12=\"\",C12='Fiche de travail'!$A$17),\"\",'Fiche de travail'!$A$17)),\"\")","v":""},{"$nulls":6},{"$error":"#N/A"}]
[6,null,{"$f":"IFERROR(IF(J6<='Fiche de travail'!$A$17,J6,IF(OR(C13=\"\",C13='Fiche de travail'!$A$17),\"\",'Fiche de travail'!$A$17)),\"\")","v":""},{"$nulls":6},{"$error":"#N/A"}]
[7,null,{"$f":"IFERROR(IF(J7<='Fiche de travail'!$A$17,J7,IF(OR(C14=\"\",C14='Fiche de travail'!$A$17),\"\",'Fiche de travail'!$A$17)),\"\")","v":""},{"$nulls":6},{"$error":"#N/A"}]
[8,null,{"$f":"IFERROR(IF(J8<='Fiche de travail'!$A$17,J8,IF(OR(C15=\"\",C15='Fiche de travail'!$A$17),\"\",'Fiche de travail'!$A$17)),\"\")","v":""},{"$nulls":6},{"$error":"#N/A"}]
[9,null,{"$f":"IFERROR(IF(J9<='Fiche de travail'!$A$17,J9,IF(OR(C16=\"\",C16='Fiche de travail'!$A$17),\"\",'Fiche de travail'!$A$17)),\"\")","v":""},{"$nulls":6},{"$error":"#N/A"}]
[10,null,{"$f":"IFERROR(IF(J10<='Fiche de travail'!$A$17,J10,IF(OR(C17=\"\",C17='Fiche de travail'!$A$17),\"\",'Fiche de travail'!$A$17)),\"\")","v":""},{"$nulls":6},{"$error":"#N/A"}]
[11,null,{"$f":"IFERROR(IF(J11<='Fiche de travail'!$A$17,J11,IF(OR(C18=\"\",C18='Fiche de travail'!$A$17),\"\",'Fiche de travail'!$A$17)),\"\")","v":""},{"$nulls":6},{"$error":"#N/A"}]
[12,null,{"$f":"IFERROR(IF(J12<='Fiche de travail'!$A$17,J12,IF(OR(C19=\"\",C19='Fiche de travail'!$A$17),\"\",'Fiche de travail'!$A$17)),\"\")","v":""},{"$nulls":6},{"$error":"#N/A"}]
[13,null,{"$f":"IFERROR(IF(J13<='Fiche de travail'!$A$17,J13,IF(OR(C20=\"\",C20='Fiche de travail'!$A$17),\"\",'Fiche de travail'!$A$17)),\"\")","v":""},{"$nulls":6},{"$error":"#N/A"}]
[14,null,{"$f":"IFERROR(IF(J14<='Fiche de travail'!$A$17,J14,IF(OR(C21=\"\",C21='Fiche de travail'!$A$17),\"\",'Fiche de travail'!$A$17)),\"\")","v":""},{"$nulls":6},{"$error":"#N/A"}]
[15,null,{"$f":"IFERROR(IF(J15<='Fiche de travail'!$A$17,J15,IF(OR(C22=\"\",C22='Fiche de travail'!$A$17),\"\",'Fiche de travail'!$A$17)),\"\")","v":""},{"$nulls":6},{"$error":"#N/A"}]
[16,null,{"$f":"IFERROR(IF(J16<='Fiche de travail'!$A$17,J16,IF(OR(C23=\"\",C23='Fiche de travail'!$A$17),\"\",'Fiche de travail'!$A$17)),\"\")","v":""},{"$nulls":6},{"$error":"#N/A"}]
[17,null,{"$f":"IFERROR(IF(J17<='Fiche de travail'!$A$17,J17,IF(OR(C24=\"\",C24='Fiche de travail'!$A$17),\"\",'Fiche de travail'!$A$17)),\"\")","v":""},{"$nulls":6},{"$error":"#N/A"}]
[18,null,{"$f":"IFERROR(IF(J18<='Fiche de travail'!$A$17,J18,IF(OR(C25=\"\",C25='Fiche de travail'!$A$17),\"\",'Fiche de travail'!$A$17)),\"\")","v":""},{"$nulls":6},{"$error":"#N/A"}]
[19,null,{"$f":"IFERROR(IF(J19<='Fiche de travail'!$A$17,J19,IF(OR(C26=\"\",C26='Fiche de travail'!$A$17),\"\",'Fiche de travail'!$A$17)),\"\")","v":""},{"$nulls":6},{"$error":"#N/A"}]
[20,null,{"$f":"IFERROR(IF(J20<='Fiche de travail'!$A$17,J20,IF(OR(C27=\"\",C27='Fiche de travail'!$A$17),\"\",'Fiche de travail'!$A$17)),\"\")","v":""},{"$nulls":6},{"$error":"#N/A"}]
[21,null,{"$f":"IFERROR(IF(J21<='Fiche de travail'!$A$17,J21,IF(OR(C28=\"\",C28='Fiche de travail'!$A$17),\"\",'Fiche de travail'!$A$17)),\"\")","v":""},{"$nulls":6},{"$error":"#N/A"}]
[22,null,{"$f":"IFERROR(IF(J22<='Fiche de travail'!$A$17,J22,IF(OR(C29=\"\",C29='Fiche de travail'!$A$17),\"\",'Fiche de travail'!$A$17)),\"\")","v":""},{"$nulls":6},{"$error":"#N/A"}]
[23,null,{"$f":"IFERROR(IF(J23<='Fiche de travail'!$A$17,J23,IF(OR(C30=\"\",C30='Fiche de travail'!$A$17),\"\",'Fiche de travail'!$A$17)),\"\")","v":""},{"$nulls":6},{"$error":"#N/A"}]
[24,null,{"$f":"IFERROR(IF(J24<='Fiche de travail'!$A$17,J24,IF(OR(C31=\"\",C31='Fiche de travail'!$A$17),\"\",'Fiche de travail'!$A$17)),\"\")","v":""},{"$nulls":6},{"$error":"#N/A"}]
[25,null,{"$f":"IFERROR(IF(J25<='Fiche de travail'!$A$17,J25,IF(OR(C32=\"\",C32='Fiche de travail'!$A$17),\"\",'Fiche de travail'!$A$17)),\"\")","v":""},{"$nulls":6},{"$error":"#N/A"}]
[26,null,{"$f":"IFERROR(IF(J26<='Fiche de travail'!$A$17,J26,IF(OR(C33=\"\",C33='Fiche de travail'!$A$17),\"\",'Fiche de travail'!$A$17)),\"\")","v":""},{"$nulls":6},{"$error":"#N/A"}]
[27,null,{"$f":"IFERROR(IF(J27<='Fiche de travail'!$A$17,J27,IF(OR(C34=\"\",C34='Fiche de travail'!$A$17),\"\",'Fiche de travail'!$A$17)),\"\")","v":""},{"$nulls":6},{"$error":"#N/A"}]
[28,null,{"$f":"IFERROR(IF(J28<='Fiche de travail'!$A$17,J28,IF(OR(C35=\"\",C35='Fiche de travail'!$A$17),\"\",'Fiche de travail'!$A$17)),\"\")","v":""},{"$nulls":6},{"$error":"#N/A"}]
[29,null,{"$f":"IFERROR(IF(J29<='Fiche de travail'!$A$17,J29,IF(OR(C36=\"\",C36='Fiche de travail'!$A$17),\"\",'Fiche de travail'!$A$17)),\"\")","v":""},{"$nulls":6},{"$error":"#N/A"}]
[30,null,{"$f":"IFERROR(IF(J30<='Fiche de travail'!$A$17,J30,IF(OR(C37=\"\",C37='Fiche de travail'!$A$17),\"\",'Fiche de travail'!$A$17)),\"\")","v":""},{"$nulls":6},{"$error":"#N/A"}]
[31,null,{"$f":"IFERROR(IF(J31<='Fiche de travail'!$A$17,J31,IF(OR(C38=\"\",C38='Fiche de travail'!$A$17),\"\",'Fiche de travail'!$A$17)),\"\")","v":""},{"$nulls":6},{"$error":"#N/A"}]
[32,null,{"$f":"IFERROR(IF(J32<='Fiche de travail'!$A$17,J32,IF(OR(C39=\"\",C39='Fiche de travail'!$A$17),\"\",'Fiche de travail'!$A$17)),\"\")","v":""},{"$nulls":6},{"$error":"#N/A"}]
[33,null,{"$f":"IFERROR(IF(J33<='Fiche de travail'!$A$17,J33,IF(OR(C40=\"\",C40='Fiche de travail'!$A$17),\"\",'Fiche de travail'!$A$17)),\"\")","v":""},{"$nulls":6},{"$error":"#N/A"}]
[34,null,{"$f":"IFERROR(IF(J34<='Fiche de travail'!$A$17,J34,IF(OR(C41=\"\",C41='Fiche de travail'!$A$17),\"\",'Fiche de travail'!$A$17)),\"\")","v":""},{"$nulls":6},{"$error":"#N/A"}]
[35,null,{"$f":"IFERROR(IF(J35<='Fiche de travail'!$A$17,J35,IF(OR(C42=\"\",C42='Fiche de travail'!$A$17),\"\",'Fiche de travail'!$A$17)),\"\")","v":""},{"$nulls":6},{"$error":"#N/A"}]
[36,null,{"$f":"IFERROR(IF(J36<='Fiche de travail'!$A$17,J36,IF(OR(C43=\"\",C43='Fiche de travail'!$A$17),\"\",'Fiche de travail'!$A$17)),\"\")","v":""},{"$nulls":6},{"$error":"#N/A"}]
[37,null,{"$f":"IFERROR(IF(J37<='Fiche de travail'!$A$17,J37,IF(OR(C44=\"\",C44='Fiche de travail'!$A$17),\"\",'Fiche de travail'!$A$17)),\"\")","v":""},{"$nulls":6},{"$error":"#N/A"}]
[38,null,{"$f":"IFERROR(IF(J38<='Fiche de travail'!$A$17,J38,IF(OR(C45=\"\",C45='Fiche de travail'!$A$17),\"\",'Fiche de travail'!$A$17)),\"\")","v":""},{"$nulls":6},{"$error":"#N/A"}]
[39,null,{"$f":"IFERROR(IF(J39<='Fiche de travail'!$A$17,J39,IF(OR(C46=\"\",C46='Fiche de travail'!$A$17),\"\",'Fiche de travail'!$A$17)),\"\")","v":""},{"$nulls":6},{"$error":"#N/A"}]
[40,null,{"$f":"IFERROR(IF(J40<='Fiche de travail'!$A$17,J40,IF(OR(C47=\"\",C47='Fiche de travail'!$A$17),\"\",'Fiche de travail'!$A$17)),\"\")","v":""},{"$nulls":6},{"$error":"#N/A"}]
[41,null,{"$f":"IFERROR(IF(J41<='Fiche de travail'!$A$17,J41,IF(OR(C48=\"\",C48='Fiche de travail'!$A$17),\"\",'Fiche de travail'!$A$17)),\"\")","v":""},{"$nulls":6},{"$error":"#N/A"}]
[42,null,{"$f":"IFERROR(IF(J42<='Fiche de travail'!$A$17,J42,IF(OR(C49=\"\",C49='Fiche de travail'!$A$17),\"\",'Fiche de travail'!$A$17)),\"\")","v":""},{"$nulls":6},{"$error":"#N/A"}]
[43,null,{"$f":"IFERROR(IF(J43<='Fiche de travail'!$A$17,J43,IF(OR(C50=\"\",C50='Fiche de travail'!$A$17),\"\",'Fiche de travail'!$A$17)),\"\")","v":""},{"$nulls":6},{"$error":"#N/A"}]
[44,null,{"$f":"IFERROR(IF(J44<='Fiche de travail'!$A$17,J44,IF(OR(C51=\"\",C51='Fiche de travail'!$A$17),\"\",'Fiche de travail'!$A$17)),\"\")","v":""},{"$nulls":6},{"$error":"#N/A"}]
[45,null,{"$f":"IFERROR(IF(J45<='Fiche de travail'!$A$17,J45,IF(OR(C52=\"\",C52='Fiche de travail'!$A$17),\"\",'Fiche de travail'!$A$17)),\"\")","v":""},{"$nulls":6},{"$error":"#N/A"}]
[46,null,{"$f":"IFERROR(IF(J46<='Fiche de travail'!$A$17,J46,IF(OR(C53=\"\",C53='Fiche de travail'!$A$17),\"\",'Fiche de travail'!$A$17)),\"\")","v":""},{"$nulls":6},{"$error":"#N/A"}]
[47,null,{"$f":"IFERROR(IF(J47<='Fiche de travail'!$A$17,J47,IF(OR(C54=\"\",C54='Fiche de travail'!$A$17),\"\",'Fiche de travail'!$A$17)),\"\")","v":""},{"$nulls":6},{"$error":"#N/A"}]
[48,null,{"$f":"IFERROR(IF(J48<='Fiche de travail'!$A$17,J48,IF(OR(C55=\"\",C55='Fiche de travail'!$A$17),\"\",'Fiche de travail'!$A$17)),\"\")","v":""},{"$nulls":6},{"$error":"#N/A"}]
[49,null,{"$f":"IFERROR(IF(J49<='Fiche de travail'!$A$17,J49,IF(OR(C56=\"\",C56='Fiche de travail'!$A$17),\"\",'Fiche de travail'!$A$17)),\"\")","v":""},{"$nulls":6},{"$error":"#N/A"}]
[50,null,{"$f":"IFERROR(IF(J50<='Fiche de travail'!$A$17,J50,IF(OR(C57=\"\",C57='Fiche de travail'!$A$17),\"\",'Fiche de travail'!$A$17)),\"\")","v":""},{"$nulls":6},{"$error":"#N/A"}]
[51,null,{"$f":"IFERROR(IF(J51<='Fiche de travail'!$A$17,J51,IF(OR(C58=\"\",C58='Fiche de travail'!$A$17),\"\",'Fiche de travail'!$A$17)),\"\")","v":""},{"$nulls":6},{"$error":"#N/A"}]
[52,null,{"$f":"IFERROR(IF(J52<='Fiche de travail'!$A$17,J52,IF(OR(C59=\"\",C59='Fiche de travail'!$A$17),\"\",'Fiche de travail'!$A$17)),\"\")","v":""},{"$nulls":6},{"$error":"#N/A"}]
[53,null,{"$f":"IFERROR(IF(J53<='Fiche de travail'!$A$17,J53,IF(OR(C60=\"\",C60='Fiche de travail'!$A$17),\"\",'Fiche de travail'!$A$17)),\"\")","v":""},{"$nulls":6},{"$error":"#N/A"}]
[54,null,{"$f":"IFERROR(IF(J54<='Fiche de travail'!$A$17,J54,IF(OR(C61=\"\",C61='Fiche de travail'!$A$17),\"\",'Fiche de travail'!$A$17)),\"\")","v":""},{"$nulls":6},{"$error":"#N/A"}]
[55,null,{"$f":"IFERROR(IF(J55<='Fiche de travail'!$A$17,J55,IF(OR(C62=\"\",C62='Fiche de travail'!$A$17),\"\",'Fiche de travail'!$A$17)),\"\")","v":""},{"$nulls":6},{"$error":"#N/A"}]
[56,null,{"$f":"IFERROR(IF(J56<='Fiche de travail'!$A$17,J56,IF(OR(C63=\"\",C63='Fiche de travail'!$A$17),\"\",'Fiche de travail'!$A$17)),\"\")","v":""},{"$nulls":6},{"$error":"#N/A"}]
[57,null,{"$f":"IFERROR(IF(J57<='Fiche de travail'!$A$17,J57,IF(OR(C64=\"\",C64='Fiche de travail'!$A$17),\"\",'Fiche de travail'!$A$17)),\"\")","v":""},{"$nulls":6},{"$error":"#N/A"}]
[58,null,{"$f":"IFERROR(IF(J58<='Fiche de travail'!$A$17,J58,IF(OR(C65=\"\",C65='Fiche de travail'!$A$17),\"\",'Fiche de travail'!$A$17)),\"\")","v":""},{"$nulls":6},{"$error":"#N/A"}]
[59,null,{"$f":"IFERROR(IF(J59<='Fiche de travail'!$A$17,J59,IF(OR(C66=\"\",C66='Fiche de travail'!$A$17),\"\",'Fiche de travail'!$A$17)),\"\")","v":""},{"$nulls":6},{"$error":"#N/A"}]
[60,null,{"$f":"IFERROR(IF(J60<='Fiche de travail'!$A$17,J60,IF(OR(C67=\"\",C67='Fiche de travail'!$A$17),\"\",'Fiche de travail'!$A$17)),\"\")","v":""},{"$nulls":6},{"$error":"#N/A"}]
[61,null,{"$f":"IFERROR(IF(J61<='Fiche de travail'!$A$17,J61,IF(OR(C68=\"\",C68='Fiche de travail'!$A$17),\"\",'Fiche de travail'!$A$17)),\"\")","v":""},{"$nulls":6},{"$error":"#N/A"}]
[62,null,{"$f":"IFERROR(IF(J62<='Fiche de travail'!$A$17,J62,IF(OR(C69=\"\",C69='Fiche de travail'!$A$17),\"\",'Fiche de travail'!$A$17)),\"\")","v":""},{"$nulls":6},{"$f":"J69+$J$1","v":{"$error":"#N/A"}}]
[63,null,{"$f":"IFERROR(IF(J63<='Fiche de travail'!$A$17,J63,IF(OR(C70=\"\",C70='Fiche de travail'!$A$17),\"\",'Fiche de travail'!$A$17)),\"\")","v":""},{"$nulls":6},{"$error":"#N/A"}]
[64,null,{"$f":"IFERROR(IF(J64<='Fiche de travail'!$A$17,J64,IF(OR(C71=\"\",C71='Fiche de travail'!$A$17),\"\",'Fiche de travail'!$A$17)),\"\")","v":""},{"$nulls":6},{"$error":"#N/A"}]
[65,null,{"$f":"IFERROR(IF(J65<='Fiche de travail'!$A$17,J65,IF(OR(C72=\"\",C72='Fiche de travail'!$A$17),\"\",'Fiche de travail'!$A$17)),\"\")","v":""},{"$nulls":6},{"$error":"#N/A"}]
[66,null,{"$f":"IFERROR(IF(J66<='Fiche de travail'!$A$17,J66,IF(OR(C73=\"\",C73='Fiche de travail'!$A$17),\"\",'Fiche de travail'!$A$17)),\"\")","v":""},{"$nulls":6},{"$error":"#N/A"}]
[67,null,{"$f":"IFERROR(IF(J67<='Fiche de travail'!$A$17,J67,IF(OR(C74=\"\",C74='Fiche de travail'!$A$17),\"\",'Fiche de travail'!$A$17)),\"\")","v":""},{"$nulls":6},{"$error":"#N/A"}]
[68,null,{"$f":"IFERROR(IF(J68<='Fiche de travail'!$A$17,J68,IF(OR(C75=\"\",C75='Fiche de travail'!$A$17),\"\",'Fiche de travail'!$A$17)),\"\")","v":""},{"$nulls":6},{"$error":"#N/A"}]
[69,null,{"$f":"IFERROR(IF(J69<='Fiche de travail'!$A$17,J69,IF(OR(C76=\"\",C76='Fiche de travail'!$A$17),\"\",'Fiche de travail'!$A$17)),\"\")","v":""},{"$nulls":6},{"$error":"#N/A"}]
[70,null,{"$f":"IFERROR(IF(J70<='Fiche de travail'!$A$17,J70,IF(OR(C77=\"\",C77='Fiche de travail'!$A$17),\"\",'Fiche de travail'!$A$17)),\"\")","v":""},{"$nulls":6},{"$error":"#N/A"}]
[71,null,{"$f":"IFERROR(IF(J71<='Fiche de travail'!$A$17,J71,IF(OR(C78=\"\",C78='Fiche de travail'!$A$17),\"\",'Fiche de travail'!$A$17)),\"\")","v":""},{"$nulls":6},{"$error":"#N/A"}]
[72,null,{"$f":"IFERROR(IF(J72<='Fiche de travail'!$A$17,J72,IF(OR(C79=\"\",C79='Fiche de travail'!$A$17),\"\",'Fiche de travail'!$A$17)),\"\")","v":""},{"$nulls":6},{"$error":"#N/A"}]
[73,null,{"$f":"IFERROR(IF(J73<='Fiche de travail'!$A$17,J73,IF(OR(C80=\"\",C80='Fiche de travail'!$A$17),\"\",'Fiche de travail'!$A$17)),\"\")","v":""},{"$nulls":6},{"$error":"#N/A"}]
[74,null,{"$f":"IFERROR(IF(J74<='Fiche de travail'!$A$17,J74,IF(OR(C81=\"\",C81='Fiche de travail'!$A$17),\"\",'Fiche de travail'!$A$17)),\"\")","v":""},{"$nulls":6},{"$error":"#N/A"}]
[75,null,{"$f":"IFERROR(IF(J75<='Fiche de travail'!$A$17,J75,IF(OR(C82=\"\",C82='Fiche de travail'!$A$17),\"\",'Fiche de travail'!$A$17)),\"\")","v":""},{"$nulls":6},{"$error":"#N/A"}]
[76,null,{"$f":"IFERROR(IF(J76<='Fiche de travail'!$A$17,J76,IF(OR(C83=\"\",C83='Fiche de travail'!$A$17),\"\",'Fiche de travail'!$A$17)),\"\")","v":""},{"$nulls":6},{"$error":"#N/A"}]
[77,null,{"$f":"IFERROR(IF(J77<='Fiche de travail'!$A$17,J77,IF(OR(C84=\"\",C84='Fiche de travail'!$A$17),\"\",'Fiche de travail'!$A$17)),\"\")","v":""},{"$nulls":6},{"$error":"#N/A"}]
[78,null,{"$f":"IFERROR(IF(J78<='Fiche de travail'!$A$17,J78,IF(OR(C85=\"\",C85='Fiche de travail'!$A$17),\"\",'Fiche de travail'!$A$17)),\"\")","v":""},{"$nulls":6},{"$error":"#N/A"}]
[79,null,{"$f":"IFERROR(IF(J79<='Fiche de travail'!$A$17,J79,IF(OR(C86=\"\",C86='Fiche de travail'!$A$17),\"\",'Fiche de travail'!$A$17)),\"\")","v":""},{"$nulls":6},{"$error":"#N/A"}]
[80,null,{"$f":"IFERROR(IF(J80<='Fiche de travail'!$A$17,J80,IF(OR(C87=\"\",C87='Fiche de travail'!$A$17),\"\",'Fiche de travail'!$A$17)),\"\")","v":""},{"$nulls":6},{"$error":"#N/A"}]
[81,null,{"$f":"IFERROR(IF(J81<='Fiche de travail'!$A$17,J81,IF(OR(C88=\"\",C88='Fiche de travail'!$A$17),\"\",'Fiche de travail'!$A$17)),\"\")","v":""},{"$nulls":6},{"$error":"#N/A"}]
[82,null,{"$f":"IFERROR(IF(J82<='Fiche de travail'!$A$17,J82,IF(OR(C89=\"\",C89='Fiche de travail'!$A$17),\"\",'Fiche de travail'!$A$17)),\"\")","v":""},{"$nulls":6},{"$error":"#N/A"}]
[83,null,{"$f":"IFERROR(IF(J83<='Fiche de travail'!$A$17,J83,IF(OR(C90=\"\",C90='Fiche de travail'!$A$17),\"\",'Fiche de travail'!$A$17)),\"\")","v":""},{"$nulls":6},{"$error":"#N/A"}]
[84,null,{"$f":"IFERROR(IF(J84<='Fiche de travail'!$A$17,J84,IF(OR(C91=\"\",C91='Fiche de travail'!$A$17),\"\",'Fiche de travail'!$A$17)),\"\")","v":""},{"$nulls":6},{"$error":"#N/A"}]
[85,null,{"$f":"IFERROR(IF(J85<='Fiche de travail'!$A$17,J85,IF(OR(C92=\"\",C92='Fiche de travail'!$A$17),\"\",'Fiche de travail'!$A$17)),\"\")","v":""},{"$nulls":6},{"$error":"#N/A"}]
[86,null,{"$f":"IFERROR(IF(J86<='Fiche de travail'!$A$17,J86,IF(OR(C93=\"\",C93='Fiche de travail'!$A$17),\"\",'Fiche de travail'!$A$17)),\"\")","v":""},{"$nulls":6},{"$error":"#N/A"}]
[87,null,{"$f":"IFERROR(IF(J87<='Fiche de travail'!$A$17,J87,IF(OR(C94=\"\",C94='Fiche de travail'!$A$17),\"\",'Fiche de travail'!$A$17)),\"\")","v":""},{"$nulls":6},{"$error":"#N/A"}]
[88,null,{"$f":"IFERROR(IF(J88<='Fiche de travail'!$A$17,J88,IF(OR(C95=\"\",C95='Fiche de travail'!$A$17),\"\",'Fiche de travail'!$A$17)),\"\")","v":""},{"$nulls":6},{"$error":"#N/A"}]
[89,null,{"$f":"IFERROR(IF(J89<='Fiche de travail'!$A$17,J89,IF(OR(C96=\"\",C96='Fiche de travail'!$A$17),\"\",'Fiche de travail'!$A$17)),\"\")","v":""},{"$nulls":6},{"$error":"#N/A"}]
[90,null,{"$f":"IFERROR(IF(J90<='Fiche de travail'!$A$17,J90,IF(OR(C97=\"\",C97='Fiche de travail'!$A$17),\"\",'Fiche de travail'!$A$17)),\"\")","v":""},{"$nulls":6},{"$error":"#N/A"}]
[91,null,{"$f":"IFERROR(IF(J91<='Fiche de travail'!$A$17,J91,IF(OR(C98=\"\",C98='Fiche de travail'!$A$17),\"\",'Fiche de travail'!$A$17)),\"\")","v":""},{"$nulls":6},{"$error":"#N/A"}]
[92,null,{"$f":"IFERROR(IF(J92<='Fiche de travail'!$A$17,J92,IF(OR(C99=\"\",C99='Fiche de travail'!$A$17),\"\",'Fiche de travail'!$A$17)),\"\")","v":""},{"$nulls":6},{"$error":"#N/A"}]
[93,null,{"$f":"IFERROR(IF(J93<='Fiche de travail'!$A$17,J93,IF(OR(C100=\"\",C100='Fiche de travail'!$A$17),\"\",'Fiche de travail'!$A$17)),\"\")","v":""},{"$nulls":6},{"$error":"#N/A"}]
[94,null,{"$f":"IFERROR(IF(J94<='Fiche de travail'!$A$17,J94,IF(OR(C101=\"\",C101='Fiche de travail'!$A$17),\"\",'Fiche de travail'!$A$17)),\"\")","v":""},{"$nulls":6},{"$error":"#N/A"}]
[95,null,{"$f":"IFERROR(IF(J95<='Fiche de travail'!$A$17,J95,IF(OR(C102=\"\",C102='Fiche de travail'!$A$17),\"\",'Fiche de travail'!$A$17)),\"\")","v":""},{"$nulls":6},{"$error":"#N/A"}]
[96,null,{"$f":"IFERROR(IF(J96<='Fiche de travail'!$A$17,J96,IF(OR(C103=\"\",C103='Fiche de travail'!$A$17),\"\",'Fiche de travail'!$A$17)),\"\")","v":""},{"$nulls":6},{"$error":"#N/A"}]
[97,null,{"$f":"IFERROR(IF(J97<='Fiche de travail'!$A$17,J97,IF(OR(C104=\"\",C104='Fiche de travail'!$A$17),\"\",'Fiche de travail'!$A$17)),\"\")","v":""},{"$nulls":6},{"$error":"#N/A"}]
[98,null,{"$f":"IFERROR(IF(J98<='Fiche de travail'!$A$17,J98,IF(OR(C105=\"\",C105='Fiche de travail'!$A$17),\"\",'Fiche de travail'!$A$17)),\"\")","v":""},{"$nulls":6},{"$error":"#N/A"}]
[99,null,{"$f":"IFERROR(IF(J99<='Fiche de travail'!$A$17,J99,IF(OR(C106=\"\",C106='Fiche de travail'!$A$17),\"\",'Fiche de travail'!$A$17)),\"\")","v":""},{"$nulls":6},{"$error":"#N/A"}]
[100,null,{"$f":"IFERROR(IF(J100<='Fiche de travail'!$A$17,J100,IF(OR(C107=\"\",C107='Fiche de travail'!$A$17),\"\",'Fiche de travail'!$A$17)),\"\")","v":""},{"$nulls":6},{"$error":"#N/A"}]
[101,null,{"$f":"IFERROR(IF(J101<='Fiche de travail'!$A$17,J101,IF(OR(C108=\"\",C108='Fiche de travail'!$A$17),\"\",'Fiche de travail'!$A$17)),\"\")","v":""},{"$nulls":6},{"$error":"#N/A"}]
[102,null,{"$f":"IFERROR(IF(J102<='Fiche de travail'!$A$17,J102,IF(OR(C109=\"\",C109='Fiche de travail'!$A$17),\"\",'Fiche de travail'!$A$17)),\"\")","v":""},{"$nulls":6},{"$error":"#N/A"}]
[103,null,{"$f":"IFERROR(IF(J103<='Fiche de travail'!$A$17,J103,IF(OR(C110=\"\",C110='Fiche de travail'!$A$17),\"\",'Fiche de travail'!$A$17)),\"\")","v":""},{"$nulls":6},{"$error":"#N/A"}]
[104,null,{"$f":"IFERROR(IF(J104<='Fiche de travail'!$A$17,J104,IF(OR(C111=\"\",C111='Fiche de travail'!$A$17),\"\",'Fiche de travail'!$A$17)),\"\")","v":""},{"$nulls":6},{"$error":"#N/A"}]
[105,null,{"$f":"IFERROR(IF(J105<='Fiche de travail'!$A$17,J105,IF(OR(C112=\"\",C112='Fiche de travail'!$A$17),\"\",'Fiche de travail'!$A$17)),\"\")","v":""},{"$nulls":6},{"$error":"#N/A"}]
[106,null,{"$f":"IFERROR(IF(J106<='Fiche de travail'!$A$17,J106,IF(OR(C113=\"\",C113='Fiche de travail'!$A$17),\"\",'Fiche de travail'!$A$17)),\"\")","v":""},{"$nulls":6},{"$error":"#N/A"}]
[107,null,{"$f":"IFERROR(IF(J107<='Fiche de travail'!$A$17,J107,IF(OR(C114=\"\",C114='Fiche de travail'!$A$17),\"\",'Fiche de travail'!$A$17)),\"\")","v":""},{"$nulls":6},{"$error":"#N/A"}]
[108,null,{"$f":"IFERROR(IF(J108<='Fiche de travail'!$A$17,J108,IF(OR(C115=\"\",C115='Fiche de travail'!$A$17),\"\",'Fiche de travail'!$A$17)),\"\")","v":""},{"$nulls":6},{"$error":"#N/A"}]
[109,null,{"$f":"IFERROR(IF(J109<='Fiche de travail'!$A$17,J109,IF(OR(C116=\"\",C116='Fiche de travail'!$A$17),\"\",'Fiche de travail'!$A$17)),\"\")","v":""},{"$nulls":6},{"$error":"#N/A"}]
[110,null,{"$f":"IFERROR(IF(J110<='Fiche de travail'!$A$17,J110,IF(OR(C117=\"\",C117='Fiche de travail'!$A$17),\"\",'Fiche de travail'!$A$17)),\"\")","v":""},{"$nulls":6},{"$error":"#N/A"}]
[111,null,{"$f":"IFERROR(IF(J111<='Fiche de travail'!$A$17,J111,IF(OR(C118=\"\",C118='Fiche de travail'!$A$17),\"\",'Fiche de travail'!$A$17)),\"\")","v":""},{"$nulls":6},{"$error":"#N/A"}]
[112,null,{"$f":"IFERROR(IF(J112<='Fiche de travail'!$A$17,J112,IF(OR(C119=\"\",C119='Fiche de travail'!$A$17),\"\",'Fiche de travail'!$A$17)),\"\")","v":""},{"$nulls":6},{"$error":"#N/A"}]
[113,null,{"$f":"IFERROR(IF(J113<='Fiche de travail'!$A$17,J113,IF(OR(C120=\"\",C120='Fiche de travail'!$A$17),\"\",'Fiche de travail'!$A$17)),\"\")","v":""},{"$nulls":6},{"$error":"#N/A"}]
[114,null,{"$f":"IFERROR(IF(J114<='Fiche de travail'!$A$17,J114,IF(OR(C121=\"\",C121='Fiche de travail'!$A$17),\"\",'Fiche de travail'!$A$17)),\"\")","v":""},{"$nulls":6},{"$error":"#N/A"}]
[115,null,{"$f":"IFERROR(IF(J115<='Fiche de travail'!$A$17,J115,IF(OR(C122=\"\",C122='Fiche de travail'!$A$17),\"\",'Fiche de travail'!$A$17)),\"\")","v":""},{"$nulls":6},{"$error":"#N/A"}]
[116,null,{"$f":"IFERROR(IF(J116<='Fiche de travail'!$A$17,J116,IF(OR(C123=\"\",C123='Fiche de travail'!$A$17),\"\",'Fiche de travail'!$A$17)),\"\")","v":""},{"$nulls":6},{"$error":"#N/A"}]
[117,null,{"$f":"IFERROR(IF(J117<='Fiche de travail'!$A$17,J117,IF(OR(C124=\"\",C124='Fiche de travail'!$A$17),\"\",'Fiche de travail'!$A$17)),\"\")","v":""},{"$nulls":6},{"$error":"#N/A"}]
[118,null,{"$f":"IFERROR(IF(J118<='Fiche de travail'!$A$17,J118,IF(OR(C125=\"\",C125='Fiche de travail'!$A$17),\"\",'Fiche de travail'!$A$17)),\"\")","v":""},{"$nulls":6},{"$error":"#N/A"}]
[119,null,{"$f":"IFERROR(IF(J119<='Fiche de travail'!$A$17,J119,IF(OR(C126=\"\",C126='Fiche de travail'!$A$17),\"\",'Fiche de travail'!$A$17)),\"\")","v":""},{"$nulls":6},{"$error":"#N/A"}]
[120,null,{"$f":"IFERROR(IF(J120<='Fiche de travail'!$A$17,J120,IF(OR(C127=\"\",C127='Fiche de travail'!$A$17),\"\",'Fiche de travail'!$A$17)),\"\")","v":""},{"$nulls":6},{"$error":"#N/A"}]
[121,null,{"$f":"IFERROR(IF(J121<='Fiche de travail'!$A$17,J121,IF(OR(C128=\"\",C128='Fiche de travail'!$A$17),\"\",'Fiche de travail'!$A$17)),\"\")","v":""},{"$nulls":6},{"$error":"#N/A"}]
[122,null,{"$f":"IFERROR(IF(J122<='Fiche de travail'!$A$17,J122,IF(OR(C129=\"\",C129='Fiche de travail'!$A$17),\"\",'Fiche de travail'!$A$17)),\"\")","v":""},{"$nulls":6},{"$error":"#N/A"}]
[123,null,{"$f":"IFERROR(IF(J123<='Fiche de travail'!$A$17,J123,IF(OR(C130=\"\",C130='Fiche de travail'!$A$17),\"\",'Fiche de travail'!$A$17)),\"\")","v":""},{"$nulls":6},{"$error":"#N/A"}]
[124,null,{"$f":"IFERROR(IF(J124<='Fiche de travail'!$A$17,J124,IF(OR(C131=\"\",C131='Fiche de travail'!$A$17),\"\",'Fiche de travail'!$A$17)),\"\")","v":""},{"$nulls":6},{"$error":"#N/A"}]
[125,null,{"$f":"IFERROR(IF(J125<='Fiche de travail'!$A$17,J125,IF(OR(C132=\"\",C132='Fiche de travail'!$A$17),\"\",'Fiche de travail'!$A$17)),\"\")","v":""},{"$nulls":6},{"$error":"#N/A"}]
[126,null,{"$f":"IFERROR(IF(J126<='Fiche de travail'!$A$17,J126,IF(OR(C133=\"\",C133='Fiche de travail'!$A$17),\"\",'Fiche de travail'!$A$17)),\"\")","v":""},{"$nulls":6},{"$f":"J133+$J$1","v":{"$error":"#N/A"}}]
[127,null,{"$f":"IFERROR(IF(J127<='Fiche de travail'!$A$17,J127,IF(OR(C134=\"\",C134='Fiche de travail'!$A$17),\"\",'Fiche de travail'!$A$17)),\"\")","v":""},{"$nulls":6},{"$error":"#N/A"}]
[128,null,{"$f":"IFERROR(IF(J128<='Fiche de travail'!$A$17,J128,IF(OR(C135=\"\",C135='Fiche de travail'!$A$17),\"\",'Fiche de travail'!$A$17)),\"\")","v":""},{"$nulls":6},{"$error":"#N/A"}]
[129,null,{"$f":"IFERROR(IF(J129<='Fiche de travail'!$A$17,J129,IF(OR(C136=\"\",C136='Fiche de travail'!$A$17),\"\",'Fiche de travail'!$A$17)),\"\")","v":""},{"$nulls":6},{"$error":"#N/A"}]
[130,null,{"$f":"IFERROR(IF(J130<='Fiche de travail'!$A$17,J130,IF(OR(C137=\"\",C137='Fiche de travail'!$A$17),\"\",'Fiche de travail'!$A$17)),\"\")","v":""},{"$nulls":6},{"$error":"#N/A"}]
[131,null,{"$f":"IFERROR(IF(J131<='Fiche de travail'!$A$17,J131,IF(OR(C138=\"\",C138='Fiche de travail'!$A$17),\"\",'Fiche de travail'!$A$17)),\"\")","v":""},{"$nulls":6},{"$error":"#N/A"}]
[132,null,{"$f":"IFERROR(IF(J132<='Fiche de travail'!$A$17,J132,IF(OR(C139=\"\",C139='Fiche de travail'!$A$17),\"\",'Fiche de travail'!$A$17)),\"\")","v":""},{"$nulls":6},{"$error":"#N/A"}]
[133,null,{"$f":"IFERROR(IF(J133<='Fiche de travail'!$A$17,J133,IF(OR(C140=\"\",C140='Fiche de travail'!$A$17),\"\",'Fiche de travail'!$A$17)),\"\")","v":""},{"$nulls":6},{"$error":"#N/A"}]
[134,null,{"$f":"IFERROR(IF(J134<='Fiche de travail'!$A$17,J134,IF(OR(C141=\"\",C141='Fiche de travail'!$A$17),\"\",'Fiche de travail'!$A$17)),\"\")","v":""},{"$nulls":6},{"$error":"#N/A"}]
[135,null,{"$f":"IFERROR(IF(J135<='Fiche de travail'!$A$17,J135,IF(OR(C142=\"\",C142='Fiche de travail'!$A$17),\"\",'Fiche de travail'!$A$17)),\"\")","v":""},{"$nulls":6},{"$error":"#N/A"}]
[136,null,{"$f":"IFERROR(IF(J136<='Fiche de travail'!$A$17,J136,IF(OR(C143=\"\",C143='Fiche de travail'!$A$17),\"\",'Fiche de travail'!$A$17)),\"\")","v":""},{"$nulls":6},{"$error":"#N/A"}]
[137,null,{"$f":"IFERROR(IF(J137<='Fiche de travail'!$A$17,J137,IF(OR(C144=\"\",C144='Fiche de travail'!$A$17),\"\",'Fiche de travail'!$A$17)),\"\")","v":""},{"$nulls":6},{"$error":"#N/A"}]
[138,null,{"$f":"IFERROR(IF(J138<='Fiche de travail'!$A$17,J138,IF(OR(C145=\"\",C145='Fiche de travail'!$A$17),\"\",'Fiche de travail'!$A$17)),\"\")","v":""},{"$nulls":6},{"$error":"#N/A"}]
[139,null,{"$f":"IFERROR(IF(J139<='Fiche de travail'!$A$17,J139,IF(OR(C146=\"\",C146='Fiche de travail'!$A$17),\"\",'Fiche de travail'!$A$17)),\"\")","v":""},{"$nulls":6},{"$error":"#N/A"}]
[140,null,{"$f":"IFERROR(IF(J140<='Fiche de travail'!$A$17,J140,IF(OR(C147=\"\",C147='Fiche de travail'!$A$17),\"\",'Fiche de travail'!$A$17)),\"\")","v":""},{"$nulls":6},{"$error":"#N/A"}]
[141,null,{"$f":"IFERROR(IF(J141<='Fiche de travail'!$A$17,J141,IF(OR(C148=\"\",C148='Fiche de travail'!$A$17),\"\",'Fiche de travail'!$A$17)),\"\")","v":""},{"$nulls":6},{"$error":"#N/A"}]
[142,null,{"$f":"IFERROR(IF(J142<='Fiche de travail'!$A$17,J142,IF(OR(C149=\"\",C149='Fiche de travail'!$A$17),\"\",'Fiche de travail'!$A$17)),\"\")","v":""},{"$nulls":6},{"$error":"#N/A"}]
[143,null,{"$f":"IFERROR(IF(J143<='Fiche de travail'!$A$17,J143,IF(OR(C150=\"\",C150='Fiche de travail'!$A$17),\"\",'Fiche de travail'!$A$17)),\"\")","v":""},{"$nulls":6},{"$error":"#N/A"}]
[144,null,{"$f":"IFERROR(IF(J144<='Fiche de travail'!$A$17,J144,IF(OR(C151=\"\",C151='Fiche de travail'!$A$17),\"\",'Fiche de travail'!$A$17)),\"\")","v":""},{"$nulls":6},{"$error":"#N/A"}]
[145,null,{"$f":"IFERROR(IF(J145<='Fiche de travail'!$A$17,J145,IF(OR(C152=\"\",C152='Fiche de travail'!$A$17),\"\",'Fiche de travail'!$A$17)),\"\")","v":""},{"$nulls":6},{"$error":"#N/A"}]
[146,null,{"$f":"IFERROR(IF(J146<='Fiche de travail'!$A$17,J146,IF(OR(C153=\"\",C153='Fiche de travail'!$A$17),\"\",'Fiche de travail'!$A$17)),\"\")","v":""},{"$nulls":6},{"$error":"#N/A"}]
[147,null,{"$f":"IFERROR(IF(J147<='Fiche de travail'!$A$17,J147,IF(OR(C154=\"\",C154='Fiche de travail'!$A$17),\"\",'Fiche de travail'!$A$17)),\"\")","v":""},{"$nulls":6},{"$error":"#N/A"}]
[148,null,{"$f":"IFERROR(IF(J148<='Fiche de travail'!$A$17,J148,IF(OR(C155=\"\",C155='Fiche de travail'!$A$17),\"\",'Fiche de travail'!$A$17)),\"\")","v":""},{"$nulls":6},{"$error":"#N/A"}]
[149,null,{"$f":"IFERROR(IF(J149<='Fiche de travail'!$A$17,J149,IF(OR(C156=\"\",C156='Fiche de travail'!$A$17),\"\",'Fiche de travail'!$A$17)),\"\")","v":""},{"$nulls":6},{"$error":"#N/A"}]
[150,null,{"$f":"IFERROR(IF(J150<='Fiche de travail'!$A$17,J150,IF(OR(C157=\"\",C157='Fiche de travail'!$A$17),\"\",'Fiche de travail'!$A$17)),\"\")","v":""},{"$nulls":6},{"$error":"#N/A"}]
[151,null,{"$f":"IFERROR(IF(J151<='Fiche de travail'!$A$17,J151,IF(OR(C158=\"\",C158='Fiche de travail'!$A$17),\"\",'Fiche de travail'!$A$17)),\"\")","v":""},{"$nulls":6},{"$error":"#N/A"}]
[152,null,{"$f":"IFERROR(IF(J152<='Fiche de travail'!$A$17,J152,IF(OR(C159=\"\",C159='Fiche de travail'!$A$17),\"\",'Fiche de travail'!$A$17)),\"\")","v":""},{"$nulls":6},{"$error":"#N/A"}]
[153,null,{"$f":"IFERROR(IF(J153<='Fiche de travail'!$A$17,J153,IF(OR(C160=\"\",C160='Fiche de travail'!$A$17),\"\",'Fiche de travail'!$A$17)),\"\")","v":""},{"$nulls":6},{"$error":"#N/A"}]
[154,null,{"$f":"IFERROR(IF(J154<='Fiche de travail'!$A$17,J154,IF(OR(C161=\"\",C161='Fiche de travail'!$A$17),\"\",'Fiche de travail'!$A$17)),\"\")","v":""},{"$nulls":6},{"$error":"#N/A"}]
[155,null,{"$f":"IFERROR(IF(J155<='Fiche de travail'!$A$17,J155,IF(OR(C162=\"\",C162='Fiche de travail'!$A$17),\"\",'Fiche de travail'!$A$17)),\"\")","v":""},{"$nulls":6},{"$error":"#N/A"}]
[156,null,{"$f":"IFERROR(IF(J156<='Fiche de travail'!$A$17,J156,IF(OR(C163=\"\",C163='Fiche de travail'!$A$17),\"\",'Fiche de travail'!$A$17)),\"\")","v":""},{"$nulls":6},{"$error":"#N/A"}]
[157,null,{"$f":"IFERROR(IF(J157<='Fiche de travail'!$A$17,J157,IF(OR(C164=\"\",C164='Fiche de travail'!$A$17),\"\",'Fiche de travail'!$A$17)),\"\")","v":""},{"$nulls":6},{"$error":"#N/A"}]
[158,null,{"$f":"IFERROR(IF(J158<='Fiche de travail'!$A$17,J158,IF(OR(C165=\"\",C165='Fiche de travail'!$A$17),\"\",'Fiche de travail'!$A$17)),\"\")","v":""},{"$nulls":6},{"$error":"#N/A"}]
[159,null,{"$f":"IFERROR(IF(J159<='Fiche de travail'!$A$17,J159,IF(OR(C166=\"\",C166='Fiche de travail'!$A$17),\"\",'Fiche de travail'!$A$17)),\"\")","v":""},{"$nulls":6},{"$error":"#N/A"}]
[160,null,{"$f":"IFERROR(IF(J160<='Fiche de travail'!$A$17,J160,IF(OR(C167=\"\",C167='Fiche de travail'!$A$17),\"\",'Fiche de travail'!$A$17)),\"\")","v":""},{"$nulls":6},{"$error":"#N/A"}]
[161,null,{"$f":"IFERROR(IF(J161<='Fiche de travail'!$A$17,J161,IF(OR(C168=\"\",C168='Fiche de travail'!$A$17),\"\",'Fiche de travail'!$A$17)),\"\")","v":""},{"$nulls":6},{"$error":"#N/A"}]
[162,null,{"$f":"IFERROR(IF(J162<='Fiche de travail'!$A$17,J162,IF(OR(C169=\"\",C169='Fiche de travail'!$A$17),\"\",'Fiche de travail'!$A$17)),\"\")","v":""},{"$nulls":6},{"$error":"#N/A"}]
[163,null,{"$f":"IFERROR(IF(J163<='Fiche de travail'!$A$17,J163,IF(OR(C170=\"\",C170='Fiche de travail'!$A$17),\"\",'Fiche de travail'!$A$17)),\"\")","v":""},{"$nulls":6},{"$error":"#N/A"}]
[164,null,{"$f":"IFERROR(IF(J164<='Fiche de travail'!$A$17,J164,IF(OR(C171=\"\",C171='Fiche de travail'!$A$17),\"\",'Fiche de travail'!$A$17)),\"\")","v":""},{"$nulls":6},{"$error":"#N/A"}]
[165,null,{"$f":"IFERROR(IF(J165<='Fiche de travail'!$A$17,J165,IF(OR(C172=\"\",C172='Fiche de travail'!$A$17),\"\",'Fiche de travail'!$A$17)),\"\")","v":""},{"$nulls":6},{"$error":"#N/A"}]
[166,null,{"$f":"IFERROR(IF(J166<='Fiche de travail'!$A$17,J166,IF(OR(C173=\"\",C173='Fiche de travail'!$A$17),\"\",'Fiche de travail'!$A$17)),\"\")","v":""},{"$nulls":6},{"$error":"#N/A"}]
[167,null,{"$f":"IFERROR(IF(J167<='Fiche de travail'!$A$17,J167,IF(OR(C174=\"\",C174='Fiche de travail'!$A$17),\"\",'Fiche de travail'!$A$17)),\"\")","v":""},{"$nulls":6},{"$error":"#N/A"}]
[168,null,{"$f":"IFERROR(IF(J168<='Fiche de travail'!$A$17,J168,IF(OR(C175=\"\",C175='Fiche de travail'!$A$17),\"\",'Fiche de travail'!$A$17)),\"\")","v":""},{"$nulls":6},{"$error":"#N/A"}]
[169,null,{"$f":"IFERROR(IF(J169<='Fiche de travail'!$A$17,J169,IF(OR(C176=\"\",C176='Fiche de travail'!$A$17),\"\",'Fiche de travail'!$A$17)),\"\")","v":""},{"$nulls":6},{"$error":"#N/A"}]
[170,null,{"$f":"IFERROR(IF(J170<='Fiche de travail'!$A$17,J170,IF(OR(C177=\"\",C177='Fiche de travail'!$A$17),\"\",'Fiche de travail'!$A$17)),\"\")","v":""},{"$nulls":6},{"$error":"#N/A"}]
[171,null,{"$f":"IFERROR(IF(J171<='Fiche de travail'!$A$17,J171,IF(OR(C178=\"\",C178='Fiche de travail'!$A$17),\"\",'Fiche de travail'!$A$17)),\"\")","v":""},{"$nulls":6},{"$error":"#N/A"}]
[172,null,{"$f":"IFERROR(IF(J172<='Fiche de travail'!$A$17,J172,IF(OR(C179=\"\",C179='Fiche de travail'!$A$17),\"\",'Fiche de travail'!$A$17)),\"\")","v":""},{"$nulls":6},{"$error":"#N/A"}]
[173,null,{"$f":"IFERROR(IF(J173<='Fiche de travail'!$A$17,J173,IF(OR(C180=\"\",C180='Fiche de travail'!$A$17),\"\",'Fiche de travail'!$A$17)),\"\")","v":""},{"$nulls":6},{"$error":"#N/A"}]
[174,null,{"$f":"IFERROR(IF(J174<='Fiche de travail'!$A$17,J174,IF(OR(C181=\"\",C181='Fiche de travail'!$A$17),\"\",'Fiche de travail'!$A$17)),\"\")","v":""},{"$nulls":6},{"$error":"#N/A"}]
[175,null,{"$f":"IFERROR(IF(J175<='Fiche de travail'!$A$17,J175,IF(OR(C182=\"\",C182='Fiche de travail'!$A$17),\"\",'Fiche de travail'!$A$17)),\"\")","v":""},{"$nulls":6},{"$error":"#N/A"}]
[176,null,{"$f":"IFERROR(IF(J176<='Fiche de travail'!$A$17,J176,IF(OR(C183=\"\",C183='Fiche de travail'!$A$17),\"\",'Fiche de travail'!$A$17)),\"\")","v":""},{"$nulls":6},{"$error":"#N/A"}]
[177,null,{"$f":"IFERROR(IF(J177<='Fiche de travail'!$A$17,J177,IF(OR(C184=\"\",C184='Fiche de travail'!$A$17),\"\",'Fiche de travail'!$A$17)),\"\")","v":""},{"$nulls":6},{"$error":"#N/A"}]
[178,null,{"$f":"IFERROR(IF(J178<='Fiche de travail'!$A$17,J178,IF(OR(C185=\"\",C185='Fiche de travail'!$A$17),\"\",'Fiche de travail'!$A$17)),\"\")","v":""},{"$nulls":6},{"$error":"#N/A"}]
[179,null,{"$f":"IFERROR(IF(J179<='Fiche de travail'!$A$17,J179,IF(OR(C186=\"\",C186='Fiche de travail'!$A$17),\"\",'Fiche de travail'!$A$17)),\"\")","v":""},{"$nulls":6},{"$error":"#N/A"}]
[180,null,{"$f":"IFERROR(IF(J180<='Fiche de travail'!$A$17,J180,IF(OR(C187=\"\",C187='Fiche de travail'!$A$17),\"\",'Fiche de travail'!$A$17)),\"\")","v":""},{"$nulls":6},{"$error":"#N/A"}]
[181,null,{"$f":"IFERROR(IF(J181<='Fiche de travail'!$A$17,J181,IF(OR(C188=\"\",C188='Fiche de travail'!$A$17),\"\",'Fiche de travail'!$A$17)),\"\")","v":""},{"$nulls":6},{"$error":"#N/A"}]
[182,null,{"$f":"IFERROR(IF(J182<='Fiche de travail'!$A$17,J182,IF(OR(C189=\"\",C189='Fiche de travail'!$A$17),\"\",'Fiche de travail'!$A$17)),\"\")","v":""},{"$nulls":6},{"$error":"#N/A"}]
[183,null,{"$f":"IFERROR(IF(J183<='Fiche de travail'!$A$17,J183,IF(OR(C190=\"\",C190='Fiche de travail'!$A$17),\"\",'Fiche de travail'!$A$17)),\"\")","v":""},{"$nulls":6},{"$error":"#N/A"}]
[184,null,{"$f":"IFERROR(IF(J184<='Fiche de travail'!$A$17,J184,IF(OR(C191=\"\",C191='Fiche de travail'!$A$17),\"\",'Fiche de travail'!$A$17)),\"\")","v":""},{"$nulls":6},{"$error":"#N/A"}]
[185,null,{"$f":"IFERROR(IF(J185<='Fiche de travail'!$A$17,J185,IF(OR(C192=\"\",C192='Fiche de travail'!$A$17),\"\",'Fiche de travail'!$A$17)),\"\")","v":""},{"$nulls":6},{"$error":"#N/A"}]
[186,null,{"$f":"IFERROR(IF(J186<='Fiche de travail'!$A$17,J186,IF(OR(C193=\"\",C193='Fiche de travail'!$A$17),\"\",'Fiche de travail'!$A$17)),\"\")","v":""},{"$nulls":6},{"$error":"#N/A"}]
[187,null,{"$f":"IFERROR(IF(J187<='Fiche de travail'!$A$17,J187,IF(OR(C194=\"\",C194='Fiche de travail'!$A$17),\"\",'Fiche de travail'!$A$17)),\"\")","v":""},{"$nulls":6},{"$error":"#N/A"}]
[188,null,{"$f":"IFERROR(IF(J188<='Fiche de travail'!$A$17,J188,IF(OR(C195=\"\",C195='Fiche de travail'!$A$17),\"\",'Fiche de travail'!$A$17)),\"\")","v":""},{"$nulls":6},{"$error":"#N/A"}]
[189,null,{"$f":"IFERROR(IF(J189<='Fiche de travail'!$A$17,J189,IF(OR(C196=\"\",C196='Fiche de travail'!$A$17),\"\",'Fiche de travail'!$A$17)),\"\")","v":""},{"$nulls":6},{"$error":"#N/A"}]
[190,null,{"$f":"IFERROR(IF(J190<='Fiche de travail'!$A$17,J190,IF(OR(C197=\"\",C197='Fiche de travail'!$A$17),\"\",'Fiche de travail'!$A$17)),\"\")","v":""},{"$nulls":6},{"$f":"J197+$J$1","v":{"$error":"#N/A"}}]
[191,null,{"$f":"IFERROR(IF(J191<='Fiche de travail'!$A$17,J191,IF(OR(C198=\"\",C198='Fiche de travail'!$A$17),\"\",'Fiche de travail'!$A$17)),\"\")","v":""},{"$nulls":6},{"$error":"#N/A"}]
[192,null,{"$f":"IFERROR(IF(J192<='Fiche de travail'!$A$17,J192,IF(OR(C199=\"\",C199='Fiche de travail'!$A$17),\"\",'Fiche de travail'!$A$17)),\"\")","v":""},{"$nulls":6},{"$error":"#N/A"}]
[193,null,{"$f":"IFERROR(IF(J193<='Fiche de travail'!$A$17,J193,IF(OR(C200=\"\",C200='Fiche de travail'!$A$17),\"\",'Fiche de travail'!$A$17)),\"\")","v":""},{"$nulls":6},{"$error":"#N/A"}]
[194,null,{"$f":"IFERROR(IF(J194<='Fiche de travail'!$A$17,J194,IF(OR(C201=\"\",C201='Fiche de travail'!$A$17),\"\",'Fiche de travail'!$A$17)),\"\")","v":""},{"$nulls":6},{"$error":"#N/A"}]
[195,null,{"$f":"IFERROR(IF(J195<='Fiche de travail'!$A$17,J195,IF(OR(C202=\"\",C202='Fiche de travail'!$A$17),\"\",'Fiche de travail'!$A$17)),\"\")","v":""},{"$nulls":6},{"$error":"#N/A"}]
[196,null,{"$f":"IFERROR(IF(J196<='Fiche de travail'!$A$17,J196,IF(OR(C203=\"\",C203='Fiche de travail'!$A$17),\"\",'Fiche de travail'!$A$17)),\"\")","v":""},{"$nulls":6},{"$error":"#N/A"}]
[197,null,{"$f":"IFERROR(IF(J197<='Fiche de travail'!$A$17,J197,IF(OR(C204=\"\",C204='Fiche de travail'!$A$17),\"\",'Fiche de travail'!$A$17)),\"\")","v":""},{"$nulls":6},{"$error":"#N/A"}]
[198,null,{"$f":"IFERROR(IF(J198<='Fiche de travail'!$A$17,J198,IF(OR(C205=\"\",C205='Fiche de travail'!$A$17),\"\",'Fiche de travail'!$A$17)),\"\")","v":""},{"$nulls":6},{"$error":"#N/A"}]
[199,null,{"$f":"IFERROR(IF(J199<='Fiche de travail'!$A$17,J199,IF(OR(C206=\"\",C206='Fiche de travail'!$A$17),\"\",'Fiche de travail'!$A$17)),\"\")","v":""},{"$nulls":6},{"$error":"#N/A"}]
[200,null,{"$f":"IFERROR(IF(J200<='Fiche de travail'!$A$17,J200,IF(OR(C207=\"\",C207='Fiche de travail'!$A$17),\"\",'Fiche de travail'!$A$17)),\"\")","v":""},{"$nulls":6},{"$error":"#N/A"}]
[201,null,{"$f":"IFERROR(IF(J201<='Fiche de travail'!$A$17,J201,IF(OR(C208=\"\",C208='Fiche de travail'!$A$17),\"\",'Fiche de travail'!$A$17)),\"\")","v":""},{"$nulls":6},{"$error":"#N/A"}]
[202,null,{"$f":"IFERROR(IF(J202<='Fiche de travail'!$A$17,J202,IF(OR(C209=\"\",C209='Fiche de travail'!$A$17),\"\",'Fiche de travail'!$A$17)),\"\")","v":""},{"$nulls":6},{"$error":"#N/A"}]
[203,null,{"$f":"IFERROR(IF(J203<='Fiche de travail'!$A$17,J203,IF(OR(C210=\"\",C210='Fiche de travail'!$A$17),\"\",'Fiche de travail'!$A$17)),\"\")","v":""},{"$nulls":6},{"$error":"#N/A"}]
[204,null,{"$f":"IFERROR(IF(J204<='Fiche de travail'!$A$17,J204,IF(OR(C211=\"\",C211='Fiche de travail'!$A$17),\"\",'Fiche de travail'!$A$17)),\"\")","v":""},{"$nulls":6},{"$error":"#N/A"}]
[205,null,{"$f":"IFERROR(IF(J205<='Fiche de travail'!$A$17,J205,IF(OR(C212=\"\",C212='Fiche de travail'!$A$17),\"\",'Fiche de travail'!$A$17)),\"\")","v":""},{"$nulls":6},{"$error":"#N/A"}]
[206,null,{"$f":"IFERROR(IF(J206<='Fiche de travail'!$A$17,J206,IF(OR(C213=\"\",C213='Fiche de travail'!$A$17),\"\",'Fiche de travail'!$A$17)),\"\")","v":""},{"$nulls":6},{"$error":"#N/A"}]
[207,null,{"$f":"IFERROR(IF(J207<='Fiche de travail'!$A$17,J207,IF(OR(C214=\"\",C214='Fiche de travail'!$A$17),\"\",'Fiche de travail'!$A$17)),\"\")","v":""},{"$nulls":6},{"$error":"#N/A"}]
[208,null,{"$f":"IFERROR(IF(J208<='Fiche de travail'!$A$17,J208,IF(OR(C215=\"\",C215='Fiche de travail'!$A$17),\"\",'Fiche de travail'!$A$17)),\"\")","v":""},{"$nulls":6},{"$error":"#N/A"}]
[209,null,{"$f":"IFERROR(IF(J209<='Fiche de travail'!$A$17,J209,IF(OR(C216=\"\",C216='Fiche de travail'!$A$17),\"\",'Fiche de travail'!$A$17)),\"\")","v":""},{"$nulls":6},{"$error":"#N/A"}]
[210,null,{"$f":"IFERROR(IF(J210<='Fiche de travail'!$A$17,J210,IF(OR(C217=\"\",C217='Fiche de travail'!$A$17),\"\",'Fiche de travail'!$A$17)),\"\")","v":""},{"$nulls":6},{"$error":"#N/A"}]
[211,null,{"$f":"IFERROR(IF(J211<='Fiche de travail'!$A$17,J211,IF(OR(C218=\"\",C218='Fiche de travail'!$A$17),\"\",'Fiche de travail'!$A$17)),\"\")","v":""},{"$nulls":6},{"$error":"#N/A"}]
[212,null,{"$f":"IFERROR(IF(J212<='Fiche de travail'!$A$17,J212,IF(OR(C219=\"\",C219='Fiche de travail'!$A$17),\"\",'Fiche de travail'!$A$17)),\"\")","v":""},{"$nulls":6},{"$error":"#N/A"}]
[213,null,{"$f":"IFERROR(IF(J213<='Fiche de travail'!$A$17,J213,IF(OR(C220=\"\",C220='Fiche de travail'!$A$17),\"\",'Fiche de travail'!$A$17)),\"\")","v":""},{"$nulls":6},{"$error":"#N/A"}]
[214,null,{"$f":"IFERROR(IF(J214<='Fiche de travail'!$A$17,J214,IF(OR(C221=\"\",C221='Fiche de travail'!$A$17),\"\",'Fiche de travail'!$A$17)),\"\")","v":""},{"$nulls":6},{"$error":"#N/A"}]
[215,null,{"$f":"IFERROR(IF(J215<='Fiche de travail'!$A$17,J215,IF(OR(C222=\"\",C222='Fiche de travail'!$A$17),\"\",'Fiche de travail'!$A$17)),\"\")","v":""},{"$nulls":6},{"$error":"#N/A"}]
[216,null,{"$f":"IFERROR(IF(J216<='Fiche de travail'!$A$17,J216,IF(OR(C223=\"\",C223='Fiche de travail'!$A$17),\"\",'Fiche de travail'!$A$17)),\"\")","v":""},{"$nulls":6},{"$error":"#N/A"}]
[217,null,{"$f":"IFERROR(IF(J217<='Fiche de travail'!$A$17,J217,IF(OR(C224=\"\",C224='Fiche de travail'!$A$17),\"\",'Fiche de travail'!$A$17)),\"\")","v":""},{"$nulls":6},{"$error":"#N/A"}]
[218,null,{"$f":"IFERROR(IF(J218<='Fiche de travail'!$A$17,J218,IF(OR(C225=\"\",C225='Fiche de travail'!$A$17),\"\",'Fiche de travail'!$A$17)),\"\")","v":""},{"$nulls":6},{"$error":"#N/A"}]
[219,null,{"$f":"IFERROR(IF(J219<='Fiche de travail'!$A$17,J219,IF(OR(C226=\"\",C226='Fiche de travail'!$A$17),\"\",'Fiche de travail'!$A$17)),\"\")","v":""},{"$nulls":6},{"$error":"#N/A"}]
[220,null,{"$f":"IFERROR(IF(J220<='Fiche de travail'!$A$17,J220,IF(OR(C227=\"\",C227='Fiche de travail'!$A$17),\"\",'Fiche de travail'!$A$17)),\"\")","v":""},{"$nulls":6},{"$error":"#N/A"}]
[221,null,{"$f":"IFERROR(IF(J221<='Fiche de travail'!$A$17,J221,IF(OR(C228=\"\",C228='Fiche de travail'!$A$17),\"\",'Fiche de travail'!$A$17)),\"\")","v":""},{"$nulls":6},{"$error":"#N/A"}]
[222,null,{"$f":"IFERROR(IF(J222<='Fiche de travail'!$A$17,J222,IF(OR(C229=\"\",C229='Fiche de travail'!$A$17),\"\",'Fiche de travail'!$A$17)),\"\")","v":""},{"$nulls":6},{"$error":"#N/A"}]
[223,null,{"$f":"IFERROR(IF(J223<='Fiche de travail'!$A$17,J223,IF(OR(C230=\"\",C230='Fiche de travail'!$A$17),\"\",'Fiche de travail'!$A$17)),\"\")","v":""},{"$nulls":6},{"$error":"#N/A"}]
[224,null,{"$f":"IFERROR(IF(J224<='Fiche de travail'!$A$17,J224,IF(OR(C231=\"\",C231='Fiche de travail'!$A$17),\"\",'Fiche de travail'!$A$17)),\"\")","v":""},{"$nulls":6},{"$error":"#N/A"}]
[225,null,{"$f":"IFERROR(IF(J225<='Fiche de travail'!$A$17,J225,IF(OR(C232=\"\",C232='Fiche de travail'!$A$17),\"\",'Fiche de travail'!$A$17)),\"\")","v":""},{"$nulls":6},{"$error":"#N/A"}]
[226,null,{"$f":"IFERROR(IF(J226<='Fiche de travail'!$A$17,J226,IF(OR(C233=\"\",C233='Fiche de travail'!$A$17),\"\",'Fiche de travail'!$A$17)),\"\")","v":""},{"$nulls":6},{"$error":"#N/A"}]
[227,null,{"$f":"IFERROR(IF(J227<='Fiche de travail'!$A$17,J227,IF(OR(C234=\"\",C234='Fiche de travail'!$A$17),\"\",'Fiche de travail'!$A$17)),\"\")","v":""},{"$nulls":6},{"$error":"#N/A"}]
[228,null,{"$f":"IFERROR(IF(J228<='Fiche de travail'!$A$17,J228,IF(OR(C235=\"\",C235='Fiche de travail'!$A$17),\"\",'Fiche de travail'!$A$17)),\"\")","v":""},{"$nulls":6},{"$error":"#N/A"}]
[229,null,{"$f":"IFERROR(IF(J229<='Fiche de travail'!$A$17,J229,IF(OR(C236=\"\",C236='Fiche de travail'!$A$17),\"\",'Fiche de travail'!$A$17)),\"\")","v":""},{"$nulls":6},{"$error":"#N/A"}]
[230,null,{"$f":"IFERROR(IF(J230<='Fiche de travail'!$A$17,J230,IF(OR(C237=\"\",C237='Fiche de travail'!$A$17),\"\",'Fiche de travail'!$A$17)),\"\")","v":""},{"$nulls":6},{"$error":"#N/A"}]
[231,null,{"$f":"IFERROR(IF(J231<='Fiche de travail'!$A$17,J231,IF(OR(C238=\"\",C238='Fiche de travail'!$A$17),\"\",'Fiche de travail'!$A$17)),\"\")","v":""},{"$nulls":6},{"$error":"#N/A"}]
[232,null,{"$f":"IFERROR(IF(J232<='Fiche de travail'!$A$17,J232,IF(OR(C239=\"\",C239='Fiche de travail'!$A$17),\"\",'Fiche de travail'!$A$17)),\"\")","v":""},{"$nulls":6},{"$error":"#N/A"}]
[233,null,{"$f":"IFERROR(IF(J233<='Fiche de travail'!$A$17,J233,IF(OR(C240=\"\",C240='Fiche de travail'!$A$17),\"\",'Fiche de travail'!$A$17)),\"\")","v":""},{"$nulls":6},{"$error":"#N/A"}]
[234,null,{"$f":"IFERROR(IF(J234<='Fiche de travail'!$A$17,J234,IF(OR(C241=\"\",C241='Fiche de travail'!$A$17),\"\",'Fiche de travail'!$A$17)),\"\")","v":""},{"$nulls":6},{"$error":"#N/A"}]
[235,null,{"$f":"IFERROR(IF(J235<='Fiche de travail'!$A$17,J235,IF(OR(C242=\"\",C242='Fiche de travail'!$A$17),\"\",'Fiche de travail'!$A$17)),\"\")","v":""},{"$nulls":6},{"$error":"#N/A"}]
[236,null,{"$f":"IFERROR(IF(J236<='Fiche de travail'!$A$17,J236,IF(OR(C243=\"\",C243='Fiche de travail'!$A$17),\"\",'Fiche de travail'!$A$17)),\"\")","v":""},{"$nulls":6},{"$error":"#N/A"}]
[237,null,{"$f":"IFERROR(IF(J237<='Fiche de travail'!$A$17,J237,IF(OR(C244=\"\",C244='Fiche de travail'!$A$17),\"\",'Fiche de travail'!$A$17)),\"\")","v":""},{"$nulls":6},{"$error":"#N/A"}]
[238,null,{"$f":"IFERROR(IF(J238<='Fiche de travail'!$A$17,J238,IF(OR(C245=\"\",C245='Fiche de travail'!$A$17),\"\",'Fiche de travail'!$A$17)),\"\")","v":""},{"$nulls":6},{"$error":"#N/A"}]
[239,null,{"$f":"IFERROR(IF(J239<='Fiche de travail'!$A$17,J239,IF(OR(C246=\"\",C246='Fiche de travail'!$A$17),\"\",'Fiche de travail'!$A$17)),\"\")","v":""},{"$nulls":6},{"$error":"#N/A"}]
[240,null,{"$f":"IFERROR(IF(J240<='Fiche de travail'!$A$17,J240,IF(OR(C247=\"\",C247='Fiche de travail'!$A$17),\"\",'Fiche de travail'!$A$17)),\"\")","v":""},{"$nulls":6},{"$error":"#N/A"}]
[241,null,{"$f":"IFERROR(IF(J241<='Fiche de travail'!$A$17,J241,IF(OR(C248=\"\",C248='Fiche de travail'!$A$17),\"\",'Fiche de travail'!$A$17)),\"\")","v":""},{"$nulls":6},{"$error":"#N/A"}]
[242,null,{"$f":"IFERROR(IF(J242<='Fiche de travail'!$A$17,J242,IF(OR(C249=\"\",C249='Fiche de travail'!$A$17),\"\",'Fiche de travail'!$A$17)),\"\")","v":""},{"$nulls":6},{"$error":"#N/A"}]
[243,null,{"$f":"IFERROR(IF(J243<='Fiche de travail'!$A$17,J243,IF(OR(C250=\"\",C250='Fiche de travail'!$A$17),\"\",'Fiche de travail'!$A$17)),\"\")","v":""},{"$nulls":6},{"$error":"#N/A"}]
[244,null,{"$f":"IFERROR(IF(J244<='Fiche de travail'!$A$17,J244,IF(OR(C251=\"\",C251='Fiche de travail'!$A$17),\"\",'Fiche de travail'!$A$17)),\"\")","v":""},{"$nulls":6},{"$error":"#N/A"}]
[245,null,{"$f":"IFERROR(IF(J245<='Fiche de travail'!$A$17,J245,IF(OR(C252=\"\",C252='Fiche de travail'!$A$17),\"\",'Fiche de travail'!$A$17)),\"\")","v":""},{"$nulls":6},{"$error":"#N/A"}]
[246,null,{"$f":"IFERROR(IF(J246<='Fiche de travail'!$A$17,J246,IF(OR(C253=\"\",C253='Fiche de travail'!$A$17),\"\",'Fiche de travail'!$A$17)),\"\")","v":""},{"$nulls":6},{"$error":"#N/A"}]
[247,null,{"$f":"IFERROR(IF(J247<='Fiche de travail'!$A$17,J247,IF(OR(C254=\"\",C254='Fiche de travail'!$A$17),\"\",'Fiche de travail'!$A$17)),\"\")","v":""},{"$nulls":6},{"$error":"#N/A"}]
[248,null,{"$f":"IFERROR(IF(J248<='Fiche de travail'!$A$17,J248,IF(OR(C255=\"\",C255='Fiche de travail'!$A$17),\"\",'Fiche de travail'!$A$17)),\"\")","v":""},{"$nulls":6},{"$error":"#N/A"}]
[249,null,{"$f":"IFERROR(IF(J249<='Fiche de travail'!$A$17,J249,IF(OR(C256=\"\",C256='Fiche de travail'!$A$17),\"\",'Fiche de travail'!$A$17)),\"\")","v":""},{"$nulls":6},{"$error":"#N/A"}]
[250,null,{"$f":"IFERROR(IF(J250<='Fiche de travail'!$A$17,J250,IF(OR(C257=\"\",C257='Fiche de travail'!$A$17),\"\",'Fiche de travail'!$A$17)),\"\")","v":""},{"$nulls":6},{"$error":"#N/A"}]
[251,null,{"$f":"IFERROR(IF(J251<='Fiche de travail'!$A$17,J251,IF(OR(C258=\"\",C258='Fiche de travail'!$A$17),\"\",'Fiche de travail'!$A$17)),\"\")","v":""},{"$nulls":6},{"$error":"#N/A"}]
[252,null,{"$f":"IFERROR(IF(J252<='Fiche de travail'!$A$17,J252,IF(OR(C259=\"\",C259='Fiche de travail'!$A$17),\"\",'Fiche de travail'!$A$17)),\"\")","v":""},{"$nulls":6},{"$error":"#N/A"}]
[253,null,{"$f":"IFERROR(IF(J253<='Fiche de travail'!$A$17,J253,IF(OR(C260=\"\",C260='Fiche de travail'!$A$17),\"\",'Fiche de travail'!$A$17)),\"\")","v":""},{"$nulls":6},{"$error":"#N/A"}]
[254,null,{"$f":"IFERROR(IF(J254<='Fiche de travail'!$A$17,J254,IF(OR(C261=\"\",C261='Fiche de travail'!$A$17),\"\",'Fiche de travail'!$A$17)),\"\")","v":""},{"$nulls":6},{"$f":"J261+$J$1","v":{"$error":"#N/A"}}]
[255,null,{"$f":"IFERROR(IF(J255<='Fiche de travail'!$A$17,J255,IF(OR(C262=\"\",C262='Fiche de travail'!$A$17),\"\",'Fiche de travail'!$A$17)),\"\")","v":""},{"$nulls":6},{"$error":"#N/A"}]
[256,null,{"$f":"IFERROR(IF(J256<='Fiche de travail'!$A$17,J256,IF(OR(C263=\"\",C263='Fiche de travail'!$A$17),\"\",'Fiche de travail'!$A$17)),\"\")","v":""},{"$nulls":6},{"$error":"#N/A"}]
[257,null,{"$f":"IFERROR(IF(J257<='Fiche de travail'!$A$17,J257,IF(OR(C264=\"\",C264='Fiche de travail'!$A$17),\"\",'Fiche de travail'!$A$17)),\"\")","v":""},{"$nulls":6},{"$error":"#N/A"}]
[258,null,{"$f":"IFERROR(IF(J258<='Fiche de travail'!$A$17,J258,IF(OR(C265=\"\",C265='Fiche de travail'!$A$17),\"\",'Fiche de travail'!$A$17)),\"\")","v":""},{"$nulls":6},{"$error":"#N/A"}]
[259,null,{"$f":"IFERROR(IF(J259<='Fiche de travail'!$A$17,J259,IF(OR(C266=\"\",C266='Fiche de travail'!$A$17),\"\",'Fiche de travail'!$A$17)),\"\")","v":""},{"$nulls":6},{"$error":"#N/A"}]
[260,null,{"$f":"IFERROR(IF(J260<='Fiche de travail'!$A$17,J260,IF(OR(C267=\"\",C267='Fiche de travail'!$A$17),\"\",'Fiche de travail'!$A$17)),\"\")","v":""},{"$nulls":6},{"$error":"#N/A"}]
[261,null,{"$f":"IFERROR(IF(J261<='Fiche de travail'!$A$17,J261,IF(OR(C268=\"\",C268='Fiche de travail'!$A$17),\"\",'Fiche de travail'!$A$17)),\"\")","v":""},{"$nulls":6},{"$error":"#N/A"}]
[262,null,{"$f":"IFERROR(IF(J262<='Fiche de travail'!$A$17,J262,IF(OR(C269=\"\",C269='Fiche de travail'!$A$17),\"\",'Fiche de travail'!$A$17)),\"\")","v":""},{"$nulls":6},{"$error":"#N/A"}]
[263,null,{"$f":"IFERROR(IF(J263<='Fiche de travail'!$A$17,J263,IF(OR(C270=\"\",C270='Fiche de travail'!$A$17),\"\",'Fiche de travail'!$A$17)),\"\")","v":""},{"$nulls":6},{"$error":"#N/A"}]
[264,null,{"$f":"IFERROR(IF(J264<='Fiche de travail'!$A$17,J264,IF(OR(C271=\"\",C271='Fiche de travail'!$A$17),\"\",'Fiche de travail'!$A$17)),\"\")","v":""},{"$nulls":6},{"$error":"#N/A"}]
[265,null,{"$f":"IFERROR(IF(J265<='Fiche de travail'!$A$17,J265,IF(OR(C272=\"\",C272='Fiche de travail'!$A$17),\"\",'Fiche de travail'!$A$17)),\"\")","v":""},{"$nulls":6},{"$error":"#N/A"}]
[266,null,{"$f":"IFERROR(IF(J266<='Fiche de travail'!$A$17,J266,IF(OR(C273=\"\",C273='Fiche de travail'!$A$17),\"\",'Fiche de travail'!$A$17)),\"\")","v":""},{"$nulls":6},{"$error":"#N/A"}]
[267,null,{"$f":"IFERROR(IF(J267<='Fiche de travail'!$A$17,J267,IF(OR(C274=\"\",C274='Fiche de travail'!$A$17),\"\",'Fiche de travail'!$A$17)),\"\")","v":""},{"$nulls":6},{"$error":"#N/A"}]
[268,null,{"$f":"IFERROR(IF(J268<='Fiche de travail'!$A$17,J268,IF(OR(C275=\"\",C275='Fiche de travail'!$A$17),\"\",'Fiche de travail'!$A$17)),\"\")","v":""},{"$nulls":6},{"$error":"#N/A"}]
[269,null,{"$f":"IFERROR(IF(J269<='Fiche de travail'!$A$17,J269,IF(OR(C276=\"\",C276='Fiche de travail'!$A$17),\"\",'Fiche de travail'!$A$17)),\"\")","v":""},{"$nulls":6},{"$error":"#N/A"}]
[270,null,{"$f":"IFERROR(IF(J270<='Fiche de travail'!$A$17,J270,IF(OR(C277=\"\",C277='Fiche de travail'!$A$17),\"\",'Fiche de travail'!$A$17)),\"\")","v":""},{"$nulls":6},{"$error":"#N/A"}]
[271,null,{"$f":"IFERROR(IF(J271<='Fiche de travail'!$A$17,J271,IF(OR(C278=\"\",C278='Fiche de travail'!$A$17),\"\",'Fiche de travail'!$A$17)),\"\")","v":""},{"$nulls":6},{"$error":"#N/A"}]
[272,null,{"$f":"IFERROR(IF(J272<='Fiche de travail'!$A$17,J272,IF(OR(C279=\"\",C279='Fiche de travail'!$A$17),\"\",'Fiche de travail'!$A$17)),\"\")","v":""},{"$nulls":6},{"$error":"#N/A"}]
[273,null,{"$f":"IFERROR(IF(J273<='Fiche de travail'!$A$17,J273,IF(OR(C280=\"\",C280='Fiche de travail'!$A$17),\"\",'Fiche de travail'!$A$17)),\"\")","v":""},{"$nulls":6},{"$error":"#N/A"}]
[274,null,{"$f":"IFERROR(IF(J274<='Fiche de travail'!$A$17,J274,IF(OR(C281=\"\",C281='Fiche de travail'!$A$17),\"\",'Fiche de travail'!$A$17)),\"\")","v":""},{"$nulls":6},{"$error":"#N/A"}]
[275,null,{"$f":"IFERROR(IF(J275<='Fiche de travail'!$A$17,J275,IF(OR(C282=\"\",C282='Fiche de travail'!$A$17),\"\",'Fiche de travail'!$A$17)),\"\")","v":""},{"$nulls":6},{"$error":"#N/A"}]
[276,null,{"$f":"IFERROR(IF(J276<='Fiche de travail'!$A$17,J276,IF(OR(C283=\"\",C283='Fiche de travail'!$A$17),\"\",'Fiche de travail'!$A$17)),\"\")","v":""},{"$nulls":6},{"$error":"#N/A"}]
[277,null,{"$f":"IFERROR(IF(J277<='Fiche de travail'!$A$17,J277,IF(OR(C284=\"\",C284='Fiche de travail'!$A$17),\"\",'Fiche de travail'!$A$17)),\"\")","v":""},{"$nulls":6},{"$error":"#N/A"}]
[278,null,{"$f":"IFERROR(IF(J278<='Fiche de travail'!$A$17,J278,IF(OR(C285=\"\",C285='Fiche de travail'!$A$17),\"\",'Fiche de travail'!$A$17)),\"\")","v":""},{"$nulls":6},{"$error":"#N/A"}]
[279,null,{"$f":"IFERROR(IF(J279<='Fiche de travail'!$A$17,J279,IF(OR(C286=\"\",C286='Fiche de travail'!$A$17),\"\",'Fiche de travail'!$A$17)),\"\")","v":""},{"$nulls":6},{"$error":"#N/A"}]
[280,null,{"$f":"IFERROR(IF(J280<='Fiche de travail'!$A$17,J280,IF(OR(C287=\"\",C287='Fiche de travail'!$A$17),\"\",'Fiche de travail'!$A$17)),\"\")","v":""},{"$nulls":6},{"$error":"#N/A"}]
[281,null,{"$f":"IFERROR(IF(J281<='Fiche de travail'!$A$17,J281,IF(OR(C288=\"\",C288='Fiche de travail'!$A$17),\"\",'Fiche de travail'!$A$17)),\"\")","v":""},{"$nulls":6},{"$error":"#N/A"}]
[282,null,{"$f":"IFERROR(IF(J282<='Fiche de travail'!$A$17,J282,IF(OR(C289=\"\",C289='Fiche de travail'!$A$17),\"\",'Fiche de travail'!$A$17)),\"\")","v":""},{"$nulls":6},{"$error":"#N/A"}]
[283,null,{"$f":"IFERROR(IF(J283<='Fiche de travail'!$A$17,J283,IF(OR(C290=\"\",C290='Fiche de travail'!$A$17),\"\",'Fiche de travail'!$A$17)),\"\")","v":""},{"$nulls":6},{"$error":"#N/A"}]
[284,null,{"$f":"IFERROR(IF(J284<='Fiche de travail'!$A$17,J284,IF(OR(C291=\"\",C291='Fiche de travail'!$A$17),\"\",'Fiche de travail'!$A$17)),\"\")","v":""},{"$nulls":6},{"$error":"#N/A"}]
[285,null,{"$f":"IFERROR(IF(J285<='Fiche de travail'!$A$17,J285,IF(OR(C292=\"\",C292='Fiche de travail'!$A$17),\"\",'Fiche de travail'!$A$17)),\"\")","v":""},{"$nulls":6},{"$error":"#N/A"}]
[286,null,{"$f":"IFERROR(IF(J286<='Fiche de travail'!$A$17,J286,IF(OR(C293=\"\",C293='Fiche de travail'!$A$17),\"\",'Fiche de travail'!$A$17)),\"\")","v":""},{"$nulls":6},{"$error":"#N/A"}]
[287,null,{"$f":"IFERROR(IF(J287<='Fiche de travail'!$A$17,J287,IF(OR(C294=\"\",C294='Fiche de travail'!$A$17),\"\",'Fiche de travail'!$A$17)),\"\")","v":""},{"$nulls":6},{"$error":"#N/A"}]
[288,null,{"$f":"IFERROR(IF(J288<='Fiche de travail'!$A$17,J288,IF(OR(C295=\"\",C295='Fiche de travail'!$A$17),\"\",'Fiche de travail'!$A$17)),\"\")","v":""},{"$nulls":6},{"$error":"#N/A"}]
[289,null,{"$f":"IFERROR(IF(J289<='Fiche de travail'!$A$17,J289,IF(OR(C296=\"\",C296='Fiche de travail'!$A$17),\"\",'Fiche de travail'!$A$17)),\"\")","v":""},{"$nulls":6},{"$error":"#N/A"}]
[290,null,{"$f":"IFERROR(IF(J290<='Fiche de travail'!$A$17,J290,IF(OR(C297=\"\",C297='Fiche de travail'!$A$17),\"\",'Fiche de travail'!$A$17)),\"\")","v":""},{"$nulls":6},{"$error":"#N/A"}]
[291,null,{"$f":"IFERROR(IF(J291<='Fiche de travail'!$A$17,J291,IF(OR(C298=\"\",C298='Fiche de travail'!$A$17),\"\",'Fiche de travail'!$A$17)),\"\")","v":""},{"$nulls":6},{"$error":"#N/A"}]
[292,null,{"$f":"IFERROR(IF(J292<='Fiche de travail'!$A$17,J292,IF(OR(C299=\"\",C299='Fiche de travail'!$A$17),\"\",'Fiche de travail'!$A$17)),\"\")","v":""},{"$nulls":6},{"$error":"#N/A"}]
[293,null,{"$f":"IFERROR(IF(J293<='Fiche de travail'!$A$17,J293,IF(OR(C300=\"\",C300='Fiche de travail'!$A$17),\"\",'Fiche de travail'!$A$17)),\"\")","v":""},{"$nulls":6},{"$error":"#N/A"}]
[294,null,{"$f":"IFERROR(IF(J294<='Fiche de travail'!$A$17,J294,IF(OR(C301=\"\",C301='Fiche de travail'!$A$17),\"\",'Fiche de travail'!$A$17)),\"\")","v":""},{"$nulls":6},{"$error":"#N/A"}]
[295,null,{"$f":"IFERROR(IF(J295<='Fiche de travail'!$A$17,J295,IF(OR(C302=\"\",C302='Fiche de travail'!$A$17),\"\",'Fiche de travail'!$A$17)),\"\")","v":""},{"$nulls":6},{"$error":"#N/A"}]
[296,null,{"$f":"IFERROR(IF(J296<='Fiche de travail'!$A$17,J296,IF(OR(C303=\"\",C303='Fiche de travail'!$A$17),\"\",'Fiche de travail'!$A$17)),\"\")","v":""},{"$nulls":6},{"$error":"#N/A"}]
[297,null,{"$f":"IFERROR(IF(J297<='Fiche de travail'!$A$17,J297,IF(OR(C304=\"\",C304='Fiche de travail'!$A$17),\"\",'Fiche de travail'!$A$17)),\"\")","v":""},{"$nulls":6},{"$error":"#N/A"}]
[298,null,{"$f":"IFERROR(IF(J298<='Fiche de travail'!$A$17,J298,IF(OR(C305=\"\",C305='Fiche de travail'!$A$17),\"\",'Fiche de travail'!$A$17)),\"\")","v":""},{"$nulls":6},{"$error":"#N/A"}]
[299,null,{"$f":"IFERROR(IF(J299<='Fiche de travail'!$A$17,J299,IF(OR(C306=\"\",C306='Fiche de travail'!$A$17),\"\",'Fiche de travail'!$A$17)),\"\")","v":""},{"$nulls":6},{"$error":"#N/A"}]
[300,null,{"$f":"IFERROR(IF(J300<='Fiche de travail'!$A$17,J300,IF(OR(C307=\"\",C307='Fiche de travail'!$A$17),\"\",'Fiche de travail'!$A$17)),\"\")","v":""},{"$nulls":6},{"$error":"#N/A"}]
[{"$nulls":9},{"$error":"#N/A"}]
[{"$nulls":9},{"$error":"#N/A"}]
[{"$nulls":9},{"$error":"#N/A"}]
[{"$nulls":9},{"$error":"#N/A"}]
[{"$nulls":9},{"$error":"#N/A"}]
[{"$nulls":9},{"$error":"#N/A"}]
[{"$nulls":9},{"$error":"#N/A"}]
[{"$nulls":9},{"$error":"#N/A"}]
[{"$nulls":9},{"$error":"#N/A"}]
[{"$nulls":9},{"$error":"#N/A"}]
[{"$nulls":9},{"$error":"#N/A"}]
[{"$nulls":9},{"$error":"#N/A"}]
[{"$nulls":9},{"$error":"#N/A"}]
[{"$nulls":9},{"$error":"#N/A"}]
[{"$nulls":9},{"$error":"#N/A"}]
[{"$nulls":9},{"$error":"#N/A"}]
[{"$nulls":9},{"$error":"#N/A"}]
[{"$nulls":9},{"$f":"J325+$J$1","v":{"$error":"#N/A"}}]
[{"$nulls":9},{"$error":"#N/A"}]
[{"$nulls":9},{"$error":"#N/A"}]
[{"$nulls":9},{"$error":"#N/A"}]
[{"$nulls":9},{"$error":"#N/A"}]
[{"$nulls":9},{"$error":"#N/A"}]
[{"$nulls":9},{"$error":"#N/A"}]
[{"$nulls":9},{"$error":"#N/A"}]
[{"$nulls":9},{"$error":"#N/A"}]
[{"$nulls":9},{"$error":"#N/A"}]
[{"$nulls":9},{"$error":"#N/A"}]
[{"$nulls":9},{"$error":"#N/A"}]
[{"$nulls":9},{"$error":"#N/A"}]
[{"$nulls":9},{"$error":"#N/A"}]
[{"$nulls":9},{"$error":"#N/A"}]
[{"$nulls":9},{"$error":"#N/A"}]
[{"$nulls":9},{"$error":"#N/A"}]
[{"$nulls":9},{"$error":"#N/A"}]
[{"$nulls":9},{"$error":"#N/A"}]
[{"$nulls":9},{"$error":"#N/A"}]
[{"$nulls":9},{"$error":"#N/A"}]
[{"$nulls":9},{"$error":"#N/A"}]
[{"$nulls":9},{"$error":"#N/A"}]
[{"$nulls":9},{"$error":"#N/A"}]
[{"$nulls":9},{"$error":"#N/A"}]
[{"$nulls":9},{"$error":"#N/A"}]
[{"$nulls":9},{"$error":"#N/A"}]
[{"$nulls":9},{"$error":"#N/A"}]
[{"$nulls":9},{"$error":"#N/A"}]
[{"$nulls":9},{"$error":"#N/A"}]
[{"$nulls":9},{"$error":"#N/A"}]
[{"$nulls":9},{"$error":"#N/A"}]
[{"$nulls":9},{"$error":"#N/A"}]
[{"$nulls":9},{"$error":"#N/A"}]
[{"$nulls":9},{"$error":"#N/A"}]
[{"$nulls":9},{"$error":"#N/A"}]
[{"$nulls":9},{"$error":"#N/A"}]
[{"$nulls":9},{"$error":"#N/A"}]
[{"$nulls":9},{"$error":"#N/A"}]
[{"$nulls":9},{"$error":"#N/A"}]
[{"$nulls":9},{"$error":"#N/A"}]
[{"$nulls":9},{"$error":"#N/A"}]
[{"$nulls":9},{"$error":"#N/A"}]
[{"$nulls":9},{"$error":"#N/A"}]
[{"$nulls":9},{"$error":"#N/A"}]
[{"$nulls":9},{"$error":"#N/A"}]
[{"$nulls":9},{"$error":"#N/A"}]
[{"$nulls":9},{"$error":"#N/A"}]
[{"$nulls":9},{"$error":"#N/A"}]
[{"$nulls":9},{"$error":"#N/A"}]
[{"$nulls":9},{"$error":"#N/A"}]
[{"$nulls":9},{"$error":"#N/A"}]
[{"$nulls":9},{"$error":"#N/A"}]
[{"$nulls":9},{"$error":"#N/A"}]
[{"$nulls":9},{"$error":"#N/A"}]
[{"$nulls":9},{"$error":"#N/A"}]
[{"$nulls":9},{"$error":"#N/A"}]
[{"$nulls":9},{"$error":"#N/A"}]
[{"$nulls":9},{"$error":"#N/A"}]
[{"$nulls":9},{"$error":"#N/A"}]
[{"$nulls":9},{"$error":"#N/A"}]
[{"$nulls":9},{"$error":"#N/A"}]
[{"$nulls":9},{"$error":"#N/A"}]
[{"$nulls":9},{"$error":"#N/A"}]
[{"$nulls":9},{"$f":"J389+$J$1","v":{"$error":"#N/A"}}]
[{"$nulls":9},{"$error":"#N/A"}]
[{"$nulls":9},{"$error":"#N/A"}]
[{"$nulls":9},{"$error":"#N/A"}]
[{"$nulls":9},{"$error":"#N/A"}]
[{"$nulls":9},{"$error":"#N/A"}]
[{"$nulls":9},{"$error":"#N/A"}]
[{"$nulls":9},{"$error":"#N/A"}]
[{"$nulls":9},{"$error":"#N/A"}]
[{"$nulls":9},{"$error":"#N/A"}]
[{"$nulls":9},{"$error":"#N/A"}]
[{"$nulls":9},{"$error":"#N/A"}]
[{"$nulls":9},{"$error":"#N/A"}]
[{"$nulls":9},{"$error":"#N/A"}]
[{"$nulls":9},{"$error":"#N/A"}]
[{"$nulls":9},{"$error":"#N/A"}]
[{"$nulls":9},{"$error":"#N/A"}]
[{"$nulls":9},{"$error":"#N/A"}]
[{"$nulls":9},{"$error":"#N/A"}]
[{"$nulls":9},{"$error":"#N/A"}]
[{"$nulls":9},{"$error":"#N/A"}]
[{"$nulls":9},{"$error":"#N/A"}]
[{"$nulls":9},{"$error":"#N/A"}]
[{"$nulls":9},{"$error":"#N/A"}]
[{"$nulls":9},{"$error":"#N/A"}]
[{"$nulls":9},{"$error":"#N/A"}]
[{"$nulls":9},{"$error":"#N/A"}]
[{"$nulls":9},{"$error":"#N/A"}]
[{"$nulls":9},{"$error":"#N/A"}]
[{"$nulls":9},{"$error":"#N/A"}]
[{"$nulls":9},{"$error":"#N/A"}]
[{"$nulls":9},{"$error":"#N/A"}]
[{"$nulls":9},{"$error":"#N/A"}]
[{"$nulls":9},{"$error":"#N/A"}]
[{"$nulls":9},{"$error":"#N/A"}]
[{"$nulls":9},{"$error":"#N/A"}]
[{"$nulls":9},{"$error":"#N/A"}]
[{"$nulls":9},{"$error":"#N/A"}]
[{"$nulls":9},{"$error":"#N/A"}]
[{"$nulls":9},{"$error":"#N/A"}]
[{"$nulls":9},{"$error":"#N/A"}]
[{"$nulls":9},{"$error":"#N/A"}]
[{"$nulls":9},{"$error":"#N/A"}]
[{"$nulls":9},{"$error":"#N/A"}]
[{"$nulls":9},{"$error":"#N/A"}]
[{"$nulls":9},{"$error":"#N/A"}]
[{"$nulls":9},{"$error":"#N/A"}]
[{"$nulls":9},{"$error":"#N/A"}]
[{"$nulls":9},{"$error":"#N/A"}]
[{"$nulls":9},{"$error":"#N/A"}]
[{"$nulls":9},{"$error":"#N/A"}]
[{"$nulls":9},{"$error":"#N/A"}]
[{"$nulls":9},{"$error":"#N/A"}]
[{"$nulls":9},{"$error":"#N/A"}]
[{"$nulls":9},{"$error":"#N/A"}]
[{"$nulls":9},{"$error":"#N/A"}]
[{"$nulls":9},{"$error":"#N/A"}]
[{"$nulls":9},{"$error":"#N/A"}]
[{"$nulls":9},{"$error":"#N/A"}]
[{"$nulls":9},{"$error":"#N/A"}]
[{"$nulls":9},{"$error":"#N/A"}]
[{"$nulls":9},{"$error":"#N/A"}]
[{"$nulls":9},{"$error":"#N/A"}]
[{"$nulls":9},{"$error":"#N/A"}]
[{"$nulls":9},{"$f":"J453+$J$1","v":{"$error":"#N/A"}}]
[{"$nulls":9},{"$error":"#N/A"}]
[{"$nulls":9},{"$error":"#N/A"}]
[{"$nulls":9},{"$error":"#N/A"}]
[{"$nulls":9},{"$error":"#N/A"}]
[{"$nulls":9},{"$error":"#N/A"}]
[{"$nulls":9},{"$error":"#N/A"}]
[{"$nulls":9},{"$error":"#N/A"}]
[{"$nulls":9},{"$error":"#N/A"}]
[{"$nulls":9},{"$error":"#N/A"}]
[{"$nulls":9},{"$error":"#N/A"}]
[{"$nulls":9},{"$error":"#N/A"}]
[{"$nulls":9},{"$error":"#N/A"}]
[{"$nulls":9},{"$error":"#N/A"}]
[{"$nulls":9},{"$error":"#N/A"}]
[{"$nulls":9},{"$error":"#N/A"}]
[{"$nulls":9},{"$error":"#N/A"}]
[{"$nulls":9},{"$error":"#N/A"}]
[{"$nulls":9},{"$error":"#N/A"}]
[{"$nulls":9},{"$error":"#N/A"}]
[{"$nulls":9},{"$error":"#N/A"}]
[{"$nulls":9},{"$error":"#N/A"}]
[{"$nulls":9},{"$error":"#N/A"}]
[{"$nulls":9},{"$error":"#N/A"}]
[{"$nulls":9},{"$error":"#N/A"}]
[{"$nulls":9},{"$error":"#N/A"}]
[{"$nulls":9},{"$error":"#N/A"}]
[{"$nulls":9},{"$error":"#N/A"}]
[{"$nulls":9},{"$error":"#N/A"}]
[{"$nulls":9},{"$error":"#N/A"}]
[{"$nulls":9},{"$error":"#N/A"}]
[{"$nulls":9},{"$error":"#N/A"}]
[{"$nulls":9},{"$error":"#N/A"}]
[{"$nulls":9},{"$error":"#N/A"}]
[{"$nulls":9},{"$error":"#N/A"}]
[{"$nulls":9},{"$error":"#N/A"}]
[{"$nulls":9},{"$error":"#N/A"}]
[{"$nulls":9},{"$error":"#N/A"}]
[{"$nulls":9},{"$error":"#N/A"}]
[{"$nulls":9},{"$error":"#N/A"}]
[{"$nulls":9},{"$error":"#N/A"}]
[{"$nulls":9},{"$error":"#N/A"}]
[{"$nulls":9},{"$error":"#N/A"}]
[{"$nulls":9},{"$error":"#N/A"}]
[{"$nulls":9},{"$error":"#N/A"}]
[{"$nulls":9},{"$error":"#N/A"}]
[{"$nulls":9},{"$error":"#N/A"}]
[{"$nulls":9},{"$error":"#N/A"}]
[{"$nulls":9},{"$error":"#N/A"}]
[{"$nulls":9},{"$error":"#N/A"}]
[{"$nulls":9},{"$error":"#N/A"}]
[{"$nulls":9},{"$error":"#N/A"}]
[{"$nulls":9},{"$error":"#N/A"}]
[{"$nulls":9},{"$error":"#N/A"}]
[{"$nulls":9},{"$error":"#N/A"}]
[{"$nulls":9},{"$error":"#N/A"}]
[{"$nulls":9},{"$error":"#N/A"}]
[{"$nulls":9},{"$error":"#N/A"}]
[{"$nulls":9},{"$error":"#N/A"}]
[{"$nulls":9},{"$error":"#N/A"}]
[{"$nulls":9},{"$error":"#N/A"}]
[{"$nulls":9},{"$error":"#N/A"}]
[{"$nulls":9},{"$error":"#N/A"}]
[{"$nulls":9},{"$error":"#N/A"}]
[{"$nulls":9},{"$f":"J517+$J$1","v":{"$error":"#N/A"}}]
[{"$nulls":9},{"$error":"#N/A"}]
[{"$nulls":9},{"$error":"#N/A"}]
[{"$nulls":9},{"$error":"#N/A"}]
[{"$nulls":9},{"$error":"#N/A"}]
[{"$nulls":9},{"$error":"#N/A"}]
[{"$nulls":9},{"$error":"#N/A"}]
[{"$nulls":9},{"$error":"#N/A"}]
[{"$nulls":9},{"$error":"#N/A"}]
[{"$nulls":9},{"$error":"#N/A"}]
[{"$nulls":9},{"$error":"#N/A"}]
[{"$nulls":9},{"$error":"#N/A"}]
[{"$nulls":9},{"$error":"#N/A"}]
[{"$nulls":9},{"$error":"#N/A"}]
[{"$nulls":9},{"$error":"#N/A"}]
[{"$nulls":9},{"$error":"#N/A"}]
[{"$nulls":9},{"$error":"#N/A"}]
[{"$nulls":9},{"$error":"#N/A"}]
[{"$nulls":9},{"$error":"#N/A"}]
[{"$nulls":9},{"$error":"#N/A"}]
[{"$nulls":9},{"$error":"#N/A"}]
[{"$nulls":9},{"$error":"#N/A"}]
[{"$nulls":9},{"$error":"#N/A"}]
[{"$nulls":9},{"$error":"#N/A"}]
[{"$nulls":9},{"$error":"#N/A"}]
[{"$nulls":9},{"$error":"#N/A"}]
[{"$nulls":9},{"$error":"#N/A"}]
[{"$nulls":9},{"$error":"#N/A"}]
[{"$nulls":9},{"$error":"#N/A"}]
[{"$nulls":9},{"$error":"#N/A"}]
[{"$nulls":9},{"$error":"#N/A"}]
[{"$nulls":9},{"$error":"#N/A"}]
[{"$nulls":9},{"$error":"#N/A"}]
[{"$nulls":9},{"$error":"#N/A"}]
[{"$nulls":9},{"$error":"#N/A"}]
[{"$nulls":9},{"$error":"#N/A"}]
[{"$nulls":9},{"$error":"#N/A"}]
[{"$nulls":9},{"$error":"#N/A"}]
[{"$nulls":9},{"$error":"#N/A"}]
[{"$nulls":9},{"$error":"#N/A"}]
[{"$nulls":9},{"$error":"#N/A"}]
[{"$nulls":9},{"$error":"#N/A"}]
[{"$nulls":9},{"$error":"#N/A"}]
[{"$nulls":9},{"$error":"#N/A"}]
[{"$nulls":9},{"$error":"#N/A"}]
[{"$nulls":9},{"$error":"#N/A"}]
[{"$nulls":9},{"$error":"#N/A"}]
[{"$nulls":9},{"$error":"#N/A"}]
[{"$nulls":9},{"$error":"#N/A"}]
[{"$nulls":9},{"$error":"#N/A"}]
[{"$nulls":9},{"$error":"#N/A"}]
[{"$nulls":9},{"$error":"#N/A"}]
[{"$nulls":9},{"$error":"#N/A"}]
[{"$nulls":9},{"$error":"#N/A"}]
[{"$nulls":9},{"$error":"#N/A"}]
[{"$nulls":9},{"$error":"#N/A"}]
[{"$nulls":9},{"$error":"#N/A"}]
[{"$nulls":9},{"$error":"#N/A"}]
[{"$nulls":9},{"$error":"#N/A"}]
[{"$nulls":9},{"$error":"#N/A"}]
[{"$nulls":9},{"$error":"#N/A"}]
[{"$nulls":9},{"$error":"#N/A"}]
[{"$nulls":9},{"$error":"#N/A"}]
[{"$nulls":9},{"$error":"#N/A"}]
[{"$nulls":9},{"$f":"J581+$J$1","v":{"$error":"#N/A"}}]
[{"$nulls":9},{"$error":"#N/A"}]
[{"$nulls":9},{"$error":"#N/A"}]
[{"$nulls":9},{"$error":"#N/A"}]
[{"$nulls":9},{"$error":"#N/A"}]
[{"$nulls":9},{"$error":"#N/A"}]
[{"$nulls":9},{"$error":"#N/A"}]
[{"$nulls":9},{"$error":"#N/A"}]
[{"$nulls":9},{"$error":"#N/A"}]
[{"$nulls":9},{"$error":"#N/A"}]
[{"$nulls":9},{"$error":"#N/A"}]
[{"$nulls":9},{"$error":"#N/A"}]
[{"$nulls":9},{"$error":"#N/A"}]
[{"$nulls":9},{"$error":"#N/A"}]
[{"$nulls":9},{"$error":"#N/A"}]
[{"$nulls":9},{"$error":"#N/A"}]
[{"$nulls":9},{"$error":"#N/A"}]
[{"$nulls":9},{"$error":"#N/A"}]
[{"$nulls":9},{"$error":"#N/A"}]
[{"$nulls":9},{"$error":"#N/A"}]
[{"$nulls":9},{"$error":"#N/A"}]
[{"$nulls":9},{"$error":"#N/A"}]
[{"$nulls":9},{"$error":"#N/A"}]
[{"$nulls":9},{"$error":"#N/A"}]
[{"$nulls":9},{"$error":"#N/A"}]
[{"$nulls":9},{"$error":"#N/A"}]
[{"$nulls":9},{"$error":"#N/A"}]
[{"$nulls":9},{"$error":"#N/A"}]
[{"$nulls":9},{"$error":"#N/A"}]
[{"$nulls":9},{"$error":"#N/A"}]
[{"$nulls":9},{"$error":"#N/A"}]
[{"$nulls":9},{"$error":"#N/A"}]
[{"$nulls":9},{"$error":"#N/A"}]
[{"$nulls":9},{"$error":"#N/A"}]
[{"$nulls":9},{"$error":"#N/A"}]
[{"$nulls":9},{"$error":"#N/A"}]
[{"$nulls":9},{"$error":"#N/A"}]
[{"$nulls":9},{"$error":"#N/A"}]
[{"$nulls":9},{"$error":"#N/A"}]
[{"$nulls":9},{"$error":"#N/A"}]
[{"$nulls":9},{"$error":"#N/A"}]
[{"$nulls":9},{"$error":"#N/A"}]
[{"$nulls":9},{"$error":"#N/A"}]
[{"$nulls":9},{"$error":"#N/A"}]
[{"$nulls":9},{"$error":"#N/A"}]
[{"$nulls":9},{"$error":"#N/A"}]
[{"$nulls":9},{"$error":"#N/A"}]
[{"$nulls":9},{"$error":"#N/A"}]
[{"$nulls":9},{"$error":"#N/A"}]
[{"$nulls":9},{"$error":"#N/A"}]
[{"$nulls":9},{"$error":"#N/A"}]
[{"$nulls":9},{"$error":"#N/A"}]
[{"$nulls":9},{"$error":"#N/A"}]
[{"$nulls":9},{"$error":"#N/A"}]
[{"$nulls":9},{"$error":"#N/A"}]
[{"$nulls":9},{"$error":"#N/A"}]
[{"$nulls":9},{"$error":"#N/A"}]
[{"$nulls":9},{"$error":"#N/A"}]
[{"$nulls":9},{"$error":"#N/A"}]
[{"$nulls":9},{"$error":"#N/A"}]
[{"$nulls":9},{"$error":"#N/A"}]
[{"$nulls":9},{"$error":"#N/A"}]
[{"$nulls":9},{"$error":"#N/A"}]
[{"$nulls":9},{"$error":"#N/A"}]
[{"$nulls":9},{"$f":"J645+$J$1","v":{"$error":"#N/A"}}]
[{"$nulls":9},{"$error":"#N/A"}]
[{"$nulls":9},{"$error":"#N/A"}]
[{"$nulls":9},{"$error":"#N/A"}]
[{"$nulls":9},{"$error":"#N/A"}]
[{"$nulls":9},{"$error":"#N/A"}]
[{"$nulls":9},{"$error":"#N/A"}]
[{"$nulls":9},{"$error":"#N/A"}]
[{"$nulls":9},{"$error":"#N/A"}]
[{"$nulls":9},{"$error":"#N/A"}]
[{"$nulls":9},{"$error":"#N/A"}]
[{"$nulls":9},{"$error":"#N/A"}]
[{"$nulls":9},{"$error":"#N/A"}]
[{"$nulls":9},{"$error":"#N/A"}]
[{"$nulls":9},{"$error":"#N/A"}]
[{"$nulls":9},{"$error":"#N/A"}]
[{"$nulls":9},{"$error":"#N/A"}]
[{"$nulls":9},{"$error":"#N/A"}]
[{"$nulls":9},{"$error":"#N/A"}]
[{"$nulls":9},{"$error":"#N/A"}]
[{"$nulls":9},{"$error":"#N/A"}]
[{"$nulls":9},{"$error":"#N/A"}]
[{"$nulls":9},{"$error":"#N/A"}]
[{"$nulls":9},{"$error":"#N/A"}]
[{"$nulls":9},{"$error":"#N/A"}]
[{"$nulls":9},{"$error":"#N/A"}]
[{"$nulls":9},{"$error":"#N/A"}]
[{"$nulls":9},{"$error":"#N/A"}]
[{"$nulls":9},{"$error":"#N/A"}]
[{"$nulls":9},{"$error":"#N/A"}]
[{"$nulls":9},{"$error":"#N/A"}]
[{"$nulls":9},{"$error":"#N/A"}]
[{"$nulls":9},{"$error":"#N/A"}]
[{"$nulls":9},{"$error":"#N/A"}]
[{"$nulls":9},{"$error":"#N/A"}]
[{"$nulls":9},{"$error":"#N/A"}]
[{"$nulls":9},{"$error":"#N/A"}]
[{"$nulls":9},{"$error":"#N/A"}]
[{"$nulls":9},{"$error":"#N/A"}]
[{"$nulls":9},{"$error":"#N/A"}]
[{"$nulls":9},{"$error":"#N/A"}]
[{"$nulls":9},{"$error":"#N/A"}]
[{"$nulls":9},{"$error":"#N/A"}]
[{"$nulls":9},{"$error":"#N/A"}]
[{"$nulls":9},{"$error":"#N/A"}]
[{"$nulls":9},{"$error":"#N/A"}]
[{"$nulls":9},{"$error":"#N/A"}]
[{"$nulls":9},{"$error":"#N/A"}]
[{"$nulls":9},{"$error":"#N/A"}]
[{"$nulls":9},{"$error":"#N/A"}]
[{"$nulls":9},{"$error":"#N/A"}]
[{"$nulls":9},{"$error":"#N/A"}]
[{"$nulls":9},{"$error":"#N/A"}]
[{"$nulls":9},{"$error":"#N/A"}]
[{"$nulls":9},{"$error":"#N/A"}]
[{"$nulls":9},{"$error":"#N/A"}]
[{"$nulls":9},{"$error":"#N/A"}]
[{"$nulls":9},{"$error":"#N/A"}]
[{"$nulls":9},{"$error":"#N/A"}]
[{"$nulls":9},{"$error":"#N/A"}]
[{"$nulls":9},{"$error":"#N/A"}]
[{"$nulls":9},{"$error":"#N/A"}]
[{"$nulls":9},{"$error":"#N/A"}]
[{"$nulls":9},{"$error":"#N/A"}]
[{"$nulls":9},{"$f":"J709+$J$1","v":{"$error":"#N/A"}}]
[{"$nulls":9},{"$error":"#N/A"}]
[{"$nulls":9},{"$error":"#N/A"}]
[{"$nulls":9},{"$error":"#N/A"}]
[{"$nulls":9},{"$error":"#N/A"}]
[{"$nulls":9},{"$error":"#N/A"}]
[{"$nulls":9},{"$error":"#N/A"}]
[{"$nulls":9},{"$error":"#N/A"}]
[{"$nulls":9},{"$error":"#N/A"}]
[{"$nulls":9},{"$error":"#N/A"}]
[{"$nulls":9},{"$error":"#N/A"}]
[{"$nulls":9},{"$error":"#N/A"}]
[{"$nulls":9},{"$error":"#N/A"}]
[{"$nulls":9},{"$error":"#N/A"}]
[{"$nulls":9},{"$error":"#N/A"}]
[{"$nulls":9},{"$error":"#N/A"}]
[{"$nulls":9},{"$error":"#N/A"}]
[{"$nulls":9},{"$error":"#N/A"}]
[{"$nulls":9},{"$error":"#N/A"}]
[{"$nulls":9},{"$error":"#N/A"}]
[{"$nulls":9},{"$error":"#N/A"}]
[{"$nulls":9},{"$error":"#N/A"}]
[{"$nulls":9},{"$error":"#N/A"}]
[{"$nulls":9},{"$error":"#N/A"}]
[{"$nulls":9},{"$error":"#N/A"}]
[{"$nulls":9},{"$error":"#N/A"}]
[{"$nulls":9},{"$error":"#N/A"}]
[{"$nulls":9},{"$error":"#N/A"}]
[{"$nulls":9},{"$error":"#N/A"}]
[{"$nulls":9},{"$error":"#N/A"}]
[{"$nulls":9},{"$error":"#N/A"}]
[{"$nulls":9},{"$error":"#N/A"}]
[{"$nulls":9},{"$error":"#N/A"}]
[{"$nulls":9},{"$error":"#N/A"}]
[{"$nulls":9},{"$error":"#N/A"}]
[{"$nulls":9},{"$error":"#N/A"}]
[{"$nulls":9},{"$error":"#N/A"}]
[{"$nulls":9},{"$error":"#N/A"}]
[{"$nulls":9},{"$error":"#N/A"}]
[{"$nulls":9},{"$error":"#N/A"}]
[{"$nulls":9},{"$error":"#N/A"}]
[{"$nulls":9},{"$error":"#N/A"}]
[{"$nulls":9},{"$error":"#N/A"}]
[{"$nulls":9},{"$error":"#N/A"}]
[{"$nulls":9},{"$error":"#N/A"}]
[{"$nulls":9},{"$error":"#N/A"}]
[{"$nulls":9},{"$error":"#N/A"}]
[{"$nulls":9},{"$error":"#N/A"}]
[{"$nulls":9},{"$error":"#N/A"}]
[{"$nulls":9},{"$error":"#N/A"}]
[{"$nulls":9},{"$error":"#N/A"}]
[{"$nulls":9},{"$error":"#N/A"}]
[{"$nulls":9},{"$error":"#N/A"}]
[{"$nulls":9},{"$error":"#N/A"}]
[{"$nulls":9},{"$error":"#N/A"}]
[{"$nulls":9},{"$error":"#N/A"}]
[{"$nulls":9},{"$error":"#N/A"}]
[{"$nulls":9},{"$error":"#N/A"}]
[{"$nulls":9},{"$error":"#N/A"}]
[{"$nulls":9},{"$error":"#N/A"}]
[{"$nulls":9},{"$error":"#N/A"}]
[{"$nulls":9},{"$error":"#N/A"}]
[{"$nulls":9},{"$error":"#N/A"}]
[{"$nulls":9},{"$error":"#N/A"}]
[{"$nulls":9},{"$f":"J773+$J$1","v":{"$error":"#N/A"}}]
[{"$nulls":9},{"$error":"#N/A"}]
[{"$nulls":9},{"$error":"#N/A"}]
[{"$nulls":9},{"$error":"#N/A"}]
[{"$nulls":9},{"$error":"#N/A"}]
[{"$nulls":9},{"$error":"#N/A"}]
[{"$nulls":9},{"$error":"#N/A"}]
[{"$nulls":9},{"$error":"#N/A"}]
[{"$nulls":9},{"$error":"#N/A"}]
[{"$nulls":9},{"$error":"#N/A"}]
[{"$nulls":9},{"$error":"#N/A"}]
[{"$nulls":9},{"$error":"#N/A"}]
[{"$nulls":9},{"$error":"#N/A"}]
[{"$nulls":9},{"$error":"#N/A"}]
[{"$nulls":9},{"$error":"#N/A"}]
[{"$nulls":9},{"$error":"#N/A"}]
[{"$nulls":9},{"$error":"#N/A"}]
[{"$nulls":9},{"$error":"#N/A"}]
[{"$nulls":9},{"$error":"#N/A"}]
[{"$nulls":9},{"$error":"#N/A"}]
[{"$nulls":9},{"$error":"#N/A"}]
[{"$nulls":9},{"$error":"#N/A"}]
[{"$nulls":9},{"$error":"#N/A"}]
[{"$nulls":9},{"$error":"#N/A"}]
[{"$nulls":9},{"$error":"#N/A"}]
[{"$nulls":9},{"$error":"#N/A"}]
[{"$nulls":9},{"$error":"#N/A"}]
[{"$nulls":9},{"$error":"#N/A"}]
[{"$nulls":9},{"$error":"#N/A"}]
[{"$nulls":9},{"$error":"#N/A"}]
[{"$nulls":9},{"$error":"#N/A"}]
[{"$nulls":9},{"$error":"#N/A"}]
[{"$nulls":9},{"$error":"#N/A"}]
[{"$nulls":9},{"$error":"#N/A"}]
[{"$nulls":9},{"$error":"#N/A"}]
[{"$nulls":9},{"$error":"#N/A"}]
[{"$nulls":9},{"$error":"#N/A"}]
[{"$nulls":9},{"$error":"#N/A"}]
[{"$nulls":9},{"$error":"#N/A"}]
[{"$nulls":9},{"$error":"#N/A"}]
[{"$nulls":9},{"$error":"#N/A"}]
[{"$nulls":9},{"$error":"#N/A"}]
[{"$nulls":9},{"$error":"#N/A"}]
[{"$nulls":9},{"$error":"#N/A"}]
[{"$nulls":9},{"$error":"#N/A"}]
[{"$nulls":9},{"$error":"#N/A"}]
[{"$nulls":9},{"$error":"#N/A"}]
[{"$nulls":9},{"$error":"#N/A"}]
[{"$nulls":9},{"$error":"#N/A"}]
[{"$nulls":9},{"$error":"#N/A"}]
[{"$nulls":9},{"$error":"#N/A"}]
[{"$nulls":9},{"$error":"#N/A"}]
[{"$nulls":9},{"$error":"#N/A"}]
[{"$nulls":9},{"$error":"#N/A"}]
[{"$nulls":9},{"$error":"#N/A"}]
[{"$nulls":9},{"$error":"#N/A"}]
[{"$nulls":9},{"$error":"#N/A"}]
[{"$nulls":9},{"$error":"#N/A"}]
[{"$nulls":9},{"$error":"#N/A"}]
[{"$nulls":9},{"$error":"#N/A"}]
[{"$nulls":9},{"$error":"#N/A"}]
[{"$nulls":9},{"$error":"#N/A"}]
[{"$nulls":9},{"$error":"#N/A"}]
[{"$nulls":9},{"$error":"#N/A"}]
[{"$nulls":9},{"$f":"J837+$J$1","v":{"$error":"#N/A"}}]
[{"$nulls":9},{"$error":"#N/A"}]
[{"$nulls":9},{"$error":"#N/A"}]
[{"$nulls":9},{"$error":"#N/A"}]
[{"$nulls":9},{"$error":"#N/A"}]
[{"$nulls":9},{"$error":"#N/A"}]
[{"$nulls":9},{"$error":"#N/A"}]
[{"$nulls":9},{"$error":"#N/A"}]
[{"$nulls":9},{"$error":"#N/A"}]
[{"$nulls":9},{"$error":"#N/A"}]
[{"$nulls":9},{"$error":"#N/A"}]
[{"$nulls":9},{"$error":"#N/A"}]
[{"$nulls":9},{"$error":"#N/A"}]
[{"$nulls":9},{"$error":"#N/A"}]
[{"$nulls":9},{"$error":"#N/A"}]
[{"$nulls":9},{"$error":"#N/A"}]
[{"$nulls":9},{"$error":"#N/A"}]
[{"$nulls":9},{"$error":"#N/A"}]
[{"$nulls":9},{"$error":"#N/A"}]
[{"$nulls":9},{"$error":"#N/A"}]
[{"$nulls":9},{"$error":"#N/A"}]
[{"$nulls":9},{"$error":"#N/A"}]
[{"$nulls":9},{"$error":"#N/A"}]
[{"$nulls":9},{"$error":"#N/A"}]
[{"$nulls":9},{"$error":"#N/A"}]
[{"$nulls":9},{"$error":"#N/A"}]
[{"$nulls":9},{"$error":"#N/A"}]
[{"$nulls":9},{"$error":"#N/A"}]
[{"$nulls":9},{"$error":"#N/A"}]
[{"$nulls":9},{"$error":"#N/A"}]
[{"$nulls":9},{"$error":"#N/A"}]
[{"$nulls":9},{"$error":"#N/A"}]
[{"$nulls":9},{"$error":"#N/A"}]
[{"$nulls":9},{"$error":"#N/A"}]
[{"$nulls":9},{"$error":"#N/A"}]
[{"$nulls":9},{"$error":"#N/A"}]
[{"$nulls":9},{"$error":"#N/A"}]
[{"$nulls":9},{"$error":"#N/A"}]
[{"$nulls":9},{"$error":"#N/A"}]
[{"$nulls":9},{"$error":"#N/A"}]
[{"$nulls":9},{"$error":"#N/A"}]
[{"$nulls":9},{"$error":"#N/A"}]
[{"$nulls":9},{"$error":"#N/A"}]
[{"$nulls":9},{"$error":"#N/A"}]
[{"$nulls":9},{"$error":"#N/A"}]
[{"$nulls":9},{"$error":"#N/A"}]
[{"$nulls":9},{"$error":"#N/A"}]
[{"$nulls":9},{"$error":"#N/A"}]
[{"$nulls":9},{"$error":"#N/A"}]
[{"$nulls":9},{"$error":"#N/A"}]
[{"$nulls":9},{"$error":"#N/A"}]
[{"$nulls":9},{"$error":"#N/A"}]
[{"$nulls":9},{"$error":"#N/A"}]
[{"$nulls":9},{"$error":"#N/A"}]
[{"$nulls":9},{"$error":"#N/A"}]
[{"$nulls":9},{"$error":"#N/A"}]
[{"$nulls":9},{"$error":"#N/A"}]
[{"$nulls":9},{"$error":"#N/A"}]
[{"$nulls":9},{"$error":"#N/A"}]
[{"$nulls":9},{"$error":"#N/A"}]
[{"$nulls":9},{"$error":"#N/A"}]
[{"$nulls":9},{"$error":"#N/A"}]
[{"$nulls":9},{"$error":"#N/A"}]
[{"$nulls":9},{"$error":"#N/A"}]
[{"$nulls":9},{"$f":"J901+$J$1","v":{"$error":"#N/A"}}]
[{"$nulls":9},{"$error":"#N/A"}]
[{"$nulls":9},{"$error":"#N/A"}]
[{"$nulls":9},{"$error":"#N/A"}]
[{"$nulls":9},{"$error":"#N/A"}]
[{"$nulls":9},{"$error":"#N/A"}]
[{"$nulls":9},{"$error":"#N/A"}]
[{"$nulls":9},{"$error":"#N/A"}]
[{"$nulls":9},{"$error":"#N/A"}]
[{"$nulls":9},{"$error":"#N/A"}]
[{"$nulls":9},{"$error":"#N/A"}]
[{"$nulls":9},{"$error":"#N/A"}]
[{"$nulls":9},{"$error":"#N/A"}]
[{"$nulls":9},{"$error":"#N/A"}]
[{"$nulls":9},{"$error":"#N/A"}]
[{"$nulls":9},{"$error":"#N/A"}]
[{"$nulls":9},{"$error":"#N/A"}]
[{"$nulls":9},{"$error":"#N/A"}]
[{"$nulls":9},{"$error":"#N/A"}]
[{"$nulls":9},{"$error":"#N/A"}]
[{"$nulls":9},{"$error":"#N/A"}]
[{"$nulls":9},{"$error":"#N/A"}]
[{"$nulls":9},{"$error":"#N/A"}]
[{"$nulls":9},{"$error":"#N/A"}]
[{"$nulls":9},{"$error":"#N/A"}]
[{"$nulls":9},{"$error":"#N/A"}]
[{"$nulls":9},{"$error":"#N/A"}]
[{"$nulls":9},{"$error":"#N/A"}]
[{"$nulls":9},{"$error":"#N/A"}]
[{"$nulls":9},{"$error":"#N/A"}]
[{"$nulls":9},{"$error":"#N/A"}]
[{"$nulls":9},{"$error":"#N/A"}]
[{"$nulls":9},{"$error":"#N/A"}]
[{"$nulls":9},{"$error":"#N/A"}]
[{"$nulls":9},{"$error":"#N/A"}]
[{"$nulls":9},{"$error":"#N/A"}]
[{"$nulls":9},{"$error":"#N/A"}]
[{"$nulls":9},{"$error":"#N/A"}]
[{"$nulls":9},{"$error":"#N/A"}]
[{"$nulls":9},{"$error":"#N/A"}]
[{"$nulls":9},{"$error":"#N/A"}]
[{"$nulls":9},{"$error":"#N/A"}]
[{"$nulls":9},{"$error":"#N/A"}]
[{"$nulls":9},{"$error":"#N/A"}]
[{"$nulls":9},{"$error":"#N/A"}]
[{"$nulls":9},{"$error":"#N/A"}]
[{"$nulls":9},{"$error":"#N/A"}]
[{"$nulls":9},{"$error":"#N/A"}]
[{"$nulls":9},{"$error":"#N/A"}]
[{"$nulls":9},{"$error":"#N/A"}]
[{"$nulls":9},{"$error":"#N/A"}]
[{"$nulls":9},{"$error":"#N/A"}]
[{"$nulls":9},{"$error":"#N/A"}]
[{"$nulls":9},{"$error":"#N/A"}]
[{"$nulls":9},{"$error":"#N/A"}]
[{"$nulls":9},{"$error":"#N/A"}]
[{"$nulls":9},{"$error":"#N/A"}]
[{"$nulls":9},{"$error":"#N/A"}]
[{"$nulls":9},{"$error":"#N/A"}]
[{"$nulls":9},{"$error":"#N/A"}]
[{"$nulls":9},{"$error":"#N/A"}]
[{"$nulls":9},{"$error":"#N/A"}]
[{"$nulls":9},{"$error":"#N/A"}]
[{"$nulls":9},{"$error":"#N/A"}]
[{"$nulls":9},{"$f":"J965+$J$1","v":{"$error":"#N/A"}}]
[{"$nulls":9},{"$error":"#N/A"}]
[{"$nulls":9},{"$error":"#N/A"}]
[{"$nulls":9},{"$error":"#N/A"}]
[{"$nulls":9},{"$error":"#N/A"}]
[{"$nulls":9},{"$error":"#N/A"}]
[{"$nulls":9},{"$error":"#N/A"}]
[{"$nulls":9},{"$error":"#N/A"}]
[{"$nulls":9},{"$error":"#N/A"}]
[{"$nulls":9},{"$error":"#N/A"}]
[{"$nulls":9},{"$error":"#N/A"}]
[{"$nulls":9},{"$error":"#N/A"}]
[{"$nulls":9},{"$error":"#N/A"}]
[{"$nulls":9},{"$error":"#N/A"}]
[{"$nulls":9},{"$error":"#N/A"}]
[{"$nulls":9},{"$error":"#N/A"}]
[{"$nulls":9},{"$error":"#N/A"}]
[{"$nulls":9},{"$error":"#N/A"}]
[{"$nulls":9},{"$error":"#N/A"}]
[{"$nulls":9},{"$error":"#N/A"}]
[{"$nulls":9},{"$error":"#N/A"}]
[{"$nulls":9},{"$error":"#N/A"}]
[{"$nulls":9},{"$error":"#N/A"}]
[{"$nulls":9},{"$error":"#N/A"}]
[{"$nulls":9},{"$error":"#N/A"}]
[{"$nulls":9},{"$error":"#N/A"}]
[{"$nulls":9},{"$error":"#N/A"}]
[{"$nulls":9},{"$error":"#N/A"}]
[{"$nulls":9},{"$error":"#N/A"}]
[{"$nulls":9},{"$error":"#N/A"}]
[{"$nulls":9},{"$error":"#N/A"}]
[{"$nulls":9},{"$error":"#N/A"}]
[{"$nulls":9},{"$error":"#N/A"}]
[{"$nulls":9},{"$error":"#N/A"}]
[{"$nulls":9},{"$error":"#N/A"}]
[{"$nulls":9},{"$error":"#N/A"}]
[{"$nulls":9},{"$error":"#N/A"}]
[{"$nulls":9},{"$error":"#N/A"}]
[{"$nulls":9},{"$error":"#N/A"}]
[{"$nulls":9},{"$error":"#N/A"}]
[{"$nulls":9},{"$error":"#N/A"}]
[{"$nulls":9},{"$error":"#N/A"}]
[{"$nulls":9},{"$error":"#N/A"}]
[{"$nulls":9},{"$error":"#N/A"}]
[{"$nulls":9},{"$error":"#N/A"}]
[{"$nulls":9},{"$error":"#N/A"}]
[{"$nulls":9},{"$error":"#N/A"}]
[{"$nulls":9},{"$error":"#N/A"}]
[{"$nulls":9},{"$error":"#N/A"}]
[{"$nulls":9},{"$error":"#N/A"}]
[{"$nulls":9},{"$error":"#N/A"}]
[{"$nulls":9},{"$error":"#N/A"}]
[{"$nulls":9},{"$error":"#N/A"}]
[{"$nulls":9},{"$error":"#N/A"}]
[{"$nulls":9},{"$error":"#N/A"}]
[{"$nulls":9},{"$error":"#N/A"}]
[{"$nulls":9},{"$error":"#N/A"}]
[{"$nulls":9},{"$error":"#N/A"}]
[{"$nulls":9},{"$error":"#N/A"}]
[{"$nulls":9},{"$error":"#N/A"}]
[{"$nulls":9},{"$error":"#N/A"}]
[{"$nulls":9},{"$error":"#N/A"}]
[{"$nulls":9},{"$error":"#N/A"}]
[{"$nulls":9},{"$error":"#N/A"}]
[{"$nulls":9},{"$f":"J1029+$J$1","v":{"$error":"#N/A"}}]
[{"$nulls":9},{"$error":"#N/A"}]
[{"$nulls":9},{"$error":"#N/A"}]
[{"$nulls":9},{"$error":"#N/A"}]
[{"$nulls":9},{"$error":"#N/A"}]
[{"$nulls":9},{"$error":"#N/A"}]
[{"$nulls":9},{"$error":"#N/A"}]
[{"$nulls":9},{"$error":"#N/A"}]
[{"$nulls":9},{"$error":"#N/A"}]
[{"$nulls":9},{"$error":"#N/A"}]
[{"$nulls":9},{"$error":"#N/A"}]
[{"$nulls":9},{"$error":"#N/A"}]
[{"$nulls":9},{"$error":"#N/A"}]
[{"$nulls":9},{"$error":"#N/A"}]
[{"$nulls":9},{"$error":"#N/A"}]
[{"$nulls":9},{"$error":"#N/A"}]
[{"$nulls":9},{"$error":"#N/A"}]
[{"$nulls":9},{"$error":"#N/A"}]

{"sheet":"Récap","index":4,"n_rows":2,"n_cols":10,"rows_kept":2}
[{"$nulls":9},{"$f":"#REF!+$J$1","v":{"$error":"#N/A"}}]
[{"$nulls":9},{"$f":"J1+$J$1","v":{"$error":"#N/A"}}]