{"text_format":"3","workbook":"xlsx","n_sheets":3,"sheets":["Prise en main","planning_auto","dates fériés"],"not_rendered":{"macros":1},"read":"whole","date_system":"1900"}

{"sheet":"Prise en main","index":0,"n_rows":17,"n_cols":20,"rows_kept":17,"merged":[[0,1,0,3],[0,5,0,7],[0,9,0,11],[0,13,0,15],[0,17,0,19],[1,1,1,3],[1,5,1,7],[1,9,1,11],[3,17,16,19]]}
["Date prise en main","2021-04-13",{"$nulls":3},"2021-05-19",{"$nulls":3},"2021-06-23",{"$nulls":3},"2021-08-03"]
[null,42,{"$nulls":3},92,{"$nulls":3},52,{"$nulls":3},85]
[null,"Dédut","Durée par postes","Fin",null,"Dédut","Durée par postes","Fin",null,"Du","Durée par postes","Au",null,"Dédut","Durée par postes","Fin",null,"Dédut","Durée par postes","Fin"]
["Poste A : Entrée",{"$f":"B1","v":"2021-04-13"},3,{"$f":"WORKDAY(B4,C4-1,'dates fériés'!$B$1:$B$500)","v":"2021-04-15"},null,{"$f":"F1","v":"2021-05-19"},3,{"$f":"WORKDAY(F4,G4-1,'dates fériés'!$B$1:$B$500)","v":"2021-05-21"},null,{"$f":"J1","v":"2021-06-23"},3,{"$f":"WORKDAY(J4,K4-1,'dates fériés'!$B$1:$B$500)","v":"2021-06-25"},null,{"$f":"N1","v":"2021-08-03"},3,{"$f":"WORKDAY(N4,O4-1,'dates fériés'!$B$1:$B$500)","v":"2021-08-05"},null,"Tout nouveau projet se mettra à la suite  de ce tableau et toujours sous ce format donc pour celui-ci colonnes R,S,T lignes 1 à 17. Le suivant V,W,X lignes 1 à 17.etc…"]
["Poste A bis BX",{"$f":"WORKDAY(D4,1,'dates fériés'!$B$1:$B$500)","v":"2021-04-16"},12,{"$f":"WORKDAY(B5,C5-1,'dates fériés'!$B$1:$B$500)","v":"2021-05-03"},null,{"$f":"WORKDAY(H4,1,'dates fériés'!$B$1:$B$500)","v":"2021-05-25"},12,{"$f":"WORKDAY(F5,G5-1,'dates fériés'!$B$1:$B$500)","v":"2021-06-09"},null,{"$f":"WORKDAY(L4,1,'dates fériés'!$B$1:$B$500)","v":"2021-06-28"},12,{"$f":"WORKDAY(J5,K5-1,'dates fériés'!$B$1:$B$500)","v":"2021-07-13"},null,{"$f":"WORKDAY(P4,1,'dates fériés'!$B$1:$B$500)","v":"2021-08-06"},12,{"$f":"WORKDAY(N5,O5-1,'dates fériés'!$B$1:$B$500)","v":"2021-08-23"}]
["Poste B ABX",{"$f":"WORKDAY(D4,1,'dates fériés'!$B$1:$B$500)","v":"2021-04-16"},9,{"$f":"WORKDAY(B6,C6-1,'dates fériés'!$B$1:$B$500)","v":"2021-04-28"},null,{"$f":"WORKDAY(H4,1,'dates fériés'!$B$1:$B$500)","v":"2021-05-25"},9,{"$f":"WORKDAY(F6,G6-1,'dates fériés'!$B$1:$B$500)","v":"2021-06-04"},null,{"$f":"WORKDAY(L4,1,'dates fériés'!$B$1:$B$500)","v":"2021-06-28"},9,{"$f":"WORKDAY(J6,K6-1,'dates fériés'!$B$1:$B$500)","v":"2021-07-08"},null,{"$f":"WORKDAY(P4,1,'dates fériés'!$B$1:$B$500)","v":"2021-08-06"},9,{"$f":"WORKDAY(N6,O6-1,'dates fériés'!$B$1:$B$500)","v":"2021-08-18"}]
["Poste C ABX",{"$f":"WORKDAY(D6,1,'dates fériés'!$B$1:$B$500)","v":"2021-04-29"},12,{"$f":"WORKDAY(B7,C7-1,'dates fériés'!$B$1:$B$500)","v":"2021-05-18"},null,{"$f":"WORKDAY(H6,1,'dates fériés'!$B$1:$B$500)","v":"2021-06-07"},12,{"$f":"WORKDAY(F7,G7-1,'dates fériés'!$B$1:$B$500)","v":"2021-06-22"},null,{"$f":"WORKDAY(L6,1,'dates fériés'!$B$1:$B$500)","v":"2021-07-09"},12,{"$f":"WORKDAY(J7,K7-1,'dates fériés'!$B$1:$B$500)","v":"2021-08-02"},null,{"$f":"WORKDAY(P6,1,'dates fériés'!$B$1:$B$500)","v":"2021-08-19"},12,{"$f":"WORKDAY(N7,O7-1,'dates fériés'!$B$1:$B$500)","v":"2021-09-03"}]
["Poste B BX",{"$f":"WORKDAY(D5,1,'dates fériés'!$B$1:$B$500)","v":"2021-05-04"},9,{"$f":"WORKDAY(B8,C8-1,'dates fériés'!$B$1:$B$500)","v":"2021-05-18"},null,{"$f":"WORKDAY(H5,1,'dates fériés'!$B$1:$B$500)","v":"2021-06-10"},9,{"$f":"WORKDAY(F8,G8-1,'dates fériés'!$B$1:$B$500)","v":"2021-06-22"},null,{"$f":"WORKDAY(L5,1,'dates fériés'!$B$1:$B$500)","v":"2021-07-14"},9,{"$f":"WORKDAY(J8,K8-1,'dates fériés'!$B$1:$B$500)","v":"2021-08-02"},null,{"$f":"WORKDAY(P5,1,'dates fériés'!$B$1:$B$500)","v":"2021-08-24"},9,{"$f":"WORKDAY(N8,O8-1,'dates fériés'!$B$1:$B$500)","v":"2021-09-03"}]
["Poste C BX",{"$f":"WORKDAY(D8,1,'dates fériés'!$B$1:$B$500)","v":"2021-05-19"},12,{"$f":"WORKDAY(B9,C9-1,'dates fériés'!$B$1:$B$500)","v":"2021-06-04"},null,{"$f":"WORKDAY(H8,1,'dates fériés'!$B$1:$B$500)","v":"2021-06-23"},12,{"$f":"WORKDAY(F9,G9-1,'dates fériés'!$B$1:$B$500)","v":"2021-07-08"},null,{"$f":"WORKDAY(L8,1,'dates fériés'!$B$1:$B$500)","v":"2021-08-03"},12,{"$f":"WORKDAY(J9,K9-1,'dates fériés'!$B$1:$B$500)","v":"2021-08-18"},null,{"$f":"WORKDAY(P8,1,'dates fériés'!$B$1:$B$500)","v":"2021-09-06"},12,{"$f":"WORKDAY(N9,O9-1,'dates fériés'!$B$1:$B$500)","v":"2021-09-21"}]
["Poste B bis ABX",{"$f":"WORKDAY(D7,1,'dates fériés'!$B$1:$B$500)","v":"2021-05-19"},3,{"$f":"WORKDAY(B10,C10-1,'dates fériés'!$B$1:$B$500)","v":"2021-05-21"},null,{"$f":"WORKDAY(H7,1,'dates fériés'!$B$1:$B$500)","v":"2021-06-23"},3,{"$f":"WORKDAY(F10,G10-1,'dates fériés'!$B$1:$B$500)","v":"2021-06-25"},null,{"$f":"WORKDAY(L7,1,'dates fériés'!$B$1:$B$500)","v":"2021-08-03"},3,{"$f":"WORKDAY(J10,K10-1,'dates fériés'!$B$1:$B$500)","v":"2021-08-05"},null,{"$f":"WORKDAY(P7,1,'dates fériés'!$B$1:$B$500)","v":"2021-09-06"},3,{"$f":"WORKDAY(N10,O10-1,'dates fériés'!$B$1:$B$500)","v":"2021-09-08"}]
["Poste D ABX",{"$f":"WORKDAY(D10,1,'dates fériés'!$B$1:$B$500)","v":"2021-05-25"},12,{"$f":"WORKDAY(B11,C11-1,'dates fériés'!$B$1:$B$500)","v":"2021-06-09"},null,{"$f":"WORKDAY(H10,1,'dates fériés'!$B$1:$B$500)","v":"2021-06-28"},12,{"$f":"WORKDAY(F11,G11-1,'dates fériés'!$B$1:$B$500)","v":"2021-07-13"},null,{"$f":"WORKDAY(L10,1,'dates fériés'!$B$1:$B$500)","v":"2021-08-06"},12,{"$f":"WORKDAY(J11,K11-1,'dates fériés'!$B$1:$B$500)","v":"2021-08-23"},null,{"$f":"WORKDAY(P10,1,'dates fériés'!$B$1:$B$500)","v":"2021-09-09"},12,{"$f":"WORKDAY(N11,O11-1,'dates fériés'!$B$1:$B$500)","v":"2021-09-24"}]
["Poste B bis BX",{"$f":"WORKDAY(D9,1,'dates fériés'!$B$1:$B$500)","v":"2021-06-07"},3,{"$f":"WORKDAY(B12,C12-1,'dates fériés'!$B$1:$B$500)","v":"2021-06-09"},null,{"$f":"WORKDAY(H9,1,'dates fériés'!$B$1:$B$500)","v":"2021-07-09"},3,{"$f":"WORKDAY(F12,G12-1,'dates fériés'!$B$1:$B$500)","v":"2021-07-13"},null,{"$f":"WORKDAY(L9,1,'dates fériés'!$B$1:$B$500)","v":"2021-08-19"},3,{"$f":"WORKDAY(J12,K12-1,'dates fériés'!$B$1:$B$500)","v":"2021-08-23"},null,{"$f":"WORKDAY(P9,1,'dates fériés'!$B$1:$B$500)","v":"2021-09-22"},3,{"$f":"WORKDAY(N12,O12-1,'dates fériés'!$B$1:$B$500)","v":"2021-09-24"}]
["Poste E ABX",{"$f":"WORKDAY(D12,1,'dates fériés'!$B$1:$B$500)","v":"2021-06-10"},12,{"$f":"WORKDAY(B13,C13-1,'dates fériés'!$B$1:$B$500)","v":"2021-06-25"},null,{"$f":"WORKDAY(H12,1,'dates fériés'!$B$1:$B$500)","v":"2021-07-14"},12,{"$f":"WORKDAY(F13,G13-1,'dates fériés'!$B$1:$B$500)","v":"2021-08-05"},null,{"$f":"WORKDAY(L12,1,'dates fériés'!$B$1:$B$500)","v":"2021-08-24"},12,{"$f":"WORKDAY(J13,K13-1,'dates fériés'!$B$1:$B$500)","v":"2021-09-08"},null,{"$f":"WORKDAY(P12,1,'dates fériés'!$B$1:$B$500)","v":"2021-09-27"},12,{"$f":"WORKDAY(N13,O13-1,'dates fériés'!$B$1:$B$500)","v":"2021-10-12"}]
["Poste D BX",{"$f":"WORKDAY(D12,1,'dates fériés'!$B$1:$B$500)","v":"2021-06-10"},12,{"$f":"WORKDAY(B14,C14-1,'dates fériés'!$B$1:$B$500)","v":"2021-06-25"},null,{"$f":"WORKDAY(H12,1,'dates fériés'!$B$1:$B$500)","v":"2021-07-14"},12,{"$f":"WORKDAY(F14,G14-1,'dates fériés'!$B$1:$B$500)","v":"2021-08-05"},null,{"$f":"WORKDAY(L12,1,'dates fériés'!$B$1:$B$500)","v":"2021-08-24"},12,{"$f":"WORKDAY(J14,K14-1,'dates fériés'!$B$1:$B$500)","v":"2021-09-08"},null,{"$f":"WORKDAY(P12,1,'dates fériés'!$B$1:$B$500)","v":"2021-09-27"},12,{"$f":"WORKDAY(N14,O14-1,'dates fériés'!$B$1:$B$500)","v":"2021-10-12"}]
["Poste A standby",{"$f":"WORKDAY(D14,1,'dates fériés'!$B$1:$B$500)","v":"2021-06-28"},12,{"$f":"WORKDAY(B15,C15-1,'dates fériés'!$B$1:$B$500)","v":"2021-07-13"},null,{"$f":"WORKDAY(H14,1,'dates fériés'!$B$1:$B$500)","v":"2021-08-06"},12,{"$f":"WORKDAY(F15,G15-1,'dates fériés'!$B$1:$B$500)","v":"2021-08-23"},null,{"$f":"WORKDAY(L14,1,'dates fériés'!$B$1:$B$500)","v":"2021-09-09"},12,{"$f":"WORKDAY(J15,K15-1,'dates fériés'!$B$1:$B$500)","v":"2021-09-24"},null,{"$f":"WORKDAY(P14,1,'dates fériés'!$B$1:$B$500)","v":"2021-10-13"},11,{"$f":"WORKDAY(N15,O15-1,'dates fériés'!$B$1:$B$500)","v":"2021-10-27"}]
["Poste E BX",{"$f":"WORKDAY(D14,1,'dates fériés'!$B$1:$B$500)","v":"2021-06-28"},12,{"$f":"WORKDAY(B16,C16-1,'dates fériés'!$B$1:$B$500)","v":"2021-07-13"},null,{"$f":"WORKDAY(H14,1,'dates fériés'!$B$1:$B$500)","v":"2021-08-06"},12,{"$f":"WORKDAY(F16,G16-1,'dates fériés'!$B$1:$B$500)","v":"2021-08-23"},null,{"$f":"WORKDAY(L14,1,'dates fériés'!$B$1:$B$500)","v":"2021-09-09"},12,{"$f":"WORKDAY(J16,K16-1,'dates fériés'!$B$1:$B$500)","v":"2021-09-24"},null,{"$f":"WORKDAY(P14,1,'dates fériés'!$B$1:$B$500)","v":"2021-10-13"},11,{"$f":"WORKDAY(N16,O16-1,'dates fériés'!$B$1:$B$500)","v":"2021-10-27"}]
["Poste A Sortie",{"$f":"WORKDAY(D16,1,'dates fériés'!$B$1:$B$500)","v":"2021-07-14"},9,{"$f":"WORKDAY(B17,C17-1,'dates fériés'!$B$1:$B$500)","v":"2021-08-02"},null,{"$f":"WORKDAY(H16,1,'dates fériés'!$B$1:$B$500)","v":"2021-08-24"},9,{"$f":"WORKDAY(F17,G17-1,'dates fériés'!$B$1:$B$500)","v":"2021-09-03"},null,{"$f":"WORKDAY(L16,1,'dates fériés'!$B$1:$B$500)","v":"2021-09-27"},9,{"$f":"WORKDAY(J17,K17-1,'dates fériés'!$B$1:$B$500)","v":"2021-10-07"},null,{"$f":"WORKDAY(P16,1,'dates fériés'!$B$1:$B$500)","v":"2021-10-28"},8,{"$f":"WORKDAY(N17,O17-1,'dates fériés'!$B$1:$B$500)","v":"2021-11-09"}]

{"sheet":"planning_auto","index":1,"n_rows":0,"n_cols":0,"rows_kept":0}

{"sheet":"dates fériés","index":2,"n_rows":18,"n_cols":4,"rows_kept":18,"merged":[[1,3,2,9]]}
[null,"2021-01-01"]
[null,"2021-04-05",null,"Mettre les fériés de l'année suivante dans la colonne B à la suite des autres"]
[null,"2021-05-13"]
[null,"2021-05-14"]
[null,"2021-05-24"]
[null,"2021-07-19"]
[null,"2021-07-20"]
[null,"2021-07-21"]
[null,"2021-07-22"]
[null,"2021-07-23"]
[null,"2021-11-01"]
[null,"2021-11-11"]
[null,"2021-11-12"]
[null,"2021-12-27"]
[null,"2021-12-28"]
[null,"2021-12-29"]
[null,"2021-12-30"]
[null,"2021-12-31"]