{"text_format":"3","workbook":"xlsx","n_sheets":5,"sheets":["Feuil1","Feuil2","Feuil3","Feuil4","Feuil5"],"not_rendered":{"macros":1,"defined_names":72},"read":"whole","date_system":"1900"}

{"sheet":"Feuil1","index":0,"n_rows":1000,"n_cols":12,"rows_kept":1000}
["Time","AAPL","AMZN"]
["2019-01-02T15:30:00",{"$f":"IFERROR((Feuil2!#REF!-#REF!)/#REF!,\"\")","v":""},{"$f":"IFERROR((tabSecond[[#This Row],[Close]]-tabSecond[[#This Row],[Open]])/tabSecond[[#This Row],[Open]],\"\")","v":0.015770965813109498}]
["2019-01-03T15:30:00",{"$f":"IFERROR((Feuil2!#REF!-#REF!)/#REF!,\"\")","v":""},{"$f":"IFERROR((tabSecond[[#This Row],[Close]]-tabSecond[[#This Row],[Open]])/tabSecond[[#This Row],[Open]],\"\")","v":-0.026972996897100046},{"$nulls":3},"TABLEAU DE BORD","Userform n°1 :","Perfomances :","Classement des performances :"]
["2019-01-04T15:30:00",{"$f":"IFERROR((Feuil2!#REF!-#REF!)/#REF!,\"\")","v":""},{"$f":"IFERROR((tabSecond[[#This Row],[Close]]-tabSecond[[#This Row],[Open]])/tabSecond[[#This Row],[Open]],\"\")","v":0.022162044298228836},{"$nulls":3},"Date de début :","2019-01-01"]
["2019-01-07T15:30:00",{"$f":"IFERROR((Feuil2!#REF!-#REF!)/#REF!,\"\")","v":""},{"$f":"IFERROR((tabSecond[[#This Row],[Close]]-tabSecond[[#This Row],[Open]])/tabSecond[[#This Row],[Open]],\"\")","v":0.004132213414673508},{"$nulls":3},"Date de fin:","2019-01-03"]
["2019-01-08T15:30:00",{"$f":"IFERROR((Feuil2!#REF!-#REF!)/#REF!,\"\")","v":""},{"$f":"IFERROR((tabSecond[[#This Row],[Close]]-tabSecond[[#This Row],[Open]])/tabSecond[[#This Row],[Open]],\"\")","v":-2.32917179383842E-3},{"$nulls":3},"Entreprise n°1","AAPL",-0.00517824000177318]
["2019-01-09T15:30:00",{"$f":"IFERROR((Feuil2!#REF!-#REF!)/#REF!,\"\")","v":""},{"$f":"IFERROR((tabSecond[[#This Row],[Close]]-tabSecond[[#This Row],[Open]])/tabSecond[[#This Row],[Open]],\"\")","v":0.003947583576982765},{"$nulls":3},"Entreprise n°2","AMZN",0.004132213414673508]
["2019-01-10T15:30:00",{"$f":"IFERROR((Feuil2!#REF!-#REF!)/#REF!,\"\")","v":""},{"$f":"IFERROR((tabSecond[[#This Row],[Close]]-tabSecond[[#This Row],[Open]])/tabSecond[[#This Row],[Open]],\"\")","v":0.003681430429413245},{"$nulls":3},"Entreprise n°3",null,0.016975498954899006,{"$f":"RANK(Perf_C,quatro,0)","v":1}]
["2019-01-11T15:30:00",{"$f":"IFERROR((Feuil2!#REF!-#REF!)/#REF!,\"\")","v":""},{"$f":"IFERROR((tabSecond[[#This Row],[Close]]-tabSecond[[#This Row],[Open]])/tabSecond[[#This Row],[Open]],\"\")","v":-3.7794299876084264E-3},{"$nulls":3},"Entreprise n°4",null,0.01,{"$f":"RANK(Perf_D,quatro,0)","v":2}]
["2019-01-14T15:30:00",{"$f":"IFERROR((Feuil2!#REF!-#REF!)/#REF!,\"\")","v":""},{"$f":"IFERROR((tabSecond[[#This Row],[Close]]-tabSecond[[#This Row],[Open]])/tabSecond[[#This Row],[Open]],\"\")","v":1.4720463555715582E-3}]
["2019-01-15T15:30:00",{"$f":"IFERROR((Feuil2!#REF!-#REF!)/#REF!,\"\")","v":""},{"$f":"IFERROR((tabSecond[[#This Row],[Close]]-tabSecond[[#This Row],[Open]])/tabSecond[[#This Row],[Open]],\"\")","v":0.0243878640903512}]
["2019-01-16T15:30:00",{"$f":"IFERROR((Feuil2!#REF!-#REF!)/#REF!,\"\")","v":""},{"$f":"IFERROR((tabSecond[[#This Row],[Close]]-tabSecond[[#This Row],[Open]])/tabSecond[[#This Row],[Open]],\"\")","v":1.1399877897798152E-3},{"$nulls":8},"  "]
["2019-01-17T15:30:00",{"$f":"IFERROR((Feuil2!#REF!-#REF!)/#REF!,\"\")","v":""},{"$f":"IFERROR((tabSecond[[#This Row],[Close]]-tabSecond[[#This Row],[Open]])/tabSecond[[#This Row],[Open]],\"\")","v":0.010666692824590774}]
["2019-01-18T15:30:00",{"$f":"IFERROR((Feuil2!#REF!-#REF!)/#REF!,\"\")","v":""},{"$f":"IFERROR((tabSecond[[#This Row],[Close]]-tabSecond[[#This Row],[Open]])/tabSecond[[#This Row],[Open]],\"\")","v":2.32644706988578E-3}]
["2019-01-22T15:30:00",{"$f":"IFERROR((Feuil2!#REF!-#REF!)/#REF!,\"\")","v":""},{"$f":"IFERROR((tabSecond[[#This Row],[Close]]-tabSecond[[#This Row],[Open]])/tabSecond[[#This Row],[Open]],\"\")","v":-0.010023416344957552}]
["2019-01-23T15:30:00",{"$f":"IFERROR((Feuil2!#REF!-#REF!)/#REF!,\"\")","v":""},{"$f":"IFERROR((tabSecond[[#This Row],[Close]]-tabSecond[[#This Row],[Open]])/tabSecond[[#This Row],[Open]],\"\")","v":0.005559709033362496}]
["2019-01-24T15:30:00",{"$f":"IFERROR((Feuil2!#REF!-#REF!)/#REF!,\"\")","v":""},{"$f":"IFERROR((tabSecond[[#This Row],[Close]]-tabSecond[[#This Row],[Open]])/tabSecond[[#This Row],[Open]],\"\")","v":-0.006176339681261804}]
["2019-01-25T15:30:00",{"$f":"IFERROR((Feuil2!#REF!-#REF!)/#REF!,\"\")","v":""},{"$f":"IFERROR((tabSecond[[#This Row],[Close]]-tabSecond[[#This Row],[Open]])/tabSecond[[#This Row],[Open]],\"\")","v":-6.52738681635761E-4}]
["2019-01-28T15:30:00",{"$f":"IFERROR((Feuil2!#REF!-#REF!)/#REF!,\"\")","v":""},{"$f":"IFERROR((tabSecond[[#This Row],[Close]]-tabSecond[[#This Row],[Open]])/tabSecond[[#This Row],[Open]],\"\")","v":-0.011104839840516507}]
["2019-01-29T15:30:00",{"$f":"IFERROR((Feuil2!#REF!-#REF!)/#REF!,\"\")","v":""},{"$f":"IFERROR((tabSecond[[#This Row],[Close]]-tabSecond[[#This Row],[Open]])/tabSecond[[#This Row],[Open]],\"\")","v":-0.01849728130068668}]
["2019-01-30T15:30:00",{"$f":"IFERROR((Feuil2!#REF!-#REF!)/#REF!,\"\")","v":""},{"$f":"IFERROR((tabSecond[[#This Row],[Close]]-tabSecond[[#This Row],[Open]])/tabSecond[[#This Row],[Open]],\"\")","v":0.016822734282459548}]
["2019-01-31T15:30:00",{"$f":"IFERROR((Feuil2!#REF!-#REF!)/#REF!,\"\")","v":""},{"$f":"IFERROR((tabSecond[[#This Row],[Close]]-tabSecond[[#This Row],[Open]])/tabSecond[[#This Row],[Open]],\"\")","v":0.006069337523081123}]
[{"$error":"#N/A"},{"$f":"IFERROR((Feuil2!#REF!-#REF!)/#REF!,\"\")","v":""},{"$f":"IFERROR((tabSecond[[#This Row],[Close]]-tabSecond[[#This Row],[Open]])/tabSecond[[#This Row],[Open]],\"\")","v":""}]
[{"$error":"#N/A"},{"$f":"IFERROR((Feuil2!#REF!-#REF!)/#REF!,\"\")","v":""},{"$f":"IFERROR((tabSecond[[#This Row],[Close]]-tabSecond[[#This Row],[Open]])/tabSecond[[#This Row],[Open]],\"\")","v":""}]
[{"$error":"#N/A"},{"$f":"IFERROR((Feuil2!#REF!-#REF!)/#REF!,\"\")","v":""},{"$f":"IFERROR((tabSecond[[#This Row],[Close]]-tabSecond[[#This Row],[Open]])/tabSecond[[#This Row],[Open]],\"\")","v":""}]
[{"$error":"#N/A"},{"$f":"IFERROR((Feuil2!#REF!-#REF!)/#REF!,\"\")","v":""},{"$f":"IFERROR((tabSecond[[#This Row],[Close]]-tabSecond[[#This Row],[Open]])/tabSecond[[#This Row],[Open]],\"\")","v":""}]
[{"$error":"#N/A"},{"$f":"IFERROR((Feuil2!#REF!-#REF!)/#REF!,\"\")","v":""},{"$f":"IFERROR((tabSecond[[#This Row],[Close]]-tabSecond[[#This Row],[Open]])/tabSecond[[#This Row],[Open]],\"\")","v":""}]
[{"$error":"#N/A"},{"$f":"IFERROR((Feuil2!#REF!-#REF!)/#REF!,\"\")","v":""},{"$f":"IFERROR((tabSecond[[#This Row],[Close]]-tabSecond[[#This Row],[Open]])/tabSecond[[#This Row],[Open]],\"\")","v":""}]
[{"$error":"#N/A"},{"$f":"IFERROR((Feuil2!#REF!-#REF!)/#REF!,\"\")","v":""},{"$f":"IFERROR((tabSecond[[#This Row],[Close]]-tabSecond[[#This Row],[Open]])/tabSecond[[#This Row],[Open]],\"\")","v":""}]
[{"$error":"#N/A"},{"$f":"IFERROR((Feuil2!#REF!-#REF!)/#REF!,\"\")","v":""},{"$f":"IFERROR((tabSecond[[#This Row],[Close]]-tabSecond[[#This Row],[Open]])/tabSecond[[#This Row],[Open]],\"\")","v":""}]
[{"$error":"#N/A"},{"$f":"IFERROR((Feuil2!#REF!-#REF!)/#REF!,\"\")","v":""},{"$f":"IFERROR((tabSecond[[#This Row],[Close]]-tabSecond[[#This Row],[Open]])/tabSecond[[#This Row],[Open]],\"\")","v":""}]
[{"$error":"#N/A"},{"$f":"IFERROR((Feuil2!#REF!-#REF!)/#REF!,\"\")","v":""},{"$f":"IFERROR((tabSecond[[#This Row],[Close]]-tabSecond[[#This Row],[Open]])/tabSecond[[#This Row],[Open]],\"\")","v":""}]
[{"$error":"#N/A"},{"$f":"IFERROR((Feuil2!#REF!-#REF!)/#REF!,\"\")","v":""},{"$f":"IFERROR((tabSecond[[#This Row],[Close]]-tabSecond[[#This Row],[Open]])/tabSecond[[#This Row],[Open]],\"\")","v":""}]
[{"$error":"#N/A"},{"$f":"IFERROR((Feuil2!#REF!-#REF!)/#REF!,\"\")","v":""},{"$f":"IFERROR((tabSecond[[#This Row],[Close]]-tabSecond[[#This Row],[Open]])/tabSecond[[#This Row],[Open]],\"\")","v":""}]
[{"$error":"#N/A"},{"$f":"IFERROR((Feuil2!#REF!-#REF!)/#REF!,\"\")","v":""},{"$f":"IFERROR((tabSecond[[#This Row],[Close]]-tabSecond[[#This Row],[Open]])/tabSecond[[#This Row],[Open]],\"\")","v":""}]
[{"$error":"#N/A"},{"$f":"IFERROR((Feuil2!#REF!-#REF!)/#REF!,\"\")","v":""},{"$f":"IFERROR((tabSecond[[#This Row],[Close]]-tabSecond[[#This Row],[Open]])/tabSecond[[#This Row],[Open]],\"\")","v":""}]
[{"$error":"#N/A"},{"$f":"IFERROR((Feuil2!#REF!-#REF!)/#REF!,\"\")","v":""},{"$f":"IFERROR((tabSecond[[#This Row],[Close]]-tabSecond[[#This Row],[Open]])/tabSecond[[#This Row],[Open]],\"\")","v":""}]
[{"$error":"#N/A"},{"$f":"IFERROR((Feuil2!#REF!-#REF!)/#REF!,\"\")","v":""},{"$f":"IFERROR((tabSecond[[#This Row],[Close]]-tabSecond[[#This Row],[Open]])/tabSecond[[#This Row],[Open]],\"\")","v":""}]
[{"$error":"#N/A"},{"$f":"IFERROR((Feuil2!#REF!-#REF!)/#REF!,\"\")","v":""},{"$f":"IFERROR((tabSecond[[#This Row],[Close]]-tabSecond[[#This Row],[Open]])/tabSecond[[#This Row],[Open]],\"\")","v":""}]
[{"$error":"#N/A"},{"$f":"IFERROR((Feuil2!#REF!-#REF!)/#REF!,\"\")","v":""},{"$f":"IFERROR((tabSecond[[#This Row],[Close]]-tabSecond[[#This Row],[Open]])/tabSecond[[#This Row],[Open]],\"\")","v":""}]
[{"$error":"#N/A"},{"$f":"IFERROR((Feuil2!#REF!-#REF!)/#REF!,\"\")","v":""},{"$f":"IFERROR((tabSecond[[#This Row],[Close]]-tabSecond[[#This Row],[Open]])/tabSecond[[#This Row],[Open]],\"\")","v":""}]
[{"$error":"#N/A"},{"$f":"IFERROR((Feuil2!#REF!-#REF!)/#REF!,\"\")","v":""},{"$f":"IFERROR((tabSecond[[#This Row],[Close]]-tabSecond[[#This Row],[Open]])/tabSecond[[#This Row],[Open]],\"\")","v":""}]
[{"$error":"#N/A"},{"$f":"IFERROR((Feuil2!#REF!-#REF!)/#REF!,\"\")","v":""},{"$f":"IFERROR((tabSecond[[#This Row],[Close]]-tabSecond[[#This Row],[Open]])/tabSecond[[#This Row],[Open]],\"\")","v":""}]
[{"$error":"#N/A"},{"$f":"IFERROR((Feuil2!#REF!-#REF!)/#REF!,\"\")","v":""},{"$f":"IFERROR((tabSecond[[#This Row],[Close]]-tabSecond[[#This Row],[Open]])/tabSecond[[#This Row],[Open]],\"\")","v":""}]
[{"$error":"#N/A"},{"$f":"IFERROR((Feuil2!#REF!-#REF!)/#REF!,\"\")","v":""},{"$f":"IFERROR((tabSecond[[#This Row],[Close]]-tabSecond[[#This Row],[Open]])/tabSecond[[#This Row],[Open]],\"\")","v":""}]
[{"$error":"#N/A"},{"$f":"IFERROR((Feuil2!#REF!-#REF!)/#REF!,\"\")","v":""},{"$f":"IFERROR((tabSecond[[#This Row],[Close]]-tabSecond[[#This Row],[Open]])/tabSecond[[#This Row],[Open]],\"\")","v":""}]
[{"$error":"#N/A"},{"$f":"IFERROR((Feuil2!#REF!-#REF!)/#REF!,\"\")","v":""},{"$f":"IFERROR((tabSecond[[#This Row],[Close]]-tabSecond[[#This Row],[Open]])/tabSecond[[#This Row],[Open]],\"\")","v":""}]
[{"$error":"#N/A"},{"$f":"IFERROR((Feuil2!#REF!-#REF!)/#REF!,\"\")","v":""},{"$f":"IFERROR((tabSecond[[#This Row],[Close]]-tabSecond[[#This Row],[Open]])/tabSecond[[#This Row],[Open]],\"\")","v":""}]
[{"$error":"#N/A"},{"$f":"IFERROR((Feuil2!#REF!-#REF!)/#REF!,\"\")","v":""},{"$f":"IFERROR((tabSecond[[#This Row],[Close]]-tabSecond[[#This Row],[Open]])/tabSecond[[#This Row],[Open]],\"\")","v":""}]
[{"$error":"#N/A"},{"$f":"IFERROR((Feuil2!#REF!-#REF!)/#REF!,\"\")","v":""},{"$f":"IFERROR((tabSecond[[#This Row],[Close]]-tabSecond[[#This Row],[Open]])/tabSecond[[#This Row],[Open]],\"\")","v":""}]
[{"$error":"#N/A"},{"$f":"IFERROR((Feuil2!#REF!-#REF!)/#REF!,\"\")","v":""},{"$f":"IFERROR((tabSecond[[#This Row],[Close]]-tabSecond[[#This Row],[Open]])/tabSecond[[#This Row],[Open]],\"\")","v":""}]
[{"$error":"#N/A"},{"$f":"IFERROR((Feuil2!#REF!-#REF!)/#REF!,\"\")","v":""},{"$f":"IFERROR((tabSecond[[#This Row],[Close]]-tabSecond[[#This Row],[Open]])/tabSecond[[#This Row],[Open]],\"\")","v":""}]
[{"$error":"#N/A"},{"$f":"IFERROR((Feuil2!#REF!-#REF!)/#REF!,\"\")","v":""},{"$f":"IFERROR((tabSecond[[#This Row],[Close]]-tabSecond[[#This Row],[Open]])/tabSecond[[#This Row],[Open]],\"\")","v":""}]
[{"$error":"#N/A"},{"$f":"IFERROR((Feuil2!#REF!-#REF!)/#REF!,\"\")","v":""},{"$f":"IFERROR((tabSecond[[#This Row],[Close]]-tabSecond[[#This Row],[Open]])/tabSecond[[#This Row],[Open]],\"\")","v":""}]
[{"$error":"#N/A"},{"$f":"IFERROR((Feuil2!#REF!-#REF!)/#REF!,\"\")","v":""},{"$f":"IFERROR((tabSecond[[#This Row],[Close]]-tabSecond[[#This Row],[Open]])/tabSecond[[#This Row],[Open]],\"\")","v":""}]
[{"$error":"#N/A"},{"$f":"IFERROR((Feuil2!#REF!-#REF!)/#REF!,\"\")","v":""},{"$f":"IFERROR((tabSecond[[#This Row],[Close]]-tabSecond[[#This Row],[Open]])/tabSecond[[#This Row],[Open]],\"\")","v":""}]
[{"$error":"#N/A"},{"$f":"IFERROR((Feuil2!#REF!-#REF!)/#REF!,\"\")","v":""},{"$f":"IFERROR((tabSecond[[#This Row],[Close]]-tabSecond[[#This Row],[Open]])/tabSecond[[#This Row],[Open]],\"\")","v":""}]
[{"$error":"#N/A"},{"$f":"IFERROR((Feuil2!#REF!-#REF!)/#REF!,\"\")","v":""},{"$f":"IFERROR((tabSecond[[#This Row],[Close]]-tabSecond[[#This Row],[Open]])/tabSecond[[#This Row],[Open]],\"\")","v":""}]
[{"$error":"#N/A"},{"$f":"IFERROR((Feuil2!#REF!-#REF!)/#REF!,\"\")","v":""},{"$f":"IFERROR((tabSecond[[#This Row],[Close]]-tabSecond[[#This Row],[Open]])/tabSecond[[#This Row],[Open]],\"\")","v":""}]
[{"$error":"#N/A"},{"$f":"IFERROR((Feuil2!#REF!-#REF!)/#REF!,\"\")","v":""},{"$f":"IFERROR((tabSecond[[#This Row],[Close]]-tabSecond[[#This Row],[Open]])/tabSecond[[#This Row],[Open]],\"\")","v":""}]
[{"$error":"#N/A"},{"$f":"IFERROR((Feuil2!#REF!-#REF!)/#REF!,\"\")","v":""},{"$f":"IFERROR((tabSecond[[#This Row],[Close]]-tabSecond[[#This Row],[Open]])/tabSecond[[#This Row],[Open]],\"\")","v":""}]
[{"$error":"#N/A"},{"$f":"IFERROR((Feuil2!#REF!-#REF!)/#REF!,\"\")","v":""},{"$f":"IFERROR((tabSecond[[#This Row],[Close]]-tabSecond[[#This Row],[Open]])/tabSecond[[#This Row],[Open]],\"\")","v":""}]
[{"$error":"#N/A"},{"$f":"IFERROR((Feuil2!#REF!-#REF!)/#REF!,\"\")","v":""},{"$f":"IFERROR((tabSecond[[#This Row],[Close]]-tabSecond[[#This Row],[Open]])/tabSecond[[#This Row],[Open]],\"\")","v":""}]
[{"$error":"#N/A"},{"$f":"IFERROR((Feuil2!#REF!-#REF!)/#REF!,\"\")","v":""},{"$f":"IFERROR((tabSecond[[#This Row],[Close]]-tabSecond[[#This Row],[Open]])/tabSecond[[#This Row],[Open]],\"\")","v":""}]
[{"$error":"#N/A"},{"$f":"IFERROR((Feuil2!#REF!-#REF!)/#REF!,\"\")","v":""},{"$f":"IFERROR((tabSecond[[#This Row],[Close]]-tabSecond[[#This Row],[Open]])/tabSecond[[#This Row],[Open]],\"\")","v":""}]
[{"$error":"#N/A"},{"$f":"IFERROR((Feuil2!#REF!-#REF!)/#REF!,\"\")","v":""},{"$f":"IFERROR((tabSecond[[#This Row],[Close]]-tabSecond[[#This Row],[Open]])/tabSecond[[#This Row],[Open]],\"\")","v":""}]
[{"$error":"#N/A"},{"$f":"IFERROR((Feuil2!#REF!-#REF!)/#REF!,\"\")","v":""},{"$f":"IFERROR((tabSecond[[#This Row],[Close]]-tabSecond[[#This Row],[Open]])/tabSecond[[#This Row],[Open]],\"\")","v":""}]
[{"$error":"#N/A"},{"$f":"IFERROR((Feuil2!#REF!-#REF!)/#REF!,\"\")","v":""},{"$f":"IFERROR((tabSecond[[#This Row],[Close]]-tabSecond[[#This Row],[Open]])/tabSecond[[#This Row],[Open]],\"\")","v":""}]
[{"$error":"#N/A"},{"$f":"IFERROR((Feuil2!#REF!-#REF!)/#REF!,\"\")","v":""},{"$f":"IFERROR((tabSecond[[#This Row],[Close]]-tabSecond[[#This Row],[Open]])/tabSecond[[#This Row],[Open]],\"\")","v":""}]
[{"$error":"#N/A"},{"$f":"IFERROR((Feuil2!#REF!-#REF!)/#REF!,\"\")","v":""},{"$f":"IFERROR((tabSecond[[#This Row],[Close]]-tabSecond[[#This Row],[Open]])/tabSecond[[#This Row],[Open]],\"\")","v":""}]
[{"$error":"#N/A"},{"$f":"IFERROR((Feuil2!#REF!-#REF!)/#REF!,\"\")","v":""},{"$f":"IFERROR((tabSecond[[#This Row],[Close]]-tabSecond[[#This Row],[Open]])/tabSecond[[#This Row],[Open]],\"\")","v":""}]
[{"$error":"#N/A"},{"$f":"IFERROR((Feuil2!#REF!-#REF!)/#REF!,\"\")","v":""},{"$f":"IFERROR((tabSecond[[#This Row],[Close]]-tabSecond[[#This Row],[Open]])/tabSecond[[#This Row],[Open]],\"\")","v":""}]
[{"$error":"#N/A"},{"$f":"IFERROR((Feuil2!#REF!-#REF!)/#REF!,\"\")","v":""},{"$f":"IFERROR((tabSecond[[#This Row],[Close]]-tabSecond[[#This Row],[Open]])/tabSecond[[#This Row],[Open]],\"\")","v":""}]
[{"$error":"#N/A"},{"$f":"IFERROR((Feuil2!#REF!-#REF!)/#REF!,\"\")","v":""},{"$f":"IFERROR((tabSecond[[#This Row],[Close]]-tabSecond[[#This Row],[Open]])/tabSecond[[#This Row],[Open]],\"\")","v":""}]
[{"$error":"#N/A"},{"$f":"IFERROR((Feuil2!#REF!-#REF!)/#REF!,\"\")","v":""},{"$f":"IFERROR((tabSecond[[#This Row],[Close]]-tabSecond[[#This Row],[Open]])/tabSecond[[#This Row],[Open]],\"\")","v":""}]
[{"$error":"#N/A"},{"$f":"IFERROR((Feuil2!#REF!-#REF!)/#REF!,\"\")","v":""},{"$f":"IFERROR((tabSecond[[#This Row],[Close]]-tabSecond[[#This Row],[Open]])/tabSecond[[#This Row],[Open]],\"\")","v":""}]
[{"$error":"#N/A"},{"$f":"IFERROR((Feuil2!#REF!-#REF!)/#REF!,\"\")","v":""},{"$f":"IFERROR((tabSecond[[#This Row],[Close]]-tabSecond[[#This Row],[Open]])/tabSecond[[#This Row],[Open]],\"\")","v":""}]
[{"$error":"#N/A"},{"$f":"IFERROR((Feuil2!#REF!-#REF!)/#REF!,\"\")","v":""},{"$f":"IFERROR((tabSecond[[#This Row],[Close]]-tabSecond[[#This Row],[Open]])/tabSecond[[#This Row],[Open]],\"\")","v":""}]
[{"$error":"#N/A"},{"$f":"IFERROR((Feuil2!#REF!-#REF!)/#REF!,\"\")","v":""},{"$f":"IFERROR((tabSecond[[#This Row],[Close]]-tabSecond[[#This Row],[Open]])/tabSecond[[#This Row],[Open]],\"\")","v":""}]
[{"$error":"#N/A"},{"$f":"IFERROR((Feuil2!#REF!-#REF!)/#REF!,\"\")","v":""},{"$f":"IFERROR((tabSecond[[#This Row],[Close]]-tabSecond[[#This Row],[Open]])/tabSecond[[#This Row],[Open]],\"\")","v":""}]
[{"$error":"#N/A"},{"$f":"IFERROR((Feuil2!#REF!-#REF!)/#REF!,\"\")","v":""},{"$f":"IFERROR((tabSecond[[#This Row],[Close]]-tabSecond[[#This Row],[Open]])/tabSecond[[#This Row],[Open]],\"\")","v":""}]
[{"$error":"#N/A"},{"$f":"IFERROR((Feuil2!#REF!-#REF!)/#REF!,\"\")","v":""},{"$f":"IFERROR((tabSecond[[#This Row],[Close]]-tabSecond[[#This Row],[Open]])/tabSecond[[#This Row],[Open]],\"\")","v":""}]
[{"$error":"#N/A"},{"$f":"IFERROR((Feuil2!#REF!-#REF!)/#REF!,\"\")","v":""},{"$f":"IFERROR((tabSecond[[#This Row],[Close]]-tabSecond[[#This Row],[Open]])/tabSecond[[#This Row],[Open]],\"\")","v":""}]
[{"$error":"#N/A"},{"$f":"IFERROR((Feuil2!#REF!-#REF!)/#REF!,\"\")","v":""},{"$f":"IFERROR((tabSecond[[#This Row],[Close]]-tabSecond[[#This Row],[Open]])/tabSecond[[#This Row],[Open]],\"\")","v":""}]
[{"$error":"#N/A"},{"$f":"IFERROR((Feuil2!#REF!-#REF!)/#REF!,\"\")","v":""},{"$f":"IFERROR((tabSecond[[#This Row],[Close]]-tabSecond[[#This Row],[Open]])/tabSecond[[#This Row],[Open]],\"\")","v":""}]
[{"$error":"#N/A"},{"$f":"IFERROR((Feuil2!#REF!-#REF!)/#REF!,\"\")","v":""},{"$f":"IFERROR((tabSecond[[#This Row],[Close]]-tabSecond[[#This Row],[Open]])/tabSecond[[#This Row],[Open]],\"\")","v":""}]
[{"$error":"#N/A"},{"$f":"IFERROR((Feuil2!#REF!-#REF!)/#REF!,\"\")","v":""},{"$f":"IFERROR((tabSecond[[#This Row],[Close]]-tabSecond[[#This Row],[Open]])/tabSecond[[#This Row],[Open]],\"\")","v":""}]
[{"$error":"#N/A"},{"$f":"IFERROR((Feuil2!#REF!-#REF!)/#REF!,\"\")","v":""},{"$f":"IFERROR((tabSecond[[#This Row],[Close]]-tabSecond[[#This Row],[Open]])/tabSecond[[#This Row],[Open]],\"\")","v":""}]
[{"$error":"#N/A"},{"$f":"IFERROR((Feuil2!#REF!-#REF!)/#REF!,\"\")","v":""},{"$f":"IFERROR((tabSecond[[#This Row],[Close]]-tabSecond[[#This Row],[Open]])/tabSecond[[#This Row],[Open]],\"\")","v":""}]
[{"$error":"#N/A"},{"$f":"IFERROR((Feuil2!#REF!-#REF!)/#REF!,\"\")","v":""},{"$f":"IFERROR((tabSecond[[#This Row],[Close]]-tabSecond[[#This Row],[Open]])/tabSecond[[#This Row],[Open]],\"\")","v":""}]
[{"$error":"#N/A"},{"$f":"IFERROR((Feuil2!#REF!-#REF!)/#REF!,\"\")","v":""},{"$f":"IFERROR((tabSecond[[#This Row],[Close]]-tabSecond[[#This Row],[Open]])/tabSecond[[#This Row],[Open]],\"\")","v":""}]
[{"$error":"#N/A"},{"$f":"IFERROR((Feuil2!#REF!-#REF!)/#REF!,\"\")","v":""},{"$f":"IFERROR((tabSecond[[#This Row],[Close]]-tabSecond[[#This Row],[Open]])/tabSecond[[#This Row],[Open]],\"\")","v":""}]
[{"$error":"#N/A"},{"$f":"IFERROR((Feuil2!#REF!-#REF!)/#REF!,\"\")","v":""},{"$f":"IFERROR((tabSecond[[#This Row],[Close]]-tabSecond[[#This Row],[Open]])/tabSecond[[#This Row],[Open]],\"\")","v":""}]
[{"$error":"#N/A"},{"$f":"IFERROR((Feuil2!#REF!-#REF!)/#REF!,\"\")","v":""},{"$f":"IFERROR((tabSecond[[#This Row],[Close]]-tabSecond[[#This Row],[Open]])/tabSecond[[#This Row],[Open]],\"\")","v":""}]
[{"$error":"#N/A"},{"$f":"IFERROR((Feuil2!#REF!-#REF!)/#REF!,\"\")","v":""},{"$f":"IFERROR((tabSecond[[#This Row],[Close]]-tabSecond[[#This Row],[Open]])/tabSecond[[#This Row],[Open]],\"\")","v":""}]
[{"$error":"#N/A"},{"$f":"IFERROR((Feuil2!#REF!-#REF!)/#REF!,\"\")","v":""},{"$f":"IFERROR((tabSecond[[#This Row],[Close]]-tabSecond[[#This Row],[Open]])/tabSecond[[#This Row],[Open]],\"\")","v":""}]
[{"$error":"#N/A"},{"$f":"IFERROR((Feuil2!#REF!-#REF!)/#REF!,\"\")","v":""},{"$f":"IFERROR((tabSecond[[#This Row],[Close]]-tabSecond[[#This Row],[Open]])/tabSecond[[#This Row],[Open]],\"\")","v":""}]
[{"$error":"#N/A"},{"$f":"IFERROR((Feuil2!#REF!-#REF!)/#REF!,\"\")","v":""},{"$f":"IFERROR((tabSecond[[#This Row],[Close]]-tabSecond[[#This Row],[Open]])/tabSecond[[#This Row],[Open]],\"\")","v":""}]
[{"$error":"#N/A"},{"$f":"IFERROR((Feuil2!#REF!-#REF!)/#REF!,\"\")","v":""},{"$f":"IFERROR((tabSecond[[#This Row],[Close]]-tabSecond[[#This Row],[Open]])/tabSecond[[#This Row],[Open]],\"\")","v":""}]
[{"$error":"#N/A"},{"$f":"IFERROR((Feuil2!#REF!-#REF!)/#REF!,\"\")","v":""},{"$f":"IFERROR((tabSecond[[#This Row],[Close]]-tabSecond[[#This Row],[Open]])/tabSecond[[#This Row],[Open]],\"\")","v":""}]
[{"$error":"#N/A"},{"$f":"IFERROR((Feuil2!#REF!-#REF!)/#REF!,\"\")","v":""},{"$f":"IFERROR((tabSecond[[#This Row],[Close]]-tabSecond[[#This Row],[Open]])/tabSecond[[#This Row],[Open]],\"\")","v":""}]
[{"$error":"#N/A"},{"$f":"IFERROR((Feuil2!#REF!-#REF!)/#REF!,\"\")","v":""},{"$f":"IFERROR((tabSecond[[#This Row],[Close]]-tabSecond[[#This Row],[Open]])/tabSecond[[#This Row],[Open]],\"\")","v":""}]
[{"$error":"#N/A"},{"$f":"IFERROR((Feuil2!#REF!-#REF!)/#REF!,\"\")","v":""},{"$f":"IFERROR((tabSecond[[#This Row],[Close]]-tabSecond[[#This Row],[Open]])/tabSecond[[#This Row],[Open]],\"\")","v":""}]
[{"$error":"#N/A"},{"$f":"IFERROR((Feuil2!#REF!-#REF!)/#REF!,\"\")","v":""},{"$f":"IFERROR((tabSecond[[#This Row],[Close]]-tabSecond[[#This Row],[Open]])/tabSecond[[#This Row],[Open]],\"\")","v":""}]
[{"$error":"#N/A"},{"$f":"IFERROR((Feuil2!#REF!-#REF!)/#REF!,\"\")","v":""},{"$f":"IFERROR((tabSecond[[#This Row],[Close]]-tabSecond[[#This Row],[Open]])/tabSecond[[#This Row],[Open]],\"\")","v":""}]
[{"$error":"#N/A"},{"$f":"IFERROR((Feuil2!#REF!-#REF!)/#REF!,\"\")","v":""},{"$f":"IFERROR((tabSecond[[#This Row],[Close]]-tabSecond[[#This Row],[Open]])/tabSecond[[#This Row],[Open]],\"\")","v":""}]
[{"$error":"#N/A"},{"$f":"IFERROR((Feuil2!#REF!-#REF!)/#REF!,\"\")","v":""},{"$f":"IFERROR((tabSecond[[#This Row],[Close]]-tabSecond[[#This Row],[Open]])/tabSecond[[#This Row],[Open]],\"\")","v":""}]
[{"$error":"#N/A"},{"$f":"IFERROR((Feuil2!#REF!-#REF!)/#REF!,\"\")","v":""},{"$f":"IFERROR((tabSecond[[#This Row],[Close]]-tabSecond[[#This Row],[Open]])/tabSecond[[#This Row],[Open]],\"\")","v":""}]
[{"$error":"#N/A"},{"$f":"IFERROR((Feuil2!#REF!-#REF!)/#REF!,\"\")","v":""},{"$f":"IFERROR((tabSecond[[#This Row],[Close]]-tabSecond[[#This Row],[Open]])/tabSecond[[#This Row],[Open]],\"\")","v":""}]
[{"$error":"#N/A"},{"$f":"IFERROR((Feuil2!#REF!-#REF!)/#REF!,\"\")","v":""},{"$f":"IFERROR((tabSecond[[#This Row],[Close]]-tabSecond[[#This Row],[Open]])/tabSecond[[#This Row],[Open]],\"\")","v":""}]
[{"$error":"#N/A"},{"$f":"IFERROR((Feuil2!#REF!-#REF!)/#REF!,\"\")","v":""},{"$f":"IFERROR((tabSecond[[#This Row],[Close]]-tabSecond[[#This Row],[Open]])/tabSecond[[#This Row],[Open]],\"\")","v":""}]
[{"$error":"#N/A"},{"$f":"IFERROR((Feuil2!#REF!-#REF!)/#REF!,\"\")","v":""},{"$f":"IFERROR((tabSecond[[#This Row],[Close]]-tabSecond[[#This Row],[Open]])/tabSecond[[#This Row],[Open]],\"\")","v":""}]
[{"$error":"#N/A"},{"$f":"IFERROR((Feuil2!#REF!-#REF!)/#REF!,\"\")","v":""},{"$f":"IFERROR((tabSecond[[#This Row],[Close]]-tabSecond[[#This Row],[Open]])/tabSecond[[#This Row],[Open]],\"\")","v":""}]
[{"$error":"#N/A"},{"$f":"IFERROR((Feuil2!#REF!-#REF!)/#REF!,\"\")","v":""},{"$f":"IFERROR((tabSecond[[#This Row],[Close]]-tabSecond[[#This Row],[Open]])/tabSecond[[#This Row],[Open]],\"\")","v":""}]
[{"$error":"#N/A"},{"$f":"IFERROR((Feuil2!#REF!-#REF!)/#REF!,\"\")","v":""},{"$f":"IFERROR((tabSecond[[#This Row],[Close]]-tabSecond[[#This Row],[Open]])/tabSecond[[#This Row],[Open]],\"\")","v":""}]
[{"$error":"#N/A"},{"$f":"IFERROR((Feuil2!#REF!-#REF!)/#REF!,\"\")","v":""},{"$f":"IFERROR((tabSecond[[#This Row],[Close]]-tabSecond[[#This Row],[Open]])/tabSecond[[#This Row],[Open]],\"\")","v":""}]
[{"$error":"#N/A"},{"$f":"IFERROR((Feuil2!#REF!-#REF!)/#REF!,\"\")","v":""},{"$f":"IFERROR((tabSecond[[#This Row],[Close]]-tabSecond[[#This Row],[Open]])/tabSecond[[#This Row],[Open]],\"\")","v":""}]
[{"$error":"#N/A"},{"$f":"IFERROR((Feuil2!#REF!-#REF!)/#REF!,\"\")","v":""},{"$f":"IFERROR((tabSecond[[#This Row],[Close]]-tabSecond[[#This Row],[Open]])/tabSecond[[#This Row],[Open]],\"\")","v":""}]
[{"$error":"#N/A"},{"$f":"IFERROR((Feuil2!#REF!-#REF!)/#REF!,\"\")","v":""},{"$f":"IFERROR((tabSecond[[#This Row],[Close]]-tabSecond[[#This Row],[Open]])/tabSecond[[#This Row],[Open]],\"\")","v":""}]
[{"$error":"#N/A"},{"$f":"IFERROR((Feuil2!#REF!-#REF!)/#REF!,\"\")","v":""},{"$f":"IFERROR((tabSecond[[#This Row],[Close]]-tabSecond[[#This Row],[Open]])/tabSecond[[#This Row],[Open]],\"\")","v":""}]
[{"$error":"#N/A"},{"$f":"IFERROR((Feuil2!#REF!-#REF!)/#REF!,\"\")","v":""},{"$f":"IFERROR((tabSecond[[#This Row],[Close]]-tabSecond[[#This Row],[Open]])/tabSecond[[#This Row],[Open]],\"\")","v":""}]
[{"$error":"#N/A"},{"$f":"IFERROR((Feuil2!#REF!-#REF!)/#REF!,\"\")","v":""},{"$f":"IFERROR((tabSecond[[#This Row],[Close]]-tabSecond[[#This Row],[Open]])/tabSecond[[#This Row],[Open]],\"\")","v":""}]
[{"$error":"#N/A"},{"$f":"IFERROR((Feuil2!#REF!-#REF!)/#REF!,\"\")","v":""},{"$f":"IFERROR((tabSecond[[#This Row],[Close]]-tabSecond[[#This Row],[Open]])/tabSecond[[#This Row],[Open]],\"\")","v":""}]
[{"$error":"#N/A"},{"$f":"IFERROR((Feuil2!#REF!-#REF!)/#REF!,\"\")","v":""},{"$f":"IFERROR((tabSecond[[#This Row],[Close]]-tabSecond[[#This Row],[Open]])/tabSecond[[#This Row],[Open]],\"\")","v":""}]
[{"$error":"#N/A"},{"$f":"IFERROR((Feuil2!#REF!-#REF!)/#REF!,\"\")","v":""},{"$f":"IFERROR((tabSecond[[#This Row],[Close]]-tabSecond[[#This Row],[Open]])/tabSecond[[#This Row],[Open]],\"\")","v":""}]
[{"$error":"#N/A"},{"$f":"IFERROR((Feuil2!#REF!-#REF!)/#REF!,\"\")","v":""},{"$f":"IFERROR((tabSecond[[#This Row],[Close]]-tabSecond[[#This Row],[Open]])/tabSecond[[#This Row],[Open]],\"\")","v":""}]
[{"$error":"#N/A"},{"$f":"IFERROR((Feuil2!#REF!-#REF!)/#REF!,\"\")","v":""},{"$f":"IFERROR((tabSecond[[#This Row],[Close]]-tabSecond[[#This Row],[Open]])/tabSecond[[#This Row],[Open]],\"\")","v":""}]
[{"$error":"#N/A"},{"$f":"IFERROR((Feuil2!#REF!-#REF!)/#REF!,\"\")","v":""},{"$f":"IFERROR((tabSecond[[#This Row],[Close]]-tabSecond[[#This Row],[Open]])/tabSecond[[#This Row],[Open]],\"\")","v":""}]
[{"$error":"#N/A"},{"$f":"IFERROR((Feuil2!#REF!-#REF!)/#REF!,\"\")","v":""},{"$f":"IFERROR((tabSecond[[#This Row],[Close]]-tabSecond[[#This Row],[Open]])/tabSecond[[#This Row],[Open]],\"\")","v":""}]
[{"$error":"#N/A"},{"$f":"IFERROR((Feuil2!#REF!-#REF!)/#REF!,\"\")","v":""},{"$f":"IFERROR((tabSecond[[#This Row],[Close]]-tabSecond[[#This Row],[Open]])/tabSecond[[#This Row],[Open]],\"\")","v":""}]
[{"$error":"#N/A"},{"$f":"IFERROR((Feuil2!#REF!-#REF!)/#REF!,\"\")","v":""},{"$f":"IFERROR((tabSecond[[#This Row],[Close]]-tabSecond[[#This Row],[Open]])/tabSecond[[#This Row],[Open]],\"\")","v":""}]
[{"$error":"#N/A"},{"$f":"IFERROR((Feuil2!#REF!-#REF!)/#REF!,\"\")","v":""},{"$f":"IFERROR((tabSecond[[#This Row],[Close]]-tabSecond[[#This Row],[Open]])/tabSecond[[#This Row],[Open]],\"\")","v":""}]
[{"$error":"#N/A"},{"$f":"IFERROR((Feuil2!#REF!-#REF!)/#REF!,\"\")","v":""},{"$f":"IFERROR((tabSecond[[#This Row],[Close]]-tabSecond[[#This Row],[Open]])/tabSecond[[#This Row],[Open]],\"\")","v":""}]
[{"$error":"#N/A"},{"$f":"IFERROR((Feuil2!#REF!-#REF!)/#REF!,\"\")","v":""},{"$f":"IFERROR((tabSecond[[#This Row],[Close]]-tabSecond[[#This Row],[Open]])/tabSecond[[#This Row],[Open]],\"\")","v":""}]
[{"$error":"#N/A"},{"$f":"IFERROR((Feuil2!#REF!-#REF!)/#REF!,\"\")","v":""},{"$f":"IFERROR((tabSecond[[#This Row],[Close]]-tabSecond[[#This Row],[Open]])/tabSecond[[#This Row],[Open]],\"\")","v":""}]
[{"$error":"#N/A"},{"$f":"IFERROR((Feuil2!#REF!-#REF!)/#REF!,\"\")","v":""},{"$f":"IFERROR((tabSecond[[#This Row],[Close]]-tabSecond[[#This Row],[Open]])/tabSecond[[#This Row],[Open]],\"\")","v":""}]
[{"$error":"#N/A"},{"$f":"IFERROR((Feuil2!#REF!-#REF!)/#REF!,\"\")","v":""},{"$f":"IFERROR((tabSecond[[#This Row],[Close]]-tabSecond[[#This Row],[Open]])/tabSecond[[#This Row],[Open]],\"\")","v":""}]
[{"$error":"#N/A"},{"$f":"IFERROR((Feuil2!#REF!-#REF!)/#REF!,\"\")","v":""},{"$f":"IFERROR((tabSecond[[#This Row],[Close]]-tabSecond[[#This Row],[Open]])/tabSecond[[#This Row],[Open]],\"\")","v":""}]
[{"$error":"#N/A"},{"$f":"IFERROR((Feuil2!#REF!-#REF!)/#REF!,\"\")","v":""},{"$f":"IFERROR((tabSecond[[#This Row],[Close]]-tabSecond[[#This Row],[Open]])/tabSecond[[#This Row],[Open]],\"\")","v":""}]
[{"$error":"#N/A"},{"$f":"IFERROR((Feuil2!#REF!-#REF!)/#REF!,\"\")","v":""},{"$f":"IFERROR((tabSecond[[#This Row],[Close]]-tabSecond[[#This Row],[Open]])/tabSecond[[#This Row],[Open]],\"\")","v":""}]
[{"$error":"#N/A"},{"$f":"IFERROR((Feuil2!#REF!-#REF!)/#REF!,\"\")","v":""},{"$f":"IFERROR((tabSecond[[#This Row],[Close]]-tabSecond[[#This Row],[Open]])/tabSecond[[#This Row],[Open]],\"\")","v":""}]
[{"$error":"#N/A"},{"$f":"IFERROR((Feuil2!#REF!-#REF!)/#REF!,\"\")","v":""},{"$f":"IFERROR((tabSecond[[#This Row],[Close]]-tabSecond[[#This Row],[Open]])/tabSecond[[#This Row],[Open]],\"\")","v":""}]
[{"$error":"#N/A"},{"$f":"IFERROR((Feuil2!#REF!-#REF!)/#REF!,\"\")","v":""},{"$f":"IFERROR((tabSecond[[#This Row],[Close]]-tabSecond[[#This Row],[Open]])/tabSecond[[#This Row],[Open]],\"\")","v":""}]
[{"$error":"#N/A"},{"$f":"IFERROR((Feuil2!#REF!-#REF!)/#REF!,\"\")","v":""},{"$f":"IFERROR((tabSecond[[#This Row],[Close]]-tabSecond[[#This Row],[Open]])/tabSecond[[#This Row],[Open]],\"\")","v":""}]
[{"$error":"#N/A"},{"$f":"IFERROR((Feuil2!#REF!-#REF!)/#REF!,\"\")","v":""},{"$f":"IFERROR((tabSecond[[#This Row],[Close]]-tabSecond[[#This Row],[Open]])/tabSecond[[#This Row],[Open]],\"\")","v":""}]
[{"$error":"#N/A"},{"$f":"IFERROR((Feuil2!#REF!-#REF!)/#REF!,\"\")","v":""},{"$f":"IFERROR((tabSecond[[#This Row],[Close]]-tabSecond[[#This Row],[Open]])/tabSecond[[#This Row],[Open]],\"\")","v":""}]
[{"$error":"#N/A"},{"$f":"IFERROR((Feuil2!#REF!-#REF!)/#REF!,\"\")","v":""},{"$f":"IFERROR((tabSecond[[#This Row],[Close]]-tabSecond[[#This Row],[Open]])/tabSecond[[#This Row],[Open]],\"\")","v":""}]
[{"$error":"#N/A"},{"$f":"IFERROR((Feuil2!#REF!-#REF!)/#REF!,\"\")","v":""},{"$f":"IFERROR((tabSecond[[#This Row],[Close]]-tabSecond[[#This Row],[Open]])/tabSecond[[#This Row],[Open]],\"\")","v":""}]
[{"$error":"#N/A"},{"$f":"IFERROR((Feuil2!#REF!-#REF!)/#REF!,\"\")","v":""},{"$f":"IFERROR((tabSecond[[#This Row],[Close]]-tabSecond[[#This Row],[Open]])/tabSecond[[#This Row],[Open]],\"\")","v":""}]
[{"$error":"#N/A"},{"$f":"IFERROR((Feuil2!#REF!-#REF!)/#REF!,\"\")","v":""},{"$f":"IFERROR((tabSecond[[#This Row],[Close]]-tabSecond[[#This Row],[Open]])/tabSecond[[#This Row],[Open]],\"\")","v":""}]
[{"$error":"#N/A"},{"$f":"IFERROR((Feuil2!#REF!-#REF!)/#REF!,\"\")","v":""},{"$f":"IFERROR((tabSecond[[#This Row],[Close]]-tabSecond[[#This Row],[Open]])/tabSecond[[#This Row],[Open]],\"\")","v":""}]
[{"$error":"#N/A"},{"$f":"IFERROR((Feuil2!#REF!-#REF!)/#REF!,\"\")","v":""},{"$f":"IFERROR((tabSecond[[#This Row],[Close]]-tabSecond[[#This Row],[Open]])/tabSecond[[#This Row],[Open]],\"\")","v":""}]
[{"$error":"#N/A"},{"$f":"IFERROR((Feuil2!#REF!-#REF!)/#REF!,\"\")","v":""},{"$f":"IFERROR((tabSecond[[#This Row],[Close]]-tabSecond[[#This Row],[Open]])/tabSecond[[#This Row],[Open]],\"\")","v":""}]
[{"$error":"#N/A"},{"$f":"IFERROR((Feuil2!#REF!-#REF!)/#REF!,\"\")","v":""},{"$f":"IFERROR((tabSecond[[#This Row],[Close]]-tabSecond[[#This Row],[Open]])/tabSecond[[#This Row],[Open]],\"\")","v":""}]
[{"$error":"#N/A"},{"$f":"IFERROR((Feuil2!#REF!-#REF!)/#REF!,\"\")","v":""},{"$f":"IFERROR((tabSecond[[#This Row],[Close]]-tabSecond[[#This Row],[Open]])/tabSecond[[#This Row],[Open]],\"\")","v":""}]
[{"$error":"#N/A"},{"$f":"IFERROR((Feuil2!#REF!-#REF!)/#REF!,\"\")","v":""},{"$f":"IFERROR((tabSecond[[#This Row],[Close]]-tabSecond[[#This Row],[Open]])/tabSecond[[#This Row],[Open]],\"\")","v":""}]
[{"$error":"#N/A"},{"$f":"IFERROR((Feuil2!#REF!-#REF!)/#REF!,\"\")","v":""},{"$f":"IFERROR((tabSecond[[#This Row],[Close]]-tabSecond[[#This Row],[Open]])/tabSecond[[#This Row],[Open]],\"\")","v":""}]
[{"$error":"#N/A"},{"$f":"IFERROR((Feuil2!#REF!-#REF!)/#REF!,\"\")","v":""},{"$f":"IFERROR((tabSecond[[#This Row],[Close]]-tabSecond[[#This Row],[Open]])/tabSecond[[#This Row],[Open]],\"\")","v":""}]
[{"$error":"#N/A"},{"$f":"IFERROR((Feuil2!#REF!-#REF!)/#REF!,\"\")","v":""},{"$f":"IFERROR((tabSecond[[#This Row],[Close]]-tabSecond[[#This Row],[Open]])/tabSecond[[#This Row],[Open]],\"\")","v":""}]
[{"$error":"#N/A"},{"$f":"IFERROR((Feuil2!#REF!-#REF!)/#REF!,\"\")","v":""},{"$f":"IFERROR((tabSecond[[#This Row],[Close]]-tabSecond[[#This Row],[Open]])/tabSecond[[#This Row],[Open]],\"\")","v":""}]
[{"$error":"#N/A"},{"$f":"IFERROR((Feuil2!#REF!-#REF!)/#REF!,\"\")","v":""},{"$f":"IFERROR((tabSecond[[#This Row],[Close]]-tabSecond[[#This Row],[Open]])/tabSecond[[#This Row],[Open]],\"\")","v":""}]
[{"$error":"#N/A"},{"$f":"IFERROR((Feuil2!#REF!-#REF!)/#REF!,\"\")","v":""},{"$f":"IFERROR((tabSecond[[#This Row],[Close]]-tabSecond[[#This Row],[Open]])/tabSecond[[#This Row],[Open]],\"\")","v":""}]
[{"$error":"#N/A"},{"$f":"IFERROR((Feuil2!#REF!-#REF!)/#REF!,\"\")","v":""},{"$f":"IFERROR((tabSecond[[#This Row],[Close]]-tabSecond[[#This Row],[Open]])/tabSecond[[#This Row],[Open]],\"\")","v":""}]
[{"$error":"#N/A"},{"$f":"IFERROR((Feuil2!#REF!-#REF!)/#REF!,\"\")","v":""},{"$f":"IFERROR((tabSecond[[#This Row],[Close]]-tabSecond[[#This Row],[Open]])/tabSecond[[#This Row],[Open]],\"\")","v":""}]
[{"$error":"#N/A"},{"$f":"IFERROR((Feuil2!#REF!-#REF!)/#REF!,\"\")","v":""},{"$f":"IFERROR((tabSecond[[#This Row],[Close]]-tabSecond[[#This Row],[Open]])/tabSecond[[#This Row],[Open]],\"\")","v":""}]
[{"$error":"#N/A"},{"$f":"IFERROR((Feuil2!#REF!-#REF!)/#REF!,\"\")","v":""},{"$f":"IFERROR((tabSecond[[#This Row],[Close]]-tabSecond[[#This Row],[Open]])/tabSecond[[#This Row],[Open]],\"\")","v":""}]
[{"$error":"#N/A"},{"$f":"IFERROR((Feuil2!#REF!-#REF!)/#REF!,\"\")","v":""},{"$f":"IFERROR((tabSecond[[#This Row],[Close]]-tabSecond[[#This Row],[Open]])/tabSecond[[#This Row],[Open]],\"\")","v":""}]
[{"$error":"#N/A"},{"$f":"IFERROR((Feuil2!#REF!-#REF!)/#REF!,\"\")","v":""},{"$f":"IFERROR((tabSecond[[#This Row],[Close]]-tabSecond[[#This Row],[Open]])/tabSecond[[#This Row],[Open]],\"\")","v":""}]
[{"$error":"#N/A"},{"$f":"IFERROR((Feuil2!#REF!-#REF!)/#REF!,\"\")","v":""},{"$f":"IFERROR((tabSecond[[#This Row],[Close]]-tabSecond[[#This Row],[Open]])/tabSecond[[#This Row],[Open]],\"\")","v":""}]
[{"$error":"#N/A"},{"$f":"IFERROR((Feuil2!#REF!-#REF!)/#REF!,\"\")","v":""},{"$f":"IFERROR((tabSecond[[#This Row],[Close]]-tabSecond[[#This Row],[Open]])/tabSecond[[#This Row],[Open]],\"\")","v":""}]
[{"$error":"#N/A"},{"$f":"IFERROR((Feuil2!#REF!-#REF!)/#REF!,\"\")","v":""},{"$f":"IFERROR((tabSecond[[#This Row],[Close]]-tabSecond[[#This Row],[Open]])/tabSecond[[#This Row],[Open]],\"\")","v":""}]
[{"$error":"#N/A"},{"$f":"IFERROR((Feuil2!#REF!-#REF!)/#REF!,\"\")","v":""},{"$f":"IFERROR((tabSecond[[#This Row],[Close]]-tabSecond[[#This Row],[Open]])/tabSecond[[#This Row],[Open]],\"\")","v":""}]
[{"$error":"#N/A"},{"$f":"IFERROR((Feuil2!#REF!-#REF!)/#REF!,\"\")","v":""},{"$f":"IFERROR((tabSecond[[#This Row],[Close]]-tabSecond[[#This Row],[Open]])/tabSecond[[#This Row],[Open]],\"\")","v":""}]
[{"$error":"#N/A"},{"$f":"IFERROR((Feuil2!#REF!-#REF!)/#REF!,\"\")","v":""},{"$f":"IFERROR((tabSecond[[#This Row],[Close]]-tabSecond[[#This Row],[Open]])/tabSecond[[#This Row],[Open]],\"\")","v":""}]
[{"$error":"#N/A"},{"$f":"IFERROR((Feuil2!#REF!-#REF!)/#REF!,\"\")","v":""},{"$f":"IFERROR((tabSecond[[#This Row],[Close]]-tabSecond[[#This Row],[Open]])/tabSecond[[#This Row],[Open]],\"\")","v":""}]
[{"$error":"#N/A"},{"$f":"IFERROR((Feuil2!#REF!-#REF!)/#REF!,\"\")","v":""},{"$f":"IFERROR((tabSecond[[#This Row],[Close]]-tabSecond[[#This Row],[Open]])/tabSecond[[#This Row],[Open]],\"\")","v":""}]
[{"$error":"#N/A"},{"$f":"IFERROR((Feuil2!#REF!-#REF!)/#REF!,\"\")","v":""},{"$f":"IFERROR((tabSecond[[#This Row],[Close]]-tabSecond[[#This Row],[Open]])/tabSecond[[#This Row],[Open]],\"\")","v":""}]
[{"$error":"#N/A"},{"$f":"IFERROR((Feuil2!#REF!-#REF!)/#REF!,\"\")","v":""},{"$f":"IFERROR((tabSecond[[#This Row],[Close]]-tabSecond[[#This Row],[Open]])/tabSecond[[#This Row],[Open]],\"\")","v":""}]
[{"$error":"#N/A"},{"$f":"IFERROR((Feuil2!#REF!-#REF!)/#REF!,\"\")","v":""},{"$f":"IFERROR((tabSecond[[#This Row],[Close]]-tabSecond[[#This Row],[Open]])/tabSecond[[#This Row],[Open]],\"\")","v":""}]
[{"$error":"#N/A"},{"$f":"IFERROR((Feuil2!#REF!-#REF!)/#REF!,\"\")","v":""},{"$f":"IFERROR((tabSecond[[#This Row],[Close]]-tabSecond[[#This Row],[Open]])/tabSecond[[#This Row],[Open]],\"\")","v":""}]
[{"$error":"#N/A"},{"$f":"IFERROR((Feuil2!#REF!-#REF!)/#REF!,\"\")","v":""},{"$f":"IFERROR((tabSecond[[#This Row],[Close]]-tabSecond[[#This Row],[Open]])/tabSecond[[#This Row],[Open]],\"\")","v":""}]
[{"$error":"#N/A"},{"$f":"IFERROR((Feuil2!#REF!-#REF!)/#REF!,\"\")","v":""},{"$f":"IFERROR((tabSecond[[#This Row],[Close]]-tabSecond[[#This Row],[Open]])/tabSecond[[#This Row],[Open]],\"\")","v":""}]
[{"$error":"#N/A"},{"$f":"IFERROR((Feuil2!#REF!-#REF!)/#REF!,\"\")","v":""},{"$f":"IFERROR((tabSecond[[#This Row],[Close]]-tabSecond[[#This Row],[Open]])/tabSecond[[#This Row],[Open]],\"\")","v":""}]
[{"$error":"#N/A"},{"$f":"IFERROR((Feuil2!#REF!-#REF!)/#REF!,\"\")","v":""},{"$f":"IFERROR((tabSecond[[#This Row],[Close]]-tabSecond[[#This Row],[Open]])/tabSecond[[#This Row],[Open]],\"\")","v":""}]
[{"$error":"#N/A"},{"$f":"IFERROR((Feuil2!#REF!-#REF!)/#REF!,\"\")","v":""},{"$f":"IFERROR((tabSecond[[#This Row],[Close]]-tabSecond[[#This Row],[Open]])/tabSecond[[#This Row],[Open]],\"\")","v":""}]
[{"$error":"#N/A"},{"$f":"IFERROR((Feuil2!#REF!-#REF!)/#REF!,\"\")","v":""},{"$f":"IFERROR((tabSecond[[#This Row],[Close]]-tabSecond[[#This Row],[Open]])/tabSecond[[#This Row],[Open]],\"\")","v":""}]
[{"$error":"#N/A"},{"$f":"IFERROR((Feuil2!#REF!-#REF!)/#REF!,\"\")","v":""},{"$f":"IFERROR((tabSecond[[#This Row],[Close]]-tabSecond[[#This Row],[Open]])/tabSecond[[#This Row],[Open]],\"\")","v":""}]
[{"$error":"#N/A"},{"$f":"IFERROR((Feuil2!#REF!-#REF!)/#REF!,\"\")","v":""},{"$f":"IFERROR((tabSecond[[#This Row],[Close]]-tabSecond[[#This Row],[Open]])/tabSecond[[#This Row],[Open]],\"\")","v":""}]
[{"$error":"#N/A"},{"$f":"IFERROR((Feuil2!#REF!-#REF!)/#REF!,\"\")","v":""},{"$f":"IFERROR((tabSecond[[#This Row],[Close]]-tabSecond[[#This Row],[Open]])/tabSecond[[#This Row],[Open]],\"\")","v":""}]
[{"$error":"#N/A"},{"$f":"IFERROR((Feuil2!#REF!-#REF!)/#REF!,\"\")","v":""},{"$f":"IFERROR((tabSecond[[#This Row],[Close]]-tabSecond[[#This Row],[Open]])/tabSecond[[#This Row],[Open]],\"\")","v":""}]
[{"$error":"#N/A"},{"$f":"IFERROR((Feuil2!#REF!-#REF!)/#REF!,\"\")","v":""},{"$f":"IFERROR((tabSecond[[#This Row],[Close]]-tabSecond[[#This Row],[Open]])/tabSecond[[#This Row],[Open]],\"\")","v":""}]
[{"$error":"#N/A"},{"$f":"IFERROR((Feuil2!#REF!-#REF!)/#REF!,\"\")","v":""},{"$f":"IFERROR((tabSecond[[#This Row],[Close]]-tabSecond[[#This Row],[Open]])/tabSecond[[#This Row],[Open]],\"\")","v":""}]
[{"$error":"#N/A"},{"$f":"IFERROR((Feuil2!#REF!-#REF!)/#REF!,\"\")","v":""},{"$f":"IFERROR((tabSecond[[#This Row],[Close]]-tabSecond[[#This Row],[Open]])/tabSecond[[#This Row],[Open]],\"\")","v":""}]
[{"$error":"#N/A"},{"$f":"IFERROR((Feuil2!#REF!-#REF!)/#REF!,\"\")","v":""},{"$f":"IFERROR((tabSecond[[#This Row],[Close]]-tabSecond[[#This Row],[Open]])/tabSecond[[#This Row],[Open]],\"\")","v":""}]
[{"$error":"#N/A"},{"$f":"IFERROR((Feuil2!#REF!-#REF!)/#REF!,\"\")","v":""},{"$f":"IFERROR((tabSecond[[#This Row],[Close]]-tabSecond[[#This Row],[Open]])/tabSecond[[#This Row],[Open]],\"\")","v":""}]
[{"$error":"#N/A"},{"$f":"IFERROR((Feuil2!#REF!-#REF!)/#REF!,\"\")","v":""},{"$f":"IFERROR((tabSecond[[#This Row],[Close]]-tabSecond[[#This Row],[Open]])/tabSecond[[#This Row],[Open]],\"\")","v":""}]
[{"$error":"#N/A"},{"$f":"IFERROR((Feuil2!#REF!-#REF!)/#REF!,\"\")","v":""},{"$f":"IFERROR((tabSecond[[#This Row],[Close]]-tabSecond[[#This Row],[Open]])/tabSecond[[#This Row],[Open]],\"\")","v":""}]
[{"$error":"#N/A"},{"$f":"IFERROR((Feuil2!#REF!-#REF!)/#REF!,\"\")","v":""},{"$f":"IFERROR((tabSecond[[#This Row],[Close]]-tabSecond[[#This Row],[Open]])/tabSecond[[#This Row],[Open]],\"\")","v":""}]
[{"$error":"#N/A"},{"$f":"IFERROR((Feuil2!#REF!-#REF!)/#REF!,\"\")","v":""},{"$f":"IFERROR((tabSecond[[#This Row],[Close]]-tabSecond[[#This Row],[Open]])/tabSecond[[#This Row],[Open]],\"\")","v":""}]
[{"$error":"#N/A"},{"$f":"IFERROR((Feuil2!#REF!-#REF!)/#REF!,\"\")","v":""},{"$f":"IFERROR((tabSecond[[#This Row],[Close]]-tabSecond[[#This Row],[Open]])/tabSecond[[#This Row],[Open]],\"\")","v":""}]
[{"$error":"#N/A"},{"$f":"IFERROR((Feuil2!#REF!-#REF!)/#REF!,\"\")","v":""},{"$f":"IFERROR((tabSecond[[#This Row],[Close]]-tabSecond[[#This Row],[Open]])/tabSecond[[#This Row],[Open]],\"\")","v":""}]
[{"$error":"#N/A"},{"$f":"IFERROR((Feuil2!#REF!-#REF!)/#REF!,\"\")","v":""},{"$f":"IFERROR((tabSecond[[#This Row],[Close]]-tabSecond[[#This Row],[Open]])/tabSecond[[#This Row],[Open]],\"\")","v":""}]
[{"$error":"#N/A"},{"$f":"IFERROR((Feuil2!#REF!-#REF!)/#REF!,\"\")","v":""},{"$f":"IFERROR((tabSecond[[#This Row],[Close]]-tabSecond[[#This Row],[Open]])/tabSecond[[#This Row],[Open]],\"\")","v":""}]
[{"$error":"#N/A"},{"$f":"IFERROR((Feuil2!#REF!-#REF!)/#REF!,\"\")","v":""},{"$f":"IFERROR((tabSecond[[#This Row],[Close]]-tabSecond[[#This Row],[Open]])/tabSecond[[#This Row],[Open]],\"\")","v":""}]
[{"$error":"#N/A"},{"$f":"IFERROR((Feuil2!#REF!-#REF!)/#REF!,\"\")","v":""},{"$f":"IFERROR((tabSecond[[#This Row],[Close]]-tabSecond[[#This Row],[Open]])/tabSecond[[#This Row],[Open]],\"\")","v":""}]
[{"$error":"#N/A"},{"$f":"IFERROR((Feuil2!#REF!-#REF!)/#REF!,\"\")","v":""},{"$f":"IFERROR((tabSecond[[#This Row],[Close]]-tabSecond[[#This Row],[Open]])/tabSecond[[#This Row],[Open]],\"\")","v":""}]
[{"$error":"#N/A"},{"$f":"IFERROR((Feuil2!#REF!-#REF!)/#REF!,\"\")","v":""},{"$f":"IFERROR((tabSecond[[#This Row],[Close]]-tabSecond[[#This Row],[Open]])/tabSecond[[#This Row],[Open]],\"\")","v":""}]
[{"$error":"#N/A"},{"$f":"IFERROR((Feuil2!#REF!-#REF!)/#REF!,\"\")","v":""},{"$f":"IFERROR((tabSecond[[#This Row],[Close]]-tabSecond[[#This Row],[Open]])/tabSecond[[#This Row],[Open]],\"\")","v":""}]
[{"$error":"#N/A"},{"$f":"IFERROR((Feuil2!#REF!-#REF!)/#REF!,\"\")","v":""},{"$f":"IFERROR((tabSecond[[#This Row],[Close]]-tabSecond[[#This Row],[Open]])/tabSecond[[#This Row],[Open]],\"\")","v":""}]
[{"$error":"#N/A"},{"$f":"IFERROR((Feuil2!#REF!-#REF!)/#REF!,\"\")","v":""},{"$f":"IFERROR((tabSecond[[#This Row],[Close]]-tabSecond[[#This Row],[Open]])/tabSecond[[#This Row],[Open]],\"\")","v":""}]
[{"$error":"#N/A"},{"$f":"IFERROR((Feuil2!#REF!-#REF!)/#REF!,\"\")","v":""},{"$f":"IFERROR((tabSecond[[#This Row],[Close]]-tabSecond[[#This Row],[Open]])/tabSecond[[#This Row],[Open]],\"\")","v":""}]
[{"$error":"#N/A"},{"$f":"IFERROR((Feuil2!#REF!-#REF!)/#REF!,\"\")","v":""},{"$f":"IFERROR((tabSecond[[#This Row],[Close]]-tabSecond[[#This Row],[Open]])/tabSecond[[#This Row],[Open]],\"\")","v":""}]
[{"$error":"#N/A"},{"$f":"IFERROR((Feuil2!#REF!-#REF!)/#REF!,\"\")","v":""},{"$f":"IFERROR((tabSecond[[#This Row],[Close]]-tabSecond[[#This Row],[Open]])/tabSecond[[#This Row],[Open]],\"\")","v":""}]
[{"$error":"#N/A"},{"$f":"IFERROR((Feuil2!#REF!-#REF!)/#REF!,\"\")","v":""},{"$f":"IFERROR((tabSecond[[#This Row],[Close]]-tabSecond[[#This Row],[Open]])/tabSecond[[#This Row],[Open]],\"\")","v":""}]
[{"$error":"#N/A"},{"$f":"IFERROR((Feuil2!#REF!-#REF!)/#REF!,\"\")","v":""},{"$f":"IFERROR((tabSecond[[#This Row],[Close]]-tabSecond[[#This Row],[Open]])/tabSecond[[#This Row],[Open]],\"\")","v":""}]
[{"$error":"#N/A"},{"$f":"IFERROR((Feuil2!#REF!-#REF!)/#REF!,\"\")","v":""},{"$f":"IFERROR((tabSecond[[#This Row],[Close]]-tabSecond[[#This Row],[Open]])/tabSecond[[#This Row],[Open]],\"\")","v":""}]
[{"$error":"#N/A"},{"$f":"IFERROR((Feuil2!#REF!-#REF!)/#REF!,\"\")","v":""},{"$f":"IFERROR((tabSecond[[#This Row],[Close]]-tabSecond[[#This Row],[Open]])/tabSecond[[#This Row],[Open]],\"\")","v":""}]
[{"$error":"#N/A"},{"$f":"IFERROR((Feuil2!#REF!-#REF!)/#REF!,\"\")","v":""},{"$f":"IFERROR((tabSecond[[#This Row],[Close]]-tabSecond[[#This Row],[Open]])/tabSecond[[#This Row],[Open]],\"\")","v":""}]
[{"$error":"#N/A"},{"$f":"IFERROR((Feuil2!#REF!-#REF!)/#REF!,\"\")","v":""},{"$f":"IFERROR((tabSecond[[#This Row],[Close]]-tabSecond[[#This Row],[Open]])/tabSecond[[#This Row],[Open]],\"\")","v":""}]
[{"$error":"#N/A"},{"$f":"IFERROR((Feuil2!#REF!-#REF!)/#REF!,\"\")","v":""},{"$f":"IFERROR((tabSecond[[#This Row],[Close]]-tabSecond[[#This Row],[Open]])/tabSecond[[#This Row],[Open]],\"\")","v":""}]
[{"$error":"#N/A"},{"$f":"IFERROR((Feuil2!#REF!-#REF!)/#REF!,\"\")","v":""},{"$f":"IFERROR((tabSecond[[#This Row],[Close]]-tabSecond[[#This Row],[Open]])/tabSecond[[#This Row],[Open]],\"\")","v":""}]
[{"$error":"#N/A"},{"$f":"IFERROR((Feuil2!#REF!-#REF!)/#REF!,\"\")","v":""},{"$f":"IFERROR((tabSecond[[#This Row],[Close]]-tabSecond[[#This Row],[Open]])/tabSecond[[#This Row],[Open]],\"\")","v":""}]
[{"$error":"#N/A"},{"$f":"IFERROR((Feuil2!#REF!-#REF!)/#REF!,\"\")","v":""},{"$f":"IFERROR((tabSecond[[#This Row],[Close]]-tabSecond[[#This Row],[Open]])/tabSecond[[#This Row],[Open]],\"\")","v":""}]
[{"$error":"#N/A"},{"$f":"IFERROR((Feuil2!#REF!-#REF!)/#REF!,\"\")","v":""},{"$f":"IFERROR((tabSecond[[#This Row],[Close]]-tabSecond[[#This Row],[Open]])/tabSecond[[#This Row],[Open]],\"\")","v":""}]
[{"$error":"#N/A"},{"$f":"IFERROR((Feuil2!#REF!-#REF!)/#REF!,\"\")","v":""},{"$f":"IFERROR((tabSecond[[#This Row],[Close]]-tabSecond[[#This Row],[Open]])/tabSecond[[#This Row],[Open]],\"\")","v":""}]
[{"$error":"#N/A"},{"$f":"IFERROR((Feuil2!#REF!-#REF!)/#REF!,\"\")","v":""},{"$f":"IFERROR((tabSecond[[#This Row],[Close]]-tabSecond[[#This Row],[Open]])/tabSecond[[#This Row],[Open]],\"\")","v":""}]
[{"$error":"#N/A"},{"$f":"IFERROR((Feuil2!#REF!-#REF!)/#REF!,\"\")","v":""},{"$f":"IFERROR((tabSecond[[#This Row],[Close]]-tabSecond[[#This Row],[Open]])/tabSecond[[#This Row],[Open]],\"\")","v":""}]
[{"$error":"#N/A"},{"$f":"IFERROR((Feuil2!#REF!-#REF!)/#REF!,\"\")","v":""},{"$f":"IFERROR((tabSecond[[#This Row],[Close]]-tabSecond[[#This Row],[Open]])/tabSecond[[#This Row],[Open]],\"\")","v":""}]
[{"$error":"#N/A"},{"$f":"IFERROR((Feuil2!#REF!-#REF!)/#REF!,\"\")","v":""},{"$f":"IFERROR((tabSecond[[#This Row],[Close]]-tabSecond[[#This Row],[Open]])/tabSecond[[#This Row],[Open]],\"\")","v":""}]
[{"$error":"#N/A"},{"$f":"IFERROR((Feuil2!#REF!-#REF!)/#REF!,\"\")","v":""},{"$f":"IFERROR((tabSecond[[#This Row],[Close]]-tabSecond[[#This Row],[Open]])/tabSecond[[#This Row],[Open]],\"\")","v":""}]
[{"$error":"#N/A"},{"$f":"IFERROR((Feuil2!#REF!-#REF!)/#REF!,\"\")","v":""},{"$f":"IFERROR((tabSecond[[#This Row],[Close]]-tabSecond[[#This Row],[Open]])/tabSecond[[#This Row],[Open]],\"\")","v":""}]
[{"$error":"#N/A"},{"$f":"IFERROR((Feuil2!#REF!-#REF!)/#REF!,\"\")","v":""},{"$f":"IFERROR((tabSecond[[#This Row],[Close]]-tabSecond[[#This Row],[Open]])/tabSecond[[#This Row],[Open]],\"\")","v":""}]
[{"$error":"#N/A"},{"$f":"IFERROR((Feuil2!#REF!-#REF!)/#REF!,\"\")","v":""},{"$f":"IFERROR((tabSecond[[#This Row],[Close]]-tabSecond[[#This Row],[Open]])/tabSecond[[#This Row],[Open]],\"\")","v":""}]
[{"$error":"#N/A"},{"$f":"IFERROR((Feuil2!#REF!-#REF!)/#REF!,\"\")","v":""},{"$f":"IFERROR((tabSecond[[#This Row],[Close]]-tabSecond[[#This Row],[Open]])/tabSecond[[#This Row],[Open]],\"\")","v":""}]
[{"$error":"#N/A"},{"$f":"IFERROR((Feuil2!#REF!-#REF!)/#REF!,\"\")","v":""},{"$f":"IFERROR((tabSecond[[#This Row],[Close]]-tabSecond[[#This Row],[Open]])/tabSecond[[#This Row],[Open]],\"\")","v":""}]
[{"$error":"#N/A"},{"$f":"IFERROR((Feuil2!#REF!-#REF!)/#REF!,\"\")","v":""},{"$f":"IFERROR((tabSecond[[#This Row],[Close]]-tabSecond[[#This Row],[Open]])/tabSecond[[#This Row],[Open]],\"\")","v":""}]
[{"$error":"#N/A"},{"$f":"IFERROR((Feuil2!#REF!-#REF!)/#REF!,\"\")","v":""},{"$f":"IFERROR((tabSecond[[#This Row],[Close]]-tabSecond[[#This Row],[Open]])/tabSecond[[#This Row],[Open]],\"\")","v":""}]
[{"$error":"#N/A"},{"$f":"IFERROR((Feuil2!#REF!-#REF!)/#REF!,\"\")","v":""},{"$f":"IFERROR((tabSecond[[#This Row],[Close]]-tabSecond[[#This Row],[Open]])/tabSecond[[#This Row],[Open]],\"\")","v":""}]
[{"$error":"#N/A"},{"$f":"IFERROR((Feuil2!#REF!-#REF!)/#REF!,\"\")","v":""},{"$f":"IFERROR((tabSecond[[#This Row],[Close]]-tabSecond[[#This Row],[Open]])/tabSecond[[#This Row],[Open]],\"\")","v":""}]
[{"$error":"#N/A"},{"$f":"IFERROR((Feuil2!#REF!-#REF!)/#REF!,\"\")","v":""},{"$f":"IFERROR((tabSecond[[#This Row],[Close]]-tabSecond[[#This Row],[Open]])/tabSecond[[#This Row],[Open]],\"\")","v":""}]
[{"$error":"#N/A"},{"$f":"IFERROR((Feuil2!#REF!-#REF!)/#REF!,\"\")","v":""},{"$f":"IFERROR((tabSecond[[#This Row],[Close]]-tabSecond[[#This Row],[Open]])/tabSecond[[#This Row],[Open]],\"\")","v":""}]
[{"$error":"#N/A"},{"$f":"IFERROR((Feuil2!#REF!-#REF!)/#REF!,\"\")","v":""},{"$f":"IFERROR((tabSecond[[#This Row],[Close]]-tabSecond[[#This Row],[Open]])/tabSecond[[#This Row],[Open]],\"\")","v":""}]
[{"$error":"#N/A"},{"$f":"IFERROR((Feuil2!#REF!-#REF!)/#REF!,\"\")","v":""},{"$f":"IFERROR((tabSecond[[#This Row],[Close]]-tabSecond[[#This Row],[Open]])/tabSecond[[#This Row],[Open]],\"\")","v":""}]
[{"$error":"#N/A"},{"$f":"IFERROR((Feuil2!#REF!-#REF!)/#REF!,\"\")","v":""},{"$f":"IFERROR((tabSecond[[#This Row],[Close]]-tabSecond[[#This Row],[Open]])/tabSecond[[#This Row],[Open]],\"\")","v":""}]
[{"$error":"#N/A"},{"$f":"IFERROR((Feuil2!#REF!-#REF!)/#REF!,\"\")","v":""},{"$f":"IFERROR((tabSecond[[#This Row],[Close]]-tabSecond[[#This Row],[Open]])/tabSecond[[#This Row],[Open]],\"\")","v":""}]
[{"$error":"#N/A"},{"$f":"IFERROR((Feuil2!#REF!-#REF!)/#REF!,\"\")","v":""},{"$f":"IFERROR((tabSecond[[#This Row],[Close]]-tabSecond[[#This Row],[Open]])/tabSecond[[#This Row],[Open]],\"\")","v":""}]
[{"$error":"#N/A"},{"$f":"IFERROR((Feuil2!#REF!-#REF!)/#REF!,\"\")","v":""},{"$f":"IFERROR((tabSecond[[#This Row],[Close]]-tabSecond[[#This Row],[Open]])/tabSecond[[#This Row],[Open]],\"\")","v":""}]
[{"$error":"#N/A"},{"$f":"IFERROR((Feuil2!#REF!-#REF!)/#REF!,\"\")","v":""},{"$f":"IFERROR((tabSecond[[#This Row],[Close]]-tabSecond[[#This Row],[Open]])/tabSecond[[#This Row],[Open]],\"\")","v":""}]
[{"$error":"#N/A"},{"$f":"IFERROR((Feuil2!#REF!-#REF!)/#REF!,\"\")","v":""},{"$f":"IFERROR((tabSecond[[#This Row],[Close]]-tabSecond[[#This Row],[Open]])/tabSecond[[#This Row],[Open]],\"\")","v":""}]
[{"$error":"#N/A"},{"$f":"IFERROR((Feuil2!#REF!-#REF!)/#REF!,\"\")","v":""},{"$f":"IFERROR((tabSecond[[#This Row],[Close]]-tabSecond[[#This Row],[Open]])/tabSecond[[#This Row],[Open]],\"\")","v":""}]
[{"$error":"#N/A"},{"$f":"IFERROR((Feuil2!#REF!-#REF!)/#REF!,\"\")","v":""},{"$f":"IFERROR((tabSecond[[#This Row],[Close]]-tabSecond[[#This Row],[Open]])/tabSecond[[#This Row],[Open]],\"\")","v":""}]
[{"$error":"#N/A"},{"$f":"IFERROR((Feuil2!#REF!-#REF!)/#REF!,\"\")","v":""},{"$f":"IFERROR((tabSecond[[#This Row],[Close]]-tabSecond[[#This Row],[Open]])/tabSecond[[#This Row],[Open]],\"\")","v":""}]
[{"$error":"#N/A"},{"$f":"IFERROR((Feuil2!#REF!-#REF!)/#REF!,\"\")","v":""},{"$f":"IFERROR((tabSecond[[#This Row],[Close]]-tabSecond[[#This Row],[Open]])/tabSecond[[#This Row],[Open]],\"\")","v":""}]
[{"$error":"#N/A"},{"$f":"IFERROR((Feuil2!#REF!-#REF!)/#REF!,\"\")","v":""},{"$f":"IFERROR((tabSecond[[#This Row],[Close]]-tabSecond[[#This Row],[Open]])/tabSecond[[#This Row],[Open]],\"\")","v":""}]
[{"$error":"#N/A"},{"$f":"IFERROR((Feuil2!#REF!-#REF!)/#REF!,\"\")","v":""},{"$f":"IFERROR((tabSecond[[#This Row],[Close]]-tabSecond[[#This Row],[Open]])/tabSecond[[#This Row],[Open]],\"\")","v":""}]
[{"$error":"#N/A"},{"$f":"IFERROR((Feuil2!#REF!-#REF!)/#REF!,\"\")","v":""},{"$f":"IFERROR((tabSecond[[#This Row],[Close]]-tabSecond[[#This Row],[Open]])/tabSecond[[#This Row],[Open]],\"\")","v":""}]
[{"$error":"#N/A"},{"$f":"IFERROR((Feuil2!#REF!-#REF!)/#REF!,\"\")","v":""},{"$f":"IFERROR((tabSecond[[#This Row],[Close]]-tabSecond[[#This Row],[Open]])/tabSecond[[#This Row],[Open]],\"\")","v":""}]
[{"$error":"#N/A"},{"$f":"IFERROR((Feuil2!#REF!-#REF!)/#REF!,\"\")","v":""},{"$f":"IFERROR((tabSecond[[#This Row],[Close]]-tabSecond[[#This Row],[Open]])/tabSecond[[#This Row],[Open]],\"\")","v":""}]
[{"$error":"#N/A"},{"$f":"IFERROR((Feuil2!#REF!-#REF!)/#REF!,\"\")","v":""},{"$f":"IFERROR((tabSecond[[#This Row],[Close]]-tabSecond[[#This Row],[Open]])/tabSecond[[#This Row],[Open]],\"\")","v":""}]
[{"$error":"#N/A"},{"$f":"IFERROR((Feuil2!#REF!-#REF!)/#REF!,\"\")","v":""},{"$f":"IFERROR((tabSecond[[#This Row],[Close]]-tabSecond[[#This Row],[Open]])/tabSecond[[#This Row],[Open]],\"\")","v":""}]
[{"$error":"#N/A"},{"$f":"IFERROR((Feuil2!#REF!-#REF!)/#REF!,\"\")","v":""},{"$f":"IFERROR((tabSecond[[#This Row],[Close]]-tabSecond[[#This Row],[Open]])/tabSecond[[#This Row],[Open]],\"\")","v":""}]
[{"$error":"#N/A"},{"$f":"IFERROR((Feuil2!#REF!-#REF!)/#REF!,\"\")","v":""},{"$f":"IFERROR((tabSecond[[#This Row],[Close]]-tabSecond[[#This Row],[Open]])/tabSecond[[#This Row],[Open]],\"\")","v":""}]
[{"$error":"#N/A"},{"$f":"IFERROR((Feuil2!#REF!-#REF!)/#REF!,\"\")","v":""},{"$f":"IFERROR((tabSecond[[#This Row],[Close]]-tabSecond[[#This Row],[Open]])/tabSecond[[#This Row],[Open]],\"\")","v":""}]
[{"$error":"#N/A"},{"$f":"IFERROR((Feuil2!#REF!-#REF!)/#REF!,\"\")","v":""},{"$f":"IFERROR((tabSecond[[#This Row],[Close]]-tabSecond[[#This Row],[Open]])/tabSecond[[#This Row],[Open]],\"\")","v":""}]
[{"$error":"#N/A"},{"$f":"IFERROR((Feuil2!#REF!-#REF!)/#REF!,\"\")","v":""},{"$f":"IFERROR((tabSecond[[#This Row],[Close]]-tabSecond[[#This Row],[Open]])/tabSecond[[#This Row],[Open]],\"\")","v":""}]
[{"$error":"#N/A"},{"$f":"IFERROR((Feuil2!#REF!-#REF!)/#REF!,\"\")","v":""},{"$f":"IFERROR((tabSecond[[#This Row],[Close]]-tabSecond[[#This Row],[Open]])/tabSecond[[#This Row],[Open]],\"\")","v":""}]
[{"$error":"#N/A"},{"$f":"IFERROR((Feuil2!#REF!-#REF!)/#REF!,\"\")","v":""},{"$f":"IFERROR((tabSecond[[#This Row],[Close]]-tabSecond[[#This Row],[Open]])/tabSecond[[#This Row],[Open]],\"\")","v":""}]
[{"$error":"#N/A"},{"$f":"IFERROR((Feuil2!#REF!-#REF!)/#REF!,\"\")","v":""},{"$f":"IFERROR((tabSecond[[#This Row],[Close]]-tabSecond[[#This Row],[Open]])/tabSecond[[#This Row],[Open]],\"\")","v":""}]
[{"$error":"#N/A"},{"$f":"IFERROR((Feuil2!#REF!-#REF!)/#REF!,\"\")","v":""},{"$f":"IFERROR((tabSecond[[#This Row],[Close]]-tabSecond[[#This Row],[Open]])/tabSecond[[#This Row],[Open]],\"\")","v":""}]
[{"$error":"#N/A"},{"$f":"IFERROR((Feuil2!#REF!-#REF!)/#REF!,\"\")","v":""},{"$f":"IFERROR((tabSecond[[#This Row],[Close]]-tabSecond[[#This Row],[Open]])/tabSecond[[#This Row],[Open]],\"\")","v":""}]
[{"$error":"#N/A"},{"$f":"IFERROR((Feuil2!#REF!-#REF!)/#REF!,\"\")","v":""},{"$f":"IFERROR((tabSecond[[#This Row],[Close]]-tabSecond[[#This Row],[Open]])/tabSecond[[#This Row],[Open]],\"\")","v":""}]
[{"$error":"#N/A"},{"$f":"IFERROR((Feuil2!#REF!-#REF!)/#REF!,\"\")","v":""},{"$f":"IFERROR((tabSecond[[#This Row],[Close]]-tabSecond[[#This Row],[Open]])/tabSecond[[#This Row],[Open]],\"\")","v":""}]
[{"$error":"#N/A"},{"$f":"IFERROR((Feuil2!#REF!-#REF!)/#REF!,\"\")","v":""},{"$f":"IFERROR((tabSecond[[#This Row],[Close]]-tabSecond[[#This Row],[Open]])/tabSecond[[#This Row],[Open]],\"\")","v":""}]
[{"$error":"#N/A"},{"$f":"IFERROR((Feuil2!#REF!-#REF!)/#REF!,\"\")","v":""},{"$f":"IFERROR((tabSecond[[#This Row],[Close]]-tabSecond[[#This Row],[Open]])/tabSecond[[#This Row],[Open]],\"\")","v":""}]
[{"$error":"#N/A"},{"$f":"IFERROR((Feuil2!#REF!-#REF!)/#REF!,\"\")","v":""},{"$f":"IFERROR((tabSecond[[#This Row],[Close]]-tabSecond[[#This Row],[Open]])/tabSecond[[#This Row],[Open]],\"\")","v":""}]
[{"$error":"#N/A"},{"$f":"IFERROR((Feuil2!#REF!-#REF!)/#REF!,\"\")","v":""},{"$f":"IFERROR((tabSecond[[#This Row],[Close]]-tabSecond[[#This Row],[Open]])/tabSecond[[#This Row],[Open]],\"\")","v":""}]
[{"$error":"#N/A"},{"$f":"IFERROR((Feuil2!#REF!-#REF!)/#REF!,\"\")","v":""},{"$f":"IFERROR((tabSecond[[#This Row],[Close]]-tabSecond[[#This Row],[Open]])/tabSecond[[#This Row],[Open]],\"\")","v":""}]
[{"$error":"#N/A"},{"$f":"IFERROR((Feuil2!#REF!-#REF!)/#REF!,\"\")","v":""},{"$f":"IFERROR((tabSecond[[#This Row],[Close]]-tabSecond[[#This Row],[Open]])/tabSecond[[#This Row],[Open]],\"\")","v":""}]
[{"$error":"#N/A"},{"$f":"IFERROR((Feuil2!#REF!-#REF!)/#REF!,\"\")","v":""},{"$f":"IFERROR((tabSecond[[#This Row],[Close]]-tabSecond[[#This Row],[Open]])/tabSecond[[#This Row],[Open]],\"\")","v":""}]
[{"$error":"#N/A"},{"$f":"IFERROR((Feuil2!#REF!-#REF!)/#REF!,\"\")","v":""},{"$f":"IFERROR((tabSecond[[#This Row],[Close]]-tabSecond[[#This Row],[Open]])/tabSecond[[#This Row],[Open]],\"\")","v":""}]
[{"$error":"#N/A"},{"$f":"IFERROR((Feuil2!#REF!-#REF!)/#REF!,\"\")","v":""},{"$f":"IFERROR((tabSecond[[#This Row],[Close]]-tabSecond[[#This Row],[Open]])/tabSecond[[#This Row],[Open]],\"\")","v":""}]
[{"$error":"#N/A"},{"$f":"IFERROR((Feuil2!#REF!-#REF!)/#REF!,\"\")","v":""},{"$f":"IFERROR((tabSecond[[#This Row],[Close]]-tabSecond[[#This Row],[Open]])/tabSecond[[#This Row],[Open]],\"\")","v":""}]
[{"$error":"#N/A"},{"$f":"IFERROR((Feuil2!#REF!-#REF!)/#REF!,\"\")","v":""},{"$f":"IFERROR((tabSecond[[#This Row],[Close]]-tabSecond[[#This Row],[Open]])/tabSecond[[#This Row],[Open]],\"\")","v":""}]
[{"$error":"#N/A"},{"$f":"IFERROR((Feuil2!#REF!-#REF!)/#REF!,\"\")","v":""},{"$f":"IFERROR((tabSecond[[#This Row],[Close]]-tabSecond[[#This Row],[Open]])/tabSecond[[#This Row],[Open]],\"\")","v":""}]
[{"$error":"#N/A"},{"$f":"IFERROR((Feuil2!#REF!-#REF!)/#REF!,\"\")","v":""},{"$f":"IFERROR((tabSecond[[#This Row],[Close]]-tabSecond[[#This Row],[Open]])/tabSecond[[#This Row],[Open]],\"\")","v":""}]
[{"$error":"#N/A"},{"$f":"IFERROR((Feuil2!#REF!-#REF!)/#REF!,\"\")","v":""},{"$f":"IFERROR((tabSecond[[#This Row],[Close]]-tabSecond[[#This Row],[Open]])/tabSecond[[#This Row],[Open]],\"\")","v":""}]
[{"$error":"#N/A"},{"$f":"IFERROR((Feuil2!#REF!-#REF!)/#REF!,\"\")","v":""},{"$f":"IFERROR((tabSecond[[#This Row],[Close]]-tabSecond[[#This Row],[Open]])/tabSecond[[#This Row],[Open]],\"\")","v":""}]
[{"$error":"#N/A"},{"$f":"IFERROR((Feuil2!#REF!-#REF!)/#REF!,\"\")","v":""},{"$f":"IFERROR((tabSecond[[#This Row],[Close]]-tabSecond[[#This Row],[Open]])/tabSecond[[#This Row],[Open]],\"\")","v":""}]
[{"$error":"#N/A"},{"$f":"IFERROR((Feuil2!#REF!-#REF!)/#REF!,\"\")","v":""},{"$f":"IFERROR((tabSecond[[#This Row],[Close]]-tabSecond[[#This Row],[Open]])/tabSecond[[#This Row],[Open]],\"\")","v":""}]
[{"$error":"#N/A"},{"$f":"IFERROR((Feuil2!#REF!-#REF!)/#REF!,\"\")","v":""},{"$f":"IFERROR((tabSecond[[#This Row],[Close]]-tabSecond[[#This Row],[Open]])/tabSecond[[#This Row],[Open]],\"\")","v":""}]
[{"$error":"#N/A"},{"$f":"IFERROR((Feuil2!#REF!-#REF!)/#REF!,\"\")","v":""},{"$f":"IFERROR((tabSecond[[#This Row],[Close]]-tabSecond[[#This Row],[Open]])/tabSecond[[#This Row],[Open]],\"\")","v":""}]
[{"$error":"#N/A"},{"$f":"IFERROR((Feuil2!#REF!-#REF!)/#REF!,\"\")","v":""},{"$f":"IFERROR((tabSecond[[#This Row],[Close]]-tabSecond[[#This Row],[Open]])/tabSecond[[#This Row],[Open]],\"\")","v":""}]
[{"$error":"#N/A"},{"$f":"IFERROR((Feuil2!#REF!-#REF!)/#REF!,\"\")","v":""},{"$f":"IFERROR((tabSecond[[#This Row],[Close]]-tabSecond[[#This Row],[Open]])/tabSecond[[#This Row],[Open]],\"\")","v":""}]
[{"$error":"#N/A"},{"$f":"IFERROR((Feuil2!#REF!-#REF!)/#REF!,\"\")","v":""},{"$f":"IFERROR((tabSecond[[#This Row],[Close]]-tabSecond[[#This Row],[Open]])/tabSecond[[#This Row],[Open]],\"\")","v":""}]
[{"$error":"#N/A"},{"$f":"IFERROR((Feuil2!#REF!-#REF!)/#REF!,\"\")","v":""},{"$f":"IFERROR((tabSecond[[#This Row],[Close]]-tabSecond[[#This Row],[Open]])/tabSecond[[#This Row],[Open]],\"\")","v":""}]
[{"$error":"#N/A"},{"$f":"IFERROR((Feuil2!#REF!-#REF!)/#REF!,\"\")","v":""},{"$f":"IFERROR((tabSecond[[#This Row],[Close]]-tabSecond[[#This Row],[Open]])/tabSecond[[#This Row],[Open]],\"\")","v":""}]
[{"$error":"#N/A"},{"$f":"IFERROR((Feuil2!#REF!-#REF!)/#REF!,\"\")","v":""},{"$f":"IFERROR((tabSecond[[#This Row],[Close]]-tabSecond[[#This Row],[Open]])/tabSecond[[#This Row],[Open]],\"\")","v":""}]
[{"$error":"#N/A"},{"$f":"IFERROR((Feuil2!#REF!-#REF!)/#REF!,\"\")","v":""},{"$f":"IFERROR((tabSecond[[#This Row],[Close]]-tabSecond[[#This Row],[Open]])/tabSecond[[#This Row],[Open]],\"\")","v":""}]
[{"$error":"#N/A"},{"$f":"IFERROR((Feuil2!#REF!-#REF!)/#REF!,\"\")","v":""},{"$f":"IFERROR((tabSecond[[#This Row],[Close]]-tabSecond[[#This Row],[Open]])/tabSecond[[#This Row],[Open]],\"\")","v":""}]
[{"$error":"#N/A"},{"$f":"IFERROR((Feuil2!#REF!-#REF!)/#REF!,\"\")","v":""},{"$f":"IFERROR((tabSecond[[#This Row],[Close]]-tabSecond[[#This Row],[Open]])/tabSecond[[#This Row],[Open]],\"\")","v":""}]
[{"$error":"#N/A"},{"$f":"IFERROR((Feuil2!#REF!-#REF!)/#REF!,\"\")","v":""},{"$f":"IFERROR((tabSecond[[#This Row],[Close]]-tabSecond[[#This Row],[Open]])/tabSecond[[#This Row],[Open]],\"\")","v":""}]
[{"$error":"#N/A"},{"$f":"IFERROR((Feuil2!#REF!-#REF!)/#REF!,\"\")","v":""},{"$f":"IFERROR((tabSecond[[#This Row],[Close]]-tabSecond[[#This Row],[Open]])/tabSecond[[#This Row],[Open]],\"\")","v":""}]
[{"$error":"#N/A"},{"$f":"IFERROR((Feuil2!#REF!-#REF!)/#REF!,\"\")","v":""},{"$f":"IFERROR((tabSecond[[#This Row],[Close]]-tabSecond[[#This Row],[Open]])/tabSecond[[#This Row],[Open]],\"\")","v":""}]
[{"$error":"#N/A"},{"$f":"IFERROR((Feuil2!#REF!-#REF!)/#REF!,\"\")","v":""},{"$f":"IFERROR((tabSecond[[#This Row],[Close]]-tabSecond[[#This Row],[Open]])/tabSecond[[#This Row],[Open]],\"\")","v":""}]
[{"$error":"#N/A"},{"$f":"IFERROR((Feuil2!#REF!-#REF!)/#REF!,\"\")","v":""},{"$f":"IFERROR((tabSecond[[#This Row],[Close]]-tabSecond[[#This Row],[Open]])/tabSecond[[#This Row],[Open]],\"\")","v":""}]
[{"$error":"#N/A"},{"$f":"IFERROR((Feuil2!#REF!-#REF!)/#REF!,\"\")","v":""},{"$f":"IFERROR((tabSecond[[#This Row],[Close]]-tabSecond[[#This Row],[Open]])/tabSecond[[#This Row],[Open]],\"\")","v":""}]
[{"$error":"#N/A"},{"$f":"IFERROR((Feuil2!#REF!-#REF!)/#REF!,\"\")","v":""},{"$f":"IFERROR((tabSecond[[#This Row],[Close]]-tabSecond[[#This Row],[Open]])/tabSecond[[#This Row],[Open]],\"\")","v":""}]
[{"$error":"#N/A"},{"$f":"IFERROR((Feuil2!#REF!-#REF!)/#REF!,\"\")","v":""},{"$f":"IFERROR((tabSecond[[#This Row],[Close]]-tabSecond[[#This Row],[Open]])/tabSecond[[#This Row],[Open]],\"\")","v":""}]
[{"$error":"#N/A"},{"$f":"IFERROR((Feuil2!#REF!-#REF!)/#REF!,\"\")","v":""},{"$f":"IFERROR((tabSecond[[#This Row],[Close]]-tabSecond[[#This Row],[Open]])/tabSecond[[#This Row],[Open]],\"\")","v":""}]
[{"$error":"#N/A"},{"$f":"IFERROR((Feuil2!#REF!-#REF!)/#REF!,\"\")","v":""},{"$f":"IFERROR((tabSecond[[#This Row],[Close]]-tabSecond[[#This Row],[Open]])/tabSecond[[#This Row],[Open]],\"\")","v":""}]
[{"$error":"#N/A"},{"$f":"IFERROR((Feuil2!#REF!-#REF!)/#REF!,\"\")","v":""},{"$f":"IFERROR((tabSecond[[#This Row],[Close]]-tabSecond[[#This Row],[Open]])/tabSecond[[#This Row],[Open]],\"\")","v":""}]
[{"$error":"#N/A"},{"$f":"IFERROR((Feuil2!#REF!-#REF!)/#REF!,\"\")","v":""},{"$f":"IFERROR((tabSecond[[#This Row],[Close]]-tabSecond[[#This Row],[Open]])/tabSecond[[#This Row],[Open]],\"\")","v":""}]
[{"$error":"#N/A"},{"$f":"IFERROR((Feuil2!#REF!-#REF!)/#REF!,\"\")","v":""},{"$f":"IFERROR((tabSecond[[#This Row],[Close]]-tabSecond[[#This Row],[Open]])/tabSecond[[#This Row],[Open]],\"\")","v":""}]
[{"$error":"#N/A"},{"$f":"IFERROR((Feuil2!#REF!-#REF!)/#REF!,\"\")","v":""},{"$f":"IFERROR((tabSecond[[#This Row],[Close]]-tabSecond[[#This Row],[Open]])/tabSecond[[#This Row],[Open]],\"\")","v":""}]
[{"$error":"#N/A"},{"$f":"IFERROR((Feuil2!#REF!-#REF!)/#REF!,\"\")","v":""},{"$f":"IFERROR((tabSecond[[#This Row],[Close]]-tabSecond[[#This Row],[Open]])/tabSecond[[#This Row],[Open]],\"\")","v":""}]
[{"$error":"#N/A"},{"$f":"IFERROR((Feuil2!#REF!-#REF!)/#REF!,\"\")","v":""},{"$f":"IFERROR((tabSecond[[#This Row],[Close]]-tabSecond[[#This Row],[Open]])/tabSecond[[#This Row],[Open]],\"\")","v":""}]
[{"$error":"#N/A"},{"$f":"IFERROR((Feuil2!#REF!-#REF!)/#REF!,\"\")","v":""},{"$f":"IFERROR((tabSecond[[#This Row],[Close]]-tabSecond[[#This Row],[Open]])/tabSecond[[#This Row],[Open]],\"\")","v":""}]
[{"$error":"#N/A"},{"$f":"IFERROR((Feuil2!#REF!-#REF!)/#REF!,\"\")","v":""},{"$f":"IFERROR((tabSecond[[#This Row],[Close]]-tabSecond[[#This Row],[Open]])/tabSecond[[#This Row],[Open]],\"\")","v":""}]
[{"$error":"#N/A"},{"$f":"IFERROR((Feuil2!#REF!-#REF!)/#REF!,\"\")","v":""},{"$f":"IFERROR((tabSecond[[#This Row],[Close]]-tabSecond[[#This Row],[Open]])/tabSecond[[#This Row],[Open]],\"\")","v":""}]
[{"$error":"#N/A"},{"$f":"IFERROR((Feuil2!#REF!-#REF!)/#REF!,\"\")","v":""},{"$f":"IFERROR((tabSecond[[#This Row],[Close]]-tabSecond[[#This Row],[Open]])/tabSecond[[#This Row],[Open]],\"\")","v":""}]
[{"$error":"#N/A"},{"$f":"IFERROR((Feuil2!#REF!-#REF!)/#REF!,\"\")","v":""},{"$f":"IFERROR((tabSecond[[#This Row],[Close]]-tabSecond[[#This Row],[Open]])/tabSecond[[#This Row],[Open]],\"\")","v":""}]
[{"$error":"#N/A"},{"$f":"IFERROR((Feuil2!#REF!-#REF!)/#REF!,\"\")","v":""},{"$f":"IFERROR((tabSecond[[#This Row],[Close]]-tabSecond[[#This Row],[Open]])/tabSecond[[#This Row],[Open]],\"\")","v":""}]
[{"$error":"#N/A"},{"$f":"IFERROR((Feuil2!#REF!-#REF!)/#REF!,\"\")","v":""},{"$f":"IFERROR((tabSecond[[#This Row],[Close]]-tabSecond[[#This Row],[Open]])/tabSecond[[#This Row],[Open]],\"\")","v":""}]
[{"$error":"#N/A"},{"$f":"IFERROR((Feuil2!#REF!-#REF!)/#REF!,\"\")","v":""},{"$f":"IFERROR((tabSecond[[#This Row],[Close]]-tabSecond[[#This Row],[Open]])/tabSecond[[#This Row],[Open]],\"\")","v":""}]
[{"$error":"#N/A"},{"$f":"IFERROR((Feuil2!#REF!-#REF!)/#REF!,\"\")","v":""},{"$f":"IFERROR((tabSecond[[#This Row],[Close]]-tabSecond[[#This Row],[Open]])/tabSecond[[#This Row],[Open]],\"\")","v":""}]
[{"$error":"#N/A"},{"$f":"IFERROR((Feuil2!#REF!-#REF!)/#REF!,\"\")","v":""},{"$f":"IFERROR((tabSecond[[#This Row],[Close]]-tabSecond[[#This Row],[Open]])/tabSecond[[#This Row],[Open]],\"\")","v":""}]
[{"$error":"#N/A"},{"$f":"IFERROR((Feuil2!#REF!-#REF!)/#REF!,\"\")","v":""},{"$f":"IFERROR((tabSecond[[#This Row],[Close]]-tabSecond[[#This Row],[Open]])/tabSecond[[#This Row],[Open]],\"\")","v":""}]
[{"$error":"#N/A"},{"$f":"IFERROR((Feuil2!#REF!-#REF!)/#REF!,\"\")","v":""},{"$f":"IFERROR((tabSecond[[#This Row],[Close]]-tabSecond[[#This Row],[Open]])/tabSecond[[#This Row],[Open]],\"\")","v":""}]
[{"$error":"#N/A"},{"$f":"IFERROR((Feuil2!#REF!-#REF!)/#REF!,\"\")","v":""},{"$f":"IFERROR((tabSecond[[#This Row],[Close]]-tabSecond[[#This Row],[Open]])/tabSecond[[#This Row],[Open]],\"\")","v":""}]
[{"$error":"#N/A"},{"$f":"IFERROR((Feuil2!#REF!-#REF!)/#REF!,\"\")","v":""},{"$f":"IFERROR((tabSecond[[#This Row],[Close]]-tabSecond[[#This Row],[Open]])/tabSecond[[#This Row],[Open]],\"\")","v":""}]
[{"$error":"#N/A"},{"$f":"IFERROR((Feuil2!#REF!-#REF!)/#REF!,\"\")","v":""},{"$f":"IFERROR((tabSecond[[#This Row],[Close]]-tabSecond[[#This Row],[Open]])/tabSecond[[#This Row],[Open]],\"\")","v":""}]
[{"$error":"#N/A"},{"$f":"IFERROR((Feuil2!#REF!-#REF!)/#REF!,\"\")","v":""},{"$f":"IFERROR((tabSecond[[#This Row],[Close]]-tabSecond[[#This Row],[Open]])/tabSecond[[#This Row],[Open]],\"\")","v":""}]
[{"$error":"#N/A"},{"$f":"IFERROR((Feuil2!#REF!-#REF!)/#REF!,\"\")","v":""},{"$f":"IFERROR((tabSecond[[#This Row],[Close]]-tabSecond[[#This Row],[Open]])/tabSecond[[#This Row],[Open]],\"\")","v":""}]
[{"$error":"#N/A"},{"$f":"IFERROR((Feuil2!#REF!-#REF!)/#REF!,\"\")","v":""},{"$f":"IFERROR((tabSecond[[#This Row],[Close]]-tabSecond[[#This Row],[Open]])/tabSecond[[#This Row],[Open]],\"\")","v":""}]
[{"$error":"#N/A"},{"$f":"IFERROR((Feuil2!#REF!-#REF!)/#REF!,\"\")","v":""},{"$f":"IFERROR((tabSecond[[#This Row],[Close]]-tabSecond[[#This Row],[Open]])/tabSecond[[#This Row],[Open]],\"\")","v":""}]
[{"$error":"#N/A"},{"$f":"IFERROR((Feuil2!#REF!-#REF!)/#REF!,\"\")","v":""},{"$f":"IFERROR((tabSecond[[#This Row],[Close]]-tabSecond[[#This Row],[Open]])/tabSecond[[#This Row],[Open]],\"\")","v":""}]
[{"$error":"#N/A"},{"$f":"IFERROR((Feuil2!#REF!-#REF!)/#REF!,\"\")","v":""},{"$f":"IFERROR((tabSecond[[#This Row],[Close]]-tabSecond[[#This Row],[Open]])/tabSecond[[#This Row],[Open]],\"\")","v":""}]
[{"$error":"#N/A"},{"$f":"IFERROR((Feuil2!#REF!-#REF!)/#REF!,\"\")","v":""},{"$f":"IFERROR((tabSecond[[#This Row],[Close]]-tabSecond[[#This Row],[Open]])/tabSecond[[#This Row],[Open]],\"\")","v":""}]
[{"$error":"#N/A"},{"$f":"IFERROR((Feuil2!#REF!-#REF!)/#REF!,\"\")","v":""},{"$f":"IFERROR((tabSecond[[#This Row],[Close]]-tabSecond[[#This Row],[Open]])/tabSecond[[#This Row],[Open]],\"\")","v":""}]
[{"$error":"#N/A"},{"$f":"IFERROR((Feuil2!#REF!-#REF!)/#REF!,\"\")","v":""},{"$f":"IFERROR((tabSecond[[#This Row],[Close]]-tabSecond[[#This Row],[Open]])/tabSecond[[#This Row],[Open]],\"\")","v":""}]
[{"$error":"#N/A"},{"$f":"IFERROR((Feuil2!#REF!-#REF!)/#REF!,\"\")","v":""},{"$f":"IFERROR((tabSecond[[#This Row],[Close]]-tabSecond[[#This Row],[Open]])/tabSecond[[#This Row],[Open]],\"\")","v":""}]
[{"$error":"#N/A"},{"$f":"IFERROR((Feuil2!#REF!-#REF!)/#REF!,\"\")","v":""},{"$f":"IFERROR((tabSecond[[#This Row],[Close]]-tabSecond[[#This Row],[Open]])/tabSecond[[#This Row],[Open]],\"\")","v":""}]
[{"$error":"#N/A"},{"$f":"IFERROR((Feuil2!#REF!-#REF!)/#REF!,\"\")","v":""},{"$f":"IFERROR((tabSecond[[#This Row],[Close]]-tabSecond[[#This Row],[Open]])/tabSecond[[#This Row],[Open]],\"\")","v":""}]
[{"$error":"#N/A"},{"$f":"IFERROR((Feuil2!#REF!-#REF!)/#REF!,\"\")","v":""},{"$f":"IFERROR((tabSecond[[#This Row],[Close]]-tabSecond[[#This Row],[Open]])/tabSecond[[#This Row],[Open]],\"\")","v":""}]
[{"$error":"#N/A"},{"$f":"IFERROR((Feuil2!#REF!-#REF!)/#REF!,\"\")","v":""},{"$f":"IFERROR((tabSecond[[#This Row],[Close]]-tabSecond[[#This Row],[Open]])/tabSecond[[#This Row],[Open]],\"\")","v":""}]
[{"$error":"#N/A"},{"$f":"IFERROR((Feuil2!#REF!-#REF!)/#REF!,\"\")","v":""},{"$f":"IFERROR((tabSecond[[#This Row],[Close]]-tabSecond[[#This Row],[Open]])/tabSecond[[#This Row],[Open]],\"\")","v":""}]
[{"$error":"#N/A"},{"$f":"IFERROR((Feuil2!#REF!-#REF!)/#REF!,\"\")","v":""},{"$f":"IFERROR((tabSecond[[#This Row],[Close]]-tabSecond[[#This Row],[Open]])/tabSecond[[#This Row],[Open]],\"\")","v":""}]
[{"$error":"#N/A"},{"$f":"IFERROR((Feuil2!#REF!-#REF!)/#REF!,\"\")","v":""},{"$f":"IFERROR((tabSecond[[#This Row],[Close]]-tabSecond[[#This Row],[Open]])/tabSecond[[#This Row],[Open]],\"\")","v":""}]
[{"$error":"#N/A"},{"$f":"IFERROR((Feuil2!#REF!-#REF!)/#REF!,\"\")","v":""},{"$f":"IFERROR((tabSecond[[#This Row],[Close]]-tabSecond[[#This Row],[Open]])/tabSecond[[#This Row],[Open]],\"\")","v":""}]
[{"$error":"#N/A"},{"$f":"IFERROR((Feuil2!#REF!-#REF!)/#REF!,\"\")","v":""},{"$f":"IFERROR((tabSecond[[#This Row],[Close]]-tabSecond[[#This Row],[Open]])/tabSecond[[#This Row],[Open]],\"\")","v":""}]
[{"$error":"#N/A"},{"$f":"IFERROR((Feuil2!#REF!-#REF!)/#REF!,\"\")","v":""},{"$f":"IFERROR((tabSecond[[#This Row],[Close]]-tabSecond[[#This Row],[Open]])/tabSecond[[#This Row],[Open]],\"\")","v":""}]
[{"$error":"#N/A"},{"$f":"IFERROR((Feuil2!#REF!-#REF!)/#REF!,\"\")","v":""},{"$f":"IFERROR((tabSecond[[#This Row],[Close]]-tabSecond[[#This Row],[Open]])/tabSecond[[#This Row],[Open]],\"\")","v":""}]
[{"$error":"#N/A"},{"$f":"IFERROR((Feuil2!#REF!-#REF!)/#REF!,\"\")","v":""},{"$f":"IFERROR((tabSecond[[#This Row],[Close]]-tabSecond[[#This Row],[Open]])/tabSecond[[#This Row],[Open]],\"\")","v":""}]
[{"$error":"#N/A"},{"$f":"IFERROR((Feuil2!#REF!-#REF!)/#REF!,\"\")","v":""},{"$f":"IFERROR((tabSecond[[#This Row],[Close]]-tabSecond[[#This Row],[Open]])/tabSecond[[#This Row],[Open]],\"\")","v":""}]
[{"$error":"#N/A"},{"$f":"IFERROR((Feuil2!#REF!-#REF!)/#REF!,\"\")","v":""},{"$f":"IFERROR((tabSecond[[#This Row],[Close]]-tabSecond[[#This Row],[Open]])/tabSecond[[#This Row],[Open]],\"\")","v":""}]
[{"$error":"#N/A"},{"$f":"IFERROR((Feuil2!#REF!-#REF!)/#REF!,\"\")","v":""},{"$f":"IFERROR((tabSecond[[#This Row],[Close]]-tabSecond[[#This Row],[Open]])/tabSecond[[#This Row],[Open]],\"\")","v":""}]
[{"$error":"#N/A"},{"$f":"IFERROR((Feuil2!#REF!-#REF!)/#REF!,\"\")","v":""},{"$f":"IFERROR((tabSecond[[#This Row],[Close]]-tabSecond[[#This Row],[Open]])/tabSecond[[#This Row],[Open]],\"\")","v":""}]
[{"$error":"#N/A"},{"$f":"IFERROR((Feuil2!#REF!-#REF!)/#REF!,\"\")","v":""},{"$f":"IFERROR((tabSecond[[#This Row],[Close]]-tabSecond[[#This Row],[Open]])/tabSecond[[#This Row],[Open]],\"\")","v":""}]
[{"$error":"#N/A"},{"$f":"IFERROR((Feuil2!#REF!-#REF!)/#REF!,\"\")","v":""},{"$f":"IFERROR((tabSecond[[#This Row],[Close]]-tabSecond[[#This Row],[Open]])/tabSecond[[#This Row],[Open]],\"\")","v":""}]
[{"$error":"#N/A"},{"$f":"IFERROR((Feuil2!#REF!-#REF!)/#REF!,\"\")","v":""},{"$f":"IFERROR((tabSecond[[#This Row],[Close]]-tabSecond[[#This Row],[Open]])/tabSecond[[#This Row],[Open]],\"\")","v":""}]
[{"$error":"#N/A"},{"$f":"IFERROR((Feuil2!#REF!-#REF!)/#REF!,\"\")","v":""},{"$f":"IFERROR((tabSecond[[#This Row],[Close]]-tabSecond[[#This Row],[Open]])/tabSecond[[#This Row],[Open]],\"\")","v":""}]
[{"$error":"#N/A"},{"$f":"IFERROR((Feuil2!#REF!-#REF!)/#REF!,\"\")","v":""},{"$f":"IFERROR((tabSecond[[#This Row],[Close]]-tabSecond[[#This Row],[Open]])/tabSecond[[#This Row],[Open]],\"\")","v":""}]
[{"$error":"#N/A"},{"$f":"IFERROR((Feuil2!#REF!-#REF!)/#REF!,\"\")","v":""},{"$f":"IFERROR((tabSecond[[#This Row],[Close]]-tabSecond[[#This Row],[Open]])/tabSecond[[#This Row],[Open]],\"\")","v":""}]
[{"$error":"#N/A"},{"$f":"IFERROR((Feuil2!#REF!-#REF!)/#REF!,\"\")","v":""},{"$f":"IFERROR((tabSecond[[#This Row],[Close]]-tabSecond[[#This Row],[Open]])/tabSecond[[#This Row],[Open]],\"\")","v":""}]
[{"$error":"#N/A"},{"$f":"IFERROR((Feuil2!#REF!-#REF!)/#REF!,\"\")","v":""},{"$f":"IFERROR((tabSecond[[#This Row],[Close]]-tabSecond[[#This Row],[Open]])/tabSecond[[#This Row],[Open]],\"\")","v":""}]
[{"$error":"#N/A"},{"$f":"IFERROR((Feuil2!#REF!-#REF!)/#REF!,\"\")","v":""},{"$f":"IFERROR((tabSecond[[#This Row],[Close]]-tabSecond[[#This Row],[Open]])/tabSecond[[#This Row],[Open]],\"\")","v":""}]
[{"$error":"#N/A"},{"$f":"IFERROR((Feuil2!#REF!-#REF!)/#REF!,\"\")","v":""},{"$f":"IFERROR((tabSecond[[#This Row],[Close]]-tabSecond[[#This Row],[Open]])/tabSecond[[#This Row],[Open]],\"\")","v":""}]
[{"$error":"#N/A"},{"$f":"IFERROR((Feuil2!#REF!-#REF!)/#REF!,\"\")","v":""},{"$f":"IFERROR((tabSecond[[#This Row],[Close]]-tabSecond[[#This Row],[Open]])/tabSecond[[#This Row],[Open]],\"\")","v":""}]
[{"$error":"#N/A"},{"$f":"IFERROR((Feuil2!#REF!-#REF!)/#REF!,\"\")","v":""},{"$f":"IFERROR((tabSecond[[#This Row],[Close]]-tabSecond[[#This Row],[Open]])/tabSecond[[#This Row],[Open]],\"\")","v":""}]
[{"$error":"#N/A"},{"$f":"IFERROR((Feuil2!#REF!-#REF!)/#REF!,\"\")","v":""},{"$f":"IFERROR((tabSecond[[#This Row],[Close]]-tabSecond[[#This Row],[Open]])/tabSecond[[#This Row],[Open]],\"\")","v":""}]
[{"$error":"#N/A"},{"$f":"IFERROR((Feuil2!#REF!-#REF!)/#REF!,\"\")","v":""},{"$f":"IFERROR((tabSecond[[#This Row],[Close]]-tabSecond[[#This Row],[Open]])/tabSecond[[#This Row],[Open]],\"\")","v":""}]
[{"$error":"#N/A"},{"$f":"IFERROR((Feuil2!#REF!-#REF!)/#REF!,\"\")","v":""},{"$f":"IFERROR((tabSecond[[#This Row],[Close]]-tabSecond[[#This Row],[Open]])/tabSecond[[#This Row],[Open]],\"\")","v":""}]
[{"$error":"#N/A"},{"$f":"IFERROR((Feuil2!#REF!-#REF!)/#REF!,\"\")","v":""},{"$f":"IFERROR((tabSecond[[#This Row],[Close]]-tabSecond[[#This Row],[Open]])/tabSecond[[#This Row],[Open]],\"\")","v":""}]
[{"$error":"#N/A"},{"$f":"IFERROR((Feuil2!#REF!-#REF!)/#REF!,\"\")","v":""},{"$f":"IFERROR((tabSecond[[#This Row],[Close]]-tabSecond[[#This Row],[Open]])/tabSecond[[#This Row],[Open]],\"\")","v":""}]
[{"$error":"#N/A"},{"$f":"IFERROR((Feuil2!#REF!-#REF!)/#REF!,\"\")","v":""},{"$f":"IFERROR((tabSecond[[#This Row],[Close]]-tabSecond[[#This Row],[Open]])/tabSecond[[#This Row],[Open]],\"\")","v":""}]
[{"$error":"#N/A"},{"$f":"IFERROR((Feuil2!#REF!-#REF!)/#REF!,\"\")","v":""},{"$f":"IFERROR((tabSecond[[#This Row],[Close]]-tabSecond[[#This Row],[Open]])/tabSecond[[#This Row],[Open]],\"\")","v":""}]
[{"$error":"#N/A"},{"$f":"IFERROR((Feuil2!#REF!-#REF!)/#REF!,\"\")","v":""},{"$f":"IFERROR((tabSecond[[#This Row],[Close]]-tabSecond[[#This Row],[Open]])/tabSecond[[#This Row],[Open]],\"\")","v":""}]
[{"$error":"#N/A"},{"$f":"IFERROR((Feuil2!#REF!-#REF!)/#REF!,\"\")","v":""},{"$f":"IFERROR((tabSecond[[#This Row],[Close]]-tabSecond[[#This Row],[Open]])/tabSecond[[#This Row],[Open]],\"\")","v":""}]
[{"$error":"#N/A"},{"$f":"IFERROR((Feuil2!#REF!-#REF!)/#REF!,\"\")","v":""},{"$f":"IFERROR((tabSecond[[#This Row],[Close]]-tabSecond[[#This Row],[Open]])/tabSecond[[#This Row],[Open]],\"\")","v":""}]
[{"$error":"#N/A"},{"$f":"IFERROR((Feuil2!#REF!-#REF!)/#REF!,\"\")","v":""},{"$f":"IFERROR((tabSecond[[#This Row],[Close]]-tabSecond[[#This Row],[Open]])/tabSecond[[#This Row],[Open]],\"\")","v":""}]
[{"$error":"#N/A"},{"$f":"IFERROR((Feuil2!#REF!-#REF!)/#REF!,\"\")","v":""},{"$f":"IFERROR((tabSecond[[#This Row],[Close]]-tabSecond[[#This Row],[Open]])/tabSecond[[#This Row],[Open]],\"\")","v":""}]
[{"$error":"#N/A"},{"$f":"IFERROR((Feuil2!#REF!-#REF!)/#REF!,\"\")","v":""},{"$f":"IFERROR((tabSecond[[#This Row],[Close]]-tabSecond[[#This Row],[Open]])/tabSecond[[#This Row],[Open]],\"\")","v":""}]
[{"$error":"#N/A"},{"$f":"IFERROR((Feuil2!#REF!-#REF!)/#REF!,\"\")","v":""},{"$f":"IFERROR((tabSecond[[#This Row],[Close]]-tabSecond[[#This Row],[Open]])/tabSecond[[#This Row],[Open]],\"\")","v":""}]
[{"$error":"#N/A"},{"$f":"IFERROR((Feuil2!#REF!-#REF!)/#REF!,\"\")","v":""},{"$f":"IFERROR((tabSecond[[#This Row],[Close]]-tabSecond[[#This Row],[Open]])/tabSecond[[#This Row],[Open]],\"\")","v":""}]
[{"$error":"#N/A"},{"$f":"IFERROR((Feuil2!#REF!-#REF!)/#REF!,\"\")","v":""},{"$f":"IFERROR((tabSecond[[#This Row],[Close]]-tabSecond[[#This Row],[Open]])/tabSecond[[#This Row],[Open]],\"\")","v":""}]
[{"$error":"#N/A"},{"$f":"IFERROR((Feuil2!#REF!-#REF!)/#REF!,\"\")","v":""},{"$f":"IFERROR((tabSecond[[#This Row],[Close]]-tabSecond[[#This Row],[Open]])/tabSecond[[#This Row],[Open]],\"\")","v":""}]
[{"$error":"#N/A"},{"$f":"IFERROR((Feuil2!#REF!-#REF!)/#REF!,\"\")","v":""},{"$f":"IFERROR((tabSecond[[#This Row],[Close]]-tabSecond[[#This Row],[Open]])/tabSecond[[#This Row],[Open]],\"\")","v":""}]
[{"$error":"#N/A"},{"$f":"IFERROR((Feuil2!#REF!-#REF!)/#REF!,\"\")","v":""},{"$f":"IFERROR((tabSecond[[#This Row],[Close]]-tabSecond[[#This Row],[Open]])/tabSecond[[#This Row],[Open]],\"\")","v":""}]
[{"$error":"#N/A"},{"$f":"IFERROR((Feuil2!#REF!-#REF!)/#REF!,\"\")","v":""},{"$f":"IFERROR((tabSecond[[#This Row],[Close]]-tabSecond[[#This Row],[Open]])/tabSecond[[#This Row],[Open]],\"\")","v":""}]
[{"$error":"#N/A"},{"$f":"IFERROR((Feuil2!#REF!-#REF!)/#REF!,\"\")","v":""},{"$f":"IFERROR((tabSecond[[#This Row],[Close]]-tabSecond[[#This Row],[Open]])/tabSecond[[#This Row],[Open]],\"\")","v":""}]
[{"$error":"#N/A"},{"$f":"IFERROR((Feuil2!#REF!-#REF!)/#REF!,\"\")","v":""},{"$f":"IFERROR((tabSecond[[#This Row],[Close]]-tabSecond[[#This Row],[Open]])/tabSecond[[#This Row],[Open]],\"\")","v":""}]
[{"$error":"#N/A"},{"$f":"IFERROR((Feuil2!#REF!-#REF!)/#REF!,\"\")","v":""},{"$f":"IFERROR((tabSecond[[#This Row],[Close]]-tabSecond[[#This Row],[Open]])/tabSecond[[#This Row],[Open]],\"\")","v":""}]
[{"$error":"#N/A"},{"$f":"IFERROR((Feuil2!#REF!-#REF!)/#REF!,\"\")","v":""},{"$f":"IFERROR((tabSecond[[#This Row],[Close]]-tabSecond[[#This Row],[Open]])/tabSecond[[#This Row],[Open]],\"\")","v":""}]
[{"$error":"#N/A"},{"$f":"IFERROR((Feuil2!#REF!-#REF!)/#REF!,\"\")","v":""},{"$f":"IFERROR((tabSecond[[#This Row],[Close]]-tabSecond[[#This Row],[Open]])/tabSecond[[#This Row],[Open]],\"\")","v":""}]
[{"$error":"#N/A"},{"$f":"IFERROR((Feuil2!#REF!-#REF!)/#REF!,\"\")","v":""},{"$f":"IFERROR((tabSecond[[#This Row],[Close]]-tabSecond[[#This Row],[Open]])/tabSecond[[#This Row],[Open]],\"\")","v":""}]
[{"$error":"#N/A"},{"$f":"IFERROR((Feuil2!#REF!-#REF!)/#REF!,\"\")","v":""},{"$f":"IFERROR((tabSecond[[#This Row],[Close]]-tabSecond[[#This Row],[Open]])/tabSecond[[#This Row],[Open]],\"\")","v":""}]
[{"$error":"#N/A"},{"$f":"IFERROR((Feuil2!#REF!-#REF!)/#REF!,\"\")","v":""},{"$f":"IFERROR((tabSecond[[#This Row],[Close]]-tabSecond[[#This Row],[Open]])/tabSecond[[#This Row],[Open]],\"\")","v":""}]
[{"$error":"#N/A"},{"$f":"IFERROR((Feuil2!#REF!-#REF!)/#REF!,\"\")","v":""},{"$f":"IFERROR((tabSecond[[#This Row],[Close]]-tabSecond[[#This Row],[Open]])/tabSecond[[#This Row],[Open]],\"\")","v":""}]
[{"$error":"#N/A"},{"$f":"IFERROR((Feuil2!#REF!-#REF!)/#REF!,\"\")","v":""},{"$f":"IFERROR((tabSecond[[#This Row],[Close]]-tabSecond[[#This Row],[Open]])/tabSecond[[#This Row],[Open]],\"\")","v":""}]
[{"$error":"#N/A"},{"$f":"IFERROR((Feuil2!#REF!-#REF!)/#REF!,\"\")","v":""},{"$f":"IFERROR((tabSecond[[#This Row],[Close]]-tabSecond[[#This Row],[Open]])/tabSecond[[#This Row],[Open]],\"\")","v":""}]
[{"$error":"#N/A"},{"$f":"IFERROR((Feuil2!#REF!-#REF!)/#REF!,\"\")","v":""},{"$f":"IFERROR((tabSecond[[#This Row],[Close]]-tabSecond[[#This Row],[Open]])/tabSecond[[#This Row],[Open]],\"\")","v":""}]
[{"$error":"#N/A"},{"$f":"IFERROR((Feuil2!#REF!-#REF!)/#REF!,\"\")","v":""},{"$f":"IFERROR((tabSecond[[#This Row],[Close]]-tabSecond[[#This Row],[Open]])/tabSecond[[#This Row],[Open]],\"\")","v":""}]
[{"$error":"#N/A"},{"$f":"IFERROR((Feuil2!#REF!-#REF!)/#REF!,\"\")","v":""},{"$f":"IFERROR((tabSecond[[#This Row],[Close]]-tabSecond[[#This Row],[Open]])/tabSecond[[#This Row],[Open]],\"\")","v":""}]
[{"$error":"#N/A"},{"$f":"IFERROR((Feuil2!#REF!-#REF!)/#REF!,\"\")","v":""},{"$f":"IFERROR((tabSecond[[#This Row],[Close]]-tabSecond[[#This Row],[Open]])/tabSecond[[#This Row],[Open]],\"\")","v":""}]
[{"$error":"#N/A"},{"$f":"IFERROR((Feuil2!#REF!-#REF!)/#REF!,\"\")","v":""},{"$f":"IFERROR((tabSecond[[#This Row],[Close]]-tabSecond[[#This Row],[Open]])/tabSecond[[#This Row],[Open]],\"\")","v":""}]
[{"$error":"#N/A"},{"$f":"IFERROR((Feuil2!#REF!-#REF!)/#REF!,\"\")","v":""},{"$f":"IFERROR((tabSecond[[#This Row],[Close]]-tabSecond[[#This Row],[Open]])/tabSecond[[#This Row],[Open]],\"\")","v":""}]
[{"$error":"#N/A"},{"$f":"IFERROR((Feuil2!#REF!-#REF!)/#REF!,\"\")","v":""},{"$f":"IFERROR((tabSecond[[#This Row],[Close]]-tabSecond[[#This Row],[Open]])/tabSecond[[#This Row],[Open]],\"\")","v":""}]
[{"$error":"#N/A"},{"$f":"IFERROR((Feuil2!#REF!-#REF!)/#REF!,\"\")","v":""},{"$f":"IFERROR((tabSecond[[#This Row],[Close]]-tabSecond[[#This Row],[Open]])/tabSecond[[#This Row],[Open]],\"\")","v":""}]
[{"$error":"#N/A"},{"$f":"IFERROR((Feuil2!#REF!-#REF!)/#REF!,\"\")","v":""},{"$f":"IFERROR((tabSecond[[#This Row],[Close]]-tabSecond[[#This Row],[Open]])/tabSecond[[#This Row],[Open]],\"\")","v":""}]
[{"$error":"#N/A"},{"$f":"IFERROR((Feuil2!#REF!-#REF!)/#REF!,\"\")","v":""},{"$f":"IFERROR((tabSecond[[#This Row],[Close]]-tabSecond[[#This Row],[Open]])/tabSecond[[#This Row],[Open]],\"\")","v":""}]
[{"$error":"#N/A"},{"$f":"IFERROR((Feuil2!#REF!-#REF!)/#REF!,\"\")","v":""},{"$f":"IFERROR((tabSecond[[#This Row],[Close]]-tabSecond[[#This Row],[Open]])/tabSecond[[#This Row],[Open]],\"\")","v":""}]
[{"$error":"#N/A"},{"$f":"IFERROR((Feuil2!#REF!-#REF!)/#REF!,\"\")","v":""},{"$f":"IFERROR((tabSecond[[#This Row],[Close]]-tabSecond[[#This Row],[Open]])/tabSecond[[#This Row],[Open]],\"\")","v":""}]
[{"$error":"#N/A"},{"$f":"IFERROR((Feuil2!#REF!-#REF!)/#REF!,\"\")","v":""},{"$f":"IFERROR((tabSecond[[#This Row],[Close]]-tabSecond[[#This Row],[Open]])/tabSecond[[#This Row],[Open]],\"\")","v":""}]
[{"$error":"#N/A"},{"$f":"IFERROR((Feuil2!#REF!-#REF!)/#REF!,\"\")","v":""},{"$f":"IFERROR((tabSecond[[#This Row],[Close]]-tabSecond[[#This Row],[Open]])/tabSecond[[#This Row],[Open]],\"\")","v":""}]
[{"$error":"#N/A"},{"$f":"IFERROR((Feuil2!#REF!-#REF!)/#REF!,\"\")","v":""},{"$f":"IFERROR((tabSecond[[#This Row],[Close]]-tabSecond[[#This Row],[Open]])/tabSecond[[#This Row],[Open]],\"\")","v":""}]
[{"$error":"#N/A"},{"$f":"IFERROR((Feuil2!#REF!-#REF!)/#REF!,\"\")","v":""},{"$f":"IFERROR((tabSecond[[#This Row],[Close]]-tabSecond[[#This Row],[Open]])/tabSecond[[#This Row],[Open]],\"\")","v":""}]
[{"$error":"#N/A"},{"$f":"IFERROR((Feuil2!#REF!-#REF!)/#REF!,\"\")","v":""},{"$f":"IFERROR((tabSecond[[#This Row],[Close]]-tabSecond[[#This Row],[Open]])/tabSecond[[#This Row],[Open]],\"\")","v":""}]
[{"$error":"#N/A"},{"$f":"IFERROR((Feuil2!#REF!-#REF!)/#REF!,\"\")","v":""},{"$f":"IFERROR((tabSecond[[#This Row],[Close]]-tabSecond[[#This Row],[Open]])/tabSecond[[#This Row],[Open]],\"\")","v":""}]
[{"$error":"#N/A"},{"$f":"IFERROR((Feuil2!#REF!-#REF!)/#REF!,\"\")","v":""},{"$f":"IFERROR((tabSecond[[#This Row],[Close]]-tabSecond[[#This Row],[Open]])/tabSecond[[#This Row],[Open]],\"\")","v":""}]
[{"$error":"#N/A"},{"$f":"IFERROR((Feuil2!#REF!-#REF!)/#REF!,\"\")","v":""},{"$f":"IFERROR((tabSecond[[#This Row],[Close]]-tabSecond[[#This Row],[Open]])/tabSecond[[#This Row],[Open]],\"\")","v":""}]
[{"$error":"#N/A"},{"$f":"IFERROR((Feuil2!#REF!-#REF!)/#REF!,\"\")","v":""},{"$f":"IFERROR((tabSecond[[#This Row],[Close]]-tabSecond[[#This Row],[Open]])/tabSecond[[#This Row],[Open]],\"\")","v":""}]
[{"$error":"#N/A"},{"$f":"IFERROR((Feuil2!#REF!-#REF!)/#REF!,\"\")","v":""},{"$f":"IFERROR((tabSecond[[#This Row],[Close]]-tabSecond[[#This Row],[Open]])/tabSecond[[#This Row],[Open]],\"\")","v":""}]
[{"$error":"#N/A"},{"$f":"IFERROR((Feuil2!#REF!-#REF!)/#REF!,\"\")","v":""},{"$f":"IFERROR((tabSecond[[#This Row],[Close]]-tabSecond[[#This Row],[Open]])/tabSecond[[#This Row],[Open]],\"\")","v":""}]
[{"$error":"#N/A"},{"$f":"IFERROR((Feuil2!#REF!-#REF!)/#REF!,\"\")","v":""},{"$f":"IFERROR((tabSecond[[#This Row],[Close]]-tabSecond[[#This Row],[Open]])/tabSecond[[#This Row],[Open]],\"\")","v":""}]
[{"$error":"#N/A"},{"$f":"IFERROR((Feuil2!#REF!-#REF!)/#REF!,\"\")","v":""},{"$f":"IFERROR((tabSecond[[#This Row],[Close]]-tabSecond[[#This Row],[Open]])/tabSecond[[#This Row],[Open]],\"\")","v":""}]
[{"$error":"#N/A"},{"$f":"IFERROR((Feuil2!#REF!-#REF!)/#REF!,\"\")","v":""},{"$f":"IFERROR((tabSecond[[#This Row],[Close]]-tabSecond[[#This Row],[Open]])/tabSecond[[#This Row],[Open]],\"\")","v":""}]
[{"$error":"#N/A"},{"$f":"IFERROR((Feuil2!#REF!-#REF!)/#REF!,\"\")","v":""},{"$f":"IFERROR((tabSecond[[#This Row],[Close]]-tabSecond[[#This Row],[Open]])/tabSecond[[#This Row],[Open]],\"\")","v":""}]
[{"$error":"#N/A"},{"$f":"IFERROR((Feuil2!#REF!-#REF!)/#REF!,\"\")","v":""},{"$f":"IFERROR((tabSecond[[#This Row],[Close]]-tabSecond[[#This Row],[Open]])/tabSecond[[#This Row],[Open]],\"\")","v":""}]
[{"$error":"#N/A"},{"$f":"IFERROR((Feuil2!#REF!-#REF!)/#REF!,\"\")","v":""},{"$f":"IFERROR((tabSecond[[#This Row],[Close]]-tabSecond[[#This Row],[Open]])/tabSecond[[#This Row],[Open]],\"\")","v":""}]
[{"$error":"#N/A"},{"$f":"IFERROR((Feuil2!#REF!-#REF!)/#REF!,\"\")","v":""},{"$f":"IFERROR((tabSecond[[#This Row],[Close]]-tabSecond[[#This Row],[Open]])/tabSecond[[#This Row],[Open]],\"\")","v":""}]
[{"$error":"#N/A"},{"$f":"IFERROR((Feuil2!#REF!-#REF!)/#REF!,\"\")","v":""},{"$f":"IFERROR((tabSecond[[#This Row],[Close]]-tabSecond[[#This Row],[Open]])/tabSecond[[#This Row],[Open]],\"\")","v":""}]
[{"$error":"#N/A"},{"$f":"IFERROR((Feuil2!#REF!-#REF!)/#REF!,\"\")","v":""},{"$f":"IFERROR((tabSecond[[#This Row],[Close]]-tabSecond[[#This Row],[Open]])/tabSecond[[#This Row],[Open]],\"\")","v":""}]
[{"$error":"#N/A"},{"$f":"IFERROR((Feuil2!#REF!-#REF!)/#REF!,\"\")","v":""},{"$f":"IFERROR((tabSecond[[#This Row],[Close]]-tabSecond[[#This Row],[Open]])/tabSecond[[#This Row],[Open]],\"\")","v":""}]
[{"$error":"#N/A"},{"$f":"IFERROR((Feuil2!#REF!-#REF!)/#REF!,\"\")","v":""},{"$f":"IFERROR((tabSecond[[#This Row],[Close]]-tabSecond[[#This Row],[Open]])/tabSecond[[#This Row],[Open]],\"\")","v":""}]
[{"$error":"#N/A"},{"$f":"IFERROR((Feuil2!#REF!-#REF!)/#REF!,\"\")","v":""},{"$f":"IFERROR((tabSecond[[#This Row],[Close]]-tabSecond[[#This Row],[Open]])/tabSecond[[#This Row],[Open]],\"\")","v":""}]
[{"$error":"#N/A"},{"$f":"IFERROR((Feuil2!#REF!-#REF!)/#REF!,\"\")","v":""},{"$f":"IFERROR((tabSecond[[#This Row],[Close]]-tabSecond[[#This Row],[Open]])/tabSecond[[#This Row],[Open]],\"\")","v":""}]
[{"$error":"#N/A"},{"$f":"IFERROR((Feuil2!#REF!-#REF!)/#REF!,\"\")","v":""},{"$f":"IFERROR((tabSecond[[#This Row],[Close]]-tabSecond[[#This Row],[Open]])/tabSecond[[#This Row],[Open]],\"\")","v":""}]
[{"$error":"#N/A"},{"$f":"IFERROR((Feuil2!#REF!-#REF!)/#REF!,\"\")","v":""},{"$f":"IFERROR((tabSecond[[#This Row],[Close]]-tabSecond[[#This Row],[Open]])/tabSecond[[#This Row],[Open]],\"\")","v":""}]
[{"$error":"#N/A"},{"$f":"IFERROR((Feuil2!#REF!-#REF!)/#REF!,\"\")","v":""},{"$f":"IFERROR((tabSecond[[#This Row],[Close]]-tabSecond[[#This Row],[Open]])/tabSecond[[#This Row],[Open]],\"\")","v":""}]
[{"$error":"#N/A"},{"$f":"IFERROR((Feuil2!#REF!-#REF!)/#REF!,\"\")","v":""},{"$f":"IFERROR((tabSecond[[#This Row],[Close]]-tabSecond[[#This Row],[Open]])/tabSecond[[#This Row],[Open]],\"\")","v":""}]
[{"$error":"#N/A"},{"$f":"IFERROR((Feuil2!#REF!-#REF!)/#REF!,\"\")","v":""},{"$f":"IFERROR((tabSecond[[#This Row],[Close]]-tabSecond[[#This Row],[Open]])/tabSecond[[#This Row],[Open]],\"\")","v":""}]
[{"$error":"#N/A"},{"$f":"IFERROR((Feuil2!#REF!-#REF!)/#REF!,\"\")","v":""},{"$f":"IFERROR((tabSecond[[#This Row],[Close]]-tabSecond[[#This Row],[Open]])/tabSecond[[#This Row],[Open]],\"\")","v":""}]
[{"$error":"#N/A"},{"$f":"IFERROR((Feuil2!#REF!-#REF!)/#REF!,\"\")","v":""},{"$f":"IFERROR((tabSecond[[#This Row],[Close]]-tabSecond[[#This Row],[Open]])/tabSecond[[#This Row],[Open]],\"\")","v":""}]
[{"$error":"#N/A"},{"$f":"IFERROR((Feuil2!#REF!-#REF!)/#REF!,\"\")","v":""},{"$f":"IFERROR((tabSecond[[#This Row],[Close]]-tabSecond[[#This Row],[Open]])/tabSecond[[#This Row],[Open]],\"\")","v":""}]
[{"$error":"#N/A"},{"$f":"IFERROR((Feuil2!#REF!-#REF!)/#REF!,\"\")","v":""},{"$f":"IFERROR((tabSecond[[#This Row],[Close]]-tabSecond[[#This Row],[Open]])/tabSecond[[#This Row],[Open]],\"\")","v":""}]
[{"$error":"#N/A"},{"$f":"IFERROR((Feuil2!#REF!-#REF!)/#REF!,\"\")","v":""},{"$f":"IFERROR((tabSecond[[#This Row],[Close]]-tabSecond[[#This Row],[Open]])/tabSecond[[#This Row],[Open]],\"\")","v":""}]
[{"$error":"#N/A"},{"$f":"IFERROR((Feuil2!#REF!-#REF!)/#REF!,\"\")","v":""},{"$f":"IFERROR((tabSecond[[#This Row],[Close]]-tabSecond[[#This Row],[Open]])/tabSecond[[#This Row],[Open]],\"\")","v":""}]
[{"$error":"#N/A"},{"$f":"IFERROR((Feuil2!#REF!-#REF!)/#REF!,\"\")","v":""},{"$f":"IFERROR((tabSecond[[#This Row],[Close]]-tabSecond[[#This Row],[Open]])/tabSecond[[#This Row],[Open]],\"\")","v":""}]
[{"$error":"#N/A"},{"$f":"IFERROR((Feuil2!#REF!-#REF!)/#REF!,\"\")","v":""},{"$f":"IFERROR((tabSecond[[#This Row],[Close]]-tabSecond[[#This Row],[Open]])/tabSecond[[#This Row],[Open]],\"\")","v":""}]
[{"$error":"#N/A"},{"$f":"IFERROR((Feuil2!#REF!-#REF!)/#REF!,\"\")","v":""},{"$f":"IFERROR((tabSecond[[#This Row],[Close]]-tabSecond[[#This Row],[Open]])/tabSecond[[#This Row],[Open]],\"\")","v":""}]
[{"$error":"#N/A"},{"$f":"IFERROR((Feuil2!#REF!-#REF!)/#REF!,\"\")","v":""},{"$f":"IFERROR((tabSecond[[#This Row],[Close]]-tabSecond[[#This Row],[Open]])/tabSecond[[#This Row],[Open]],\"\")","v":""}]
[{"$error":"#N/A"},{"$f":"IFERROR((Feuil2!#REF!-#REF!)/#REF!,\"\")","v":""},{"$f":"IFERROR((tabSecond[[#This Row],[Close]]-tabSecond[[#This Row],[Open]])/tabSecond[[#This Row],[Open]],\"\")","v":""}]
[{"$error":"#N/A"},{"$f":"IFERROR((Feuil2!#REF!-#REF!)/#REF!,\"\")","v":""},{"$f":"IFERROR((tabSecond[[#This Row],[Close]]-tabSecond[[#This Row],[Open]])/tabSecond[[#This Row],[Open]],\"\")","v":""}]
[{"$error":"#N/A"},{"$f":"IFERROR((Feuil2!#REF!-#REF!)/#REF!,\"\")","v":""},{"$f":"IFERROR((tabSecond[[#This Row],[Close]]-tabSecond[[#This Row],[Open]])/tabSecond[[#This Row],[Open]],\"\")","v":""}]
[{"$error":"#N/A"},{"$f":"IFERROR((Feuil2!#REF!-#REF!)/#REF!,\"\")","v":""},{"$f":"IFERROR((tabSecond[[#This Row],[Close]]-tabSecond[[#This Row],[Open]])/tabSecond[[#This Row],[Open]],\"\")","v":""}]
[{"$error":"#N/A"},{"$f":"IFERROR((Feuil2!#REF!-#REF!)/#REF!,\"\")","v":""},{"$f":"IFERROR((tabSecond[[#This Row],[Close]]-tabSecond[[#This Row],[Open]])/tabSecond[[#This Row],[Open]],\"\")","v":""}]
[{"$error":"#N/A"},{"$f":"IFERROR((Feuil2!#REF!-#REF!)/#REF!,\"\")","v":""},{"$f":"IFERROR((tabSecond[[#This Row],[Close]]-tabSecond[[#This Row],[Open]])/tabSecond[[#This Row],[Open]],\"\")","v":""}]
[{"$error":"#N/A"},{"$f":"IFERROR((Feuil2!#REF!-#REF!)/#REF!,\"\")","v":""},{"$f":"IFERROR((tabSecond[[#This Row],[Close]]-tabSecond[[#This Row],[Open]])/tabSecond[[#This Row],[Open]],\"\")","v":""}]
[{"$error":"#N/A"},{"$f":"IFERROR((Feuil2!#REF!-#REF!)/#REF!,\"\")","v":""},{"$f":"IFERROR((tabSecond[[#This Row],[Close]]-tabSecond[[#This Row],[Open]])/tabSecond[[#This Row],[Open]],\"\")","v":""}]
[{"$error":"#N/A"},{"$f":"IFERROR((Feuil2!#REF!-#REF!)/#REF!,\"\")","v":""},{"$f":"IFERROR((tabSecond[[#This Row],[Close]]-tabSecond[[#This Row],[Open]])/tabSecond[[#This Row],[Open]],\"\")","v":""}]
[{"$error":"#N/A"},{"$f":"IFERROR((Feuil2!#REF!-#REF!)/#REF!,\"\")","v":""},{"$f":"IFERROR((tabSecond[[#This Row],[Close]]-tabSecond[[#This Row],[Open]])/tabSecond[[#This Row],[Open]],\"\")","v":""}]
[{"$error":"#N/A"},{"$f":"IFERROR((Feuil2!#REF!-#REF!)/#REF!,\"\")","v":""},{"$f":"IFERROR((tabSecond[[#This Row],[Close]]-tabSecond[[#This Row],[Open]])/tabSecond[[#This Row],[Open]],\"\")","v":""}]
[{"$error":"#N/A"},{"$f":"IFERROR((Feuil2!#REF!-#REF!)/#REF!,\"\")","v":""},{"$f":"IFERROR((tabSecond[[#This Row],[Close]]-tabSecond[[#This Row],[Open]])/tabSecond[[#This Row],[Open]],\"\")","v":""}]
[{"$error":"#N/A"},{"$f":"IFERROR((Feuil2!#REF!-#REF!)/#REF!,\"\")","v":""},{"$f":"IFERROR((tabSecond[[#This Row],[Close]]-tabSecond[[#This Row],[Open]])/tabSecond[[#This Row],[Open]],\"\")","v":""}]
[{"$error":"#N/A"},{"$f":"IFERROR((Feuil2!#REF!-#REF!)/#REF!,\"\")","v":""},{"$f":"IFERROR((tabSecond[[#This Row],[Close]]-tabSecond[[#This Row],[Open]])/tabSecond[[#This Row],[Open]],\"\")","v":""}]
[{"$error":"#N/A"},{"$f":"IFERROR((Feuil2!#REF!-#REF!)/#REF!,\"\")","v":""},{"$f":"IFERROR((tabSecond[[#This Row],[Close]]-tabSecond[[#This Row],[Open]])/tabSecond[[#This Row],[Open]],\"\")","v":""}]
[{"$error":"#N/A"},{"$f":"IFERROR((Feuil2!#REF!-#REF!)/#REF!,\"\")","v":""},{"$f":"IFERROR((tabSecond[[#This Row],[Close]]-tabSecond[[#This Row],[Open]])/tabSecond[[#This Row],[Open]],\"\")","v":""}]
[{"$error":"#N/A"},{"$f":"IFERROR((Feuil2!#REF!-#REF!)/#REF!,\"\")","v":""},{"$f":"IFERROR((tabSecond[[#This Row],[Close]]-tabSecond[[#This Row],[Open]])/tabSecond[[#This Row],[Open]],\"\")","v":""}]
[{"$error":"#N/A"},{"$f":"IFERROR((Feuil2!#REF!-#REF!)/#REF!,\"\")","v":""},{"$f":"IFERROR((tabSecond[[#This Row],[Close]]-tabSecond[[#This Row],[Open]])/tabSecond[[#This Row],[Open]],\"\")","v":""}]
[{"$error":"#N/A"},{"$f":"IFERROR((Feuil2!#REF!-#REF!)/#REF!,\"\")","v":""},{"$f":"IFERROR((tabSecond[[#This Row],[Close]]-tabSecond[[#This Row],[Open]])/tabSecond[[#This Row],[Open]],\"\")","v":""}]
[{"$error":"#N/A"},{"$f":"IFERROR((Feuil2!#REF!-#REF!)/#REF!,\"\")","v":""},{"$f":"IFERROR((tabSecond[[#This Row],[Close]]-tabSecond[[#This Row],[Open]])/tabSecond[[#This Row],[Open]],\"\")","v":""}]
[{"$error":"#N/A"},{"$f":"IFERROR((Feuil2!#REF!-#REF!)/#REF!,\"\")","v":""},{"$f":"IFERROR((tabSecond[[#This Row],[Close]]-tabSecond[[#This Row],[Open]])/tabSecond[[#This Row],[Open]],\"\")","v":""}]
[{"$error":"#N/A"},{"$f":"IFERROR((Feuil2!#REF!-#REF!)/#REF!,\"\")","v":""},{"$f":"IFERROR((tabSecond[[#This Row],[Close]]-tabSecond[[#This Row],[Open]])/tabSecond[[#This Row],[Open]],\"\")","v":""}]
[{"$error":"#N/A"},{"$f":"IFERROR((Feuil2!#REF!-#REF!)/#REF!,\"\")","v":""},{"$f":"IFERROR((tabSecond[[#This Row],[Close]]-tabSecond[[#This Row],[Open]])/tabSecond[[#This Row],[Open]],\"\")","v":""}]
[{"$error":"#N/A"},{"$f":"IFERROR((Feuil2!#REF!-#REF!)/#REF!,\"\")","v":""},{"$f":"IFERROR((tabSecond[[#This Row],[Close]]-tabSecond[[#This Row],[Open]])/tabSecond[[#This Row],[Open]],\"\")","v":""}]
[{"$error":"#N/A"},{"$f":"IFERROR((Feuil2!#REF!-#REF!)/#REF!,\"\")","v":""},{"$f":"IFERROR((tabSecond[[#This Row],[Close]]-tabSecond[[#This Row],[Open]])/tabSecond[[#This Row],[Open]],\"\")","v":""}]
[{"$error":"#N/A"},{"$f":"IFERROR((Feuil2!#REF!-#REF!)/#REF!,\"\")","v":""},{"$f":"IFERROR((tabSecond[[#This Row],[Close]]-tabSecond[[#This Row],[Open]])/tabSecond[[#This Row],[Open]],\"\")","v":""}]
[{"$error":"#N/A"},{"$f":"IFERROR((Feuil2!#REF!-#REF!)/#REF!,\"\")","v":""},{"$f":"IFERROR((tabSecond[[#This Row],[Close]]-tabSecond[[#This Row],[Open]])/tabSecond[[#This Row],[Open]],\"\")","v":""}]
[{"$error":"#N/A"},{"$f":"IFERROR((Feuil2!#REF!-#REF!)/#REF!,\"\")","v":""},{"$f":"IFERROR((tabSecond[[#This Row],[Close]]-tabSecond[[#This Row],[Open]])/tabSecond[[#This Row],[Open]],\"\")","v":""}]
[{"$error":"#N/A"},{"$f":"IFERROR((Feuil2!#REF!-#REF!)/#REF!,\"\")","v":""},{"$f":"IFERROR((tabSecond[[#This Row],[Close]]-tabSecond[[#This Row],[Open]])/tabSecond[[#This Row],[Open]],\"\")","v":""}]
[{"$error":"#N/A"},{"$f":"IFERROR((Feuil2!#REF!-#REF!)/#REF!,\"\")","v":""},{"$f":"IFERROR((tabSecond[[#This Row],[Close]]-tabSecond[[#This Row],[Open]])/tabSecond[[#This Row],[Open]],\"\")","v":""}]
[{"$error":"#N/A"},{"$f":"IFERROR((Feuil2!#REF!-#REF!)/#REF!,\"\")","v":""},{"$f":"IFERROR((tabSecond[[#This Row],[Close]]-tabSecond[[#This Row],[Open]])/tabSecond[[#This Row],[Open]],\"\")","v":""}]
[{"$error":"#N/A"},{"$f":"IFERROR((Feuil2!#REF!-#REF!)/#REF!,\"\")","v":""},{"$f":"IFERROR((tabSecond[[#This Row],[Close]]-tabSecond[[#This Row],[Open]])/tabSecond[[#This Row],[Open]],\"\")","v":""}]
[{"$error":"#N/A"},{"$f":"IFERROR((Feuil2!#REF!-#REF!)/#REF!,\"\")","v":""},{"$f":"IFERROR((tabSecond[[#This Row],[Close]]-tabSecond[[#This Row],[Open]])/tabSecond[[#This Row],[Open]],\"\")","v":""}]
[{"$error":"#N/A"},{"$f":"IFERROR((Feuil2!#REF!-#REF!)/#REF!,\"\")","v":""},{"$f":"IFERROR((tabSecond[[#This Row],[Close]]-tabSecond[[#This Row],[Open]])/tabSecond[[#This Row],[Open]],\"\")","v":""}]
[{"$error":"#N/A"},{"$f":"IFERROR((Feuil2!#REF!-#REF!)/#REF!,\"\")","v":""},{"$f":"IFERROR((tabSecond[[#This Row],[Close]]-tabSecond[[#This Row],[Open]])/tabSecond[[#This Row],[Open]],\"\")","v":""}]
[{"$error":"#N/A"},{"$f":"IFERROR((Feuil2!#REF!-#REF!)/#REF!,\"\")","v":""},{"$f":"IFERROR((tabSecond[[#This Row],[Close]]-tabSecond[[#This Row],[Open]])/tabSecond[[#This Row],[Open]],\"\")","v":""}]
[{"$error":"#N/A"},{"$f":"IFERROR((Feuil2!#REF!-#REF!)/#REF!,\"\")","v":""},{"$f":"IFERROR((tabSecond[[#This Row],[Close]]-tabSecond[[#This Row],[Open]])/tabSecond[[#This Row],[Open]],\"\")","v":""}]
[{"$error":"#N/A"},{"$f":"IFERROR((Feuil2!#REF!-#REF!)/#REF!,\"\")","v":""},{"$f":"IFERROR((tabSecond[[#This Row],[Close]]-tabSecond[[#This Row],[Open]])/tabSecond[[#This Row],[Open]],\"\")","v":""}]
[{"$error":"#N/A"},{"$f":"IFERROR((Feuil2!#REF!-#REF!)/#REF!,\"\")","v":""},{"$f":"IFERROR((tabSecond[[#This Row],[Close]]-tabSecond[[#This Row],[Open]])/tabSecond[[#This Row],[Open]],\"\")","v":""}]
[{"$error":"#N/A"},{"$f":"IFERROR((Feuil2!#REF!-#REF!)/#REF!,\"\")","v":""},{"$f":"IFERROR((tabSecond[[#This Row],[Close]]-tabSecond[[#This Row],[Open]])/tabSecond[[#This Row],[Open]],\"\")","v":""}]
[{"$error":"#N/A"},{"$f":"IFERROR((Feuil2!#REF!-#REF!)/#REF!,\"\")","v":""},{"$f":"IFERROR((tabSecond[[#This Row],[Close]]-tabSecond[[#This Row],[Open]])/tabSecond[[#This Row],[Open]],\"\")","v":""}]
[{"$error":"#N/A"},{"$f":"IFERROR((Feuil2!#REF!-#REF!)/#REF!,\"\")","v":""},{"$f":"IFERROR((tabSecond[[#This Row],[Close]]-tabSecond[[#This Row],[Open]])/tabSecond[[#This Row],[Open]],\"\")","v":""}]
[{"$error":"#N/A"},{"$f":"IFERROR((Feuil2!#REF!-#REF!)/#REF!,\"\")","v":""},{"$f":"IFERROR((tabSecond[[#This Row],[Close]]-tabSecond[[#This Row],[Open]])/tabSecond[[#This Row],[Open]],\"\")","v":""}]
[{"$error":"#N/A"},{"$f":"IFERROR((Feuil2!#REF!-#REF!)/#REF!,\"\")","v":""},{"$f":"IFERROR((tabSecond[[#This Row],[Close]]-tabSecond[[#This Row],[Open]])/tabSecond[[#This Row],[Open]],\"\")","v":""}]
[{"$error":"#N/A"},{"$f":"IFERROR((Feuil2!#REF!-#REF!)/#REF!,\"\")","v":""},{"$f":"IFERROR((tabSecond[[#This Row],[Close]]-tabSecond[[#This Row],[Open]])/tabSecond[[#This Row],[Open]],\"\")","v":""}]
[{"$error":"#N/A"},{"$f":"IFERROR((Feuil2!#REF!-#REF!)/#REF!,\"\")","v":""},{"$f":"IFERROR((tabSecond[[#This Row],[Close]]-tabSecond[[#This Row],[Open]])/tabSecond[[#This Row],[Open]],\"\")","v":""}]
[{"$error":"#N/A"},{"$f":"IFERROR((Feuil2!#REF!-#REF!)/#REF!,\"\")","v":""},{"$f":"IFERROR((tabSecond[[#This Row],[Close]]-tabSecond[[#This Row],[Open]])/tabSecond[[#This Row],[Open]],\"\")","v":""}]
[{"$error":"#N/A"},{"$f":"IFERROR((Feuil2!#REF!-#REF!)/#REF!,\"\")","v":""},{"$f":"IFERROR((tabSecond[[#This Row],[Close]]-tabSecond[[#This Row],[Open]])/tabSecond[[#This Row],[Open]],\"\")","v":""}]
[{"$error":"#N/A"},{"$f":"IFERROR((Feuil2!#REF!-#REF!)/#REF!,\"\")","v":""},{"$f":"IFERROR((tabSecond[[#This Row],[Close]]-tabSecond[[#This Row],[Open]])/tabSecond[[#This Row],[Open]],\"\")","v":""}]
[{"$error":"#N/A"},{"$f":"IFERROR((Feuil2!#REF!-#REF!)/#REF!,\"\")","v":""},{"$f":"IFERROR((tabSecond[[#This Row],[Close]]-tabSecond[[#This Row],[Open]])/tabSecond[[#This Row],[Open]],\"\")","v":""}]
[{"$error":"#N/A"},{"$f":"IFERROR((Feuil2!#REF!-#REF!)/#REF!,\"\")","v":""},{"$f":"IFERROR((tabSecond[[#This Row],[Close]]-tabSecond[[#This Row],[Open]])/tabSecond[[#This Row],[Open]],\"\")","v":""}]
[{"$error":"#N/A"},{"$f":"IFERROR((Feuil2!#REF!-#REF!)/#REF!,\"\")","v":""},{"$f":"IFERROR((tabSecond[[#This Row],[Close]]-tabSecond[[#This Row],[Open]])/tabSecond[[#This Row],[Open]],\"\")","v":""}]
[{"$error":"#N/A"},{"$f":"IFERROR((Feuil2!#REF!-#REF!)/#REF!,\"\")","v":""},{"$f":"IFERROR((tabSecond[[#This Row],[Close]]-tabSecond[[#This Row],[Open]])/tabSecond[[#This Row],[Open]],\"\")","v":""}]
[{"$error":"#N/A"},{"$f":"IFERROR((Feuil2!#REF!-#REF!)/#REF!,\"\")","v":""},{"$f":"IFERROR((tabSecond[[#This Row],[Close]]-tabSecond[[#This Row],[Open]])/tabSecond[[#This Row],[Open]],\"\")","v":""}]
[{"$error":"#N/A"},{"$f":"IFERROR((Feuil2!#REF!-#REF!)/#REF!,\"\")","v":""},{"$f":"IFERROR((tabSecond[[#This Row],[Close]]-tabSecond[[#This Row],[Open]])/tabSecond[[#This Row],[Open]],\"\")","v":""}]
[{"$error":"#N/A"},{"$f":"IFERROR((Feuil2!#REF!-#REF!)/#REF!,\"\")","v":""},{"$f":"IFERROR((tabSecond[[#This Row],[Close]]-tabSecond[[#This Row],[Open]])/tabSecond[[#This Row],[Open]],\"\")","v":""}]
[{"$error":"#N/A"},{"$f":"IFERROR((Feuil2!#REF!-#REF!)/#REF!,\"\")","v":""},{"$f":"IFERROR((tabSecond[[#This Row],[Close]]-tabSecond[[#This Row],[Open]])/tabSecond[[#This Row],[Open]],\"\")","v":""}]
[{"$error":"#N/A"},{"$f":"IFERROR((Feuil2!#REF!-#REF!)/#REF!,\"\")","v":""},{"$f":"IFERROR((tabSecond[[#This Row],[Close]]-tabSecond[[#This Row],[Open]])/tabSecond[[#This Row],[Open]],\"\")","v":""}]
[{"$error":"#N/A"},{"$f":"IFERROR((Feuil2!#REF!-#REF!)/#REF!,\"\")","v":""},{"$f":"IFERROR((tabSecond[[#This Row],[Close]]-tabSecond[[#This Row],[Open]])/tabSecond[[#This Row],[Open]],\"\")","v":""}]
[{"$error":"#N/A"},{"$f":"IFERROR((Feuil2!#REF!-#REF!)/#REF!,\"\")","v":""},{"$f":"IFERROR((tabSecond[[#This Row],[Close]]-tabSecond[[#This Row],[Open]])/tabSecond[[#This Row],[Open]],\"\")","v":""}]
[{"$error":"#N/A"},{"$f":"IFERROR((Feuil2!#REF!-#REF!)/#REF!,\"\")","v":""},{"$f":"IFERROR((tabSecond[[#This Row],[Close]]-tabSecond[[#This Row],[Open]])/tabSecond[[#This Row],[Open]],\"\")","v":""}]
[{"$error":"#N/A"},{"$f":"IFERROR((Feuil2!#REF!-#REF!)/#REF!,\"\")","v":""},{"$f":"IFERROR((tabSecond[[#This Row],[Close]]-tabSecond[[#This Row],[Open]])/tabSecond[[#This Row],[Open]],\"\")","v":""}]
[{"$error":"#N/A"},{"$f":"IFERROR((Feuil2!#REF!-#REF!)/#REF!,\"\")","v":""},{"$f":"IFERROR((tabSecond[[#This Row],[Close]]-tabSecond[[#This Row],[Open]])/tabSecond[[#This Row],[Open]],\"\")","v":""}]
[{"$error":"#N/A"},{"$f":"IFERROR((Feuil2!#REF!-#REF!)/#REF!,\"\")","v":""},{"$f":"IFERROR((tabSecond[[#This Row],[Close]]-tabSecond[[#This Row],[Open]])/tabSecond[[#This Row],[Open]],\"\")","v":""}]
[{"$error":"#N/A"},{"$f":"IFERROR((Feuil2!#REF!-#REF!)/#REF!,\"\")","v":""},{"$f":"IFERROR((tabSecond[[#This Row],[Close]]-tabSecond[[#This Row],[Open]])/tabSecond[[#This Row],[Open]],\"\")","v":""}]
[{"$error":"#N/A"},{"$f":"IFERROR((Feuil2!#REF!-#REF!)/#REF!,\"\")","v":""},{"$f":"IFERROR((tabSecond[[#This Row],[Close]]-tabSecond[[#This Row],[Open]])/tabSecond[[#This Row],[Open]],\"\")","v":""}]
[{"$error":"#N/A"},{"$f":"IFERROR((Feuil2!#REF!-#REF!)/#REF!,\"\")","v":""},{"$f":"IFERROR((tabSecond[[#This Row],[Close]]-tabSecond[[#This Row],[Open]])/tabSecond[[#This Row],[Open]],\"\")","v":""}]
[{"$error":"#N/A"},{"$f":"IFERROR((Feuil2!#REF!-#REF!)/#REF!,\"\")","v":""},{"$f":"IFERROR((tabSecond[[#This Row],[Close]]-tabSecond[[#This Row],[Open]])/tabSecond[[#This Row],[Open]],\"\")","v":""}]
[{"$error":"#N/A"},{"$f":"IFERROR((Feuil2!#REF!-#REF!)/#REF!,\"\")","v":""},{"$f":"IFERROR((tabSecond[[#This Row],[Close]]-tabSecond[[#This Row],[Open]])/tabSecond[[#This Row],[Open]],\"\")","v":""}]
[{"$error":"#N/A"},{"$f":"IFERROR((Feuil2!#REF!-#REF!)/#REF!,\"\")","v":""},{"$f":"IFERROR((tabSecond[[#This Row],[Close]]-tabSecond[[#This Row],[Open]])/tabSecond[[#This Row],[Open]],\"\")","v":""}]
[{"$error":"#N/A"},{"$f":"IFERROR((Feuil2!#REF!-#REF!)/#REF!,\"\")","v":""},{"$f":"IFERROR((tabSecond[[#This Row],[Close]]-tabSecond[[#This Row],[Open]])/tabSecond[[#This Row],[Open]],\"\")","v":""}]
[{"$error":"#N/A"},{"$f":"IFERROR((Feuil2!#REF!-#REF!)/#REF!,\"\")","v":""},{"$f":"IFERROR((tabSecond[[#This Row],[Close]]-tabSecond[[#This Row],[Open]])/tabSecond[[#This Row],[Open]],\"\")","v":""}]
[{"$error":"#N/A"},{"$f":"IFERROR((Feuil2!#REF!-#REF!)/#REF!,\"\")","v":""},{"$f":"IFERROR((tabSecond[[#This Row],[Close]]-tabSecond[[#This Row],[Open]])/tabSecond[[#This Row],[Open]],\"\")","v":""}]
[{"$error":"#N/A"},{"$f":"IFERROR((Feuil2!#REF!-#REF!)/#REF!,\"\")","v":""},{"$f":"IFERROR((tabSecond[[#This Row],[Close]]-tabSecond[[#This Row],[Open]])/tabSecond[[#This Row],[Open]],\"\")","v":""}]
[{"$error":"#N/A"},{"$f":"IFERROR((Feuil2!#REF!-#REF!)/#REF!,\"\")","v":""},{"$f":"IFERROR((tabSecond[[#This Row],[Close]]-tabSecond[[#This Row],[Open]])/tabSecond[[#This Row],[Open]],\"\")","v":""}]
[{"$error":"#N/A"},{"$f":"IFERROR((Feuil2!#REF!-#REF!)/#REF!,\"\")","v":""},{"$f":"IFERROR((tabSecond[[#This Row],[Close]]-tabSecond[[#This Row],[Open]])/tabSecond[[#This Row],[Open]],\"\")","v":""}]
[{"$error":"#N/A"},{"$f":"IFERROR((Feuil2!#REF!-#REF!)/#REF!,\"\")","v":""},{"$f":"IFERROR((tabSecond[[#This Row],[Close]]-tabSecond[[#This Row],[Open]])/tabSecond[[#This Row],[Open]],\"\")","v":""}]
[{"$error":"#N/A"},{"$f":"IFERROR((Feuil2!#REF!-#REF!)/#REF!,\"\")","v":""},{"$f":"IFERROR((tabSecond[[#This Row],[Close]]-tabSecond[[#This Row],[Open]])/tabSecond[[#This Row],[Open]],\"\")","v":""}]
[{"$error":"#N/A"},{"$f":"IFERROR((Feuil2!#REF!-#REF!)/#REF!,\"\")","v":""},{"$f":"IFERROR((tabSecond[[#This Row],[Close]]-tabSecond[[#This Row],[Open]])/tabSecond[[#This Row],[Open]],\"\")","v":""}]
[{"$error":"#N/A"},{"$f":"IFERROR((Feuil2!#REF!-#REF!)/#REF!,\"\")","v":""},{"$f":"IFERROR((tabSecond[[#This Row],[Close]]-tabSecond[[#This Row],[Open]])/tabSecond[[#This Row],[Open]],\"\")","v":""}]
[{"$error":"#N/A"},{"$f":"IFERROR((Feuil2!#REF!-#REF!)/#REF!,\"\")","v":""},{"$f":"IFERROR((tabSecond[[#This Row],[Close]]-tabSecond[[#This Row],[Open]])/tabSecond[[#This Row],[Open]],\"\")","v":""}]
[{"$error":"#N/A"},{"$f":"IFERROR((Feuil2!#REF!-#REF!)/#REF!,\"\")","v":""},{"$f":"IFERROR((tabSecond[[#This Row],[Close]]-tabSecond[[#This Row],[Open]])/tabSecond[[#This Row],[Open]],\"\")","v":""}]
[{"$error":"#N/A"},{"$f":"IFERROR((Feuil2!#REF!-#REF!)/#REF!,\"\")","v":""},{"$f":"IFERROR((tabSecond[[#This Row],[Close]]-tabSecond[[#This Row],[Open]])/tabSecond[[#This Row],[Open]],\"\")","v":""}]
[{"$error":"#N/A"},{"$f":"IFERROR((Feuil2!#REF!-#REF!)/#REF!,\"\")","v":""},{"$f":"IFERROR((tabSecond[[#This Row],[Close]]-tabSecond[[#This Row],[Open]])/tabSecond[[#This Row],[Open]],\"\")","v":""}]
[{"$error":"#N/A"},{"$f":"IFERROR((Feuil2!#REF!-#REF!)/#REF!,\"\")","v":""},{"$f":"IFERROR((tabSecond[[#This Row],[Close]]-tabSecond[[#This Row],[Open]])/tabSecond[[#This Row],[Open]],\"\")","v":""}]
[{"$error":"#N/A"},{"$f":"IFERROR((Feuil2!#REF!-#REF!)/#REF!,\"\")","v":""},{"$f":"IFERROR((tabSecond[[#This Row],[Close]]-tabSecond[[#This Row],[Open]])/tabSecond[[#This Row],[Open]],\"\")","v":""}]
[{"$error":"#N/A"},{"$f":"IFERROR((Feuil2!#REF!-#REF!)/#REF!,\"\")","v":""},{"$f":"IFERROR((tabSecond[[#This Row],[Close]]-tabSecond[[#This Row],[Open]])/tabSecond[[#This Row],[Open]],\"\")","v":""}]
[{"$error":"#N/A"},{"$f":"IFERROR((Feuil2!#REF!-#REF!)/#REF!,\"\")","v":""},{"$f":"IFERROR((tabSecond[[#This Row],[Close]]-tabSecond[[#This Row],[Open]])/tabSecond[[#This Row],[Open]],\"\")","v":""}]
[{"$error":"#N/A"},{"$f":"IFERROR((Feuil2!#REF!-#REF!)/#REF!,\"\")","v":""},{"$f":"IFERROR((tabSecond[[#This Row],[Close]]-tabSecond[[#This Row],[Open]])/tabSecond[[#This Row],[Open]],\"\")","v":""}]
[{"$error":"#N/A"},{"$f":"IFERROR((Feuil2!#REF!-#REF!)/#REF!,\"\")","v":""},{"$f":"IFERROR((tabSecond[[#This Row],[Close]]-tabSecond[[#This Row],[Open]])/tabSecond[[#This Row],[Open]],\"\")","v":""}]
[{"$error":"#N/A"},{"$f":"IFERROR((Feuil2!#REF!-#REF!)/#REF!,\"\")","v":""},{"$f":"IFERROR((tabSecond[[#This Row],[Close]]-tabSecond[[#This Row],[Open]])/tabSecond[[#This Row],[Open]],\"\")","v":""}]
[{"$error":"#N/A"},{"$f":"IFERROR((Feuil2!#REF!-#REF!)/#REF!,\"\")","v":""},{"$f":"IFERROR((tabSecond[[#This Row],[Close]]-tabSecond[[#This Row],[Open]])/tabSecond[[#This Row],[Open]],\"\")","v":""}]
[{"$error":"#N/A"},{"$f":"IFERROR((Feuil2!#REF!-#REF!)/#REF!,\"\")","v":""},{"$f":"IFERROR((tabSecond[[#This Row],[Close]]-tabSecond[[#This Row],[Open]])/tabSecond[[#This Row],[Open]],\"\")","v":""}]
[{"$error":"#N/A"},{"$f":"IFERROR((Feuil2!#REF!-#REF!)/#REF!,\"\")","v":""},{"$f":"IFERROR((tabSecond[[#This Row],[Close]]-tabSecond[[#This Row],[Open]])/tabSecond[[#This Row],[Open]],\"\")","v":""}]
[{"$error":"#N/A"},{"$f":"IFERROR((Feuil2!#REF!-#REF!)/#REF!,\"\")","v":""},{"$f":"IFERROR((tabSecond[[#This Row],[Close]]-tabSecond[[#This Row],[Open]])/tabSecond[[#This Row],[Open]],\"\")","v":""}]
[{"$error":"#N/A"},{"$f":"IFERROR((Feuil2!#REF!-#REF!)/#REF!,\"\")","v":""},{"$f":"IFERROR((tabSecond[[#This Row],[Close]]-tabSecond[[#This Row],[Open]])/tabSecond[[#This Row],[Open]],\"\")","v":""}]
[{"$error":"#N/A"},{"$f":"IFERROR((Feuil2!#REF!-#REF!)/#REF!,\"\")","v":""},{"$f":"IFERROR((tabSecond[[#This Row],[Close]]-tabSecond[[#This Row],[Open]])/tabSecond[[#This Row],[Open]],\"\")","v":""}]
[{"$error":"#N/A"},{"$f":"IFERROR((Feuil2!#REF!-#REF!)/#REF!,\"\")","v":""},{"$f":"IFERROR((tabSecond[[#This Row],[Close]]-tabSecond[[#This Row],[Open]])/tabSecond[[#This Row],[Open]],\"\")","v":""}]
[{"$error":"#N/A"},{"$f":"IFERROR((Feuil2!#REF!-#REF!)/#REF!,\"\")","v":""},{"$f":"IFERROR((tabSecond[[#This Row],[Close]]-tabSecond[[#This Row],[Open]])/tabSecond[[#This Row],[Open]],\"\")","v":""}]
[{"$error":"#N/A"},{"$f":"IFERROR((Feuil2!#REF!-#REF!)/#REF!,\"\")","v":""},{"$f":"IFERROR((tabSecond[[#This Row],[Close]]-tabSecond[[#This Row],[Open]])/tabSecond[[#This Row],[Open]],\"\")","v":""}]
[{"$error":"#N/A"},{"$f":"IFERROR((Feuil2!#REF!-#REF!)/#REF!,\"\")","v":""},{"$f":"IFERROR((tabSecond[[#This Row],[Close]]-tabSecond[[#This Row],[Open]])/tabSecond[[#This Row],[Open]],\"\")","v":""}]
[{"$error":"#N/A"},{"$f":"IFERROR((Feuil2!#REF!-#REF!)/#REF!,\"\")","v":""},{"$f":"IFERROR((tabSecond[[#This Row],[Close]]-tabSecond[[#This Row],[Open]])/tabSecond[[#This Row],[Open]],\"\")","v":""}]
[{"$error":"#N/A"},{"$f":"IFERROR((Feuil2!#REF!-#REF!)/#REF!,\"\")","v":""},{"$f":"IFERROR((tabSecond[[#This Row],[Close]]-tabSecond[[#This Row],[Open]])/tabSecond[[#This Row],[Open]],\"\")","v":""}]
[{"$error":"#N/A"},{"$f":"IFERROR((Feuil2!#REF!-#REF!)/#REF!,\"\")","v":""},{"$f":"IFERROR((tabSecond[[#This Row],[Close]]-tabSecond[[#This Row],[Open]])/tabSecond[[#This Row],[Open]],\"\")","v":""}]
[{"$error":"#N/A"},{"$f":"IFERROR((Feuil2!#REF!-#REF!)/#REF!,\"\")","v":""},{"$f":"IFERROR((tabSecond[[#This Row],[Close]]-tabSecond[[#This Row],[Open]])/tabSecond[[#This Row],[Open]],\"\")","v":""}]
[{"$error":"#N/A"},{"$f":"IFERROR((Feuil2!#REF!-#REF!)/#REF!,\"\")","v":""},{"$f":"IFERROR((tabSecond[[#This Row],[Close]]-tabSecond[[#This Row],[Open]])/tabSecond[[#This Row],[Open]],\"\")","v":""}]
[{"$error":"#N/A"},{"$f":"IFERROR((Feuil2!#REF!-#REF!)/#REF!,\"\")","v":""},{"$f":"IFERROR((tabSecond[[#This Row],[Close]]-tabSecond[[#This Row],[Open]])/tabSecond[[#This Row],[Open]],\"\")","v":""}]
[{"$error":"#N/A"},{"$f":"IFERROR((Feuil2!#REF!-#REF!)/#REF!,\"\")","v":""},{"$f":"IFERROR((tabSecond[[#This Row],[Close]]-tabSecond[[#This Row],[Open]])/tabSecond[[#This Row],[Open]],\"\")","v":""}]
[{"$error":"#N/A"},{"$f":"IFERROR((Feuil2!#REF!-#REF!)/#REF!,\"\")","v":""},{"$f":"IFERROR((tabSecond[[#This Row],[Close]]-tabSecond[[#This Row],[Open]])/tabSecond[[#This Row],[Open]],\"\")","v":""}]
[{"$error":"#N/A"},{"$f":"IFERROR((Feuil2!#REF!-#REF!)/#REF!,\"\")","v":""},{"$f":"IFERROR((tabSecond[[#This Row],[Close]]-tabSecond[[#This Row],[Open]])/tabSecond[[#This Row],[Open]],\"\")","v":""}]
[{"$error":"#N/A"},{"$f":"IFERROR((Feuil2!#REF!-#REF!)/#REF!,\"\")","v":""},{"$f":"IFERROR((tabSecond[[#This Row],[Close]]-tabSecond[[#This Row],[Open]])/tabSecond[[#This Row],[Open]],\"\")","v":""}]
[{"$error":"#N/A"},{"$f":"IFERROR((Feuil2!#REF!-#REF!)/#REF!,\"\")","v":""},{"$f":"IFERROR((tabSecond[[#This Row],[Close]]-tabSecond[[#This Row],[Open]])/tabSecond[[#This Row],[Open]],\"\")","v":""}]
[{"$error":"#N/A"},{"$f":"IFERROR((Feuil2!#REF!-#REF!)/#REF!,\"\")","v":""},{"$f":"IFERROR((tabSecond[[#This Row],[Close]]-tabSecond[[#This Row],[Open]])/tabSecond[[#This Row],[Open]],\"\")","v":""}]
[{"$error":"#N/A"},{"$f":"IFERROR((Feuil2!#REF!-#REF!)/#REF!,\"\")","v":""},{"$f":"IFERROR((tabSecond[[#This Row],[Close]]-tabSecond[[#This Row],[Open]])/tabSecond[[#This Row],[Open]],\"\")","v":""}]
[{"$error":"#N/A"},{"$f":"IFERROR((Feuil2!#REF!-#REF!)/#REF!,\"\")","v":""},{"$f":"IFERROR((tabSecond[[#This Row],[Close]]-tabSecond[[#This Row],[Open]])/tabSecond[[#This Row],[Open]],\"\")","v":""}]
[{"$error":"#N/A"},{"$f":"IFERROR((Feuil2!#REF!-#REF!)/#REF!,\"\")","v":""},{"$f":"IFERROR((tabSecond[[#This Row],[Close]]-tabSecond[[#This Row],[Open]])/tabSecond[[#This Row],[Open]],\"\")","v":""}]
[{"$error":"#N/A"},{"$f":"IFERROR((Feuil2!#REF!-#REF!)/#REF!,\"\")","v":""},{"$f":"IFERROR((tabSecond[[#This Row],[Close]]-tabSecond[[#This Row],[Open]])/tabSecond[[#This Row],[Open]],\"\")","v":""}]
[{"$error":"#N/A"},{"$f":"IFERROR((Feuil2!#REF!-#REF!)/#REF!,\"\")","v":""},{"$f":"IFERROR((tabSecond[[#This Row],[Close]]-tabSecond[[#This Row],[Open]])/tabSecond[[#This Row],[Open]],\"\")","v":""}]
[{"$error":"#N/A"},{"$f":"IFERROR((Feuil2!#REF!-#REF!)/#REF!,\"\")","v":""},{"$f":"IFERROR((tabSecond[[#This Row],[Close]]-tabSecond[[#This Row],[Open]])/tabSecond[[#This Row],[Open]],\"\")","v":""}]
[{"$error":"#N/A"},{"$f":"IFERROR((Feuil2!#REF!-#REF!)/#REF!,\"\")","v":""},{"$f":"IFERROR((tabSecond[[#This Row],[Close]]-tabSecond[[#This Row],[Open]])/tabSecond[[#This Row],[Open]],\"\")","v":""}]
[{"$error":"#N/A"},{"$f":"IFERROR((Feuil2!#REF!-#REF!)/#REF!,\"\")","v":""},{"$f":"IFERROR((tabSecond[[#This Row],[Close]]-tabSecond[[#This Row],[Open]])/tabSecond[[#This Row],[Open]],\"\")","v":""}]
[{"$error":"#N/A"},{"$f":"IFERROR((Feuil2!#REF!-#REF!)/#REF!,\"\")","v":""},{"$f":"IFERROR((tabSecond[[#This Row],[Close]]-tabSecond[[#This Row],[Open]])/tabSecond[[#This Row],[Open]],\"\")","v":""}]
[{"$error":"#N/A"},{"$f":"IFERROR((Feuil2!#REF!-#REF!)/#REF!,\"\")","v":""},{"$f":"IFERROR((tabSecond[[#This Row],[Close]]-tabSecond[[#This Row],[Open]])/tabSecond[[#This Row],[Open]],\"\")","v":""}]
[{"$error":"#N/A"},{"$f":"IFERROR((Feuil2!#REF!-#REF!)/#REF!,\"\")","v":""},{"$f":"IFERROR((tabSecond[[#This Row],[Close]]-tabSecond[[#This Row],[Open]])/tabSecond[[#This Row],[Open]],\"\")","v":""}]
[{"$error":"#N/A"},{"$f":"IFERROR((Feuil2!#REF!-#REF!)/#REF!,\"\")","v":""},{"$f":"IFERROR((tabSecond[[#This Row],[Close]]-tabSecond[[#This Row],[Open]])/tabSecond[[#This Row],[Open]],\"\")","v":""}]
[{"$error":"#N/A"},{"$f":"IFERROR((Feuil2!#REF!-#REF!)/#REF!,\"\")","v":""},{"$f":"IFERROR((tabSecond[[#This Row],[Close]]-tabSecond[[#This Row],[Open]])/tabSecond[[#This Row],[Open]],\"\")","v":""}]
[{"$error":"#N/A"},{"$f":"IFERROR((Feuil2!#REF!-#REF!)/#REF!,\"\")","v":""},{"$f":"IFERROR((tabSecond[[#This Row],[Close]]-tabSecond[[#This Row],[Open]])/tabSecond[[#This Row],[Open]],\"\")","v":""}]
[{"$error":"#N/A"},{"$f":"IFERROR((Feuil2!#REF!-#REF!)/#REF!,\"\")","v":""},{"$f":"IFERROR((tabSecond[[#This Row],[Close]]-tabSecond[[#This Row],[Open]])/tabSecond[[#This Row],[Open]],\"\")","v":""}]
[{"$error":"#N/A"},{"$f":"IFERROR((Feuil2!#REF!-#REF!)/#REF!,\"\")","v":""},{"$f":"IFERROR((tabSecond[[#This Row],[Close]]-tabSecond[[#This Row],[Open]])/tabSecond[[#This Row],[Open]],\"\")","v":""}]
[{"$error":"#N/A"},{"$f":"IFERROR((Feuil2!#REF!-#REF!)/#REF!,\"\")","v":""},{"$f":"IFERROR((tabSecond[[#This Row],[Close]]-tabSecond[[#This Row],[Open]])/tabSecond[[#This Row],[Open]],\"\")","v":""}]
[{"$error":"#N/A"},{"$f":"IFERROR((Feuil2!#REF!-#REF!)/#REF!,\"\")","v":""},{"$f":"IFERROR((tabSecond[[#This Row],[Close]]-tabSecond[[#This Row],[Open]])/tabSecond[[#This Row],[Open]],\"\")","v":""}]
[{"$error":"#N/A"},{"$f":"IFERROR((Feuil2!#REF!-#REF!)/#REF!,\"\")","v":""},{"$f":"IFERROR((tabSecond[[#This Row],[Close]]-tabSecond[[#This Row],[Open]])/tabSecond[[#This Row],[Open]],\"\")","v":""}]
[{"$error":"#N/A"},{"$f":"IFERROR((Feuil2!#REF!-#REF!)/#REF!,\"\")","v":""},{"$f":"IFERROR((tabSecond[[#This Row],[Close]]-tabSecond[[#This Row],[Open]])/tabSecond[[#This Row],[Open]],\"\")","v":""}]
[{"$error":"#N/A"},{"$f":"IFERROR((Feuil2!#REF!-#REF!)/#REF!,\"\")","v":""},{"$f":"IFERROR((tabSecond[[#This Row],[Close]]-tabSecond[[#This Row],[Open]])/tabSecond[[#This Row],[Open]],\"\")","v":""}]
[{"$error":"#N/A"},{"$f":"IFERROR((Feuil2!#REF!-#REF!)/#REF!,\"\")","v":""},{"$f":"IFERROR((tabSecond[[#This Row],[Close]]-tabSecond[[#This Row],[Open]])/tabSecond[[#This Row],[Open]],\"\")","v":""}]
[{"$error":"#N/A"},{"$f":"IFERROR((Feuil2!#REF!-#REF!)/#REF!,\"\")","v":""},{"$f":"IFERROR((tabSecond[[#This Row],[Close]]-tabSecond[[#This Row],[Open]])/tabSecond[[#This Row],[Open]],\"\")","v":""}]
[{"$error":"#N/A"},{"$f":"IFERROR((Feuil2!#REF!-#REF!)/#REF!,\"\")","v":""},{"$f":"IFERROR((tabSecond[[#This Row],[Close]]-tabSecond[[#This Row],[Open]])/tabSecond[[#This Row],[Open]],\"\")","v":""}]
[{"$error":"#N/A"},{"$f":"IFERROR((Feuil2!#REF!-#REF!)/#REF!,\"\")","v":""},{"$f":"IFERROR((tabSecond[[#This Row],[Close]]-tabSecond[[#This Row],[Open]])/tabSecond[[#This Row],[Open]],\"\")","v":""}]
[{"$error":"#N/A"},{"$f":"IFERROR((Feuil2!#REF!-#REF!)/#REF!,\"\")","v":""},{"$f":"IFERROR((tabSecond[[#This Row],[Close]]-tabSecond[[#This Row],[Open]])/tabSecond[[#This Row],[Open]],\"\")","v":""}]
[{"$error":"#N/A"},{"$f":"IFERROR((Feuil2!#REF!-#REF!)/#REF!,\"\")","v":""},{"$f":"IFERROR((tabSecond[[#This Row],[Close]]-tabSecond[[#This Row],[Open]])/tabSecond[[#This Row],[Open]],\"\")","v":""}]
[{"$error":"#N/A"},{"$f":"IFERROR((Feuil2!#REF!-#REF!)/#REF!,\"\")","v":""},{"$f":"IFERROR((tabSecond[[#This Row],[Close]]-tabSecond[[#This Row],[Open]])/tabSecond[[#This Row],[Open]],\"\")","v":""}]
[{"$error":"#N/A"},{"$f":"IFERROR((Feuil2!#REF!-#REF!)/#REF!,\"\")","v":""},{"$f":"IFERROR((tabSecond[[#This Row],[Close]]-tabSecond[[#This Row],[Open]])/tabSecond[[#This Row],[Open]],\"\")","v":""}]
[{"$error":"#N/A"},{"$f":"IFERROR((Feuil2!#REF!-#REF!)/#REF!,\"\")","v":""},{"$f":"IFERROR((tabSecond[[#This Row],[Close]]-tabSecond[[#This Row],[Open]])/tabSecond[[#This Row],[Open]],\"\")","v":""}]
[{"$error":"#N/A"},{"$f":"IFERROR((Feuil2!#REF!-#REF!)/#REF!,\"\")","v":""},{"$f":"IFERROR((tabSecond[[#This Row],[Close]]-tabSecond[[#This Row],[Open]])/tabSecond[[#This Row],[Open]],\"\")","v":""}]
[{"$error":"#N/A"},{"$f":"IFERROR((Feuil2!#REF!-#REF!)/#REF!,\"\")","v":""},{"$f":"IFERROR((tabSecond[[#This Row],[Close]]-tabSecond[[#This Row],[Open]])/tabSecond[[#This Row],[Open]],\"\")","v":""}]
[{"$error":"#N/A"},{"$f":"IFERROR((Feuil2!#REF!-#REF!)/#REF!,\"\")","v":""},{"$f":"IFERROR((tabSecond[[#This Row],[Close]]-tabSecond[[#This Row],[Open]])/tabSecond[[#This Row],[Open]],\"\")","v":""}]
[{"$error":"#N/A"},{"$f":"IFERROR((Feuil2!#REF!-#REF!)/#REF!,\"\")","v":""},{"$f":"IFERROR((tabSecond[[#This Row],[Close]]-tabSecond[[#This Row],[Open]])/tabSecond[[#This Row],[Open]],\"\")","v":""}]
[{"$error":"#N/A"},{"$f":"IFERROR((Feuil2!#REF!-#REF!)/#REF!,\"\")","v":""},{"$f":"IFERROR((tabSecond[[#This Row],[Close]]-tabSecond[[#This Row],[Open]])/tabSecond[[#This Row],[Open]],\"\")","v":""}]
[{"$error":"#N/A"},{"$f":"IFERROR((Feuil2!#REF!-#REF!)/#REF!,\"\")","v":""},{"$f":"IFERROR((tabSecond[[#This Row],[Close]]-tabSecond[[#This Row],[Open]])/tabSecond[[#This Row],[Open]],\"\")","v":""}]
[{"$error":"#N/A"},{"$f":"IFERROR((Feuil2!#REF!-#REF!)/#REF!,\"\")","v":""},{"$f":"IFERROR((tabSecond[[#This Row],[Close]]-tabSecond[[#This Row],[Open]])/tabSecond[[#This Row],[Open]],\"\")","v":""}]
[{"$error":"#N/A"},{"$f":"IFERROR((Feuil2!#REF!-#REF!)/#REF!,\"\")","v":""},{"$f":"IFERROR((tabSecond[[#This Row],[Close]]-tabSecond[[#This Row],[Open]])/tabSecond[[#This Row],[Open]],\"\")","v":""}]
[{"$error":"#N/A"},{"$f":"IFERROR((Feuil2!#REF!-#REF!)/#REF!,\"\")","v":""},{"$f":"IFERROR((tabSecond[[#This Row],[Close]]-tabSecond[[#This Row],[Open]])/tabSecond[[#This Row],[Open]],\"\")","v":""}]
[{"$error":"#N/A"},{"$f":"IFERROR((Feuil2!#REF!-#REF!)/#REF!,\"\")","v":""},{"$f":"IFERROR((tabSecond[[#This Row],[Close]]-tabSecond[[#This Row],[Open]])/tabSecond[[#This Row],[Open]],\"\")","v":""}]
[{"$error":"#N/A"},{"$f":"IFERROR((Feuil2!#REF!-#REF!)/#REF!,\"\")","v":""},{"$f":"IFERROR((tabSecond[[#This Row],[Close]]-tabSecond[[#This Row],[Open]])/tabSecond[[#This Row],[Open]],\"\")","v":""}]
[{"$error":"#N/A"},{"$f":"IFERROR((Feuil2!#REF!-#REF!)/#REF!,\"\")","v":""},{"$f":"IFERROR((tabSecond[[#This Row],[Close]]-tabSecond[[#This Row],[Open]])/tabSecond[[#This Row],[Open]],\"\")","v":""}]
[{"$error":"#N/A"},{"$f":"IFERROR((Feuil2!#REF!-#REF!)/#REF!,\"\")","v":""},{"$f":"IFERROR((tabSecond[[#This Row],[Close]]-tabSecond[[#This Row],[Open]])/tabSecond[[#This Row],[Open]],\"\")","v":""}]
[{"$error":"#N/A"},{"$f":"IFERROR((Feuil2!#REF!-#REF!)/#REF!,\"\")","v":""},{"$f":"IFERROR((tabSecond[[#This Row],[Close]]-tabSecond[[#This Row],[Open]])/tabSecond[[#This Row],[Open]],\"\")","v":""}]
[{"$error":"#N/A"},{"$f":"IFERROR((Feuil2!#REF!-#REF!)/#REF!,\"\")","v":""},{"$f":"IFERROR((tabSecond[[#This Row],[Close]]-tabSecond[[#This Row],[Open]])/tabSecond[[#This Row],[Open]],\"\")","v":""}]
[{"$error":"#N/A"},{"$f":"IFERROR((Feuil2!#REF!-#REF!)/#REF!,\"\")","v":""},{"$f":"IFERROR((tabSecond[[#This Row],[Close]]-tabSecond[[#This Row],[Open]])/tabSecond[[#This Row],[Open]],\"\")","v":""}]
[{"$error":"#N/A"},{"$f":"IFERROR((Feuil2!#REF!-#REF!)/#REF!,\"\")","v":""},{"$f":"IFERROR((tabSecond[[#This Row],[Close]]-tabSecond[[#This Row],[Open]])/tabSecond[[#This Row],[Open]],\"\")","v":""}]
[{"$error":"#N/A"},{"$f":"IFERROR((Feuil2!#REF!-#REF!)/#REF!,\"\")","v":""},{"$f":"IFERROR((tabSecond[[#This Row],[Close]]-tabSecond[[#This Row],[Open]])/tabSecond[[#This Row],[Open]],\"\")","v":""}]
[{"$error":"#N/A"},{"$f":"IFERROR((Feuil2!#REF!-#REF!)/#REF!,\"\")","v":""},{"$f":"IFERROR((tabSecond[[#This Row],[Close]]-tabSecond[[#This Row],[Open]])/tabSecond[[#This Row],[Open]],\"\")","v":""}]
[{"$error":"#N/A"},{"$f":"IFERROR((Feuil2!#REF!-#REF!)/#REF!,\"\")","v":""},{"$f":"IFERROR((tabSecond[[#This Row],[Close]]-tabSecond[[#This Row],[Open]])/tabSecond[[#This Row],[Open]],\"\")","v":""}]
[{"$error":"#N/A"},{"$f":"IFERROR((Feuil2!#REF!-#REF!)/#REF!,\"\")","v":""},{"$f":"IFERROR((tabSecond[[#This Row],[Close]]-tabSecond[[#This Row],[Open]])/tabSecond[[#This Row],[Open]],\"\")","v":""}]
[{"$error":"#N/A"},{"$f":"IFERROR((Feuil2!#REF!-#REF!)/#REF!,\"\")","v":""},{"$f":"IFERROR((tabSecond[[#This Row],[Close]]-tabSecond[[#This Row],[Open]])/tabSecond[[#This Row],[Open]],\"\")","v":""}]
[{"$error":"#N/A"},{"$f":"IFERROR((Feuil2!#REF!-#REF!)/#REF!,\"\")","v":""},{"$f":"IFERROR((tabSecond[[#This Row],[Close]]-tabSecond[[#This Row],[Open]])/tabSecond[[#This Row],[Open]],\"\")","v":""}]
[{"$error":"#N/A"},{"$f":"IFERROR((Feuil2!#REF!-#REF!)/#REF!,\"\")","v":""},{"$f":"IFERROR((tabSecond[[#This Row],[Close]]-tabSecond[[#This Row],[Open]])/tabSecond[[#This Row],[Open]],\"\")","v":""}]
[{"$error":"#N/A"},{"$f":"IFERROR((Feuil2!#REF!-#REF!)/#REF!,\"\")","v":""},{"$f":"IFERROR((tabSecond[[#This Row],[Close]]-tabSecond[[#This Row],[Open]])/tabSecond[[#This Row],[Open]],\"\")","v":""}]
[{"$error":"#N/A"},{"$f":"IFERROR((Feuil2!#REF!-#REF!)/#REF!,\"\")","v":""},{"$f":"IFERROR((tabSecond[[#This Row],[Close]]-tabSecond[[#This Row],[Open]])/tabSecond[[#This Row],[Open]],\"\")","v":""}]
[{"$error":"#N/A"},{"$f":"IFERROR((Feuil2!#REF!-#REF!)/#REF!,\"\")","v":""},{"$f":"IFERROR((tabSecond[[#This Row],[Close]]-tabSecond[[#This Row],[Open]])/tabSecond[[#This Row],[Open]],\"\")","v":""}]
[{"$error":"#N/A"},{"$f":"IFERROR((Feuil2!#REF!-#REF!)/#REF!,\"\")","v":""},{"$f":"IFERROR((tabSecond[[#This Row],[Close]]-tabSecond[[#This Row],[Open]])/tabSecond[[#This Row],[Open]],\"\")","v":""}]
[{"$error":"#N/A"},{"$f":"IFERROR((Feuil2!#REF!-#REF!)/#REF!,\"\")","v":""},{"$f":"IFERROR((tabSecond[[#This Row],[Close]]-tabSecond[[#This Row],[Open]])/tabSecond[[#This Row],[Open]],\"\")","v":""}]
[{"$error":"#N/A"},{"$f":"IFERROR((Feuil2!#REF!-#REF!)/#REF!,\"\")","v":""},{"$f":"IFERROR((tabSecond[[#This Row],[Close]]-tabSecond[[#This Row],[Open]])/tabSecond[[#This Row],[Open]],\"\")","v":""}]
[{"$error":"#N/A"},{"$f":"IFERROR((Feuil2!#REF!-#REF!)/#REF!,\"\")","v":""},{"$f":"IFERROR((tabSecond[[#This Row],[Close]]-tabSecond[[#This Row],[Open]])/tabSecond[[#This Row],[Open]],\"\")","v":""}]
[{"$error":"#N/A"},{"$f":"IFERROR((Feuil2!#REF!-#REF!)/#REF!,\"\")","v":""},{"$f":"IFERROR((tabSecond[[#This Row],[Close]]-tabSecond[[#This Row],[Open]])/tabSecond[[#This Row],[Open]],\"\")","v":""}]
[{"$error":"#N/A"},{"$f":"IFERROR((Feuil2!#REF!-#REF!)/#REF!,\"\")","v":""},{"$f":"IFERROR((tabSecond[[#This Row],[Close]]-tabSecond[[#This Row],[Open]])/tabSecond[[#This Row],[Open]],\"\")","v":""}]
[{"$error":"#N/A"},{"$f":"IFERROR((Feuil2!#REF!-#REF!)/#REF!,\"\")","v":""},{"$f":"IFERROR((tabSecond[[#This Row],[Close]]-tabSecond[[#This Row],[Open]])/tabSecond[[#This Row],[Open]],\"\")","v":""}]
[{"$error":"#N/A"},{"$f":"IFERROR((Feuil2!#REF!-#REF!)/#REF!,\"\")","v":""},{"$f":"IFERROR((tabSecond[[#This Row],[Close]]-tabSecond[[#This Row],[Open]])/tabSecond[[#This Row],[Open]],\"\")","v":""}]
[{"$error":"#N/A"},{"$f":"IFERROR((Feuil2!#REF!-#REF!)/#REF!,\"\")","v":""},{"$f":"IFERROR((tabSecond[[#This Row],[Close]]-tabSecond[[#This Row],[Open]])/tabSecond[[#This Row],[Open]],\"\")","v":""}]
[{"$error":"#N/A"},{"$f":"IFERROR((Feuil2!#REF!-#REF!)/#REF!,\"\")","v":""},{"$f":"IFERROR((tabSecond[[#This Row],[Close]]-tabSecond[[#This Row],[Open]])/tabSecond[[#This Row],[Open]],\"\")","v":""}]
[{"$error":"#N/A"},{"$f":"IFERROR((Feuil2!#REF!-#REF!)/#REF!,\"\")","v":""},{"$f":"IFERROR((tabSecond[[#This Row],[Close]]-tabSecond[[#This Row],[Open]])/tabSecond[[#This Row],[Open]],\"\")","v":""}]
[{"$error":"#N/A"},{"$f":"IFERROR((Feuil2!#REF!-#REF!)/#REF!,\"\")","v":""},{"$f":"IFERROR((tabSecond[[#This Row],[Close]]-tabSecond[[#This Row],[Open]])/tabSecond[[#This Row],[Open]],\"\")","v":""}]
[{"$error":"#N/A"},{"$f":"IFERROR((Feuil2!#REF!-#REF!)/#REF!,\"\")","v":""},{"$f":"IFERROR((tabSecond[[#This Row],[Close]]-tabSecond[[#This Row],[Open]])/tabSecond[[#This Row],[Open]],\"\")","v":""}]
[{"$error":"#N/A"},{"$f":"IFERROR((Feuil2!#REF!-#REF!)/#REF!,\"\")","v":""},{"$f":"IFERROR((tabSecond[[#This Row],[Close]]-tabSecond[[#This Row],[Open]])/tabSecond[[#This Row],[Open]],\"\")","v":""}]
[{"$error":"#N/A"},{"$f":"IFERROR((Feuil2!#REF!-#REF!)/#REF!,\"\")","v":""},{"$f":"IFERROR((tabSecond[[#This Row],[Close]]-tabSecond[[#This Row],[Open]])/tabSecond[[#This Row],[Open]],\"\")","v":""}]
[{"$error":"#N/A"},{"$f":"IFERROR((Feuil2!#REF!-#REF!)/#REF!,\"\")","v":""},{"$f":"IFERROR((tabSecond[[#This Row],[Close]]-tabSecond[[#This Row],[Open]])/tabSecond[[#This Row],[Open]],\"\")","v":""}]
[{"$error":"#N/A"},{"$f":"IFERROR((Feuil2!#REF!-#REF!)/#REF!,\"\")","v":""},{"$f":"IFERROR((tabSecond[[#This Row],[Close]]-tabSecond[[#This Row],[Open]])/tabSecond[[#This Row],[Open]],\"\")","v":""}]
[{"$error":"#N/A"},{"$f":"IFERROR((Feuil2!#REF!-#REF!)/#REF!,\"\")","v":""},{"$f":"IFERROR((tabSecond[[#This Row],[Close]]-tabSecond[[#This Row],[Open]])/tabSecond[[#This Row],[Open]],\"\")","v":""}]
[{"$error":"#N/A"},{"$f":"IFERROR((Feuil2!#REF!-#REF!)/#REF!,\"\")","v":""},{"$f":"IFERROR((tabSecond[[#This Row],[Close]]-tabSecond[[#This Row],[Open]])/tabSecond[[#This Row],[Open]],\"\")","v":""}]
[{"$error":"#N/A"},{"$f":"IFERROR((Feuil2!#REF!-#REF!)/#REF!,\"\")","v":""},{"$f":"IFERROR((tabSecond[[#This Row],[Close]]-tabSecond[[#This Row],[Open]])/tabSecond[[#This Row],[Open]],\"\")","v":""}]
[{"$error":"#N/A"},{"$f":"IFERROR((Feuil2!#REF!-#REF!)/#REF!,\"\")","v":""},{"$f":"IFERROR((tabSecond[[#This Row],[Close]]-tabSecond[[#This Row],[Open]])/tabSecond[[#This Row],[Open]],\"\")","v":""}]
[{"$error":"#N/A"},{"$f":"IFERROR((Feuil2!#REF!-#REF!)/#REF!,\"\")","v":""},{"$f":"IFERROR((tabSecond[[#This Row],[Close]]-tabSecond[[#This Row],[Open]])/tabSecond[[#This Row],[Open]],\"\")","v":""}]
[{"$error":"#N/A"},{"$f":"IFERROR((Feuil2!#REF!-#REF!)/#REF!,\"\")","v":""},{"$f":"IFERROR((tabSecond[[#This Row],[Close]]-tabSecond[[#This Row],[Open]])/tabSecond[[#This Row],[Open]],\"\")","v":""}]
[{"$error":"#N/A"},{"$f":"IFERROR((Feuil2!#REF!-#REF!)/#REF!,\"\")","v":""},{"$f":"IFERROR((tabSecond[[#This Row],[Close]]-tabSecond[[#This Row],[Open]])/tabSecond[[#This Row],[Open]],\"\")","v":""}]
[{"$error":"#N/A"},{"$f":"IFERROR((Feuil2!#REF!-#REF!)/#REF!,\"\")","v":""},{"$f":"IFERROR((tabSecond[[#This Row],[Close]]-tabSecond[[#This Row],[Open]])/tabSecond[[#This Row],[Open]],\"\")","v":""}]
[{"$error":"#N/A"},{"$f":"IFERROR((Feuil2!#REF!-#REF!)/#REF!,\"\")","v":""},{"$f":"IFERROR((tabSecond[[#This Row],[Close]]-tabSecond[[#This Row],[Open]])/tabSecond[[#This Row],[Open]],\"\")","v":""}]
[{"$error":"#N/A"},{"$f":"IFERROR((Feuil2!#REF!-#REF!)/#REF!,\"\")","v":""},{"$f":"IFERROR((tabSecond[[#This Row],[Close]]-tabSecond[[#This Row],[Open]])/tabSecond[[#This Row],[Open]],\"\")","v":""}]
[{"$error":"#N/A"},{"$f":"IFERROR((Feuil2!#REF!-#REF!)/#REF!,\"\")","v":""},{"$f":"IFERROR((tabSecond[[#This Row],[Close]]-tabSecond[[#This Row],[Open]])/tabSecond[[#This Row],[Open]],\"\")","v":""}]
[{"$error":"#N/A"},{"$f":"IFERROR((Feuil2!#REF!-#REF!)/#REF!,\"\")","v":""},{"$f":"IFERROR((tabSecond[[#This Row],[Close]]-tabSecond[[#This Row],[Open]])/tabSecond[[#This Row],[Open]],\"\")","v":""}]
[{"$error":"#N/A"},{"$f":"IFERROR((Feuil2!#REF!-#REF!)/#REF!,\"\")","v":""},{"$f":"IFERROR((tabSecond[[#This Row],[Close]]-tabSecond[[#This Row],[Open]])/tabSecond[[#This Row],[Open]],\"\")","v":""}]
[{"$error":"#N/A"},{"$f":"IFERROR((Feuil2!#REF!-#REF!)/#REF!,\"\")","v":""},{"$f":"IFERROR((tabSecond[[#This Row],[Close]]-tabSecond[[#This Row],[Open]])/tabSecond[[#This Row],[Open]],\"\")","v":""}]
[{"$error":"#N/A"},{"$f":"IFERROR((Feuil2!#REF!-#REF!)/#REF!,\"\")","v":""},{"$f":"IFERROR((tabSecond[[#This Row],[Close]]-tabSecond[[#This Row],[Open]])/tabSecond[[#This Row],[Open]],\"\")","v":""}]
[{"$error":"#N/A"},{"$f":"IFERROR((Feuil2!#REF!-#REF!)/#REF!,\"\")","v":""},{"$f":"IFERROR((tabSecond[[#This Row],[Close]]-tabSecond[[#This Row],[Open]])/tabSecond[[#This Row],[Open]],\"\")","v":""}]
[{"$error":"#N/A"},{"$f":"IFERROR((Feuil2!#REF!-#REF!)/#REF!,\"\")","v":""},{"$f":"IFERROR((tabSecond[[#This Row],[Close]]-tabSecond[[#This Row],[Open]])/tabSecond[[#This Row],[Open]],\"\")","v":""}]
[{"$error":"#N/A"},{"$f":"IFERROR((Feuil2!#REF!-#REF!)/#REF!,\"\")","v":""},{"$f":"IFERROR((tabSecond[[#This Row],[Close]]-tabSecond[[#This Row],[Open]])/tabSecond[[#This Row],[Open]],\"\")","v":""}]
[{"$error":"#N/A"},{"$f":"IFERROR((Feuil2!#REF!-#REF!)/#REF!,\"\")","v":""},{"$f":"IFERROR((tabSecond[[#This Row],[Close]]-tabSecond[[#This Row],[Open]])/tabSecond[[#This Row],[Open]],\"\")","v":""}]
[{"$error":"#N/A"},{"$f":"IFERROR((Feuil2!#REF!-#REF!)/#REF!,\"\")","v":""},{"$f":"IFERROR((tabSecond[[#This Row],[Close]]-tabSecond[[#This Row],[Open]])/tabSecond[[#This Row],[Open]],\"\")","v":""}]
[{"$error":"#N/A"},{"$f":"IFERROR((Feuil2!#REF!-#REF!)/#REF!,\"\")","v":""},{"$f":"IFERROR((tabSecond[[#This Row],[Close]]-tabSecond[[#This Row],[Open]])/tabSecond[[#This Row],[Open]],\"\")","v":""}]
[{"$error":"#N/A"},{"$f":"IFERROR((Feuil2!#REF!-#REF!)/#REF!,\"\")","v":""},{"$f":"IFERROR((tabSecond[[#This Row],[Close]]-tabSecond[[#This Row],[Open]])/tabSecond[[#This Row],[Open]],\"\")","v":""}]
[{"$error":"#N/A"},{"$f":"IFERROR((Feuil2!#REF!-#REF!)/#REF!,\"\")","v":""},{"$f":"IFERROR((tabSecond[[#This Row],[Close]]-tabSecond[[#This Row],[Open]])/tabSecond[[#This Row],[Open]],\"\")","v":""}]
[{"$error":"#N/A"},{"$f":"IFERROR((Feuil2!#REF!-#REF!)/#REF!,\"\")","v":""},{"$f":"IFERROR((tabSecond[[#This Row],[Close]]-tabSecond[[#This Row],[Open]])/tabSecond[[#This Row],[Open]],\"\")","v":""}]
[{"$error":"#N/A"},{"$f":"IFERROR((Feuil2!#REF!-#REF!)/#REF!,\"\")","v":""},{"$f":"IFERROR((tabSecond[[#This Row],[Close]]-tabSecond[[#This Row],[Open]])/tabSecond[[#This Row],[Open]],\"\")","v":""}]
[{"$error":"#N/A"},{"$f":"IFERROR((Feuil2!#REF!-#REF!)/#REF!,\"\")","v":""},{"$f":"IFERROR((tabSecond[[#This Row],[Close]]-tabSecond[[#This Row],[Open]])/tabSecond[[#This Row],[Open]],\"\")","v":""}]
[{"$error":"#N/A"},{"$f":"IFERROR((Feuil2!#REF!-#REF!)/#REF!,\"\")","v":""},{"$f":"IFERROR((tabSecond[[#This Row],[Close]]-tabSecond[[#This Row],[Open]])/tabSecond[[#This Row],[Open]],\"\")","v":""}]
[{"$error":"#N/A"},{"$f":"IFERROR((Feuil2!#REF!-#REF!)/#REF!,\"\")","v":""},{"$f":"IFERROR((tabSecond[[#This Row],[Close]]-tabSecond[[#This Row],[Open]])/tabSecond[[#This Row],[Open]],\"\")","v":""}]
[{"$error":"#N/A"},{"$f":"IFERROR((Feuil2!#REF!-#REF!)/#REF!,\"\")","v":""},{"$f":"IFERROR((tabSecond[[#This Row],[Close]]-tabSecond[[#This Row],[Open]])/tabSecond[[#This Row],[Open]],\"\")","v":""}]
[{"$error":"#N/A"},{"$f":"IFERROR((Feuil2!#REF!-#REF!)/#REF!,\"\")","v":""},{"$f":"IFERROR((tabSecond[[#This Row],[Close]]-tabSecond[[#This Row],[Open]])/tabSecond[[#This Row],[Open]],\"\")","v":""}]
[{"$error":"#N/A"},{"$f":"IFERROR((Feuil2!#REF!-#REF!)/#REF!,\"\")","v":""},{"$f":"IFERROR((tabSecond[[#This Row],[Close]]-tabSecond[[#This Row],[Open]])/tabSecond[[#This Row],[Open]],\"\")","v":""}]
[{"$error":"#N/A"},{"$f":"IFERROR((Feuil2!#REF!-#REF!)/#REF!,\"\")","v":""},{"$f":"IFERROR((tabSecond[[#This Row],[Close]]-tabSecond[[#This Row],[Open]])/tabSecond[[#This Row],[Open]],\"\")","v":""}]
[{"$error":"#N/A"},{"$f":"IFERROR((Feuil2!#REF!-#REF!)/#REF!,\"\")","v":""},{"$f":"IFERROR((tabSecond[[#This Row],[Close]]-tabSecond[[#This Row],[Open]])/tabSecond[[#This Row],[Open]],\"\")","v":""}]
[{"$error":"#N/A"},{"$f":"IFERROR((Feuil2!#REF!-#REF!)/#REF!,\"\")","v":""},{"$f":"IFERROR((tabSecond[[#This Row],[Close]]-tabSecond[[#This Row],[Open]])/tabSecond[[#This Row],[Open]],\"\")","v":""}]
[{"$error":"#N/A"},{"$f":"IFERROR((Feuil2!#REF!-#REF!)/#REF!,\"\")","v":""},{"$f":"IFERROR((tabSecond[[#This Row],[Close]]-tabSecond[[#This Row],[Open]])/tabSecond[[#This Row],[Open]],\"\")","v":""}]
[{"$error":"#N/A"},{"$f":"IFERROR((Feuil2!#REF!-#REF!)/#REF!,\"\")","v":""},{"$f":"IFERROR((tabSecond[[#This Row],[Close]]-tabSecond[[#This Row],[Open]])/tabSecond[[#This Row],[Open]],\"\")","v":""}]
[{"$error":"#N/A"},{"$f":"IFERROR((Feuil2!#REF!-#REF!)/#REF!,\"\")","v":""},{"$f":"IFERROR((tabSecond[[#This Row],[Close]]-tabSecond[[#This Row],[Open]])/tabSecond[[#This Row],[Open]],\"\")","v":""}]
[{"$error":"#N/A"},{"$f":"IFERROR((Feuil2!#REF!-#REF!)/#REF!,\"\")","v":""},{"$f":"IFERROR((tabSecond[[#This Row],[Close]]-tabSecond[[#This Row],[Open]])/tabSecond[[#This Row],[Open]],\"\")","v":""}]
[{"$error":"#N/A"},{"$f":"IFERROR((Feuil2!#REF!-#REF!)/#REF!,\"\")","v":""},{"$f":"IFERROR((tabSecond[[#This Row],[Close]]-tabSecond[[#This Row],[Open]])/tabSecond[[#This Row],[Open]],\"\")","v":""}]
[{"$error":"#N/A"},{"$f":"IFERROR((Feuil2!#REF!-#REF!)/#REF!,\"\")","v":""},{"$f":"IFERROR((tabSecond[[#This Row],[Close]]-tabSecond[[#This Row],[Open]])/tabSecond[[#This Row],[Open]],\"\")","v":""}]
[{"$error":"#N/A"},{"$f":"IFERROR((Feuil2!#REF!-#REF!)/#REF!,\"\")","v":""},{"$f":"IFERROR((tabSecond[[#This Row],[Close]]-tabSecond[[#This Row],[Open]])/tabSecond[[#This Row],[Open]],\"\")","v":""}]
[{"$error":"#N/A"},{"$f":"IFERROR((Feuil2!#REF!-#REF!)/#REF!,\"\")","v":""},{"$f":"IFERROR((tabSecond[[#This Row],[Close]]-tabSecond[[#This Row],[Open]])/tabSecond[[#This Row],[Open]],\"\")","v":""}]
[{"$error":"#N/A"},{"$f":"IFERROR((Feuil2!#REF!-#REF!)/#REF!,\"\")","v":""},{"$f":"IFERROR((tabSecond[[#This Row],[Close]]-tabSecond[[#This Row],[Open]])/tabSecond[[#This Row],[Open]],\"\")","v":""}]
[{"$error":"#N/A"},{"$f":"IFERROR((Feuil2!#REF!-#REF!)/#REF!,\"\")","v":""},{"$f":"IFERROR((tabSecond[[#This Row],[Close]]-tabSecond[[#This Row],[Open]])/tabSecond[[#This Row],[Open]],\"\")","v":""}]
[{"$error":"#N/A"},{"$f":"IFERROR((Feuil2!#REF!-#REF!)/#REF!,\"\")","v":""},{"$f":"IFERROR((tabSecond[[#This Row],[Close]]-tabSecond[[#This Row],[Open]])/tabSecond[[#This Row],[Open]],\"\")","v":""}]
[{"$error":"#N/A"},{"$f":"IFERROR((Feuil2!#REF!-#REF!)/#REF!,\"\")","v":""},{"$f":"IFERROR((tabSecond[[#This Row],[Close]]-tabSecond[[#This Row],[Open]])/tabSecond[[#This Row],[Open]],\"\")","v":""}]
[{"$error":"#N/A"},{"$f":"IFERROR((Feuil2!#REF!-#REF!)/#REF!,\"\")","v":""},{"$f":"IFERROR((tabSecond[[#This Row],[Close]]-tabSecond[[#This Row],[Open]])/tabSecond[[#This Row],[Open]],\"\")","v":""}]
[{"$error":"#N/A"},{"$f":"IFERROR((Feuil2!#REF!-#REF!)/#REF!,\"\")","v":""},{"$f":"IFERROR((tabSecond[[#This Row],[Close]]-tabSecond[[#This Row],[Open]])/tabSecond[[#This Row],[Open]],\"\")","v":""}]
[{"$error":"#N/A"},{"$f":"IFERROR((Feuil2!#REF!-#REF!)/#REF!,\"\")","v":""},{"$f":"IFERROR((tabSecond[[#This Row],[Close]]-tabSecond[[#This Row],[Open]])/tabSecond[[#This Row],[Open]],\"\")","v":""}]
[{"$error":"#N/A"},{"$f":"IFERROR((Feuil2!#REF!-#REF!)/#REF!,\"\")","v":""},{"$f":"IFERROR((tabSecond[[#This Row],[Close]]-tabSecond[[#This Row],[Open]])/tabSecond[[#This Row],[Open]],\"\")","v":""}]
[{"$error":"#N/A"},{"$f":"IFERROR((Feuil2!#REF!-#REF!)/#REF!,\"\")","v":""},{"$f":"IFERROR((tabSecond[[#This Row],[Close]]-tabSecond[[#This Row],[Open]])/tabSecond[[#This Row],[Open]],\"\")","v":""}]
[{"$error":"#N/A"},{"$f":"IFERROR((Feuil2!#REF!-#REF!)/#REF!,\"\")","v":""},{"$f":"IFERROR((tabSecond[[#This Row],[Close]]-tabSecond[[#This Row],[Open]])/tabSecond[[#This Row],[Open]],\"\")","v":""}]
[{"$error":"#N/A"},{"$f":"IFERROR((Feuil2!#REF!-#REF!)/#REF!,\"\")","v":""},{"$f":"IFERROR((tabSecond[[#This Row],[Close]]-tabSecond[[#This Row],[Open]])/tabSecond[[#This Row],[Open]],\"\")","v":""}]
[{"$error":"#N/A"},{"$f":"IFERROR((Feuil2!#REF!-#REF!)/#REF!,\"\")","v":""},{"$f":"IFERROR((tabSecond[[#This Row],[Close]]-tabSecond[[#This Row],[Open]])/tabSecond[[#This Row],[Open]],\"\")","v":""}]
[{"$error":"#N/A"},{"$f":"IFERROR((Feuil2!#REF!-#REF!)/#REF!,\"\")","v":""},{"$f":"IFERROR((tabSecond[[#This Row],[Close]]-tabSecond[[#This Row],[Open]])/tabSecond[[#This Row],[Open]],\"\")","v":""}]
[{"$error":"#N/A"},{"$f":"IFERROR((Feuil2!#REF!-#REF!)/#REF!,\"\")","v":""},{"$f":"IFERROR((tabSecond[[#This Row],[Close]]-tabSecond[[#This Row],[Open]])/tabSecond[[#This Row],[Open]],\"\")","v":""}]
[{"$error":"#N/A"},{"$f":"IFERROR((Feuil2!#REF!-#REF!)/#REF!,\"\")","v":""},{"$f":"IFERROR((tabSecond[[#This Row],[Close]]-tabSecond[[#This Row],[Open]])/tabSecond[[#This Row],[Open]],\"\")","v":""}]
[null,{"$f":"IFERROR((Feuil2!#REF!-#REF!)/#REF!,\"\")","v":""},{"$f":"IFERROR((tabSecond[[#This Row],[Close]]-tabSecond[[#This Row],[Open]])/tabSecond[[#This Row],[Open]],\"\")","v":""}]
[null,{"$f":"IFERROR((Feuil2!#REF!-#REF!)/#REF!,\"\")","v":""},{"$f":"IFERROR((tabSecond[[#This Row],[Close]]-tabSecond[[#This Row],[Open]])/tabSecond[[#This Row],[Open]],\"\")","v":""}]
[null,{"$f":"IFERROR((Feuil2!#REF!-#REF!)/#REF!,\"\")","v":""},{"$f":"IFERROR((tabSecond[[#This Row],[Close]]-tabSecond[[#This Row],[Open]])/tabSecond[[#This Row],[Open]],\"\")","v":""}]
[null,{"$f":"IFERROR((Feuil2!#REF!-#REF!)/#REF!,\"\")","v":""},{"$f":"IFERROR((tabSecond[[#This Row],[Close]]-tabSecond[[#This Row],[Open]])/tabSecond[[#This Row],[Open]],\"\")","v":""}]
[null,{"$f":"IFERROR((Feuil2!#REF!-#REF!)/#REF!,\"\")","v":""},{"$f":"IFERROR((tabSecond[[#This Row],[Close]]-tabSecond[[#This Row],[Open]])/tabSecond[[#This Row],[Open]],\"\")","v":""}]
[null,{"$f":"IFERROR((Feuil2!#REF!-#REF!)/#REF!,\"\")","v":""},{"$f":"IFERROR((tabSecond[[#This Row],[Close]]-tabSecond[[#This Row],[Open]])/tabSecond[[#This Row],[Open]],\"\")","v":""}]
[null,{"$f":"IFERROR((Feuil2!#REF!-#REF!)/#REF!,\"\")","v":""},{"$f":"IFERROR((tabSecond[[#This Row],[Close]]-tabSecond[[#This Row],[Open]])/tabSecond[[#This Row],[Open]],\"\")","v":""}]
[null,{"$f":"IFERROR((Feuil2!#REF!-#REF!)/#REF!,\"\")","v":""},{"$f":"IFERROR((tabSecond[[#This Row],[Close]]-tabSecond[[#This Row],[Open]])/tabSecond[[#This Row],[Open]],\"\")","v":""}]
[null,{"$f":"IFERROR((Feuil2!#REF!-#REF!)/#REF!,\"\")","v":""},{"$f":"IFERROR((tabSecond[[#This Row],[Close]]-tabSecond[[#This Row],[Open]])/tabSecond[[#This Row],[Open]],\"\")","v":""}]
[null,{"$f":"IFERROR((Feuil2!#REF!-#REF!)/#REF!,\"\")","v":""},{"$f":"IFERROR((tabSecond[[#This Row],[Close]]-tabSecond[[#This Row],[Open]])/tabSecond[[#This Row],[Open]],\"\")","v":""}]
[null,{"$f":"IFERROR((Feuil2!#REF!-#REF!)/#REF!,\"\")","v":""},{"$f":"IFERROR((tabSecond[[#This Row],[Close]]-tabSecond[[#This Row],[Open]])/tabSecond[[#This Row],[Open]],\"\")","v":""}]
[null,{"$f":"IFERROR((Feuil2!#REF!-#REF!)/#REF!,\"\")","v":""},{"$f":"IFERROR((tabSecond[[#This Row],[Close]]-tabSecond[[#This Row],[Open]])/tabSecond[[#This Row],[Open]],\"\")","v":""}]
[null,{"$f":"IFERROR((Feuil2!#REF!-#REF!)/#REF!,\"\")","v":""},{"$f":"IFERROR((tabSecond[[#This Row],[Close]]-tabSecond[[#This Row],[Open]])/tabSecond[[#This Row],[Open]],\"\")","v":""}]
[null,{"$f":"IFERROR((Feuil2!#REF!-#REF!)/#REF!,\"\")","v":""},{"$f":"IFERROR((tabSecond[[#This Row],[Close]]-tabSecond[[#This Row],[Open]])/tabSecond[[#This Row],[Open]],\"\")","v":""}]
[null,{"$f":"IFERROR((Feuil2!#REF!-#REF!)/#REF!,\"\")","v":""},{"$f":"IFERROR((tabSecond[[#This Row],[Close]]-tabSecond[[#This Row],[Open]])/tabSecond[[#This Row],[Open]],\"\")","v":""}]
[null,{"$f":"IFERROR((Feuil2!#REF!-#REF!)/#REF!,\"\")","v":""},{"$f":"IFERROR((tabSecond[[#This Row],[Close]]-tabSecond[[#This Row],[Open]])/tabSecond[[#This Row],[Open]],\"\")","v":""}]
[null,{"$f":"IFERROR((Feuil2!#REF!-#REF!)/#REF!,\"\")","v":""},{"$f":"IFERROR((tabSecond[[#This Row],[Close]]-tabSecond[[#This Row],[Open]])/tabSecond[[#This Row],[Open]],\"\")","v":""}]
[null,{"$f":"IFERROR((Feuil2!#REF!-#REF!)/#REF!,\"\")","v":""},{"$f":"IFERROR((tabSecond[[#This Row],[Close]]-tabSecond[[#This Row],[Open]])/tabSecond[[#This Row],[Open]],\"\")","v":""}]
[null,{"$f":"IFERROR((Feuil2!#REF!-#REF!)/#REF!,\"\")","v":""},{"$f":"IFERROR((tabSecond[[#This Row],[Close]]-tabSecond[[#This Row],[Open]])/tabSecond[[#This Row],[Open]],\"\")","v":""}]
[null,{"$f":"IFERROR((Feuil2!#REF!-#REF!)/#REF!,\"\")","v":""},{"$f":"IFERROR((tabSecond[[#This Row],[Close]]-tabSecond[[#This Row],[Open]])/tabSecond[[#This Row],[Open]],\"\")","v":""}]
[null,{"$f":"IFERROR((Feuil2!#REF!-#REF!)/#REF!,\"\")","v":""},{"$f":"IFERROR((tabSecond[[#This Row],[Close]]-tabSecond[[#This Row],[Open]])/tabSecond[[#This Row],[Open]],\"\")","v":""}]
[null,{"$f":"IFERROR((Feuil2!#REF!-#REF!)/#REF!,\"\")","v":""},{"$f":"IFERROR((tabSecond[[#This Row],[Close]]-tabSecond[[#This Row],[Open]])/tabSecond[[#This Row],[Open]],\"\")","v":""}]
[null,{"$f":"IFERROR((Feuil2!#REF!-#REF!)/#REF!,\"\")","v":""},{"$f":"IFERROR((tabSecond[[#This Row],[Close]]-tabSecond[[#This Row],[Open]])/tabSecond[[#This Row],[Open]],\"\")","v":""}]
[null,{"$f":"IFERROR((Feuil2!#REF!-#REF!)/#REF!,\"\")","v":""},{"$f":"IFERROR((tabSecond[[#This Row],[Close]]-tabSecond[[#This Row],[Open]])/tabSecond[[#This Row],[Open]],\"\")","v":""}]
[null,{"$f":"IFERROR((Feuil2!#REF!-#REF!)/#REF!,\"\")","v":""},{"$f":"IFERROR((tabSecond[[#This Row],[Close]]-tabSecond[[#This Row],[Open]])/tabSecond[[#This Row],[Open]],\"\")","v":""}]
[null,{"$f":"IFERROR((Feuil2!#REF!-#REF!)/#REF!,\"\")","v":""},{"$f":"IFERROR((tabSecond[[#This Row],[Close]]-tabSecond[[#This Row],[Open]])/tabSecond[[#This Row],[Open]],\"\")","v":""}]
[null,{"$f":"IFERROR((Feuil2!#REF!-#REF!)/#REF!,\"\")","v":""},{"$f":"IFERROR((tabSecond[[#This Row],[Close]]-tabSecond[[#This Row],[Open]])/tabSecond[[#This Row],[Open]],\"\")","v":""}]
[null,{"$f":"IFERROR((Feuil2!#REF!-#REF!)/#REF!,\"\")","v":""},{"$f":"IFERROR((tabSecond[[#This Row],[Close]]-tabSecond[[#This Row],[Open]])/tabSecond[[#This Row],[Open]],\"\")","v":""}]
[null,{"$f":"IFERROR((Feuil2!#REF!-#REF!)/#REF!,\"\")","v":""},{"$f":"IFERROR((tabSecond[[#This Row],[Close]]-tabSecond[[#This Row],[Open]])/tabSecond[[#This Row],[Open]],\"\")","v":""}]
[null,{"$f":"IFERROR((Feuil2!#REF!-#REF!)/#REF!,\"\")","v":""},{"$f":"IFERROR((tabSecond[[#This Row],[Close]]-tabSecond[[#This Row],[Open]])/tabSecond[[#This Row],[Open]],\"\")","v":""}]
[null,{"$f":"IFERROR((Feuil2!#REF!-#REF!)/#REF!,\"\")","v":""},{"$f":"IFERROR((tabSecond[[#This Row],[Close]]-tabSecond[[#This Row],[Open]])/tabSecond[[#This Row],[Open]],\"\")","v":""}]
[null,{"$f":"IFERROR((Feuil2!#REF!-#REF!)/#REF!,\"\")","v":""},{"$f":"IFERROR((tabSecond[[#This Row],[Close]]-tabSecond[[#This Row],[Open]])/tabSecond[[#This Row],[Open]],\"\")","v":""}]
[null,{"$f":"IFERROR((Feuil2!#REF!-#REF!)/#REF!,\"\")","v":""},{"$f":"IFERROR((tabSecond[[#This Row],[Close]]-tabSecond[[#This Row],[Open]])/tabSecond[[#This Row],[Open]],\"\")","v":""}]
[null,{"$f":"IFERROR((Feuil2!#REF!-#REF!)/#REF!,\"\")","v":""},{"$f":"IFERROR((tabSecond[[#This Row],[Close]]-tabSecond[[#This Row],[Open]])/tabSecond[[#This Row],[Open]],\"\")","v":""}]
[null,{"$f":"IFERROR((Feuil2!#REF!-#REF!)/#REF!,\"\")","v":""},{"$f":"IFERROR((tabSecond[[#This Row],[Close]]-tabSecond[[#This Row],[Open]])/tabSecond[[#This Row],[Open]],\"\")","v":""}]
[null,{"$f":"IFERROR((Feuil2!#REF!-#REF!)/#REF!,\"\")","v":""},{"$f":"IFERROR((tabSecond[[#This Row],[Close]]-tabSecond[[#This Row],[Open]])/tabSecond[[#This Row],[Open]],\"\")","v":""}]
[null,{"$f":"IFERROR((Feuil2!#REF!-#REF!)/#REF!,\"\")","v":""},{"$f":"IFERROR((tabSecond[[#This Row],[Close]]-tabSecond[[#This Row],[Open]])/tabSecond[[#This Row],[Open]],\"\")","v":""}]
[null,{"$f":"IFERROR((Feuil2!#REF!-#REF!)/#REF!,\"\")","v":""},{"$f":"IFERROR((tabSecond[[#This Row],[Close]]-tabSecond[[#This Row],[Open]])/tabSecond[[#This Row],[Open]],\"\")","v":""}]
[null,{"$f":"IFERROR((Feuil2!#REF!-#REF!)/#REF!,\"\")","v":""},{"$f":"IFERROR((tabSecond[[#This Row],[Close]]-tabSecond[[#This Row],[Open]])/tabSecond[[#This Row],[Open]],\"\")","v":""}]
[null,{"$f":"IFERROR((Feuil2!#REF!-#REF!)/#REF!,\"\")","v":""},{"$f":"IFERROR((tabSecond[[#This Row],[Close]]-tabSecond[[#This Row],[Open]])/tabSecond[[#This Row],[Open]],\"\")","v":""}]
[null,{"$f":"IFERROR((Feuil2!#REF!-#REF!)/#REF!,\"\")","v":""},{"$f":"IFERROR((tabSecond[[#This Row],[Close]]-tabSecond[[#This Row],[Open]])/tabSecond[[#This Row],[Open]],\"\")","v":""}]
[null,{"$f":"IFERROR((Feuil2!#REF!-#REF!)/#REF!,\"\")","v":""},{"$f":"IFERROR((tabSecond[[#This Row],[Close]]-tabSecond[[#This Row],[Open]])/tabSecond[[#This Row],[Open]],\"\")","v":""}]
[null,{"$f":"IFERROR((Feuil2!#REF!-#REF!)/#REF!,\"\")","v":""},{"$f":"IFERROR((tabSecond[[#This Row],[Close]]-tabSecond[[#This Row],[Open]])/tabSecond[[#This Row],[Open]],\"\")","v":""}]
[null,{"$f":"IFERROR((Feuil2!#REF!-#REF!)/#REF!,\"\")","v":""},{"$f":"IFERROR((tabSecond[[#This Row],[Close]]-tabSecond[[#This Row],[Open]])/tabSecond[[#This Row],[Open]],\"\")","v":""}]
[null,{"$f":"IFERROR((Feuil2!#REF!-#REF!)/#REF!,\"\")","v":""},{"$f":"IFERROR((tabSecond[[#This Row],[Close]]-tabSecond[[#This Row],[Open]])/tabSecond[[#This Row],[Open]],\"\")","v":""}]
[null,{"$f":"IFERROR((Feuil2!#REF!-#REF!)/#REF!,\"\")","v":""},{"$f":"IFERROR((tabSecond[[#This Row],[Close]]-tabSecond[[#This Row],[Open]])/tabSecond[[#This Row],[Open]],\"\")","v":""}]
[null,{"$f":"IFERROR((Feuil2!#REF!-#REF!)/#REF!,\"\")","v":""},{"$f":"IFERROR((tabSecond[[#This Row],[Close]]-tabSecond[[#This Row],[Open]])/tabSecond[[#This Row],[Open]],\"\")","v":""}]
[null,{"$f":"IFERROR((Feuil2!#REF!-#REF!)/#REF!,\"\")","v":""},{"$f":"IFERROR((tabSecond[[#This Row],[Close]]-tabSecond[[#This Row],[Open]])/tabSecond[[#This Row],[Open]],\"\")","v":""}]
[null,{"$f":"IFERROR((Feuil2!#REF!-#REF!)/#REF!,\"\")","v":""},{"$f":"IFERROR((tabSecond[[#This Row],[Close]]-tabSecond[[#This Row],[Open]])/tabSecond[[#This Row],[Open]],\"\")","v":""}]
[null,{"$f":"IFERROR((Feuil2!#REF!-#REF!)/#REF!,\"\")","v":""},{"$f":"IFERROR((tabSecond[[#This Row],[Close]]-tabSecond[[#This Row],[Open]])/tabSecond[[#This Row],[Open]],\"\")","v":""}]
[null,{"$f":"IFERROR((Feuil2!#REF!-#REF!)/#REF!,\"\")","v":""},{"$f":"IFERROR((tabSecond[[#This Row],[Close]]-tabSecond[[#This Row],[Open]])/tabSecond[[#This Row],[Open]],\"\")","v":""}]
[null,{"$f":"IFERROR((Feuil2!#REF!-#REF!)/#REF!,\"\")","v":""},{"$f":"IFERROR((tabSecond[[#This Row],[Close]]-tabSecond[[#This Row],[Open]])/tabSecond[[#This Row],[Open]],\"\")","v":""}]
[null,{"$f":"IFERROR((Feuil2!#REF!-#REF!)/#REF!,\"\")","v":""},{"$f":"IFERROR((tabSecond[[#This Row],[Close]]-tabSecond[[#This Row],[Open]])/tabSecond[[#This Row],[Open]],\"\")","v":""}]
[null,{"$f":"IFERROR((Feuil2!#REF!-#REF!)/#REF!,\"\")","v":""},{"$f":"IFERROR((tabSecond[[#This Row],[Close]]-tabSecond[[#This Row],[Open]])/tabSecond[[#This Row],[Open]],\"\")","v":""}]
[null,{"$f":"IFERROR((Feuil2!#REF!-#REF!)/#REF!,\"\")","v":""},{"$f":"IFERROR((tabSecond[[#This Row],[Close]]-tabSecond[[#This Row],[Open]])/tabSecond[[#This Row],[Open]],\"\")","v":""}]
[null,{"$f":"IFERROR((Feuil2!#REF!-#REF!)/#REF!,\"\")","v":""},{"$f":"IFERROR((tabSecond[[#This Row],[Close]]-tabSecond[[#This Row],[Open]])/tabSecond[[#This Row],[Open]],\"\")","v":""}]
[null,{"$f":"IFERROR((Feuil2!#REF!-#REF!)/#REF!,\"\")","v":""},{"$f":"IFERROR((tabSecond[[#This Row],[Close]]-tabSecond[[#This Row],[Open]])/tabSecond[[#This Row],[Open]],\"\")","v":""}]
[null,{"$f":"IFERROR((Feuil2!#REF!-#REF!)/#REF!,\"\")","v":""},{"$f":"IFERROR((tabSecond[[#This Row],[Close]]-tabSecond[[#This Row],[Open]])/tabSecond[[#This Row],[Open]],\"\")","v":""}]
[null,{"$f":"IFERROR((Feuil2!#REF!-#REF!)/#REF!,\"\")","v":""},{"$f":"IFERROR((tabSecond[[#This Row],[Close]]-tabSecond[[#This Row],[Open]])/tabSecond[[#This Row],[Open]],\"\")","v":""}]
[null,{"$f":"IFERROR((Feuil2!#REF!-#REF!)/#REF!,\"\")","v":""},{"$f":"IFERROR((tabSecond[[#This Row],[Close]]-tabSecond[[#This Row],[Open]])/tabSecond[[#This Row],[Open]],\"\")","v":""}]
[null,{"$f":"IFERROR((Feuil2!#REF!-#REF!)/#REF!,\"\")","v":""},{"$f":"IFERROR((tabSecond[[#This Row],[Close]]-tabSecond[[#This Row],[Open]])/tabSecond[[#This Row],[Open]],\"\")","v":""}]
[null,{"$f":"IFERROR((Feuil2!#REF!-#REF!)/#REF!,\"\")","v":""},{"$f":"IFERROR((tabSecond[[#This Row],[Close]]-tabSecond[[#This Row],[Open]])/tabSecond[[#This Row],[Open]],\"\")","v":""}]
[null,{"$f":"IFERROR((Feuil2!#REF!-#REF!)/#REF!,\"\")","v":""},{"$f":"IFERROR((tabSecond[[#This Row],[Close]]-tabSecond[[#This Row],[Open]])/tabSecond[[#This Row],[Open]],\"\")","v":""}]
[null,{"$f":"IFERROR((Feuil2!#REF!-#REF!)/#REF!,\"\")","v":""},{"$f":"IFERROR((tabSecond[[#This Row],[Close]]-tabSecond[[#This Row],[Open]])/tabSecond[[#This Row],[Open]],\"\")","v":""}]
[null,{"$f":"IFERROR((Feuil2!#REF!-#REF!)/#REF!,\"\")","v":""},{"$f":"IFERROR((tabSecond[[#This Row],[Close]]-tabSecond[[#This Row],[Open]])/tabSecond[[#This Row],[Open]],\"\")","v":""}]
[null,{"$f":"IFERROR((Feuil2!#REF!-#REF!)/#REF!,\"\")","v":""},{"$f":"IFERROR((tabSecond[[#This Row],[Close]]-tabSecond[[#This Row],[Open]])/tabSecond[[#This Row],[Open]],\"\")","v":""}]
[null,{"$f":"IFERROR((Feuil2!#REF!-#REF!)/#REF!,\"\")","v":""},{"$f":"IFERROR((tabSecond[[#This Row],[Close]]-tabSecond[[#This Row],[Open]])/tabSecond[[#This Row],[Open]],\"\")","v":""}]
[null,{"$f":"IFERROR((Feuil2!#REF!-#REF!)/#REF!,\"\")","v":""},{"$f":"IFERROR((tabSecond[[#This Row],[Close]]-tabSecond[[#This Row],[Open]])/tabSecond[[#This Row],[Open]],\"\")","v":""}]
[null,{"$f":"IFERROR((Feuil2!#REF!-#REF!)/#REF!,\"\")","v":""},{"$f":"IFERROR((tabSecond[[#This Row],[Close]]-tabSecond[[#This Row],[Open]])/tabSecond[[#This Row],[Open]],\"\")","v":""}]
[null,{"$f":"IFERROR((Feuil2!#REF!-#REF!)/#REF!,\"\")","v":""},{"$f":"IFERROR((tabSecond[[#This Row],[Close]]-tabSecond[[#This Row],[Open]])/tabSecond[[#This Row],[Open]],\"\")","v":""}]
[null,{"$f":"IFERROR((Feuil2!#REF!-#REF!)/#REF!,\"\")","v":""},{"$f":"IFERROR((tabSecond[[#This Row],[Close]]-tabSecond[[#This Row],[Open]])/tabSecond[[#This Row],[Open]],\"\")","v":""}]
[null,{"$f":"IFERROR((Feuil2!#REF!-#REF!)/#REF!,\"\")","v":""},{"$f":"IFERROR((tabSecond[[#This Row],[Close]]-tabSecond[[#This Row],[Open]])/tabSecond[[#This Row],[Open]],\"\")","v":""}]
[null,{"$f":"IFERROR((Feuil2!#REF!-#REF!)/#REF!,\"\")","v":""},{"$f":"IFERROR((tabSecond[[#This Row],[Close]]-tabSecond[[#This Row],[Open]])/tabSecond[[#This Row],[Open]],\"\")","v":""}]
[null,{"$f":"IFERROR((Feuil2!#REF!-#REF!)/#REF!,\"\")","v":""},{"$f":"IFERROR((tabSecond[[#This Row],[Close]]-tabSecond[[#This Row],[Open]])/tabSecond[[#This Row],[Open]],\"\")","v":""}]
[null,{"$f":"IFERROR((Feuil2!#REF!-#REF!)/#REF!,\"\")","v":""},{"$f":"IFERROR((tabSecond[[#This Row],[Close]]-tabSecond[[#This Row],[Open]])/tabSecond[[#This Row],[Open]],\"\")","v":""}]
[null,{"$f":"IFERROR((Feuil2!#REF!-#REF!)/#REF!,\"\")","v":""},{"$f":"IFERROR((tabSecond[[#This Row],[Close]]-tabSecond[[#This Row],[Open]])/tabSecond[[#This Row],[Open]],\"\")","v":""}]
[null,{"$f":"IFERROR((Feuil2!#REF!-#REF!)/#REF!,\"\")","v":""},{"$f":"IFERROR((tabSecond[[#This Row],[Close]]-tabSecond[[#This Row],[Open]])/tabSecond[[#This Row],[Open]],\"\")","v":""}]
[null,{"$f":"IFERROR((Feuil2!#REF!-#REF!)/#REF!,\"\")","v":""},{"$f":"IFERROR((tabSecond[[#This Row],[Close]]-tabSecond[[#This Row],[Open]])/tabSecond[[#This Row],[Open]],\"\")","v":""}]
[null,{"$f":"IFERROR((Feuil2!#REF!-#REF!)/#REF!,\"\")","v":""},{"$f":"IFERROR((tabSecond[[#This Row],[Close]]-tabSecond[[#This Row],[Open]])/tabSecond[[#This Row],[Open]],\"\")","v":""}]
[null,{"$f":"IFERROR((Feuil2!#REF!-#REF!)/#REF!,\"\")","v":""},{"$f":"IFERROR((tabSecond[[#This Row],[Close]]-tabSecond[[#This Row],[Open]])/tabSecond[[#This Row],[Open]],\"\")","v":""}]
[null,{"$f":"IFERROR((Feuil2!#REF!-#REF!)/#REF!,\"\")","v":""},{"$f":"IFERROR((tabSecond[[#This Row],[Close]]-tabSecond[[#This Row],[Open]])/tabSecond[[#This Row],[Open]],\"\")","v":""}]
[null,{"$f":"IFERROR((Feuil2!#REF!-#REF!)/#REF!,\"\")","v":""},{"$f":"IFERROR((tabSecond[[#This Row],[Close]]-tabSecond[[#This Row],[Open]])/tabSecond[[#This Row],[Open]],\"\")","v":""}]
[null,{"$f":"IFERROR((Feuil2!#REF!-#REF!)/#REF!,\"\")","v":""},{"$f":"IFERROR((tabSecond[[#This Row],[Close]]-tabSecond[[#This Row],[Open]])/tabSecond[[#This Row],[Open]],\"\")","v":""}]
[null,{"$f":"IFERROR((Feuil2!#REF!-#REF!)/#REF!,\"\")","v":""},{"$f":"IFERROR((tabSecond[[#This Row],[Close]]-tabSecond[[#This Row],[Open]])/tabSecond[[#This Row],[Open]],\"\")","v":""}]
[null,{"$f":"IFERROR((Feuil2!#REF!-#REF!)/#REF!,\"\")","v":""},{"$f":"IFERROR((tabSecond[[#This Row],[Close]]-tabSecond[[#This Row],[Open]])/tabSecond[[#This Row],[Open]],\"\")","v":""}]
[null,{"$f":"IFERROR((Feuil2!#REF!-#REF!)/#REF!,\"\")","v":""},{"$f":"IFERROR((tabSecond[[#This Row],[Close]]-tabSecond[[#This Row],[Open]])/tabSecond[[#This Row],[Open]],\"\")","v":""}]
[null,{"$f":"IFERROR((Feuil2!#REF!-#REF!)/#REF!,\"\")","v":""},{"$f":"IFERROR((tabSecond[[#This Row],[Close]]-tabSecond[[#This Row],[Open]])/tabSecond[[#This Row],[Open]],\"\")","v":""}]
[null,{"$f":"IFERROR((Feuil2!#REF!-#REF!)/#REF!,\"\")","v":""},{"$f":"IFERROR((tabSecond[[#This Row],[Close]]-tabSecond[[#This Row],[Open]])/tabSecond[[#This Row],[Open]],\"\")","v":""}]
[null,{"$f":"IFERROR((Feuil2!#REF!-#REF!)/#REF!,\"\")","v":""},{"$f":"IFERROR((tabSecond[[#This Row],[Close]]-tabSecond[[#This Row],[Open]])/tabSecond[[#This Row],[Open]],\"\")","v":""}]
[null,{"$f":"IFERROR((Feuil2!#REF!-#REF!)/#REF!,\"\")","v":""},{"$f":"IFERROR((tabSecond[[#This Row],[Close]]-tabSecond[[#This Row],[Open]])/tabSecond[[#This Row],[Open]],\"\")","v":""}]
[null,{"$f":"IFERROR((Feuil2!#REF!-#REF!)/#REF!,\"\")","v":""},{"$f":"IFERROR((tabSecond[[#This Row],[Close]]-tabSecond[[#This Row],[Open]])/tabSecond[[#This Row],[Open]],\"\")","v":""}]
[null,{"$f":"IFERROR((Feuil2!#REF!-#REF!)/#REF!,\"\")","v":""},{"$f":"IFERROR((tabSecond[[#This Row],[Close]]-tabSecond[[#This Row],[Open]])/tabSecond[[#This Row],[Open]],\"\")","v":""}]
[null,{"$f":"IFERROR((Feuil2!#REF!-#REF!)/#REF!,\"\")","v":""},{"$f":"IFERROR((tabSecond[[#This Row],[Close]]-tabSecond[[#This Row],[Open]])/tabSecond[[#This Row],[Open]],\"\")","v":""}]
[null,{"$f":"IFERROR((Feuil2!#REF!-#REF!)/#REF!,\"\")","v":""},{"$f":"IFERROR((tabSecond[[#This Row],[Close]]-tabSecond[[#This Row],[Open]])/tabSecond[[#This Row],[Open]],\"\")","v":""}]
[null,{"$f":"IFERROR((Feuil2!#REF!-#REF!)/#REF!,\"\")","v":""},{"$f":"IFERROR((tabSecond[[#This Row],[Close]]-tabSecond[[#This Row],[Open]])/tabSecond[[#This Row],[Open]],\"\")","v":""}]
[null,{"$f":"IFERROR((Feuil2!#REF!-#REF!)/#REF!,\"\")","v":""},{"$f":"IFERROR((tabSecond[[#This Row],[Close]]-tabSecond[[#This Row],[Open]])/tabSecond[[#This Row],[Open]],\"\")","v":""}]
[null,{"$f":"IFERROR((Feuil2!#REF!-#REF!)/#REF!,\"\")","v":""},{"$f":"IFERROR((tabSecond[[#This Row],[Close]]-tabSecond[[#This Row],[Open]])/tabSecond[[#This Row],[Open]],\"\")","v":""}]
[null,{"$f":"IFERROR((Feuil2!#REF!-#REF!)/#REF!,\"\")","v":""},{"$f":"IFERROR((tabSecond[[#This Row],[Close]]-tabSecond[[#This Row],[Open]])/tabSecond[[#This Row],[Open]],\"\")","v":""}]
[null,{"$f":"IFERROR((Feuil2!#REF!-#REF!)/#REF!,\"\")","v":""},{"$f":"IFERROR((tabSecond[[#This Row],[Close]]-tabSecond[[#This Row],[Open]])/tabSecond[[#This Row],[Open]],\"\")","v":""}]
[null,{"$f":"IFERROR((Feuil2!#REF!-#REF!)/#REF!,\"\")","v":""},{"$f":"IFERROR((tabSecond[[#This Row],[Close]]-tabSecond[[#This Row],[Open]])/tabSecond[[#This Row],[Open]],\"\")","v":""}]
[null,{"$f":"IFERROR((Feuil2!#REF!-#REF!)/#REF!,\"\")","v":""},{"$f":"IFERROR((tabSecond[[#This Row],[Close]]-tabSecond[[#This Row],[Open]])/tabSecond[[#This Row],[Open]],\"\")","v":""}]
[null,{"$f":"IFERROR((Feuil2!#REF!-#REF!)/#REF!,\"\")","v":""},{"$f":"IFERROR((tabSecond[[#This Row],[Close]]-tabSecond[[#This Row],[Open]])/tabSecond[[#This Row],[Open]],\"\")","v":""}]
[null,{"$f":"IFERROR((Feuil2!#REF!-#REF!)/#REF!,\"\")","v":""},{"$f":"IFERROR((tabSecond[[#This Row],[Close]]-tabSecond[[#This Row],[Open]])/tabSecond[[#This Row],[Open]],\"\")","v":""}]
[null,{"$f":"IFERROR((Feuil2!#REF!-#REF!)/#REF!,\"\")","v":""},{"$f":"IFERROR((tabSecond[[#This Row],[Close]]-tabSecond[[#This Row],[Open]])/tabSecond[[#This Row],[Open]],\"\")","v":""}]
[null,{"$f":"IFERROR((Feuil2!#REF!-#REF!)/#REF!,\"\")","v":""},{"$f":"IFERROR((tabSecond[[#This Row],[Close]]-tabSecond[[#This Row],[Open]])/tabSecond[[#This Row],[Open]],\"\")","v":""}]
[null,{"$f":"IFERROR((Feuil2!#REF!-#REF!)/#REF!,\"\")","v":""},{"$f":"IFERROR((tabSecond[[#This Row],[Close]]-tabSecond[[#This Row],[Open]])/tabSecond[[#This Row],[Open]],\"\")","v":""}]
[null,{"$f":"IFERROR((Feuil2!#REF!-#REF!)/#REF!,\"\")","v":""},{"$f":"IFERROR((tabSecond[[#This Row],[Close]]-tabSecond[[#This Row],[Open]])/tabSecond[[#This Row],[Open]],\"\")","v":""}]
[null,{"$f":"IFERROR((Feuil2!#REF!-#REF!)/#REF!,\"\")","v":""},{"$f":"IFERROR((tabSecond[[#This Row],[Close]]-tabSecond[[#This Row],[Open]])/tabSecond[[#This Row],[Open]],\"\")","v":""}]
[null,{"$f":"IFERROR((Feuil2!#REF!-#REF!)/#REF!,\"\")","v":""},{"$f":"IFERROR((tabSecond[[#This Row],[Close]]-tabSecond[[#This Row],[Open]])/tabSecond[[#This Row],[Open]],\"\")","v":""}]
[null,{"$f":"IFERROR((Feuil2!#REF!-#REF!)/#REF!,\"\")","v":""},{"$f":"IFERROR((tabSecond[[#This Row],[Close]]-tabSecond[[#This Row],[Open]])/tabSecond[[#This Row],[Open]],\"\")","v":""}]
[null,{"$f":"IFERROR((Feuil2!#REF!-#REF!)/#REF!,\"\")","v":""},{"$f":"IFERROR((tabSecond[[#This Row],[Close]]-tabSecond[[#This Row],[Open]])/tabSecond[[#This Row],[Open]],\"\")","v":""}]
[null,{"$f":"IFERROR((Feuil2!#REF!-#REF!)/#REF!,\"\")","v":""},{"$f":"IFERROR((tabSecond[[#This Row],[Close]]-tabSecond[[#This Row],[Open]])/tabSecond[[#This Row],[Open]],\"\")","v":""}]
[null,{"$f":"IFERROR((Feuil2!#REF!-#REF!)/#REF!,\"\")","v":""},{"$f":"IFERROR((tabSecond[[#This Row],[Close]]-tabSecond[[#This Row],[Open]])/tabSecond[[#This Row],[Open]],\"\")","v":""}]
[null,{"$f":"IFERROR((Feuil2!#REF!-#REF!)/#REF!,\"\")","v":""},{"$f":"IFERROR((tabSecond[[#This Row],[Close]]-tabSecond[[#This Row],[Open]])/tabSecond[[#This Row],[Open]],\"\")","v":""}]
[null,{"$f":"IFERROR((Feuil2!#REF!-#REF!)/#REF!,\"\")","v":""},{"$f":"IFERROR((tabSecond[[#This Row],[Close]]-tabSecond[[#This Row],[Open]])/tabSecond[[#This Row],[Open]],\"\")","v":""}]
[null,{"$f":"IFERROR((Feuil2!#REF!-#REF!)/#REF!,\"\")","v":""},{"$f":"IFERROR((tabSecond[[#This Row],[Close]]-tabSecond[[#This Row],[Open]])/tabSecond[[#This Row],[Open]],\"\")","v":""}]
[null,{"$f":"IFERROR((Feuil2!#REF!-#REF!)/#REF!,\"\")","v":""},{"$f":"IFERROR((tabSecond[[#This Row],[Close]]-tabSecond[[#This Row],[Open]])/tabSecond[[#This Row],[Open]],\"\")","v":""}]
[null,{"$f":"IFERROR((Feuil2!#REF!-#REF!)/#REF!,\"\")","v":""},{"$f":"IFERROR((tabSecond[[#This Row],[Close]]-tabSecond[[#This Row],[Open]])/tabSecond[[#This Row],[Open]],\"\")","v":""}]
[null,{"$f":"IFERROR((Feuil2!#REF!-#REF!)/#REF!,\"\")","v":""},{"$f":"IFERROR((tabSecond[[#This Row],[Close]]-tabSecond[[#This Row],[Open]])/tabSecond[[#This Row],[Open]],\"\")","v":""}]
[null,{"$f":"IFERROR((Feuil2!#REF!-#REF!)/#REF!,\"\")","v":""},{"$f":"IFERROR((tabSecond[[#This Row],[Close]]-tabSecond[[#This Row],[Open]])/tabSecond[[#This Row],[Open]],\"\")","v":""}]
[null,{"$f":"IFERROR((Feuil2!#REF!-#REF!)/#REF!,\"\")","v":""},{"$f":"IFERROR((tabSecond[[#This Row],[Close]]-tabSecond[[#This Row],[Open]])/tabSecond[[#This Row],[Open]],\"\")","v":""}]
[null,{"$f":"IFERROR((Feuil2!#REF!-#REF!)/#REF!,\"\")","v":""},{"$f":"IFERROR((tabSecond[[#This Row],[Close]]-tabSecond[[#This Row],[Open]])/tabSecond[[#This Row],[Open]],\"\")","v":""}]
[null,{"$f":"IFERROR((Feuil2!#REF!-#REF!)/#REF!,\"\")","v":""},{"$f":"IFERROR((tabSecond[[#This Row],[Close]]-tabSecond[[#This Row],[Open]])/tabSecond[[#This Row],[Open]],\"\")","v":""}]
[null,{"$f":"IFERROR((Feuil2!#REF!-#REF!)/#REF!,\"\")","v":""},{"$f":"IFERROR((tabSecond[[#This Row],[Close]]-tabSecond[[#This Row],[Open]])/tabSecond[[#This Row],[Open]],\"\")","v":""}]
[null,{"$f":"IFERROR((Feuil2!#REF!-#REF!)/#REF!,\"\")","v":""},{"$f":"IFERROR((tabSecond[[#This Row],[Close]]-tabSecond[[#This Row],[Open]])/tabSecond[[#This Row],[Open]],\"\")","v":""}]
[null,{"$f":"IFERROR((Feuil2!#REF!-#REF!)/#REF!,\"\")","v":""},{"$f":"IFERROR((tabSecond[[#This Row],[Close]]-tabSecond[[#This Row],[Open]])/tabSecond[[#This Row],[Open]],\"\")","v":""}]
[null,{"$f":"IFERROR((Feuil2!#REF!-#REF!)/#REF!,\"\")","v":""},{"$f":"IFERROR((tabSecond[[#This Row],[Close]]-tabSecond[[#This Row],[Open]])/tabSecond[[#This Row],[Open]],\"\")","v":""}]
[null,{"$f":"IFERROR((Feuil2!#REF!-#REF!)/#REF!,\"\")","v":""},{"$f":"IFERROR((tabSecond[[#This Row],[Close]]-tabSecond[[#This Row],[Open]])/tabSecond[[#This Row],[Open]],\"\")","v":""}]
[null,{"$f":"IFERROR((Feuil2!#REF!-#REF!)/#REF!,\"\")","v":""},{"$f":"IFERROR((tabSecond[[#This Row],[Close]]-tabSecond[[#This Row],[Open]])/tabSecond[[#This Row],[Open]],\"\")","v":""}]
[null,{"$f":"IFERROR((Feuil2!#REF!-#REF!)/#REF!,\"\")","v":""},{"$f":"IFERROR((tabSecond[[#This Row],[Close]]-tabSecond[[#This Row],[Open]])/tabSecond[[#This Row],[Open]],\"\")","v":""}]
[null,{"$f":"IFERROR((Feuil2!#REF!-#REF!)/#REF!,\"\")","v":""},{"$f":"IFERROR((tabSecond[[#This Row],[Close]]-tabSecond[[#This Row],[Open]])/tabSecond[[#This Row],[Open]],\"\")","v":""}]
[null,{"$f":"IFERROR((Feuil2!#REF!-#REF!)/#REF!,\"\")","v":""},{"$f":"IFERROR((tabSecond[[#This Row],[Close]]-tabSecond[[#This Row],[Open]])/tabSecond[[#This Row],[Open]],\"\")","v":""}]
[null,{"$f":"IFERROR((Feuil2!#REF!-#REF!)/#REF!,\"\")","v":""},{"$f":"IFERROR((tabSecond[[#This Row],[Close]]-tabSecond[[#This Row],[Open]])/tabSecond[[#This Row],[Open]],\"\")","v":""}]
[null,{"$f":"IFERROR((Feuil2!#REF!-#REF!)/#REF!,\"\")","v":""},{"$f":"IFERROR((tabSecond[[#This Row],[Close]]-tabSecond[[#This Row],[Open]])/tabSecond[[#This Row],[Open]],\"\")","v":""}]
[null,{"$f":"IFERROR((Feuil2!#REF!-#REF!)/#REF!,\"\")","v":""},{"$f":"IFERROR((tabSecond[[#This Row],[Close]]-tabSecond[[#This Row],[Open]])/tabSecond[[#This Row],[Open]],\"\")","v":""}]
[null,{"$f":"IFERROR((Feuil2!#REF!-#REF!)/#REF!,\"\")","v":""},{"$f":"IFERROR((tabSecond[[#This Row],[Close]]-tabSecond[[#This Row],[Open]])/tabSecond[[#This Row],[Open]],\"\")","v":""}]
[null,{"$f":"IFERROR((Feuil2!#REF!-#REF!)/#REF!,\"\")","v":""},{"$f":"IFERROR((tabSecond[[#This Row],[Close]]-tabSecond[[#This Row],[Open]])/tabSecond[[#This Row],[Open]],\"\")","v":""}]
[null,{"$f":"IFERROR((Feuil2!#REF!-#REF!)/#REF!,\"\")","v":""},{"$f":"IFERROR((tabSecond[[#This Row],[Close]]-tabSecond[[#This Row],[Open]])/tabSecond[[#This Row],[Open]],\"\")","v":""}]
[null,{"$f":"IFERROR((Feuil2!#REF!-#REF!)/#REF!,\"\")","v":""},{"$f":"IFERROR((tabSecond[[#This Row],[Close]]-tabSecond[[#This Row],[Open]])/tabSecond[[#This Row],[Open]],\"\")","v":""}]
[null,{"$f":"IFERROR((Feuil2!#REF!-#REF!)/#REF!,\"\")","v":""},{"$f":"IFERROR((tabSecond[[#This Row],[Close]]-tabSecond[[#This Row],[Open]])/tabSecond[[#This Row],[Open]],\"\")","v":""}]
[null,{"$f":"IFERROR((Feuil2!#REF!-#REF!)/#REF!,\"\")","v":""},{"$f":"IFERROR((tabSecond[[#This Row],[Close]]-tabSecond[[#This Row],[Open]])/tabSecond[[#This Row],[Open]],\"\")","v":""}]
[null,{"$f":"IFERROR((Feuil2!#REF!-#REF!)/#REF!,\"\")","v":""},{"$f":"IFERROR((tabSecond[[#This Row],[Close]]-tabSecond[[#This Row],[Open]])/tabSecond[[#This Row],[Open]],\"\")","v":""}]
[null,{"$f":"IFERROR((Feuil2!#REF!-#REF!)/#REF!,\"\")","v":""},{"$f":"IFERROR((tabSecond[[#This Row],[Close]]-tabSecond[[#This Row],[Open]])/tabSecond[[#This Row],[Open]],\"\")","v":""}]
[null,{"$f":"IFERROR((Feuil2!#REF!-#REF!)/#REF!,\"\")","v":""},{"$f":"IFERROR((tabSecond[[#This Row],[Close]]-tabSecond[[#This Row],[Open]])/tabSecond[[#This Row],[Open]],\"\")","v":""}]
[null,{"$f":"IFERROR((Feuil2!#REF!-#REF!)/#REF!,\"\")","v":""},{"$f":"IFERROR((tabSecond[[#This Row],[Close]]-tabSecond[[#This Row],[Open]])/tabSecond[[#This Row],[Open]],\"\")","v":""}]
[null,{"$f":"IFERROR((Feuil2!#REF!-#REF!)/#REF!,\"\")","v":""},{"$f":"IFERROR((tabSecond[[#This Row],[Close]]-tabSecond[[#This Row],[Open]])/tabSecond[[#This Row],[Open]],\"\")","v":""}]
[null,{"$f":"IFERROR((Feuil2!#REF!-#REF!)/#REF!,\"\")","v":""},{"$f":"IFERROR((tabSecond[[#This Row],[Close]]-tabSecond[[#This Row],[Open]])/tabSecond[[#This Row],[Open]],\"\")","v":""}]
[null,{"$f":"IFERROR((Feuil2!#REF!-#REF!)/#REF!,\"\")","v":""},{"$f":"IFERROR((tabSecond[[#This Row],[Close]]-tabSecond[[#This Row],[Open]])/tabSecond[[#This Row],[Open]],\"\")","v":""}]
[null,{"$f":"IFERROR((Feuil2!#REF!-#REF!)/#REF!,\"\")","v":""},{"$f":"IFERROR((tabSecond[[#This Row],[Close]]-tabSecond[[#This Row],[Open]])/tabSecond[[#This Row],[Open]],\"\")","v":""}]
[null,{"$f":"IFERROR((Feuil2!#REF!-#REF!)/#REF!,\"\")","v":""},{"$f":"IFERROR((tabSecond[[#This Row],[Close]]-tabSecond[[#This Row],[Open]])/tabSecond[[#This Row],[Open]],\"\")","v":""}]
[null,{"$f":"IFERROR((Feuil2!#REF!-#REF!)/#REF!,\"\")","v":""},{"$f":"IFERROR((tabSecond[[#This Row],[Close]]-tabSecond[[#This Row],[Open]])/tabSecond[[#This Row],[Open]],\"\")","v":""}]
[null,{"$f":"IFERROR((Feuil2!#REF!-#REF!)/#REF!,\"\")","v":""},{"$f":"IFERROR((tabSecond[[#This Row],[Close]]-tabSecond[[#This Row],[Open]])/tabSecond[[#This Row],[Open]],\"\")","v":""}]
[null,{"$f":"IFERROR((Feuil2!#REF!-#REF!)/#REF!,\"\")","v":""},{"$f":"IFERROR((tabSecond[[#This Row],[Close]]-tabSecond[[#This Row],[Open]])/tabSecond[[#This Row],[Open]],\"\")","v":""}]
[null,{"$f":"IFERROR((Feuil2!#REF!-#REF!)/#REF!,\"\")","v":""},{"$f":"IFERROR((tabSecond[[#This Row],[Close]]-tabSecond[[#This Row],[Open]])/tabSecond[[#This Row],[Open]],\"\")","v":""}]
[null,{"$f":"IFERROR((Feuil2!#REF!-#REF!)/#REF!,\"\")","v":""},{"$f":"IFERROR((tabSecond[[#This Row],[Close]]-tabSecond[[#This Row],[Open]])/tabSecond[[#This Row],[Open]],\"\")","v":""}]
[null,{"$f":"IFERROR((Feuil2!#REF!-#REF!)/#REF!,\"\")","v":""},{"$f":"IFERROR((tabSecond[[#This Row],[Close]]-tabSecond[[#This Row],[Open]])/tabSecond[[#This Row],[Open]],\"\")","v":""}]
[null,{"$f":"IFERROR((Feuil2!#REF!-#REF!)/#REF!,\"\")","v":""},{"$f":"IFERROR((tabSecond[[#This Row],[Close]]-tabSecond[[#This Row],[Open]])/tabSecond[[#This Row],[Open]],\"\")","v":""}]
[null,{"$f":"IFERROR((Feuil2!#REF!-#REF!)/#REF!,\"\")","v":""},{"$f":"IFERROR((tabSecond[[#This Row],[Close]]-tabSecond[[#This Row],[Open]])/tabSecond[[#This Row],[Open]],\"\")","v":""}]
[null,{"$f":"IFERROR((Feuil2!#REF!-#REF!)/#REF!,\"\")","v":""},{"$f":"IFERROR((tabSecond[[#This Row],[Close]]-tabSecond[[#This Row],[Open]])/tabSecond[[#This Row],[Open]],\"\")","v":""}]
[null,{"$f":"IFERROR((Feuil2!#REF!-#REF!)/#REF!,\"\")","v":""},{"$f":"IFERROR((tabSecond[[#This Row],[Close]]-tabSecond[[#This Row],[Open]])/tabSecond[[#This Row],[Open]],\"\")","v":""}]
[null,{"$f":"IFERROR((Feuil2!#REF!-#REF!)/#REF!,\"\")","v":""},{"$f":"IFERROR((tabSecond[[#This Row],[Close]]-tabSecond[[#This Row],[Open]])/tabSecond[[#This Row],[Open]],\"\")","v":""}]
[null,{"$f":"IFERROR((Feuil2!#REF!-#REF!)/#REF!,\"\")","v":""},{"$f":"IFERROR((tabSecond[[#This Row],[Close]]-tabSecond[[#This Row],[Open]])/tabSecond[[#This Row],[Open]],\"\")","v":""}]
[null,{"$f":"IFERROR((Feuil2!#REF!-#REF!)/#REF!,\"\")","v":""},{"$f":"IFERROR((tabSecond[[#This Row],[Close]]-tabSecond[[#This Row],[Open]])/tabSecond[[#This Row],[Open]],\"\")","v":""}]
[null,{"$f":"IFERROR((Feuil2!#REF!-#REF!)/#REF!,\"\")","v":""},{"$f":"IFERROR((tabSecond[[#This Row],[Close]]-tabSecond[[#This Row],[Open]])/tabSecond[[#This Row],[Open]],\"\")","v":""}]
[null,{"$f":"IFERROR((Feuil2!#REF!-#REF!)/#REF!,\"\")","v":""},{"$f":"IFERROR((tabSecond[[#This Row],[Close]]-tabSecond[[#This Row],[Open]])/tabSecond[[#This Row],[Open]],\"\")","v":""}]
[null,{"$f":"IFERROR((Feuil2!#REF!-#REF!)/#REF!,\"\")","v":""},{"$f":"IFERROR((tabSecond[[#This Row],[Close]]-tabSecond[[#This Row],[Open]])/tabSecond[[#This Row],[Open]],\"\")","v":""}]
[null,{"$f":"IFERROR((Feuil2!#REF!-#REF!)/#REF!,\"\")","v":""},{"$f":"IFERROR((tabSecond[[#This Row],[Close]]-tabSecond[[#This Row],[Open]])/tabSecond[[#This Row],[Open]],\"\")","v":""}]
[null,{"$f":"IFERROR((Feuil2!#REF!-#REF!)/#REF!,\"\")","v":""},{"$f":"IFERROR((tabSecond[[#This Row],[Close]]-tabSecond[[#This Row],[Open]])/tabSecond[[#This Row],[Open]],\"\")","v":""}]
[null,{"$f":"IFERROR((Feuil2!#REF!-#REF!)/#REF!,\"\")","v":""},{"$f":"IFERROR((tabSecond[[#This Row],[Close]]-tabSecond[[#This Row],[Open]])/tabSecond[[#This Row],[Open]],\"\")","v":""}]
[null,{"$f":"IFERROR((Feuil2!#REF!-#REF!)/#REF!,\"\")","v":""},{"$f":"IFERROR((tabSecond[[#This Row],[Close]]-tabSecond[[#This Row],[Open]])/tabSecond[[#This Row],[Open]],\"\")","v":""}]
[null,{"$f":"IFERROR((Feuil2!#REF!-#REF!)/#REF!,\"\")","v":""},{"$f":"IFERROR((tabSecond[[#This Row],[Close]]-tabSecond[[#This Row],[Open]])/tabSecond[[#This Row],[Open]],\"\")","v":""}]
[null,{"$f":"IFERROR((Feuil2!#REF!-#REF!)/#REF!,\"\")","v":""},{"$f":"IFERROR((tabSecond[[#This Row],[Close]]-tabSecond[[#This Row],[Open]])/tabSecond[[#This Row],[Open]],\"\")","v":""}]
[null,{"$f":"IFERROR((Feuil2!#REF!-#REF!)/#REF!,\"\")","v":""},{"$f":"IFERROR((tabSecond[[#This Row],[Close]]-tabSecond[[#This Row],[Open]])/tabSecond[[#This Row],[Open]],\"\")","v":""}]
[null,{"$f":"IFERROR((Feuil2!#REF!-#REF!)/#REF!,\"\")","v":""},{"$f":"IFERROR((tabSecond[[#This Row],[Close]]-tabSecond[[#This Row],[Open]])/tabSecond[[#This Row],[Open]],\"\")","v":""}]
[null,{"$f":"IFERROR((Feuil2!#REF!-#REF!)/#REF!,\"\")","v":""},{"$f":"IFERROR((tabSecond[[#This Row],[Close]]-tabSecond[[#This Row],[Open]])/tabSecond[[#This Row],[Open]],\"\")","v":""}]
[null,{"$f":"IFERROR((Feuil2!#REF!-#REF!)/#REF!,\"\")","v":""},{"$f":"IFERROR((tabSecond[[#This Row],[Close]]-tabSecond[[#This Row],[Open]])/tabSecond[[#This Row],[Open]],\"\")","v":""}]
[null,{"$f":"IFERROR((Feuil2!#REF!-#REF!)/#REF!,\"\")","v":""},{"$f":"IFERROR((tabSecond[[#This Row],[Close]]-tabSecond[[#This Row],[Open]])/tabSecond[[#This Row],[Open]],\"\")","v":""}]
[null,{"$f":"IFERROR((Feuil2!#REF!-#REF!)/#REF!,\"\")","v":""},{"$f":"IFERROR((tabSecond[[#This Row],[Close]]-tabSecond[[#This Row],[Open]])/tabSecond[[#This Row],[Open]],\"\")","v":""}]
[null,{"$f":"IFERROR((Feuil2!#REF!-#REF!)/#REF!,\"\")","v":""},{"$f":"IFERROR((tabSecond[[#This Row],[Close]]-tabSecond[[#This Row],[Open]])/tabSecond[[#This Row],[Open]],\"\")","v":""}]
[null,{"$f":"IFERROR((Feuil2!#REF!-#REF!)/#REF!,\"\")","v":""},{"$f":"IFERROR((tabSecond[[#This Row],[Close]]-tabSecond[[#This Row],[Open]])/tabSecond[[#This Row],[Open]],\"\")","v":""}]
[null,{"$f":"IFERROR((Feuil2!#REF!-#REF!)/#REF!,\"\")","v":""},{"$f":"IFERROR((tabSecond[[#This Row],[Close]]-tabSecond[[#This Row],[Open]])/tabSecond[[#This Row],[Open]],\"\")","v":""}]
[null,{"$f":"IFERROR((Feuil2!#REF!-#REF!)/#REF!,\"\")","v":""},{"$f":"IFERROR((tabSecond[[#This Row],[Close]]-tabSecond[[#This Row],[Open]])/tabSecond[[#This Row],[Open]],\"\")","v":""}]
[null,{"$f":"IFERROR((Feuil2!#REF!-#REF!)/#REF!,\"\")","v":""},{"$f":"IFERROR((tabSecond[[#This Row],[Close]]-tabSecond[[#This Row],[Open]])/tabSecond[[#This Row],[Open]],\"\")","v":""}]
[null,{"$f":"IFERROR((Feuil2!#REF!-#REF!)/#REF!,\"\")","v":""},{"$f":"IFERROR((tabSecond[[#This Row],[Close]]-tabSecond[[#This Row],[Open]])/tabSecond[[#This Row],[Open]],\"\")","v":""}]
[null,{"$f":"IFERROR((Feuil2!#REF!-#REF!)/#REF!,\"\")","v":""},{"$f":"IFERROR((tabSecond[[#This Row],[Close]]-tabSecond[[#This Row],[Open]])/tabSecond[[#This Row],[Open]],\"\")","v":""}]
[null,{"$f":"IFERROR((Feuil2!#REF!-#REF!)/#REF!,\"\")","v":""},{"$f":"IFERROR((tabSecond[[#This Row],[Close]]-tabSecond[[#This Row],[Open]])/tabSecond[[#This Row],[Open]],\"\")","v":""}]
[null,{"$f":"IFERROR((Feuil2!#REF!-#REF!)/#REF!,\"\")","v":""},{"$f":"IFERROR((tabSecond[[#This Row],[Close]]-tabSecond[[#This Row],[Open]])/tabSecond[[#This Row],[Open]],\"\")","v":""}]
[null,{"$f":"IFERROR((Feuil2!#REF!-#REF!)/#REF!,\"\")","v":""},{"$f":"IFERROR((tabSecond[[#This Row],[Close]]-tabSecond[[#This Row],[Open]])/tabSecond[[#This Row],[Open]],\"\")","v":""}]
[null,{"$f":"IFERROR((Feuil2!#REF!-#REF!)/#REF!,\"\")","v":""},{"$f":"IFERROR((tabSecond[[#This Row],[Close]]-tabSecond[[#This Row],[Open]])/tabSecond[[#This Row],[Open]],\"\")","v":""}]
[null,{"$f":"IFERROR((Feuil2!#REF!-#REF!)/#REF!,\"\")","v":""},{"$f":"IFERROR((tabSecond[[#This Row],[Close]]-tabSecond[[#This Row],[Open]])/tabSecond[[#This Row],[Open]],\"\")","v":""}]
[null,{"$f":"IFERROR((Feuil2!#REF!-#REF!)/#REF!,\"\")","v":""},{"$f":"IFERROR((tabSecond[[#This Row],[Close]]-tabSecond[[#This Row],[Open]])/tabSecond[[#This Row],[Open]],\"\")","v":""}]
[null,{"$f":"IFERROR((Feuil2!#REF!-#REF!)/#REF!,\"\")","v":""},{"$f":"IFERROR((tabSecond[[#This Row],[Close]]-tabSecond[[#This Row],[Open]])/tabSecond[[#This Row],[Open]],\"\")","v":""}]
[null,{"$f":"IFERROR((Feuil2!#REF!-#REF!)/#REF!,\"\")","v":""},{"$f":"IFERROR((tabSecond[[#This Row],[Close]]-tabSecond[[#This Row],[Open]])/tabSecond[[#This Row],[Open]],\"\")","v":""}]
[null,{"$f":"IFERROR((Feuil2!#REF!-#REF!)/#REF!,\"\")","v":""},{"$f":"IFERROR((tabSecond[[#This Row],[Close]]-tabSecond[[#This Row],[Open]])/tabSecond[[#This Row],[Open]],\"\")","v":""}]
[null,{"$f":"IFERROR((Feuil2!#REF!-#REF!)/#REF!,\"\")","v":""},{"$f":"IFERROR((tabSecond[[#This Row],[Close]]-tabSecond[[#This Row],[Open]])/tabSecond[[#This Row],[Open]],\"\")","v":""}]
[null,{"$f":"IFERROR((Feuil2!#REF!-#REF!)/#REF!,\"\")","v":""},{"$f":"IFERROR((tabSecond[[#This Row],[Close]]-tabSecond[[#This Row],[Open]])/tabSecond[[#This Row],[Open]],\"\")","v":""}]
[null,{"$f":"IFERROR((Feuil2!#REF!-#REF!)/#REF!,\"\")","v":""},{"$f":"IFERROR((tabSecond[[#This Row],[Close]]-tabSecond[[#This Row],[Open]])/tabSecond[[#This Row],[Open]],\"\")","v":""}]
[null,{"$f":"IFERROR((Feuil2!#REF!-#REF!)/#REF!,\"\")","v":""},{"$f":"IFERROR((tabSecond[[#This Row],[Close]]-tabSecond[[#This Row],[Open]])/tabSecond[[#This Row],[Open]],\"\")","v":""}]
[null,{"$f":"IFERROR((Feuil2!#REF!-#REF!)/#REF!,\"\")","v":""},{"$f":"IFERROR((tabSecond[[#This Row],[Close]]-tabSecond[[#This Row],[Open]])/tabSecond[[#This Row],[Open]],\"\")","v":""}]
[null,{"$f":"IFERROR((Feuil2!#REF!-#REF!)/#REF!,\"\")","v":""},{"$f":"IFERROR((tabSecond[[#This Row],[Close]]-tabSecond[[#This Row],[Open]])/tabSecond[[#This Row],[Open]],\"\")","v":""}]
[null,{"$f":"IFERROR((Feuil2!#REF!-#REF!)/#REF!,\"\")","v":""},{"$f":"IFERROR((tabSecond[[#This Row],[Close]]-tabSecond[[#This Row],[Open]])/tabSecond[[#This Row],[Open]],\"\")","v":""}]
[null,{"$f":"IFERROR((Feuil2!#REF!-#REF!)/#REF!,\"\")","v":""},{"$f":"IFERROR((tabSecond[[#This Row],[Close]]-tabSecond[[#This Row],[Open]])/tabSecond[[#This Row],[Open]],\"\")","v":""}]
[null,{"$f":"IFERROR((Feuil2!#REF!-#REF!)/#REF!,\"\")","v":""},{"$f":"IFERROR((tabSecond[[#This Row],[Close]]-tabSecond[[#This Row],[Open]])/tabSecond[[#This Row],[Open]],\"\")","v":""}]
[null,{"$f":"IFERROR((Feuil2!#REF!-#REF!)/#REF!,\"\")","v":""},{"$f":"IFERROR((tabSecond[[#This Row],[Close]]-tabSecond[[#This Row],[Open]])/tabSecond[[#This Row],[Open]],\"\")","v":""}]
[null,{"$f":"IFERROR((Feuil2!#REF!-#REF!)/#REF!,\"\")","v":""},{"$f":"IFERROR((tabSecond[[#This Row],[Close]]-tabSecond[[#This Row],[Open]])/tabSecond[[#This Row],[Open]],\"\")","v":""}]
[null,{"$f":"IFERROR((Feuil2!#REF!-#REF!)/#REF!,\"\")","v":""},{"$f":"IFERROR((tabSecond[[#This Row],[Close]]-tabSecond[[#This Row],[Open]])/tabSecond[[#This Row],[Open]],\"\")","v":""}]
[null,{"$f":"IFERROR((Feuil2!#REF!-#REF!)/#REF!,\"\")","v":""},{"$f":"IFERROR((tabSecond[[#This Row],[Close]]-tabSecond[[#This Row],[Open]])/tabSecond[[#This Row],[Open]],\"\")","v":""}]
[null,{"$f":"IFERROR((Feuil2!#REF!-#REF!)/#REF!,\"\")","v":""},{"$f":"IFERROR((tabSecond[[#This Row],[Close]]-tabSecond[[#This Row],[Open]])/tabSecond[[#This Row],[Open]],\"\")","v":""}]
[null,{"$f":"IFERROR((Feuil2!#REF!-#REF!)/#REF!,\"\")","v":""},{"$f":"IFERROR((tabSecond[[#This Row],[Close]]-tabSecond[[#This Row],[Open]])/tabSecond[[#This Row],[Open]],\"\")","v":""}]
[null,{"$f":"IFERROR((Feuil2!#REF!-#REF!)/#REF!,\"\")","v":""},{"$f":"IFERROR((tabSecond[[#This Row],[Close]]-tabSecond[[#This Row],[Open]])/tabSecond[[#This Row],[Open]],\"\")","v":""}]
[null,{"$f":"IFERROR((Feuil2!#REF!-#REF!)/#REF!,\"\")","v":""},{"$f":"IFERROR((tabSecond[[#This Row],[Close]]-tabSecond[[#This Row],[Open]])/tabSecond[[#This Row],[Open]],\"\")","v":""}]
[null,{"$f":"IFERROR((Feuil2!#REF!-#REF!)/#REF!,\"\")","v":""},{"$f":"IFERROR((tabSecond[[#This Row],[Close]]-tabSecond[[#This Row],[Open]])/tabSecond[[#This Row],[Open]],\"\")","v":""}]
[null,{"$f":"IFERROR((Feuil2!#REF!-#REF!)/#REF!,\"\")","v":""},{"$f":"IFERROR((tabSecond[[#This Row],[Close]]-tabSecond[[#This Row],[Open]])/tabSecond[[#This Row],[Open]],\"\")","v":""}]
[null,{"$f":"IFERROR((Feuil2!#REF!-#REF!)/#REF!,\"\")","v":""},{"$f":"IFERROR((tabSecond[[#This Row],[Close]]-tabSecond[[#This Row],[Open]])/tabSecond[[#This Row],[Open]],\"\")","v":""}]
[null,{"$f":"IFERROR((Feuil2!#REF!-#REF!)/#REF!,\"\")","v":""},{"$f":"IFERROR((tabSecond[[#This Row],[Close]]-tabSecond[[#This Row],[Open]])/tabSecond[[#This Row],[Open]],\"\")","v":""}]
[null,{"$f":"IFERROR((Feuil2!#REF!-#REF!)/#REF!,\"\")","v":""},{"$f":"IFERROR((tabSecond[[#This Row],[Close]]-tabSecond[[#This Row],[Open]])/tabSecond[[#This Row],[Open]],\"\")","v":""}]
[null,{"$f":"IFERROR((Feuil2!#REF!-#REF!)/#REF!,\"\")","v":""},{"$f":"IFERROR((tabSecond[[#This Row],[Close]]-tabSecond[[#This Row],[Open]])/tabSecond[[#This Row],[Open]],\"\")","v":""}]
[null,{"$f":"IFERROR((Feuil2!#REF!-#REF!)/#REF!,\"\")","v":""},{"$f":"IFERROR((tabSecond[[#This Row],[Close]]-tabSecond[[#This Row],[Open]])/tabSecond[[#This Row],[Open]],\"\")","v":""}]
[null,{"$f":"IFERROR((Feuil2!#REF!-#REF!)/#REF!,\"\")","v":""},{"$f":"IFERROR((tabSecond[[#This Row],[Close]]-tabSecond[[#This Row],[Open]])/tabSecond[[#This Row],[Open]],\"\")","v":""}]
[null,{"$f":"IFERROR((Feuil2!#REF!-#REF!)/#REF!,\"\")","v":""},{"$f":"IFERROR((tabSecond[[#This Row],[Close]]-tabSecond[[#This Row],[Open]])/tabSecond[[#This Row],[Open]],\"\")","v":""}]
[null,{"$f":"IFERROR((Feuil2!#REF!-#REF!)/#REF!,\"\")","v":""},{"$f":"IFERROR((tabSecond[[#This Row],[Close]]-tabSecond[[#This Row],[Open]])/tabSecond[[#This Row],[Open]],\"\")","v":""}]
[null,{"$f":"IFERROR((Feuil2!#REF!-#REF!)/#REF!,\"\")","v":""},{"$f":"IFERROR((tabSecond[[#This Row],[Close]]-tabSecond[[#This Row],[Open]])/tabSecond[[#This Row],[Open]],\"\")","v":""}]
[null,{"$f":"IFERROR((Feuil2!#REF!-#REF!)/#REF!,\"\")","v":""},{"$f":"IFERROR((tabSecond[[#This Row],[Close]]-tabSecond[[#This Row],[Open]])/tabSecond[[#This Row],[Open]],\"\")","v":""}]
[null,{"$f":"IFERROR((Feuil2!#REF!-#REF!)/#REF!,\"\")","v":""},{"$f":"IFERROR((tabSecond[[#This Row],[Close]]-tabSecond[[#This Row],[Open]])/tabSecond[[#This Row],[Open]],\"\")","v":""}]
[null,{"$f":"IFERROR((Feuil2!#REF!-#REF!)/#REF!,\"\")","v":""},{"$f":"IFERROR((tabSecond[[#This Row],[Close]]-tabSecond[[#This Row],[Open]])/tabSecond[[#This Row],[Open]],\"\")","v":""}]
[null,{"$f":"IFERROR((Feuil2!#REF!-#REF!)/#REF!,\"\")","v":""},{"$f":"IFERROR((tabSecond[[#This Row],[Close]]-tabSecond[[#This Row],[Open]])/tabSecond[[#This Row],[Open]],\"\")","v":""}]
[null,{"$f":"IFERROR((Feuil2!#REF!-#REF!)/#REF!,\"\")","v":""},{"$f":"IFERROR((tabSecond[[#This Row],[Close]]-tabSecond[[#This Row],[Open]])/tabSecond[[#This Row],[Open]],\"\")","v":""}]
[null,{"$f":"IFERROR((Feuil2!#REF!-#REF!)/#REF!,\"\")","v":""},{"$f":"IFERROR((tabSecond[[#This Row],[Close]]-tabSecond[[#This Row],[Open]])/tabSecond[[#This Row],[Open]],\"\")","v":""}]
[null,{"$f":"IFERROR((Feuil2!#REF!-#REF!)/#REF!,\"\")","v":""},{"$f":"IFERROR((tabSecond[[#This Row],[Close]]-tabSecond[[#This Row],[Open]])/tabSecond[[#This Row],[Open]],\"\")","v":""}]
[null,{"$f":"IFERROR((Feuil2!#REF!-#REF!)/#REF!,\"\")","v":""},{"$f":"IFERROR((tabSecond[[#This Row],[Close]]-tabSecond[[#This Row],[Open]])/tabSecond[[#This Row],[Open]],\"\")","v":""}]
[null,{"$f":"IFERROR((Feuil2!#REF!-#REF!)/#REF!,\"\")","v":""},{"$f":"IFERROR((tabSecond[[#This Row],[Close]]-tabSecond[[#This Row],[Open]])/tabSecond[[#This Row],[Open]],\"\")","v":""}]
[null,{"$f":"IFERROR((Feuil2!#REF!-#REF!)/#REF!,\"\")","v":""},{"$f":"IFERROR((tabSecond[[#This Row],[Close]]-tabSecond[[#This Row],[Open]])/tabSecond[[#This Row],[Open]],\"\")","v":""}]
[null,{"$f":"IFERROR((Feuil2!#REF!-#REF!)/#REF!,\"\")","v":""},{"$f":"IFERROR((tabSecond[[#This Row],[Close]]-tabSecond[[#This Row],[Open]])/tabSecond[[#This Row],[Open]],\"\")","v":""}]
[null,{"$f":"IFERROR((Feuil2!#REF!-#REF!)/#REF!,\"\")","v":""},{"$f":"IFERROR((tabSecond[[#This Row],[Close]]-tabSecond[[#This Row],[Open]])/tabSecond[[#This Row],[Open]],\"\")","v":""}]
[null,{"$f":"IFERROR((Feuil2!#REF!-#REF!)/#REF!,\"\")","v":""},{"$f":"IFERROR((tabSecond[[#This Row],[Close]]-tabSecond[[#This Row],[Open]])/tabSecond[[#This Row],[Open]],\"\")","v":""}]
[null,{"$f":"IFERROR((Feuil2!#REF!-#REF!)/#REF!,\"\")","v":""},{"$f":"IFERROR((tabSecond[[#This Row],[Close]]-tabSecond[[#This Row],[Open]])/tabSecond[[#This Row],[Open]],\"\")","v":""}]
[null,{"$f":"IFERROR((Feuil2!#REF!-#REF!)/#REF!,\"\")","v":""},{"$f":"IFERROR((tabSecond[[#This Row],[Close]]-tabSecond[[#This Row],[Open]])/tabSecond[[#This Row],[Open]],\"\")","v":""}]
[null,{"$f":"IFERROR((Feuil2!#REF!-#REF!)/#REF!,\"\")","v":""},{"$f":"IFERROR((tabSecond[[#This Row],[Close]]-tabSecond[[#This Row],[Open]])/tabSecond[[#This Row],[Open]],\"\")","v":""}]
[null,{"$f":"IFERROR((Feuil2!#REF!-#REF!)/#REF!,\"\")","v":""},{"$f":"IFERROR((tabSecond[[#This Row],[Close]]-tabSecond[[#This Row],[Open]])/tabSecond[[#This Row],[Open]],\"\")","v":""}]
[null,{"$f":"IFERROR((Feuil2!#REF!-#REF!)/#REF!,\"\")","v":""},{"$f":"IFERROR((tabSecond[[#This Row],[Close]]-tabSecond[[#This Row],[Open]])/tabSecond[[#This Row],[Open]],\"\")","v":""}]
[null,{"$f":"IFERROR((Feuil2!#REF!-#REF!)/#REF!,\"\")","v":""},{"$f":"IFERROR((tabSecond[[#This Row],[Close]]-tabSecond[[#This Row],[Open]])/tabSecond[[#This Row],[Open]],\"\")","v":""}]
[null,{"$f":"IFERROR((Feuil2!#REF!-#REF!)/#REF!,\"\")","v":""},{"$f":"IFERROR((tabSecond[[#This Row],[Close]]-tabSecond[[#This Row],[Open]])/tabSecond[[#This Row],[Open]],\"\")","v":""}]
[null,{"$f":"IFERROR((Feuil2!#REF!-#REF!)/#REF!,\"\")","v":""},{"$f":"IFERROR((tabSecond[[#This Row],[Close]]-tabSecond[[#This Row],[Open]])/tabSecond[[#This Row],[Open]],\"\")","v":""}]
[null,{"$f":"IFERROR((Feuil2!#REF!-#REF!)/#REF!,\"\")","v":""},{"$f":"IFERROR((tabSecond[[#This Row],[Close]]-tabSecond[[#This Row],[Open]])/tabSecond[[#This Row],[Open]],\"\")","v":""}]
[null,{"$f":"IFERROR((Feuil2!#REF!-#REF!)/#REF!,\"\")","v":""},{"$f":"IFERROR((tabSecond[[#This Row],[Close]]-tabSecond[[#This Row],[Open]])/tabSecond[[#This Row],[Open]],\"\")","v":""}]
[null,{"$f":"IFERROR((Feuil2!#REF!-#REF!)/#REF!,\"\")","v":""},{"$f":"IFERROR((tabSecond[[#This Row],[Close]]-tabSecond[[#This Row],[Open]])/tabSecond[[#This Row],[Open]],\"\")","v":""}]
[null,{"$f":"IFERROR((Feuil2!#REF!-#REF!)/#REF!,\"\")","v":""},{"$f":"IFERROR((tabSecond[[#This Row],[Close]]-tabSecond[[#This Row],[Open]])/tabSecond[[#This Row],[Open]],\"\")","v":""}]
[null,{"$f":"IFERROR((Feuil2!#REF!-#REF!)/#REF!,\"\")","v":""},{"$f":"IFERROR((tabSecond[[#This Row],[Close]]-tabSecond[[#This Row],[Open]])/tabSecond[[#This Row],[Open]],\"\")","v":""}]
[null,{"$f":"IFERROR((Feuil2!#REF!-#REF!)/#REF!,\"\")","v":""},{"$f":"IFERROR((tabSecond[[#This Row],[Close]]-tabSecond[[#This Row],[Open]])/tabSecond[[#This Row],[Open]],\"\")","v":""}]
[null,{"$f":"IFERROR((Feuil2!#REF!-#REF!)/#REF!,\"\")","v":""},{"$f":"IFERROR((tabSecond[[#This Row],[Close]]-tabSecond[[#This Row],[Open]])/tabSecond[[#This Row],[Open]],\"\")","v":""}]
[null,{"$f":"IFERROR((Feuil2!#REF!-#REF!)/#REF!,\"\")","v":""},{"$f":"IFERROR((tabSecond[[#This Row],[Close]]-tabSecond[[#This Row],[Open]])/tabSecond[[#This Row],[Open]],\"\")","v":""}]
[null,{"$f":"IFERROR((Feuil2!#REF!-#REF!)/#REF!,\"\")","v":""},{"$f":"IFERROR((tabSecond[[#This Row],[Close]]-tabSecond[[#This Row],[Open]])/tabSecond[[#This Row],[Open]],\"\")","v":""}]
[null,{"$f":"IFERROR((Feuil2!#REF!-#REF!)/#REF!,\"\")","v":""},{"$f":"IFERROR((tabSecond[[#This Row],[Close]]-tabSecond[[#This Row],[Open]])/tabSecond[[#This Row],[Open]],\"\")","v":""}]
[null,{"$f":"IFERROR((Feuil2!#REF!-#REF!)/#REF!,\"\")","v":""},{"$f":"IFERROR((tabSecond[[#This Row],[Close]]-tabSecond[[#This Row],[Open]])/tabSecond[[#This Row],[Open]],\"\")","v":""}]
[null,{"$f":"IFERROR((Feuil2!#REF!-#REF!)/#REF!,\"\")","v":""},{"$f":"IFERROR((tabSecond[[#This Row],[Close]]-tabSecond[[#This Row],[Open]])/tabSecond[[#This Row],[Open]],\"\")","v":""}]
[null,{"$f":"IFERROR((Feuil2!#REF!-#REF!)/#REF!,\"\")","v":""},{"$f":"IFERROR((tabSecond[[#This Row],[Close]]-tabSecond[[#This Row],[Open]])/tabSecond[[#This Row],[Open]],\"\")","v":""}]
[null,{"$f":"IFERROR((Feuil2!#REF!-#REF!)/#REF!,\"\")","v":""},{"$f":"IFERROR((tabSecond[[#This Row],[Close]]-tabSecond[[#This Row],[Open]])/tabSecond[[#This Row],[Open]],\"\")","v":""}]
[null,{"$f":"IFERROR((Feuil2!#REF!-#REF!)/#REF!,\"\")","v":""},{"$f":"IFERROR((tabSecond[[#This Row],[Close]]-tabSecond[[#This Row],[Open]])/tabSecond[[#This Row],[Open]],\"\")","v":""}]
[null,{"$f":"IFERROR((Feuil2!#REF!-#REF!)/#REF!,\"\")","v":""},{"$f":"IFERROR((tabSecond[[#This Row],[Close]]-tabSecond[[#This Row],[Open]])/tabSecond[[#This Row],[Open]],\"\")","v":""}]
[null,{"$f":"IFERROR((Feuil2!#REF!-#REF!)/#REF!,\"\")","v":""},{"$f":"IFERROR((tabSecond[[#This Row],[Close]]-tabSecond[[#This Row],[Open]])/tabSecond[[#This Row],[Open]],\"\")","v":""}]
[null,{"$f":"IFERROR((Feuil2!#REF!-#REF!)/#REF!,\"\")","v":""},{"$f":"IFERROR((tabSecond[[#This Row],[Close]]-tabSecond[[#This Row],[Open]])/tabSecond[[#This Row],[Open]],\"\")","v":""}]
[null,{"$f":"IFERROR((Feuil2!#REF!-#REF!)/#REF!,\"\")","v":""},{"$f":"IFERROR((tabSecond[[#This Row],[Close]]-tabSecond[[#This Row],[Open]])/tabSecond[[#This Row],[Open]],\"\")","v":""}]
[null,{"$f":"IFERROR((Feuil2!#REF!-#REF!)/#REF!,\"\")","v":""},{"$f":"IFERROR((tabSecond[[#This Row],[Close]]-tabSecond[[#This Row],[Open]])/tabSecond[[#This Row],[Open]],\"\")","v":""}]
[null,{"$f":"IFERROR((Feuil2!#REF!-#REF!)/#REF!,\"\")","v":""},{"$f":"IFERROR((tabSecond[[#This Row],[Close]]-tabSecond[[#This Row],[Open]])/tabSecond[[#This Row],[Open]],\"\")","v":""}]
[null,{"$f":"IFERROR((Feuil2!#REF!-#REF!)/#REF!,\"\")","v":""},{"$f":"IFERROR((tabSecond[[#This Row],[Close]]-tabSecond[[#This Row],[Open]])/tabSecond[[#This Row],[Open]],\"\")","v":""}]
[null,{"$f":"IFERROR((Feuil2!#REF!-#REF!)/#REF!,\"\")","v":""},{"$f":"IFERROR((tabSecond[[#This Row],[Close]]-tabSecond[[#This Row],[Open]])/tabSecond[[#This Row],[Open]],\"\")","v":""}]
[null,{"$f":"IFERROR((Feuil2!#REF!-#REF!)/#REF!,\"\")","v":""},{"$f":"IFERROR((tabSecond[[#This Row],[Close]]-tabSecond[[#This Row],[Open]])/tabSecond[[#This Row],[Open]],\"\")","v":""}]
[null,{"$f":"IFERROR((Feuil2!#REF!-#REF!)/#REF!,\"\")","v":""},{"$f":"IFERROR((tabSecond[[#This Row],[Close]]-tabSecond[[#This Row],[Open]])/tabSecond[[#This Row],[Open]],\"\")","v":""}]
[null,{"$f":"IFERROR((Feuil2!#REF!-#REF!)/#REF!,\"\")","v":""},{"$f":"IFERROR((tabSecond[[#This Row],[Close]]-tabSecond[[#This Row],[Open]])/tabSecond[[#This Row],[Open]],\"\")","v":""}]
[null,{"$f":"IFERROR((Feuil2!#REF!-#REF!)/#REF!,\"\")","v":""},{"$f":"IFERROR((tabSecond[[#This Row],[Close]]-tabSecond[[#This Row],[Open]])/tabSecond[[#This Row],[Open]],\"\")","v":""}]
[null,{"$f":"IFERROR((Feuil2!#REF!-#REF!)/#REF!,\"\")","v":""},{"$f":"IFERROR((tabSecond[[#This Row],[Close]]-tabSecond[[#This Row],[Open]])/tabSecond[[#This Row],[Open]],\"\")","v":""}]
[null,{"$f":"IFERROR((Feuil2!#REF!-#REF!)/#REF!,\"\")","v":""},{"$f":"IFERROR((tabSecond[[#This Row],[Close]]-tabSecond[[#This Row],[Open]])/tabSecond[[#This Row],[Open]],\"\")","v":""}]
[null,{"$f":"IFERROR((Feuil2!#REF!-#REF!)/#REF!,\"\")","v":""},{"$f":"IFERROR((tabSecond[[#This Row],[Close]]-tabSecond[[#This Row],[Open]])/tabSecond[[#This Row],[Open]],\"\")","v":""}]
[null,{"$f":"IFERROR((Feuil2!#REF!-#REF!)/#REF!,\"\")","v":""},{"$f":"IFERROR((tabSecond[[#This Row],[Close]]-tabSecond[[#This Row],[Open]])/tabSecond[[#This Row],[Open]],\"\")","v":""}]
[null,{"$f":"IFERROR((Feuil2!#REF!-#REF!)/#REF!,\"\")","v":""},{"$f":"IFERROR((tabSecond[[#This Row],[Close]]-tabSecond[[#This Row],[Open]])/tabSecond[[#This Row],[Open]],\"\")","v":""}]
[null,{"$f":"IFERROR((Feuil2!#REF!-#REF!)/#REF!,\"\")","v":""},{"$f":"IFERROR((tabSecond[[#This Row],[Close]]-tabSecond[[#This Row],[Open]])/tabSecond[[#This Row],[Open]],\"\")","v":""}]
[null,{"$f":"IFERROR((Feuil2!#REF!-#REF!)/#REF!,\"\")","v":""},{"$f":"IFERROR((tabSecond[[#This Row],[Close]]-tabSecond[[#This Row],[Open]])/tabSecond[[#This Row],[Open]],\"\")","v":""}]
[null,{"$f":"IFERROR((Feuil2!#REF!-#REF!)/#REF!,\"\")","v":""},{"$f":"IFERROR((tabSecond[[#This Row],[Close]]-tabSecond[[#This Row],[Open]])/tabSecond[[#This Row],[Open]],\"\")","v":""}]
[null,{"$f":"IFERROR((Feuil2!#REF!-#REF!)/#REF!,\"\")","v":""},{"$f":"IFERROR((tabSecond[[#This Row],[Close]]-tabSecond[[#This Row],[Open]])/tabSecond[[#This Row],[Open]],\"\")","v":""}]
[null,{"$f":"IFERROR((Feuil2!#REF!-#REF!)/#REF!,\"\")","v":""},{"$f":"IFERROR((tabSecond[[#This Row],[Close]]-tabSecond[[#This Row],[Open]])/tabSecond[[#This Row],[Open]],\"\")","v":""}]
[null,{"$f":"IFERROR((Feuil2!#REF!-#REF!)/#REF!,\"\")","v":""},{"$f":"IFERROR((tabSecond[[#This Row],[Close]]-tabSecond[[#This Row],[Open]])/tabSecond[[#This Row],[Open]],\"\")","v":""}]
[null,{"$f":"IFERROR((Feuil2!#REF!-#REF!)/#REF!,\"\")","v":""},{"$f":"IFERROR((tabSecond[[#This Row],[Close]]-tabSecond[[#This Row],[Open]])/tabSecond[[#This Row],[Open]],\"\")","v":""}]
[null,{"$f":"IFERROR((Feuil2!#REF!-#REF!)/#REF!,\"\")","v":""},{"$f":"IFERROR((tabSecond[[#This Row],[Close]]-tabSecond[[#This Row],[Open]])/tabSecond[[#This Row],[Open]],\"\")","v":""}]
[null,{"$f":"IFERROR((Feuil2!#REF!-#REF!)/#REF!,\"\")","v":""},{"$f":"IFERROR((tabSecond[[#This Row],[Close]]-tabSecond[[#This Row],[Open]])/tabSecond[[#This Row],[Open]],\"\")","v":""}]
[null,{"$f":"IFERROR((Feuil2!#REF!-#REF!)/#REF!,\"\")","v":""},{"$f":"IFERROR((tabSecond[[#This Row],[Close]]-tabSecond[[#This Row],[Open]])/tabSecond[[#This Row],[Open]],\"\")","v":""}]
[null,{"$f":"IFERROR((Feuil2!#REF!-#REF!)/#REF!,\"\")","v":""},{"$f":"IFERROR((tabSecond[[#This Row],[Close]]-tabSecond[[#This Row],[Open]])/tabSecond[[#This Row],[Open]],\"\")","v":""}]
[null,{"$f":"IFERROR((Feuil2!#REF!-#REF!)/#REF!,\"\")","v":""},{"$f":"IFERROR((tabSecond[[#This Row],[Close]]-tabSecond[[#This Row],[Open]])/tabSecond[[#This Row],[Open]],\"\")","v":""}]
[null,{"$f":"IFERROR((Feuil2!#REF!-#REF!)/#REF!,\"\")","v":""},{"$f":"IFERROR((tabSecond[[#This Row],[Close]]-tabSecond[[#This Row],[Open]])/tabSecond[[#This Row],[Open]],\"\")","v":""}]
[null,{"$f":"IFERROR((Feuil2!#REF!-#REF!)/#REF!,\"\")","v":""},{"$f":"IFERROR((tabSecond[[#This Row],[Close]]-tabSecond[[#This Row],[Open]])/tabSecond[[#This Row],[Open]],\"\")","v":""}]
[null,{"$f":"IFERROR((Feuil2!#REF!-#REF!)/#REF!,\"\")","v":""},{"$f":"IFERROR((tabSecond[[#This Row],[Close]]-tabSecond[[#This Row],[Open]])/tabSecond[[#This Row],[Open]],\"\")","v":""}]
[null,{"$f":"IFERROR((Feuil2!#REF!-#REF!)/#REF!,\"\")","v":""},{"$f":"IFERROR((tabSecond[[#This Row],[Close]]-tabSecond[[#This Row],[Open]])/tabSecond[[#This Row],[Open]],\"\")","v":""}]
[null,{"$f":"IFERROR((Feuil2!#REF!-#REF!)/#REF!,\"\")","v":""},{"$f":"IFERROR((tabSecond[[#This Row],[Close]]-tabSecond[[#This Row],[Open]])/tabSecond[[#This Row],[Open]],\"\")","v":""}]
[null,{"$f":"IFERROR((Feuil2!#REF!-#REF!)/#REF!,\"\")","v":""},{"$f":"IFERROR((tabSecond[[#This Row],[Close]]-tabSecond[[#This Row],[Open]])/tabSecond[[#This Row],[Open]],\"\")","v":""}]
[null,{"$f":"IFERROR((Feuil2!#REF!-#REF!)/#REF!,\"\")","v":""},{"$f":"IFERROR((tabSecond[[#This Row],[Close]]-tabSecond[[#This Row],[Open]])/tabSecond[[#This Row],[Open]],\"\")","v":""}]
[null,{"$f":"IFERROR((Feuil2!#REF!-#REF!)/#REF!,\"\")","v":""},{"$f":"IFERROR((tabSecond[[#This Row],[Close]]-tabSecond[[#This Row],[Open]])/tabSecond[[#This Row],[Open]],\"\")","v":""}]
[null,{"$f":"IFERROR((Feuil2!#REF!-#REF!)/#REF!,\"\")","v":""},{"$f":"IFERROR((tabSecond[[#This Row],[Close]]-tabSecond[[#This Row],[Open]])/tabSecond[[#This Row],[Open]],\"\")","v":""}]
[null,{"$f":"IFERROR((Feuil2!#REF!-#REF!)/#REF!,\"\")","v":""},{"$f":"IFERROR((tabSecond[[#This Row],[Close]]-tabSecond[[#This Row],[Open]])/tabSecond[[#This Row],[Open]],\"\")","v":""}]
[null,{"$f":"IFERROR((Feuil2!#REF!-#REF!)/#REF!,\"\")","v":""},{"$f":"IFERROR((tabSecond[[#This Row],[Close]]-tabSecond[[#This Row],[Open]])/tabSecond[[#This Row],[Open]],\"\")","v":""}]
[null,{"$f":"IFERROR((Feuil2!#REF!-#REF!)/#REF!,\"\")","v":""},{"$f":"IFERROR((tabSecond[[#This Row],[Close]]-tabSecond[[#This Row],[Open]])/tabSecond[[#This Row],[Open]],\"\")","v":""}]
[null,{"$f":"IFERROR((Feuil2!#REF!-#REF!)/#REF!,\"\")","v":""},{"$f":"IFERROR((tabSecond[[#This Row],[Close]]-tabSecond[[#This Row],[Open]])/tabSecond[[#This Row],[Open]],\"\")","v":""}]
[null,{"$f":"IFERROR((Feuil2!#REF!-#REF!)/#REF!,\"\")","v":""},{"$f":"IFERROR((tabSecond[[#This Row],[Close]]-tabSecond[[#This Row],[Open]])/tabSecond[[#This Row],[Open]],\"\")","v":""}]
[null,{"$f":"IFERROR((Feuil2!#REF!-#REF!)/#REF!,\"\")","v":""},{"$f":"IFERROR((tabSecond[[#This Row],[Close]]-tabSecond[[#This Row],[Open]])/tabSecond[[#This Row],[Open]],\"\")","v":""}]
[null,{"$f":"IFERROR((Feuil2!#REF!-#REF!)/#REF!,\"\")","v":""},{"$f":"IFERROR((tabSecond[[#This Row],[Close]]-tabSecond[[#This Row],[Open]])/tabSecond[[#This Row],[Open]],\"\")","v":""}]
[null,{"$f":"IFERROR((Feuil2!#REF!-#REF!)/#REF!,\"\")","v":""},{"$f":"IFERROR((tabSecond[[#This Row],[Close]]-tabSecond[[#This Row],[Open]])/tabSecond[[#This Row],[Open]],\"\")","v":""}]
[null,{"$f":"IFERROR((Feuil2!#REF!-#REF!)/#REF!,\"\")","v":""},{"$f":"IFERROR((tabSecond[[#This Row],[Close]]-tabSecond[[#This Row],[Open]])/tabSecond[[#This Row],[Open]],\"\")","v":""}]

{"sheet":"Feuil2","index":1,"n_rows":41,"n_cols":9,"rows_kept":41}
["Time","Open","High","Low","Close","Volume","AdjClose"]
["2019-01-02T15:30:00",99.55000305175781,101.75,98.94000244140625,101.12000274658203,35329300,96.87470245361328,null,"MSFT"]
["2019-01-03T15:30:00",100.0999984741211,100.19000244140625,97.19999694824219,97.4000015258789,42579100,93.31085968017578]
["2019-01-04T15:30:00",99.72000122070312,102.51000213623047,98.93000030517578,101.93000030517578,44060600,97.65067291259766]
["2019-01-07T15:30:00",101.63999938964844,103.2699966430664,100.9800033569336,102.05999755859375,35656100,97.77523040771484]
["2019-01-08T15:30:00",103.04000091552734,103.97000122070313,101.70999908447266,102.80000305175781,31514400,98.48416900634766]
["2019-01-09T15:30:00",103.86000061035156,104.87999725341797,103.23999786376953,104.2699966430664,32280800,99.89246368408203]
["2019-01-10T15:30:00",103.22000122070313,103.75,102.37999725341797,103.5999984741211,30067600,99.25057220458984]
["2019-01-11T15:30:00",103.19000244140625,103.44000244140625,101.63999938964844,102.80000305175781,28314200,98.48416900634766]
["2019-01-14T15:30:00",101.9000015258789,102.87000274658203,101.26000213623047,102.05000305175781,28437100,97.76564025878906]
["2019-01-15T15:30:00",102.51000213623047,105.05000305175781,101.87999725341797,105.01000213623047,31587600,100.60137176513672]
["2019-01-16T15:30:00",105.26000213623047,106.26000213623047,104.95999908447266,105.37999725341797,29853900,100.95585632324219]
["2019-01-17T15:30:00",105,106.62999725341797,104.76000213623047,106.12000274658203,28393000,101.66478729248047]
["2019-01-18T15:30:00",107.45999908447266,107.9000015258789,105.91000366210938,107.70999908447266,37427600,103.18802642822266]
["2019-01-22T15:30:00",106.75,107.0999984741211,104.86000061035156,105.68000030517578,32371300,101.24324798583984]
["2019-01-23T15:30:00",106.12000274658203,107.04000091552734,105.33999633789063,106.70999908447266,25874300,102.2300033569336]
["2019-01-24T15:30:00",106.86000061035156,107,105.33999633789063,106.19999694824219,23164800,101.74140167236328]
["2019-01-25T15:30:00",107.23999786376953,107.87999725341797,106.19999694824219,107.16999816894531,31225600,102.67070007324219]
["2019-01-28T15:30:00",106.26000213623047,106.4800033569336,104.66000366210938,105.08000183105469,29476700,100.66844940185547]
["2019-01-29T15:30:00",104.87999725341797,104.97000122070313,102.16999816894531,102.94000244140625,31490500,98.6182861328125]
["2019-01-30T15:30:00",104.62000274658203,106.37999725341797,104.33000183105469,106.37999725341797,49471900,101.91386413574219]
["2019-01-31T15:30:00",103.80000305175781,105.22000122070313,103.18000030517578,104.43000030517578,55636400,100.04574584960938]
["2019-02-01T15:30:00",103.77999877929688,104.0999984741211,102.3499984741211,102.77999877929688,35535700,98.46500396728516]
["2019-02-04T15:30:00",102.87000274658203,105.80000305175781,102.7699966430664,105.73999786376953,31315100,101.30072021484375]
["2019-02-05T15:30:00",106.05999755859375,107.2699966430664,105.95999908447266,107.22000122070313,27325400,102.7186050415039]
["2019-02-06T15:30:00",107,107,105.52999877929688,106.02999877929688,20609800,101.57855987548828]
["2019-02-07T15:30:00",105.19000244140625,105.58999633789063,104.29000091552734,105.2699966430664,29760700,100.85045623779297]
["2019-02-08T15:30:00",104.38999938964844,105.77999877929688,104.26000213623047,105.66999816894531,21461100,101.2336654663086]
["2019-02-11T15:30:00",106.19999694824219,106.58000183105469,104.97000122070313,105.25,18914100,100.83130645751953]
["2019-02-12T15:30:00",106.13999938964844,107.13999938964844,105.4800033569336,106.88999938964844,25056600,102.40245819091797]
["2019-02-13T15:30:00",107.5,107.77999877929688,106.70999908447266,106.80999755859375,18394900,102.3258056640625]
["2019-02-14T15:30:00",106.30999755859375,107.29000091552734,105.66000366210938,106.9000015258789,21784700,102.41204071044922]
["2019-02-15T15:30:00",107.91000366210938,108.30000305175781,107.36000061035156,108.22000122070313,26606900,103.6766357421875]
["2019-02-19T15:30:00",107.79000091552734,108.66000366210938,107.77999877929688,108.16999816894531,18038500,103.62871551513672]
["2019-02-20T15:30:00",107.86000061035156,107.94000244140625,106.29000091552734,107.1500015258789,21607700,103.08993530273438]
["2019-02-21T15:30:00",106.9000015258789,109.4800033569336,106.87000274658203,109.41000366210938,29063200,105.2643051147461]
["2019-02-22T15:30:00",110.05000305175781,111.19999694824219,109.81999969482422,110.97000122070313,27763200,106.76519012451172]
["2019-02-25T15:30:00",111.76000213623047,112.18000030517578,111.26000213623047,111.58999633789063,23750600,107.36170196533203]
["2019-02-26T15:30:00",111.26000213623047,113.23999786376953,111.16999816894531,112.36000061035156,21536700,108.10253143310547]
["2019-02-27T15:30:00",111.69000244140625,112.36000061035156,110.87999725341797,112.16999816894531,21487100,107.91970825195313]
["2019-02-28T15:30:00",112.04000091552734,112.87999725341797,111.7300033569336,112.02999877929688,29083900,107.78501892089844]

{"sheet":"Feuil3","index":2,"n_rows":22,"n_cols":9,"rows_kept":22}
["Time","Open","High","Low","Close","Volume","AdjClose"]
["2019-01-02T15:30:00",99.55000305175781,101.75,98.94000244140625,101.12000274658203,35329300,96.87467956542969,null,"MSFT"]
["2019-01-03T15:30:00",100.0999984741211,100.19000244140625,97.19999694824219,97.4000015258789,42579100,93.31087493896484]
["2019-01-04T15:30:00",99.72000122070312,102.51000213623047,98.93000030517578,101.93000030517578,44060600,97.65069580078125]
["2019-01-07T15:30:00",101.63999938964844,103.2699966430664,100.9800033569336,102.05999755859375,35656100,97.77523803710938]
["2019-01-08T15:30:00",103.04000091552734,103.97000122070313,101.70999908447266,102.80000305175781,31514400,98.48416137695312]
["2019-01-09T15:30:00",103.86000061035156,104.87999725341797,103.23999786376953,104.2699966430664,32280800,99.89244842529297]
["2019-01-10T15:30:00",103.22000122070313,103.75,102.37999725341797,103.5999984741211,30067600,99.25057220458984]
["2019-01-11T15:30:00",103.19000244140625,103.44000244140625,101.63999938964844,102.80000305175781,28314200,98.48416137695312]
["2019-01-14T15:30:00",101.9000015258789,102.87000274658203,101.26000213623047,102.05000305175781,28437100,97.7656478881836]
["2019-01-15T15:30:00",102.51000213623047,105.05000305175781,101.87999725341797,105.01000213623047,31587600,100.60138702392578]
["2019-01-16T15:30:00",105.26000213623047,106.26000213623047,104.95999908447266,105.37999725341797,29853900,100.95584106445313]
["2019-01-17T15:30:00",105,106.62999725341797,104.76000213623047,106.12000274658203,28393000,101.664794921875]
["2019-01-18T15:30:00",107.45999908447266,107.9000015258789,105.91000366210938,107.70999908447266,37427600,103.18803405761719]
["2019-01-22T15:30:00",106.75,107.0999984741211,104.86000061035156,105.68000030517578,32371300,101.24325561523438]
["2019-01-23T15:30:00",106.12000274658203,107.04000091552734,105.33999633789063,106.70999908447266,25874300,102.23001098632813]
["2019-01-24T15:30:00",106.86000061035156,107,105.33999633789063,106.19999694824219,23164800,101.74140930175781]
["2019-01-25T15:30:00",107.23999786376953,107.87999725341797,106.19999694824219,107.16999816894531,31225600,102.67070007324219]
["2019-01-28T15:30:00",106.26000213623047,106.4800033569336,104.66000366210938,105.08000183105469,29476700,100.66844177246094]
["2019-01-29T15:30:00",104.87999725341797,104.97000122070313,102.16999816894531,102.94000244140625,31490500,98.61830139160156]
["2019-01-30T15:30:00",104.62000274658203,106.37999725341797,104.33000183105469,106.37999725341797,49471900,101.91385650634766]
["2019-01-31T15:30:00",103.80000305175781,105.22000122070313,103.18000030517578,104.43000030517578,55636400,100.04573822021484]

{"sheet":"Feuil4","index":3,"n_rows":22,"n_cols":9,"rows_kept":22}
["Time","Open","High","Low","Close","Volume","AdjClose"]
["2019-01-02T15:30:00",73.26000213623047,77.66799926757812,73.04650115966797,76.95649719238281,159662000,76.95649719238281,null,"AMZN"]
["2019-01-03T15:30:00",76.00050354003906,76.9000015258789,74.85549926757812,75.01399993896484,139512000,75.01399993896484]
["2019-01-04T15:30:00",76.5,79.69999694824219,75.91549682617188,78.76950073242188,183652000,78.76950073242188]
["2019-01-07T15:30:00",80.1155014038086,81.72799682617188,79.45950317382812,81.47550201416016,159864000,81.47550201416016]
["2019-01-08T15:30:00",83.2344970703125,83.83049774169922,80.83049774169922,82.8290023803711,177628000,82.8290023803711]
["2019-01-09T15:30:00",82.64900207519531,83.38999938964844,82.06999969482422,82.97100067138672,126976000,82.97100067138672]
["2019-01-10T15:30:00",82.05049896240234,83.1624984741211,81.08100128173828,82.81099700927734,130154000,82.81099700927734]
["2019-01-11T15:30:00",82.02749633789062,83.0145034790039,81.81099700927734,82.02799987792969,93724000,82.02799987792969]
["2019-01-14T15:30:00",80.75,82.41000366210938,79.75749969482422,80.8604965209961,120118000,80.8604965209961]
["2019-01-15T15:30:00",81.5999984741211,83.75800323486328,81.30049896240234,83.72799682617188,119970000,83.72799682617188]
["2019-01-16T15:30:00",84.21099853515625,85.25,83.79399871826172,84.18900299072266,127338000,84.18900299072266]
["2019-01-17T15:30:00",84,85.00849914550781,83.875,84.66100311279297,84178000,84.66100311279297]
["2019-01-18T15:30:00",85.5999984741211,85.80999755859375,84.5770034790039,84.80999755859375,120410000,84.80999755859375]
["2019-01-22T15:30:00",84.05000305175781,84.09349822998047,80.51000213623047,81.6084976196289,128336000,81.6084976196289]
["2019-01-23T15:30:00",82.80000305175781,82.87149810791016,80.5999984741211,82.0009994506836,104504000,82.0009994506836]
["2019-01-24T15:30:00",82.05349731445312,82.86299896240234,81.58899688720703,82.74649810791016,81798000,82.74649810791016]
["2019-01-25T15:30:00",83.5250015258789,84.17400360107422,83.08049774169922,83.52850341796875,98918000,83.52850341796875]
["2019-01-28T15:30:00",82.17949676513672,82.25,80.70449829101562,81.89450073242188,96754000,81.89450073242188]
["2019-01-29T15:30:00",81.5634994506836,81.61900329589844,79.53600311279297,79.69400024414062,92656000,79.69400024414062]
["2019-01-30T15:30:00",81.1500015258789,83.84750366210938,80.98400115966797,83.52149963378906,115676000,83.52149963378906]
["2019-01-31T15:30:00",84.64250183105469,86.82050323486328,83.9540023803711,85.9365005493164,218206000,85.9365005493164]

{"sheet":"Feuil5","index":4,"n_rows":22,"n_cols":9,"rows_kept":22}
["Time","Open","High","Low","Close","Volume","AdjClose"]
["2019-01-02T15:30:00",128.99000549316406,137.50999450683594,128.55999755859375,135.67999267578125,28146200,135.67999267578125,null,"META"]
["2019-01-03T15:30:00",134.69000244140625,137.1699981689453,131.1199951171875,131.74000549316406,22717900,131.74000549316406]
["2019-01-04T15:30:00",134.00999450683594,138,133.75,137.9499969482422,29002100,137.9499969482422]
["2019-01-07T15:30:00",137.55999755859375,138.8699951171875,135.91000366210938,138.0500030517578,20089300,138.0500030517578]
["2019-01-08T15:30:00",139.88999938964844,143.13999938964844,139.5399932861328,142.52999877929688,26263800,142.52999877929688]
["2019-01-09T15:30:00",142.9499969482422,144.6999969482422,141.27000427246094,144.22999572753906,22205900,144.22999572753906]
["2019-01-10T15:30:00",143.0800018310547,144.55999755859375,140.83999633789063,144.1999969482422,16125000,144.1999969482422]
["2019-01-11T15:30:00",143.14999389648438,145.36000061035156,142.57000732421875,143.8000030517578,12908000,143.8000030517578]
["2019-01-14T15:30:00",142,146.57000732421875,141.27000427246094,145.38999938964844,20520300,145.38999938964844]
["2019-01-15T15:30:00",146.00999450683594,150.67999267578125,145.99000549316406,148.9499969482422,24069000,148.9499969482422]
["2019-01-16T15:30:00",149,149.64999389648438,147,147.5399932861328,18025700,147.5399932861328]
["2019-01-17T15:30:00",146.9499969482422,149,146.5,148.3000030517578,15787900,148.3000030517578]
["2019-01-18T15:30:00",149.75,152.42999267578125,148.5500030517578,150.0399932861328,31029600,150.0399932861328]
["2019-01-22T15:30:00",149.1999969482422,151.52999877929688,146.3699951171875,147.57000732421875,22378700,147.57000732421875]
["2019-01-23T15:30:00",148.27999877929688,148.8000030517578,143.05999755859375,144.3000030517578,20098400,144.3000030517578]
["2019-01-24T15:30:00",144.63999938964844,146.44000244140625,142.52000427246094,145.8300018310547,20955500,145.8300018310547]
["2019-01-25T15:30:00",147.47999572753906,149.8300018310547,146.5399932861328,149.00999450683594,22237200,149.00999450683594]
["2019-01-28T15:30:00",148.0500030517578,148.9600067138672,146.2100067138672,147.47000122070313,15508500,147.47000122070313]
["2019-01-29T15:30:00",148.08999633789063,148.10000610351563,143.42999267578125,144.19000244140625,17632100,144.19000244140625]
["2019-01-30T15:30:00",146.22000122070313,150.9499969482422,145.6999969482422,150.4199981689453,44613200,150.4199981689453]
["2019-01-31T15:30:00",165.60000610351563,171.67999267578125,165,166.69000244140625,77233600,166.69000244140625]